{"text_format":"1","workbook":"xlsx","n_sheets":22,"sheets":["Multi-site","100L Information","Equipment Type","Analysis 103L","Performance+","AvoidedCost","Controls","LED Case Lighting","Incentives","Incentive Existing","Lookups","Summary Source","Measure Summary","FTImport","PT Summary","Project Estimates","120L Incentive Offer","140L Completion Certification","PI 190L Lighting Incentives","MidstreamTable","Existing Equipment","Proposed Equipment"],"not_rendered":{"charts":0,"images":6,"macros":1,"external_links":2,"defined_names":168,"comments":5,"pivot_tables":1},"unopened":[],"bounds":{"document_bytes":16777216,"sheet_cells":100000,"rows_first":2000,"rows_last":500,"rows_between":2000,"halvings":0,"cell_chars":16384,"cell_head_chars":4096},"cells_cut":0,"cells_raw":0,"read":"whole","date_system":"1900"}

{"sheet":"Multi-site","index":0,"n_rows":4,"n_cols":21,"rows_kept":4,"cut":false,"hidden":true,"merged":[[0,0,0,1],[0,3,2,16],[0,17,0,20],[1,0,1,1],[1,18,1,20],[2,0,2,1],[2,18,2,20]]}
["Legal Business Name",null,null,"Lighting Tool: multi-site project",null,null,null,null,null,null,null,null,null,null,null,null,null,"PROGRAM USE ONLY"]
["Assumend Business Name or DBA",null,null,null,null,null,null,null,null,null,null,null,null,null,null,null,null,"Project ID (PT)"]
["Installer and/or Retailer",null,null,null,null,null,null,null,null,null,null,null,null,null,null,null,null,"Ref ID (Vision)"]
["Store Number","Store Name","Site Address","City","State","Zip","CRM Site Number","Electric Utility Provider","Electric Account Number","Meter Number","Equipment","Quantity Installed","Total Cost","Install Date","Product Invoice Number","Install Invoice Number","Install Invoice Date","Total Incentive","kWh Total Savings","PRE Verified","POST Verified"]

{"sheet":"100L Information","index":1,"n_rows":124,"n_cols":45,"rows_kept":124,"cut":false,"hidden":false,"merged":[[23,34,23,39],[26,29,26,31],[15,24,15,25],[15,29,15,31],[15,0,15,4],[20,26,20,31],[16,33,17,39],[49,34,49,39],[46,20,46,24],[46,25,46,31],[27,21,27,22],[29,7,29,10],[29,4,29,5],[30,20,30,22],[29,20,29,22],[43,11,43,31],[27,30,27,31],[28,29,28,31],[39,23,39,26],[30,24,30,31],[36,23,36,26],[29,29,29,31],[46,8,46,19],[47,34,47,39],[47,20,47,21],[45,34,45,39],[48,12,48,31],[47,8,47,19],[47,22,47,31],[48,10,48,11],[48,4,48,9],[54,0,54,31],[51,0,51,7],[51,8,51,19],[51,20,51,21],[51,22,51,31],[28,0,28,3],[28,4,28,5],[29,0,29,3],[27,0,27,3],[27,7,27,10],[27,11,27,12],[48,0,48,3],[47,0,47,7],[46,0,46,7],[30,0,30,3],[28,11,28,12],[30,4,30,5],[39,1,39,14],[36,1,36,14],[29,14,29,19],[33,6,33,8],[27,4,27,5],[29,11,29,12],[28,7,28,10],[8,5,8,14],[6,0,6,9],[25,0,25,12],[10,0,10,2],[7,12,7,31],[8,15,8,16],[25,13,25,17],[12,4,12,14],[12,15,12,18],[11,0,11,6],[11,17,11,31],[11,15,11,16],[11,7,11,14],[12,19,12,31],[12,0,12,3],[13,15,13,18],[13,19,13,31],[15,15,15,16],[13,0,13,2],[15,17,15,23],[14,8,14,31],[13,3,13,14],[14,0,14,7],[11,33,14,40],[9,0,9,3],[10,15,10,18],[10,19,10,31],[10,3,10,14],[9,4,9,14],[21,26,21,31],[18,26,18,31],[1,26,1,31],[2,18,2,24],[2,25,2,26],[2,15,2,17],[2,27,2,31],[18,33,20,39],[3,25,3,31],[4,25,4,31],[6,10,6,31],[8,17,8,31],[9,15,9,18],[9,19,9,31],[15,26,15,27],[18,6,18,14],[15,5,15,14],[8,0,8,4]]}
[]
[null,null,null,null,null,null,null,null,null,null,null,null,null,null,null,"Program Use Only",null,null,null,null,null,null,null,null,null,null,{"$f":"version","v":"v2023.1"}]
[null,null,null,null,null,null,null,null,null,null,null,null,null,null,null,"Project ID",null,null,null,null,null,null,null,null,null,"Ref ID"]
[null,null,null,null,null,null,null,null,null,null,null,null,null,null,null,"Currently Self-Directing",null,null,null,null,null,null,null,null,null,"(select)"]
[null,null,null,null,null,null,null,null,null,null,null,null,null,null,null,"Currently using EE Self-direct credits?",null,null,null,null,null,null,null,null,null,"(select)"]
["Participant Information"]
["Legal Business Name \n(as shown on last W9)"]
["Assumed Business Name (if different)",null,null,null,null,null,null,null,null,null,null,null,{"$f":"IF(OrgName=\"\",\"\",OrgName)","v":""}]
["Contact Name",null,null,null,null,null,null,null,null,null,null,null,null,null,null,"Title"]
["Phone",null,null,null,null,null,null,null,null,null,null,null,null,null,null,"Cell Phone"]
["Email",null,null,null,null,null,null,null,null,null,null,null,null,null,null,"Company",null,null,null,null,null,null,null,null,null,null,null,null,null,null,null,null,null,{"$f":"IF(AS49=TRUE,\"Industrial sites are defined as:\",\"\")","v":""}]
["Alternative Contact Name",null,null,null,null,null,null,null,null,null,null,null,null,null,null,"Title",null,null,null,null,null,null,null,null,null,null,null,null,null,null,null,null,null,{"$f":"IF(AS49=TRUE,Industrial_Definition,\"\")","v":""}]
["Phone",null,null,null,null,null,null,null,null,null,null,null,null,null,null,"Cell Phone"]
["Email",null,null,null,null,null,null,null,null,null,null,null,null,null,null,"Company"]
["Project Name (if different)",null,null,null,null,null,null,null,{"$f":"IF(ABN=\"\",\"\",ABN)","v":""}]
["Site Address",null,null,null,null,null,null,null,null,null,null,null,null,null,null,"City",null,null,null,null,null,null,null,null,"State",null,null,null,"Zip",null,null,null,null,{"$f":"IF(AS48=TRUE,\"Commercial sites are defined as:\",\"\")","v":""}]
["Which of the following best describes Participant?",null,null,null,null,null,null,null,null,null,null,null,null,null,null,null,null,null,null,null,null,null,null,null,null,null,null,null,null,null,null,null,null,{"$f":"IF(AS48=TRUE,Commercial_Definition,\"\")","v":""}]
[]
["Building Use Type",null,null,null,null,null,"(select)",null,null,null,null,null,null,null,null,null,null,null,null,null,null,null,null,null,null,"Incentive Payee:",null,null,null,null,null,null,null,{"$f":"IF(AS21=TRUE, \"K-12 public schools and government entities are any agency of the federal or state government, county, city, town, public corporation or political subdivision in this state. Please affirm by selecting Yes in the orange box.\",\"\")","v":""}]
["Is this project receiving grant or stimulus funding? "]
["Is this project a Public K-12 School or Government Entity? ",null,null,null,null,null,null,null,null,null,null,null,null,null,null,null,null,null,null,null,null,null,null,null,null,null,null,null,null,null,null,null,null,null,null,null,null,null,null,null,null,null,null,null,false]
["Please select project site type (Commercial or Industrial)",null,null,null,null,null,null,null,null,null,null,null,null,null,null,null,null,null,null,null,null,null,null,null,null,null,{"$f":"IF(AND(AS48=TRUE,AS49=TRUE),\"Only check one box!\",\"\")","v":""}]
[]
["Site Information",null,null,null,null,null,null,null,null,null,null,null,null,null,null,null,null,null,null,null,null,null,null,null,null,null,null,null,null,null,null,null,null,null,"Rate Schedules"]
[null,null,null,null,null,null,null,null,null,null,null,null,null,null,null,null,null,null,null,null,null,null,null,null,null,null,null,null,null,null,null,null,null,null,null,"(select)"]
["Square Footage Affected by Lighting Project",null,null,null,null,null,null,null,null,null,null,null,null,null,null,null,null,null,null,null,null,null,null,null,"Multifamily Information",null,null,null,null,null,null,null,null,null,"PAC",4,"Residential"]
["Hours of Operation",null,null,null,null,null,null,null,null,null,null,null,null,null,null,null,null,null,null,null,null,null,null,null,"Number of units",null,null,null,null,null,null,null,null,null,"PAC",23,"Small Nonresidential"]
["Sunday",null,null,null,null,null,null,"Thursday",null,null,null,null,null,null,"Open Major Holidays?",null,null,null,null,null,null,null,null,null,"Number of buildings",null,null,null,null,null,null,null,null,null,"PAC",28,"Nonresidential, 31 - 200 kW"]
["Monday",null,null,null,null,null,null,"Friday",null,null,null,null,null,null,null,null,null,null,null,null,null,null,null,null,"Number of floors",null,null,null,null,null,null,null,null,null,"PAC",30,"Nonresidential, 201 - 999 kW"]
["Tuesday",null,null,null,null,null,null,"Saturday",null,null,null,null,null,null,"Total Weekly Hours",null,null,null,null,null,{"$f":"SUM(E28:E31)+SUM(L28:L30)","v":0},null,null,null,"Year built",null,null,null,null,null,null,null,null,null,"PAC",48,"Large General Service, over 1,000 kW"]
["Wednesday",null,null,null,null,null,null,null,null,null,null,null,null,null,"Total Annual Hours",null,null,null,null,null,{"$f":"IF(V28=\"\",\"\",IF(V28=\"No\",0.975*U30*52.14,U30*52.14))","v":""},null,null,null,"Please select Market Sector",null,null,null,null,null,null,null,null,null,"PAC",51,"Street Light Service Company Owned"]
[null,null,null,null,null,null,null,null,null,null,null,null,null,null,null,null,null,null,null,null,null,null,null,null,null,null,null,null,null,null,null,null,null,null,"PAC",53,"Street Light Service Customer Owned"]
[]
["Electric Utility",null,null,null,null,null,"(select)",null,null,null,null,null,null,null,null,null,null,null,null,null,null,null,null,null,null,null,null,null,null,null,null,null,null,null,null,"(select)"]
[null,null,null,null,null,null,null,null,null,null,null,null,null,null,null,null,null,null,null,null,null,null,null,null,null,null,null,null,null,null,null,null,null,null,"PGE",7,"Residential"]
[null,"Account Number if Pacific Power (PAC)",null,null,null,null,null,null,null,null,null,null,null,null,null,null,null,null,null,null,null,null,null,"Rate Schedule",null,null,null,null,null,null,null,null,null,null,"PGE",32,"Small Nonresidential"]
[null,null,null,null,null,null,null,null,null,null,null,null,null,null,null,null,null,null,null,null,null,null,null,"(select)",null,null,null,null,null,null,null,null,null,null,"PGE",83,"Large Nonresidential"]
[null,null,null,null,null,null,null,null,null,null,null,null,null,null,null,null,null,null,null,null,null,null,null,null,null,null,null,null,null,null,null,null,null,null,"PGE",85,"Large Nonresidential"]
[null,"Account Number if Portland General Electric (PGE)",null,null,null,null,null,null,null,null,null,null,null,null,null,null,null,null,null,null,null,null,null,"Rate Schedule",null,null,null,null,null,null,null,null,null,null,"PGE",89,"Large Nonresidential"]
[null,null,null,null,null,null,null,null,null,null,null,null,null,null,null,null,null,null,null,null,null,null,null,"(select)",null,null,null,null,null,null,null,null,null,null,"PGE",91,"Streetlighting"]
[null,null,null,null,null,null,null,null,null,null,null,null,null,null,null,null,null,null,null,null,null,null,null,null,null,null,null,null,null,null,null,null,null,null,"PGE",95,"Street & Hwy Lighting New Technology"]
[]
["Project Information"]
["REQUIRED: Estimated Completion Date ",null,null,null,null,null,null,null,null,null,null,null,null,null,null,null,null,null,null,null,null,null,null,null,null,null,null,null,null,null,null,null,null,null,"For Program Use Only"]
[null,null,null,null,null,null,null,null,null,null,null,"(please be accurate and do not leave this blank)",null,null,null,null,null,null,null,null,null,null,null,null,null,null,null,null,null,null,null,null,null,null,"Program"]
["Prepared By",null,null,null,null,null,null,null,null,null,null,null,null,null,null,null,null,null,null,null,null,null,null,null,null,null,null,null,null,null,null,null,null,null,"Existing Buildings"]
["Organization or Company",null,null,null,null,null,null,null,null,null,null,null,null,null,null,null,null,null,null,null,"Date Prepared",null,null,null,null,null,null,null,null,null,null,null,null,null,"Commercial Business Type",null,null,null,null,null,null,null,null,null,{"$f":"IF(OR(AND(AS48=FALSE,AS49=FALSE),AND(AS48=TRUE,AS49=FALSE)),\"EB\",IF(AND(AS48=FALSE,AS49=TRUE),\"PE\",\"\"))","v":"EB"}]
["Form Completed By",null,null,null,null,null,null,null,null,null,null,null,null,null,null,null,null,null,null,null,"Title",null,null,null,null,null,null,null,null,null,null,null,null,null,"(select)",null,null,null,null,null,null,null,null,null,false]
["Phone/Cell",null,null,null,null,null,null,null,null,null,"Email",null,null,null,null,null,null,null,null,null,null,null,null,null,null,null,null,null,null,null,null,null,null,null,"Industrial and Agriculture Business Type",null,null,null,null,null,null,null,null,null,false]
[null,null,null,null,null,null,null,null,null,null,null,null,null,null,null,null,null,null,null,null,null,null,null,null,null,null,null,null,null,null,null,null,null,null,"(select)"]
["Return this form with Form 103L: Lighting Analysis and Incentive Estimates to a lighting project coordinator."]
[]
[]
[]
[]
[]
[]
[]
[]
[]
[]
[]
[]
[]
["Oregon Counties",null,null,null,null,null,null,null,null,null,null,null,"(select)",null,null,null,"(select)"]
["(select)",null,null,null,null,null,null,null,null,null,null,null,"Agriculture and Irrigation",null,null,null,"Amusement/Recreational"]
["Baker",null,null,null,null,null,null,null,null,null,null,null,"     Dairy and Livestock",null,null,null,"Assembly"]
["Benton",null,null,null,null,null,null,null,null,null,null,null,"     Greenhouse",null,null,null,"     Meeting/Convention Center/Hall or Community Center"]
["Clackamas",null,null,null,null,null,null,null,null,null,null,null,"     Indoor Agriculture",null,null,null,"     Religious/Spiritual"]
["Clatsop",null,null,null,null,null,null,null,null,null,null,null,"General Manufacturing",null,null,null,"Auto Services"]
["Columbia",null,null,null,null,null,"Self Directing","Self Direct Eligible",null,null,"Non-profit Entity",null,"     Beverage Production",null,null,null,"     Auto Repair"]
["Coos",null,null,null,null,null,"(select)","(select)",null,null,"(select)",null,"     Chemical Manufacturing",null,null,null,"     Car Wash"]
["Crook",null,null,null,null,null,"Yes","Yes",null,null,"Yes",null,"     Computer and Electronic Product Manufacturing",null,null,null,"     Gas Station"]
["Curry",null,null,null,null,null,"No","No",null,null,"No",null,"     Fabricated Metal Product Manufacturing",null,null,null,"Bank/Financial Institution"]
["Deschutes",null,null,null,null,null,null,null,null,null,null,null,"     Food Processing",null,null,null,"Courthouse/Probation Office"]
["Douglas",null,null,null,null,null,null,null,null,null,null,null,"     Logging and Wood Product Manufacturing",null,null,null,"Data Center"]
["Gilliam",null,null,null,null,null,null,null,null,null,null,null,"     Metal and Machinery Manufacturing",null,null,null,"     Large Data Center"]
["Grant",null,null,null,null,null,"Utilities Dropdown",null,null,null,null,null,"     Metal Foundries",null,null,null,"     Medium Data Center"]
["Harney",null,null,null,null,null,"(select)",null,null,null,null,null,"     Nonmetallic Mineral Product Manufacturing",null,null,null,"     Small Data Center"]
["Hood River",null,null,null,null,null,"PGE",null,null,null,null,null,"     Paper Manufacturing",null,null,null,"Education"]
["Jackson",null,null,null,null,null,"PAC",null,null,null,null,null,"     Petroleum and Coal Products Manufacturing",null,null,null,"     College/University"]
["Jefferson",null,null,null,null,null,null,null,null,null,null,null,"     Plastics and Rubber Products Manufacturing",null,null,null,"     K-12 School"]
["Josephine",null,null,null,null,null,null,null,null,null,null,null,"     Printing and Related Support Activities",null,null,null,"           High School"]
["Klamath",null,null,null,null,null,null,null,null,null,null,null,"     Textile and Apparel Manufacturing",null,null,null,"           Middle School"]
["Lake",null,null,null,null,null,null,null,null,null,null,null,"     Transportation Equipment Manufacturing",null,null,null,"           Primary School"]
["Lane",null,null,null,null,null,null,null,null,null,null,null,"Industrial Laundry Services",null,null,null,"Fire Protection"]
["Lincoln",null,null,null,null,null,null,null,null,null,null,null,"Natural Resources and Energy Distribution",null,null,null,"Funeral/Cremation"]
["Linn",null,null,null,null,null,null,null,null,null,null,null,"Refrigerated Warehousing and Storage",null,null,null,"Gym/Athletic Club"]
["Malheur",null,null,null,null,null,null,null,null,null,null,null,"Utilities",null,null,null,"Health"]
["Marion",null,null,null,null,null,null,null,null,null,null,null,"Waste Management and Remediation Services",null,null,null,"     Hospital"]
["Morrow",null,null,null,null,null,null,null,null,null,null,null,"Water Supply and Sewage Facilities",null,null,null,"     Medical Laboratory"]
["Multnomah",null,null,null,null,null,null,null,null,null,null,null,null,null,null,null,"     Medical Office"]
["Polk",null,null,null,null,null,null,null,null,null,null,null,null,null,null,null,"     Veterinarian's Office"]
["Sherman",null,null,null,null,null,null,null,null,null,null,null,null,null,null,null,"Hospitality"]
["Tillamook",null,null,null,null,null,null,null,null,null,null,null,null,null,null,null,"     Cafeteria"]
["Umatilla",null,null,null,null,null,null,null,null,null,null,null,null,null,null,null,"     Lodging/Hotel/Motel"]
["Union",null,null,null,null,null,null,null,null,null,null,null,null,null,null,null,"     Restaurant"]
["Wallowa",null,null,null,null,null,null,null,null,null,null,null,null,null,null,null,"Jail/Reformatory/Penitentiary"]
["Wasco",null,null,null,null,null,null,null,null,null,null,null,null,null,null,null,"Laundry/Dry Cleaner"]
["Washington",null,null,null,null,null,null,null,null,null,null,null,null,null,null,null,"Library"]
["Wheeler",null,null,null,null,null,null,null,null,null,null,null,null,null,null,null,"Military (Armory, etc.)"]
["Yamhill",null,null,null,null,null,null,null,null,null,null,null,null,null,null,null,"Multifamily Property"]
[null,null,null,null,null,null,null,null,null,null,null,null,null,null,null,null,"     Affordable Multifamily Property"]
[null,null,null,null,null,null,null,null,null,null,null,null,null,null,null,null,"     Assisted Living Property"]
[null,null,null,null,null,null,null,null,null,null,null,null,null,null,null,null,"     Attached Residential Owner"]
[null,null,null,null,null,null,null,null,null,null,null,null,null,null,null,null,"     Campus Living Property"]
[null,null,null,null,null,null,null,null,null,null,null,null,null,null,null,null,"     Homeowners Association"]
[null,null,null,null,null,null,null,null,null,null,null,null,null,null,null,null,"     Market Rate Multifamily Property"]
[null,null,null,null,null,null,null,null,null,null,null,null,null,null,null,null,"Museum"]
[null,null,null,null,null,null,null,null,null,null,null,null,null,null,null,null,"Office"]
[null,null,null,null,null,null,null,null,null,null,null,null,null,null,null,null,"Parking Structure/Garage"]
[null,null,null,null,null,null,null,null,null,null,null,null,null,null,null,null,"Police"]
[null,null,null,null,null,null,null,null,null,null,null,null,null,null,null,null,"Retail"]
[null,null,null,null,null,null,null,null,null,null,null,null,null,null,null,null,"     Car Dealership/Showroom"]
[null,null,null,null,null,null,null,null,null,null,null,null,null,null,null,null,"     Convenience Store"]
[null,null,null,null,null,null,null,null,null,null,null,null,null,null,null,null,"     Enclosed Mall"]
[null,null,null,null,null,null,null,null,null,null,null,null,null,null,null,null,"     Grocery"]
[null,null,null,null,null,null,null,null,null,null,null,null,null,null,null,null,"     Super Center/Warehouse Club"]
[null,null,null,null,null,null,null,null,null,null,null,null,null,null,null,null,"Transportation Infrastructure (Tunnel, Roadway, Dock, etc.)"]
[null,null,null,null,null,null,null,null,null,null,null,null,null,null,null,null,"Unspecified Government/Public Sector"]
[null,null,null,null,null,null,null,null,null,null,null,null,null,null,null,null,"Warehousing and Storage"]
[]
["Commercial Definition","Existing properties that are not single family residential, industrial or agricultural use. Multifamily properties and roadways are considered Commercial."]
["Industrial Definition","Existing facilities or businesses that process, treat, assemble, mine, produce, repackage, or bottle a product or products for outside distribution, grows something, or has a cold storage distribution center. If the site is Industrial or Agricultural the whole campus will be serviced by Production Efficiency. "]

{"sheet":"Equipment Type","index":2,"n_rows":54,"n_cols":22,"rows_kept":54,"cut":false,"hidden":false,"merged":[[0,4,0,5],[0,8,0,10],[0,0,0,1],[0,2,0,3]]}
["General Project Notes:",null,null,null,"103L Drop Down",null,null,null,"Program Use Only",null,null,null,null,null,null,null,null,null,null,null,null,3.5]
["Program Fixture Schedule","Contractor Fixture Schedule","Manufacturer","Model #","Proposed Equipment\nCategory\n(Choose first)","Proposed Equipment\nSpecific fixture, lamp type\n(Choose from drop-down second)","Wattage\n(Match to specification sheet)","Total per Type","Program Review","Other Qualification","Notes","Equipment Notes","Top Brands List",null,null,null,"Concatenate",null,"High End Trim \nMaximum Setpoint (%)","Wattage Output",null,"Case Lighting High/Low = DR/SR"]
[null,null,null,null,null,null,null,null,null,null,null,null,null,null,null,null,null,null,null,null,null,{"$f":"IF(RIGHT(E3, 4)=\"Case\", IF(G3>4, \"High\", \"Low\"), \"\")","v":""}]
["Type 1",null,null,null,null,null,null,{"$f":"IF(ISBLANK(E4),\"\",SUMIF('Analysis 103L'!$K$28:$K$227,'Equipment Type'!A4,'Analysis 103L'!$P$28:$P$227))","v":""},null,null,null,{"$f":"IF(E4=\"LLLC\", \"Please enter fixture cost on the 103L tab & the LLLC control cost on the Controls tab\",IF(AND(E4=\"LED_Lamps\", LEFT(F4, 3)=\"LED\"), \"Maximum output for qualifying lamps: 310 lumens\", IF(V4=\"SR\", \"Single-Row Refrigerated Case Lighting\", IF(V4=\"DR\", \"Double-Row Refrigerated Case Lighting\", IF(V4=\"NE\", \"Not Eligible.  Refrigerated Case Lighting wattage per foot too high.\", \"\")))))","v":""},"Acuity",null,"Y","DLC Logo",{"$f":"CONCATENATE(A4,R4,C4, R4,D4)","v":"Type 1 -  - "}," - ",null,{"$f":"IF(S4=\"\", G4, G4*S4)","v":0},null,{"$f":"IF(RIGHT(E4,4)=\"Case\",IF(G4=0, \"\", IF(G4<$V$1,\"SR\",IF(G4<8.5,\"DR\",\"NE\"))), \"\")","v":""}]
["Type 2",null,null,null,null,null,null,{"$f":"IF(ISBLANK(E5),\"\",SUMIF('Analysis 103L'!$K$28:$K$227,'Equipment Type'!A5,'Analysis 103L'!$P$28:$P$227))","v":""},null,null,null,{"$f":"IF(E5=\"LLLC\", \"Please enter fixture cost on the 103L tab & the LLLC control cost on the Controls tab\",IF(AND(E5=\"LED_Lamps\", LEFT(F5, 3)=\"LED\"), \"Maximum output for qualifying lamps: 310 lumens\", IF(V5=\"SR\", \"Single-Row Refrigerated Case Lighting\", IF(V5=\"DR\", \"Double-Row Refrigerated Case Lighting\", IF(V5=\"NE\", \"Not Eligible.  Refrigerated Case Lighting wattage per foot too high.\", \"\")))))","v":""},"Aleddra",null,"N","Family Model",{"$f":"CONCATENATE(A5,R5,C5, R5,D5)","v":"Type 2 -  - "}," - ",null,{"$f":"IF(S5=\"\", G5, G5*S5)","v":0},null,""]
["Type 3",null,null,null,null,null,null,{"$f":"IF(ISBLANK(E6),\"\",SUMIF('Analysis 103L'!$K$28:$K$227,'Equipment Type'!A6,'Analysis 103L'!$P$28:$P$227))","v":""},null,null,null,"","Atlas",null,null,"Special Approval",{"$f":"CONCATENATE(A6,R6,C6, R6,D6)","v":"Type 3 -  - "}," - ",null,0,null,""]
["Type 4",null,null,null,null,null,null,{"$f":"IF(ISBLANK(E7),\"\",SUMIF('Analysis 103L'!$K$28:$K$227,'Equipment Type'!A7,'Analysis 103L'!$P$28:$P$227))","v":""},null,null,null,"","Cooper/Eaton",null,null,null,"Type 4 -  - "," - ",null,0,null,""]
["Type 5",null,null,null,null,null,null,{"$f":"IF(ISBLANK(E8),\"\",SUMIF('Analysis 103L'!$K$28:$K$227,'Equipment Type'!A8,'Analysis 103L'!$P$28:$P$227))","v":""},null,null,null,"","Cree/Econolight",null,null,null,"Type 5 -  - "," - ",null,0,null,""]
["Type 6",null,null,null,null,null,null,{"$f":"IF(ISBLANK(E9),\"\",SUMIF('Analysis 103L'!$K$28:$K$227,'Equipment Type'!A9,'Analysis 103L'!$P$28:$P$227))","v":""},null,null,null,"","Deco",null,null,null,"Type 6 -  - "," - ",null,0,null,""]
["Type 7",null,null,null,null,null,null,{"$f":"IF(ISBLANK(E10),\"\",SUMIF('Analysis 103L'!$K$28:$K$227,'Equipment Type'!A10,'Analysis 103L'!$P$28:$P$227))","v":""},null,null,null,{"$f":"IF(E10=\"LLLC\", \"Please enter fixture cost on the 103L tab & the LLLC control cost on the Controls tab\",IF(AND(E10=\"LED_Lamps\", LEFT(F10, 3)=\"LED\"), \"Maximum output for qualifying lamps: 310 lumens\", IF(V10=\"SR\", \"Single-Row Refrigerated Case Lighting\", IF(V10=\"DR\", \"Double-Row Refrigerated Case Lighting\", IF(V10=\"NE\", \"Not Eligible.  Refrigerated Case Lighting wattage per foot too high.\", \"\")))))","v":""},"Eiko",null,null,null,"Type 7 -  - "," - ",null,0,null,""]
["Type 8",null,null,null,null,null,null,{"$f":"IF(ISBLANK(E11),\"\",SUMIF('Analysis 103L'!$K$28:$K$227,'Equipment Type'!A11,'Analysis 103L'!$P$28:$P$227))","v":""},null,null,null,"","Espen",null,null,null,"Type 8 -  - "," - ",null,0,null,{"$f":"IF(RIGHT(E11,4)=\"Case\",IF(G11=0, \"\", IF(G11<$V$1,\"SR\",IF(G11<8.5,\"DR\",\"NE\"))), \"\")","v":""}]
["Type 9",null,null,null,null,null,null,{"$f":"IF(ISBLANK(E12),\"\",SUMIF('Analysis 103L'!$K$28:$K$227,'Equipment Type'!A12,'Analysis 103L'!$P$28:$P$227))","v":""},null,null,null,"","Flex",null,null,null,"Type 9 -  - "," - ",null,0,null,{"$f":"IF(RIGHT(E12,4)=\"Case\",IF(G12=0, \"\", IF(G12<$V$1,\"SR\",IF(G12<8.5,\"DR\",\"NE\"))), \"\")","v":""}]
["Type 10",null,null,null,null,null,null,{"$f":"IF(ISBLANK(E13),\"\",SUMIF('Analysis 103L'!$K$28:$K$227,'Equipment Type'!A13,'Analysis 103L'!$P$28:$P$227))","v":""},null,null,null,"","Feit",null,null,null,"Type 10 -  - "," - ",null,0,null,""]
["Type 11",null,null,null,null,null,null,{"$f":"IF(ISBLANK(E14),\"\",SUMIF('Analysis 103L'!$K$28:$K$227,'Equipment Type'!A14,'Analysis 103L'!$P$28:$P$227))","v":""},null,null,null,"","Focal Point",null,null,null,"Type 11 -  - "," - ",null,0,null,""]
["Type 12",null,null,null,null,null,null,{"$f":"IF(ISBLANK(E15),\"\",SUMIF('Analysis 103L'!$K$28:$K$227,'Equipment Type'!A15,'Analysis 103L'!$P$28:$P$227))","v":""},null,null,null,"","GE Lighting",null,null,null,"Type 12 -  - "," - ",null,0,null,""]
["Type 13",null,null,null,null,null,null,{"$f":"IF(ISBLANK(E16),\"\",SUMIF('Analysis 103L'!$K$28:$K$227,'Equipment Type'!A16,'Analysis 103L'!$P$28:$P$227))","v":""},null,null,null,"","Globalux",null,null,null,"Type 13 -  - "," - ",null,0,null,""]
["Type 14",null,null,null,null,null,null,{"$f":"IF(ISBLANK(E17),\"\",SUMIF('Analysis 103L'!$K$28:$K$227,'Equipment Type'!A17,'Analysis 103L'!$P$28:$P$227))","v":""},null,null,null,"","Green Creative",null,null,null,"Type 14 -  - "," - ",null,0,null,""]
["Type 15",null,null,null,null,null,null,{"$f":"IF(ISBLANK(E18),\"\",SUMIF('Analysis 103L'!$K$28:$K$227,'Equipment Type'!A18,'Analysis 103L'!$P$28:$P$227))","v":""},null,null,null,"","Halco",null,null,null,"Type 15 -  - "," - ",null,0,null,""]
["Type 16",null,null,null,null,null,null,{"$f":"IF(ISBLANK(E19),\"\",SUMIF('Analysis 103L'!$K$28:$K$227,'Equipment Type'!A19,'Analysis 103L'!$P$28:$P$227))","v":""},null,null,null,"","Hubbell Lighting",null,null,null,"Type 16 -  - "," - ",null,0,null,""]
["Type 17",null,null,null,null,null,null,{"$f":"IF(ISBLANK(E20),\"\",SUMIF('Analysis 103L'!$K$28:$K$227,'Equipment Type'!A20,'Analysis 103L'!$P$28:$P$227))","v":""},null,null,null,"","James",null,null,null,"Type 17 -  - "," - ",null,0,null,""]
["Type 18",null,null,null,null,null,null,{"$f":"IF(ISBLANK(E21),\"\",SUMIF('Analysis 103L'!$K$28:$K$227,'Equipment Type'!A21,'Analysis 103L'!$P$28:$P$227))","v":""},null,null,null,"","Light Efficient Design",null,null,null,"Type 18 -  - "," - ",null,0,null,""]
["Type 19",null,null,null,null,null,null,{"$f":"IF(ISBLANK(E22),\"\",SUMIF('Analysis 103L'!$K$28:$K$227,'Equipment Type'!A22,'Analysis 103L'!$P$28:$P$227))","v":""},null,null,null,"","Lighting Science",null,null,null,"Type 19 -  - "," - ",null,0,null,""]
["Type 20",null,null,null,null,null,null,{"$f":"IF(ISBLANK(E23),\"\",SUMIF('Analysis 103L'!$K$28:$K$227,'Equipment Type'!A23,'Analysis 103L'!$P$28:$P$227))","v":""},null,null,null,"","LSI",null,null,null,"Type 20 -  - "," - ",null,0,null,""]
["Type 21",null,null,null,null,null,null,{"$f":"IF(ISBLANK(E24),\"\",SUMIF('Analysis 103L'!$K$28:$K$227,'Equipment Type'!A24,'Analysis 103L'!$P$28:$P$227))","v":""},null,null,null,"","Maxlite",null,null,null,"Type 21 -  - "," - ",null,0,null,""]
["Type 22",null,null,null,null,null,null,{"$f":"IF(ISBLANK(E25),\"\",SUMIF('Analysis 103L'!$K$28:$K$227,'Equipment Type'!A25,'Analysis 103L'!$P$28:$P$227))","v":""},null,null,null,"","Orion Energy Systems",null,null,null,"Type 22 -  - "," - ",null,0,null,""]
["Type 23",null,null,null,null,null,null,{"$f":"IF(ISBLANK(E26),\"\",SUMIF('Analysis 103L'!$K$28:$K$227,'Equipment Type'!A26,'Analysis 103L'!$P$28:$P$227))","v":""},null,null,null,"","Philips",null,null,null,"Type 23 -  - "," - ",null,0,null,""]
["Type 24",null,null,null,null,null,null,{"$f":"IF(ISBLANK(E27),\"\",SUMIF('Analysis 103L'!$K$28:$K$227,'Equipment Type'!A27,'Analysis 103L'!$P$28:$P$227))","v":""},null,null,null,"","RAB",null,null,null,"Type 24 -  - "," - ",null,0,null,""]
["Type 25",null,null,null,null,null,null,{"$f":"IF(ISBLANK(E28),\"\",SUMIF('Analysis 103L'!$K$28:$K$227,'Equipment Type'!A28,'Analysis 103L'!$P$28:$P$227))","v":""},null,null,null,"","Satco",null,null,null,"Type 25 -  - "," - ",null,0,null,""]
["Type 26",null,null,null,null,null,null,{"$f":"IF(ISBLANK(E29),\"\",SUMIF('Analysis 103L'!$K$28:$K$227,'Equipment Type'!A29,'Analysis 103L'!$P$28:$P$227))","v":""},null,null,null,"","Solais",null,null,null,"Type 26 -  - "," - ",null,0,null,""]
["Type 27",null,null,null,null,null,null,{"$f":"IF(ISBLANK(E30),\"\",SUMIF('Analysis 103L'!$K$28:$K$227,'Equipment Type'!A30,'Analysis 103L'!$P$28:$P$227))","v":""},null,null,null,"","Sylvania",null,null,null,"Type 27 -  - "," - ",null,0,null,""]
["Type 28",null,null,null,null,null,null,{"$f":"IF(ISBLANK(E31),\"\",SUMIF('Analysis 103L'!$K$28:$K$227,'Equipment Type'!A31,'Analysis 103L'!$P$28:$P$227))","v":""},null,null,null,"","TCP",null,null,null,"Type 28 -  - "," - ",null,0,null,""]
["Type 29",null,null,null,null,null,null,{"$f":"IF(ISBLANK(E32),\"\",SUMIF('Analysis 103L'!$K$28:$K$227,'Equipment Type'!A32,'Analysis 103L'!$P$28:$P$227))","v":""},null,null,null,"","Ushio",null,null,null,"Type 29 -  - "," - ",null,0,null,""]
["Type 30",null,null,null,null,null,null,{"$f":"IF(ISBLANK(E33),\"\",SUMIF('Analysis 103L'!$K$28:$K$227,'Equipment Type'!A33,'Analysis 103L'!$P$28:$P$227))","v":""},null,null,null,"","Feit",null,null,null,"Type 30 -  - "," - ",null,0,null,""]
["Type 31",null,null,null,null,null,null,{"$f":"IF(ISBLANK(E34),\"\",SUMIF('Analysis 103L'!$K$28:$K$227,'Equipment Type'!A34,'Analysis 103L'!$P$28:$P$227))","v":""},null,null,null,"","Focal Point",null,null,null,"Type 31 -  - "," - ",null,0,null,""]
["Type 32",null,null,null,null,null,null,{"$f":"IF(ISBLANK(E35),\"\",SUMIF('Analysis 103L'!$K$28:$K$227,'Equipment Type'!A35,'Analysis 103L'!$P$28:$P$227))","v":""},null,null,null,"","GE Lighting",null,null,null,"Type 32 -  - "," - ",null,0,null,""]
["Type 33",null,null,null,null,null,null,{"$f":"IF(ISBLANK(E36),\"\",SUMIF('Analysis 103L'!$K$28:$K$227,'Equipment Type'!A36,'Analysis 103L'!$P$28:$P$227))","v":""},null,null,null,"","Globalux",null,null,null,{"$f":"CONCATENATE(A36,R36,C36, R36,D36)","v":"Type 33 -  - "}," - ",null,0,null,""]
["Type 34",null,null,null,null,null,null,{"$f":"IF(ISBLANK(E37),\"\",SUMIF('Analysis 103L'!$K$28:$K$227,'Equipment Type'!A37,'Analysis 103L'!$P$28:$P$227))","v":""},null,null,null,"","Green Creative",null,null,null,"Type 34 -  - "," - ",null,0,null,""]
["Type 35",null,null,null,null,null,null,{"$f":"IF(ISBLANK(E38),\"\",SUMIF('Analysis 103L'!$K$28:$K$227,'Equipment Type'!A38,'Analysis 103L'!$P$28:$P$227))","v":""},null,null,null,"","Halco",null,null,null,"Type 35 -  - "," - ",null,0,null,""]
["Type 36",null,null,null,null,null,null,{"$f":"IF(ISBLANK(E39),\"\",SUMIF('Analysis 103L'!$K$28:$K$227,'Equipment Type'!A39,'Analysis 103L'!$P$28:$P$227))","v":""},null,null,null,"","Hubbell Lighting",null,null,null,"Type 36 -  - "," - ",null,0,null,""]
["Type 37",null,null,null,null,null,null,{"$f":"IF(ISBLANK(E40),\"\",SUMIF('Analysis 103L'!$K$28:$K$227,'Equipment Type'!A40,'Analysis 103L'!$P$28:$P$227))","v":""},null,null,null,"","James",null,null,null,"Type 37 -  - "," - ",null,0,null,""]
["Type 38",null,null,null,null,null,null,{"$f":"IF(ISBLANK(E41),\"\",SUMIF('Analysis 103L'!$K$28:$K$227,'Equipment Type'!A41,'Analysis 103L'!$P$28:$P$227))","v":""},null,null,null,"","Light Efficient Design",null,null,null,"Type 38 -  - "," - ",null,0,null,""]
["Type 39",null,null,null,null,null,null,{"$f":"IF(ISBLANK(E42),\"\",SUMIF('Analysis 103L'!$K$28:$K$227,'Equipment Type'!A42,'Analysis 103L'!$P$28:$P$227))","v":""},null,null,null,"","Lighting Science",null,null,null,"Type 39 -  - "," - ",null,0,null,""]
["Type 40",null,null,null,null,null,null,{"$f":"IF(ISBLANK(E43),\"\",SUMIF('Analysis 103L'!$K$28:$K$227,'Equipment Type'!A43,'Analysis 103L'!$P$28:$P$227))","v":""},null,null,null,"","LSI",null,null,null,"Type 40 -  - "," - ",null,0,null,""]
["Type 41",null,null,null,null,null,null,{"$f":"IF(ISBLANK(E44),\"\",SUMIF('Analysis 103L'!$K$28:$K$227,'Equipment Type'!A44,'Analysis 103L'!$P$28:$P$227))","v":""},null,null,null,"","Maxlite",null,null,null,"Type 41 -  - "," - ",null,0,null,""]
["Type 42",null,null,null,null,null,null,{"$f":"IF(ISBLANK(E45),\"\",SUMIF('Analysis 103L'!$K$28:$K$227,'Equipment Type'!A45,'Analysis 103L'!$P$28:$P$227))","v":""},null,null,null,"","Orion Energy Systems",null,null,null,"Type 42 -  - "," - ",null,0,null,""]
["Type 43",null,null,null,null,null,null,{"$f":"IF(ISBLANK(E46),\"\",SUMIF('Analysis 103L'!$K$28:$K$227,'Equipment Type'!A46,'Analysis 103L'!$P$28:$P$227))","v":""},null,null,null,"","Philips",null,null,null,"Type 43 -  - "," - ",null,0,null,""]
["Type 44",null,null,null,null,null,null,{"$f":"IF(ISBLANK(E47),\"\",SUMIF('Analysis 103L'!$K$28:$K$227,'Equipment Type'!A47,'Analysis 103L'!$P$28:$P$227))","v":""},null,null,null,"","RAB",null,null,null,"Type 44 -  - "," - ",null,0,null,""]
["Type 45",null,null,null,null,null,null,{"$f":"IF(ISBLANK(E48),\"\",SUMIF('Analysis 103L'!$K$28:$K$227,'Equipment Type'!A48,'Analysis 103L'!$P$28:$P$227))","v":""},null,null,null,"","Satco",null,null,null,"Type 45 -  - "," - ",null,0,null,""]
["Type 46",null,null,null,null,null,null,{"$f":"IF(ISBLANK(E49),\"\",SUMIF('Analysis 103L'!$K$28:$K$227,'Equipment Type'!A49,'Analysis 103L'!$P$28:$P$227))","v":""},null,null,null,"","Solais",null,null,null,"Type 46 -  - "," - ",null,0,null,""]
["Type 47",null,null,null,null,null,null,{"$f":"IF(ISBLANK(E50),\"\",SUMIF('Analysis 103L'!$K$28:$K$227,'Equipment Type'!A50,'Analysis 103L'!$P$28:$P$227))","v":""},null,null,null,"","Sylvania",null,null,null,"Type 47 -  - "," - ",null,0,null,""]
["Type 48",null,null,null,null,null,null,{"$f":"IF(ISBLANK(E51),\"\",SUMIF('Analysis 103L'!$K$28:$K$227,'Equipment Type'!A51,'Analysis 103L'!$P$28:$P$227))","v":""},null,null,null,"","TCP",null,null,null,"Type 48 -  - "," - ",null,0,null,""]
["Type 49",null,null,null,null,null,null,{"$f":"IF(ISBLANK(E52),\"\",SUMIF('Analysis 103L'!$K$28:$K$227,'Equipment Type'!A52,'Analysis 103L'!$P$28:$P$227))","v":""},null,null,null,"","Ushio",null,null,null,"Type 49 -  - "," - ",null,0,null,""]
["Type 50",null,null,null,null,null,null,{"$f":"IF(ISBLANK(E53),\"\",SUMIF('Analysis 103L'!$K$28:$K$227,'Equipment Type'!A53,'Analysis 103L'!$P$28:$P$227))","v":""},null,null,null,"","Ushio",null,null,null,"Type 50 -  - "," - ",null,0,null,""]
[null,null,null,null,null,null,null,null,null,null,null,null,null,null,null,null," -  - "," - "]

{"sheet":"Analysis 103L","index":3,"n_rows":325,"n_cols":91,"rows_kept":325,"cut":false,"hidden":false,"merged":[[5,5,5,6],[3,15,3,16],[2,15,2,16],[25,55,25,69],[25,19,25,24],[25,47,25,49],[12,17,12,23],[25,41,25,45],[4,15,4,16],[5,15,5,16],[3,22,5,24],[3,19,5,21],[3,17,3,18],[4,17,4,18],[5,17,5,18],[2,2,2,3],[3,9,3,12],[3,2,3,3],[2,5,2,6],[4,5,4,6],[296,1,296,2],[2,22,2,24],[4,9,4,12],[2,9,2,12],[2,19,2,21],[234,1,235,3],[4,2,4,3],[5,2,5,3],[236,1,238,8],[239,1,243,8],[7,8,7,12],[14,8,14,12],[25,8,25,16],[25,1,25,7],[2,17,2,18],[3,5,3,6],[25,83,25,90],[25,51,25,52],[25,31,25,35],[25,17,25,18],[6,17,6,23],[7,17,7,23],[8,17,8,23]]}
[]
[null,"Project Information",null,null,null,null,null,null,null,null,null,null,null,null,null,"Lighting Analysis and Incentive Estimates",null,null,null,null,null,null,null,null,null,null,null,null,null,null,null,"$0.25/kWh",null,{"$f":"0.25*F10","v":0}]
[null,"Project ID",{"$f":"IF('100L Information'!S3=\"\",\"\",'100L Information'!S3)","v":""},null,"Ref ID",{"$f":"IF('100L Information'!AB3=\"\",\"\",'100L Information'!AB3)","v":""},null,null,"Annual Hours",{"$f":"IF('100L Information'!U31=\"\",\"<Enter on Participant.Info sheet>\",'100L Information'!U31)","v":"<Enter on Participant.Info sheet>"},null,null,null,null,null,null,null,"Date",null,"Project Analyst",null,null,"Post Reviewer",null,null,null,null,null,null,null,null,"50% of cost",null,{"$f":"0.5*S232","v":0}]
[null,"Project Name",{"$f":"IF('100L Information'!I15=\"\",\"<Enter on Participant.Info sheet>\",'100L Information'!I15)","v":"<Enter on Participant.Info sheet>"},null,"Prepared By",{"$f":"IF('100L Information'!I48=\"\",\"<Enter on Participant.Info sheet>\",'100L Information'!I48)","v":"<Enter on Participant.Info sheet>"},null,null,"Project Sq ft",{"$f":"IF('100L Information'!N26=\"\",\"<Enter on Participant.Info sheet>\",'100L Information'!N26)","v":"<Enter on Participant.Info sheet>"},null,null,null,null,null,"Initial"]
[null,"Contact",{"$f":"IF('100L Information'!F9=\"\",\"<Enter on Participant.Info sheet>\",'100L Information'!F9)","v":"<Enter on Participant.Info sheet>"},null,"Company",{"$f":"IF('100L Information'!I47=\"\",\"<Enter on Participant.Info sheet>\",'100L Information'!I47)","v":"<Enter on Participant.Info sheet>"},null,null,"Business Type",{"$f":"IF('100L Information'!G19=\"\",\"<Enter on Participant.Info sheet>\",BusType)","v":"(select)"},null,null,null,null,null,"Install Complete"]
[null,"Contact Phone",{"$f":"IF('100L Information'!E10=\"\",\"<Enter on Participant.Info sheet>\",'100L Information'!E10)","v":"<Enter on Participant.Info sheet>"},null,"Prepared On",{"$f":"IF('100L Information'!Z47=\"\",\"<Enter on Participant.Info sheet>\",'100L Information'!Z47)","v":"<Enter on Participant.Info sheet>"},null,null,null,null,null,null,null,null,null,"Final"]
[]
[null,"Projected Annual Cost Savings",null,null,null,null,null,null,"Project Summary"]
[null,{"$f":"'100L Information'!G34","v":"(select)"},"Rate Schedule:",{"$f":"IF('100L Information'!X37<>\"(select)\",'100L Information'!X37,'100L Information'!X40)","v":"(select)"},"Rate/kWh",{"$f":"IF(D9=\"(select)\",\"\",VLOOKUP(D9,W250:X263,2,FALSE))","v":""},null,null,"Existing Quantity (this page)",null,{"$f":"H228","v":0},"Cost (this page)",{"$f":"S228","v":0}]
[null,null,null,null,"Estimated Annual kWh Savings",{"$f":"L20","v":0},null,null,"Existing Quantity (LED Case)",null,{"$f":"H231","v":0},"plus Controls",{"$f":"S229","v":0}]
[null,null,null,null,"Demand Rate/kW",{"$f":"IF(D9=\"(select)\",0,VLOOKUP(D9,W250:Y263,3,FALSE))","v":0},null,null,"Total Existing Quantity",null,{"$f":"SUM(K9:K10)","v":0},"Total Installed Cost",{"$f":"S230","v":0}]
[null,null,null,null,"Estimated Monthly kW Demand Savings",{"$f":"(SUM(T28:T227))","v":0},null,null,"Proposed Quantity (this page)",null,{"$f":"P228","v":0},"Cost (LED Case)",{"$f":"S231","v":0}]
[null,null,null,null,"Estimated Annual Cost Savings",{"$f":"IF(D9=\"(select)\",\"\",(F9*F10)+(F11*F12*12))","v":""},null,null,"Quantity (LED Case)",null,{"$f":"P231","v":0},"Total Installed Cost",{"$f":"SUM(M11:M12)","v":0}]
[null,null,null,null,"Estimated Rate of Return (Before Energy Trust Incentive)",{"$f":"IF(ISNUMBER(F13/S232),F13/S232,\"\")","v":""},null,null,"Total Proposed Quantity",null,{"$f":"SUM(K12:K13)","v":0}]
[null,null,null,null,"Estimated Rate of Return (After Energy Trust Incentive)",{"$f":"IF(ISNUMBER(F13/(S232-Y232)),(F13/(S232-F20)),\"\")","v":""},null,null,"Overall kWh Savings"]
[null,"Energy Trust Estimate Incentive ",null,null,null,null,null,null,null,"Before","After","Savings","% Savings"]
[null,"Energy Trust Incentive (without LED Case Lighting)",null,null,null,{"$f":"Y228","v":0},null,null,"Analysis",{"$f":"(SUM(U28:U227))","v":0},{"$f":"(SUM(V28:V226))","v":0},{"$f":"J17-K17","v":0},{"$f":"IF(L17=0,0,L17/J17)","v":0}]
[null,"plus Controls",null,null,null,{"$f":"Y229","v":0},null,null,"Controls",{"$f":"Controls!O207","v":0},{"$f":"Controls!P207","v":0},{"$f":"J18-K18","v":0},{"$f":"IF(L18=0,0,L18/J18)","v":0}]
[null,"plus Incentive from LED Case Lighting",null,null,null,{"$f":"Y231","v":0},null,null,"LED Case Lighting",null,null,{"$f":"SUMIFS($W$28:$W$226, $CK$28:$CK$226, \">\"&0)+(Controls!Q207-'Analysis 103L'!L18)","v":0}]
[null,"Estimated Energy Trust Incentive",null,{"$f":"IF(AND('100L Information'!AS47=\"EB\",F17+F18>Cap_Com),\"Incentive Capped at \"& DOLLAR(Cap_Com, 2),IF(AND('100L Information'!AS47=\"PE\",F17+F18>Cap_Ind),\"Incentive Capped at \"& DOLLAR(Cap_Ind, 2),\"\"))","v":""},null,{"$f":"IF('100L Information'!Z5= \"Yes\",0,IF(AND('100L Information'!Z4=\"Yes\",'100L Information'!AS47= \"EB\"),MIN(Y232-(-Y227),Cap_Com)*0.5,IF(AND('100L Information'!Z4=\"Yes\",'100L Information'!AS47=\"PE\"),MIN(Y232-(-Y227),Cap_Ind)*0.5,\nIF('100L Information'!AS47= \"EB\",MIN(Y232-(-Y227),Cap_Com),IF('100L Information'!AS47=\"PE\",MIN(Y232-(-Y227),Cap_Ind),\"\")))))*AND((BusType<>\"(select)\"), (BusType<>\"\"))","v":0},null,null,"TOTAL",null,null,{"$f":"SUM(L17:L19)","v":0},{"$f":"IFERROR((L20-L19)/J17, \"\")","v":""},null,null,null,null,null,null,null,null,null,null,null,null,null,null,null,null,null,null,null,null,null,null,null,null,null,null,null,null,null,null,null,null,null,null,null,null,null,null,null,null,null,null,"Check the source: ",null,null,null,null,null,null,"Consider removing all these calculations.",null,null,"This row"]
[null,null,null,null,null,null,null,null,"Energy Savings Adjusted to Federal Minimum Baseline",null,null,null,null,null,null,null,null,null,null,null,null,null,null,null,null,null,null,null,null,null,null,null,null,null,null,null,null,null,null,null,null,null,null,null,null,null,null,null,null,null,null,null,null,null,null,"Is the information","Update this column",null,null,null,null,null,"they only feed PV Prop O&M,",null,null,"has no"]
[null,"Lighting Power Density (watts/sq)",null,{"$f":"IF(ISNUMBER('100L Information'!N26),AW228/'100L Information'!N26,\"\")","v":""},null,null,null,null,null,null,null,null,{"$f":"IF(ISNUMBER(SUM(AT28:AT227)),SUM(AT28:AT227),0)+IF(ISNUMBER(Controls!Q207),Controls!Q207,0)","v":0},null,null,null,null,null,null,null,null,null,null,null,null,null,null,null,null,null,null,null,null,null,null,null,null,null,null,null,null,null,null,null,null,null,null,null,null,null,null,null,null,null,null,"this row is pulling","Load profile for",null,null,null,null,null,"which has NO DEPENDENTS.",null,null,"dependents"]
[null,"Incentive per kWh",null,{"$f":"F20/F10","v":{"$error":"#DIV/0!"}},null,null,null,null,null,null,null,null,null,null,null,null,null,null,null,null,null,null,null,null,null,null,null,null,null,null,null,null,null,null,null,null,null,null,null,null,null,null,null,null,null,null,null,null,null,null,null,null,null,null,null,"correct per current CECs?","case lighting ="]
[null,"Incentive as % of Cost",null,{"$f":"F20/M13","v":{"$error":"#DIV/0!"}},null,null,null,null,null,null,null,null,null,null,null,null,null,null,null,null,null,null,null,null,null,null,null,null,null,null,null,null,null,null,null,null,null,null,null,null,null,null,null,null,null,null,null,null,null,null,null,null,null,null,null,null,"\"Grocery Refrigeration\""]
[]
[null,"EXISTING EQUIPMENT",null,null,null,null,null,null,"PROPOSED EQUIPMENT",null,null,null,null,null,null,null,null,"PROJECT COST",null,"kW, kWh SAVINGS + INCENTIVES BY EQUIPMENT ",null,null,null,null,null,null,null,null,null,null,null,"COST EFFECTIVE TEST",null,null,null,null,null,null,null,null,null,"Post standard baseline watts",null,null,null,null,null,"Interior",null,null,"kW","SAVINGS BY MEASURE",null,null,null,"COST EFFECTIVENESS BY MEASURE",null,null,null,null,null,null,null,null,null,null,null,null,null,null,null,"BLDG LOOKUP TABLE",null,null,null,null,null,"MARKET SECTOR",null,"Lamp vs Fixture",null,"NEBs",null,"Case Lighting (per linear ft)"]
[null,"Interior / Exterior / Case Lighting","Location\nArea/Room","Existing Equipment\nCategory\n(Choose first)","Existing Equipment\nSpecific fixture, lamp type\n(Choose from drop-down second)","Measure Description","Watts per Fixture","Fixt  Qty","Proposed Equipment\nCategory","Proposed Equipment\nSpecific fixture, lamp type","Equipment Type","Model #","Custom","Watts per Fixture \nOR per Lamp \nOR per Case Lighting Ft","Percent Wattage Saved","Fixt  Qty \nOR Total No. Lamps \nOR Case Lighting Ft","Annual Operating Hours","Labor & Material Cost (each)","Total  Cost","Ave. kW Saving","kWh Before","kWh \nAfter","Estimated kWh Savings","Estimated Equipment Incentive (Each)","Estimated Incentive Amount","CEC/ Wattage Requirement","Final Incentives Paid","Incentive/ kWh Saved","Custom Incentive","Check Min Wattage requirement","Incentive for wattage required prescriptive measures","Cost cap for incentive","Custom\nUtility/Society\nPass/Fail","Total Installed Cost","Total kWh Before","Total kWh After","Prescriptive Incentive Calculation","Public Sector Bucket \n(Y,N)","Total kWh Savings","Total Incentive Amount",null,"Post standard baseline watts (total)","Post standard savings","Weighted average savings","Check post standard baseline watts","Final savings",null,"Pre kW","Post kW","Performance Plus","kW\nSavings","% kWh Savings by Measure","Measure Payback in Years",null,null,"Measure Life","Load Profile","PV Utility Benefit","PV TRC Benefit (per kWh savings)","Utility Measure C/E \n","Utility BCR","Utility Pass/Fail\n","Exist years per lamp","PV Exist O&M","Prop years per lamp","PV Prop O&M","TRC Measure C/E \n","TRC BCR\n","TRC Pass/Fail\n","Combined Utility & TRC Result",null,null,"(select)","Interior Load Shape","Exterior Load Shape","Default Control Savings %",null,"Please select Market Sector",null,"lamp vs fixture lookup",null,"NEB calculation",null,"High/Low","T8 or T12","Case Temp","Product Codes","Measure Name","Deemed Savings (kWh) per ft of LED","Maximum Deemed Incentive","Deemed Incentive"]
[1,null,null,null,null,null,{"$f":"IF(E28=\"\",\"\",VLOOKUP(E28,ExistFixtLookup,2,FALSE))","v":""},null,{"$f":"IF(K28=\"\",\"\",VLOOKUP(K28,'Equipment Type'!$A$1:$F$53,5,FALSE))","v":""},{"$f":"IF(K28=\"\",\"\",VLOOKUP(K28,'Equipment Type'!$A$1:$F$53,6,FALSE))","v":""},null,{"$f":"IF(K28=\"\",\"\",VLOOKUP(K28,'Equipment Type'!$A$1:$F$53,4,FALSE))","v":""},null,{"$f":"IF(K28=\"\",\"\",INDEX('Equipment Type'!$T$4:$T$53,MATCH('Analysis 103L'!K28,'Equipment Type'!$A$4:$A$53,0)))","v":""},{"$f":"IF(RIGHT(I28, 4)=\"Case\", \"\", IF(G28=\"\",\"\",((G28*H28)-(N28*P28))/(G28*H28)))","v":""},null,{"$f":"IF(RIGHT(I28, 4)=\"Case\", \"\", IF(P28=\"\",\"\",(IF(ISNUMBER(SEARCH(\"exit\",J28)),8760,IF(B28=\"Exterior\",4380,'Analysis 103L'!$J$3)))))","v":""},null,{"$f":"IF(RIGHT(I28, 4)=\"Case\", IF(LEFT(J28, 6)=\"Motion\", \"\", \"<-- Enter total cost.\"), IF(P28=\"\",\"\",IF(AND(AL28=\"Y\",X28=\"\"),\"\",P28*R28)))","v":""},{"$f":"IF(RIGHT(I28, 4)=\"Case\", \"\", IF(P28=\"\",\"\",IF(ISERROR(AY28),0,AY28)))","v":""},{"$f":"IF(RIGHT(I28, 4)=\"Case\", \"\", IF(H28=\"\",\"\",(G28*H28)*Q28/1000))","v":""},{"$f":"IF(RIGHT(I28, 4)=\"Case\", \"\", IF(P28=\"\",\"\",(N28*P28)*Q28/1000))","v":""},{"$f":"IF(RIGHT(I28, 4)=\"Case\", IF(LEFT(J28, 6)=\"Motion\", \"\", CK28*P28), IF(U28=\"\",\"\",IF(AND(ISNUMBER(U28),ISNUMBER(V28)),U28-V28,\"\")))","v":""},{"$f":"IF(M28=\"Y\",\"CustomCalc\",IF(RIGHT(I28, 4)=\"Case\", \"\",IF(AD28=1,\"\",IF(AF28>0,AF28,\"\"))))","v":""},{"$f":"IF(RIGHT(I28, 4)=\"Case\", IF(LEFT(J28, 6)=\"Motion\", \"\", CM28), IF(AND(W28>0,ISNUMBER(X28)),X28*P28,IF(P28=\"\",\"\",IF(RIGHT(I28, 4)=\"Case\", IF(LEFT(J28, 6)=\"Motion\", \"\", CM28),IF(AND(X28=\"CustomCalc\",AG28=\"PASS/PASS\"),AC28,0)))))","v":""},{"$f":"IF(M28 = \"Y\",IF(AND(M28=\"Y\",AG28=\"FAIL\"),\"Not Cost Effective\",\"\"),IF(AD28=1,\"Does not meet requirement\",\"\"))","v":""},{"$f":"IF('100L Information'!$Z$5=\"Yes\",0,IF('100L Information'!$Z$4=\"Yes\",(MIN($Y$232-(-$Y$227),6000)*0.5)*(Y28/$Y$232),$Y$232*(Y28/($Y$230+$Y$231))))","v":{"$error":"#VALUE!"}},{"$f":"IF(W28=\"\",\"\",W28*$D$23)","v":""},{"$f":"IF(RIGHT(I28, 4)=\"Case\", \"\", MIN(W28*IF(I28=\"GROW\", RunRateMax_CustomMeasures_Horti, IF(I28=\"Street_Lighting\", RunRateMax_Streetlighting, RunRateMax_CustomMeasures_fixtures)),S28*Incent_Cost_Fixture_Cust))","v":{"$error":"#VALUE!"}},{"$f":"IF(OR(I28=\"TLED\",I28=\"Relamp\",I28=\"LED_High_Bay\",I28=\"LED_Lamps\",I28=\"LED_Interior_Fixtures\",I28=\"LED_Exterior_Fixtures\",I28=\"Street_Lighting\", I28=\"LLLC\"),IF(((U28-V28)/U28)>=0.4,0,1),IF(LEFT(J28,3)=\"HID\",IF(((U28-V28)/U28)>=0.5,0,1),\"No requirement\"))","v":"No requirement"},{"$f":"MAX(IF(ISERROR(VLOOKUP(CONCATENATE(J28,\" from \",VLOOKUP(D28,ExistFixtCat,4,FALSE)),PropFixtIncent,2,FALSE)),0,VLOOKUP(CONCATENATE(J28,\" from \",VLOOKUP(D28,ExistFixtCat,4,FALSE)),PropFixtIncent,2,FALSE)),IF(ISERROR(VLOOKUP(CONCATENATE(J28,\" from ANY\"),PropFixtIncent,2,FALSE)),0,VLOOKUP(CONCATENATE(J28,\" from ANY\"),PropFixtIncent,2,FALSE)))","v":0},{"$f":"IF(OR(Z28=\"Does not meet requirement\",AND('100L Information'!$AA$21=\"No\",AL28=\"Y\"),AND('100L Information'!$AS$21=FALSE,AL28=\"Y\")),0,IF(ISNUMBER(R28*Incent_Cost_Fixture_Rx),MIN(R28*Incent_Cost_Fixture_Rx,(MAX(AE28,AK28))),0))","v":0},{"$f":"IF(AND(M28=\"Y\",BR28=\"PASS/PASS\"),\"PASS/PASS\",\"FAIL\")","v":"FAIL"},{"$f":"IF(AG28=\"PASS/PASS\",S28,\"0\")","v":"0"},{"$f":"IF(AG28=\"PASS/PASS\",U28,\"0\")","v":"0"},{"$f":"IF(AG28=\"PASS/PASS\",V28,\"0\")","v":"0"},{"$f":"IF(AE28=0,MAX(IF(ISERROR(VLOOKUP(CONCATENATE(J28,\" from \",VLOOKUP(E28,ExistFixtCat,4,FALSE)),PropFixtIncent,2,FALSE)),0,VLOOKUP(CONCATENATE(J28,\" from \",VLOOKUP(E28,ExistFixtCat,4,FALSE)),PropFixtIncent,2,FALSE)),IF(ISERROR(VLOOKUP(CONCATENATE(J28,\" from ANY\"),PropFixtIncent,2,FALSE)),0,VLOOKUP(CONCATENATE(J28,\" from ANY\"),PropFixtIncent,2,FALSE))),0)","v":0},{"$f":"IF(ISNUMBER(VLOOKUP(J28,PublicSector,13,FALSE)),\"Y\",\"N\")","v":"N"},{"$f":"IF(AG28=\"PASS/PASS\",W28,\"0\")","v":"0"},{"$f":"IF(AG28=\"PASS/PASS\",Y28,\"0\")","v":"0"},null,{"$f":"IF(AND($CB28=\"fixture\",OR($D28=\"CFL\",$D28=\"INCAN\")),VLOOKUP(E28,Incan_Lookup,7,FALSE)*$G28*H28+VLOOKUP(E28,Incan_Lookup,6,FALSE)*$N28*P28,IF(AND($CB28=\"lamp\",OR($D28=\"CFL\",$D28=\"INCAN\")),VLOOKUP(E28,Incan_Lookup,10,FALSE)*$G28*H28+VLOOKUP(E28,Incan_Lookup,9,FALSE)*$N28*P28,IF($D28=\"OTHER\",$G28*$H28,IF($CB28=\"lamp\",(VLOOKUP($E28,ExistFixtLookup,10,FALSE)*H28+VLOOKUP($E28,ExistFixtLookup,9,FALSE)*N28*P28),IF($CB28=\"fixture\",(VLOOKUP($E28,ExistFixtLookup,7,FALSE)*H28+VLOOKUP($E28,ExistFixtLookup,6,FALSE)*N28*P28),$G28)))))","v":""},{"$f":"IF(ISNUMBER((AP28-N28*P28)*Q28/1000),(AP28-N28*P28)*Q28/1000,W28)","v":""},{"$f":"IF(AND(ISNUMBER(BD28),ISNUMBER(W28),$CB28=\"lamp\"),(W28*VLOOKUP(E28,ExistFixtLookup,11,FALSE)+AQ28*(BD28-VLOOKUP(E28,ExistFixtLookup,11,FALSE)))/BD28,IF(AND(ISNUMBER(BD28),ISNUMBER(W28),$CB28=\"fixture\"),(W28*VLOOKUP(E28,ExistFixtLookup,8,FALSE)+AQ28*(BD28-VLOOKUP(E28,ExistFixtLookup,8,FALSE)))/BD28,IF(ISNUMBER(W28),W28,0)))","v":0},{"$f":"IF(ISNUMBER(AP28),IF(AP28>G28*H28,\"Greater\",\"Less\"),\"\")","v":""},{"$f":"IF(RIGHT(I28,4)=\"Case\",W28,IF(AND(AL28=\"Y\",AF28<1),0,IF(OR(LEFT(D28,2)=\"T5\",LEFT(D28,3)=\"CFL\",'Analysis 103L'!AS28=\"Less\"),'Analysis 103L'!AR28,'Analysis 103L'!W28)))","v":""},null,{"$f":"IF($B28=\"Interior\",IF(ISNUMBER($G28*$H28),$G28*$H28,0), 0)","v":0},{"$f":"IF($B28=\"Interior\",IF(ISNUMBER($N28*$P28),$N28*$P28,0), 0)","v":0},null,{"$f":"IF(RIGHT(I28,4)=\"Case\",\"\",((G28*H28)-(N28*P28))/1000)","v":{"$error":"#VALUE!"}},{"$f":"IF(RIGHT(I28,4)=\"Case\",\"\", IF(W28=0,0,W28/U28))","v":{"$error":"#VALUE!"}},{"$f":"IF(RIGHT(I28,4)=\"Case\",IF(W28=0,0,R28/(W28*$F$9)),IF(W28=0,0,S28/(W28*$F$9)))","v":{"$error":"#VALUE!"}},null,null,{"$f":"IF(RIGHT(I28,4)=\"Case\",'LED Case Lighting'!$AY$1,IF(J28=\"\",\"\",VLOOKUP(J28,Lookups!$A$30:$J$149,VLOOKUP('100L Information'!$AI$46,Lookups!$J$3:$L$6,3,FALSE),FALSE)))","v":""},{"$f":"IF(B28=\"Exterior\", INDEX($BW$28:$BW$40, $BX$229), IF(BusType=\"Manufacturing\", IF(Q28<3500, \"1-Shift Industrial\", IF(Q28<5500, \"2-Shift Industrial\", IF(Q28<8000, \"3-Shift Industrial\", \"FLAT\"))), INDEX($BV$28:$BV$40, $BX$229)))","v":{"$error":"#N/A"}},{"$f":"IF(BD28=\"\",\"\",VLOOKUP(BE28, avoided_costs, ROUND($BD28,0)+2, FALSE))","v":""},{"$f":"IF(BD28=\"\",\"\",$BF28+-PV(4.5%,BD28,CD28)/$AR28*$P28)","v":""},{"$f":"IF(RIGHT(I28,4)=\"Case\",0.5*R28/AR28, 0.5*S28/AR28)","v":{"$error":"#VALUE!"}},{"$f":"BF28/BH28","v":{"$error":"#VALUE!"}},{"$f":"IF(ROUND(BI28,1)>=1, \"PASS\", \"FAIL\")","v":{"$error":"#VALUE!"}},{"$f":"VLOOKUP(E28,ExistFixtCat,3,FALSE)/(H28*IF(ISNUMBER(VALUE(MID(E28,5,1))),VALUE(MID(E28,5,1)),1)*Q28)","v":{"$error":"#N/A"}},{"$f":"IF(ISERROR(-PV(POWER(1+Discount_Rate,$BK28)-1,$BD28/$BK28,10+VLOOKUP($E28,ExistFixtCat,2,FALSE))),0,-PV(POWER(1+Discount_Rate,$BK28)-1,$BD28/$BK28,10+VLOOKUP($E28,ExistFixtCat,2,FALSE)))","v":0},{"$f":"VLOOKUP($J28,PropOpLife,3,FALSE)/($P28*IF(ISNUMBER(VALUE(MID($J28,5,1))),VALUE(MID($J28,5,1)),1)*$Q28)","v":{"$error":"#N/A"}},{"$f":"IF(OR(ISERROR(-PV(POWER(1+Discount_Rate,$BM28)-1,$BD28/$BM28,MIN(R28,10+0.5*VLOOKUP($J28,PropOpLife,2,FALSE)))),BL28=0),0,-PV(POWER(1+Discount_Rate,$BM28)-1,$BD28/$BM28,MIN(R28,10+0.5*VLOOKUP($J28,PropOpLife,2,FALSE))))","v":0},{"$f":"IF(RIGHT(I28,4)=\"Case\",R28/AR28,S28/AR28)","v":{"$error":"#VALUE!"}},{"$f":"BG28/BO28","v":{"$error":"#VALUE!"}},{"$f":"IF(ROUND(BP28,1)>=1, \"PASS\", \"FAIL\")","v":{"$error":"#VALUE!"}},{"$f":"IF(OR(NOT(ISERROR(BQ28)),NOT(ISERROR(BJ28))),BJ28&\"/\"&BQ28,\"FAIL\")","v":"FAIL"},null,8,"College","College Interior Lights","College Exterior Lights",0.31,null,"Affordable Housing",null,{"$f":"IF(I28=\"\",\"\",VLOOKUP(I28,FixVsLamp,2,FALSE))","v":""},null,{"$f":"IF(RIGHT(I28,4)=\"Case\",(INDEX('LED Case Lighting'!$AZ$3:$AZ$16,MATCH('Analysis 103L'!$CI28,'LED Case Lighting'!$AS$3:$AS$16,0))),IF(CB28=0,0,IF(CB28=\"lamp\",((Q28/VLOOKUP(B28,Int_Ext,2,FALSE))*VLOOKUP(E28,NEB,16,FALSE)),IF(CB28=\"fixture\",((Q28/VLOOKUP(B28,Int_Ext,2,FALSE))*VLOOKUP(E28,NEB,14,FALSE)),\"\"))))","v":""},null,{"$f":"IF(RIGHT(I28,4)=\"Case\",INDEX('Equipment Type'!$V$4:$V$53, MATCH('Analysis 103L'!$K28, 'Equipment Type'!$A$4:$A$53, 0)), \"\")","v":""},{"$f":"IF(RIGHT(I28,4)=\"Case\",IF(LEFT(D28,3)=\"T12\",\"T12\",IF(OR(LEFT(D28,2)=\"T8\",(LEFT(D28,2)=\"T5\")),\"T8\",\"\")), \"\")","v":""},{"$f":"IF(RIGHT(I28,4)=\"Case\",IF(B28=$BZ$231,\"MED\",IF(B28=$BZ$230,\"LOW\",IF(B28=$BZ$232,\"OUT\",\"\"))), \"\")","v":""},{"$f":"IF(RIGHT(I28,4)=\"Case\",IF(OR(CF28=\"NE\", LEFT(J28, 6)=\"Motion\"), \"\", CONCATENATE(\"LEDCL\",CF28, CG28, CH28)), \"\")","v":""},{"$f":"IF(CI28=\"\", \"\", IF(RIGHT(I28,4)=\"Case\", INDEX('LED Case Lighting'!$AR$3:$AR$16, MATCH('Analysis 103L'!CI28, 'LED Case Lighting'!$AS$3:$AS$16, 0)), \"\"))","v":""},{"$f":"IF(CI28=\"\",\"\",INDEX('LED Case Lighting'!$AW$3:$AW$16,MATCH('Analysis 103L'!CI28,'LED Case Lighting'!$AS$3:$AS$16,0)))","v":""},{"$f":"IF(CI28=\"\",\"\",INDEX('LED Case Lighting'!$AX$3:$AX$16,MATCH('Analysis 103L'!CI28,'LED Case Lighting'!$AS$3:$AS$16,0)))","v":""},{"$f":"IF(CL28=\"\",\"\",MIN(R28*Incent_Cost_Case,(P28*CL28)))","v":""}]
[2,null,null,null,null,null,{"$f":"IF(E29=\"\",\"\",VLOOKUP(E29,ExistFixtLookup,2,FALSE))","v":""},null,{"$f":"IF(K29=\"\",\"\",VLOOKUP(K29,'Equipment Type'!$A$1:$F$53,5,FALSE))","v":""},{"$f":"IF(K29=\"\",\"\",VLOOKUP(K29,'Equipment Type'!$A$1:$F$53,6,FALSE))","v":""},null,{"$f":"IF(K29=\"\",\"\",VLOOKUP(K29,'Equipment Type'!$A$1:$F$53,4,FALSE))","v":""},null,{"$f":"IF(K29=\"\",\"\",INDEX('Equipment Type'!$T$4:$T$53,MATCH('Analysis 103L'!K29,'Equipment Type'!$A$4:$A$53,0)))","v":""},{"$f":"IF(RIGHT(I29, 4)=\"Case\", \"\", IF(G29=\"\",\"\",((G29*H29)-(N29*P29))/(G29*H29)))","v":""},null,{"$f":"IF(RIGHT(I29, 4)=\"Case\", \"\", IF(P29=\"\",\"\",(IF(ISNUMBER(SEARCH(\"exit\",J29)),8760,IF(B29=\"Exterior\",4380,'Analysis 103L'!$J$3)))))","v":""},null,{"$f":"IF(RIGHT(I29, 4)=\"Case\", IF(LEFT(J29, 6)=\"Motion\", \"\", \"<-- Enter total cost.\"), IF(P29=\"\",\"\",IF(AND(AL29=\"Y\",X29=\"\"),\"\",P29*R29)))","v":""},{"$f":"IF(RIGHT(I29, 4)=\"Case\", \"\", IF(P29=\"\",\"\",IF(ISERROR(AY29),0,AY29)))","v":""},{"$f":"IF(RIGHT(I29, 4)=\"Case\", \"\", IF(H29=\"\",\"\",(G29*H29)*Q29/1000))","v":""},{"$f":"IF(RIGHT(I29, 4)=\"Case\", \"\", IF(P29=\"\",\"\",(N29*P29)*Q29/1000))","v":""},{"$f":"IF(RIGHT(I29, 4)=\"Case\", IF(LEFT(J29, 6)=\"Motion\", \"\", CK29*P29), IF(U29=\"\",\"\",IF(AND(ISNUMBER(U29),ISNUMBER(V29)),U29-V29,\"\")))","v":""},"","",{"$f":"IF(M29 = \"Y\",IF(AND(M29=\"Y\",AG29=\"FAIL\"),\"Not Cost Effective\",\"\"),IF(AD29=1,\"Does not meet requirement\",\"\"))","v":""},{"$f":"IF('100L Information'!$Z$5=\"Yes\",0,IF('100L Information'!$Z$4=\"Yes\",(MIN($Y$232-(-$Y$227),6000)*0.5)*(Y29/$Y$232),$Y$232*(Y29/($Y$230+$Y$231))))","v":{"$error":"#VALUE!"}},{"$f":"IF(W29=\"\",\"\",W29*$D$23)","v":""},{"$error":"#VALUE!"},{"$f":"IF(OR(I29=\"TLED\",I29=\"Relamp\",I29=\"LED_High_Bay\",I29=\"LED_Lamps\",I29=\"LED_Interior_Fixtures\",I29=\"LED_Exterior_Fixtures\",I29=\"Street_Lighting\", I29=\"LLLC\"),IF(((U29-V29)/U29)>=0.4,0,1),IF(LEFT(J29,3)=\"HID\",IF(((U29-V29)/U29)>=0.5,0,1),\"No requirement\"))","v":"No requirement"},{"$f":"MAX(IF(ISERROR(VLOOKUP(CONCATENATE(J29,\" from \",VLOOKUP(D29,ExistFixtCat,4,FALSE)),PropFixtIncent,2,FALSE)),0,VLOOKUP(CONCATENATE(J29,\" from \",VLOOKUP(D29,ExistFixtCat,4,FALSE)),PropFixtIncent,2,FALSE)),IF(ISERROR(VLOOKUP(CONCATENATE(J29,\" from ANY\"),PropFixtIncent,2,FALSE)),0,VLOOKUP(CONCATENATE(J29,\" from ANY\"),PropFixtIncent,2,FALSE)))","v":0},{"$f":"IF(OR(Z29=\"Does not meet requirement\",AND('100L Information'!$AA$21=\"No\",AL29=\"Y\"),AND('100L Information'!$AS$21=FALSE,AL29=\"Y\")),0,IF(ISNUMBER(R29*Incent_Cost_Fixture_Rx),MIN(R29*Incent_Cost_Fixture_Rx,(MAX(AE29,AK29))),0))","v":0},"FAIL","0","0","0",{"$f":"IF(AE29=0,MAX(IF(ISERROR(VLOOKUP(CONCATENATE(J29,\" from \",VLOOKUP(E29,ExistFixtCat,4,FALSE)),PropFixtIncent,2,FALSE)),0,VLOOKUP(CONCATENATE(J29,\" from \",VLOOKUP(E29,ExistFixtCat,4,FALSE)),PropFixtIncent,2,FALSE)),IF(ISERROR(VLOOKUP(CONCATENATE(J29,\" from ANY\"),PropFixtIncent,2,FALSE)),0,VLOOKUP(CONCATENATE(J29,\" from ANY\"),PropFixtIncent,2,FALSE))),0)","v":0},"N",{"$f":"IF(AG29=\"PASS/PASS\",W29,\"0\")","v":"0"},{"$f":"IF(AG29=\"PASS/PASS\",Y29,\"0\")","v":"0"},null,"",{"$f":"IF(ISNUMBER((AP29-N29*P29)*Q29/1000),(AP29-N29*P29)*Q29/1000,W29)","v":""},{"$f":"IF(AND(ISNUMBER(BD29),ISNUMBER(W29),$CB29=\"lamp\"),(W29*VLOOKUP(E29,ExistFixtLookup,11,FALSE)+AQ29*(BD29-VLOOKUP(E29,ExistFixtLookup,11,FALSE)))/BD29,IF(AND(ISNUMBER(BD29),ISNUMBER(W29),$CB29=\"fixture\"),(W29*VLOOKUP(E29,ExistFixtLookup,8,FALSE)+AQ29*(BD29-VLOOKUP(E29,ExistFixtLookup,8,FALSE)))/BD29,IF(ISNUMBER(W29),W29,0)))","v":0},{"$f":"IF(ISNUMBER(AP29),IF(AP29>G29*H29,\"Greater\",\"Less\"),\"\")","v":""},{"$f":"IF(RIGHT(I29,4)=\"Case\",W29,IF(AND(AL29=\"Y\",AF29<1),0,IF(OR(LEFT(D29,2)=\"T5\",LEFT(D29,3)=\"CFL\",'Analysis 103L'!AS29=\"Less\"),'Analysis 103L'!AR29,'Analysis 103L'!W29)))","v":""},null,{"$f":"IF($B29=\"Interior\",IF(ISNUMBER($G29*$H29),$G29*$H29,0), 0)","v":0},{"$f":"IF($B29=\"Interior\",IF(ISNUMBER($N29*$P29),$N29*$P29,0), 0)","v":0},null,{"$f":"IF(RIGHT(I29,4)=\"Case\",\"\",((G29*H29)-(N29*P29))/1000)","v":{"$error":"#VALUE!"}},{"$f":"IF(RIGHT(I29,4)=\"Case\",\"\", IF(W29=0,0,W29/U29))","v":{"$error":"#VALUE!"}},{"$f":"IF(RIGHT(I29,4)=\"Case\",IF(W29=0,0,R29/(W29*$F$9)),IF(W29=0,0,S29/(W29*$F$9)))","v":{"$error":"#VALUE!"}},null,null,{"$f":"IF(RIGHT(I29,4)=\"Case\",'LED Case Lighting'!$AY$1,IF(J29=\"\",\"\",VLOOKUP(J29,Lookups!$A$30:$J$149,VLOOKUP('100L Information'!$AI$46,Lookups!$J$3:$L$6,3,FALSE),FALSE)))","v":""},{"$error":"#N/A"},{"$f":"IF(BD29=\"\",\"\",VLOOKUP(BE29, avoided_costs, ROUND($BD29,0)+2, FALSE))","v":""},{"$f":"IF(BD29=\"\",\"\",$BF29+-PV(4.5%,BD29,CD29)/$AR29*$P29)","v":""},{"$error":"#VALUE!"},{"$f":"BF29/BH29","v":{"$error":"#VALUE!"}},{"$f":"IF(ROUND(BI29,1)>=1, \"PASS\", \"FAIL\")","v":{"$error":"#VALUE!"}},{"$f":"VLOOKUP(E29,ExistFixtCat,3,FALSE)/(H29*IF(ISNUMBER(VALUE(MID(E29,5,1))),VALUE(MID(E29,5,1)),1)*Q29)","v":{"$error":"#N/A"}},0,{"$error":"#N/A"},{"$f":"IF(OR(ISERROR(-PV(POWER(1+Discount_Rate,$BM29)-1,$BD29/$BM29,MIN(R29,10+0.5*VLOOKUP($J29,PropOpLife,2,FALSE)))),BL29=0),0,-PV(POWER(1+Discount_Rate,$BM29)-1,$BD29/$BM29,MIN(R29,10+0.5*VLOOKUP($J29,PropOpLife,2,FALSE))))","v":0},{"$f":"IF(RIGHT(I29,4)=\"Case\",R29/AR29,S29/AR29)","v":{"$error":"#VALUE!"}},{"$f":"BG29/BO29","v":{"$error":"#VALUE!"}},{"$f":"IF(ROUND(BP29,1)>=1, \"PASS\", \"FAIL\")","v":{"$error":"#VALUE!"}},{"$f":"IF(OR(NOT(ISERROR(BQ29)),NOT(ISERROR(BJ29))),BJ29&\"/\"&BQ29,\"FAIL\")","v":"FAIL"},null,5,"Grocery","Grocery Interior Lights","Grocery Exterior Lights",0.25,null,"Market Rate",null,"",null,{"$f":"IF(RIGHT(I29,4)=\"Case\",(INDEX('LED Case Lighting'!$AZ$3:$AZ$16,MATCH('Analysis 103L'!$CI29,'LED Case Lighting'!$AS$3:$AS$16,0))),IF(CB29=0,0,IF(CB29=\"lamp\",((Q29/VLOOKUP(B29,Int_Ext,2,FALSE))*VLOOKUP(E29,NEB,16,FALSE)),IF(CB29=\"fixture\",((Q29/VLOOKUP(B29,Int_Ext,2,FALSE))*VLOOKUP(E29,NEB,14,FALSE)),\"\"))))","v":""},null,{"$f":"IF(RIGHT(I29,4)=\"Case\",INDEX('Equipment Type'!$V$4:$V$53, MATCH('Analysis 103L'!$K29, 'Equipment Type'!$A$4:$A$53, 0)), \"\")","v":""},"",{"$f":"IF(RIGHT(I29,4)=\"Case\",IF(B29=$BZ$231,\"MED\",IF(B29=$BZ$230,\"LOW\",IF(B29=$BZ$232,\"OUT\",\"\"))), \"\")","v":""},{"$f":"IF(RIGHT(I29,4)=\"Case\",IF(OR(CF29=\"NE\", LEFT(J29, 6)=\"Motion\"), \"\", CONCATENATE(\"LEDCL\",CF29, CG29, CH29)), \"\")","v":""},{"$f":"IF(CI29=\"\", \"\", IF(RIGHT(I29,4)=\"Case\", INDEX('LED Case Lighting'!$AR$3:$AR$16, MATCH('Analysis 103L'!CI29, 'LED Case Lighting'!$AS$3:$AS$16, 0)), \"\"))","v":""},{"$f":"IF(CI29=\"\",\"\",INDEX('LED Case Lighting'!$AW$3:$AW$16,MATCH('Analysis 103L'!CI29,'LED Case Lighting'!$AS$3:$AS$16,0)))","v":""},{"$f":"IF(CI29=\"\",\"\",INDEX('LED Case Lighting'!$AX$3:$AX$16,MATCH('Analysis 103L'!CI29,'LED Case Lighting'!$AS$3:$AS$16,0)))","v":""},""]
[3,null,null,null,null,null,{"$f":"IF(E30=\"\",\"\",VLOOKUP(E30,ExistFixtLookup,2,FALSE))","v":""},null,{"$f":"IF(K30=\"\",\"\",VLOOKUP(K30,'Equipment Type'!$A$1:$F$53,5,FALSE))","v":""},{"$f":"IF(K30=\"\",\"\",VLOOKUP(K30,'Equipment Type'!$A$1:$F$53,6,FALSE))","v":""},null,{"$f":"IF(K30=\"\",\"\",VLOOKUP(K30,'Equipment Type'!$A$1:$F$53,4,FALSE))","v":""},null,{"$f":"IF(K30=\"\",\"\",INDEX('Equipment Type'!$T$4:$T$53,MATCH('Analysis 103L'!K30,'Equipment Type'!$A$4:$A$53,0)))","v":""},{"$f":"IF(RIGHT(I30, 4)=\"Case\", \"\", IF(G30=\"\",\"\",((G30*H30)-(N30*P30))/(G30*H30)))","v":""},null,{"$f":"IF(RIGHT(I30, 4)=\"Case\", \"\", IF(P30=\"\",\"\",(IF(ISNUMBER(SEARCH(\"exit\",J30)),8760,IF(B30=\"Exterior\",4380,'Analysis 103L'!$J$3)))))","v":""},null,"",{"$f":"IF(RIGHT(I30, 4)=\"Case\", \"\", IF(P30=\"\",\"\",IF(ISERROR(AY30),0,AY30)))","v":""},{"$f":"IF(RIGHT(I30, 4)=\"Case\", \"\", IF(H30=\"\",\"\",(G30*H30)*Q30/1000))","v":""},{"$f":"IF(RIGHT(I30, 4)=\"Case\", \"\", IF(P30=\"\",\"\",(N30*P30)*Q30/1000))","v":""},{"$f":"IF(RIGHT(I30, 4)=\"Case\", IF(LEFT(J30, 6)=\"Motion\", \"\", CK30*P30), IF(U30=\"\",\"\",IF(AND(ISNUMBER(U30),ISNUMBER(V30)),U30-V30,\"\")))","v":""},{"$f":"IF(M30=\"Y\",\"CustomCalc\",IF(RIGHT(I30, 4)=\"Case\", \"\",IF(AD30=1,\"\",IF(AF30>0,AF30,\"\"))))","v":""},{"$f":"IF(RIGHT(I30, 4)=\"Case\", IF(LEFT(J30, 6)=\"Motion\", \"\", CM30), IF(AND(W30>0,ISNUMBER(X30)),X30*P30,IF(P30=\"\",\"\",IF(RIGHT(I30, 4)=\"Case\", IF(LEFT(J30, 6)=\"Motion\", \"\", CM30),IF(AND(X30=\"CustomCalc\",AG30=\"PASS/PASS\"),AC30,0)))))","v":""},"",{"$f":"IF('100L Information'!$Z$5=\"Yes\",0,IF('100L Information'!$Z$4=\"Yes\",(MIN($Y$232-(-$Y$227),6000)*0.5)*(Y30/$Y$232),$Y$232*(Y30/($Y$230+$Y$231))))","v":{"$error":"#VALUE!"}},{"$f":"IF(W30=\"\",\"\",W30*$D$23)","v":""},{"$error":"#VALUE!"},{"$f":"IF(OR(I30=\"TLED\",I30=\"Relamp\",I30=\"LED_High_Bay\",I30=\"LED_Lamps\",I30=\"LED_Interior_Fixtures\",I30=\"LED_Exterior_Fixtures\",I30=\"Street_Lighting\", I30=\"LLLC\"),IF(((U30-V30)/U30)>=0.4,0,1),IF(LEFT(J30,3)=\"HID\",IF(((U30-V30)/U30)>=0.5,0,1),\"No requirement\"))","v":"No requirement"},{"$f":"MAX(IF(ISERROR(VLOOKUP(CONCATENATE(J30,\" from \",VLOOKUP(D30,ExistFixtCat,4,FALSE)),PropFixtIncent,2,FALSE)),0,VLOOKUP(CONCATENATE(J30,\" from \",VLOOKUP(D30,ExistFixtCat,4,FALSE)),PropFixtIncent,2,FALSE)),IF(ISERROR(VLOOKUP(CONCATENATE(J30,\" from ANY\"),PropFixtIncent,2,FALSE)),0,VLOOKUP(CONCATENATE(J30,\" from ANY\"),PropFixtIncent,2,FALSE)))","v":0},{"$f":"IF(OR(Z30=\"Does not meet requirement\",AND('100L Information'!$AA$21=\"No\",AL30=\"Y\"),AND('100L Information'!$AS$21=FALSE,AL30=\"Y\")),0,IF(ISNUMBER(R30*Incent_Cost_Fixture_Rx),MIN(R30*Incent_Cost_Fixture_Rx,(MAX(AE30,AK30))),0))","v":0},"FAIL","0","0","0",{"$f":"IF(AE30=0,MAX(IF(ISERROR(VLOOKUP(CONCATENATE(J30,\" from \",VLOOKUP(E30,ExistFixtCat,4,FALSE)),PropFixtIncent,2,FALSE)),0,VLOOKUP(CONCATENATE(J30,\" from \",VLOOKUP(E30,ExistFixtCat,4,FALSE)),PropFixtIncent,2,FALSE)),IF(ISERROR(VLOOKUP(CONCATENATE(J30,\" from ANY\"),PropFixtIncent,2,FALSE)),0,VLOOKUP(CONCATENATE(J30,\" from ANY\"),PropFixtIncent,2,FALSE))),0)","v":0},"N","0","0",null,{"$f":"IF(AND($CB30=\"fixture\",OR($D30=\"CFL\",$D30=\"INCAN\")),VLOOKUP(E30,Incan_Lookup,7,FALSE)*$G30*H30+VLOOKUP(E30,Incan_Lookup,6,FALSE)*$N30*P30,IF(AND($CB30=\"lamp\",OR($D30=\"CFL\",$D30=\"INCAN\")),VLOOKUP(E30,Incan_Lookup,10,FALSE)*$G30*H30+VLOOKUP(E30,Incan_Lookup,9,FALSE)*$N30*P30,IF($D30=\"OTHER\",$G30*$H30,IF($CB30=\"lamp\",(VLOOKUP($E30,ExistFixtLookup,10,FALSE)*H30+VLOOKUP($E30,ExistFixtLookup,9,FALSE)*N30*P30),IF($CB30=\"fixture\",(VLOOKUP($E30,ExistFixtLookup,7,FALSE)*H30+VLOOKUP($E30,ExistFixtLookup,6,FALSE)*N30*P30),$G30)))))","v":""},{"$f":"IF(ISNUMBER((AP30-N30*P30)*Q30/1000),(AP30-N30*P30)*Q30/1000,W30)","v":""},0,{"$f":"IF(ISNUMBER(AP30),IF(AP30>G30*H30,\"Greater\",\"Less\"),\"\")","v":""},{"$f":"IF(RIGHT(I30,4)=\"Case\",W30,IF(AND(AL30=\"Y\",AF30<1),0,IF(OR(LEFT(D30,2)=\"T5\",LEFT(D30,3)=\"CFL\",'Analysis 103L'!AS30=\"Less\"),'Analysis 103L'!AR30,'Analysis 103L'!W30)))","v":""},null,{"$f":"IF($B30=\"Interior\",IF(ISNUMBER($G30*$H30),$G30*$H30,0), 0)","v":0},{"$f":"IF($B30=\"Interior\",IF(ISNUMBER($N30*$P30),$N30*$P30,0), 0)","v":0},null,{"$f":"IF(RIGHT(I30,4)=\"Case\",\"\",((G30*H30)-(N30*P30))/1000)","v":{"$error":"#VALUE!"}},{"$f":"IF(RIGHT(I30,4)=\"Case\",\"\", IF(W30=0,0,W30/U30))","v":{"$error":"#VALUE!"}},{"$f":"IF(RIGHT(I30,4)=\"Case\",IF(W30=0,0,R30/(W30*$F$9)),IF(W30=0,0,S30/(W30*$F$9)))","v":{"$error":"#VALUE!"}},null,null,{"$f":"IF(RIGHT(I30,4)=\"Case\",'LED Case Lighting'!$AY$1,IF(J30=\"\",\"\",VLOOKUP(J30,Lookups!$A$30:$J$149,VLOOKUP('100L Information'!$AI$46,Lookups!$J$3:$L$6,3,FALSE),FALSE)))","v":""},{"$error":"#N/A"},"",{"$f":"IF(BD30=\"\",\"\",$BF30+-PV(4.5%,BD30,CD30)/$AR30*$P30)","v":""},{"$error":"#VALUE!"},{"$error":"#VALUE!"},{"$f":"IF(ROUND(BI30,1)>=1, \"PASS\", \"FAIL\")","v":{"$error":"#VALUE!"}},{"$error":"#N/A"},0,{"$error":"#N/A"},{"$f":"IF(OR(ISERROR(-PV(POWER(1+Discount_Rate,$BM30)-1,$BD30/$BM30,MIN(R30,10+0.5*VLOOKUP($J30,PropOpLife,2,FALSE)))),BL30=0),0,-PV(POWER(1+Discount_Rate,$BM30)-1,$BD30/$BM30,MIN(R30,10+0.5*VLOOKUP($J30,PropOpLife,2,FALSE))))","v":0},{"$f":"IF(RIGHT(I30,4)=\"Case\",R30/AR30,S30/AR30)","v":{"$error":"#VALUE!"}},{"$error":"#VALUE!"},{"$error":"#VALUE!"},{"$f":"IF(OR(NOT(ISERROR(BQ30)),NOT(ISERROR(BJ30))),BJ30&\"/\"&BQ30,\"FAIL\")","v":"FAIL"},null,10,"Healthcare","Healthcare Interior Lights","Healthcare Exterior Lights",0.25,null,"Campus Living",null,"",null,{"$f":"IF(RIGHT(I30,4)=\"Case\",(INDEX('LED Case Lighting'!$AZ$3:$AZ$16,MATCH('Analysis 103L'!$CI30,'LED Case Lighting'!$AS$3:$AS$16,0))),IF(CB30=0,0,IF(CB30=\"lamp\",((Q30/VLOOKUP(B30,Int_Ext,2,FALSE))*VLOOKUP(E30,NEB,16,FALSE)),IF(CB30=\"fixture\",((Q30/VLOOKUP(B30,Int_Ext,2,FALSE))*VLOOKUP(E30,NEB,14,FALSE)),\"\"))))","v":""},null,{"$f":"IF(RIGHT(I30,4)=\"Case\",INDEX('Equipment Type'!$V$4:$V$53, MATCH('Analysis 103L'!$K30, 'Equipment Type'!$A$4:$A$53, 0)), \"\")","v":""},"","","",{"$f":"IF(CI30=\"\", \"\", IF(RIGHT(I30,4)=\"Case\", INDEX('LED Case Lighting'!$AR$3:$AR$16, MATCH('Analysis 103L'!CI30, 'LED Case Lighting'!$AS$3:$AS$16, 0)), \"\"))","v":""},{"$f":"IF(CI30=\"\",\"\",INDEX('LED Case Lighting'!$AW$3:$AW$16,MATCH('Analysis 103L'!CI30,'LED Case Lighting'!$AS$3:$AS$16,0)))","v":""},{"$f":"IF(CI30=\"\",\"\",INDEX('LED Case Lighting'!$AX$3:$AX$16,MATCH('Analysis 103L'!CI30,'LED Case Lighting'!$AS$3:$AS$16,0)))","v":""},""]
[4,null,null,null,null,null,"",null,{"$f":"IF(K31=\"\",\"\",VLOOKUP(K31,'Equipment Type'!$A$1:$F$53,5,FALSE))","v":""},{"$f":"IF(K31=\"\",\"\",VLOOKUP(K31,'Equipment Type'!$A$1:$F$53,6,FALSE))","v":""},null,{"$f":"IF(K31=\"\",\"\",VLOOKUP(K31,'Equipment Type'!$A$1:$F$53,4,FALSE))","v":""},null,{"$f":"IF(K31=\"\",\"\",INDEX('Equipment Type'!$T$4:$T$53,MATCH('Analysis 103L'!K31,'Equipment Type'!$A$4:$A$53,0)))","v":""},{"$f":"IF(RIGHT(I31, 4)=\"Case\", \"\", IF(G31=\"\",\"\",((G31*H31)-(N31*P31))/(G31*H31)))","v":""},null,{"$f":"IF(RIGHT(I31, 4)=\"Case\", \"\", IF(P31=\"\",\"\",(IF(ISNUMBER(SEARCH(\"exit\",J31)),8760,IF(B31=\"Exterior\",4380,'Analysis 103L'!$J$3)))))","v":""},null,{"$f":"IF(RIGHT(I31, 4)=\"Case\", IF(LEFT(J31, 6)=\"Motion\", \"\", \"<-- Enter total cost.\"), IF(P31=\"\",\"\",IF(AND(AL31=\"Y\",X31=\"\"),\"\",P31*R31)))","v":""},{"$f":"IF(RIGHT(I31, 4)=\"Case\", \"\", IF(P31=\"\",\"\",IF(ISERROR(AY31),0,AY31)))","v":""},{"$f":"IF(RIGHT(I31, 4)=\"Case\", \"\", IF(H31=\"\",\"\",(G31*H31)*Q31/1000))","v":""},{"$f":"IF(RIGHT(I31, 4)=\"Case\", \"\", IF(P31=\"\",\"\",(N31*P31)*Q31/1000))","v":""},{"$f":"IF(RIGHT(I31, 4)=\"Case\", IF(LEFT(J31, 6)=\"Motion\", \"\", CK31*P31), IF(U31=\"\",\"\",IF(AND(ISNUMBER(U31),ISNUMBER(V31)),U31-V31,\"\")))","v":""},"","","",{"$f":"IF('100L Information'!$Z$5=\"Yes\",0,IF('100L Information'!$Z$4=\"Yes\",(MIN($Y$232-(-$Y$227),6000)*0.5)*(Y31/$Y$232),$Y$232*(Y31/($Y$230+$Y$231))))","v":{"$error":"#VALUE!"}},{"$f":"IF(W31=\"\",\"\",W31*$D$23)","v":""},{"$error":"#VALUE!"},{"$f":"IF(OR(I31=\"TLED\",I31=\"Relamp\",I31=\"LED_High_Bay\",I31=\"LED_Lamps\",I31=\"LED_Interior_Fixtures\",I31=\"LED_Exterior_Fixtures\",I31=\"Street_Lighting\", I31=\"LLLC\"),IF(((U31-V31)/U31)>=0.4,0,1),IF(LEFT(J31,3)=\"HID\",IF(((U31-V31)/U31)>=0.5,0,1),\"No requirement\"))","v":"No requirement"},0,{"$f":"IF(OR(Z31=\"Does not meet requirement\",AND('100L Information'!$AA$21=\"No\",AL31=\"Y\"),AND('100L Information'!$AS$21=FALSE,AL31=\"Y\")),0,IF(ISNUMBER(R31*Incent_Cost_Fixture_Rx),MIN(R31*Incent_Cost_Fixture_Rx,(MAX(AE31,AK31))),0))","v":0},{"$f":"IF(AND(M31=\"Y\",BR31=\"PASS/PASS\"),\"PASS/PASS\",\"FAIL\")","v":"FAIL"},"0","0","0",{"$f":"IF(AE31=0,MAX(IF(ISERROR(VLOOKUP(CONCATENATE(J31,\" from \",VLOOKUP(E31,ExistFixtCat,4,FALSE)),PropFixtIncent,2,FALSE)),0,VLOOKUP(CONCATENATE(J31,\" from \",VLOOKUP(E31,ExistFixtCat,4,FALSE)),PropFixtIncent,2,FALSE)),IF(ISERROR(VLOOKUP(CONCATENATE(J31,\" from ANY\"),PropFixtIncent,2,FALSE)),0,VLOOKUP(CONCATENATE(J31,\" from ANY\"),PropFixtIncent,2,FALSE))),0)","v":0},"N","0","0",null,{"$f":"IF(AND($CB31=\"fixture\",OR($D31=\"CFL\",$D31=\"INCAN\")),VLOOKUP(E31,Incan_Lookup,7,FALSE)*$G31*H31+VLOOKUP(E31,Incan_Lookup,6,FALSE)*$N31*P31,IF(AND($CB31=\"lamp\",OR($D31=\"CFL\",$D31=\"INCAN\")),VLOOKUP(E31,Incan_Lookup,10,FALSE)*$G31*H31+VLOOKUP(E31,Incan_Lookup,9,FALSE)*$N31*P31,IF($D31=\"OTHER\",$G31*$H31,IF($CB31=\"lamp\",(VLOOKUP($E31,ExistFixtLookup,10,FALSE)*H31+VLOOKUP($E31,ExistFixtLookup,9,FALSE)*N31*P31),IF($CB31=\"fixture\",(VLOOKUP($E31,ExistFixtLookup,7,FALSE)*H31+VLOOKUP($E31,ExistFixtLookup,6,FALSE)*N31*P31),$G31)))))","v":""},{"$f":"IF(ISNUMBER((AP31-N31*P31)*Q31/1000),(AP31-N31*P31)*Q31/1000,W31)","v":""},0,"",{"$f":"IF(RIGHT(I31,4)=\"Case\",W31,IF(AND(AL31=\"Y\",AF31<1),0,IF(OR(LEFT(D31,2)=\"T5\",LEFT(D31,3)=\"CFL\",'Analysis 103L'!AS31=\"Less\"),'Analysis 103L'!AR31,'Analysis 103L'!W31)))","v":""},null,{"$f":"IF($B31=\"Interior\",IF(ISNUMBER($G31*$H31),$G31*$H31,0), 0)","v":0},{"$f":"IF($B31=\"Interior\",IF(ISNUMBER($N31*$P31),$N31*$P31,0), 0)","v":0},null,{"$f":"IF(RIGHT(I31,4)=\"Case\",\"\",((G31*H31)-(N31*P31))/1000)","v":{"$error":"#VALUE!"}},{"$f":"IF(RIGHT(I31,4)=\"Case\",\"\", IF(W31=0,0,W31/U31))","v":{"$error":"#VALUE!"}},{"$f":"IF(RIGHT(I31,4)=\"Case\",IF(W31=0,0,R31/(W31*$F$9)),IF(W31=0,0,S31/(W31*$F$9)))","v":{"$error":"#VALUE!"}},null,null,{"$f":"IF(RIGHT(I31,4)=\"Case\",'LED Case Lighting'!$AY$1,IF(J31=\"\",\"\",VLOOKUP(J31,Lookups!$A$30:$J$149,VLOOKUP('100L Information'!$AI$46,Lookups!$J$3:$L$6,3,FALSE),FALSE)))","v":""},{"$error":"#N/A"},{"$f":"IF(BD31=\"\",\"\",VLOOKUP(BE31, avoided_costs, ROUND($BD31,0)+2, FALSE))","v":""},"",{"$f":"IF(RIGHT(I31,4)=\"Case\",0.5*R31/AR31, 0.5*S31/AR31)","v":{"$error":"#VALUE!"}},{"$f":"BF31/BH31","v":{"$error":"#VALUE!"}},{"$error":"#VALUE!"},{"$error":"#N/A"},0,{"$error":"#N/A"},0,{"$f":"IF(RIGHT(I31,4)=\"Case\",R31/AR31,S31/AR31)","v":{"$error":"#VALUE!"}},{"$f":"BG31/BO31","v":{"$error":"#VALUE!"}},{"$error":"#VALUE!"},"FAIL",null,4,"Hotel/Motel/Lodging","Lodging Interior Lights","Lodging Exterior Lights",0.48,null,"Assisted Living/Retirement",null,"",null,{"$f":"IF(RIGHT(I31,4)=\"Case\",(INDEX('LED Case Lighting'!$AZ$3:$AZ$16,MATCH('Analysis 103L'!$CI31,'LED Case Lighting'!$AS$3:$AS$16,0))),IF(CB31=0,0,IF(CB31=\"lamp\",((Q31/VLOOKUP(B31,Int_Ext,2,FALSE))*VLOOKUP(E31,NEB,16,FALSE)),IF(CB31=\"fixture\",((Q31/VLOOKUP(B31,Int_Ext,2,FALSE))*VLOOKUP(E31,NEB,14,FALSE)),\"\"))))","v":""},null,{"$f":"IF(RIGHT(I31,4)=\"Case\",INDEX('Equipment Type'!$V$4:$V$53, MATCH('Analysis 103L'!$K31, 'Equipment Type'!$A$4:$A$53, 0)), \"\")","v":""},"","","",{"$f":"IF(CI31=\"\", \"\", IF(RIGHT(I31,4)=\"Case\", INDEX('LED Case Lighting'!$AR$3:$AR$16, MATCH('Analysis 103L'!CI31, 'LED Case Lighting'!$AS$3:$AS$16, 0)), \"\"))","v":""},{"$f":"IF(CI31=\"\",\"\",INDEX('LED Case Lighting'!$AW$3:$AW$16,MATCH('Analysis 103L'!CI31,'LED Case Lighting'!$AS$3:$AS$16,0)))","v":""},{"$f":"IF(CI31=\"\",\"\",INDEX('LED Case Lighting'!$AX$3:$AX$16,MATCH('Analysis 103L'!CI31,'LED Case Lighting'!$AS$3:$AS$16,0)))","v":""},""]
[5,null,null,null,null,null,"",null,{"$f":"IF(K32=\"\",\"\",VLOOKUP(K32,'Equipment Type'!$A$1:$F$53,5,FALSE))","v":""},{"$f":"IF(K32=\"\",\"\",VLOOKUP(K32,'Equipment Type'!$A$1:$F$53,6,FALSE))","v":""},null,{"$f":"IF(K32=\"\",\"\",VLOOKUP(K32,'Equipment Type'!$A$1:$F$53,4,FALSE))","v":""},null,{"$f":"IF(K32=\"\",\"\",INDEX('Equipment Type'!$T$4:$T$53,MATCH('Analysis 103L'!K32,'Equipment Type'!$A$4:$A$53,0)))","v":""},{"$f":"IF(RIGHT(I32, 4)=\"Case\", \"\", IF(G32=\"\",\"\",((G32*H32)-(N32*P32))/(G32*H32)))","v":""},null,{"$f":"IF(RIGHT(I32, 4)=\"Case\", \"\", IF(P32=\"\",\"\",(IF(ISNUMBER(SEARCH(\"exit\",J32)),8760,IF(B32=\"Exterior\",4380,'Analysis 103L'!$J$3)))))","v":""},null,"",{"$f":"IF(RIGHT(I32, 4)=\"Case\", \"\", IF(P32=\"\",\"\",IF(ISERROR(AY32),0,AY32)))","v":""},{"$f":"IF(RIGHT(I32, 4)=\"Case\", \"\", IF(H32=\"\",\"\",(G32*H32)*Q32/1000))","v":""},{"$f":"IF(RIGHT(I32, 4)=\"Case\", \"\", IF(P32=\"\",\"\",(N32*P32)*Q32/1000))","v":""},{"$f":"IF(RIGHT(I32, 4)=\"Case\", IF(LEFT(J32, 6)=\"Motion\", \"\", CK32*P32), IF(U32=\"\",\"\",IF(AND(ISNUMBER(U32),ISNUMBER(V32)),U32-V32,\"\")))","v":""},"","",{"$f":"IF(M32 = \"Y\",IF(AND(M32=\"Y\",AG32=\"FAIL\"),\"Not Cost Effective\",\"\"),IF(AD32=1,\"Does not meet requirement\",\"\"))","v":""},{"$f":"IF('100L Information'!$Z$5=\"Yes\",0,IF('100L Information'!$Z$4=\"Yes\",(MIN($Y$232-(-$Y$227),6000)*0.5)*(Y32/$Y$232),$Y$232*(Y32/($Y$230+$Y$231))))","v":{"$error":"#VALUE!"}},"",{"$error":"#VALUE!"},{"$f":"IF(OR(I32=\"TLED\",I32=\"Relamp\",I32=\"LED_High_Bay\",I32=\"LED_Lamps\",I32=\"LED_Interior_Fixtures\",I32=\"LED_Exterior_Fixtures\",I32=\"Street_Lighting\", I32=\"LLLC\"),IF(((U32-V32)/U32)>=0.4,0,1),IF(LEFT(J32,3)=\"HID\",IF(((U32-V32)/U32)>=0.5,0,1),\"No requirement\"))","v":"No requirement"},0,{"$f":"IF(OR(Z32=\"Does not meet requirement\",AND('100L Information'!$AA$21=\"No\",AL32=\"Y\"),AND('100L Information'!$AS$21=FALSE,AL32=\"Y\")),0,IF(ISNUMBER(R32*Incent_Cost_Fixture_Rx),MIN(R32*Incent_Cost_Fixture_Rx,(MAX(AE32,AK32))),0))","v":0},{"$f":"IF(AND(M32=\"Y\",BR32=\"PASS/PASS\"),\"PASS/PASS\",\"FAIL\")","v":"FAIL"},"0","0","0",0,"N","0","0",null,"","",0,"",{"$f":"IF(RIGHT(I32,4)=\"Case\",W32,IF(AND(AL32=\"Y\",AF32<1),0,IF(OR(LEFT(D32,2)=\"T5\",LEFT(D32,3)=\"CFL\",'Analysis 103L'!AS32=\"Less\"),'Analysis 103L'!AR32,'Analysis 103L'!W32)))","v":""},null,{"$f":"IF($B32=\"Interior\",IF(ISNUMBER($G32*$H32),$G32*$H32,0), 0)","v":0},{"$f":"IF($B32=\"Interior\",IF(ISNUMBER($N32*$P32),$N32*$P32,0), 0)","v":0},null,{"$f":"IF(RIGHT(I32,4)=\"Case\",\"\",((G32*H32)-(N32*P32))/1000)","v":{"$error":"#VALUE!"}},{"$f":"IF(RIGHT(I32,4)=\"Case\",\"\", IF(W32=0,0,W32/U32))","v":{"$error":"#VALUE!"}},{"$f":"IF(RIGHT(I32,4)=\"Case\",IF(W32=0,0,R32/(W32*$F$9)),IF(W32=0,0,S32/(W32*$F$9)))","v":{"$error":"#VALUE!"}},null,null,{"$f":"IF(RIGHT(I32,4)=\"Case\",'LED Case Lighting'!$AY$1,IF(J32=\"\",\"\",VLOOKUP(J32,Lookups!$A$30:$J$149,VLOOKUP('100L Information'!$AI$46,Lookups!$J$3:$L$6,3,FALSE),FALSE)))","v":""},{"$error":"#N/A"},"",{"$f":"IF(BD32=\"\",\"\",$BF32+-PV(4.5%,BD32,CD32)/$AR32*$P32)","v":""},{"$error":"#VALUE!"},{"$error":"#VALUE!"},{"$error":"#VALUE!"},{"$error":"#N/A"},0,{"$error":"#N/A"},0,{"$f":"IF(RIGHT(I32,4)=\"Case\",R32/AR32,S32/AR32)","v":{"$error":"#VALUE!"}},{"$f":"BG32/BO32","v":{"$error":"#VALUE!"}},{"$f":"IF(ROUND(BP32,1)>=1, \"PASS\", \"FAIL\")","v":{"$error":"#VALUE!"}},{"$f":"IF(OR(NOT(ISERROR(BQ32)),NOT(ISERROR(BJ32))),BJ32&\"/\"&BQ32,\"FAIL\")","v":"FAIL"},null,7,"K-12 School","School Interior Lights","School Exterior Lights",0.31,null,"Condominium/HOA",null,"",null,{"$f":"IF(RIGHT(I32,4)=\"Case\",(INDEX('LED Case Lighting'!$AZ$3:$AZ$16,MATCH('Analysis 103L'!$CI32,'LED Case Lighting'!$AS$3:$AS$16,0))),IF(CB32=0,0,IF(CB32=\"lamp\",((Q32/VLOOKUP(B32,Int_Ext,2,FALSE))*VLOOKUP(E32,NEB,16,FALSE)),IF(CB32=\"fixture\",((Q32/VLOOKUP(B32,Int_Ext,2,FALSE))*VLOOKUP(E32,NEB,14,FALSE)),\"\"))))","v":""},null,{"$f":"IF(RIGHT(I32,4)=\"Case\",INDEX('Equipment Type'!$V$4:$V$53, MATCH('Analysis 103L'!$K32, 'Equipment Type'!$A$4:$A$53, 0)), \"\")","v":""},"","","",{"$f":"IF(CI32=\"\", \"\", IF(RIGHT(I32,4)=\"Case\", INDEX('LED Case Lighting'!$AR$3:$AR$16, MATCH('Analysis 103L'!CI32, 'LED Case Lighting'!$AS$3:$AS$16, 0)), \"\"))","v":""},{"$f":"IF(CI32=\"\",\"\",INDEX('LED Case Lighting'!$AW$3:$AW$16,MATCH('Analysis 103L'!CI32,'LED Case Lighting'!$AS$3:$AS$16,0)))","v":""},{"$f":"IF(CI32=\"\",\"\",INDEX('LED Case Lighting'!$AX$3:$AX$16,MATCH('Analysis 103L'!CI32,'LED Case Lighting'!$AS$3:$AS$16,0)))","v":""},""]
[6,null,null,null,null,null,"",null,{"$f":"IF(K33=\"\",\"\",VLOOKUP(K33,'Equipment Type'!$A$1:$F$53,5,FALSE))","v":""},{"$f":"IF(K33=\"\",\"\",VLOOKUP(K33,'Equipment Type'!$A$1:$F$53,6,FALSE))","v":""},null,{"$f":"IF(K33=\"\",\"\",VLOOKUP(K33,'Equipment Type'!$A$1:$F$53,4,FALSE))","v":""},null,{"$f":"IF(K33=\"\",\"\",INDEX('Equipment Type'!$T$4:$T$53,MATCH('Analysis 103L'!K33,'Equipment Type'!$A$4:$A$53,0)))","v":""},"",null,{"$f":"IF(RIGHT(I33, 4)=\"Case\", \"\", IF(P33=\"\",\"\",(IF(ISNUMBER(SEARCH(\"exit\",J33)),8760,IF(B33=\"Exterior\",4380,'Analysis 103L'!$J$3)))))","v":""},null,"","","","","",{"$f":"IF(M33=\"Y\",\"CustomCalc\",IF(RIGHT(I33, 4)=\"Case\", \"\",IF(AD33=1,\"\",IF(AF33>0,AF33,\"\"))))","v":""},"",{"$f":"IF(M33 = \"Y\",IF(AND(M33=\"Y\",AG33=\"FAIL\"),\"Not Cost Effective\",\"\"),IF(AD33=1,\"Does not meet requirement\",\"\"))","v":""},{"$f":"IF('100L Information'!$Z$5=\"Yes\",0,IF('100L Information'!$Z$4=\"Yes\",(MIN($Y$232-(-$Y$227),6000)*0.5)*(Y33/$Y$232),$Y$232*(Y33/($Y$230+$Y$231))))","v":{"$error":"#VALUE!"}},"",{"$error":"#VALUE!"},{"$f":"IF(OR(I33=\"TLED\",I33=\"Relamp\",I33=\"LED_High_Bay\",I33=\"LED_Lamps\",I33=\"LED_Interior_Fixtures\",I33=\"LED_Exterior_Fixtures\",I33=\"Street_Lighting\", I33=\"LLLC\"),IF(((U33-V33)/U33)>=0.4,0,1),IF(LEFT(J33,3)=\"HID\",IF(((U33-V33)/U33)>=0.5,0,1),\"No requirement\"))","v":"No requirement"},0,{"$f":"IF(OR(Z33=\"Does not meet requirement\",AND('100L Information'!$AA$21=\"No\",AL33=\"Y\"),AND('100L Information'!$AS$21=FALSE,AL33=\"Y\")),0,IF(ISNUMBER(R33*Incent_Cost_Fixture_Rx),MIN(R33*Incent_Cost_Fixture_Rx,(MAX(AE33,AK33))),0))","v":0},"FAIL","0","0","0",0,"N","0","0",null,"","",0,"",{"$f":"IF(RIGHT(I33,4)=\"Case\",W33,IF(AND(AL33=\"Y\",AF33<1),0,IF(OR(LEFT(D33,2)=\"T5\",LEFT(D33,3)=\"CFL\",'Analysis 103L'!AS33=\"Less\"),'Analysis 103L'!AR33,'Analysis 103L'!W33)))","v":""},null,0,0,null,{"$error":"#VALUE!"},{"$error":"#VALUE!"},{"$error":"#VALUE!"},null,null,{"$f":"IF(RIGHT(I33,4)=\"Case\",'LED Case Lighting'!$AY$1,IF(J33=\"\",\"\",VLOOKUP(J33,Lookups!$A$30:$J$149,VLOOKUP('100L Information'!$AI$46,Lookups!$J$3:$L$6,3,FALSE),FALSE)))","v":""},{"$error":"#N/A"},"","",{"$error":"#VALUE!"},{"$error":"#VALUE!"},{"$f":"IF(ROUND(BI33,1)>=1, \"PASS\", \"FAIL\")","v":{"$error":"#VALUE!"}},{"$error":"#N/A"},0,{"$error":"#N/A"},0,{"$error":"#VALUE!"},{"$error":"#VALUE!"},{"$error":"#VALUE!"},"FAIL",null,11,"Manufacturing","(determined by formula)","Other Exterior Lights",0.35,null,"Other",null,"",null,{"$f":"IF(RIGHT(I33,4)=\"Case\",(INDEX('LED Case Lighting'!$AZ$3:$AZ$16,MATCH('Analysis 103L'!$CI33,'LED Case Lighting'!$AS$3:$AS$16,0))),IF(CB33=0,0,IF(CB33=\"lamp\",((Q33/VLOOKUP(B33,Int_Ext,2,FALSE))*VLOOKUP(E33,NEB,16,FALSE)),IF(CB33=\"fixture\",((Q33/VLOOKUP(B33,Int_Ext,2,FALSE))*VLOOKUP(E33,NEB,14,FALSE)),\"\"))))","v":""},null,{"$f":"IF(RIGHT(I33,4)=\"Case\",INDEX('Equipment Type'!$V$4:$V$53, MATCH('Analysis 103L'!$K33, 'Equipment Type'!$A$4:$A$53, 0)), \"\")","v":""},"","","",{"$f":"IF(CI33=\"\", \"\", IF(RIGHT(I33,4)=\"Case\", INDEX('LED Case Lighting'!$AR$3:$AR$16, MATCH('Analysis 103L'!CI33, 'LED Case Lighting'!$AS$3:$AS$16, 0)), \"\"))","v":""},{"$f":"IF(CI33=\"\",\"\",INDEX('LED Case Lighting'!$AW$3:$AW$16,MATCH('Analysis 103L'!CI33,'LED Case Lighting'!$AS$3:$AS$16,0)))","v":""},{"$f":"IF(CI33=\"\",\"\",INDEX('LED Case Lighting'!$AX$3:$AX$16,MATCH('Analysis 103L'!CI33,'LED Case Lighting'!$AS$3:$AS$16,0)))","v":""},""]
[7,null,null,null,null,null,"",null,{"$f":"IF(K34=\"\",\"\",VLOOKUP(K34,'Equipment Type'!$A$1:$F$53,5,FALSE))","v":""},{"$f":"IF(K34=\"\",\"\",VLOOKUP(K34,'Equipment Type'!$A$1:$F$53,6,FALSE))","v":""},null,{"$f":"IF(K34=\"\",\"\",VLOOKUP(K34,'Equipment Type'!$A$1:$F$53,4,FALSE))","v":""},null,{"$f":"IF(K34=\"\",\"\",INDEX('Equipment Type'!$T$4:$T$53,MATCH('Analysis 103L'!K34,'Equipment Type'!$A$4:$A$53,0)))","v":""},"",null,{"$f":"IF(RIGHT(I34, 4)=\"Case\", \"\", IF(P34=\"\",\"\",(IF(ISNUMBER(SEARCH(\"exit\",J34)),8760,IF(B34=\"Exterior\",4380,'Analysis 103L'!$J$3)))))","v":""},null,"","","","","","",{"$f":"IF(RIGHT(I34, 4)=\"Case\", IF(LEFT(J34, 6)=\"Motion\", \"\", CM34), IF(AND(W34>0,ISNUMBER(X34)),X34*P34,IF(P34=\"\",\"\",IF(RIGHT(I34, 4)=\"Case\", IF(LEFT(J34, 6)=\"Motion\", \"\", CM34),IF(AND(X34=\"CustomCalc\",AG34=\"PASS/PASS\"),AC34,0)))))","v":""},"",{"$f":"IF('100L Information'!$Z$5=\"Yes\",0,IF('100L Information'!$Z$4=\"Yes\",(MIN($Y$232-(-$Y$227),6000)*0.5)*(Y34/$Y$232),$Y$232*(Y34/($Y$230+$Y$231))))","v":{"$error":"#VALUE!"}},"",{"$error":"#VALUE!"},"No requirement",0,{"$f":"IF(OR(Z34=\"Does not meet requirement\",AND('100L Information'!$AA$21=\"No\",AL34=\"Y\"),AND('100L Information'!$AS$21=FALSE,AL34=\"Y\")),0,IF(ISNUMBER(R34*Incent_Cost_Fixture_Rx),MIN(R34*Incent_Cost_Fixture_Rx,(MAX(AE34,AK34))),0))","v":0},"FAIL","0","0","0",0,"N","0","0",null,"","",0,"",{"$f":"IF(RIGHT(I34,4)=\"Case\",W34,IF(AND(AL34=\"Y\",AF34<1),0,IF(OR(LEFT(D34,2)=\"T5\",LEFT(D34,3)=\"CFL\",'Analysis 103L'!AS34=\"Less\"),'Analysis 103L'!AR34,'Analysis 103L'!W34)))","v":""},null,0,0,null,{"$error":"#VALUE!"},{"$error":"#VALUE!"},{"$error":"#VALUE!"},null,null,{"$f":"IF(RIGHT(I34,4)=\"Case\",'LED Case Lighting'!$AY$1,IF(J34=\"\",\"\",VLOOKUP(J34,Lookups!$A$30:$J$149,VLOOKUP('100L Information'!$AI$46,Lookups!$J$3:$L$6,3,FALSE),FALSE)))","v":""},{"$error":"#N/A"},"","",{"$error":"#VALUE!"},{"$error":"#VALUE!"},{"$error":"#VALUE!"},{"$error":"#N/A"},0,{"$error":"#N/A"},0,{"$error":"#VALUE!"},{"$error":"#VALUE!"},{"$error":"#VALUE!"},"FAIL",null,1,"Multifamily","Res Lighting","Other Exterior Lights",0.25,null,null,null,"",null,{"$f":"IF(RIGHT(I34,4)=\"Case\",(INDEX('LED Case Lighting'!$AZ$3:$AZ$16,MATCH('Analysis 103L'!$CI34,'LED Case Lighting'!$AS$3:$AS$16,0))),IF(CB34=0,0,IF(CB34=\"lamp\",((Q34/VLOOKUP(B34,Int_Ext,2,FALSE))*VLOOKUP(E34,NEB,16,FALSE)),IF(CB34=\"fixture\",((Q34/VLOOKUP(B34,Int_Ext,2,FALSE))*VLOOKUP(E34,NEB,14,FALSE)),\"\"))))","v":""},null,{"$f":"IF(RIGHT(I34,4)=\"Case\",INDEX('Equipment Type'!$V$4:$V$53, MATCH('Analysis 103L'!$K34, 'Equipment Type'!$A$4:$A$53, 0)), \"\")","v":""},"","","",{"$f":"IF(CI34=\"\", \"\", IF(RIGHT(I34,4)=\"Case\", INDEX('LED Case Lighting'!$AR$3:$AR$16, MATCH('Analysis 103L'!CI34, 'LED Case Lighting'!$AS$3:$AS$16, 0)), \"\"))","v":""},{"$f":"IF(CI34=\"\",\"\",INDEX('LED Case Lighting'!$AW$3:$AW$16,MATCH('Analysis 103L'!CI34,'LED Case Lighting'!$AS$3:$AS$16,0)))","v":""},{"$f":"IF(CI34=\"\",\"\",INDEX('LED Case Lighting'!$AX$3:$AX$16,MATCH('Analysis 103L'!CI34,'LED Case Lighting'!$AS$3:$AS$16,0)))","v":""},""]
[8,null,null,null,null,null,"",null,{"$f":"IF(K35=\"\",\"\",VLOOKUP(K35,'Equipment Type'!$A$1:$F$53,5,FALSE))","v":""},{"$f":"IF(K35=\"\",\"\",VLOOKUP(K35,'Equipment Type'!$A$1:$F$53,6,FALSE))","v":""},null,{"$f":"IF(K35=\"\",\"\",VLOOKUP(K35,'Equipment Type'!$A$1:$F$53,4,FALSE))","v":""},null,{"$f":"IF(K35=\"\",\"\",INDEX('Equipment Type'!$T$4:$T$53,MATCH('Analysis 103L'!K35,'Equipment Type'!$A$4:$A$53,0)))","v":""},"",null,{"$f":"IF(RIGHT(I35, 4)=\"Case\", \"\", IF(P35=\"\",\"\",(IF(ISNUMBER(SEARCH(\"exit\",J35)),8760,IF(B35=\"Exterior\",4380,'Analysis 103L'!$J$3)))))","v":""},null,"","","","","","","","",{"$f":"IF('100L Information'!$Z$5=\"Yes\",0,IF('100L Information'!$Z$4=\"Yes\",(MIN($Y$232-(-$Y$227),6000)*0.5)*(Y35/$Y$232),$Y$232*(Y35/($Y$230+$Y$231))))","v":{"$error":"#VALUE!"}},"",{"$error":"#VALUE!"},"No requirement",0,{"$f":"IF(OR(Z35=\"Does not meet requirement\",AND('100L Information'!$AA$21=\"No\",AL35=\"Y\"),AND('100L Information'!$AS$21=FALSE,AL35=\"Y\")),0,IF(ISNUMBER(R35*Incent_Cost_Fixture_Rx),MIN(R35*Incent_Cost_Fixture_Rx,(MAX(AE35,AK35))),0))","v":0},"FAIL","0","0","0",0,"N","0","0",null,"","",0,"",{"$f":"IF(RIGHT(I35,4)=\"Case\",W35,IF(AND(AL35=\"Y\",AF35<1),0,IF(OR(LEFT(D35,2)=\"T5\",LEFT(D35,3)=\"CFL\",'Analysis 103L'!AS35=\"Less\"),'Analysis 103L'!AR35,'Analysis 103L'!W35)))","v":""},null,0,0,null,{"$error":"#VALUE!"},{"$error":"#VALUE!"},{"$error":"#VALUE!"},null,null,{"$f":"IF(RIGHT(I35,4)=\"Case\",'LED Case Lighting'!$AY$1,IF(J35=\"\",\"\",VLOOKUP(J35,Lookups!$A$30:$J$149,VLOOKUP('100L Information'!$AI$46,Lookups!$J$3:$L$6,3,FALSE),FALSE)))","v":""},{"$error":"#N/A"},"","",{"$error":"#VALUE!"},{"$error":"#VALUE!"},{"$error":"#VALUE!"},{"$f":"VLOOKUP(E35,ExistFixtCat,3,FALSE)/(H35*IF(ISNUMBER(VALUE(MID(E35,5,1))),VALUE(MID(E35,5,1)),1)*Q35)","v":{"$error":"#N/A"}},{"$f":"IF(ISERROR(-PV(POWER(1+Discount_Rate,$BK35)-1,$BD35/$BK35,10+VLOOKUP($E35,ExistFixtCat,2,FALSE))),0,-PV(POWER(1+Discount_Rate,$BK35)-1,$BD35/$BK35,10+VLOOKUP($E35,ExistFixtCat,2,FALSE)))","v":0},{"$f":"VLOOKUP($J35,PropOpLife,3,FALSE)/($P35*IF(ISNUMBER(VALUE(MID($J35,5,1))),VALUE(MID($J35,5,1)),1)*$Q35)","v":{"$error":"#N/A"}},0,{"$error":"#VALUE!"},{"$error":"#VALUE!"},{"$error":"#VALUE!"},"FAIL",null,2,"Office",{"$f":"IF('100L Information'!$U$31>2875, \"Large Office Interior Lights\", \"Small Office Interior Lights\")","v":"Large Office Interior Lights"},{"$f":"IF('100L Information'!$U$31>2875, \"Large Office Exterior Lights\", \"Small Office Exterior Lights\")","v":"Large Office Exterior Lights"},0.23,null,null,null,"",null,{"$f":"IF(RIGHT(I35,4)=\"Case\",(INDEX('LED Case Lighting'!$AZ$3:$AZ$16,MATCH('Analysis 103L'!$CI35,'LED Case Lighting'!$AS$3:$AS$16,0))),IF(CB35=0,0,IF(CB35=\"lamp\",((Q35/VLOOKUP(B35,Int_Ext,2,FALSE))*VLOOKUP(E35,NEB,16,FALSE)),IF(CB35=\"fixture\",((Q35/VLOOKUP(B35,Int_Ext,2,FALSE))*VLOOKUP(E35,NEB,14,FALSE)),\"\"))))","v":""},null,{"$f":"IF(RIGHT(I35,4)=\"Case\",INDEX('Equipment Type'!$V$4:$V$53, MATCH('Analysis 103L'!$K35, 'Equipment Type'!$A$4:$A$53, 0)), \"\")","v":""},{"$f":"IF(LEFT(D35,3)=\"T12\",\"T12\",IF(OR(LEFT(D35,2)=\"T8\",(LEFT(D35,2)=\"T5\")),\"T8\",\"\"))","v":""},"","",{"$f":"IF(CI35=\"\", \"\", IF(RIGHT(I35,4)=\"Case\", INDEX('LED Case Lighting'!$AR$3:$AR$16, MATCH('Analysis 103L'!CI35, 'LED Case Lighting'!$AS$3:$AS$16, 0)), \"\"))","v":""},{"$f":"IF(CI35=\"\",\"\",INDEX('LED Case Lighting'!$AW$3:$AW$16,MATCH('Analysis 103L'!CI35,'LED Case Lighting'!$AS$3:$AS$16,0)))","v":""},{"$f":"IF(CI35=\"\",\"\",INDEX('LED Case Lighting'!$AX$3:$AX$16,MATCH('Analysis 103L'!CI35,'LED Case Lighting'!$AS$3:$AS$16,0)))","v":""},{"$f":"IF(CL35=\"\",\"\",MIN(R35*Incent_Cost_Case,(P35*CL35)))","v":""}]
[9,null,null,null,null,null,"",null,{"$f":"IF(K36=\"\",\"\",VLOOKUP(K36,'Equipment Type'!$A$1:$F$53,5,FALSE))","v":""},{"$f":"IF(K36=\"\",\"\",VLOOKUP(K36,'Equipment Type'!$A$1:$F$53,6,FALSE))","v":""},null,{"$f":"IF(K36=\"\",\"\",VLOOKUP(K36,'Equipment Type'!$A$1:$F$53,4,FALSE))","v":""},null,{"$f":"IF(K36=\"\",\"\",INDEX('Equipment Type'!$T$4:$T$53,MATCH('Analysis 103L'!K36,'Equipment Type'!$A$4:$A$53,0)))","v":""},"",null,{"$f":"IF(RIGHT(I36, 4)=\"Case\", \"\", IF(P36=\"\",\"\",(IF(ISNUMBER(SEARCH(\"exit\",J36)),8760,IF(B36=\"Exterior\",4380,'Analysis 103L'!$J$3)))))","v":""},null,"","","","","","","","",{"$f":"IF('100L Information'!$Z$5=\"Yes\",0,IF('100L Information'!$Z$4=\"Yes\",(MIN($Y$232-(-$Y$227),6000)*0.5)*(Y36/$Y$232),$Y$232*(Y36/($Y$230+$Y$231))))","v":{"$error":"#VALUE!"}},"",{"$error":"#VALUE!"},"No requirement",0,{"$f":"IF(OR(Z36=\"Does not meet requirement\",AND('100L Information'!$AA$21=\"No\",AL36=\"Y\"),AND('100L Information'!$AS$21=FALSE,AL36=\"Y\")),0,IF(ISNUMBER(R36*Incent_Cost_Fixture_Rx),MIN(R36*Incent_Cost_Fixture_Rx,(MAX(AE36,AK36))),0))","v":0},"FAIL","0","0","0",0,"N","0","0",null,"","",0,"",{"$f":"IF(RIGHT(I36,4)=\"Case\",W36,IF(AND(AL36=\"Y\",AF36<1),0,IF(OR(LEFT(D36,2)=\"T5\",LEFT(D36,3)=\"CFL\",'Analysis 103L'!AS36=\"Less\"),'Analysis 103L'!AR36,'Analysis 103L'!W36)))","v":""},null,0,0,null,{"$error":"#VALUE!"},{"$error":"#VALUE!"},{"$error":"#VALUE!"},null,null,{"$f":"IF(RIGHT(I36,4)=\"Case\",'LED Case Lighting'!$AY$1,IF(J36=\"\",\"\",VLOOKUP(J36,Lookups!$A$30:$J$149,VLOOKUP('100L Information'!$AI$46,Lookups!$J$3:$L$6,3,FALSE),FALSE)))","v":""},{"$error":"#N/A"},"","",{"$error":"#VALUE!"},{"$error":"#VALUE!"},{"$error":"#VALUE!"},{"$error":"#N/A"},0,{"$error":"#N/A"},0,{"$error":"#VALUE!"},{"$error":"#VALUE!"},{"$error":"#VALUE!"},"FAIL",null,13,"Other","Other Interior Lights","Other Exterior Lights",0.25,null,null,null,"",null,{"$f":"IF(RIGHT(I36,4)=\"Case\",(INDEX('LED Case Lighting'!$AZ$3:$AZ$16,MATCH('Analysis 103L'!$CI36,'LED Case Lighting'!$AS$3:$AS$16,0))),IF(CB36=0,0,IF(CB36=\"lamp\",((Q36/VLOOKUP(B36,Int_Ext,2,FALSE))*VLOOKUP(E36,NEB,16,FALSE)),IF(CB36=\"fixture\",((Q36/VLOOKUP(B36,Int_Ext,2,FALSE))*VLOOKUP(E36,NEB,14,FALSE)),\"\"))))","v":""},null,{"$f":"IF(RIGHT(I36,4)=\"Case\",INDEX('Equipment Type'!$V$4:$V$53, MATCH('Analysis 103L'!$K36, 'Equipment Type'!$A$4:$A$53, 0)), \"\")","v":""},{"$f":"IF(LEFT(D36,3)=\"T12\",\"T12\",IF(OR(LEFT(D36,2)=\"T8\",(LEFT(D36,2)=\"T5\")),\"T8\",\"\"))","v":""},"","",{"$f":"IF(CI36=\"\", \"\", IF(RIGHT(I36,4)=\"Case\", INDEX('LED Case Lighting'!$AR$3:$AR$16, MATCH('Analysis 103L'!CI36, 'LED Case Lighting'!$AS$3:$AS$16, 0)), \"\"))","v":""},{"$f":"IF(CI36=\"\",\"\",INDEX('LED Case Lighting'!$AW$3:$AW$16,MATCH('Analysis 103L'!CI36,'LED Case Lighting'!$AS$3:$AS$16,0)))","v":""},{"$f":"IF(CI36=\"\",\"\",INDEX('LED Case Lighting'!$AX$3:$AX$16,MATCH('Analysis 103L'!CI36,'LED Case Lighting'!$AS$3:$AS$16,0)))","v":""},""]
[10,null,null,null,null,null,"",null,{"$f":"IF(K37=\"\",\"\",VLOOKUP(K37,'Equipment Type'!$A$1:$F$53,5,FALSE))","v":""},{"$f":"IF(K37=\"\",\"\",VLOOKUP(K37,'Equipment Type'!$A$1:$F$53,6,FALSE))","v":""},null,{"$f":"IF(K37=\"\",\"\",VLOOKUP(K37,'Equipment Type'!$A$1:$F$53,4,FALSE))","v":""},null,{"$f":"IF(K37=\"\",\"\",INDEX('Equipment Type'!$T$4:$T$53,MATCH('Analysis 103L'!K37,'Equipment Type'!$A$4:$A$53,0)))","v":""},"",null,{"$f":"IF(RIGHT(I37, 4)=\"Case\", \"\", IF(P37=\"\",\"\",(IF(ISNUMBER(SEARCH(\"exit\",J37)),8760,IF(B37=\"Exterior\",4380,'Analysis 103L'!$J$3)))))","v":""},null,"","","","","","","","",{"$f":"IF('100L Information'!$Z$5=\"Yes\",0,IF('100L Information'!$Z$4=\"Yes\",(MIN($Y$232-(-$Y$227),6000)*0.5)*(Y37/$Y$232),$Y$232*(Y37/($Y$230+$Y$231))))","v":{"$error":"#VALUE!"}},"",{"$error":"#VALUE!"},"No requirement",0,{"$f":"IF(OR(Z37=\"Does not meet requirement\",AND('100L Information'!$AA$21=\"No\",AL37=\"Y\"),AND('100L Information'!$AS$21=FALSE,AL37=\"Y\")),0,IF(ISNUMBER(R37*Incent_Cost_Fixture_Rx),MIN(R37*Incent_Cost_Fixture_Rx,(MAX(AE37,AK37))),0))","v":0},"FAIL","0","0","0",0,"N","0","0",null,"","",0,"",{"$f":"IF(RIGHT(I37,4)=\"Case\",W37,IF(AND(AL37=\"Y\",AF37<1),0,IF(OR(LEFT(D37,2)=\"T5\",LEFT(D37,3)=\"CFL\",'Analysis 103L'!AS37=\"Less\"),'Analysis 103L'!AR37,'Analysis 103L'!W37)))","v":""},null,0,0,null,{"$error":"#VALUE!"},{"$error":"#VALUE!"},{"$error":"#VALUE!"},null,null,{"$f":"IF(RIGHT(I37,4)=\"Case\",'LED Case Lighting'!$AY$1,IF(J37=\"\",\"\",VLOOKUP(J37,Lookups!$A$30:$J$149,VLOOKUP('100L Information'!$AI$46,Lookups!$J$3:$L$6,3,FALSE),FALSE)))","v":""},{"$error":"#N/A"},"","",{"$error":"#VALUE!"},{"$error":"#VALUE!"},{"$error":"#VALUE!"},{"$f":"VLOOKUP(E37,ExistFixtCat,3,FALSE)/(H37*IF(ISNUMBER(VALUE(MID(E37,5,1))),VALUE(MID(E37,5,1)),1)*Q37)","v":{"$error":"#N/A"}},0,{"$error":"#N/A"},0,{"$error":"#VALUE!"},{"$error":"#VALUE!"},{"$error":"#VALUE!"},"FAIL",null,6,"Restaurant","Restaurant Interior Lights","Restaurant Exterior Lights",0.25,null,null,null,"",null,{"$f":"IF(RIGHT(I37,4)=\"Case\",(INDEX('LED Case Lighting'!$AZ$3:$AZ$16,MATCH('Analysis 103L'!$CI37,'LED Case Lighting'!$AS$3:$AS$16,0))),IF(CB37=0,0,IF(CB37=\"lamp\",((Q37/VLOOKUP(B37,Int_Ext,2,FALSE))*VLOOKUP(E37,NEB,16,FALSE)),IF(CB37=\"fixture\",((Q37/VLOOKUP(B37,Int_Ext,2,FALSE))*VLOOKUP(E37,NEB,14,FALSE)),\"\"))))","v":""},null,{"$f":"IF(RIGHT(I37,4)=\"Case\",INDEX('Equipment Type'!$V$4:$V$53, MATCH('Analysis 103L'!$K37, 'Equipment Type'!$A$4:$A$53, 0)), \"\")","v":""},{"$f":"IF(LEFT(D37,3)=\"T12\",\"T12\",IF(OR(LEFT(D37,2)=\"T8\",(LEFT(D37,2)=\"T5\")),\"T8\",\"\"))","v":""},"","",{"$f":"IF(CI37=\"\", \"\", IF(RIGHT(I37,4)=\"Case\", INDEX('LED Case Lighting'!$AR$3:$AR$16, MATCH('Analysis 103L'!CI37, 'LED Case Lighting'!$AS$3:$AS$16, 0)), \"\"))","v":""},{"$f":"IF(CI37=\"\",\"\",INDEX('LED Case Lighting'!$AW$3:$AW$16,MATCH('Analysis 103L'!CI37,'LED Case Lighting'!$AS$3:$AS$16,0)))","v":""},{"$f":"IF(CI37=\"\",\"\",INDEX('LED Case Lighting'!$AX$3:$AX$16,MATCH('Analysis 103L'!CI37,'LED Case Lighting'!$AS$3:$AS$16,0)))","v":""},""]
[11,null,null,null,null,null,"",null,{"$f":"IF(K38=\"\",\"\",VLOOKUP(K38,'Equipment Type'!$A$1:$F$53,5,FALSE))","v":""},{"$f":"IF(K38=\"\",\"\",VLOOKUP(K38,'Equipment Type'!$A$1:$F$53,6,FALSE))","v":""},null,{"$f":"IF(K38=\"\",\"\",VLOOKUP(K38,'Equipment Type'!$A$1:$F$53,4,FALSE))","v":""},null,{"$f":"IF(K38=\"\",\"\",INDEX('Equipment Type'!$T$4:$T$53,MATCH('Analysis 103L'!K38,'Equipment Type'!$A$4:$A$53,0)))","v":""},"",null,{"$f":"IF(RIGHT(I38, 4)=\"Case\", \"\", IF(P38=\"\",\"\",(IF(ISNUMBER(SEARCH(\"exit\",J38)),8760,IF(B38=\"Exterior\",4380,'Analysis 103L'!$J$3)))))","v":""},null,"","","","","","","","",{"$f":"IF('100L Information'!$Z$5=\"Yes\",0,IF('100L Information'!$Z$4=\"Yes\",(MIN($Y$232-(-$Y$227),6000)*0.5)*(Y38/$Y$232),$Y$232*(Y38/($Y$230+$Y$231))))","v":{"$error":"#VALUE!"}},{"$f":"IF(W38=\"\",\"\",W38*$D$23)","v":""},{"$error":"#VALUE!"},"No requirement",0,{"$f":"IF(OR(Z38=\"Does not meet requirement\",AND('100L Information'!$AA$21=\"No\",AL38=\"Y\"),AND('100L Information'!$AS$21=FALSE,AL38=\"Y\")),0,IF(ISNUMBER(R38*Incent_Cost_Fixture_Rx),MIN(R38*Incent_Cost_Fixture_Rx,(MAX(AE38,AK38))),0))","v":0},"FAIL","0","0","0",0,"N","0","0",null,"","",0,"",{"$f":"IF(RIGHT(I38,4)=\"Case\",W38,IF(AND(AL38=\"Y\",AF38<1),0,IF(OR(LEFT(D38,2)=\"T5\",LEFT(D38,3)=\"CFL\",'Analysis 103L'!AS38=\"Less\"),'Analysis 103L'!AR38,'Analysis 103L'!W38)))","v":""},null,0,0,null,{"$error":"#VALUE!"},{"$error":"#VALUE!"},{"$error":"#VALUE!"},null,null,{"$f":"IF(RIGHT(I38,4)=\"Case\",'LED Case Lighting'!$AY$1,IF(J38=\"\",\"\",VLOOKUP(J38,Lookups!$A$30:$J$149,VLOOKUP('100L Information'!$AI$46,Lookups!$J$3:$L$6,3,FALSE),FALSE)))","v":""},{"$error":"#N/A"},"","",{"$error":"#VALUE!"},{"$error":"#VALUE!"},{"$error":"#VALUE!"},{"$error":"#N/A"},0,{"$error":"#N/A"},0,{"$error":"#VALUE!"},{"$error":"#VALUE!"},{"$error":"#VALUE!"},"FAIL",null,3,"Retail","Retail Interior Lights","Retail Exterior Lights",0.05,null,"Y/N",null,"",null,{"$f":"IF(RIGHT(I38,4)=\"Case\",(INDEX('LED Case Lighting'!$AZ$3:$AZ$16,MATCH('Analysis 103L'!$CI38,'LED Case Lighting'!$AS$3:$AS$16,0))),IF(CB38=0,0,IF(CB38=\"lamp\",((Q38/VLOOKUP(B38,Int_Ext,2,FALSE))*VLOOKUP(E38,NEB,16,FALSE)),IF(CB38=\"fixture\",((Q38/VLOOKUP(B38,Int_Ext,2,FALSE))*VLOOKUP(E38,NEB,14,FALSE)),\"\"))))","v":""},null,{"$f":"IF(RIGHT(I38,4)=\"Case\",INDEX('Equipment Type'!$V$4:$V$53, MATCH('Analysis 103L'!$K38, 'Equipment Type'!$A$4:$A$53, 0)), \"\")","v":""},{"$f":"IF(LEFT(D38,3)=\"T12\",\"T12\",IF(OR(LEFT(D38,2)=\"T8\",(LEFT(D38,2)=\"T5\")),\"T8\",\"\"))","v":""},"","",{"$f":"IF(CI38=\"\", \"\", IF(RIGHT(I38,4)=\"Case\", INDEX('LED Case Lighting'!$AR$3:$AR$16, MATCH('Analysis 103L'!CI38, 'LED Case Lighting'!$AS$3:$AS$16, 0)), \"\"))","v":""},{"$f":"IF(CI38=\"\",\"\",INDEX('LED Case Lighting'!$AW$3:$AW$16,MATCH('Analysis 103L'!CI38,'LED Case Lighting'!$AS$3:$AS$16,0)))","v":""},{"$f":"IF(CI38=\"\",\"\",INDEX('LED Case Lighting'!$AX$3:$AX$16,MATCH('Analysis 103L'!CI38,'LED Case Lighting'!$AS$3:$AS$16,0)))","v":""},""]
[12,null,null,null,null,null,"",null,{"$f":"IF(K39=\"\",\"\",VLOOKUP(K39,'Equipment Type'!$A$1:$F$53,5,FALSE))","v":""},{"$f":"IF(K39=\"\",\"\",VLOOKUP(K39,'Equipment Type'!$A$1:$F$53,6,FALSE))","v":""},null,{"$f":"IF(K39=\"\",\"\",VLOOKUP(K39,'Equipment Type'!$A$1:$F$53,4,FALSE))","v":""},null,{"$f":"IF(K39=\"\",\"\",INDEX('Equipment Type'!$T$4:$T$53,MATCH('Analysis 103L'!K39,'Equipment Type'!$A$4:$A$53,0)))","v":""},"",null,{"$f":"IF(RIGHT(I39, 4)=\"Case\", \"\", IF(P39=\"\",\"\",(IF(ISNUMBER(SEARCH(\"exit\",J39)),8760,IF(B39=\"Exterior\",4380,'Analysis 103L'!$J$3)))))","v":""},null,{"$f":"IF(RIGHT(I39, 4)=\"Case\", IF(LEFT(J39, 6)=\"Motion\", \"\", \"<-- Enter total cost.\"), IF(P39=\"\",\"\",IF(AND(AL39=\"Y\",X39=\"\"),\"\",P39*R39)))","v":""},"","","","","","","",{"$f":"IF('100L Information'!$Z$5=\"Yes\",0,IF('100L Information'!$Z$4=\"Yes\",(MIN($Y$232-(-$Y$227),6000)*0.5)*(Y39/$Y$232),$Y$232*(Y39/($Y$230+$Y$231))))","v":{"$error":"#VALUE!"}},{"$f":"IF(W39=\"\",\"\",W39*$D$23)","v":""},{"$error":"#VALUE!"},"No requirement",0,{"$f":"IF(OR(Z39=\"Does not meet requirement\",AND('100L Information'!$AA$21=\"No\",AL39=\"Y\"),AND('100L Information'!$AS$21=FALSE,AL39=\"Y\")),0,IF(ISNUMBER(R39*Incent_Cost_Fixture_Rx),MIN(R39*Incent_Cost_Fixture_Rx,(MAX(AE39,AK39))),0))","v":0},"FAIL","0","0","0",0,"N","0","0",null,"","",0,"",{"$f":"IF(RIGHT(I39,4)=\"Case\",W39,IF(AND(AL39=\"Y\",AF39<1),0,IF(OR(LEFT(D39,2)=\"T5\",LEFT(D39,3)=\"CFL\",'Analysis 103L'!AS39=\"Less\"),'Analysis 103L'!AR39,'Analysis 103L'!W39)))","v":""},null,0,0,null,{"$error":"#VALUE!"},{"$error":"#VALUE!"},{"$error":"#VALUE!"},null,null,{"$f":"IF(RIGHT(I39,4)=\"Case\",'LED Case Lighting'!$AY$1,IF(J39=\"\",\"\",VLOOKUP(J39,Lookups!$A$30:$J$149,VLOOKUP('100L Information'!$AI$46,Lookups!$J$3:$L$6,3,FALSE),FALSE)))","v":""},{"$error":"#N/A"},"","",{"$error":"#VALUE!"},{"$error":"#VALUE!"},{"$error":"#VALUE!"},{"$error":"#N/A"},0,{"$error":"#N/A"},0,{"$error":"#VALUE!"},{"$error":"#VALUE!"},{"$error":"#VALUE!"},"FAIL",null,12,"Street Lighting","Street Lighting","Street Lighting",0.25,null,"Y",null,"",null,{"$f":"IF(RIGHT(I39,4)=\"Case\",(INDEX('LED Case Lighting'!$AZ$3:$AZ$16,MATCH('Analysis 103L'!$CI39,'LED Case Lighting'!$AS$3:$AS$16,0))),IF(CB39=0,0,IF(CB39=\"lamp\",((Q39/VLOOKUP(B39,Int_Ext,2,FALSE))*VLOOKUP(E39,NEB,16,FALSE)),IF(CB39=\"fixture\",((Q39/VLOOKUP(B39,Int_Ext,2,FALSE))*VLOOKUP(E39,NEB,14,FALSE)),\"\"))))","v":""},null,{"$f":"IF(RIGHT(I39,4)=\"Case\",INDEX('Equipment Type'!$V$4:$V$53, MATCH('Analysis 103L'!$K39, 'Equipment Type'!$A$4:$A$53, 0)), \"\")","v":""},{"$f":"IF(LEFT(D39,3)=\"T12\",\"T12\",IF(OR(LEFT(D39,2)=\"T8\",(LEFT(D39,2)=\"T5\")),\"T8\",\"\"))","v":""},"","",{"$f":"IF(CI39=\"\", \"\", IF(RIGHT(I39,4)=\"Case\", INDEX('LED Case Lighting'!$AR$3:$AR$16, MATCH('Analysis 103L'!CI39, 'LED Case Lighting'!$AS$3:$AS$16, 0)), \"\"))","v":""},{"$f":"IF(CI39=\"\",\"\",INDEX('LED Case Lighting'!$AW$3:$AW$16,MATCH('Analysis 103L'!CI39,'LED Case Lighting'!$AS$3:$AS$16,0)))","v":""},{"$f":"IF(CI39=\"\",\"\",INDEX('LED Case Lighting'!$AX$3:$AX$16,MATCH('Analysis 103L'!CI39,'LED Case Lighting'!$AS$3:$AS$16,0)))","v":""},""]
[13,null,null,null,null,null,"",null,{"$f":"IF(K40=\"\",\"\",VLOOKUP(K40,'Equipment Type'!$A$1:$F$53,5,FALSE))","v":""},{"$f":"IF(K40=\"\",\"\",VLOOKUP(K40,'Equipment Type'!$A$1:$F$53,6,FALSE))","v":""},null,{"$f":"IF(K40=\"\",\"\",VLOOKUP(K40,'Equipment Type'!$A$1:$F$53,4,FALSE))","v":""},null,{"$f":"IF(K40=\"\",\"\",INDEX('Equipment Type'!$T$4:$T$53,MATCH('Analysis 103L'!K40,'Equipment Type'!$A$4:$A$53,0)))","v":""},"",null,{"$f":"IF(RIGHT(I40, 4)=\"Case\", \"\", IF(P40=\"\",\"\",(IF(ISNUMBER(SEARCH(\"exit\",J40)),8760,IF(B40=\"Exterior\",4380,'Analysis 103L'!$J$3)))))","v":""},null,"","","","","","","","",{"$f":"IF('100L Information'!$Z$5=\"Yes\",0,IF('100L Information'!$Z$4=\"Yes\",(MIN($Y$232-(-$Y$227),6000)*0.5)*(Y40/$Y$232),$Y$232*(Y40/($Y$230+$Y$231))))","v":{"$error":"#VALUE!"}},"",{"$error":"#VALUE!"},"No requirement",0,{"$f":"IF(OR(Z40=\"Does not meet requirement\",AND('100L Information'!$AA$21=\"No\",AL40=\"Y\"),AND('100L Information'!$AS$21=FALSE,AL40=\"Y\")),0,IF(ISNUMBER(R40*Incent_Cost_Fixture_Rx),MIN(R40*Incent_Cost_Fixture_Rx,(MAX(AE40,AK40))),0))","v":0},"FAIL","0","0","0",0,"N","0","0",null,"","",0,"",{"$f":"IF(RIGHT(I40,4)=\"Case\",W40,IF(AND(AL40=\"Y\",AF40<1),0,IF(OR(LEFT(D40,2)=\"T5\",LEFT(D40,3)=\"CFL\",'Analysis 103L'!AS40=\"Less\"),'Analysis 103L'!AR40,'Analysis 103L'!W40)))","v":""},null,0,0,null,{"$f":"IF(RIGHT(I40,4)=\"Case\",\"\",((G40*H40)-(N40*P40))/1000)","v":{"$error":"#VALUE!"}},{"$f":"IF(RIGHT(I40,4)=\"Case\",\"\", IF(W40=0,0,W40/U40))","v":{"$error":"#VALUE!"}},{"$f":"IF(RIGHT(I40,4)=\"Case\",IF(W40=0,0,R40/(W40*$F$9)),IF(W40=0,0,S40/(W40*$F$9)))","v":{"$error":"#VALUE!"}},null,null,{"$f":"IF(RIGHT(I40,4)=\"Case\",'LED Case Lighting'!$AY$1,IF(J40=\"\",\"\",VLOOKUP(J40,Lookups!$A$30:$J$149,VLOOKUP('100L Information'!$AI$46,Lookups!$J$3:$L$6,3,FALSE),FALSE)))","v":""},{"$error":"#N/A"},"","",{"$error":"#VALUE!"},{"$error":"#VALUE!"},{"$error":"#VALUE!"},{"$error":"#N/A"},0,{"$error":"#N/A"},0,{"$error":"#VALUE!"},{"$error":"#VALUE!"},{"$error":"#VALUE!"},"FAIL",null,9,"Warehouse","Warehouse Interior Lights","Warehouse Exterior Lights",0.35,null,"N",null,"",null,{"$f":"IF(RIGHT(I40,4)=\"Case\",(INDEX('LED Case Lighting'!$AZ$3:$AZ$16,MATCH('Analysis 103L'!$CI40,'LED Case Lighting'!$AS$3:$AS$16,0))),IF(CB40=0,0,IF(CB40=\"lamp\",((Q40/VLOOKUP(B40,Int_Ext,2,FALSE))*VLOOKUP(E40,NEB,16,FALSE)),IF(CB40=\"fixture\",((Q40/VLOOKUP(B40,Int_Ext,2,FALSE))*VLOOKUP(E40,NEB,14,FALSE)),\"\"))))","v":""},null,{"$f":"IF(RIGHT(I40,4)=\"Case\",INDEX('Equipment Type'!$V$4:$V$53, MATCH('Analysis 103L'!$K40, 'Equipment Type'!$A$4:$A$53, 0)), \"\")","v":""},{"$f":"IF(LEFT(D40,3)=\"T12\",\"T12\",IF(OR(LEFT(D40,2)=\"T8\",(LEFT(D40,2)=\"T5\")),\"T8\",\"\"))","v":""},"","",{"$f":"IF(CI40=\"\", \"\", IF(RIGHT(I40,4)=\"Case\", INDEX('LED Case Lighting'!$AR$3:$AR$16, MATCH('Analysis 103L'!CI40, 'LED Case Lighting'!$AS$3:$AS$16, 0)), \"\"))","v":""},{"$f":"IF(CI40=\"\",\"\",INDEX('LED Case Lighting'!$AW$3:$AW$16,MATCH('Analysis 103L'!CI40,'LED Case Lighting'!$AS$3:$AS$16,0)))","v":""},{"$f":"IF(CI40=\"\",\"\",INDEX('LED Case Lighting'!$AX$3:$AX$16,MATCH('Analysis 103L'!CI40,'LED Case Lighting'!$AS$3:$AS$16,0)))","v":""},""]
[14,null,null,null,null,null,"",null,{"$f":"IF(K41=\"\",\"\",VLOOKUP(K41,'Equipment Type'!$A$1:$F$53,5,FALSE))","v":""},{"$f":"IF(K41=\"\",\"\",VLOOKUP(K41,'Equipment Type'!$A$1:$F$53,6,FALSE))","v":""},null,{"$f":"IF(K41=\"\",\"\",VLOOKUP(K41,'Equipment Type'!$A$1:$F$53,4,FALSE))","v":""},null,{"$f":"IF(K41=\"\",\"\",INDEX('Equipment Type'!$T$4:$T$53,MATCH('Analysis 103L'!K41,'Equipment Type'!$A$4:$A$53,0)))","v":""},"",null,{"$f":"IF(RIGHT(I41, 4)=\"Case\", \"\", IF(P41=\"\",\"\",(IF(ISNUMBER(SEARCH(\"exit\",J41)),8760,IF(B41=\"Exterior\",4380,'Analysis 103L'!$J$3)))))","v":""},null,"","","","","","","","",{"$f":"IF('100L Information'!$Z$5=\"Yes\",0,IF('100L Information'!$Z$4=\"Yes\",(MIN($Y$232-(-$Y$227),6000)*0.5)*(Y41/$Y$232),$Y$232*(Y41/($Y$230+$Y$231))))","v":{"$error":"#VALUE!"}},"",{"$error":"#VALUE!"},"No requirement",0,{"$f":"IF(OR(Z41=\"Does not meet requirement\",AND('100L Information'!$AA$21=\"No\",AL41=\"Y\"),AND('100L Information'!$AS$21=FALSE,AL41=\"Y\")),0,IF(ISNUMBER(R41*Incent_Cost_Fixture_Rx),MIN(R41*Incent_Cost_Fixture_Rx,(MAX(AE41,AK41))),0))","v":0},"FAIL","0","0","0",0,"N","0","0",null,"","",0,"",{"$f":"IF(RIGHT(I41,4)=\"Case\",W41,IF(AND(AL41=\"Y\",AF41<1),0,IF(OR(LEFT(D41,2)=\"T5\",LEFT(D41,3)=\"CFL\",'Analysis 103L'!AS41=\"Less\"),'Analysis 103L'!AR41,'Analysis 103L'!W41)))","v":""},null,0,0,null,{"$error":"#VALUE!"},{"$error":"#VALUE!"},{"$error":"#VALUE!"},null,null,{"$f":"IF(RIGHT(I41,4)=\"Case\",'LED Case Lighting'!$AY$1,IF(J41=\"\",\"\",VLOOKUP(J41,Lookups!$A$30:$J$149,VLOOKUP('100L Information'!$AI$46,Lookups!$J$3:$L$6,3,FALSE),FALSE)))","v":""},{"$error":"#N/A"},"","",{"$error":"#VALUE!"},{"$error":"#VALUE!"},{"$error":"#VALUE!"},{"$error":"#N/A"},0,{"$error":"#N/A"},0,{"$error":"#VALUE!"},{"$error":"#VALUE!"},{"$error":"#VALUE!"},"FAIL",null,null,null,null,null,null,null,null,null,"",null,{"$f":"IF(RIGHT(I41,4)=\"Case\",(INDEX('LED Case Lighting'!$AZ$3:$AZ$16,MATCH('Analysis 103L'!$CI41,'LED Case Lighting'!$AS$3:$AS$16,0))),IF(CB41=0,0,IF(CB41=\"lamp\",((Q41/VLOOKUP(B41,Int_Ext,2,FALSE))*VLOOKUP(E41,NEB,16,FALSE)),IF(CB41=\"fixture\",((Q41/VLOOKUP(B41,Int_Ext,2,FALSE))*VLOOKUP(E41,NEB,14,FALSE)),\"\"))))","v":""},null,{"$f":"IF(RIGHT(I41,4)=\"Case\",INDEX('Equipment Type'!$V$4:$V$53, MATCH('Analysis 103L'!$K41, 'Equipment Type'!$A$4:$A$53, 0)), \"\")","v":""},"","","",{"$f":"IF(CI41=\"\", \"\", IF(RIGHT(I41,4)=\"Case\", INDEX('LED Case Lighting'!$AR$3:$AR$16, MATCH('Analysis 103L'!CI41, 'LED Case Lighting'!$AS$3:$AS$16, 0)), \"\"))","v":""},{"$f":"IF(CI41=\"\",\"\",INDEX('LED Case Lighting'!$AW$3:$AW$16,MATCH('Analysis 103L'!CI41,'LED Case Lighting'!$AS$3:$AS$16,0)))","v":""},{"$f":"IF(CI41=\"\",\"\",INDEX('LED Case Lighting'!$AX$3:$AX$16,MATCH('Analysis 103L'!CI41,'LED Case Lighting'!$AS$3:$AS$16,0)))","v":""},""]
[15,null,null,null,null,null,"",null,{"$f":"IF(K42=\"\",\"\",VLOOKUP(K42,'Equipment Type'!$A$1:$F$53,5,FALSE))","v":""},{"$f":"IF(K42=\"\",\"\",VLOOKUP(K42,'Equipment Type'!$A$1:$F$53,6,FALSE))","v":""},null,{"$f":"IF(K42=\"\",\"\",VLOOKUP(K42,'Equipment Type'!$A$1:$F$53,4,FALSE))","v":""},null,{"$f":"IF(K42=\"\",\"\",INDEX('Equipment Type'!$T$4:$T$53,MATCH('Analysis 103L'!K42,'Equipment Type'!$A$4:$A$53,0)))","v":""},"",null,{"$f":"IF(RIGHT(I42, 4)=\"Case\", \"\", IF(P42=\"\",\"\",(IF(ISNUMBER(SEARCH(\"exit\",J42)),8760,IF(B42=\"Exterior\",4380,'Analysis 103L'!$J$3)))))","v":""},null,"","","","","","","","",{"$f":"IF('100L Information'!$Z$5=\"Yes\",0,IF('100L Information'!$Z$4=\"Yes\",(MIN($Y$232-(-$Y$227),6000)*0.5)*(Y42/$Y$232),$Y$232*(Y42/($Y$230+$Y$231))))","v":{"$error":"#VALUE!"}},"",{"$error":"#VALUE!"},"No requirement",0,{"$f":"IF(OR(Z42=\"Does not meet requirement\",AND('100L Information'!$AA$21=\"No\",AL42=\"Y\"),AND('100L Information'!$AS$21=FALSE,AL42=\"Y\")),0,IF(ISNUMBER(R42*Incent_Cost_Fixture_Rx),MIN(R42*Incent_Cost_Fixture_Rx,(MAX(AE42,AK42))),0))","v":0},"FAIL","0","0","0",0,"N","0","0",null,"","",0,"",{"$f":"IF(RIGHT(I42,4)=\"Case\",W42,IF(AND(AL42=\"Y\",AF42<1),0,IF(OR(LEFT(D42,2)=\"T5\",LEFT(D42,3)=\"CFL\",'Analysis 103L'!AS42=\"Less\"),'Analysis 103L'!AR42,'Analysis 103L'!W42)))","v":""},null,0,0,null,{"$error":"#VALUE!"},{"$error":"#VALUE!"},{"$error":"#VALUE!"},null,null,{"$f":"IF(RIGHT(I42,4)=\"Case\",'LED Case Lighting'!$AY$1,IF(J42=\"\",\"\",VLOOKUP(J42,Lookups!$A$30:$J$149,VLOOKUP('100L Information'!$AI$46,Lookups!$J$3:$L$6,3,FALSE),FALSE)))","v":""},{"$error":"#N/A"},{"$f":"IF(BD42=\"\",\"\",VLOOKUP(BE42, avoided_costs, ROUND($BD42,0)+2, FALSE))","v":""},"",{"$error":"#VALUE!"},{"$f":"BF42/BH42","v":{"$error":"#VALUE!"}},{"$f":"IF(ROUND(BI42,1)>=1, \"PASS\", \"FAIL\")","v":{"$error":"#VALUE!"}},{"$error":"#N/A"},0,{"$error":"#N/A"},0,{"$error":"#VALUE!"},{"$f":"BG42/BO42","v":{"$error":"#VALUE!"}},{"$f":"IF(ROUND(BP42,1)>=1, \"PASS\", \"FAIL\")","v":{"$error":"#VALUE!"}},{"$f":"IF(OR(NOT(ISERROR(BQ42)),NOT(ISERROR(BJ42))),BJ42&\"/\"&BQ42,\"FAIL\")","v":"FAIL"},null,null,null,null,null,null,null,"Interior / Exterior",null,"",null,{"$f":"IF(RIGHT(I42,4)=\"Case\",(INDEX('LED Case Lighting'!$AZ$3:$AZ$16,MATCH('Analysis 103L'!$CI42,'LED Case Lighting'!$AS$3:$AS$16,0))),IF(CB42=0,0,IF(CB42=\"lamp\",((Q42/VLOOKUP(B42,Int_Ext,2,FALSE))*VLOOKUP(E42,NEB,16,FALSE)),IF(CB42=\"fixture\",((Q42/VLOOKUP(B42,Int_Ext,2,FALSE))*VLOOKUP(E42,NEB,14,FALSE)),\"\"))))","v":""},null,{"$f":"IF(RIGHT(I42,4)=\"Case\",INDEX('Equipment Type'!$V$4:$V$53, MATCH('Analysis 103L'!$K42, 'Equipment Type'!$A$4:$A$53, 0)), \"\")","v":""},"","","",{"$f":"IF(CI42=\"\", \"\", IF(RIGHT(I42,4)=\"Case\", INDEX('LED Case Lighting'!$AR$3:$AR$16, MATCH('Analysis 103L'!CI42, 'LED Case Lighting'!$AS$3:$AS$16, 0)), \"\"))","v":""},{"$f":"IF(CI42=\"\",\"\",INDEX('LED Case Lighting'!$AW$3:$AW$16,MATCH('Analysis 103L'!CI42,'LED Case Lighting'!$AS$3:$AS$16,0)))","v":""},{"$f":"IF(CI42=\"\",\"\",INDEX('LED Case Lighting'!$AX$3:$AX$16,MATCH('Analysis 103L'!CI42,'LED Case Lighting'!$AS$3:$AS$16,0)))","v":""},""]
[16,null,null,null,null,null,"",null,{"$f":"IF(K43=\"\",\"\",VLOOKUP(K43,'Equipment Type'!$A$1:$F$53,5,FALSE))","v":""},{"$f":"IF(K43=\"\",\"\",VLOOKUP(K43,'Equipment Type'!$A$1:$F$53,6,FALSE))","v":""},null,{"$f":"IF(K43=\"\",\"\",VLOOKUP(K43,'Equipment Type'!$A$1:$F$53,4,FALSE))","v":""},null,{"$f":"IF(K43=\"\",\"\",INDEX('Equipment Type'!$T$4:$T$53,MATCH('Analysis 103L'!K43,'Equipment Type'!$A$4:$A$53,0)))","v":""},"",null,{"$f":"IF(RIGHT(I43, 4)=\"Case\", \"\", IF(P43=\"\",\"\",(IF(ISNUMBER(SEARCH(\"exit\",J43)),8760,IF(B43=\"Exterior\",4380,'Analysis 103L'!$J$3)))))","v":""},null,"","","","","","","","",{"$f":"IF('100L Information'!$Z$5=\"Yes\",0,IF('100L Information'!$Z$4=\"Yes\",(MIN($Y$232-(-$Y$227),6000)*0.5)*(Y43/$Y$232),$Y$232*(Y43/($Y$230+$Y$231))))","v":{"$error":"#VALUE!"}},"",{"$error":"#VALUE!"},"No requirement",0,{"$f":"IF(OR(Z43=\"Does not meet requirement\",AND('100L Information'!$AA$21=\"No\",AL43=\"Y\"),AND('100L Information'!$AS$21=FALSE,AL43=\"Y\")),0,IF(ISNUMBER(R43*Incent_Cost_Fixture_Rx),MIN(R43*Incent_Cost_Fixture_Rx,(MAX(AE43,AK43))),0))","v":0},"FAIL",{"$f":"IF(AG43=\"PASS/PASS\",S43,\"0\")","v":"0"},{"$f":"IF(AG43=\"PASS/PASS\",U43,\"0\")","v":"0"},{"$f":"IF(AG43=\"PASS/PASS\",V43,\"0\")","v":"0"},0,"N","0","0",null,"","",0,"",{"$f":"IF(RIGHT(I43,4)=\"Case\",W43,IF(AND(AL43=\"Y\",AF43<1),0,IF(OR(LEFT(D43,2)=\"T5\",LEFT(D43,3)=\"CFL\",'Analysis 103L'!AS43=\"Less\"),'Analysis 103L'!AR43,'Analysis 103L'!W43)))","v":""},null,0,0,null,{"$error":"#VALUE!"},{"$error":"#VALUE!"},{"$error":"#VALUE!"},null,null,{"$f":"IF(RIGHT(I43,4)=\"Case\",'LED Case Lighting'!$AY$1,IF(J43=\"\",\"\",VLOOKUP(J43,Lookups!$A$30:$J$149,VLOOKUP('100L Information'!$AI$46,Lookups!$J$3:$L$6,3,FALSE),FALSE)))","v":""},{"$error":"#N/A"},"","",{"$error":"#VALUE!"},{"$error":"#VALUE!"},{"$error":"#VALUE!"},{"$error":"#N/A"},0,{"$error":"#N/A"},0,{"$error":"#VALUE!"},{"$error":"#VALUE!"},{"$error":"#VALUE!"},"FAIL",null,null,null,null,null,null,null,"Interior / Exterior",null,"",null,{"$f":"IF(RIGHT(I43,4)=\"Case\",(INDEX('LED Case Lighting'!$AZ$3:$AZ$16,MATCH('Analysis 103L'!$CI43,'LED Case Lighting'!$AS$3:$AS$16,0))),IF(CB43=0,0,IF(CB43=\"lamp\",((Q43/VLOOKUP(B43,Int_Ext,2,FALSE))*VLOOKUP(E43,NEB,16,FALSE)),IF(CB43=\"fixture\",((Q43/VLOOKUP(B43,Int_Ext,2,FALSE))*VLOOKUP(E43,NEB,14,FALSE)),\"\"))))","v":""},null,{"$f":"IF(RIGHT(I43,4)=\"Case\",INDEX('Equipment Type'!$V$4:$V$53, MATCH('Analysis 103L'!$K43, 'Equipment Type'!$A$4:$A$53, 0)), \"\")","v":""},"","","",{"$f":"IF(CI43=\"\", \"\", IF(RIGHT(I43,4)=\"Case\", INDEX('LED Case Lighting'!$AR$3:$AR$16, MATCH('Analysis 103L'!CI43, 'LED Case Lighting'!$AS$3:$AS$16, 0)), \"\"))","v":""},{"$f":"IF(CI43=\"\",\"\",INDEX('LED Case Lighting'!$AW$3:$AW$16,MATCH('Analysis 103L'!CI43,'LED Case Lighting'!$AS$3:$AS$16,0)))","v":""},{"$f":"IF(CI43=\"\",\"\",INDEX('LED Case Lighting'!$AX$3:$AX$16,MATCH('Analysis 103L'!CI43,'LED Case Lighting'!$AS$3:$AS$16,0)))","v":""},""]
[17,null,null,null,null,null,"",null,{"$f":"IF(K44=\"\",\"\",VLOOKUP(K44,'Equipment Type'!$A$1:$F$53,5,FALSE))","v":""},{"$f":"IF(K44=\"\",\"\",VLOOKUP(K44,'Equipment Type'!$A$1:$F$53,6,FALSE))","v":""},null,{"$f":"IF(K44=\"\",\"\",VLOOKUP(K44,'Equipment Type'!$A$1:$F$53,4,FALSE))","v":""},null,{"$f":"IF(K44=\"\",\"\",INDEX('Equipment Type'!$T$4:$T$53,MATCH('Analysis 103L'!K44,'Equipment Type'!$A$4:$A$53,0)))","v":""},"",null,{"$f":"IF(RIGHT(I44, 4)=\"Case\", \"\", IF(P44=\"\",\"\",(IF(ISNUMBER(SEARCH(\"exit\",J44)),8760,IF(B44=\"Exterior\",4380,'Analysis 103L'!$J$3)))))","v":""},null,{"$f":"IF(RIGHT(I44, 4)=\"Case\", IF(LEFT(J44, 6)=\"Motion\", \"\", \"<-- Enter total cost.\"), IF(P44=\"\",\"\",IF(AND(AL44=\"Y\",X44=\"\"),\"\",P44*R44)))","v":""},{"$f":"IF(RIGHT(I44, 4)=\"Case\", \"\", IF(P44=\"\",\"\",IF(ISERROR(AY44),0,AY44)))","v":""},{"$f":"IF(RIGHT(I44, 4)=\"Case\", \"\", IF(H44=\"\",\"\",(G44*H44)*Q44/1000))","v":""},{"$f":"IF(RIGHT(I44, 4)=\"Case\", \"\", IF(P44=\"\",\"\",(N44*P44)*Q44/1000))","v":""},{"$f":"IF(RIGHT(I44, 4)=\"Case\", IF(LEFT(J44, 6)=\"Motion\", \"\", CK44*P44), IF(U44=\"\",\"\",IF(AND(ISNUMBER(U44),ISNUMBER(V44)),U44-V44,\"\")))","v":""},"","","",{"$f":"IF('100L Information'!$Z$5=\"Yes\",0,IF('100L Information'!$Z$4=\"Yes\",(MIN($Y$232-(-$Y$227),6000)*0.5)*(Y44/$Y$232),$Y$232*(Y44/($Y$230+$Y$231))))","v":{"$error":"#VALUE!"}},"",{"$error":"#VALUE!"},"No requirement",0,{"$f":"IF(OR(Z44=\"Does not meet requirement\",AND('100L Information'!$AA$21=\"No\",AL44=\"Y\"),AND('100L Information'!$AS$21=FALSE,AL44=\"Y\")),0,IF(ISNUMBER(R44*Incent_Cost_Fixture_Rx),MIN(R44*Incent_Cost_Fixture_Rx,(MAX(AE44,AK44))),0))","v":0},"FAIL","0","0","0",0,"N","0","0",null,"","",0,"",{"$f":"IF(RIGHT(I44,4)=\"Case\",W44,IF(AND(AL44=\"Y\",AF44<1),0,IF(OR(LEFT(D44,2)=\"T5\",LEFT(D44,3)=\"CFL\",'Analysis 103L'!AS44=\"Less\"),'Analysis 103L'!AR44,'Analysis 103L'!W44)))","v":""},null,0,0,null,{"$error":"#VALUE!"},{"$error":"#VALUE!"},{"$error":"#VALUE!"},null,null,{"$f":"IF(RIGHT(I44,4)=\"Case\",'LED Case Lighting'!$AY$1,IF(J44=\"\",\"\",VLOOKUP(J44,Lookups!$A$30:$J$149,VLOOKUP('100L Information'!$AI$46,Lookups!$J$3:$L$6,3,FALSE),FALSE)))","v":""},{"$error":"#N/A"},"","",{"$error":"#VALUE!"},{"$error":"#VALUE!"},{"$error":"#VALUE!"},{"$error":"#N/A"},0,{"$error":"#N/A"},0,{"$error":"#VALUE!"},{"$error":"#VALUE!"},{"$error":"#VALUE!"},"FAIL",null,null,null,null,null,null,null,"Interior / Exterior",null,"",null,{"$f":"IF(RIGHT(I44,4)=\"Case\",(INDEX('LED Case Lighting'!$AZ$3:$AZ$16,MATCH('Analysis 103L'!$CI44,'LED Case Lighting'!$AS$3:$AS$16,0))),IF(CB44=0,0,IF(CB44=\"lamp\",((Q44/VLOOKUP(B44,Int_Ext,2,FALSE))*VLOOKUP(E44,NEB,16,FALSE)),IF(CB44=\"fixture\",((Q44/VLOOKUP(B44,Int_Ext,2,FALSE))*VLOOKUP(E44,NEB,14,FALSE)),\"\"))))","v":""},null,{"$f":"IF(RIGHT(I44,4)=\"Case\",INDEX('Equipment Type'!$V$4:$V$53, MATCH('Analysis 103L'!$K44, 'Equipment Type'!$A$4:$A$53, 0)), \"\")","v":""},"","","",{"$f":"IF(CI44=\"\", \"\", IF(RIGHT(I44,4)=\"Case\", INDEX('LED Case Lighting'!$AR$3:$AR$16, MATCH('Analysis 103L'!CI44, 'LED Case Lighting'!$AS$3:$AS$16, 0)), \"\"))","v":""},{"$f":"IF(CI44=\"\",\"\",INDEX('LED Case Lighting'!$AW$3:$AW$16,MATCH('Analysis 103L'!CI44,'LED Case Lighting'!$AS$3:$AS$16,0)))","v":""},{"$f":"IF(CI44=\"\",\"\",INDEX('LED Case Lighting'!$AX$3:$AX$16,MATCH('Analysis 103L'!CI44,'LED Case Lighting'!$AS$3:$AS$16,0)))","v":""},""]
[18,null,null,null,null,null,"",null,{"$f":"IF(K45=\"\",\"\",VLOOKUP(K45,'Equipment Type'!$A$1:$F$53,5,FALSE))","v":""},{"$f":"IF(K45=\"\",\"\",VLOOKUP(K45,'Equipment Type'!$A$1:$F$53,6,FALSE))","v":""},null,{"$f":"IF(K45=\"\",\"\",VLOOKUP(K45,'Equipment Type'!$A$1:$F$53,4,FALSE))","v":""},null,{"$f":"IF(K45=\"\",\"\",INDEX('Equipment Type'!$T$4:$T$53,MATCH('Analysis 103L'!K45,'Equipment Type'!$A$4:$A$53,0)))","v":""},"",null,{"$f":"IF(RIGHT(I45, 4)=\"Case\", \"\", IF(P45=\"\",\"\",(IF(ISNUMBER(SEARCH(\"exit\",J45)),8760,IF(B45=\"Exterior\",4380,'Analysis 103L'!$J$3)))))","v":""},null,"","","","","","","","",{"$f":"IF('100L Information'!$Z$5=\"Yes\",0,IF('100L Information'!$Z$4=\"Yes\",(MIN($Y$232-(-$Y$227),6000)*0.5)*(Y45/$Y$232),$Y$232*(Y45/($Y$230+$Y$231))))","v":{"$error":"#VALUE!"}},"",{"$error":"#VALUE!"},"No requirement",0,{"$f":"IF(OR(Z45=\"Does not meet requirement\",AND('100L Information'!$AA$21=\"No\",AL45=\"Y\"),AND('100L Information'!$AS$21=FALSE,AL45=\"Y\")),0,IF(ISNUMBER(R45*Incent_Cost_Fixture_Rx),MIN(R45*Incent_Cost_Fixture_Rx,(MAX(AE45,AK45))),0))","v":0},"FAIL","0","0","0",0,"N","0","0",null,"","",0,"",{"$f":"IF(RIGHT(I45,4)=\"Case\",W45,IF(AND(AL45=\"Y\",AF45<1),0,IF(OR(LEFT(D45,2)=\"T5\",LEFT(D45,3)=\"CFL\",'Analysis 103L'!AS45=\"Less\"),'Analysis 103L'!AR45,'Analysis 103L'!W45)))","v":""},null,0,0,null,{"$error":"#VALUE!"},{"$error":"#VALUE!"},{"$error":"#VALUE!"},null,null,{"$f":"IF(RIGHT(I45,4)=\"Case\",'LED Case Lighting'!$AY$1,IF(J45=\"\",\"\",VLOOKUP(J45,Lookups!$A$30:$J$149,VLOOKUP('100L Information'!$AI$46,Lookups!$J$3:$L$6,3,FALSE),FALSE)))","v":""},{"$error":"#N/A"},"","",{"$error":"#VALUE!"},{"$error":"#VALUE!"},{"$error":"#VALUE!"},{"$error":"#N/A"},0,{"$error":"#N/A"},0,{"$error":"#VALUE!"},{"$error":"#VALUE!"},{"$error":"#VALUE!"},"FAIL",null,null,null,null,null,null,null,"Interior / Exterior",null,"",null,{"$f":"IF(RIGHT(I45,4)=\"Case\",(INDEX('LED Case Lighting'!$AZ$3:$AZ$16,MATCH('Analysis 103L'!$CI45,'LED Case Lighting'!$AS$3:$AS$16,0))),IF(CB45=0,0,IF(CB45=\"lamp\",((Q45/VLOOKUP(B45,Int_Ext,2,FALSE))*VLOOKUP(E45,NEB,16,FALSE)),IF(CB45=\"fixture\",((Q45/VLOOKUP(B45,Int_Ext,2,FALSE))*VLOOKUP(E45,NEB,14,FALSE)),\"\"))))","v":""},null,{"$f":"IF(RIGHT(I45,4)=\"Case\",INDEX('Equipment Type'!$V$4:$V$53, MATCH('Analysis 103L'!$K45, 'Equipment Type'!$A$4:$A$53, 0)), \"\")","v":""},"","","",{"$f":"IF(CI45=\"\", \"\", IF(RIGHT(I45,4)=\"Case\", INDEX('LED Case Lighting'!$AR$3:$AR$16, MATCH('Analysis 103L'!CI45, 'LED Case Lighting'!$AS$3:$AS$16, 0)), \"\"))","v":""},{"$f":"IF(CI45=\"\",\"\",INDEX('LED Case Lighting'!$AW$3:$AW$16,MATCH('Analysis 103L'!CI45,'LED Case Lighting'!$AS$3:$AS$16,0)))","v":""},{"$f":"IF(CI45=\"\",\"\",INDEX('LED Case Lighting'!$AX$3:$AX$16,MATCH('Analysis 103L'!CI45,'LED Case Lighting'!$AS$3:$AS$16,0)))","v":""},""]
[19,null,null,null,null,null,"",null,{"$f":"IF(K46=\"\",\"\",VLOOKUP(K46,'Equipment Type'!$A$1:$F$53,5,FALSE))","v":""},{"$f":"IF(K46=\"\",\"\",VLOOKUP(K46,'Equipment Type'!$A$1:$F$53,6,FALSE))","v":""},null,{"$f":"IF(K46=\"\",\"\",VLOOKUP(K46,'Equipment Type'!$A$1:$F$53,4,FALSE))","v":""},null,{"$f":"IF(K46=\"\",\"\",INDEX('Equipment Type'!$T$4:$T$53,MATCH('Analysis 103L'!K46,'Equipment Type'!$A$4:$A$53,0)))","v":""},"",null,{"$f":"IF(RIGHT(I46, 4)=\"Case\", \"\", IF(P46=\"\",\"\",(IF(ISNUMBER(SEARCH(\"exit\",J46)),8760,IF(B46=\"Exterior\",4380,'Analysis 103L'!$J$3)))))","v":""},null,"","","","","","","","",{"$f":"IF('100L Information'!$Z$5=\"Yes\",0,IF('100L Information'!$Z$4=\"Yes\",(MIN($Y$232-(-$Y$227),6000)*0.5)*(Y46/$Y$232),$Y$232*(Y46/($Y$230+$Y$231))))","v":{"$error":"#VALUE!"}},"",{"$error":"#VALUE!"},"No requirement",0,{"$f":"IF(OR(Z46=\"Does not meet requirement\",AND('100L Information'!$AA$21=\"No\",AL46=\"Y\"),AND('100L Information'!$AS$21=FALSE,AL46=\"Y\")),0,IF(ISNUMBER(R46*Incent_Cost_Fixture_Rx),MIN(R46*Incent_Cost_Fixture_Rx,(MAX(AE46,AK46))),0))","v":0},"FAIL","0","0","0",0,"N","0","0",null,"","",0,"",{"$f":"IF(RIGHT(I46,4)=\"Case\",W46,IF(AND(AL46=\"Y\",AF46<1),0,IF(OR(LEFT(D46,2)=\"T5\",LEFT(D46,3)=\"CFL\",'Analysis 103L'!AS46=\"Less\"),'Analysis 103L'!AR46,'Analysis 103L'!W46)))","v":""},null,0,0,null,{"$error":"#VALUE!"},{"$error":"#VALUE!"},{"$error":"#VALUE!"},null,null,{"$f":"IF(RIGHT(I46,4)=\"Case\",'LED Case Lighting'!$AY$1,IF(J46=\"\",\"\",VLOOKUP(J46,Lookups!$A$30:$J$149,VLOOKUP('100L Information'!$AI$46,Lookups!$J$3:$L$6,3,FALSE),FALSE)))","v":""},{"$error":"#N/A"},"","",{"$error":"#VALUE!"},{"$error":"#VALUE!"},{"$error":"#VALUE!"},{"$error":"#N/A"},0,{"$error":"#N/A"},0,{"$error":"#VALUE!"},{"$error":"#VALUE!"},{"$error":"#VALUE!"},"FAIL",null,null,null,null,null,null,null,"Interior / Exterior",null,"",null,{"$f":"IF(RIGHT(I46,4)=\"Case\",(INDEX('LED Case Lighting'!$AZ$3:$AZ$16,MATCH('Analysis 103L'!$CI46,'LED Case Lighting'!$AS$3:$AS$16,0))),IF(CB46=0,0,IF(CB46=\"lamp\",((Q46/VLOOKUP(B46,Int_Ext,2,FALSE))*VLOOKUP(E46,NEB,16,FALSE)),IF(CB46=\"fixture\",((Q46/VLOOKUP(B46,Int_Ext,2,FALSE))*VLOOKUP(E46,NEB,14,FALSE)),\"\"))))","v":""},null,{"$f":"IF(RIGHT(I46,4)=\"Case\",INDEX('Equipment Type'!$V$4:$V$53, MATCH('Analysis 103L'!$K46, 'Equipment Type'!$A$4:$A$53, 0)), \"\")","v":""},"","","",{"$f":"IF(CI46=\"\", \"\", IF(RIGHT(I46,4)=\"Case\", INDEX('LED Case Lighting'!$AR$3:$AR$16, MATCH('Analysis 103L'!CI46, 'LED Case Lighting'!$AS$3:$AS$16, 0)), \"\"))","v":""},{"$f":"IF(CI46=\"\",\"\",INDEX('LED Case Lighting'!$AW$3:$AW$16,MATCH('Analysis 103L'!CI46,'LED Case Lighting'!$AS$3:$AS$16,0)))","v":""},{"$f":"IF(CI46=\"\",\"\",INDEX('LED Case Lighting'!$AX$3:$AX$16,MATCH('Analysis 103L'!CI46,'LED Case Lighting'!$AS$3:$AS$16,0)))","v":""},""]
[20,null,null,null,null,null,"",null,{"$f":"IF(K47=\"\",\"\",VLOOKUP(K47,'Equipment Type'!$A$1:$F$53,5,FALSE))","v":""},{"$f":"IF(K47=\"\",\"\",VLOOKUP(K47,'Equipment Type'!$A$1:$F$53,6,FALSE))","v":""},null,{"$f":"IF(K47=\"\",\"\",VLOOKUP(K47,'Equipment Type'!$A$1:$F$53,4,FALSE))","v":""},null,{"$f":"IF(K47=\"\",\"\",INDEX('Equipment Type'!$T$4:$T$53,MATCH('Analysis 103L'!K47,'Equipment Type'!$A$4:$A$53,0)))","v":""},"",null,{"$f":"IF(RIGHT(I47, 4)=\"Case\", \"\", IF(P47=\"\",\"\",(IF(ISNUMBER(SEARCH(\"exit\",J47)),8760,IF(B47=\"Exterior\",4380,'Analysis 103L'!$J$3)))))","v":""},null,"","","","","","","","",{"$f":"IF('100L Information'!$Z$5=\"Yes\",0,IF('100L Information'!$Z$4=\"Yes\",(MIN($Y$232-(-$Y$227),6000)*0.5)*(Y47/$Y$232),$Y$232*(Y47/($Y$230+$Y$231))))","v":{"$error":"#VALUE!"}},"",{"$error":"#VALUE!"},"No requirement",0,{"$f":"IF(OR(Z47=\"Does not meet requirement\",AND('100L Information'!$AA$21=\"No\",AL47=\"Y\"),AND('100L Information'!$AS$21=FALSE,AL47=\"Y\")),0,IF(ISNUMBER(R47*Incent_Cost_Fixture_Rx),MIN(R47*Incent_Cost_Fixture_Rx,(MAX(AE47,AK47))),0))","v":0},"FAIL","0","0","0",0,"N","0","0",null,"","",0,"",{"$f":"IF(RIGHT(I47,4)=\"Case\",W47,IF(AND(AL47=\"Y\",AF47<1),0,IF(OR(LEFT(D47,2)=\"T5\",LEFT(D47,3)=\"CFL\",'Analysis 103L'!AS47=\"Less\"),'Analysis 103L'!AR47,'Analysis 103L'!W47)))","v":""},null,0,0,null,{"$error":"#VALUE!"},{"$error":"#VALUE!"},{"$error":"#VALUE!"},null,null,{"$f":"IF(RIGHT(I47,4)=\"Case\",'LED Case Lighting'!$AY$1,IF(J47=\"\",\"\",VLOOKUP(J47,Lookups!$A$30:$J$149,VLOOKUP('100L Information'!$AI$46,Lookups!$J$3:$L$6,3,FALSE),FALSE)))","v":""},{"$error":"#N/A"},"","",{"$error":"#VALUE!"},{"$error":"#VALUE!"},{"$error":"#VALUE!"},{"$error":"#N/A"},0,{"$error":"#N/A"},0,{"$error":"#VALUE!"},{"$error":"#VALUE!"},{"$error":"#VALUE!"},"FAIL",null,null,null,null,null,null,null,"Interior / Exterior",null,"",null,{"$f":"IF(RIGHT(I47,4)=\"Case\",(INDEX('LED Case Lighting'!$AZ$3:$AZ$16,MATCH('Analysis 103L'!$CI47,'LED Case Lighting'!$AS$3:$AS$16,0))),IF(CB47=0,0,IF(CB47=\"lamp\",((Q47/VLOOKUP(B47,Int_Ext,2,FALSE))*VLOOKUP(E47,NEB,16,FALSE)),IF(CB47=\"fixture\",((Q47/VLOOKUP(B47,Int_Ext,2,FALSE))*VLOOKUP(E47,NEB,14,FALSE)),\"\"))))","v":""},null,{"$f":"IF(RIGHT(I47,4)=\"Case\",INDEX('Equipment Type'!$V$4:$V$53, MATCH('Analysis 103L'!$K47, 'Equipment Type'!$A$4:$A$53, 0)), \"\")","v":""},"","","",{"$f":"IF(CI47=\"\", \"\", IF(RIGHT(I47,4)=\"Case\", INDEX('LED Case Lighting'!$AR$3:$AR$16, MATCH('Analysis 103L'!CI47, 'LED Case Lighting'!$AS$3:$AS$16, 0)), \"\"))","v":""},{"$f":"IF(CI47=\"\",\"\",INDEX('LED Case Lighting'!$AW$3:$AW$16,MATCH('Analysis 103L'!CI47,'LED Case Lighting'!$AS$3:$AS$16,0)))","v":""},{"$f":"IF(CI47=\"\",\"\",INDEX('LED Case Lighting'!$AX$3:$AX$16,MATCH('Analysis 103L'!CI47,'LED Case Lighting'!$AS$3:$AS$16,0)))","v":""},""]
[21,null,null,null,null,null,"",null,{"$f":"IF(K48=\"\",\"\",VLOOKUP(K48,'Equipment Type'!$A$1:$F$53,5,FALSE))","v":""},{"$f":"IF(K48=\"\",\"\",VLOOKUP(K48,'Equipment Type'!$A$1:$F$53,6,FALSE))","v":""},null,{"$f":"IF(K48=\"\",\"\",VLOOKUP(K48,'Equipment Type'!$A$1:$F$53,4,FALSE))","v":""},null,{"$f":"IF(K48=\"\",\"\",INDEX('Equipment Type'!$T$4:$T$53,MATCH('Analysis 103L'!K48,'Equipment Type'!$A$4:$A$53,0)))","v":""},"",null,{"$f":"IF(RIGHT(I48, 4)=\"Case\", \"\", IF(P48=\"\",\"\",(IF(ISNUMBER(SEARCH(\"exit\",J48)),8760,IF(B48=\"Exterior\",4380,'Analysis 103L'!$J$3)))))","v":""},null,"","","","","","","","",{"$f":"IF('100L Information'!$Z$5=\"Yes\",0,IF('100L Information'!$Z$4=\"Yes\",(MIN($Y$232-(-$Y$227),6000)*0.5)*(Y48/$Y$232),$Y$232*(Y48/($Y$230+$Y$231))))","v":{"$error":"#VALUE!"}},"",{"$error":"#VALUE!"},"No requirement",0,{"$f":"IF(OR(Z48=\"Does not meet requirement\",AND('100L Information'!$AA$21=\"No\",AL48=\"Y\"),AND('100L Information'!$AS$21=FALSE,AL48=\"Y\")),0,IF(ISNUMBER(R48*Incent_Cost_Fixture_Rx),MIN(R48*Incent_Cost_Fixture_Rx,(MAX(AE48,AK48))),0))","v":0},"FAIL","0","0","0",0,"N","0","0",null,"","",0,"",{"$f":"IF(RIGHT(I48,4)=\"Case\",W48,IF(AND(AL48=\"Y\",AF48<1),0,IF(OR(LEFT(D48,2)=\"T5\",LEFT(D48,3)=\"CFL\",'Analysis 103L'!AS48=\"Less\"),'Analysis 103L'!AR48,'Analysis 103L'!W48)))","v":""},null,0,0,null,{"$error":"#VALUE!"},{"$error":"#VALUE!"},{"$error":"#VALUE!"},null,null,{"$f":"IF(RIGHT(I48,4)=\"Case\",'LED Case Lighting'!$AY$1,IF(J48=\"\",\"\",VLOOKUP(J48,Lookups!$A$30:$J$149,VLOOKUP('100L Information'!$AI$46,Lookups!$J$3:$L$6,3,FALSE),FALSE)))","v":""},{"$error":"#N/A"},"","",{"$error":"#VALUE!"},{"$error":"#VALUE!"},{"$error":"#VALUE!"},{"$error":"#N/A"},0,{"$error":"#N/A"},0,{"$error":"#VALUE!"},{"$error":"#VALUE!"},{"$error":"#VALUE!"},"FAIL",null,null,null,null,null,null,null,"Interior / Exterior",null,"",null,{"$f":"IF(RIGHT(I48,4)=\"Case\",(INDEX('LED Case Lighting'!$AZ$3:$AZ$16,MATCH('Analysis 103L'!$CI48,'LED Case Lighting'!$AS$3:$AS$16,0))),IF(CB48=0,0,IF(CB48=\"lamp\",((Q48/VLOOKUP(B48,Int_Ext,2,FALSE))*VLOOKUP(E48,NEB,16,FALSE)),IF(CB48=\"fixture\",((Q48/VLOOKUP(B48,Int_Ext,2,FALSE))*VLOOKUP(E48,NEB,14,FALSE)),\"\"))))","v":""},null,{"$f":"IF(RIGHT(I48,4)=\"Case\",INDEX('Equipment Type'!$V$4:$V$53, MATCH('Analysis 103L'!$K48, 'Equipment Type'!$A$4:$A$53, 0)), \"\")","v":""},"","","",{"$f":"IF(CI48=\"\", \"\", IF(RIGHT(I48,4)=\"Case\", INDEX('LED Case Lighting'!$AR$3:$AR$16, MATCH('Analysis 103L'!CI48, 'LED Case Lighting'!$AS$3:$AS$16, 0)), \"\"))","v":""},{"$f":"IF(CI48=\"\",\"\",INDEX('LED Case Lighting'!$AW$3:$AW$16,MATCH('Analysis 103L'!CI48,'LED Case Lighting'!$AS$3:$AS$16,0)))","v":""},{"$f":"IF(CI48=\"\",\"\",INDEX('LED Case Lighting'!$AX$3:$AX$16,MATCH('Analysis 103L'!CI48,'LED Case Lighting'!$AS$3:$AS$16,0)))","v":""},""]
[22,null,null,null,null,null,"",null,{"$f":"IF(K49=\"\",\"\",VLOOKUP(K49,'Equipment Type'!$A$1:$F$53,5,FALSE))","v":""},{"$f":"IF(K49=\"\",\"\",VLOOKUP(K49,'Equipment Type'!$A$1:$F$53,6,FALSE))","v":""},null,{"$f":"IF(K49=\"\",\"\",VLOOKUP(K49,'Equipment Type'!$A$1:$F$53,4,FALSE))","v":""},null,{"$f":"IF(K49=\"\",\"\",INDEX('Equipment Type'!$T$4:$T$53,MATCH('Analysis 103L'!K49,'Equipment Type'!$A$4:$A$53,0)))","v":""},"",null,{"$f":"IF(RIGHT(I49, 4)=\"Case\", \"\", IF(P49=\"\",\"\",(IF(ISNUMBER(SEARCH(\"exit\",J49)),8760,IF(B49=\"Exterior\",4380,'Analysis 103L'!$J$3)))))","v":""},null,"","","","","","","","",{"$f":"IF('100L Information'!$Z$5=\"Yes\",0,IF('100L Information'!$Z$4=\"Yes\",(MIN($Y$232-(-$Y$227),6000)*0.5)*(Y49/$Y$232),$Y$232*(Y49/($Y$230+$Y$231))))","v":{"$error":"#VALUE!"}},"",{"$error":"#VALUE!"},"No requirement",0,{"$f":"IF(OR(Z49=\"Does not meet requirement\",AND('100L Information'!$AA$21=\"No\",AL49=\"Y\"),AND('100L Information'!$AS$21=FALSE,AL49=\"Y\")),0,IF(ISNUMBER(R49*Incent_Cost_Fixture_Rx),MIN(R49*Incent_Cost_Fixture_Rx,(MAX(AE49,AK49))),0))","v":0},"FAIL","0","0","0",0,"N","0","0",null,"","",0,"",{"$f":"IF(RIGHT(I49,4)=\"Case\",W49,IF(AND(AL49=\"Y\",AF49<1),0,IF(OR(LEFT(D49,2)=\"T5\",LEFT(D49,3)=\"CFL\",'Analysis 103L'!AS49=\"Less\"),'Analysis 103L'!AR49,'Analysis 103L'!W49)))","v":""},null,0,0,null,{"$error":"#VALUE!"},{"$error":"#VALUE!"},{"$error":"#VALUE!"},null,null,{"$f":"IF(RIGHT(I49,4)=\"Case\",'LED Case Lighting'!$AY$1,IF(J49=\"\",\"\",VLOOKUP(J49,Lookups!$A$30:$J$149,VLOOKUP('100L Information'!$AI$46,Lookups!$J$3:$L$6,3,FALSE),FALSE)))","v":""},{"$error":"#N/A"},"","",{"$error":"#VALUE!"},{"$error":"#VALUE!"},{"$error":"#VALUE!"},{"$error":"#N/A"},0,{"$error":"#N/A"},0,{"$error":"#VALUE!"},{"$error":"#VALUE!"},{"$error":"#VALUE!"},"FAIL",null,null,null,null,null,null,null,"Interior / Exterior",null,"",null,{"$f":"IF(RIGHT(I49,4)=\"Case\",(INDEX('LED Case Lighting'!$AZ$3:$AZ$16,MATCH('Analysis 103L'!$CI49,'LED Case Lighting'!$AS$3:$AS$16,0))),IF(CB49=0,0,IF(CB49=\"lamp\",((Q49/VLOOKUP(B49,Int_Ext,2,FALSE))*VLOOKUP(E49,NEB,16,FALSE)),IF(CB49=\"fixture\",((Q49/VLOOKUP(B49,Int_Ext,2,FALSE))*VLOOKUP(E49,NEB,14,FALSE)),\"\"))))","v":""},null,{"$f":"IF(RIGHT(I49,4)=\"Case\",INDEX('Equipment Type'!$V$4:$V$53, MATCH('Analysis 103L'!$K49, 'Equipment Type'!$A$4:$A$53, 0)), \"\")","v":""},{"$f":"IF(LEFT(D49,3)=\"T12\",\"T12\",IF(OR(LEFT(D49,2)=\"T8\",(LEFT(D49,2)=\"T5\")),\"T8\",\"\"))","v":""},"","",{"$f":"IF(CI49=\"\", \"\", IF(RIGHT(I49,4)=\"Case\", INDEX('LED Case Lighting'!$AR$3:$AR$16, MATCH('Analysis 103L'!CI49, 'LED Case Lighting'!$AS$3:$AS$16, 0)), \"\"))","v":""},{"$f":"IF(CI49=\"\",\"\",INDEX('LED Case Lighting'!$AW$3:$AW$16,MATCH('Analysis 103L'!CI49,'LED Case Lighting'!$AS$3:$AS$16,0)))","v":""},{"$f":"IF(CI49=\"\",\"\",INDEX('LED Case Lighting'!$AX$3:$AX$16,MATCH('Analysis 103L'!CI49,'LED Case Lighting'!$AS$3:$AS$16,0)))","v":""},""]
[23,null,null,null,null,null,"",null,{"$f":"IF(K50=\"\",\"\",VLOOKUP(K50,'Equipment Type'!$A$1:$F$53,5,FALSE))","v":""},{"$f":"IF(K50=\"\",\"\",VLOOKUP(K50,'Equipment Type'!$A$1:$F$53,6,FALSE))","v":""},null,{"$f":"IF(K50=\"\",\"\",VLOOKUP(K50,'Equipment Type'!$A$1:$F$53,4,FALSE))","v":""},null,{"$f":"IF(K50=\"\",\"\",INDEX('Equipment Type'!$T$4:$T$53,MATCH('Analysis 103L'!K50,'Equipment Type'!$A$4:$A$53,0)))","v":""},"",null,{"$f":"IF(RIGHT(I50, 4)=\"Case\", \"\", IF(P50=\"\",\"\",(IF(ISNUMBER(SEARCH(\"exit\",J50)),8760,IF(B50=\"Exterior\",4380,'Analysis 103L'!$J$3)))))","v":""},null,"","","","","","","","",{"$f":"IF('100L Information'!$Z$5=\"Yes\",0,IF('100L Information'!$Z$4=\"Yes\",(MIN($Y$232-(-$Y$227),6000)*0.5)*(Y50/$Y$232),$Y$232*(Y50/($Y$230+$Y$231))))","v":{"$error":"#VALUE!"}},"",{"$error":"#VALUE!"},"No requirement",0,{"$f":"IF(OR(Z50=\"Does not meet requirement\",AND('100L Information'!$AA$21=\"No\",AL50=\"Y\"),AND('100L Information'!$AS$21=FALSE,AL50=\"Y\")),0,IF(ISNUMBER(R50*Incent_Cost_Fixture_Rx),MIN(R50*Incent_Cost_Fixture_Rx,(MAX(AE50,AK50))),0))","v":0},"FAIL","0","0","0",0,"N","0","0",null,"","",0,"",{"$f":"IF(RIGHT(I50,4)=\"Case\",W50,IF(AND(AL50=\"Y\",AF50<1),0,IF(OR(LEFT(D50,2)=\"T5\",LEFT(D50,3)=\"CFL\",'Analysis 103L'!AS50=\"Less\"),'Analysis 103L'!AR50,'Analysis 103L'!W50)))","v":""},null,0,0,null,{"$error":"#VALUE!"},{"$error":"#VALUE!"},{"$error":"#VALUE!"},null,null,{"$f":"IF(RIGHT(I50,4)=\"Case\",'LED Case Lighting'!$AY$1,IF(J50=\"\",\"\",VLOOKUP(J50,Lookups!$A$30:$J$149,VLOOKUP('100L Information'!$AI$46,Lookups!$J$3:$L$6,3,FALSE),FALSE)))","v":""},{"$error":"#N/A"},"","",{"$error":"#VALUE!"},{"$error":"#VALUE!"},{"$error":"#VALUE!"},{"$error":"#N/A"},0,{"$error":"#N/A"},0,{"$error":"#VALUE!"},{"$error":"#VALUE!"},{"$error":"#VALUE!"},"FAIL",null,null,null,null,null,null,null,"Interior / Exterior",null,"",null,{"$f":"IF(RIGHT(I50,4)=\"Case\",(INDEX('LED Case Lighting'!$AZ$3:$AZ$16,MATCH('Analysis 103L'!$CI50,'LED Case Lighting'!$AS$3:$AS$16,0))),IF(CB50=0,0,IF(CB50=\"lamp\",((Q50/VLOOKUP(B50,Int_Ext,2,FALSE))*VLOOKUP(E50,NEB,16,FALSE)),IF(CB50=\"fixture\",((Q50/VLOOKUP(B50,Int_Ext,2,FALSE))*VLOOKUP(E50,NEB,14,FALSE)),\"\"))))","v":""},null,{"$f":"IF(RIGHT(I50,4)=\"Case\",INDEX('Equipment Type'!$V$4:$V$53, MATCH('Analysis 103L'!$K50, 'Equipment Type'!$A$4:$A$53, 0)), \"\")","v":""},"","","",{"$f":"IF(CI50=\"\", \"\", IF(RIGHT(I50,4)=\"Case\", INDEX('LED Case Lighting'!$AR$3:$AR$16, MATCH('Analysis 103L'!CI50, 'LED Case Lighting'!$AS$3:$AS$16, 0)), \"\"))","v":""},{"$f":"IF(CI50=\"\",\"\",INDEX('LED Case Lighting'!$AW$3:$AW$16,MATCH('Analysis 103L'!CI50,'LED Case Lighting'!$AS$3:$AS$16,0)))","v":""},{"$f":"IF(CI50=\"\",\"\",INDEX('LED Case Lighting'!$AX$3:$AX$16,MATCH('Analysis 103L'!CI50,'LED Case Lighting'!$AS$3:$AS$16,0)))","v":""},""]
[24,null,null,null,null,null,"",null,{"$f":"IF(K51=\"\",\"\",VLOOKUP(K51,'Equipment Type'!$A$1:$F$53,5,FALSE))","v":""},{"$f":"IF(K51=\"\",\"\",VLOOKUP(K51,'Equipment Type'!$A$1:$F$53,6,FALSE))","v":""},null,{"$f":"IF(K51=\"\",\"\",VLOOKUP(K51,'Equipment Type'!$A$1:$F$53,4,FALSE))","v":""},null,{"$f":"IF(K51=\"\",\"\",INDEX('Equipment Type'!$T$4:$T$53,MATCH('Analysis 103L'!K51,'Equipment Type'!$A$4:$A$53,0)))","v":""},"",null,{"$f":"IF(RIGHT(I51, 4)=\"Case\", \"\", IF(P51=\"\",\"\",(IF(ISNUMBER(SEARCH(\"exit\",J51)),8760,IF(B51=\"Exterior\",4380,'Analysis 103L'!$J$3)))))","v":""},null,"","","","","","","","",{"$f":"IF('100L Information'!$Z$5=\"Yes\",0,IF('100L Information'!$Z$4=\"Yes\",(MIN($Y$232-(-$Y$227),6000)*0.5)*(Y51/$Y$232),$Y$232*(Y51/($Y$230+$Y$231))))","v":{"$error":"#VALUE!"}},"",{"$error":"#VALUE!"},"No requirement",0,{"$f":"IF(OR(Z51=\"Does not meet requirement\",AND('100L Information'!$AA$21=\"No\",AL51=\"Y\"),AND('100L Information'!$AS$21=FALSE,AL51=\"Y\")),0,IF(ISNUMBER(R51*Incent_Cost_Fixture_Rx),MIN(R51*Incent_Cost_Fixture_Rx,(MAX(AE51,AK51))),0))","v":0},"FAIL","0","0","0",0,"N","0","0",null,"","",0,"",{"$f":"IF(RIGHT(I51,4)=\"Case\",W51,IF(AND(AL51=\"Y\",AF51<1),0,IF(OR(LEFT(D51,2)=\"T5\",LEFT(D51,3)=\"CFL\",'Analysis 103L'!AS51=\"Less\"),'Analysis 103L'!AR51,'Analysis 103L'!W51)))","v":""},null,0,0,null,{"$error":"#VALUE!"},{"$error":"#VALUE!"},{"$error":"#VALUE!"},null,null,{"$f":"IF(RIGHT(I51,4)=\"Case\",'LED Case Lighting'!$AY$1,IF(J51=\"\",\"\",VLOOKUP(J51,Lookups!$A$30:$J$149,VLOOKUP('100L Information'!$AI$46,Lookups!$J$3:$L$6,3,FALSE),FALSE)))","v":""},{"$error":"#N/A"},"","",{"$error":"#VALUE!"},{"$error":"#VALUE!"},{"$error":"#VALUE!"},{"$error":"#N/A"},0,{"$error":"#N/A"},0,{"$error":"#VALUE!"},{"$error":"#VALUE!"},{"$error":"#VALUE!"},"FAIL",null,null,null,null,null,null,null,"Interior / Exterior",null,"",null,{"$f":"IF(RIGHT(I51,4)=\"Case\",(INDEX('LED Case Lighting'!$AZ$3:$AZ$16,MATCH('Analysis 103L'!$CI51,'LED Case Lighting'!$AS$3:$AS$16,0))),IF(CB51=0,0,IF(CB51=\"lamp\",((Q51/VLOOKUP(B51,Int_Ext,2,FALSE))*VLOOKUP(E51,NEB,16,FALSE)),IF(CB51=\"fixture\",((Q51/VLOOKUP(B51,Int_Ext,2,FALSE))*VLOOKUP(E51,NEB,14,FALSE)),\"\"))))","v":""},null,{"$f":"IF(RIGHT(I51,4)=\"Case\",INDEX('Equipment Type'!$V$4:$V$53, MATCH('Analysis 103L'!$K51, 'Equipment Type'!$A$4:$A$53, 0)), \"\")","v":""},"","","",{"$f":"IF(CI51=\"\", \"\", IF(RIGHT(I51,4)=\"Case\", INDEX('LED Case Lighting'!$AR$3:$AR$16, MATCH('Analysis 103L'!CI51, 'LED Case Lighting'!$AS$3:$AS$16, 0)), \"\"))","v":""},{"$f":"IF(CI51=\"\",\"\",INDEX('LED Case Lighting'!$AW$3:$AW$16,MATCH('Analysis 103L'!CI51,'LED Case Lighting'!$AS$3:$AS$16,0)))","v":""},{"$f":"IF(CI51=\"\",\"\",INDEX('LED Case Lighting'!$AX$3:$AX$16,MATCH('Analysis 103L'!CI51,'LED Case Lighting'!$AS$3:$AS$16,0)))","v":""},""]
[25,null,null,null,null,null,"",null,{"$f":"IF(K52=\"\",\"\",VLOOKUP(K52,'Equipment Type'!$A$1:$F$53,5,FALSE))","v":""},{"$f":"IF(K52=\"\",\"\",VLOOKUP(K52,'Equipment Type'!$A$1:$F$53,6,FALSE))","v":""},null,{"$f":"IF(K52=\"\",\"\",VLOOKUP(K52,'Equipment Type'!$A$1:$F$53,4,FALSE))","v":""},null,{"$f":"IF(K52=\"\",\"\",INDEX('Equipment Type'!$T$4:$T$53,MATCH('Analysis 103L'!K52,'Equipment Type'!$A$4:$A$53,0)))","v":""},"",null,{"$f":"IF(RIGHT(I52, 4)=\"Case\", \"\", IF(P52=\"\",\"\",(IF(ISNUMBER(SEARCH(\"exit\",J52)),8760,IF(B52=\"Exterior\",4380,'Analysis 103L'!$J$3)))))","v":""},null,"","","","","","","","",{"$f":"IF('100L Information'!$Z$5=\"Yes\",0,IF('100L Information'!$Z$4=\"Yes\",(MIN($Y$232-(-$Y$227),6000)*0.5)*(Y52/$Y$232),$Y$232*(Y52/($Y$230+$Y$231))))","v":{"$error":"#VALUE!"}},"",{"$error":"#VALUE!"},"No requirement",0,{"$f":"IF(OR(Z52=\"Does not meet requirement\",AND('100L Information'!$AA$21=\"No\",AL52=\"Y\"),AND('100L Information'!$AS$21=FALSE,AL52=\"Y\")),0,IF(ISNUMBER(R52*Incent_Cost_Fixture_Rx),MIN(R52*Incent_Cost_Fixture_Rx,(MAX(AE52,AK52))),0))","v":0},"FAIL","0","0","0",0,"N","0","0",null,"","",0,"",{"$f":"IF(RIGHT(I52,4)=\"Case\",W52,IF(AND(AL52=\"Y\",AF52<1),0,IF(OR(LEFT(D52,2)=\"T5\",LEFT(D52,3)=\"CFL\",'Analysis 103L'!AS52=\"Less\"),'Analysis 103L'!AR52,'Analysis 103L'!W52)))","v":""},null,0,0,null,{"$error":"#VALUE!"},{"$error":"#VALUE!"},{"$error":"#VALUE!"},null,null,{"$f":"IF(RIGHT(I52,4)=\"Case\",'LED Case Lighting'!$AY$1,IF(J52=\"\",\"\",VLOOKUP(J52,Lookups!$A$30:$J$149,VLOOKUP('100L Information'!$AI$46,Lookups!$J$3:$L$6,3,FALSE),FALSE)))","v":""},{"$error":"#N/A"},"","",{"$error":"#VALUE!"},{"$error":"#VALUE!"},{"$error":"#VALUE!"},{"$error":"#N/A"},0,{"$error":"#N/A"},0,{"$error":"#VALUE!"},{"$error":"#VALUE!"},{"$error":"#VALUE!"},"FAIL",null,null,null,null,null,null,null,"Interior / Exterior",null,"",null,{"$f":"IF(RIGHT(I52,4)=\"Case\",(INDEX('LED Case Lighting'!$AZ$3:$AZ$16,MATCH('Analysis 103L'!$CI52,'LED Case Lighting'!$AS$3:$AS$16,0))),IF(CB52=0,0,IF(CB52=\"lamp\",((Q52/VLOOKUP(B52,Int_Ext,2,FALSE))*VLOOKUP(E52,NEB,16,FALSE)),IF(CB52=\"fixture\",((Q52/VLOOKUP(B52,Int_Ext,2,FALSE))*VLOOKUP(E52,NEB,14,FALSE)),\"\"))))","v":""},null,{"$f":"IF(RIGHT(I52,4)=\"Case\",INDEX('Equipment Type'!$V$4:$V$53, MATCH('Analysis 103L'!$K52, 'Equipment Type'!$A$4:$A$53, 0)), \"\")","v":""},"","","",{"$f":"IF(CI52=\"\", \"\", IF(RIGHT(I52,4)=\"Case\", INDEX('LED Case Lighting'!$AR$3:$AR$16, MATCH('Analysis 103L'!CI52, 'LED Case Lighting'!$AS$3:$AS$16, 0)), \"\"))","v":""},{"$f":"IF(CI52=\"\",\"\",INDEX('LED Case Lighting'!$AW$3:$AW$16,MATCH('Analysis 103L'!CI52,'LED Case Lighting'!$AS$3:$AS$16,0)))","v":""},{"$f":"IF(CI52=\"\",\"\",INDEX('LED Case Lighting'!$AX$3:$AX$16,MATCH('Analysis 103L'!CI52,'LED Case Lighting'!$AS$3:$AS$16,0)))","v":""},""]
[26,null,null,null,null,null,"",null,{"$f":"IF(K53=\"\",\"\",VLOOKUP(K53,'Equipment Type'!$A$1:$F$53,5,FALSE))","v":""},{"$f":"IF(K53=\"\",\"\",VLOOKUP(K53,'Equipment Type'!$A$1:$F$53,6,FALSE))","v":""},null,{"$f":"IF(K53=\"\",\"\",VLOOKUP(K53,'Equipment Type'!$A$1:$F$53,4,FALSE))","v":""},null,{"$f":"IF(K53=\"\",\"\",INDEX('Equipment Type'!$T$4:$T$53,MATCH('Analysis 103L'!K53,'Equipment Type'!$A$4:$A$53,0)))","v":""},"",null,{"$f":"IF(RIGHT(I53, 4)=\"Case\", \"\", IF(P53=\"\",\"\",(IF(ISNUMBER(SEARCH(\"exit\",J53)),8760,IF(B53=\"Exterior\",4380,'Analysis 103L'!$J$3)))))","v":""},null,"","","","","","","","",{"$f":"IF('100L Information'!$Z$5=\"Yes\",0,IF('100L Information'!$Z$4=\"Yes\",(MIN($Y$232-(-$Y$227),6000)*0.5)*(Y53/$Y$232),$Y$232*(Y53/($Y$230+$Y$231))))","v":{"$error":"#VALUE!"}},"",{"$error":"#VALUE!"},"No requirement",0,{"$f":"IF(OR(Z53=\"Does not meet requirement\",AND('100L Information'!$AA$21=\"No\",AL53=\"Y\"),AND('100L Information'!$AS$21=FALSE,AL53=\"Y\")),0,IF(ISNUMBER(R53*Incent_Cost_Fixture_Rx),MIN(R53*Incent_Cost_Fixture_Rx,(MAX(AE53,AK53))),0))","v":0},"FAIL","0","0","0",0,"N","0","0",null,"","",0,"",{"$f":"IF(RIGHT(I53,4)=\"Case\",W53,IF(AND(AL53=\"Y\",AF53<1),0,IF(OR(LEFT(D53,2)=\"T5\",LEFT(D53,3)=\"CFL\",'Analysis 103L'!AS53=\"Less\"),'Analysis 103L'!AR53,'Analysis 103L'!W53)))","v":""},null,0,0,null,{"$error":"#VALUE!"},{"$error":"#VALUE!"},{"$error":"#VALUE!"},null,null,{"$f":"IF(RIGHT(I53,4)=\"Case\",'LED Case Lighting'!$AY$1,IF(J53=\"\",\"\",VLOOKUP(J53,Lookups!$A$30:$J$149,VLOOKUP('100L Information'!$AI$46,Lookups!$J$3:$L$6,3,FALSE),FALSE)))","v":""},{"$error":"#N/A"},"","",{"$error":"#VALUE!"},{"$error":"#VALUE!"},{"$error":"#VALUE!"},{"$error":"#N/A"},0,{"$error":"#N/A"},0,{"$error":"#VALUE!"},{"$error":"#VALUE!"},{"$error":"#VALUE!"},"FAIL",null,null,null,null,null,null,null,"Interior / Exterior",null,"",null,{"$f":"IF(RIGHT(I53,4)=\"Case\",(INDEX('LED Case Lighting'!$AZ$3:$AZ$16,MATCH('Analysis 103L'!$CI53,'LED Case Lighting'!$AS$3:$AS$16,0))),IF(CB53=0,0,IF(CB53=\"lamp\",((Q53/VLOOKUP(B53,Int_Ext,2,FALSE))*VLOOKUP(E53,NEB,16,FALSE)),IF(CB53=\"fixture\",((Q53/VLOOKUP(B53,Int_Ext,2,FALSE))*VLOOKUP(E53,NEB,14,FALSE)),\"\"))))","v":""},null,{"$f":"IF(RIGHT(I53,4)=\"Case\",INDEX('Equipment Type'!$V$4:$V$53, MATCH('Analysis 103L'!$K53, 'Equipment Type'!$A$4:$A$53, 0)), \"\")","v":""},"","","",{"$f":"IF(CI53=\"\", \"\", IF(RIGHT(I53,4)=\"Case\", INDEX('LED Case Lighting'!$AR$3:$AR$16, MATCH('Analysis 103L'!CI53, 'LED Case Lighting'!$AS$3:$AS$16, 0)), \"\"))","v":""},{"$f":"IF(CI53=\"\",\"\",INDEX('LED Case Lighting'!$AW$3:$AW$16,MATCH('Analysis 103L'!CI53,'LED Case Lighting'!$AS$3:$AS$16,0)))","v":""},{"$f":"IF(CI53=\"\",\"\",INDEX('LED Case Lighting'!$AX$3:$AX$16,MATCH('Analysis 103L'!CI53,'LED Case Lighting'!$AS$3:$AS$16,0)))","v":""},""]
[27,null,null,null,null,null,"",null,{"$f":"IF(K54=\"\",\"\",VLOOKUP(K54,'Equipment Type'!$A$1:$F$53,5,FALSE))","v":""},{"$f":"IF(K54=\"\",\"\",VLOOKUP(K54,'Equipment Type'!$A$1:$F$53,6,FALSE))","v":""},null,{"$f":"IF(K54=\"\",\"\",VLOOKUP(K54,'Equipment Type'!$A$1:$F$53,4,FALSE))","v":""},null,{"$f":"IF(K54=\"\",\"\",INDEX('Equipment Type'!$T$4:$T$53,MATCH('Analysis 103L'!K54,'Equipment Type'!$A$4:$A$53,0)))","v":""},"",null,{"$f":"IF(RIGHT(I54, 4)=\"Case\", \"\", IF(P54=\"\",\"\",(IF(ISNUMBER(SEARCH(\"exit\",J54)),8760,IF(B54=\"Exterior\",4380,'Analysis 103L'!$J$3)))))","v":""},null,"","","","","","","","",{"$f":"IF('100L Information'!$Z$5=\"Yes\",0,IF('100L Information'!$Z$4=\"Yes\",(MIN($Y$232-(-$Y$227),6000)*0.5)*(Y54/$Y$232),$Y$232*(Y54/($Y$230+$Y$231))))","v":{"$error":"#VALUE!"}},"",{"$error":"#VALUE!"},"No requirement",0,{"$f":"IF(OR(Z54=\"Does not meet requirement\",AND('100L Information'!$AA$21=\"No\",AL54=\"Y\"),AND('100L Information'!$AS$21=FALSE,AL54=\"Y\")),0,IF(ISNUMBER(R54*Incent_Cost_Fixture_Rx),MIN(R54*Incent_Cost_Fixture_Rx,(MAX(AE54,AK54))),0))","v":0},"FAIL","0","0","0",0,"N","0","0",null,"","",0,"",{"$f":"IF(RIGHT(I54,4)=\"Case\",W54,IF(AND(AL54=\"Y\",AF54<1),0,IF(OR(LEFT(D54,2)=\"T5\",LEFT(D54,3)=\"CFL\",'Analysis 103L'!AS54=\"Less\"),'Analysis 103L'!AR54,'Analysis 103L'!W54)))","v":""},null,0,0,null,{"$error":"#VALUE!"},{"$error":"#VALUE!"},{"$error":"#VALUE!"},null,null,{"$f":"IF(RIGHT(I54,4)=\"Case\",'LED Case Lighting'!$AY$1,IF(J54=\"\",\"\",VLOOKUP(J54,Lookups!$A$30:$J$149,VLOOKUP('100L Information'!$AI$46,Lookups!$J$3:$L$6,3,FALSE),FALSE)))","v":""},{"$error":"#N/A"},"","",{"$error":"#VALUE!"},{"$error":"#VALUE!"},{"$error":"#VALUE!"},{"$error":"#N/A"},0,{"$error":"#N/A"},0,{"$error":"#VALUE!"},{"$error":"#VALUE!"},{"$error":"#VALUE!"},"FAIL",null,null,null,null,null,null,null,"Interior / Exterior",null,"",null,{"$f":"IF(RIGHT(I54,4)=\"Case\",(INDEX('LED Case Lighting'!$AZ$3:$AZ$16,MATCH('Analysis 103L'!$CI54,'LED Case Lighting'!$AS$3:$AS$16,0))),IF(CB54=0,0,IF(CB54=\"lamp\",((Q54/VLOOKUP(B54,Int_Ext,2,FALSE))*VLOOKUP(E54,NEB,16,FALSE)),IF(CB54=\"fixture\",((Q54/VLOOKUP(B54,Int_Ext,2,FALSE))*VLOOKUP(E54,NEB,14,FALSE)),\"\"))))","v":""},null,{"$f":"IF(RIGHT(I54,4)=\"Case\",INDEX('Equipment Type'!$V$4:$V$53, MATCH('Analysis 103L'!$K54, 'Equipment Type'!$A$4:$A$53, 0)), \"\")","v":""},"","","",{"$f":"IF(CI54=\"\", \"\", IF(RIGHT(I54,4)=\"Case\", INDEX('LED Case Lighting'!$AR$3:$AR$16, MATCH('Analysis 103L'!CI54, 'LED Case Lighting'!$AS$3:$AS$16, 0)), \"\"))","v":""},{"$f":"IF(CI54=\"\",\"\",INDEX('LED Case Lighting'!$AW$3:$AW$16,MATCH('Analysis 103L'!CI54,'LED Case Lighting'!$AS$3:$AS$16,0)))","v":""},{"$f":"IF(CI54=\"\",\"\",INDEX('LED Case Lighting'!$AX$3:$AX$16,MATCH('Analysis 103L'!CI54,'LED Case Lighting'!$AS$3:$AS$16,0)))","v":""},""]
[28,null,null,null,null,null,"",null,{"$f":"IF(K55=\"\",\"\",VLOOKUP(K55,'Equipment Type'!$A$1:$F$53,5,FALSE))","v":""},{"$f":"IF(K55=\"\",\"\",VLOOKUP(K55,'Equipment Type'!$A$1:$F$53,6,FALSE))","v":""},null,{"$f":"IF(K55=\"\",\"\",VLOOKUP(K55,'Equipment Type'!$A$1:$F$53,4,FALSE))","v":""},null,{"$f":"IF(K55=\"\",\"\",INDEX('Equipment Type'!$T$4:$T$53,MATCH('Analysis 103L'!K55,'Equipment Type'!$A$4:$A$53,0)))","v":""},"",null,{"$f":"IF(RIGHT(I55, 4)=\"Case\", \"\", IF(P55=\"\",\"\",(IF(ISNUMBER(SEARCH(\"exit\",J55)),8760,IF(B55=\"Exterior\",4380,'Analysis 103L'!$J$3)))))","v":""},null,"","","","","","","","",{"$f":"IF('100L Information'!$Z$5=\"Yes\",0,IF('100L Information'!$Z$4=\"Yes\",(MIN($Y$232-(-$Y$227),6000)*0.5)*(Y55/$Y$232),$Y$232*(Y55/($Y$230+$Y$231))))","v":{"$error":"#VALUE!"}},"",{"$error":"#VALUE!"},"No requirement",0,{"$f":"IF(OR(Z55=\"Does not meet requirement\",AND('100L Information'!$AA$21=\"No\",AL55=\"Y\"),AND('100L Information'!$AS$21=FALSE,AL55=\"Y\")),0,IF(ISNUMBER(R55*Incent_Cost_Fixture_Rx),MIN(R55*Incent_Cost_Fixture_Rx,(MAX(AE55,AK55))),0))","v":0},"FAIL","0","0","0",0,"N","0","0",null,"","",0,"",{"$f":"IF(RIGHT(I55,4)=\"Case\",W55,IF(AND(AL55=\"Y\",AF55<1),0,IF(OR(LEFT(D55,2)=\"T5\",LEFT(D55,3)=\"CFL\",'Analysis 103L'!AS55=\"Less\"),'Analysis 103L'!AR55,'Analysis 103L'!W55)))","v":""},null,0,0,null,{"$error":"#VALUE!"},{"$error":"#VALUE!"},{"$error":"#VALUE!"},null,null,{"$f":"IF(RIGHT(I55,4)=\"Case\",'LED Case Lighting'!$AY$1,IF(J55=\"\",\"\",VLOOKUP(J55,Lookups!$A$30:$J$149,VLOOKUP('100L Information'!$AI$46,Lookups!$J$3:$L$6,3,FALSE),FALSE)))","v":""},{"$error":"#N/A"},"","",{"$error":"#VALUE!"},{"$error":"#VALUE!"},{"$error":"#VALUE!"},{"$error":"#N/A"},0,{"$error":"#N/A"},0,{"$error":"#VALUE!"},{"$error":"#VALUE!"},{"$error":"#VALUE!"},"FAIL",null,null,null,null,null,null,null,"Interior / Exterior",null,"",null,{"$f":"IF(RIGHT(I55,4)=\"Case\",(INDEX('LED Case Lighting'!$AZ$3:$AZ$16,MATCH('Analysis 103L'!$CI55,'LED Case Lighting'!$AS$3:$AS$16,0))),IF(CB55=0,0,IF(CB55=\"lamp\",((Q55/VLOOKUP(B55,Int_Ext,2,FALSE))*VLOOKUP(E55,NEB,16,FALSE)),IF(CB55=\"fixture\",((Q55/VLOOKUP(B55,Int_Ext,2,FALSE))*VLOOKUP(E55,NEB,14,FALSE)),\"\"))))","v":""},null,{"$f":"IF(RIGHT(I55,4)=\"Case\",INDEX('Equipment Type'!$V$4:$V$53, MATCH('Analysis 103L'!$K55, 'Equipment Type'!$A$4:$A$53, 0)), \"\")","v":""},"","","",{"$f":"IF(CI55=\"\", \"\", IF(RIGHT(I55,4)=\"Case\", INDEX('LED Case Lighting'!$AR$3:$AR$16, MATCH('Analysis 103L'!CI55, 'LED Case Lighting'!$AS$3:$AS$16, 0)), \"\"))","v":""},{"$f":"IF(CI55=\"\",\"\",INDEX('LED Case Lighting'!$AW$3:$AW$16,MATCH('Analysis 103L'!CI55,'LED Case Lighting'!$AS$3:$AS$16,0)))","v":""},{"$f":"IF(CI55=\"\",\"\",INDEX('LED Case Lighting'!$AX$3:$AX$16,MATCH('Analysis 103L'!CI55,'LED Case Lighting'!$AS$3:$AS$16,0)))","v":""},""]
[29,null,null,null,null,null,"",null,{"$f":"IF(K56=\"\",\"\",VLOOKUP(K56,'Equipment Type'!$A$1:$F$53,5,FALSE))","v":""},{"$f":"IF(K56=\"\",\"\",VLOOKUP(K56,'Equipment Type'!$A$1:$F$53,6,FALSE))","v":""},null,{"$f":"IF(K56=\"\",\"\",VLOOKUP(K56,'Equipment Type'!$A$1:$F$53,4,FALSE))","v":""},null,{"$f":"IF(K56=\"\",\"\",INDEX('Equipment Type'!$T$4:$T$53,MATCH('Analysis 103L'!K56,'Equipment Type'!$A$4:$A$53,0)))","v":""},"",null,{"$f":"IF(RIGHT(I56, 4)=\"Case\", \"\", IF(P56=\"\",\"\",(IF(ISNUMBER(SEARCH(\"exit\",J56)),8760,IF(B56=\"Exterior\",4380,'Analysis 103L'!$J$3)))))","v":""},null,"","","","","","","","",{"$f":"IF('100L Information'!$Z$5=\"Yes\",0,IF('100L Information'!$Z$4=\"Yes\",(MIN($Y$232-(-$Y$227),6000)*0.5)*(Y56/$Y$232),$Y$232*(Y56/($Y$230+$Y$231))))","v":{"$error":"#VALUE!"}},"",{"$error":"#VALUE!"},"No requirement",0,{"$f":"IF(OR(Z56=\"Does not meet requirement\",AND('100L Information'!$AA$21=\"No\",AL56=\"Y\"),AND('100L Information'!$AS$21=FALSE,AL56=\"Y\")),0,IF(ISNUMBER(R56*Incent_Cost_Fixture_Rx),MIN(R56*Incent_Cost_Fixture_Rx,(MAX(AE56,AK56))),0))","v":0},"FAIL","0","0","0",0,"N","0","0",null,"","",0,"",{"$f":"IF(RIGHT(I56,4)=\"Case\",W56,IF(AND(AL56=\"Y\",AF56<1),0,IF(OR(LEFT(D56,2)=\"T5\",LEFT(D56,3)=\"CFL\",'Analysis 103L'!AS56=\"Less\"),'Analysis 103L'!AR56,'Analysis 103L'!W56)))","v":""},null,0,0,null,{"$error":"#VALUE!"},{"$error":"#VALUE!"},{"$error":"#VALUE!"},null,null,{"$f":"IF(RIGHT(I56,4)=\"Case\",'LED Case Lighting'!$AY$1,IF(J56=\"\",\"\",VLOOKUP(J56,Lookups!$A$30:$J$149,VLOOKUP('100L Information'!$AI$46,Lookups!$J$3:$L$6,3,FALSE),FALSE)))","v":""},{"$error":"#N/A"},"","",{"$error":"#VALUE!"},{"$error":"#VALUE!"},{"$error":"#VALUE!"},{"$error":"#N/A"},0,{"$error":"#N/A"},0,{"$error":"#VALUE!"},{"$error":"#VALUE!"},{"$error":"#VALUE!"},"FAIL",null,null,null,null,null,null,null,"Interior / Exterior",null,"",null,{"$f":"IF(RIGHT(I56,4)=\"Case\",(INDEX('LED Case Lighting'!$AZ$3:$AZ$16,MATCH('Analysis 103L'!$CI56,'LED Case Lighting'!$AS$3:$AS$16,0))),IF(CB56=0,0,IF(CB56=\"lamp\",((Q56/VLOOKUP(B56,Int_Ext,2,FALSE))*VLOOKUP(E56,NEB,16,FALSE)),IF(CB56=\"fixture\",((Q56/VLOOKUP(B56,Int_Ext,2,FALSE))*VLOOKUP(E56,NEB,14,FALSE)),\"\"))))","v":""},null,{"$f":"IF(RIGHT(I56,4)=\"Case\",INDEX('Equipment Type'!$V$4:$V$53, MATCH('Analysis 103L'!$K56, 'Equipment Type'!$A$4:$A$53, 0)), \"\")","v":""},"","","",{"$f":"IF(CI56=\"\", \"\", IF(RIGHT(I56,4)=\"Case\", INDEX('LED Case Lighting'!$AR$3:$AR$16, MATCH('Analysis 103L'!CI56, 'LED Case Lighting'!$AS$3:$AS$16, 0)), \"\"))","v":""},{"$f":"IF(CI56=\"\",\"\",INDEX('LED Case Lighting'!$AW$3:$AW$16,MATCH('Analysis 103L'!CI56,'LED Case Lighting'!$AS$3:$AS$16,0)))","v":""},{"$f":"IF(CI56=\"\",\"\",INDEX('LED Case Lighting'!$AX$3:$AX$16,MATCH('Analysis 103L'!CI56,'LED Case Lighting'!$AS$3:$AS$16,0)))","v":""},""]
[30,null,null,null,null,null,"",null,{"$f":"IF(K57=\"\",\"\",VLOOKUP(K57,'Equipment Type'!$A$1:$F$53,5,FALSE))","v":""},{"$f":"IF(K57=\"\",\"\",VLOOKUP(K57,'Equipment Type'!$A$1:$F$53,6,FALSE))","v":""},null,{"$f":"IF(K57=\"\",\"\",VLOOKUP(K57,'Equipment Type'!$A$1:$F$53,4,FALSE))","v":""},null,{"$f":"IF(K57=\"\",\"\",INDEX('Equipment Type'!$T$4:$T$53,MATCH('Analysis 103L'!K57,'Equipment Type'!$A$4:$A$53,0)))","v":""},"",null,{"$f":"IF(RIGHT(I57, 4)=\"Case\", \"\", IF(P57=\"\",\"\",(IF(ISNUMBER(SEARCH(\"exit\",J57)),8760,IF(B57=\"Exterior\",4380,'Analysis 103L'!$J$3)))))","v":""},null,"","","","","","","","",{"$f":"IF('100L Information'!$Z$5=\"Yes\",0,IF('100L Information'!$Z$4=\"Yes\",(MIN($Y$232-(-$Y$227),6000)*0.5)*(Y57/$Y$232),$Y$232*(Y57/($Y$230+$Y$231))))","v":{"$error":"#VALUE!"}},"",{"$error":"#VALUE!"},"No requirement",0,{"$f":"IF(OR(Z57=\"Does not meet requirement\",AND('100L Information'!$AA$21=\"No\",AL57=\"Y\"),AND('100L Information'!$AS$21=FALSE,AL57=\"Y\")),0,IF(ISNUMBER(R57*Incent_Cost_Fixture_Rx),MIN(R57*Incent_Cost_Fixture_Rx,(MAX(AE57,AK57))),0))","v":0},"FAIL","0","0","0",0,"N","0","0",null,"","",0,"",{"$f":"IF(RIGHT(I57,4)=\"Case\",W57,IF(AND(AL57=\"Y\",AF57<1),0,IF(OR(LEFT(D57,2)=\"T5\",LEFT(D57,3)=\"CFL\",'Analysis 103L'!AS57=\"Less\"),'Analysis 103L'!AR57,'Analysis 103L'!W57)))","v":""},null,0,0,null,{"$error":"#VALUE!"},{"$error":"#VALUE!"},{"$error":"#VALUE!"},null,null,{"$f":"IF(RIGHT(I57,4)=\"Case\",'LED Case Lighting'!$AY$1,IF(J57=\"\",\"\",VLOOKUP(J57,Lookups!$A$30:$J$149,VLOOKUP('100L Information'!$AI$46,Lookups!$J$3:$L$6,3,FALSE),FALSE)))","v":""},{"$error":"#N/A"},"","",{"$error":"#VALUE!"},{"$error":"#VALUE!"},{"$error":"#VALUE!"},{"$error":"#N/A"},0,{"$error":"#N/A"},0,{"$error":"#VALUE!"},{"$error":"#VALUE!"},{"$error":"#VALUE!"},"FAIL",null,null,null,null,null,null,null,"Interior / Exterior",null,"",null,{"$f":"IF(RIGHT(I57,4)=\"Case\",(INDEX('LED Case Lighting'!$AZ$3:$AZ$16,MATCH('Analysis 103L'!$CI57,'LED Case Lighting'!$AS$3:$AS$16,0))),IF(CB57=0,0,IF(CB57=\"lamp\",((Q57/VLOOKUP(B57,Int_Ext,2,FALSE))*VLOOKUP(E57,NEB,16,FALSE)),IF(CB57=\"fixture\",((Q57/VLOOKUP(B57,Int_Ext,2,FALSE))*VLOOKUP(E57,NEB,14,FALSE)),\"\"))))","v":""},null,{"$f":"IF(RIGHT(I57,4)=\"Case\",INDEX('Equipment Type'!$V$4:$V$53, MATCH('Analysis 103L'!$K57, 'Equipment Type'!$A$4:$A$53, 0)), \"\")","v":""},"","","",{"$f":"IF(CI57=\"\", \"\", IF(RIGHT(I57,4)=\"Case\", INDEX('LED Case Lighting'!$AR$3:$AR$16, MATCH('Analysis 103L'!CI57, 'LED Case Lighting'!$AS$3:$AS$16, 0)), \"\"))","v":""},{"$f":"IF(CI57=\"\",\"\",INDEX('LED Case Lighting'!$AW$3:$AW$16,MATCH('Analysis 103L'!CI57,'LED Case Lighting'!$AS$3:$AS$16,0)))","v":""},{"$f":"IF(CI57=\"\",\"\",INDEX('LED Case Lighting'!$AX$3:$AX$16,MATCH('Analysis 103L'!CI57,'LED Case Lighting'!$AS$3:$AS$16,0)))","v":""},""]
[31,null,null,null,null,null,"",null,{"$f":"IF(K58=\"\",\"\",VLOOKUP(K58,'Equipment Type'!$A$1:$F$53,5,FALSE))","v":""},{"$f":"IF(K58=\"\",\"\",VLOOKUP(K58,'Equipment Type'!$A$1:$F$53,6,FALSE))","v":""},null,{"$f":"IF(K58=\"\",\"\",VLOOKUP(K58,'Equipment Type'!$A$1:$F$53,4,FALSE))","v":""},null,{"$f":"IF(K58=\"\",\"\",INDEX('Equipment Type'!$T$4:$T$53,MATCH('Analysis 103L'!K58,'Equipment Type'!$A$4:$A$53,0)))","v":""},"",null,{"$f":"IF(RIGHT(I58, 4)=\"Case\", \"\", IF(P58=\"\",\"\",(IF(ISNUMBER(SEARCH(\"exit\",J58)),8760,IF(B58=\"Exterior\",4380,'Analysis 103L'!$J$3)))))","v":""},null,"","","","","","","","",{"$f":"IF('100L Information'!$Z$5=\"Yes\",0,IF('100L Information'!$Z$4=\"Yes\",(MIN($Y$232-(-$Y$227),6000)*0.5)*(Y58/$Y$232),$Y$232*(Y58/($Y$230+$Y$231))))","v":{"$error":"#VALUE!"}},"",{"$error":"#VALUE!"},"No requirement",0,{"$f":"IF(OR(Z58=\"Does not meet requirement\",AND('100L Information'!$AA$21=\"No\",AL58=\"Y\"),AND('100L Information'!$AS$21=FALSE,AL58=\"Y\")),0,IF(ISNUMBER(R58*Incent_Cost_Fixture_Rx),MIN(R58*Incent_Cost_Fixture_Rx,(MAX(AE58,AK58))),0))","v":0},"FAIL","0","0","0",0,"N","0","0",null,"","",0,"",{"$f":"IF(RIGHT(I58,4)=\"Case\",W58,IF(AND(AL58=\"Y\",AF58<1),0,IF(OR(LEFT(D58,2)=\"T5\",LEFT(D58,3)=\"CFL\",'Analysis 103L'!AS58=\"Less\"),'Analysis 103L'!AR58,'Analysis 103L'!W58)))","v":""},null,0,0,null,{"$error":"#VALUE!"},{"$error":"#VALUE!"},{"$error":"#VALUE!"},null,null,{"$f":"IF(RIGHT(I58,4)=\"Case\",'LED Case Lighting'!$AY$1,IF(J58=\"\",\"\",VLOOKUP(J58,Lookups!$A$30:$J$149,VLOOKUP('100L Information'!$AI$46,Lookups!$J$3:$L$6,3,FALSE),FALSE)))","v":""},{"$error":"#N/A"},"","",{"$error":"#VALUE!"},{"$error":"#VALUE!"},{"$error":"#VALUE!"},{"$error":"#N/A"},0,{"$error":"#N/A"},0,{"$error":"#VALUE!"},{"$error":"#VALUE!"},{"$error":"#VALUE!"},"FAIL",null,null,null,null,null,null,null,"Interior / Exterior",null,"",null,{"$f":"IF(RIGHT(I58,4)=\"Case\",(INDEX('LED Case Lighting'!$AZ$3:$AZ$16,MATCH('Analysis 103L'!$CI58,'LED Case Lighting'!$AS$3:$AS$16,0))),IF(CB58=0,0,IF(CB58=\"lamp\",((Q58/VLOOKUP(B58,Int_Ext,2,FALSE))*VLOOKUP(E58,NEB,16,FALSE)),IF(CB58=\"fixture\",((Q58/VLOOKUP(B58,Int_Ext,2,FALSE))*VLOOKUP(E58,NEB,14,FALSE)),\"\"))))","v":""},null,{"$f":"IF(RIGHT(I58,4)=\"Case\",INDEX('Equipment Type'!$V$4:$V$53, MATCH('Analysis 103L'!$K58, 'Equipment Type'!$A$4:$A$53, 0)), \"\")","v":""},"","","",{"$f":"IF(CI58=\"\", \"\", IF(RIGHT(I58,4)=\"Case\", INDEX('LED Case Lighting'!$AR$3:$AR$16, MATCH('Analysis 103L'!CI58, 'LED Case Lighting'!$AS$3:$AS$16, 0)), \"\"))","v":""},{"$f":"IF(CI58=\"\",\"\",INDEX('LED Case Lighting'!$AW$3:$AW$16,MATCH('Analysis 103L'!CI58,'LED Case Lighting'!$AS$3:$AS$16,0)))","v":""},{"$f":"IF(CI58=\"\",\"\",INDEX('LED Case Lighting'!$AX$3:$AX$16,MATCH('Analysis 103L'!CI58,'LED Case Lighting'!$AS$3:$AS$16,0)))","v":""},""]
[32,null,null,null,null,null,"",null,{"$f":"IF(K59=\"\",\"\",VLOOKUP(K59,'Equipment Type'!$A$1:$F$53,5,FALSE))","v":""},{"$f":"IF(K59=\"\",\"\",VLOOKUP(K59,'Equipment Type'!$A$1:$F$53,6,FALSE))","v":""},null,{"$f":"IF(K59=\"\",\"\",VLOOKUP(K59,'Equipment Type'!$A$1:$F$53,4,FALSE))","v":""},null,{"$f":"IF(K59=\"\",\"\",INDEX('Equipment Type'!$T$4:$T$53,MATCH('Analysis 103L'!K59,'Equipment Type'!$A$4:$A$53,0)))","v":""},"",null,{"$f":"IF(RIGHT(I59, 4)=\"Case\", \"\", IF(P59=\"\",\"\",(IF(ISNUMBER(SEARCH(\"exit\",J59)),8760,IF(B59=\"Exterior\",4380,'Analysis 103L'!$J$3)))))","v":""},null,"","","","","","","","",{"$f":"IF('100L Information'!$Z$5=\"Yes\",0,IF('100L Information'!$Z$4=\"Yes\",(MIN($Y$232-(-$Y$227),6000)*0.5)*(Y59/$Y$232),$Y$232*(Y59/($Y$230+$Y$231))))","v":{"$error":"#VALUE!"}},"",{"$error":"#VALUE!"},"No requirement",0,{"$f":"IF(OR(Z59=\"Does not meet requirement\",AND('100L Information'!$AA$21=\"No\",AL59=\"Y\"),AND('100L Information'!$AS$21=FALSE,AL59=\"Y\")),0,IF(ISNUMBER(R59*Incent_Cost_Fixture_Rx),MIN(R59*Incent_Cost_Fixture_Rx,(MAX(AE59,AK59))),0))","v":0},"FAIL","0","0","0",0,"N","0","0",null,"","",0,"",{"$f":"IF(RIGHT(I59,4)=\"Case\",W59,IF(AND(AL59=\"Y\",AF59<1),0,IF(OR(LEFT(D59,2)=\"T5\",LEFT(D59,3)=\"CFL\",'Analysis 103L'!AS59=\"Less\"),'Analysis 103L'!AR59,'Analysis 103L'!W59)))","v":""},null,0,0,null,{"$error":"#VALUE!"},{"$error":"#VALUE!"},{"$error":"#VALUE!"},null,null,{"$f":"IF(RIGHT(I59,4)=\"Case\",'LED Case Lighting'!$AY$1,IF(J59=\"\",\"\",VLOOKUP(J59,Lookups!$A$30:$J$149,VLOOKUP('100L Information'!$AI$46,Lookups!$J$3:$L$6,3,FALSE),FALSE)))","v":""},{"$error":"#N/A"},"","",{"$error":"#VALUE!"},{"$error":"#VALUE!"},{"$error":"#VALUE!"},{"$error":"#N/A"},0,{"$error":"#N/A"},0,{"$error":"#VALUE!"},{"$error":"#VALUE!"},{"$error":"#VALUE!"},"FAIL",null,null,null,null,null,null,null,"Interior / Exterior",null,"",null,{"$f":"IF(RIGHT(I59,4)=\"Case\",(INDEX('LED Case Lighting'!$AZ$3:$AZ$16,MATCH('Analysis 103L'!$CI59,'LED Case Lighting'!$AS$3:$AS$16,0))),IF(CB59=0,0,IF(CB59=\"lamp\",((Q59/VLOOKUP(B59,Int_Ext,2,FALSE))*VLOOKUP(E59,NEB,16,FALSE)),IF(CB59=\"fixture\",((Q59/VLOOKUP(B59,Int_Ext,2,FALSE))*VLOOKUP(E59,NEB,14,FALSE)),\"\"))))","v":""},null,{"$f":"IF(RIGHT(I59,4)=\"Case\",INDEX('Equipment Type'!$V$4:$V$53, MATCH('Analysis 103L'!$K59, 'Equipment Type'!$A$4:$A$53, 0)), \"\")","v":""},"","","",{"$f":"IF(CI59=\"\", \"\", IF(RIGHT(I59,4)=\"Case\", INDEX('LED Case Lighting'!$AR$3:$AR$16, MATCH('Analysis 103L'!CI59, 'LED Case Lighting'!$AS$3:$AS$16, 0)), \"\"))","v":""},{"$f":"IF(CI59=\"\",\"\",INDEX('LED Case Lighting'!$AW$3:$AW$16,MATCH('Analysis 103L'!CI59,'LED Case Lighting'!$AS$3:$AS$16,0)))","v":""},{"$f":"IF(CI59=\"\",\"\",INDEX('LED Case Lighting'!$AX$3:$AX$16,MATCH('Analysis 103L'!CI59,'LED Case Lighting'!$AS$3:$AS$16,0)))","v":""},""]
[33,null,null,null,null,null,"",null,{"$f":"IF(K60=\"\",\"\",VLOOKUP(K60,'Equipment Type'!$A$1:$F$53,5,FALSE))","v":""},{"$f":"IF(K60=\"\",\"\",VLOOKUP(K60,'Equipment Type'!$A$1:$F$53,6,FALSE))","v":""},null,{"$f":"IF(K60=\"\",\"\",VLOOKUP(K60,'Equipment Type'!$A$1:$F$53,4,FALSE))","v":""},null,{"$f":"IF(K60=\"\",\"\",INDEX('Equipment Type'!$T$4:$T$53,MATCH('Analysis 103L'!K60,'Equipment Type'!$A$4:$A$53,0)))","v":""},"",null,{"$f":"IF(RIGHT(I60, 4)=\"Case\", \"\", IF(P60=\"\",\"\",(IF(ISNUMBER(SEARCH(\"exit\",J60)),8760,IF(B60=\"Exterior\",4380,'Analysis 103L'!$J$3)))))","v":""},null,"","","","","","","",{"$f":"IF(M60 = \"Y\",IF(AND(M60=\"Y\",AG60=\"FAIL\"),\"Not Cost Effective\",\"\"),IF(AD60=1,\"Does not meet requirement\",\"\"))","v":""},{"$f":"IF('100L Information'!$Z$5=\"Yes\",0,IF('100L Information'!$Z$4=\"Yes\",(MIN($Y$232-(-$Y$227),6000)*0.5)*(Y60/$Y$232),$Y$232*(Y60/($Y$230+$Y$231))))","v":{"$error":"#VALUE!"}},"",{"$f":"IF(RIGHT(I60, 4)=\"Case\", \"\", MIN(W60*IF(I60=\"GROW\", RunRateMax_CustomMeasures_Horti, IF(I60=\"Street_Lighting\", RunRateMax_Streetlighting, RunRateMax_CustomMeasures_fixtures)),S60*Incent_Cost_Fixture_Cust))","v":{"$error":"#VALUE!"}},"No requirement",{"$f":"MAX(IF(ISERROR(VLOOKUP(CONCATENATE(J60,\" from \",VLOOKUP(D60,ExistFixtCat,4,FALSE)),PropFixtIncent,2,FALSE)),0,VLOOKUP(CONCATENATE(J60,\" from \",VLOOKUP(D60,ExistFixtCat,4,FALSE)),PropFixtIncent,2,FALSE)),IF(ISERROR(VLOOKUP(CONCATENATE(J60,\" from ANY\"),PropFixtIncent,2,FALSE)),0,VLOOKUP(CONCATENATE(J60,\" from ANY\"),PropFixtIncent,2,FALSE)))","v":0},{"$f":"IF(OR(Z60=\"Does not meet requirement\",AND('100L Information'!$AA$21=\"No\",AL60=\"Y\"),AND('100L Information'!$AS$21=FALSE,AL60=\"Y\")),0,IF(ISNUMBER(R60*Incent_Cost_Fixture_Rx),MIN(R60*Incent_Cost_Fixture_Rx,(MAX(AE60,AK60))),0))","v":0},{"$f":"IF(AND(M60=\"Y\",BR60=\"PASS/PASS\"),\"PASS/PASS\",\"FAIL\")","v":"FAIL"},"0","0","0",{"$f":"IF(AE60=0,MAX(IF(ISERROR(VLOOKUP(CONCATENATE(J60,\" from \",VLOOKUP(E60,ExistFixtCat,4,FALSE)),PropFixtIncent,2,FALSE)),0,VLOOKUP(CONCATENATE(J60,\" from \",VLOOKUP(E60,ExistFixtCat,4,FALSE)),PropFixtIncent,2,FALSE)),IF(ISERROR(VLOOKUP(CONCATENATE(J60,\" from ANY\"),PropFixtIncent,2,FALSE)),0,VLOOKUP(CONCATENATE(J60,\" from ANY\"),PropFixtIncent,2,FALSE))),0)","v":0},"N",{"$f":"IF(AG60=\"PASS/PASS\",W60,\"0\")","v":"0"},{"$f":"IF(AG60=\"PASS/PASS\",Y60,\"0\")","v":"0"},null,{"$f":"IF(AND($CB60=\"fixture\",OR($D60=\"CFL\",$D60=\"INCAN\")),VLOOKUP(E60,Incan_Lookup,7,FALSE)*$G60*H60+VLOOKUP(E60,Incan_Lookup,6,FALSE)*$N60*P60,IF(AND($CB60=\"lamp\",OR($D60=\"CFL\",$D60=\"INCAN\")),VLOOKUP(E60,Incan_Lookup,10,FALSE)*$G60*H60+VLOOKUP(E60,Incan_Lookup,9,FALSE)*$N60*P60,IF($D60=\"OTHER\",$G60*$H60,IF($CB60=\"lamp\",(VLOOKUP($E60,ExistFixtLookup,10,FALSE)*H60+VLOOKUP($E60,ExistFixtLookup,9,FALSE)*N60*P60),IF($CB60=\"fixture\",(VLOOKUP($E60,ExistFixtLookup,7,FALSE)*H60+VLOOKUP($E60,ExistFixtLookup,6,FALSE)*N60*P60),$G60)))))","v":""},"",{"$f":"IF(AND(ISNUMBER(BD60),ISNUMBER(W60),$CB60=\"lamp\"),(W60*VLOOKUP(E60,ExistFixtLookup,11,FALSE)+AQ60*(BD60-VLOOKUP(E60,ExistFixtLookup,11,FALSE)))/BD60,IF(AND(ISNUMBER(BD60),ISNUMBER(W60),$CB60=\"fixture\"),(W60*VLOOKUP(E60,ExistFixtLookup,8,FALSE)+AQ60*(BD60-VLOOKUP(E60,ExistFixtLookup,8,FALSE)))/BD60,IF(ISNUMBER(W60),W60,0)))","v":0},"",{"$f":"IF(RIGHT(I60,4)=\"Case\",W60,IF(AND(AL60=\"Y\",AF60<1),0,IF(OR(LEFT(D60,2)=\"T5\",LEFT(D60,3)=\"CFL\",'Analysis 103L'!AS60=\"Less\"),'Analysis 103L'!AR60,'Analysis 103L'!W60)))","v":""},null,0,0,null,{"$error":"#VALUE!"},{"$error":"#VALUE!"},{"$error":"#VALUE!"},null,null,{"$f":"IF(RIGHT(I60,4)=\"Case\",'LED Case Lighting'!$AY$1,IF(J60=\"\",\"\",VLOOKUP(J60,Lookups!$A$30:$J$149,VLOOKUP('100L Information'!$AI$46,Lookups!$J$3:$L$6,3,FALSE),FALSE)))","v":""},{"$f":"IF(B60=\"Exterior\", INDEX($BW$28:$BW$40, $BX$229), IF(BusType=\"Manufacturing\", IF(Q60<3500, \"1-Shift Industrial\", IF(Q60<5500, \"2-Shift Industrial\", IF(Q60<8000, \"3-Shift Industrial\", \"FLAT\"))), INDEX($BV$28:$BV$40, $BX$229)))","v":{"$error":"#N/A"}},"","",{"$error":"#VALUE!"},{"$error":"#VALUE!"},{"$error":"#VALUE!"},{"$f":"VLOOKUP(E60,ExistFixtCat,3,FALSE)/(H60*IF(ISNUMBER(VALUE(MID(E60,5,1))),VALUE(MID(E60,5,1)),1)*Q60)","v":{"$error":"#N/A"}},{"$f":"IF(ISERROR(-PV(POWER(1+Discount_Rate,$BK60)-1,$BD60/$BK60,10+VLOOKUP($E60,ExistFixtCat,2,FALSE))),0,-PV(POWER(1+Discount_Rate,$BK60)-1,$BD60/$BK60,10+VLOOKUP($E60,ExistFixtCat,2,FALSE)))","v":0},{"$f":"VLOOKUP($J60,PropOpLife,3,FALSE)/($P60*IF(ISNUMBER(VALUE(MID($J60,5,1))),VALUE(MID($J60,5,1)),1)*$Q60)","v":{"$error":"#N/A"}},{"$f":"IF(OR(ISERROR(-PV(POWER(1+Discount_Rate,$BM60)-1,$BD60/$BM60,MIN(R60,10+0.5*VLOOKUP($J60,PropOpLife,2,FALSE)))),BL60=0),0,-PV(POWER(1+Discount_Rate,$BM60)-1,$BD60/$BM60,MIN(R60,10+0.5*VLOOKUP($J60,PropOpLife,2,FALSE))))","v":0},{"$error":"#VALUE!"},{"$error":"#VALUE!"},{"$error":"#VALUE!"},"FAIL",null,null,null,null,null,null,null,"Interior / Exterior",null,{"$f":"IF(I60=\"\",\"\",VLOOKUP(I60,FixVsLamp,2,FALSE))","v":""},null,{"$f":"IF(RIGHT(I60,4)=\"Case\",(INDEX('LED Case Lighting'!$AZ$3:$AZ$16,MATCH('Analysis 103L'!$CI60,'LED Case Lighting'!$AS$3:$AS$16,0))),IF(CB60=0,0,IF(CB60=\"lamp\",((Q60/VLOOKUP(B60,Int_Ext,2,FALSE))*VLOOKUP(E60,NEB,16,FALSE)),IF(CB60=\"fixture\",((Q60/VLOOKUP(B60,Int_Ext,2,FALSE))*VLOOKUP(E60,NEB,14,FALSE)),\"\"))))","v":""},null,{"$f":"IF(RIGHT(I60,4)=\"Case\",INDEX('Equipment Type'!$V$4:$V$53, MATCH('Analysis 103L'!$K60, 'Equipment Type'!$A$4:$A$53, 0)), \"\")","v":""},"","","",{"$f":"IF(CI60=\"\", \"\", IF(RIGHT(I60,4)=\"Case\", INDEX('LED Case Lighting'!$AR$3:$AR$16, MATCH('Analysis 103L'!CI60, 'LED Case Lighting'!$AS$3:$AS$16, 0)), \"\"))","v":""},{"$f":"IF(CI60=\"\",\"\",INDEX('LED Case Lighting'!$AW$3:$AW$16,MATCH('Analysis 103L'!CI60,'LED Case Lighting'!$AS$3:$AS$16,0)))","v":""},{"$f":"IF(CI60=\"\",\"\",INDEX('LED Case Lighting'!$AX$3:$AX$16,MATCH('Analysis 103L'!CI60,'LED Case Lighting'!$AS$3:$AS$16,0)))","v":""},""]
[34,null,null,null,null,null,"",null,{"$f":"IF(K61=\"\",\"\",VLOOKUP(K61,'Equipment Type'!$A$1:$F$53,5,FALSE))","v":""},{"$f":"IF(K61=\"\",\"\",VLOOKUP(K61,'Equipment Type'!$A$1:$F$53,6,FALSE))","v":""},null,{"$f":"IF(K61=\"\",\"\",VLOOKUP(K61,'Equipment Type'!$A$1:$F$53,4,FALSE))","v":""},null,{"$f":"IF(K61=\"\",\"\",INDEX('Equipment Type'!$T$4:$T$53,MATCH('Analysis 103L'!K61,'Equipment Type'!$A$4:$A$53,0)))","v":""},"",null,{"$f":"IF(RIGHT(I61, 4)=\"Case\", \"\", IF(P61=\"\",\"\",(IF(ISNUMBER(SEARCH(\"exit\",J61)),8760,IF(B61=\"Exterior\",4380,'Analysis 103L'!$J$3)))))","v":""},null,"","","","","","","","",{"$f":"IF('100L Information'!$Z$5=\"Yes\",0,IF('100L Information'!$Z$4=\"Yes\",(MIN($Y$232-(-$Y$227),6000)*0.5)*(Y61/$Y$232),$Y$232*(Y61/($Y$230+$Y$231))))","v":{"$error":"#VALUE!"}},"",{"$error":"#VALUE!"},"No requirement",0,{"$f":"IF(OR(Z61=\"Does not meet requirement\",AND('100L Information'!$AA$21=\"No\",AL61=\"Y\"),AND('100L Information'!$AS$21=FALSE,AL61=\"Y\")),0,IF(ISNUMBER(R61*Incent_Cost_Fixture_Rx),MIN(R61*Incent_Cost_Fixture_Rx,(MAX(AE61,AK61))),0))","v":0},"FAIL","0","0","0",0,{"$f":"IF(ISNUMBER(VLOOKUP(J61,PublicSector,13,FALSE)),\"Y\",\"N\")","v":"N"},"0","0",null,"","",0,"",{"$f":"IF(RIGHT(I61,4)=\"Case\",W61,IF(AND(AL61=\"Y\",AF61<1),0,IF(OR(LEFT(D61,2)=\"T5\",LEFT(D61,3)=\"CFL\",'Analysis 103L'!AS61=\"Less\"),'Analysis 103L'!AR61,'Analysis 103L'!W61)))","v":""},null,0,0,null,{"$error":"#VALUE!"},{"$error":"#VALUE!"},{"$error":"#VALUE!"},null,null,{"$f":"IF(RIGHT(I61,4)=\"Case\",'LED Case Lighting'!$AY$1,IF(J61=\"\",\"\",VLOOKUP(J61,Lookups!$A$30:$J$149,VLOOKUP('100L Information'!$AI$46,Lookups!$J$3:$L$6,3,FALSE),FALSE)))","v":""},{"$error":"#N/A"},"","",{"$error":"#VALUE!"},{"$error":"#VALUE!"},{"$error":"#VALUE!"},{"$error":"#N/A"},0,{"$error":"#N/A"},0,{"$error":"#VALUE!"},{"$error":"#VALUE!"},{"$error":"#VALUE!"},"FAIL",null,null,null,null,null,null,null,"Interior / Exterior",null,"",null,{"$f":"IF(RIGHT(I61,4)=\"Case\",(INDEX('LED Case Lighting'!$AZ$3:$AZ$16,MATCH('Analysis 103L'!$CI61,'LED Case Lighting'!$AS$3:$AS$16,0))),IF(CB61=0,0,IF(CB61=\"lamp\",((Q61/VLOOKUP(B61,Int_Ext,2,FALSE))*VLOOKUP(E61,NEB,16,FALSE)),IF(CB61=\"fixture\",((Q61/VLOOKUP(B61,Int_Ext,2,FALSE))*VLOOKUP(E61,NEB,14,FALSE)),\"\"))))","v":""},null,{"$f":"IF(RIGHT(I61,4)=\"Case\",INDEX('Equipment Type'!$V$4:$V$53, MATCH('Analysis 103L'!$K61, 'Equipment Type'!$A$4:$A$53, 0)), \"\")","v":""},"","","",{"$f":"IF(CI61=\"\", \"\", IF(RIGHT(I61,4)=\"Case\", INDEX('LED Case Lighting'!$AR$3:$AR$16, MATCH('Analysis 103L'!CI61, 'LED Case Lighting'!$AS$3:$AS$16, 0)), \"\"))","v":""},{"$f":"IF(CI61=\"\",\"\",INDEX('LED Case Lighting'!$AW$3:$AW$16,MATCH('Analysis 103L'!CI61,'LED Case Lighting'!$AS$3:$AS$16,0)))","v":""},{"$f":"IF(CI61=\"\",\"\",INDEX('LED Case Lighting'!$AX$3:$AX$16,MATCH('Analysis 103L'!CI61,'LED Case Lighting'!$AS$3:$AS$16,0)))","v":""},""]
[35,null,null,null,null,null,"",null,{"$f":"IF(K62=\"\",\"\",VLOOKUP(K62,'Equipment Type'!$A$1:$F$53,5,FALSE))","v":""},{"$f":"IF(K62=\"\",\"\",VLOOKUP(K62,'Equipment Type'!$A$1:$F$53,6,FALSE))","v":""},null,{"$f":"IF(K62=\"\",\"\",VLOOKUP(K62,'Equipment Type'!$A$1:$F$53,4,FALSE))","v":""},null,{"$f":"IF(K62=\"\",\"\",INDEX('Equipment Type'!$T$4:$T$53,MATCH('Analysis 103L'!K62,'Equipment Type'!$A$4:$A$53,0)))","v":""},"",null,{"$f":"IF(RIGHT(I62, 4)=\"Case\", \"\", IF(P62=\"\",\"\",(IF(ISNUMBER(SEARCH(\"exit\",J62)),8760,IF(B62=\"Exterior\",4380,'Analysis 103L'!$J$3)))))","v":""},null,"","","","","","","","",{"$f":"IF('100L Information'!$Z$5=\"Yes\",0,IF('100L Information'!$Z$4=\"Yes\",(MIN($Y$232-(-$Y$227),6000)*0.5)*(Y62/$Y$232),$Y$232*(Y62/($Y$230+$Y$231))))","v":{"$error":"#VALUE!"}},"",{"$error":"#VALUE!"},"No requirement",0,{"$f":"IF(OR(Z62=\"Does not meet requirement\",AND('100L Information'!$AA$21=\"No\",AL62=\"Y\"),AND('100L Information'!$AS$21=FALSE,AL62=\"Y\")),0,IF(ISNUMBER(R62*Incent_Cost_Fixture_Rx),MIN(R62*Incent_Cost_Fixture_Rx,(MAX(AE62,AK62))),0))","v":0},"FAIL","0","0","0",0,"N","0","0",null,"","",0,"",{"$f":"IF(RIGHT(I62,4)=\"Case\",W62,IF(AND(AL62=\"Y\",AF62<1),0,IF(OR(LEFT(D62,2)=\"T5\",LEFT(D62,3)=\"CFL\",'Analysis 103L'!AS62=\"Less\"),'Analysis 103L'!AR62,'Analysis 103L'!W62)))","v":""},null,0,0,null,{"$error":"#VALUE!"},{"$error":"#VALUE!"},{"$error":"#VALUE!"},null,null,{"$f":"IF(RIGHT(I62,4)=\"Case\",'LED Case Lighting'!$AY$1,IF(J62=\"\",\"\",VLOOKUP(J62,Lookups!$A$30:$J$149,VLOOKUP('100L Information'!$AI$46,Lookups!$J$3:$L$6,3,FALSE),FALSE)))","v":""},{"$error":"#N/A"},"","",{"$error":"#VALUE!"},{"$error":"#VALUE!"},{"$error":"#VALUE!"},{"$error":"#N/A"},0,{"$error":"#N/A"},0,{"$error":"#VALUE!"},{"$error":"#VALUE!"},{"$error":"#VALUE!"},"FAIL",null,null,null,null,null,null,null,"Interior / Exterior",null,"",null,{"$f":"IF(RIGHT(I62,4)=\"Case\",(INDEX('LED Case Lighting'!$AZ$3:$AZ$16,MATCH('Analysis 103L'!$CI62,'LED Case Lighting'!$AS$3:$AS$16,0))),IF(CB62=0,0,IF(CB62=\"lamp\",((Q62/VLOOKUP(B62,Int_Ext,2,FALSE))*VLOOKUP(E62,NEB,16,FALSE)),IF(CB62=\"fixture\",((Q62/VLOOKUP(B62,Int_Ext,2,FALSE))*VLOOKUP(E62,NEB,14,FALSE)),\"\"))))","v":""},null,{"$f":"IF(RIGHT(I62,4)=\"Case\",INDEX('Equipment Type'!$V$4:$V$53, MATCH('Analysis 103L'!$K62, 'Equipment Type'!$A$4:$A$53, 0)), \"\")","v":""},"","","",{"$f":"IF(CI62=\"\", \"\", IF(RIGHT(I62,4)=\"Case\", INDEX('LED Case Lighting'!$AR$3:$AR$16, MATCH('Analysis 103L'!CI62, 'LED Case Lighting'!$AS$3:$AS$16, 0)), \"\"))","v":""},{"$f":"IF(CI62=\"\",\"\",INDEX('LED Case Lighting'!$AW$3:$AW$16,MATCH('Analysis 103L'!CI62,'LED Case Lighting'!$AS$3:$AS$16,0)))","v":""},{"$f":"IF(CI62=\"\",\"\",INDEX('LED Case Lighting'!$AX$3:$AX$16,MATCH('Analysis 103L'!CI62,'LED Case Lighting'!$AS$3:$AS$16,0)))","v":""},""]
[36,null,null,null,null,null,"",null,{"$f":"IF(K63=\"\",\"\",VLOOKUP(K63,'Equipment Type'!$A$1:$F$53,5,FALSE))","v":""},{"$f":"IF(K63=\"\",\"\",VLOOKUP(K63,'Equipment Type'!$A$1:$F$53,6,FALSE))","v":""},null,{"$f":"IF(K63=\"\",\"\",VLOOKUP(K63,'Equipment Type'!$A$1:$F$53,4,FALSE))","v":""},null,{"$f":"IF(K63=\"\",\"\",INDEX('Equipment Type'!$T$4:$T$53,MATCH('Analysis 103L'!K63,'Equipment Type'!$A$4:$A$53,0)))","v":""},"",null,{"$f":"IF(RIGHT(I63, 4)=\"Case\", \"\", IF(P63=\"\",\"\",(IF(ISNUMBER(SEARCH(\"exit\",J63)),8760,IF(B63=\"Exterior\",4380,'Analysis 103L'!$J$3)))))","v":""},null,"","","","","","","","",{"$f":"IF('100L Information'!$Z$5=\"Yes\",0,IF('100L Information'!$Z$4=\"Yes\",(MIN($Y$232-(-$Y$227),6000)*0.5)*(Y63/$Y$232),$Y$232*(Y63/($Y$230+$Y$231))))","v":{"$error":"#VALUE!"}},"",{"$error":"#VALUE!"},"No requirement",0,{"$f":"IF(OR(Z63=\"Does not meet requirement\",AND('100L Information'!$AA$21=\"No\",AL63=\"Y\"),AND('100L Information'!$AS$21=FALSE,AL63=\"Y\")),0,IF(ISNUMBER(R63*Incent_Cost_Fixture_Rx),MIN(R63*Incent_Cost_Fixture_Rx,(MAX(AE63,AK63))),0))","v":0},"FAIL","0","0","0",0,"N","0","0",null,"","",0,"",{"$f":"IF(RIGHT(I63,4)=\"Case\",W63,IF(AND(AL63=\"Y\",AF63<1),0,IF(OR(LEFT(D63,2)=\"T5\",LEFT(D63,3)=\"CFL\",'Analysis 103L'!AS63=\"Less\"),'Analysis 103L'!AR63,'Analysis 103L'!W63)))","v":""},null,0,0,null,{"$error":"#VALUE!"},{"$error":"#VALUE!"},{"$error":"#VALUE!"},null,null,{"$f":"IF(RIGHT(I63,4)=\"Case\",'LED Case Lighting'!$AY$1,IF(J63=\"\",\"\",VLOOKUP(J63,Lookups!$A$30:$J$149,VLOOKUP('100L Information'!$AI$46,Lookups!$J$3:$L$6,3,FALSE),FALSE)))","v":""},{"$error":"#N/A"},"","",{"$error":"#VALUE!"},{"$error":"#VALUE!"},{"$error":"#VALUE!"},{"$error":"#N/A"},0,{"$error":"#N/A"},0,{"$error":"#VALUE!"},{"$error":"#VALUE!"},{"$error":"#VALUE!"},"FAIL",null,null,null,null,null,null,null,"Interior / Exterior",null,"",null,{"$f":"IF(RIGHT(I63,4)=\"Case\",(INDEX('LED Case Lighting'!$AZ$3:$AZ$16,MATCH('Analysis 103L'!$CI63,'LED Case Lighting'!$AS$3:$AS$16,0))),IF(CB63=0,0,IF(CB63=\"lamp\",((Q63/VLOOKUP(B63,Int_Ext,2,FALSE))*VLOOKUP(E63,NEB,16,FALSE)),IF(CB63=\"fixture\",((Q63/VLOOKUP(B63,Int_Ext,2,FALSE))*VLOOKUP(E63,NEB,14,FALSE)),\"\"))))","v":""},null,{"$f":"IF(RIGHT(I63,4)=\"Case\",INDEX('Equipment Type'!$V$4:$V$53, MATCH('Analysis 103L'!$K63, 'Equipment Type'!$A$4:$A$53, 0)), \"\")","v":""},"","","",{"$f":"IF(CI63=\"\", \"\", IF(RIGHT(I63,4)=\"Case\", INDEX('LED Case Lighting'!$AR$3:$AR$16, MATCH('Analysis 103L'!CI63, 'LED Case Lighting'!$AS$3:$AS$16, 0)), \"\"))","v":""},{"$f":"IF(CI63=\"\",\"\",INDEX('LED Case Lighting'!$AW$3:$AW$16,MATCH('Analysis 103L'!CI63,'LED Case Lighting'!$AS$3:$AS$16,0)))","v":""},{"$f":"IF(CI63=\"\",\"\",INDEX('LED Case Lighting'!$AX$3:$AX$16,MATCH('Analysis 103L'!CI63,'LED Case Lighting'!$AS$3:$AS$16,0)))","v":""},""]
[37,null,null,null,null,null,"",null,{"$f":"IF(K64=\"\",\"\",VLOOKUP(K64,'Equipment Type'!$A$1:$F$53,5,FALSE))","v":""},{"$f":"IF(K64=\"\",\"\",VLOOKUP(K64,'Equipment Type'!$A$1:$F$53,6,FALSE))","v":""},null,{"$f":"IF(K64=\"\",\"\",VLOOKUP(K64,'Equipment Type'!$A$1:$F$53,4,FALSE))","v":""},null,{"$f":"IF(K64=\"\",\"\",INDEX('Equipment Type'!$T$4:$T$53,MATCH('Analysis 103L'!K64,'Equipment Type'!$A$4:$A$53,0)))","v":""},"",null,{"$f":"IF(RIGHT(I64, 4)=\"Case\", \"\", IF(P64=\"\",\"\",(IF(ISNUMBER(SEARCH(\"exit\",J64)),8760,IF(B64=\"Exterior\",4380,'Analysis 103L'!$J$3)))))","v":""},null,"","","","","","","","",{"$f":"IF('100L Information'!$Z$5=\"Yes\",0,IF('100L Information'!$Z$4=\"Yes\",(MIN($Y$232-(-$Y$227),6000)*0.5)*(Y64/$Y$232),$Y$232*(Y64/($Y$230+$Y$231))))","v":{"$error":"#VALUE!"}},"",{"$error":"#VALUE!"},"No requirement",0,{"$f":"IF(OR(Z64=\"Does not meet requirement\",AND('100L Information'!$AA$21=\"No\",AL64=\"Y\"),AND('100L Information'!$AS$21=FALSE,AL64=\"Y\")),0,IF(ISNUMBER(R64*Incent_Cost_Fixture_Rx),MIN(R64*Incent_Cost_Fixture_Rx,(MAX(AE64,AK64))),0))","v":0},"FAIL","0","0","0",0,"N","0","0",null,"","",0,"",{"$f":"IF(RIGHT(I64,4)=\"Case\",W64,IF(AND(AL64=\"Y\",AF64<1),0,IF(OR(LEFT(D64,2)=\"T5\",LEFT(D64,3)=\"CFL\",'Analysis 103L'!AS64=\"Less\"),'Analysis 103L'!AR64,'Analysis 103L'!W64)))","v":""},null,0,0,null,{"$error":"#VALUE!"},{"$error":"#VALUE!"},{"$error":"#VALUE!"},null,null,{"$f":"IF(RIGHT(I64,4)=\"Case\",'LED Case Lighting'!$AY$1,IF(J64=\"\",\"\",VLOOKUP(J64,Lookups!$A$30:$J$149,VLOOKUP('100L Information'!$AI$46,Lookups!$J$3:$L$6,3,FALSE),FALSE)))","v":""},{"$error":"#N/A"},"","",{"$error":"#VALUE!"},{"$error":"#VALUE!"},{"$error":"#VALUE!"},{"$error":"#N/A"},0,{"$error":"#N/A"},0,{"$error":"#VALUE!"},{"$error":"#VALUE!"},{"$error":"#VALUE!"},"FAIL",null,null,null,null,null,null,null,"Interior / Exterior",null,"",null,{"$f":"IF(RIGHT(I64,4)=\"Case\",(INDEX('LED Case Lighting'!$AZ$3:$AZ$16,MATCH('Analysis 103L'!$CI64,'LED Case Lighting'!$AS$3:$AS$16,0))),IF(CB64=0,0,IF(CB64=\"lamp\",((Q64/VLOOKUP(B64,Int_Ext,2,FALSE))*VLOOKUP(E64,NEB,16,FALSE)),IF(CB64=\"fixture\",((Q64/VLOOKUP(B64,Int_Ext,2,FALSE))*VLOOKUP(E64,NEB,14,FALSE)),\"\"))))","v":""},null,{"$f":"IF(RIGHT(I64,4)=\"Case\",INDEX('Equipment Type'!$V$4:$V$53, MATCH('Analysis 103L'!$K64, 'Equipment Type'!$A$4:$A$53, 0)), \"\")","v":""},"","","",{"$f":"IF(CI64=\"\", \"\", IF(RIGHT(I64,4)=\"Case\", INDEX('LED Case Lighting'!$AR$3:$AR$16, MATCH('Analysis 103L'!CI64, 'LED Case Lighting'!$AS$3:$AS$16, 0)), \"\"))","v":""},{"$f":"IF(CI64=\"\",\"\",INDEX('LED Case Lighting'!$AW$3:$AW$16,MATCH('Analysis 103L'!CI64,'LED Case Lighting'!$AS$3:$AS$16,0)))","v":""},{"$f":"IF(CI64=\"\",\"\",INDEX('LED Case Lighting'!$AX$3:$AX$16,MATCH('Analysis 103L'!CI64,'LED Case Lighting'!$AS$3:$AS$16,0)))","v":""},""]
[38,null,null,null,null,null,"",null,{"$f":"IF(K65=\"\",\"\",VLOOKUP(K65,'Equipment Type'!$A$1:$F$53,5,FALSE))","v":""},{"$f":"IF(K65=\"\",\"\",VLOOKUP(K65,'Equipment Type'!$A$1:$F$53,6,FALSE))","v":""},null,{"$f":"IF(K65=\"\",\"\",VLOOKUP(K65,'Equipment Type'!$A$1:$F$53,4,FALSE))","v":""},null,{"$f":"IF(K65=\"\",\"\",INDEX('Equipment Type'!$T$4:$T$53,MATCH('Analysis 103L'!K65,'Equipment Type'!$A$4:$A$53,0)))","v":""},"",null,{"$f":"IF(RIGHT(I65, 4)=\"Case\", \"\", IF(P65=\"\",\"\",(IF(ISNUMBER(SEARCH(\"exit\",J65)),8760,IF(B65=\"Exterior\",4380,'Analysis 103L'!$J$3)))))","v":""},null,"","","","","","","","",{"$f":"IF('100L Information'!$Z$5=\"Yes\",0,IF('100L Information'!$Z$4=\"Yes\",(MIN($Y$232-(-$Y$227),6000)*0.5)*(Y65/$Y$232),$Y$232*(Y65/($Y$230+$Y$231))))","v":{"$error":"#VALUE!"}},"",{"$error":"#VALUE!"},"No requirement",0,{"$f":"IF(OR(Z65=\"Does not meet requirement\",AND('100L Information'!$AA$21=\"No\",AL65=\"Y\"),AND('100L Information'!$AS$21=FALSE,AL65=\"Y\")),0,IF(ISNUMBER(R65*Incent_Cost_Fixture_Rx),MIN(R65*Incent_Cost_Fixture_Rx,(MAX(AE65,AK65))),0))","v":0},"FAIL","0","0","0",0,"N","0","0",null,"","",0,"",{"$f":"IF(RIGHT(I65,4)=\"Case\",W65,IF(AND(AL65=\"Y\",AF65<1),0,IF(OR(LEFT(D65,2)=\"T5\",LEFT(D65,3)=\"CFL\",'Analysis 103L'!AS65=\"Less\"),'Analysis 103L'!AR65,'Analysis 103L'!W65)))","v":""},null,0,0,null,{"$error":"#VALUE!"},{"$error":"#VALUE!"},{"$error":"#VALUE!"},null,null,{"$f":"IF(RIGHT(I65,4)=\"Case\",'LED Case Lighting'!$AY$1,IF(J65=\"\",\"\",VLOOKUP(J65,Lookups!$A$30:$J$149,VLOOKUP('100L Information'!$AI$46,Lookups!$J$3:$L$6,3,FALSE),FALSE)))","v":""},{"$error":"#N/A"},"","",{"$error":"#VALUE!"},{"$error":"#VALUE!"},{"$error":"#VALUE!"},{"$error":"#N/A"},0,{"$error":"#N/A"},0,{"$error":"#VALUE!"},{"$error":"#VALUE!"},{"$error":"#VALUE!"},"FAIL",null,null,null,null,null,null,null,"Interior / Exterior",null,"",null,{"$f":"IF(RIGHT(I65,4)=\"Case\",(INDEX('LED Case Lighting'!$AZ$3:$AZ$16,MATCH('Analysis 103L'!$CI65,'LED Case Lighting'!$AS$3:$AS$16,0))),IF(CB65=0,0,IF(CB65=\"lamp\",((Q65/VLOOKUP(B65,Int_Ext,2,FALSE))*VLOOKUP(E65,NEB,16,FALSE)),IF(CB65=\"fixture\",((Q65/VLOOKUP(B65,Int_Ext,2,FALSE))*VLOOKUP(E65,NEB,14,FALSE)),\"\"))))","v":""},null,{"$f":"IF(RIGHT(I65,4)=\"Case\",INDEX('Equipment Type'!$V$4:$V$53, MATCH('Analysis 103L'!$K65, 'Equipment Type'!$A$4:$A$53, 0)), \"\")","v":""},"","","",{"$f":"IF(CI65=\"\", \"\", IF(RIGHT(I65,4)=\"Case\", INDEX('LED Case Lighting'!$AR$3:$AR$16, MATCH('Analysis 103L'!CI65, 'LED Case Lighting'!$AS$3:$AS$16, 0)), \"\"))","v":""},{"$f":"IF(CI65=\"\",\"\",INDEX('LED Case Lighting'!$AW$3:$AW$16,MATCH('Analysis 103L'!CI65,'LED Case Lighting'!$AS$3:$AS$16,0)))","v":""},{"$f":"IF(CI65=\"\",\"\",INDEX('LED Case Lighting'!$AX$3:$AX$16,MATCH('Analysis 103L'!CI65,'LED Case Lighting'!$AS$3:$AS$16,0)))","v":""},""]
[39,null,null,null,null,null,"",null,{"$f":"IF(K66=\"\",\"\",VLOOKUP(K66,'Equipment Type'!$A$1:$F$53,5,FALSE))","v":""},{"$f":"IF(K66=\"\",\"\",VLOOKUP(K66,'Equipment Type'!$A$1:$F$53,6,FALSE))","v":""},null,{"$f":"IF(K66=\"\",\"\",VLOOKUP(K66,'Equipment Type'!$A$1:$F$53,4,FALSE))","v":""},null,{"$f":"IF(K66=\"\",\"\",INDEX('Equipment Type'!$T$4:$T$53,MATCH('Analysis 103L'!K66,'Equipment Type'!$A$4:$A$53,0)))","v":""},"",null,{"$f":"IF(RIGHT(I66, 4)=\"Case\", \"\", IF(P66=\"\",\"\",(IF(ISNUMBER(SEARCH(\"exit\",J66)),8760,IF(B66=\"Exterior\",4380,'Analysis 103L'!$J$3)))))","v":""},null,"","","","","","","","",{"$f":"IF('100L Information'!$Z$5=\"Yes\",0,IF('100L Information'!$Z$4=\"Yes\",(MIN($Y$232-(-$Y$227),6000)*0.5)*(Y66/$Y$232),$Y$232*(Y66/($Y$230+$Y$231))))","v":{"$error":"#VALUE!"}},"",{"$error":"#VALUE!"},"No requirement",0,{"$f":"IF(OR(Z66=\"Does not meet requirement\",AND('100L Information'!$AA$21=\"No\",AL66=\"Y\"),AND('100L Information'!$AS$21=FALSE,AL66=\"Y\")),0,IF(ISNUMBER(R66*Incent_Cost_Fixture_Rx),MIN(R66*Incent_Cost_Fixture_Rx,(MAX(AE66,AK66))),0))","v":0},"FAIL","0","0","0",0,"N","0","0",null,"","",0,"",{"$f":"IF(RIGHT(I66,4)=\"Case\",W66,IF(AND(AL66=\"Y\",AF66<1),0,IF(OR(LEFT(D66,2)=\"T5\",LEFT(D66,3)=\"CFL\",'Analysis 103L'!AS66=\"Less\"),'Analysis 103L'!AR66,'Analysis 103L'!W66)))","v":""},null,0,0,null,{"$error":"#VALUE!"},{"$error":"#VALUE!"},{"$error":"#VALUE!"},null,null,{"$f":"IF(RIGHT(I66,4)=\"Case\",'LED Case Lighting'!$AY$1,IF(J66=\"\",\"\",VLOOKUP(J66,Lookups!$A$30:$J$149,VLOOKUP('100L Information'!$AI$46,Lookups!$J$3:$L$6,3,FALSE),FALSE)))","v":""},{"$error":"#N/A"},"","",{"$error":"#VALUE!"},{"$error":"#VALUE!"},{"$error":"#VALUE!"},{"$error":"#N/A"},0,{"$error":"#N/A"},0,{"$error":"#VALUE!"},{"$error":"#VALUE!"},{"$error":"#VALUE!"},"FAIL",null,null,null,null,null,null,null,"Interior / Exterior",null,"",null,{"$f":"IF(RIGHT(I66,4)=\"Case\",(INDEX('LED Case Lighting'!$AZ$3:$AZ$16,MATCH('Analysis 103L'!$CI66,'LED Case Lighting'!$AS$3:$AS$16,0))),IF(CB66=0,0,IF(CB66=\"lamp\",((Q66/VLOOKUP(B66,Int_Ext,2,FALSE))*VLOOKUP(E66,NEB,16,FALSE)),IF(CB66=\"fixture\",((Q66/VLOOKUP(B66,Int_Ext,2,FALSE))*VLOOKUP(E66,NEB,14,FALSE)),\"\"))))","v":""},null,{"$f":"IF(RIGHT(I66,4)=\"Case\",INDEX('Equipment Type'!$V$4:$V$53, MATCH('Analysis 103L'!$K66, 'Equipment Type'!$A$4:$A$53, 0)), \"\")","v":""},"","","",{"$f":"IF(CI66=\"\", \"\", IF(RIGHT(I66,4)=\"Case\", INDEX('LED Case Lighting'!$AR$3:$AR$16, MATCH('Analysis 103L'!CI66, 'LED Case Lighting'!$AS$3:$AS$16, 0)), \"\"))","v":""},{"$f":"IF(CI66=\"\",\"\",INDEX('LED Case Lighting'!$AW$3:$AW$16,MATCH('Analysis 103L'!CI66,'LED Case Lighting'!$AS$3:$AS$16,0)))","v":""},{"$f":"IF(CI66=\"\",\"\",INDEX('LED Case Lighting'!$AX$3:$AX$16,MATCH('Analysis 103L'!CI66,'LED Case Lighting'!$AS$3:$AS$16,0)))","v":""},""]
[40,null,null,null,null,null,"",null,{"$f":"IF(K67=\"\",\"\",VLOOKUP(K67,'Equipment Type'!$A$1:$F$53,5,FALSE))","v":""},{"$f":"IF(K67=\"\",\"\",VLOOKUP(K67,'Equipment Type'!$A$1:$F$53,6,FALSE))","v":""},null,{"$f":"IF(K67=\"\",\"\",VLOOKUP(K67,'Equipment Type'!$A$1:$F$53,4,FALSE))","v":""},null,{"$f":"IF(K67=\"\",\"\",INDEX('Equipment Type'!$T$4:$T$53,MATCH('Analysis 103L'!K67,'Equipment Type'!$A$4:$A$53,0)))","v":""},"",null,{"$f":"IF(RIGHT(I67, 4)=\"Case\", \"\", IF(P67=\"\",\"\",(IF(ISNUMBER(SEARCH(\"exit\",J67)),8760,IF(B67=\"Exterior\",4380,'Analysis 103L'!$J$3)))))","v":""},null,"","","","","","","","",{"$f":"IF('100L Information'!$Z$5=\"Yes\",0,IF('100L Information'!$Z$4=\"Yes\",(MIN($Y$232-(-$Y$227),6000)*0.5)*(Y67/$Y$232),$Y$232*(Y67/($Y$230+$Y$231))))","v":{"$error":"#VALUE!"}},"",{"$error":"#VALUE!"},"No requirement",0,{"$f":"IF(OR(Z67=\"Does not meet requirement\",AND('100L Information'!$AA$21=\"No\",AL67=\"Y\"),AND('100L Information'!$AS$21=FALSE,AL67=\"Y\")),0,IF(ISNUMBER(R67*Incent_Cost_Fixture_Rx),MIN(R67*Incent_Cost_Fixture_Rx,(MAX(AE67,AK67))),0))","v":0},"FAIL","0","0","0",0,"N","0","0",null,"","",0,"",{"$f":"IF(RIGHT(I67,4)=\"Case\",W67,IF(AND(AL67=\"Y\",AF67<1),0,IF(OR(LEFT(D67,2)=\"T5\",LEFT(D67,3)=\"CFL\",'Analysis 103L'!AS67=\"Less\"),'Analysis 103L'!AR67,'Analysis 103L'!W67)))","v":""},null,0,0,null,{"$error":"#VALUE!"},{"$error":"#VALUE!"},{"$error":"#VALUE!"},null,null,{"$f":"IF(RIGHT(I67,4)=\"Case\",'LED Case Lighting'!$AY$1,IF(J67=\"\",\"\",VLOOKUP(J67,Lookups!$A$30:$J$149,VLOOKUP('100L Information'!$AI$46,Lookups!$J$3:$L$6,3,FALSE),FALSE)))","v":""},{"$error":"#N/A"},"","",{"$error":"#VALUE!"},{"$error":"#VALUE!"},{"$error":"#VALUE!"},{"$error":"#N/A"},0,{"$error":"#N/A"},0,{"$error":"#VALUE!"},{"$error":"#VALUE!"},{"$error":"#VALUE!"},"FAIL",null,null,null,null,null,null,null,"Interior / Exterior",null,"",null,{"$f":"IF(RIGHT(I67,4)=\"Case\",(INDEX('LED Case Lighting'!$AZ$3:$AZ$16,MATCH('Analysis 103L'!$CI67,'LED Case Lighting'!$AS$3:$AS$16,0))),IF(CB67=0,0,IF(CB67=\"lamp\",((Q67/VLOOKUP(B67,Int_Ext,2,FALSE))*VLOOKUP(E67,NEB,16,FALSE)),IF(CB67=\"fixture\",((Q67/VLOOKUP(B67,Int_Ext,2,FALSE))*VLOOKUP(E67,NEB,14,FALSE)),\"\"))))","v":""},null,{"$f":"IF(RIGHT(I67,4)=\"Case\",INDEX('Equipment Type'!$V$4:$V$53, MATCH('Analysis 103L'!$K67, 'Equipment Type'!$A$4:$A$53, 0)), \"\")","v":""},"","","",{"$f":"IF(CI67=\"\", \"\", IF(RIGHT(I67,4)=\"Case\", INDEX('LED Case Lighting'!$AR$3:$AR$16, MATCH('Analysis 103L'!CI67, 'LED Case Lighting'!$AS$3:$AS$16, 0)), \"\"))","v":""},{"$f":"IF(CI67=\"\",\"\",INDEX('LED Case Lighting'!$AW$3:$AW$16,MATCH('Analysis 103L'!CI67,'LED Case Lighting'!$AS$3:$AS$16,0)))","v":""},{"$f":"IF(CI67=\"\",\"\",INDEX('LED Case Lighting'!$AX$3:$AX$16,MATCH('Analysis 103L'!CI67,'LED Case Lighting'!$AS$3:$AS$16,0)))","v":""},""]
[41,null,null,null,null,null,"",null,{"$f":"IF(K68=\"\",\"\",VLOOKUP(K68,'Equipment Type'!$A$1:$F$53,5,FALSE))","v":""},{"$f":"IF(K68=\"\",\"\",VLOOKUP(K68,'Equipment Type'!$A$1:$F$53,6,FALSE))","v":""},null,{"$f":"IF(K68=\"\",\"\",VLOOKUP(K68,'Equipment Type'!$A$1:$F$53,4,FALSE))","v":""},null,{"$f":"IF(K68=\"\",\"\",INDEX('Equipment Type'!$T$4:$T$53,MATCH('Analysis 103L'!K68,'Equipment Type'!$A$4:$A$53,0)))","v":""},"",null,{"$f":"IF(RIGHT(I68, 4)=\"Case\", \"\", IF(P68=\"\",\"\",(IF(ISNUMBER(SEARCH(\"exit\",J68)),8760,IF(B68=\"Exterior\",4380,'Analysis 103L'!$J$3)))))","v":""},null,"","","","","","","","",{"$f":"IF('100L Information'!$Z$5=\"Yes\",0,IF('100L Information'!$Z$4=\"Yes\",(MIN($Y$232-(-$Y$227),6000)*0.5)*(Y68/$Y$232),$Y$232*(Y68/($Y$230+$Y$231))))","v":{"$error":"#VALUE!"}},"",{"$error":"#VALUE!"},"No requirement",0,{"$f":"IF(OR(Z68=\"Does not meet requirement\",AND('100L Information'!$AA$21=\"No\",AL68=\"Y\"),AND('100L Information'!$AS$21=FALSE,AL68=\"Y\")),0,IF(ISNUMBER(R68*Incent_Cost_Fixture_Rx),MIN(R68*Incent_Cost_Fixture_Rx,(MAX(AE68,AK68))),0))","v":0},"FAIL","0","0","0",0,"N","0","0",null,"","",0,"",{"$f":"IF(RIGHT(I68,4)=\"Case\",W68,IF(AND(AL68=\"Y\",AF68<1),0,IF(OR(LEFT(D68,2)=\"T5\",LEFT(D68,3)=\"CFL\",'Analysis 103L'!AS68=\"Less\"),'Analysis 103L'!AR68,'Analysis 103L'!W68)))","v":""},null,0,0,null,{"$error":"#VALUE!"},{"$error":"#VALUE!"},{"$error":"#VALUE!"},null,null,{"$f":"IF(RIGHT(I68,4)=\"Case\",'LED Case Lighting'!$AY$1,IF(J68=\"\",\"\",VLOOKUP(J68,Lookups!$A$30:$J$149,VLOOKUP('100L Information'!$AI$46,Lookups!$J$3:$L$6,3,FALSE),FALSE)))","v":""},{"$error":"#N/A"},"","",{"$error":"#VALUE!"},{"$error":"#VALUE!"},{"$error":"#VALUE!"},{"$error":"#N/A"},0,{"$error":"#N/A"},0,{"$error":"#VALUE!"},{"$error":"#VALUE!"},{"$error":"#VALUE!"},"FAIL",null,null,null,null,null,null,null,"Interior / Exterior",null,"",null,{"$f":"IF(RIGHT(I68,4)=\"Case\",(INDEX('LED Case Lighting'!$AZ$3:$AZ$16,MATCH('Analysis 103L'!$CI68,'LED Case Lighting'!$AS$3:$AS$16,0))),IF(CB68=0,0,IF(CB68=\"lamp\",((Q68/VLOOKUP(B68,Int_Ext,2,FALSE))*VLOOKUP(E68,NEB,16,FALSE)),IF(CB68=\"fixture\",((Q68/VLOOKUP(B68,Int_Ext,2,FALSE))*VLOOKUP(E68,NEB,14,FALSE)),\"\"))))","v":""},null,{"$f":"IF(RIGHT(I68,4)=\"Case\",INDEX('Equipment Type'!$V$4:$V$53, MATCH('Analysis 103L'!$K68, 'Equipment Type'!$A$4:$A$53, 0)), \"\")","v":""},"","","",{"$f":"IF(CI68=\"\", \"\", IF(RIGHT(I68,4)=\"Case\", INDEX('LED Case Lighting'!$AR$3:$AR$16, MATCH('Analysis 103L'!CI68, 'LED Case Lighting'!$AS$3:$AS$16, 0)), \"\"))","v":""},{"$f":"IF(CI68=\"\",\"\",INDEX('LED Case Lighting'!$AW$3:$AW$16,MATCH('Analysis 103L'!CI68,'LED Case Lighting'!$AS$3:$AS$16,0)))","v":""},{"$f":"IF(CI68=\"\",\"\",INDEX('LED Case Lighting'!$AX$3:$AX$16,MATCH('Analysis 103L'!CI68,'LED Case Lighting'!$AS$3:$AS$16,0)))","v":""},""]
[42,null,null,null,null,null,"",null,{"$f":"IF(K69=\"\",\"\",VLOOKUP(K69,'Equipment Type'!$A$1:$F$53,5,FALSE))","v":""},{"$f":"IF(K69=\"\",\"\",VLOOKUP(K69,'Equipment Type'!$A$1:$F$53,6,FALSE))","v":""},null,{"$f":"IF(K69=\"\",\"\",VLOOKUP(K69,'Equipment Type'!$A$1:$F$53,4,FALSE))","v":""},null,{"$f":"IF(K69=\"\",\"\",INDEX('Equipment Type'!$T$4:$T$53,MATCH('Analysis 103L'!K69,'Equipment Type'!$A$4:$A$53,0)))","v":""},"",null,{"$f":"IF(RIGHT(I69, 4)=\"Case\", \"\", IF(P69=\"\",\"\",(IF(ISNUMBER(SEARCH(\"exit\",J69)),8760,IF(B69=\"Exterior\",4380,'Analysis 103L'!$J$3)))))","v":""},null,"","","","","","","","",{"$f":"IF('100L Information'!$Z$5=\"Yes\",0,IF('100L Information'!$Z$4=\"Yes\",(MIN($Y$232-(-$Y$227),6000)*0.5)*(Y69/$Y$232),$Y$232*(Y69/($Y$230+$Y$231))))","v":{"$error":"#VALUE!"}},"",{"$error":"#VALUE!"},"No requirement",0,{"$f":"IF(OR(Z69=\"Does not meet requirement\",AND('100L Information'!$AA$21=\"No\",AL69=\"Y\"),AND('100L Information'!$AS$21=FALSE,AL69=\"Y\")),0,IF(ISNUMBER(R69*Incent_Cost_Fixture_Rx),MIN(R69*Incent_Cost_Fixture_Rx,(MAX(AE69,AK69))),0))","v":0},"FAIL","0","0","0",0,"N","0","0",null,"","",0,"",{"$f":"IF(RIGHT(I69,4)=\"Case\",W69,IF(AND(AL69=\"Y\",AF69<1),0,IF(OR(LEFT(D69,2)=\"T5\",LEFT(D69,3)=\"CFL\",'Analysis 103L'!AS69=\"Less\"),'Analysis 103L'!AR69,'Analysis 103L'!W69)))","v":""},null,0,0,null,{"$error":"#VALUE!"},{"$error":"#VALUE!"},{"$error":"#VALUE!"},null,null,{"$f":"IF(RIGHT(I69,4)=\"Case\",'LED Case Lighting'!$AY$1,IF(J69=\"\",\"\",VLOOKUP(J69,Lookups!$A$30:$J$149,VLOOKUP('100L Information'!$AI$46,Lookups!$J$3:$L$6,3,FALSE),FALSE)))","v":""},{"$error":"#N/A"},"","",{"$error":"#VALUE!"},{"$error":"#VALUE!"},{"$error":"#VALUE!"},{"$error":"#N/A"},0,{"$error":"#N/A"},0,{"$error":"#VALUE!"},{"$error":"#VALUE!"},{"$error":"#VALUE!"},"FAIL",null,null,null,null,null,null,null,"Interior / Exterior",null,"",null,{"$f":"IF(RIGHT(I69,4)=\"Case\",(INDEX('LED Case Lighting'!$AZ$3:$AZ$16,MATCH('Analysis 103L'!$CI69,'LED Case Lighting'!$AS$3:$AS$16,0))),IF(CB69=0,0,IF(CB69=\"lamp\",((Q69/VLOOKUP(B69,Int_Ext,2,FALSE))*VLOOKUP(E69,NEB,16,FALSE)),IF(CB69=\"fixture\",((Q69/VLOOKUP(B69,Int_Ext,2,FALSE))*VLOOKUP(E69,NEB,14,FALSE)),\"\"))))","v":""},null,{"$f":"IF(RIGHT(I69,4)=\"Case\",INDEX('Equipment Type'!$V$4:$V$53, MATCH('Analysis 103L'!$K69, 'Equipment Type'!$A$4:$A$53, 0)), \"\")","v":""},"","","",{"$f":"IF(CI69=\"\", \"\", IF(RIGHT(I69,4)=\"Case\", INDEX('LED Case Lighting'!$AR$3:$AR$16, MATCH('Analysis 103L'!CI69, 'LED Case Lighting'!$AS$3:$AS$16, 0)), \"\"))","v":""},{"$f":"IF(CI69=\"\",\"\",INDEX('LED Case Lighting'!$AW$3:$AW$16,MATCH('Analysis 103L'!CI69,'LED Case Lighting'!$AS$3:$AS$16,0)))","v":""},{"$f":"IF(CI69=\"\",\"\",INDEX('LED Case Lighting'!$AX$3:$AX$16,MATCH('Analysis 103L'!CI69,'LED Case Lighting'!$AS$3:$AS$16,0)))","v":""},""]
[43,null,null,null,null,null,"",null,{"$f":"IF(K70=\"\",\"\",VLOOKUP(K70,'Equipment Type'!$A$1:$F$53,5,FALSE))","v":""},{"$f":"IF(K70=\"\",\"\",VLOOKUP(K70,'Equipment Type'!$A$1:$F$53,6,FALSE))","v":""},null,{"$f":"IF(K70=\"\",\"\",VLOOKUP(K70,'Equipment Type'!$A$1:$F$53,4,FALSE))","v":""},null,{"$f":"IF(K70=\"\",\"\",INDEX('Equipment Type'!$T$4:$T$53,MATCH('Analysis 103L'!K70,'Equipment Type'!$A$4:$A$53,0)))","v":""},"",null,{"$f":"IF(RIGHT(I70, 4)=\"Case\", \"\", IF(P70=\"\",\"\",(IF(ISNUMBER(SEARCH(\"exit\",J70)),8760,IF(B70=\"Exterior\",4380,'Analysis 103L'!$J$3)))))","v":""},null,"","","","","","","","",{"$f":"IF('100L Information'!$Z$5=\"Yes\",0,IF('100L Information'!$Z$4=\"Yes\",(MIN($Y$232-(-$Y$227),6000)*0.5)*(Y70/$Y$232),$Y$232*(Y70/($Y$230+$Y$231))))","v":{"$error":"#VALUE!"}},"",{"$error":"#VALUE!"},"No requirement",0,{"$f":"IF(OR(Z70=\"Does not meet requirement\",AND('100L Information'!$AA$21=\"No\",AL70=\"Y\"),AND('100L Information'!$AS$21=FALSE,AL70=\"Y\")),0,IF(ISNUMBER(R70*Incent_Cost_Fixture_Rx),MIN(R70*Incent_Cost_Fixture_Rx,(MAX(AE70,AK70))),0))","v":0},"FAIL","0","0","0",0,"N","0","0",null,"","",0,"",{"$f":"IF(RIGHT(I70,4)=\"Case\",W70,IF(AND(AL70=\"Y\",AF70<1),0,IF(OR(LEFT(D70,2)=\"T5\",LEFT(D70,3)=\"CFL\",'Analysis 103L'!AS70=\"Less\"),'Analysis 103L'!AR70,'Analysis 103L'!W70)))","v":""},null,0,0,null,{"$error":"#VALUE!"},{"$error":"#VALUE!"},{"$error":"#VALUE!"},null,null,{"$f":"IF(RIGHT(I70,4)=\"Case\",'LED Case Lighting'!$AY$1,IF(J70=\"\",\"\",VLOOKUP(J70,Lookups!$A$30:$J$149,VLOOKUP('100L Information'!$AI$46,Lookups!$J$3:$L$6,3,FALSE),FALSE)))","v":""},{"$error":"#N/A"},"","",{"$error":"#VALUE!"},{"$error":"#VALUE!"},{"$error":"#VALUE!"},{"$error":"#N/A"},0,{"$error":"#N/A"},0,{"$error":"#VALUE!"},{"$error":"#VALUE!"},{"$error":"#VALUE!"},"FAIL",null,null,null,null,null,null,null,"Interior / Exterior",null,"",null,{"$f":"IF(RIGHT(I70,4)=\"Case\",(INDEX('LED Case Lighting'!$AZ$3:$AZ$16,MATCH('Analysis 103L'!$CI70,'LED Case Lighting'!$AS$3:$AS$16,0))),IF(CB70=0,0,IF(CB70=\"lamp\",((Q70/VLOOKUP(B70,Int_Ext,2,FALSE))*VLOOKUP(E70,NEB,16,FALSE)),IF(CB70=\"fixture\",((Q70/VLOOKUP(B70,Int_Ext,2,FALSE))*VLOOKUP(E70,NEB,14,FALSE)),\"\"))))","v":""},null,{"$f":"IF(RIGHT(I70,4)=\"Case\",INDEX('Equipment Type'!$V$4:$V$53, MATCH('Analysis 103L'!$K70, 'Equipment Type'!$A$4:$A$53, 0)), \"\")","v":""},"","","",{"$f":"IF(CI70=\"\", \"\", IF(RIGHT(I70,4)=\"Case\", INDEX('LED Case Lighting'!$AR$3:$AR$16, MATCH('Analysis 103L'!CI70, 'LED Case Lighting'!$AS$3:$AS$16, 0)), \"\"))","v":""},{"$f":"IF(CI70=\"\",\"\",INDEX('LED Case Lighting'!$AW$3:$AW$16,MATCH('Analysis 103L'!CI70,'LED Case Lighting'!$AS$3:$AS$16,0)))","v":""},{"$f":"IF(CI70=\"\",\"\",INDEX('LED Case Lighting'!$AX$3:$AX$16,MATCH('Analysis 103L'!CI70,'LED Case Lighting'!$AS$3:$AS$16,0)))","v":""},""]
[44,null,null,null,null,null,"",null,{"$f":"IF(K71=\"\",\"\",VLOOKUP(K71,'Equipment Type'!$A$1:$F$53,5,FALSE))","v":""},{"$f":"IF(K71=\"\",\"\",VLOOKUP(K71,'Equipment Type'!$A$1:$F$53,6,FALSE))","v":""},null,{"$f":"IF(K71=\"\",\"\",VLOOKUP(K71,'Equipment Type'!$A$1:$F$53,4,FALSE))","v":""},null,{"$f":"IF(K71=\"\",\"\",INDEX('Equipment Type'!$T$4:$T$53,MATCH('Analysis 103L'!K71,'Equipment Type'!$A$4:$A$53,0)))","v":""},"",null,{"$f":"IF(RIGHT(I71, 4)=\"Case\", \"\", IF(P71=\"\",\"\",(IF(ISNUMBER(SEARCH(\"exit\",J71)),8760,IF(B71=\"Exterior\",4380,'Analysis 103L'!$J$3)))))","v":""},null,"","","","","","","","",{"$f":"IF('100L Information'!$Z$5=\"Yes\",0,IF('100L Information'!$Z$4=\"Yes\",(MIN($Y$232-(-$Y$227),6000)*0.5)*(Y71/$Y$232),$Y$232*(Y71/($Y$230+$Y$231))))","v":{"$error":"#VALUE!"}},"",{"$error":"#VALUE!"},"No requirement",0,{"$f":"IF(OR(Z71=\"Does not meet requirement\",AND('100L Information'!$AA$21=\"No\",AL71=\"Y\"),AND('100L Information'!$AS$21=FALSE,AL71=\"Y\")),0,IF(ISNUMBER(R71*Incent_Cost_Fixture_Rx),MIN(R71*Incent_Cost_Fixture_Rx,(MAX(AE71,AK71))),0))","v":0},"FAIL","0","0","0",0,"N","0","0",null,"","",0,"",{"$f":"IF(RIGHT(I71,4)=\"Case\",W71,IF(AND(AL71=\"Y\",AF71<1),0,IF(OR(LEFT(D71,2)=\"T5\",LEFT(D71,3)=\"CFL\",'Analysis 103L'!AS71=\"Less\"),'Analysis 103L'!AR71,'Analysis 103L'!W71)))","v":""},null,0,0,null,{"$error":"#VALUE!"},{"$error":"#VALUE!"},{"$error":"#VALUE!"},null,null,{"$f":"IF(RIGHT(I71,4)=\"Case\",'LED Case Lighting'!$AY$1,IF(J71=\"\",\"\",VLOOKUP(J71,Lookups!$A$30:$J$149,VLOOKUP('100L Information'!$AI$46,Lookups!$J$3:$L$6,3,FALSE),FALSE)))","v":""},{"$error":"#N/A"},"","",{"$error":"#VALUE!"},{"$error":"#VALUE!"},{"$error":"#VALUE!"},{"$error":"#N/A"},0,{"$error":"#N/A"},0,{"$error":"#VALUE!"},{"$error":"#VALUE!"},{"$error":"#VALUE!"},"FAIL",null,null,null,null,null,null,null,"Interior / Exterior",null,"",null,{"$f":"IF(RIGHT(I71,4)=\"Case\",(INDEX('LED Case Lighting'!$AZ$3:$AZ$16,MATCH('Analysis 103L'!$CI71,'LED Case Lighting'!$AS$3:$AS$16,0))),IF(CB71=0,0,IF(CB71=\"lamp\",((Q71/VLOOKUP(B71,Int_Ext,2,FALSE))*VLOOKUP(E71,NEB,16,FALSE)),IF(CB71=\"fixture\",((Q71/VLOOKUP(B71,Int_Ext,2,FALSE))*VLOOKUP(E71,NEB,14,FALSE)),\"\"))))","v":""},null,{"$f":"IF(RIGHT(I71,4)=\"Case\",INDEX('Equipment Type'!$V$4:$V$53, MATCH('Analysis 103L'!$K71, 'Equipment Type'!$A$4:$A$53, 0)), \"\")","v":""},"","","",{"$f":"IF(CI71=\"\", \"\", IF(RIGHT(I71,4)=\"Case\", INDEX('LED Case Lighting'!$AR$3:$AR$16, MATCH('Analysis 103L'!CI71, 'LED Case Lighting'!$AS$3:$AS$16, 0)), \"\"))","v":""},{"$f":"IF(CI71=\"\",\"\",INDEX('LED Case Lighting'!$AW$3:$AW$16,MATCH('Analysis 103L'!CI71,'LED Case Lighting'!$AS$3:$AS$16,0)))","v":""},{"$f":"IF(CI71=\"\",\"\",INDEX('LED Case Lighting'!$AX$3:$AX$16,MATCH('Analysis 103L'!CI71,'LED Case Lighting'!$AS$3:$AS$16,0)))","v":""},""]
[45,null,null,null,null,null,"",null,{"$f":"IF(K72=\"\",\"\",VLOOKUP(K72,'Equipment Type'!$A$1:$F$53,5,FALSE))","v":""},{"$f":"IF(K72=\"\",\"\",VLOOKUP(K72,'Equipment Type'!$A$1:$F$53,6,FALSE))","v":""},null,{"$f":"IF(K72=\"\",\"\",VLOOKUP(K72,'Equipment Type'!$A$1:$F$53,4,FALSE))","v":""},null,{"$f":"IF(K72=\"\",\"\",INDEX('Equipment Type'!$T$4:$T$53,MATCH('Analysis 103L'!K72,'Equipment Type'!$A$4:$A$53,0)))","v":""},"",null,{"$f":"IF(RIGHT(I72, 4)=\"Case\", \"\", IF(P72=\"\",\"\",(IF(ISNUMBER(SEARCH(\"exit\",J72)),8760,IF(B72=\"Exterior\",4380,'Analysis 103L'!$J$3)))))","v":""},null,"","","","","","","","",{"$f":"IF('100L Information'!$Z$5=\"Yes\",0,IF('100L Information'!$Z$4=\"Yes\",(MIN($Y$232-(-$Y$227),6000)*0.5)*(Y72/$Y$232),$Y$232*(Y72/($Y$230+$Y$231))))","v":{"$error":"#VALUE!"}},"",{"$error":"#VALUE!"},"No requirement",0,{"$f":"IF(OR(Z72=\"Does not meet requirement\",AND('100L Information'!$AA$21=\"No\",AL72=\"Y\"),AND('100L Information'!$AS$21=FALSE,AL72=\"Y\")),0,IF(ISNUMBER(R72*Incent_Cost_Fixture_Rx),MIN(R72*Incent_Cost_Fixture_Rx,(MAX(AE72,AK72))),0))","v":0},"FAIL","0","0","0",0,"N","0","0",null,"","",0,"",{"$f":"IF(RIGHT(I72,4)=\"Case\",W72,IF(AND(AL72=\"Y\",AF72<1),0,IF(OR(LEFT(D72,2)=\"T5\",LEFT(D72,3)=\"CFL\",'Analysis 103L'!AS72=\"Less\"),'Analysis 103L'!AR72,'Analysis 103L'!W72)))","v":""},null,0,0,null,{"$error":"#VALUE!"},{"$error":"#VALUE!"},{"$error":"#VALUE!"},null,null,{"$f":"IF(RIGHT(I72,4)=\"Case\",'LED Case Lighting'!$AY$1,IF(J72=\"\",\"\",VLOOKUP(J72,Lookups!$A$30:$J$149,VLOOKUP('100L Information'!$AI$46,Lookups!$J$3:$L$6,3,FALSE),FALSE)))","v":""},{"$error":"#N/A"},"","",{"$error":"#VALUE!"},{"$error":"#VALUE!"},{"$error":"#VALUE!"},{"$error":"#N/A"},0,{"$error":"#N/A"},0,{"$error":"#VALUE!"},{"$error":"#VALUE!"},{"$error":"#VALUE!"},"FAIL",null,null,null,null,null,null,null,"Interior / Exterior",null,"",null,{"$f":"IF(RIGHT(I72,4)=\"Case\",(INDEX('LED Case Lighting'!$AZ$3:$AZ$16,MATCH('Analysis 103L'!$CI72,'LED Case Lighting'!$AS$3:$AS$16,0))),IF(CB72=0,0,IF(CB72=\"lamp\",((Q72/VLOOKUP(B72,Int_Ext,2,FALSE))*VLOOKUP(E72,NEB,16,FALSE)),IF(CB72=\"fixture\",((Q72/VLOOKUP(B72,Int_Ext,2,FALSE))*VLOOKUP(E72,NEB,14,FALSE)),\"\"))))","v":""},null,{"$f":"IF(RIGHT(I72,4)=\"Case\",INDEX('Equipment Type'!$V$4:$V$53, MATCH('Analysis 103L'!$K72, 'Equipment Type'!$A$4:$A$53, 0)), \"\")","v":""},"","","",{"$f":"IF(CI72=\"\", \"\", IF(RIGHT(I72,4)=\"Case\", INDEX('LED Case Lighting'!$AR$3:$AR$16, MATCH('Analysis 103L'!CI72, 'LED Case Lighting'!$AS$3:$AS$16, 0)), \"\"))","v":""},{"$f":"IF(CI72=\"\",\"\",INDEX('LED Case Lighting'!$AW$3:$AW$16,MATCH('Analysis 103L'!CI72,'LED Case Lighting'!$AS$3:$AS$16,0)))","v":""},{"$f":"IF(CI72=\"\",\"\",INDEX('LED Case Lighting'!$AX$3:$AX$16,MATCH('Analysis 103L'!CI72,'LED Case Lighting'!$AS$3:$AS$16,0)))","v":""},""]
[46,null,null,null,null,null,"",null,{"$f":"IF(K73=\"\",\"\",VLOOKUP(K73,'Equipment Type'!$A$1:$F$53,5,FALSE))","v":""},{"$f":"IF(K73=\"\",\"\",VLOOKUP(K73,'Equipment Type'!$A$1:$F$53,6,FALSE))","v":""},null,{"$f":"IF(K73=\"\",\"\",VLOOKUP(K73,'Equipment Type'!$A$1:$F$53,4,FALSE))","v":""},null,{"$f":"IF(K73=\"\",\"\",INDEX('Equipment Type'!$T$4:$T$53,MATCH('Analysis 103L'!K73,'Equipment Type'!$A$4:$A$53,0)))","v":""},"",null,{"$f":"IF(RIGHT(I73, 4)=\"Case\", \"\", IF(P73=\"\",\"\",(IF(ISNUMBER(SEARCH(\"exit\",J73)),8760,IF(B73=\"Exterior\",4380,'Analysis 103L'!$J$3)))))","v":""},null,"","","","","","","","",{"$f":"IF('100L Information'!$Z$5=\"Yes\",0,IF('100L Information'!$Z$4=\"Yes\",(MIN($Y$232-(-$Y$227),6000)*0.5)*(Y73/$Y$232),$Y$232*(Y73/($Y$230+$Y$231))))","v":{"$error":"#VALUE!"}},"",{"$error":"#VALUE!"},"No requirement",0,{"$f":"IF(OR(Z73=\"Does not meet requirement\",AND('100L Information'!$AA$21=\"No\",AL73=\"Y\"),AND('100L Information'!$AS$21=FALSE,AL73=\"Y\")),0,IF(ISNUMBER(R73*Incent_Cost_Fixture_Rx),MIN(R73*Incent_Cost_Fixture_Rx,(MAX(AE73,AK73))),0))","v":0},"FAIL","0","0","0",0,"N","0","0",null,"","",0,"",{"$f":"IF(RIGHT(I73,4)=\"Case\",W73,IF(AND(AL73=\"Y\",AF73<1),0,IF(OR(LEFT(D73,2)=\"T5\",LEFT(D73,3)=\"CFL\",'Analysis 103L'!AS73=\"Less\"),'Analysis 103L'!AR73,'Analysis 103L'!W73)))","v":""},null,0,0,null,{"$error":"#VALUE!"},{"$error":"#VALUE!"},{"$error":"#VALUE!"},null,null,{"$f":"IF(RIGHT(I73,4)=\"Case\",'LED Case Lighting'!$AY$1,IF(J73=\"\",\"\",VLOOKUP(J73,Lookups!$A$30:$J$149,VLOOKUP('100L Information'!$AI$46,Lookups!$J$3:$L$6,3,FALSE),FALSE)))","v":""},{"$error":"#N/A"},"","",{"$error":"#VALUE!"},{"$error":"#VALUE!"},{"$error":"#VALUE!"},{"$error":"#N/A"},0,{"$error":"#N/A"},0,{"$error":"#VALUE!"},{"$error":"#VALUE!"},{"$error":"#VALUE!"},"FAIL",null,null,null,null,null,null,null,"Interior / Exterior",null,"",null,{"$f":"IF(RIGHT(I73,4)=\"Case\",(INDEX('LED Case Lighting'!$AZ$3:$AZ$16,MATCH('Analysis 103L'!$CI73,'LED Case Lighting'!$AS$3:$AS$16,0))),IF(CB73=0,0,IF(CB73=\"lamp\",((Q73/VLOOKUP(B73,Int_Ext,2,FALSE))*VLOOKUP(E73,NEB,16,FALSE)),IF(CB73=\"fixture\",((Q73/VLOOKUP(B73,Int_Ext,2,FALSE))*VLOOKUP(E73,NEB,14,FALSE)),\"\"))))","v":""},null,{"$f":"IF(RIGHT(I73,4)=\"Case\",INDEX('Equipment Type'!$V$4:$V$53, MATCH('Analysis 103L'!$K73, 'Equipment Type'!$A$4:$A$53, 0)), \"\")","v":""},"","","",{"$f":"IF(CI73=\"\", \"\", IF(RIGHT(I73,4)=\"Case\", INDEX('LED Case Lighting'!$AR$3:$AR$16, MATCH('Analysis 103L'!CI73, 'LED Case Lighting'!$AS$3:$AS$16, 0)), \"\"))","v":""},{"$f":"IF(CI73=\"\",\"\",INDEX('LED Case Lighting'!$AW$3:$AW$16,MATCH('Analysis 103L'!CI73,'LED Case Lighting'!$AS$3:$AS$16,0)))","v":""},{"$f":"IF(CI73=\"\",\"\",INDEX('LED Case Lighting'!$AX$3:$AX$16,MATCH('Analysis 103L'!CI73,'LED Case Lighting'!$AS$3:$AS$16,0)))","v":""},""]
[47,null,null,null,null,null,"",null,{"$f":"IF(K74=\"\",\"\",VLOOKUP(K74,'Equipment Type'!$A$1:$F$53,5,FALSE))","v":""},{"$f":"IF(K74=\"\",\"\",VLOOKUP(K74,'Equipment Type'!$A$1:$F$53,6,FALSE))","v":""},null,{"$f":"IF(K74=\"\",\"\",VLOOKUP(K74,'Equipment Type'!$A$1:$F$53,4,FALSE))","v":""},null,{"$f":"IF(K74=\"\",\"\",INDEX('Equipment Type'!$T$4:$T$53,MATCH('Analysis 103L'!K74,'Equipment Type'!$A$4:$A$53,0)))","v":""},"",null,{"$f":"IF(RIGHT(I74, 4)=\"Case\", \"\", IF(P74=\"\",\"\",(IF(ISNUMBER(SEARCH(\"exit\",J74)),8760,IF(B74=\"Exterior\",4380,'Analysis 103L'!$J$3)))))","v":""},null,"","","","","","","","",{"$f":"IF('100L Information'!$Z$5=\"Yes\",0,IF('100L Information'!$Z$4=\"Yes\",(MIN($Y$232-(-$Y$227),6000)*0.5)*(Y74/$Y$232),$Y$232*(Y74/($Y$230+$Y$231))))","v":{"$error":"#VALUE!"}},"",{"$error":"#VALUE!"},"No requirement",0,{"$f":"IF(OR(Z74=\"Does not meet requirement\",AND('100L Information'!$AA$21=\"No\",AL74=\"Y\"),AND('100L Information'!$AS$21=FALSE,AL74=\"Y\")),0,IF(ISNUMBER(R74*Incent_Cost_Fixture_Rx),MIN(R74*Incent_Cost_Fixture_Rx,(MAX(AE74,AK74))),0))","v":0},"FAIL","0","0","0",0,"N","0","0",null,"","",0,"",{"$f":"IF(RIGHT(I74,4)=\"Case\",W74,IF(AND(AL74=\"Y\",AF74<1),0,IF(OR(LEFT(D74,2)=\"T5\",LEFT(D74,3)=\"CFL\",'Analysis 103L'!AS74=\"Less\"),'Analysis 103L'!AR74,'Analysis 103L'!W74)))","v":""},null,0,0,null,{"$error":"#VALUE!"},{"$error":"#VALUE!"},{"$error":"#VALUE!"},null,null,{"$f":"IF(RIGHT(I74,4)=\"Case\",'LED Case Lighting'!$AY$1,IF(J74=\"\",\"\",VLOOKUP(J74,Lookups!$A$30:$J$149,VLOOKUP('100L Information'!$AI$46,Lookups!$J$3:$L$6,3,FALSE),FALSE)))","v":""},{"$error":"#N/A"},"","",{"$error":"#VALUE!"},{"$error":"#VALUE!"},{"$error":"#VALUE!"},{"$error":"#N/A"},0,{"$error":"#N/A"},0,{"$error":"#VALUE!"},{"$error":"#VALUE!"},{"$error":"#VALUE!"},"FAIL",null,null,null,null,null,null,null,"Interior / Exterior",null,"",null,{"$f":"IF(RIGHT(I74,4)=\"Case\",(INDEX('LED Case Lighting'!$AZ$3:$AZ$16,MATCH('Analysis 103L'!$CI74,'LED Case Lighting'!$AS$3:$AS$16,0))),IF(CB74=0,0,IF(CB74=\"lamp\",((Q74/VLOOKUP(B74,Int_Ext,2,FALSE))*VLOOKUP(E74,NEB,16,FALSE)),IF(CB74=\"fixture\",((Q74/VLOOKUP(B74,Int_Ext,2,FALSE))*VLOOKUP(E74,NEB,14,FALSE)),\"\"))))","v":""},null,{"$f":"IF(RIGHT(I74,4)=\"Case\",INDEX('Equipment Type'!$V$4:$V$53, MATCH('Analysis 103L'!$K74, 'Equipment Type'!$A$4:$A$53, 0)), \"\")","v":""},"","","",{"$f":"IF(CI74=\"\", \"\", IF(RIGHT(I74,4)=\"Case\", INDEX('LED Case Lighting'!$AR$3:$AR$16, MATCH('Analysis 103L'!CI74, 'LED Case Lighting'!$AS$3:$AS$16, 0)), \"\"))","v":""},{"$f":"IF(CI74=\"\",\"\",INDEX('LED Case Lighting'!$AW$3:$AW$16,MATCH('Analysis 103L'!CI74,'LED Case Lighting'!$AS$3:$AS$16,0)))","v":""},{"$f":"IF(CI74=\"\",\"\",INDEX('LED Case Lighting'!$AX$3:$AX$16,MATCH('Analysis 103L'!CI74,'LED Case Lighting'!$AS$3:$AS$16,0)))","v":""},""]
[48,null,null,null,null,null,"",null,{"$f":"IF(K75=\"\",\"\",VLOOKUP(K75,'Equipment Type'!$A$1:$F$53,5,FALSE))","v":""},{"$f":"IF(K75=\"\",\"\",VLOOKUP(K75,'Equipment Type'!$A$1:$F$53,6,FALSE))","v":""},null,{"$f":"IF(K75=\"\",\"\",VLOOKUP(K75,'Equipment Type'!$A$1:$F$53,4,FALSE))","v":""},null,{"$f":"IF(K75=\"\",\"\",INDEX('Equipment Type'!$T$4:$T$53,MATCH('Analysis 103L'!K75,'Equipment Type'!$A$4:$A$53,0)))","v":""},"",null,{"$f":"IF(RIGHT(I75, 4)=\"Case\", \"\", IF(P75=\"\",\"\",(IF(ISNUMBER(SEARCH(\"exit\",J75)),8760,IF(B75=\"Exterior\",4380,'Analysis 103L'!$J$3)))))","v":""},null,"","","","","","","","",{"$f":"IF('100L Information'!$Z$5=\"Yes\",0,IF('100L Information'!$Z$4=\"Yes\",(MIN($Y$232-(-$Y$227),6000)*0.5)*(Y75/$Y$232),$Y$232*(Y75/($Y$230+$Y$231))))","v":{"$error":"#VALUE!"}},"",{"$error":"#VALUE!"},"No requirement",0,{"$f":"IF(OR(Z75=\"Does not meet requirement\",AND('100L Information'!$AA$21=\"No\",AL75=\"Y\"),AND('100L Information'!$AS$21=FALSE,AL75=\"Y\")),0,IF(ISNUMBER(R75*Incent_Cost_Fixture_Rx),MIN(R75*Incent_Cost_Fixture_Rx,(MAX(AE75,AK75))),0))","v":0},"FAIL","0","0","0",0,"N","0","0",null,"","",0,"",{"$f":"IF(RIGHT(I75,4)=\"Case\",W75,IF(AND(AL75=\"Y\",AF75<1),0,IF(OR(LEFT(D75,2)=\"T5\",LEFT(D75,3)=\"CFL\",'Analysis 103L'!AS75=\"Less\"),'Analysis 103L'!AR75,'Analysis 103L'!W75)))","v":""},null,0,0,null,{"$error":"#VALUE!"},{"$error":"#VALUE!"},{"$error":"#VALUE!"},null,null,{"$f":"IF(RIGHT(I75,4)=\"Case\",'LED Case Lighting'!$AY$1,IF(J75=\"\",\"\",VLOOKUP(J75,Lookups!$A$30:$J$149,VLOOKUP('100L Information'!$AI$46,Lookups!$J$3:$L$6,3,FALSE),FALSE)))","v":""},{"$error":"#N/A"},"","",{"$error":"#VALUE!"},{"$error":"#VALUE!"},{"$error":"#VALUE!"},{"$error":"#N/A"},0,{"$error":"#N/A"},0,{"$error":"#VALUE!"},{"$error":"#VALUE!"},{"$error":"#VALUE!"},"FAIL",null,null,null,null,null,null,null,"Interior / Exterior",null,"",null,{"$f":"IF(RIGHT(I75,4)=\"Case\",(INDEX('LED Case Lighting'!$AZ$3:$AZ$16,MATCH('Analysis 103L'!$CI75,'LED Case Lighting'!$AS$3:$AS$16,0))),IF(CB75=0,0,IF(CB75=\"lamp\",((Q75/VLOOKUP(B75,Int_Ext,2,FALSE))*VLOOKUP(E75,NEB,16,FALSE)),IF(CB75=\"fixture\",((Q75/VLOOKUP(B75,Int_Ext,2,FALSE))*VLOOKUP(E75,NEB,14,FALSE)),\"\"))))","v":""},null,{"$f":"IF(RIGHT(I75,4)=\"Case\",INDEX('Equipment Type'!$V$4:$V$53, MATCH('Analysis 103L'!$K75, 'Equipment Type'!$A$4:$A$53, 0)), \"\")","v":""},"","","",{"$f":"IF(CI75=\"\", \"\", IF(RIGHT(I75,4)=\"Case\", INDEX('LED Case Lighting'!$AR$3:$AR$16, MATCH('Analysis 103L'!CI75, 'LED Case Lighting'!$AS$3:$AS$16, 0)), \"\"))","v":""},{"$f":"IF(CI75=\"\",\"\",INDEX('LED Case Lighting'!$AW$3:$AW$16,MATCH('Analysis 103L'!CI75,'LED Case Lighting'!$AS$3:$AS$16,0)))","v":""},{"$f":"IF(CI75=\"\",\"\",INDEX('LED Case Lighting'!$AX$3:$AX$16,MATCH('Analysis 103L'!CI75,'LED Case Lighting'!$AS$3:$AS$16,0)))","v":""},""]
[49,null,null,null,null,null,"",null,{"$f":"IF(K76=\"\",\"\",VLOOKUP(K76,'Equipment Type'!$A$1:$F$53,5,FALSE))","v":""},{"$f":"IF(K76=\"\",\"\",VLOOKUP(K76,'Equipment Type'!$A$1:$F$53,6,FALSE))","v":""},null,{"$f":"IF(K76=\"\",\"\",VLOOKUP(K76,'Equipment Type'!$A$1:$F$53,4,FALSE))","v":""},null,{"$f":"IF(K76=\"\",\"\",INDEX('Equipment Type'!$T$4:$T$53,MATCH('Analysis 103L'!K76,'Equipment Type'!$A$4:$A$53,0)))","v":""},"",null,{"$f":"IF(RIGHT(I76, 4)=\"Case\", \"\", IF(P76=\"\",\"\",(IF(ISNUMBER(SEARCH(\"exit\",J76)),8760,IF(B76=\"Exterior\",4380,'Analysis 103L'!$J$3)))))","v":""},null,"","","","","","","","",{"$f":"IF('100L Information'!$Z$5=\"Yes\",0,IF('100L Information'!$Z$4=\"Yes\",(MIN($Y$232-(-$Y$227),6000)*0.5)*(Y76/$Y$232),$Y$232*(Y76/($Y$230+$Y$231))))","v":{"$error":"#VALUE!"}},"",{"$error":"#VALUE!"},"No requirement",0,{"$f":"IF(OR(Z76=\"Does not meet requirement\",AND('100L Information'!$AA$21=\"No\",AL76=\"Y\"),AND('100L Information'!$AS$21=FALSE,AL76=\"Y\")),0,IF(ISNUMBER(R76*Incent_Cost_Fixture_Rx),MIN(R76*Incent_Cost_Fixture_Rx,(MAX(AE76,AK76))),0))","v":0},"FAIL","0","0","0",0,"N","0","0",null,"","",0,"",{"$f":"IF(RIGHT(I76,4)=\"Case\",W76,IF(AND(AL76=\"Y\",AF76<1),0,IF(OR(LEFT(D76,2)=\"T5\",LEFT(D76,3)=\"CFL\",'Analysis 103L'!AS76=\"Less\"),'Analysis 103L'!AR76,'Analysis 103L'!W76)))","v":""},null,0,0,null,{"$error":"#VALUE!"},{"$error":"#VALUE!"},{"$error":"#VALUE!"},null,null,{"$f":"IF(RIGHT(I76,4)=\"Case\",'LED Case Lighting'!$AY$1,IF(J76=\"\",\"\",VLOOKUP(J76,Lookups!$A$30:$J$149,VLOOKUP('100L Information'!$AI$46,Lookups!$J$3:$L$6,3,FALSE),FALSE)))","v":""},{"$error":"#N/A"},"","",{"$error":"#VALUE!"},{"$error":"#VALUE!"},{"$error":"#VALUE!"},{"$error":"#N/A"},0,{"$error":"#N/A"},0,{"$error":"#VALUE!"},{"$error":"#VALUE!"},{"$error":"#VALUE!"},"FAIL",null,null,null,null,null,null,null,"Interior / Exterior",null,"",null,{"$f":"IF(RIGHT(I76,4)=\"Case\",(INDEX('LED Case Lighting'!$AZ$3:$AZ$16,MATCH('Analysis 103L'!$CI76,'LED Case Lighting'!$AS$3:$AS$16,0))),IF(CB76=0,0,IF(CB76=\"lamp\",((Q76/VLOOKUP(B76,Int_Ext,2,FALSE))*VLOOKUP(E76,NEB,16,FALSE)),IF(CB76=\"fixture\",((Q76/VLOOKUP(B76,Int_Ext,2,FALSE))*VLOOKUP(E76,NEB,14,FALSE)),\"\"))))","v":""},null,{"$f":"IF(RIGHT(I76,4)=\"Case\",INDEX('Equipment Type'!$V$4:$V$53, MATCH('Analysis 103L'!$K76, 'Equipment Type'!$A$4:$A$53, 0)), \"\")","v":""},"","","",{"$f":"IF(CI76=\"\", \"\", IF(RIGHT(I76,4)=\"Case\", INDEX('LED Case Lighting'!$AR$3:$AR$16, MATCH('Analysis 103L'!CI76, 'LED Case Lighting'!$AS$3:$AS$16, 0)), \"\"))","v":""},{"$f":"IF(CI76=\"\",\"\",INDEX('LED Case Lighting'!$AW$3:$AW$16,MATCH('Analysis 103L'!CI76,'LED Case Lighting'!$AS$3:$AS$16,0)))","v":""},{"$f":"IF(CI76=\"\",\"\",INDEX('LED Case Lighting'!$AX$3:$AX$16,MATCH('Analysis 103L'!CI76,'LED Case Lighting'!$AS$3:$AS$16,0)))","v":""},""]
[50,null,null,null,null,null,"",null,{"$f":"IF(K77=\"\",\"\",VLOOKUP(K77,'Equipment Type'!$A$1:$F$53,5,FALSE))","v":""},{"$f":"IF(K77=\"\",\"\",VLOOKUP(K77,'Equipment Type'!$A$1:$F$53,6,FALSE))","v":""},null,{"$f":"IF(K77=\"\",\"\",VLOOKUP(K77,'Equipment Type'!$A$1:$F$53,4,FALSE))","v":""},null,{"$f":"IF(K77=\"\",\"\",INDEX('Equipment Type'!$T$4:$T$53,MATCH('Analysis 103L'!K77,'Equipment Type'!$A$4:$A$53,0)))","v":""},"",null,{"$f":"IF(RIGHT(I77, 4)=\"Case\", \"\", IF(P77=\"\",\"\",(IF(ISNUMBER(SEARCH(\"exit\",J77)),8760,IF(B77=\"Exterior\",4380,'Analysis 103L'!$J$3)))))","v":""},null,"","","","","","","","",{"$f":"IF('100L Information'!$Z$5=\"Yes\",0,IF('100L Information'!$Z$4=\"Yes\",(MIN($Y$232-(-$Y$227),6000)*0.5)*(Y77/$Y$232),$Y$232*(Y77/($Y$230+$Y$231))))","v":{"$error":"#VALUE!"}},"",{"$error":"#VALUE!"},"No requirement",0,{"$f":"IF(OR(Z77=\"Does not meet requirement\",AND('100L Information'!$AA$21=\"No\",AL77=\"Y\"),AND('100L Information'!$AS$21=FALSE,AL77=\"Y\")),0,IF(ISNUMBER(R77*Incent_Cost_Fixture_Rx),MIN(R77*Incent_Cost_Fixture_Rx,(MAX(AE77,AK77))),0))","v":0},"FAIL","0","0","0",0,"N","0","0",null,"","",0,"",{"$f":"IF(RIGHT(I77,4)=\"Case\",W77,IF(AND(AL77=\"Y\",AF77<1),0,IF(OR(LEFT(D77,2)=\"T5\",LEFT(D77,3)=\"CFL\",'Analysis 103L'!AS77=\"Less\"),'Analysis 103L'!AR77,'Analysis 103L'!W77)))","v":""},null,0,0,null,{"$error":"#VALUE!"},{"$error":"#VALUE!"},{"$error":"#VALUE!"},null,null,{"$f":"IF(RIGHT(I77,4)=\"Case\",'LED Case Lighting'!$AY$1,IF(J77=\"\",\"\",VLOOKUP(J77,Lookups!$A$30:$J$149,VLOOKUP('100L Information'!$AI$46,Lookups!$J$3:$L$6,3,FALSE),FALSE)))","v":""},{"$error":"#N/A"},"","",{"$error":"#VALUE!"},{"$error":"#VALUE!"},{"$error":"#VALUE!"},{"$error":"#N/A"},0,{"$error":"#N/A"},0,{"$error":"#VALUE!"},{"$error":"#VALUE!"},{"$error":"#VALUE!"},"FAIL",null,null,null,null,null,null,null,"Interior / Exterior",null,"",null,{"$f":"IF(RIGHT(I77,4)=\"Case\",(INDEX('LED Case Lighting'!$AZ$3:$AZ$16,MATCH('Analysis 103L'!$CI77,'LED Case Lighting'!$AS$3:$AS$16,0))),IF(CB77=0,0,IF(CB77=\"lamp\",((Q77/VLOOKUP(B77,Int_Ext,2,FALSE))*VLOOKUP(E77,NEB,16,FALSE)),IF(CB77=\"fixture\",((Q77/VLOOKUP(B77,Int_Ext,2,FALSE))*VLOOKUP(E77,NEB,14,FALSE)),\"\"))))","v":""},null,{"$f":"IF(RIGHT(I77,4)=\"Case\",INDEX('Equipment Type'!$V$4:$V$53, MATCH('Analysis 103L'!$K77, 'Equipment Type'!$A$4:$A$53, 0)), \"\")","v":""},"","","",{"$f":"IF(CI77=\"\", \"\", IF(RIGHT(I77,4)=\"Case\", INDEX('LED Case Lighting'!$AR$3:$AR$16, MATCH('Analysis 103L'!CI77, 'LED Case Lighting'!$AS$3:$AS$16, 0)), \"\"))","v":""},{"$f":"IF(CI77=\"\",\"\",INDEX('LED Case Lighting'!$AW$3:$AW$16,MATCH('Analysis 103L'!CI77,'LED Case Lighting'!$AS$3:$AS$16,0)))","v":""},{"$f":"IF(CI77=\"\",\"\",INDEX('LED Case Lighting'!$AX$3:$AX$16,MATCH('Analysis 103L'!CI77,'LED Case Lighting'!$AS$3:$AS$16,0)))","v":""},""]
[51,null,null,null,null,null,"",null,{"$f":"IF(K78=\"\",\"\",VLOOKUP(K78,'Equipment Type'!$A$1:$F$53,5,FALSE))","v":""},{"$f":"IF(K78=\"\",\"\",VLOOKUP(K78,'Equipment Type'!$A$1:$F$53,6,FALSE))","v":""},null,{"$f":"IF(K78=\"\",\"\",VLOOKUP(K78,'Equipment Type'!$A$1:$F$53,4,FALSE))","v":""},null,{"$f":"IF(K78=\"\",\"\",INDEX('Equipment Type'!$T$4:$T$53,MATCH('Analysis 103L'!K78,'Equipment Type'!$A$4:$A$53,0)))","v":""},"",null,{"$f":"IF(RIGHT(I78, 4)=\"Case\", \"\", IF(P78=\"\",\"\",(IF(ISNUMBER(SEARCH(\"exit\",J78)),8760,IF(B78=\"Exterior\",4380,'Analysis 103L'!$J$3)))))","v":""},null,"","","","","","","","",{"$f":"IF('100L Information'!$Z$5=\"Yes\",0,IF('100L Information'!$Z$4=\"Yes\",(MIN($Y$232-(-$Y$227),6000)*0.5)*(Y78/$Y$232),$Y$232*(Y78/($Y$230+$Y$231))))","v":{"$error":"#VALUE!"}},"",{"$error":"#VALUE!"},"No requirement",0,{"$f":"IF(OR(Z78=\"Does not meet requirement\",AND('100L Information'!$AA$21=\"No\",AL78=\"Y\"),AND('100L Information'!$AS$21=FALSE,AL78=\"Y\")),0,IF(ISNUMBER(R78*Incent_Cost_Fixture_Rx),MIN(R78*Incent_Cost_Fixture_Rx,(MAX(AE78,AK78))),0))","v":0},"FAIL","0","0","0",0,"N","0","0",null,"","",0,"",{"$f":"IF(RIGHT(I78,4)=\"Case\",W78,IF(AND(AL78=\"Y\",AF78<1),0,IF(OR(LEFT(D78,2)=\"T5\",LEFT(D78,3)=\"CFL\",'Analysis 103L'!AS78=\"Less\"),'Analysis 103L'!AR78,'Analysis 103L'!W78)))","v":""},null,0,0,null,{"$error":"#VALUE!"},{"$error":"#VALUE!"},{"$error":"#VALUE!"},null,null,{"$f":"IF(RIGHT(I78,4)=\"Case\",'LED Case Lighting'!$AY$1,IF(J78=\"\",\"\",VLOOKUP(J78,Lookups!$A$30:$J$149,VLOOKUP('100L Information'!$AI$46,Lookups!$J$3:$L$6,3,FALSE),FALSE)))","v":""},{"$error":"#N/A"},"","",{"$error":"#VALUE!"},{"$error":"#VALUE!"},{"$error":"#VALUE!"},{"$error":"#N/A"},0,{"$error":"#N/A"},0,{"$error":"#VALUE!"},{"$error":"#VALUE!"},{"$error":"#VALUE!"},"FAIL",null,null,null,null,null,null,null,"Interior / Exterior",null,"",null,{"$f":"IF(RIGHT(I78,4)=\"Case\",(INDEX('LED Case Lighting'!$AZ$3:$AZ$16,MATCH('Analysis 103L'!$CI78,'LED Case Lighting'!$AS$3:$AS$16,0))),IF(CB78=0,0,IF(CB78=\"lamp\",((Q78/VLOOKUP(B78,Int_Ext,2,FALSE))*VLOOKUP(E78,NEB,16,FALSE)),IF(CB78=\"fixture\",((Q78/VLOOKUP(B78,Int_Ext,2,FALSE))*VLOOKUP(E78,NEB,14,FALSE)),\"\"))))","v":""},null,{"$f":"IF(RIGHT(I78,4)=\"Case\",INDEX('Equipment Type'!$V$4:$V$53, MATCH('Analysis 103L'!$K78, 'Equipment Type'!$A$4:$A$53, 0)), \"\")","v":""},"","","",{"$f":"IF(CI78=\"\", \"\", IF(RIGHT(I78,4)=\"Case\", INDEX('LED Case Lighting'!$AR$3:$AR$16, MATCH('Analysis 103L'!CI78, 'LED Case Lighting'!$AS$3:$AS$16, 0)), \"\"))","v":""},{"$f":"IF(CI78=\"\",\"\",INDEX('LED Case Lighting'!$AW$3:$AW$16,MATCH('Analysis 103L'!CI78,'LED Case Lighting'!$AS$3:$AS$16,0)))","v":""},{"$f":"IF(CI78=\"\",\"\",INDEX('LED Case Lighting'!$AX$3:$AX$16,MATCH('Analysis 103L'!CI78,'LED Case Lighting'!$AS$3:$AS$16,0)))","v":""},""]
[52,null,null,null,null,null,"",null,{"$f":"IF(K79=\"\",\"\",VLOOKUP(K79,'Equipment Type'!$A$1:$F$53,5,FALSE))","v":""},{"$f":"IF(K79=\"\",\"\",VLOOKUP(K79,'Equipment Type'!$A$1:$F$53,6,FALSE))","v":""},null,{"$f":"IF(K79=\"\",\"\",VLOOKUP(K79,'Equipment Type'!$A$1:$F$53,4,FALSE))","v":""},null,{"$f":"IF(K79=\"\",\"\",INDEX('Equipment Type'!$T$4:$T$53,MATCH('Analysis 103L'!K79,'Equipment Type'!$A$4:$A$53,0)))","v":""},"",null,{"$f":"IF(RIGHT(I79, 4)=\"Case\", \"\", IF(P79=\"\",\"\",(IF(ISNUMBER(SEARCH(\"exit\",J79)),8760,IF(B79=\"Exterior\",4380,'Analysis 103L'!$J$3)))))","v":""},null,"","","","","","","","",{"$f":"IF('100L Information'!$Z$5=\"Yes\",0,IF('100L Information'!$Z$4=\"Yes\",(MIN($Y$232-(-$Y$227),6000)*0.5)*(Y79/$Y$232),$Y$232*(Y79/($Y$230+$Y$231))))","v":{"$error":"#VALUE!"}},"",{"$error":"#VALUE!"},"No requirement",0,{"$f":"IF(OR(Z79=\"Does not meet requirement\",AND('100L Information'!$AA$21=\"No\",AL79=\"Y\"),AND('100L Information'!$AS$21=FALSE,AL79=\"Y\")),0,IF(ISNUMBER(R79*Incent_Cost_Fixture_Rx),MIN(R79*Incent_Cost_Fixture_Rx,(MAX(AE79,AK79))),0))","v":0},"FAIL","0","0","0",0,"N","0","0",null,"","",0,"",{"$f":"IF(RIGHT(I79,4)=\"Case\",W79,IF(AND(AL79=\"Y\",AF79<1),0,IF(OR(LEFT(D79,2)=\"T5\",LEFT(D79,3)=\"CFL\",'Analysis 103L'!AS79=\"Less\"),'Analysis 103L'!AR79,'Analysis 103L'!W79)))","v":""},null,0,0,null,{"$error":"#VALUE!"},{"$error":"#VALUE!"},{"$error":"#VALUE!"},null,null,{"$f":"IF(RIGHT(I79,4)=\"Case\",'LED Case Lighting'!$AY$1,IF(J79=\"\",\"\",VLOOKUP(J79,Lookups!$A$30:$J$149,VLOOKUP('100L Information'!$AI$46,Lookups!$J$3:$L$6,3,FALSE),FALSE)))","v":""},{"$error":"#N/A"},"","",{"$error":"#VALUE!"},{"$error":"#VALUE!"},{"$error":"#VALUE!"},{"$error":"#N/A"},0,{"$error":"#N/A"},0,{"$error":"#VALUE!"},{"$error":"#VALUE!"},{"$error":"#VALUE!"},"FAIL",null,null,null,null,null,null,null,"Interior / Exterior",null,"",null,{"$f":"IF(RIGHT(I79,4)=\"Case\",(INDEX('LED Case Lighting'!$AZ$3:$AZ$16,MATCH('Analysis 103L'!$CI79,'LED Case Lighting'!$AS$3:$AS$16,0))),IF(CB79=0,0,IF(CB79=\"lamp\",((Q79/VLOOKUP(B79,Int_Ext,2,FALSE))*VLOOKUP(E79,NEB,16,FALSE)),IF(CB79=\"fixture\",((Q79/VLOOKUP(B79,Int_Ext,2,FALSE))*VLOOKUP(E79,NEB,14,FALSE)),\"\"))))","v":""},null,{"$f":"IF(RIGHT(I79,4)=\"Case\",INDEX('Equipment Type'!$V$4:$V$53, MATCH('Analysis 103L'!$K79, 'Equipment Type'!$A$4:$A$53, 0)), \"\")","v":""},"","","",{"$f":"IF(CI79=\"\", \"\", IF(RIGHT(I79,4)=\"Case\", INDEX('LED Case Lighting'!$AR$3:$AR$16, MATCH('Analysis 103L'!CI79, 'LED Case Lighting'!$AS$3:$AS$16, 0)), \"\"))","v":""},{"$f":"IF(CI79=\"\",\"\",INDEX('LED Case Lighting'!$AW$3:$AW$16,MATCH('Analysis 103L'!CI79,'LED Case Lighting'!$AS$3:$AS$16,0)))","v":""},{"$f":"IF(CI79=\"\",\"\",INDEX('LED Case Lighting'!$AX$3:$AX$16,MATCH('Analysis 103L'!CI79,'LED Case Lighting'!$AS$3:$AS$16,0)))","v":""},""]
[53,null,null,null,null,null,"",null,{"$f":"IF(K80=\"\",\"\",VLOOKUP(K80,'Equipment Type'!$A$1:$F$53,5,FALSE))","v":""},{"$f":"IF(K80=\"\",\"\",VLOOKUP(K80,'Equipment Type'!$A$1:$F$53,6,FALSE))","v":""},null,{"$f":"IF(K80=\"\",\"\",VLOOKUP(K80,'Equipment Type'!$A$1:$F$53,4,FALSE))","v":""},null,{"$f":"IF(K80=\"\",\"\",INDEX('Equipment Type'!$T$4:$T$53,MATCH('Analysis 103L'!K80,'Equipment Type'!$A$4:$A$53,0)))","v":""},"",null,{"$f":"IF(RIGHT(I80, 4)=\"Case\", \"\", IF(P80=\"\",\"\",(IF(ISNUMBER(SEARCH(\"exit\",J80)),8760,IF(B80=\"Exterior\",4380,'Analysis 103L'!$J$3)))))","v":""},null,"","","","","","","","",{"$f":"IF('100L Information'!$Z$5=\"Yes\",0,IF('100L Information'!$Z$4=\"Yes\",(MIN($Y$232-(-$Y$227),6000)*0.5)*(Y80/$Y$232),$Y$232*(Y80/($Y$230+$Y$231))))","v":{"$error":"#VALUE!"}},"",{"$error":"#VALUE!"},"No requirement",0,{"$f":"IF(OR(Z80=\"Does not meet requirement\",AND('100L Information'!$AA$21=\"No\",AL80=\"Y\"),AND('100L Information'!$AS$21=FALSE,AL80=\"Y\")),0,IF(ISNUMBER(R80*Incent_Cost_Fixture_Rx),MIN(R80*Incent_Cost_Fixture_Rx,(MAX(AE80,AK80))),0))","v":0},"FAIL","0","0","0",0,"N","0","0",null,"","",0,"",{"$f":"IF(RIGHT(I80,4)=\"Case\",W80,IF(AND(AL80=\"Y\",AF80<1),0,IF(OR(LEFT(D80,2)=\"T5\",LEFT(D80,3)=\"CFL\",'Analysis 103L'!AS80=\"Less\"),'Analysis 103L'!AR80,'Analysis 103L'!W80)))","v":""},null,0,0,null,{"$error":"#VALUE!"},{"$error":"#VALUE!"},{"$error":"#VALUE!"},null,null,{"$f":"IF(RIGHT(I80,4)=\"Case\",'LED Case Lighting'!$AY$1,IF(J80=\"\",\"\",VLOOKUP(J80,Lookups!$A$30:$J$149,VLOOKUP('100L Information'!$AI$46,Lookups!$J$3:$L$6,3,FALSE),FALSE)))","v":""},{"$error":"#N/A"},"","",{"$error":"#VALUE!"},{"$error":"#VALUE!"},{"$error":"#VALUE!"},{"$error":"#N/A"},0,{"$error":"#N/A"},0,{"$error":"#VALUE!"},{"$error":"#VALUE!"},{"$error":"#VALUE!"},"FAIL",null,null,null,null,null,null,null,"Interior / Exterior",null,"",null,{"$f":"IF(RIGHT(I80,4)=\"Case\",(INDEX('LED Case Lighting'!$AZ$3:$AZ$16,MATCH('Analysis 103L'!$CI80,'LED Case Lighting'!$AS$3:$AS$16,0))),IF(CB80=0,0,IF(CB80=\"lamp\",((Q80/VLOOKUP(B80,Int_Ext,2,FALSE))*VLOOKUP(E80,NEB,16,FALSE)),IF(CB80=\"fixture\",((Q80/VLOOKUP(B80,Int_Ext,2,FALSE))*VLOOKUP(E80,NEB,14,FALSE)),\"\"))))","v":""},null,{"$f":"IF(RIGHT(I80,4)=\"Case\",INDEX('Equipment Type'!$V$4:$V$53, MATCH('Analysis 103L'!$K80, 'Equipment Type'!$A$4:$A$53, 0)), \"\")","v":""},"","","",{"$f":"IF(CI80=\"\", \"\", IF(RIGHT(I80,4)=\"Case\", INDEX('LED Case Lighting'!$AR$3:$AR$16, MATCH('Analysis 103L'!CI80, 'LED Case Lighting'!$AS$3:$AS$16, 0)), \"\"))","v":""},{"$f":"IF(CI80=\"\",\"\",INDEX('LED Case Lighting'!$AW$3:$AW$16,MATCH('Analysis 103L'!CI80,'LED Case Lighting'!$AS$3:$AS$16,0)))","v":""},{"$f":"IF(CI80=\"\",\"\",INDEX('LED Case Lighting'!$AX$3:$AX$16,MATCH('Analysis 103L'!CI80,'LED Case Lighting'!$AS$3:$AS$16,0)))","v":""},""]
[54,null,null,null,null,null,"",null,{"$f":"IF(K81=\"\",\"\",VLOOKUP(K81,'Equipment Type'!$A$1:$F$53,5,FALSE))","v":""},{"$f":"IF(K81=\"\",\"\",VLOOKUP(K81,'Equipment Type'!$A$1:$F$53,6,FALSE))","v":""},null,{"$f":"IF(K81=\"\",\"\",VLOOKUP(K81,'Equipment Type'!$A$1:$F$53,4,FALSE))","v":""},null,{"$f":"IF(K81=\"\",\"\",INDEX('Equipment Type'!$T$4:$T$53,MATCH('Analysis 103L'!K81,'Equipment Type'!$A$4:$A$53,0)))","v":""},"",null,{"$f":"IF(RIGHT(I81, 4)=\"Case\", \"\", IF(P81=\"\",\"\",(IF(ISNUMBER(SEARCH(\"exit\",J81)),8760,IF(B81=\"Exterior\",4380,'Analysis 103L'!$J$3)))))","v":""},null,"","","","","","","","",{"$f":"IF('100L Information'!$Z$5=\"Yes\",0,IF('100L Information'!$Z$4=\"Yes\",(MIN($Y$232-(-$Y$227),6000)*0.5)*(Y81/$Y$232),$Y$232*(Y81/($Y$230+$Y$231))))","v":{"$error":"#VALUE!"}},"",{"$error":"#VALUE!"},"No requirement",0,{"$f":"IF(OR(Z81=\"Does not meet requirement\",AND('100L Information'!$AA$21=\"No\",AL81=\"Y\"),AND('100L Information'!$AS$21=FALSE,AL81=\"Y\")),0,IF(ISNUMBER(R81*Incent_Cost_Fixture_Rx),MIN(R81*Incent_Cost_Fixture_Rx,(MAX(AE81,AK81))),0))","v":0},"FAIL","0","0","0",0,"N","0","0",null,"","",0,"",{"$f":"IF(RIGHT(I81,4)=\"Case\",W81,IF(AND(AL81=\"Y\",AF81<1),0,IF(OR(LEFT(D81,2)=\"T5\",LEFT(D81,3)=\"CFL\",'Analysis 103L'!AS81=\"Less\"),'Analysis 103L'!AR81,'Analysis 103L'!W81)))","v":""},null,0,0,null,{"$error":"#VALUE!"},{"$error":"#VALUE!"},{"$error":"#VALUE!"},null,null,{"$f":"IF(RIGHT(I81,4)=\"Case\",'LED Case Lighting'!$AY$1,IF(J81=\"\",\"\",VLOOKUP(J81,Lookups!$A$30:$J$149,VLOOKUP('100L Information'!$AI$46,Lookups!$J$3:$L$6,3,FALSE),FALSE)))","v":""},{"$error":"#N/A"},"","",{"$error":"#VALUE!"},{"$error":"#VALUE!"},{"$error":"#VALUE!"},{"$error":"#N/A"},0,{"$error":"#N/A"},0,{"$error":"#VALUE!"},{"$error":"#VALUE!"},{"$error":"#VALUE!"},"FAIL",null,null,null,null,null,null,null,"Interior / Exterior",null,"",null,{"$f":"IF(RIGHT(I81,4)=\"Case\",(INDEX('LED Case Lighting'!$AZ$3:$AZ$16,MATCH('Analysis 103L'!$CI81,'LED Case Lighting'!$AS$3:$AS$16,0))),IF(CB81=0,0,IF(CB81=\"lamp\",((Q81/VLOOKUP(B81,Int_Ext,2,FALSE))*VLOOKUP(E81,NEB,16,FALSE)),IF(CB81=\"fixture\",((Q81/VLOOKUP(B81,Int_Ext,2,FALSE))*VLOOKUP(E81,NEB,14,FALSE)),\"\"))))","v":""},null,{"$f":"IF(RIGHT(I81,4)=\"Case\",INDEX('Equipment Type'!$V$4:$V$53, MATCH('Analysis 103L'!$K81, 'Equipment Type'!$A$4:$A$53, 0)), \"\")","v":""},"","","",{"$f":"IF(CI81=\"\", \"\", IF(RIGHT(I81,4)=\"Case\", INDEX('LED Case Lighting'!$AR$3:$AR$16, MATCH('Analysis 103L'!CI81, 'LED Case Lighting'!$AS$3:$AS$16, 0)), \"\"))","v":""},{"$f":"IF(CI81=\"\",\"\",INDEX('LED Case Lighting'!$AW$3:$AW$16,MATCH('Analysis 103L'!CI81,'LED Case Lighting'!$AS$3:$AS$16,0)))","v":""},{"$f":"IF(CI81=\"\",\"\",INDEX('LED Case Lighting'!$AX$3:$AX$16,MATCH('Analysis 103L'!CI81,'LED Case Lighting'!$AS$3:$AS$16,0)))","v":""},""]
[55,null,null,null,null,null,"",null,{"$f":"IF(K82=\"\",\"\",VLOOKUP(K82,'Equipment Type'!$A$1:$F$53,5,FALSE))","v":""},{"$f":"IF(K82=\"\",\"\",VLOOKUP(K82,'Equipment Type'!$A$1:$F$53,6,FALSE))","v":""},null,{"$f":"IF(K82=\"\",\"\",VLOOKUP(K82,'Equipment Type'!$A$1:$F$53,4,FALSE))","v":""},null,{"$f":"IF(K82=\"\",\"\",INDEX('Equipment Type'!$T$4:$T$53,MATCH('Analysis 103L'!K82,'Equipment Type'!$A$4:$A$53,0)))","v":""},"",null,{"$f":"IF(RIGHT(I82, 4)=\"Case\", \"\", IF(P82=\"\",\"\",(IF(ISNUMBER(SEARCH(\"exit\",J82)),8760,IF(B82=\"Exterior\",4380,'Analysis 103L'!$J$3)))))","v":""},null,"","","","","","","","",{"$f":"IF('100L Information'!$Z$5=\"Yes\",0,IF('100L Information'!$Z$4=\"Yes\",(MIN($Y$232-(-$Y$227),6000)*0.5)*(Y82/$Y$232),$Y$232*(Y82/($Y$230+$Y$231))))","v":{"$error":"#VALUE!"}},"",{"$error":"#VALUE!"},"No requirement",0,{"$f":"IF(OR(Z82=\"Does not meet requirement\",AND('100L Information'!$AA$21=\"No\",AL82=\"Y\"),AND('100L Information'!$AS$21=FALSE,AL82=\"Y\")),0,IF(ISNUMBER(R82*Incent_Cost_Fixture_Rx),MIN(R82*Incent_Cost_Fixture_Rx,(MAX(AE82,AK82))),0))","v":0},"FAIL","0","0","0",0,"N","0","0",null,"","",0,"",{"$f":"IF(RIGHT(I82,4)=\"Case\",W82,IF(AND(AL82=\"Y\",AF82<1),0,IF(OR(LEFT(D82,2)=\"T5\",LEFT(D82,3)=\"CFL\",'Analysis 103L'!AS82=\"Less\"),'Analysis 103L'!AR82,'Analysis 103L'!W82)))","v":""},null,0,0,null,{"$error":"#VALUE!"},{"$error":"#VALUE!"},{"$error":"#VALUE!"},null,null,{"$f":"IF(RIGHT(I82,4)=\"Case\",'LED Case Lighting'!$AY$1,IF(J82=\"\",\"\",VLOOKUP(J82,Lookups!$A$30:$J$149,VLOOKUP('100L Information'!$AI$46,Lookups!$J$3:$L$6,3,FALSE),FALSE)))","v":""},{"$error":"#N/A"},"","",{"$error":"#VALUE!"},{"$error":"#VALUE!"},{"$error":"#VALUE!"},{"$error":"#N/A"},0,{"$error":"#N/A"},0,{"$error":"#VALUE!"},{"$error":"#VALUE!"},{"$error":"#VALUE!"},"FAIL",null,null,null,null,null,null,null,"Interior / Exterior",null,"",null,{"$f":"IF(RIGHT(I82,4)=\"Case\",(INDEX('LED Case Lighting'!$AZ$3:$AZ$16,MATCH('Analysis 103L'!$CI82,'LED Case Lighting'!$AS$3:$AS$16,0))),IF(CB82=0,0,IF(CB82=\"lamp\",((Q82/VLOOKUP(B82,Int_Ext,2,FALSE))*VLOOKUP(E82,NEB,16,FALSE)),IF(CB82=\"fixture\",((Q82/VLOOKUP(B82,Int_Ext,2,FALSE))*VLOOKUP(E82,NEB,14,FALSE)),\"\"))))","v":""},null,{"$f":"IF(RIGHT(I82,4)=\"Case\",INDEX('Equipment Type'!$V$4:$V$53, MATCH('Analysis 103L'!$K82, 'Equipment Type'!$A$4:$A$53, 0)), \"\")","v":""},"","","",{"$f":"IF(CI82=\"\", \"\", IF(RIGHT(I82,4)=\"Case\", INDEX('LED Case Lighting'!$AR$3:$AR$16, MATCH('Analysis 103L'!CI82, 'LED Case Lighting'!$AS$3:$AS$16, 0)), \"\"))","v":""},{"$f":"IF(CI82=\"\",\"\",INDEX('LED Case Lighting'!$AW$3:$AW$16,MATCH('Analysis 103L'!CI82,'LED Case Lighting'!$AS$3:$AS$16,0)))","v":""},{"$f":"IF(CI82=\"\",\"\",INDEX('LED Case Lighting'!$AX$3:$AX$16,MATCH('Analysis 103L'!CI82,'LED Case Lighting'!$AS$3:$AS$16,0)))","v":""},""]
[56,null,null,null,null,null,"",null,{"$f":"IF(K83=\"\",\"\",VLOOKUP(K83,'Equipment Type'!$A$1:$F$53,5,FALSE))","v":""},{"$f":"IF(K83=\"\",\"\",VLOOKUP(K83,'Equipment Type'!$A$1:$F$53,6,FALSE))","v":""},null,{"$f":"IF(K83=\"\",\"\",VLOOKUP(K83,'Equipment Type'!$A$1:$F$53,4,FALSE))","v":""},null,{"$f":"IF(K83=\"\",\"\",INDEX('Equipment Type'!$T$4:$T$53,MATCH('Analysis 103L'!K83,'Equipment Type'!$A$4:$A$53,0)))","v":""},"",null,{"$f":"IF(RIGHT(I83, 4)=\"Case\", \"\", IF(P83=\"\",\"\",(IF(ISNUMBER(SEARCH(\"exit\",J83)),8760,IF(B83=\"Exterior\",4380,'Analysis 103L'!$J$3)))))","v":""},null,"","","","","","","","",{"$f":"IF('100L Information'!$Z$5=\"Yes\",0,IF('100L Information'!$Z$4=\"Yes\",(MIN($Y$232-(-$Y$227),6000)*0.5)*(Y83/$Y$232),$Y$232*(Y83/($Y$230+$Y$231))))","v":{"$error":"#VALUE!"}},"",{"$error":"#VALUE!"},"No requirement",0,{"$f":"IF(OR(Z83=\"Does not meet requirement\",AND('100L Information'!$AA$21=\"No\",AL83=\"Y\"),AND('100L Information'!$AS$21=FALSE,AL83=\"Y\")),0,IF(ISNUMBER(R83*Incent_Cost_Fixture_Rx),MIN(R83*Incent_Cost_Fixture_Rx,(MAX(AE83,AK83))),0))","v":0},"FAIL","0","0","0",0,"N","0","0",null,"","",0,"",{"$f":"IF(RIGHT(I83,4)=\"Case\",W83,IF(AND(AL83=\"Y\",AF83<1),0,IF(OR(LEFT(D83,2)=\"T5\",LEFT(D83,3)=\"CFL\",'Analysis 103L'!AS83=\"Less\"),'Analysis 103L'!AR83,'Analysis 103L'!W83)))","v":""},null,0,0,null,{"$error":"#VALUE!"},{"$error":"#VALUE!"},{"$error":"#VALUE!"},null,null,{"$f":"IF(RIGHT(I83,4)=\"Case\",'LED Case Lighting'!$AY$1,IF(J83=\"\",\"\",VLOOKUP(J83,Lookups!$A$30:$J$149,VLOOKUP('100L Information'!$AI$46,Lookups!$J$3:$L$6,3,FALSE),FALSE)))","v":""},{"$error":"#N/A"},"","",{"$error":"#VALUE!"},{"$error":"#VALUE!"},{"$error":"#VALUE!"},{"$error":"#N/A"},0,{"$error":"#N/A"},0,{"$error":"#VALUE!"},{"$error":"#VALUE!"},{"$error":"#VALUE!"},"FAIL",null,null,null,null,null,null,null,"Interior / Exterior",null,"",null,{"$f":"IF(RIGHT(I83,4)=\"Case\",(INDEX('LED Case Lighting'!$AZ$3:$AZ$16,MATCH('Analysis 103L'!$CI83,'LED Case Lighting'!$AS$3:$AS$16,0))),IF(CB83=0,0,IF(CB83=\"lamp\",((Q83/VLOOKUP(B83,Int_Ext,2,FALSE))*VLOOKUP(E83,NEB,16,FALSE)),IF(CB83=\"fixture\",((Q83/VLOOKUP(B83,Int_Ext,2,FALSE))*VLOOKUP(E83,NEB,14,FALSE)),\"\"))))","v":""},null,{"$f":"IF(RIGHT(I83,4)=\"Case\",INDEX('Equipment Type'!$V$4:$V$53, MATCH('Analysis 103L'!$K83, 'Equipment Type'!$A$4:$A$53, 0)), \"\")","v":""},"","","",{"$f":"IF(CI83=\"\", \"\", IF(RIGHT(I83,4)=\"Case\", INDEX('LED Case Lighting'!$AR$3:$AR$16, MATCH('Analysis 103L'!CI83, 'LED Case Lighting'!$AS$3:$AS$16, 0)), \"\"))","v":""},{"$f":"IF(CI83=\"\",\"\",INDEX('LED Case Lighting'!$AW$3:$AW$16,MATCH('Analysis 103L'!CI83,'LED Case Lighting'!$AS$3:$AS$16,0)))","v":""},{"$f":"IF(CI83=\"\",\"\",INDEX('LED Case Lighting'!$AX$3:$AX$16,MATCH('Analysis 103L'!CI83,'LED Case Lighting'!$AS$3:$AS$16,0)))","v":""},""]
[57,null,null,null,null,null,"",null,{"$f":"IF(K84=\"\",\"\",VLOOKUP(K84,'Equipment Type'!$A$1:$F$53,5,FALSE))","v":""},{"$f":"IF(K84=\"\",\"\",VLOOKUP(K84,'Equipment Type'!$A$1:$F$53,6,FALSE))","v":""},null,{"$f":"IF(K84=\"\",\"\",VLOOKUP(K84,'Equipment Type'!$A$1:$F$53,4,FALSE))","v":""},null,{"$f":"IF(K84=\"\",\"\",INDEX('Equipment Type'!$T$4:$T$53,MATCH('Analysis 103L'!K84,'Equipment Type'!$A$4:$A$53,0)))","v":""},"",null,{"$f":"IF(RIGHT(I84, 4)=\"Case\", \"\", IF(P84=\"\",\"\",(IF(ISNUMBER(SEARCH(\"exit\",J84)),8760,IF(B84=\"Exterior\",4380,'Analysis 103L'!$J$3)))))","v":""},null,"","","","","","","","",{"$f":"IF('100L Information'!$Z$5=\"Yes\",0,IF('100L Information'!$Z$4=\"Yes\",(MIN($Y$232-(-$Y$227),6000)*0.5)*(Y84/$Y$232),$Y$232*(Y84/($Y$230+$Y$231))))","v":{"$error":"#VALUE!"}},"",{"$error":"#VALUE!"},"No requirement",0,{"$f":"IF(OR(Z84=\"Does not meet requirement\",AND('100L Information'!$AA$21=\"No\",AL84=\"Y\"),AND('100L Information'!$AS$21=FALSE,AL84=\"Y\")),0,IF(ISNUMBER(R84*Incent_Cost_Fixture_Rx),MIN(R84*Incent_Cost_Fixture_Rx,(MAX(AE84,AK84))),0))","v":0},"FAIL","0","0","0",0,"N","0","0",null,"","",0,"",{"$f":"IF(RIGHT(I84,4)=\"Case\",W84,IF(AND(AL84=\"Y\",AF84<1),0,IF(OR(LEFT(D84,2)=\"T5\",LEFT(D84,3)=\"CFL\",'Analysis 103L'!AS84=\"Less\"),'Analysis 103L'!AR84,'Analysis 103L'!W84)))","v":""},null,0,0,null,{"$error":"#VALUE!"},{"$error":"#VALUE!"},{"$error":"#VALUE!"},null,null,{"$f":"IF(RIGHT(I84,4)=\"Case\",'LED Case Lighting'!$AY$1,IF(J84=\"\",\"\",VLOOKUP(J84,Lookups!$A$30:$J$149,VLOOKUP('100L Information'!$AI$46,Lookups!$J$3:$L$6,3,FALSE),FALSE)))","v":""},{"$error":"#N/A"},"","",{"$error":"#VALUE!"},{"$error":"#VALUE!"},{"$error":"#VALUE!"},{"$error":"#N/A"},0,{"$error":"#N/A"},0,{"$error":"#VALUE!"},{"$error":"#VALUE!"},{"$error":"#VALUE!"},"FAIL",null,null,null,null,null,null,null,"Interior / Exterior",null,"",null,{"$f":"IF(RIGHT(I84,4)=\"Case\",(INDEX('LED Case Lighting'!$AZ$3:$AZ$16,MATCH('Analysis 103L'!$CI84,'LED Case Lighting'!$AS$3:$AS$16,0))),IF(CB84=0,0,IF(CB84=\"lamp\",((Q84/VLOOKUP(B84,Int_Ext,2,FALSE))*VLOOKUP(E84,NEB,16,FALSE)),IF(CB84=\"fixture\",((Q84/VLOOKUP(B84,Int_Ext,2,FALSE))*VLOOKUP(E84,NEB,14,FALSE)),\"\"))))","v":""},null,{"$f":"IF(RIGHT(I84,4)=\"Case\",INDEX('Equipment Type'!$V$4:$V$53, MATCH('Analysis 103L'!$K84, 'Equipment Type'!$A$4:$A$53, 0)), \"\")","v":""},"","","",{"$f":"IF(CI84=\"\", \"\", IF(RIGHT(I84,4)=\"Case\", INDEX('LED Case Lighting'!$AR$3:$AR$16, MATCH('Analysis 103L'!CI84, 'LED Case Lighting'!$AS$3:$AS$16, 0)), \"\"))","v":""},{"$f":"IF(CI84=\"\",\"\",INDEX('LED Case Lighting'!$AW$3:$AW$16,MATCH('Analysis 103L'!CI84,'LED Case Lighting'!$AS$3:$AS$16,0)))","v":""},{"$f":"IF(CI84=\"\",\"\",INDEX('LED Case Lighting'!$AX$3:$AX$16,MATCH('Analysis 103L'!CI84,'LED Case Lighting'!$AS$3:$AS$16,0)))","v":""},""]
[58,null,null,null,null,null,"",null,{"$f":"IF(K85=\"\",\"\",VLOOKUP(K85,'Equipment Type'!$A$1:$F$53,5,FALSE))","v":""},{"$f":"IF(K85=\"\",\"\",VLOOKUP(K85,'Equipment Type'!$A$1:$F$53,6,FALSE))","v":""},null,{"$f":"IF(K85=\"\",\"\",VLOOKUP(K85,'Equipment Type'!$A$1:$F$53,4,FALSE))","v":""},null,{"$f":"IF(K85=\"\",\"\",INDEX('Equipment Type'!$T$4:$T$53,MATCH('Analysis 103L'!K85,'Equipment Type'!$A$4:$A$53,0)))","v":""},"",null,{"$f":"IF(RIGHT(I85, 4)=\"Case\", \"\", IF(P85=\"\",\"\",(IF(ISNUMBER(SEARCH(\"exit\",J85)),8760,IF(B85=\"Exterior\",4380,'Analysis 103L'!$J$3)))))","v":""},null,"","","","","","","","",{"$f":"IF('100L Information'!$Z$5=\"Yes\",0,IF('100L Information'!$Z$4=\"Yes\",(MIN($Y$232-(-$Y$227),6000)*0.5)*(Y85/$Y$232),$Y$232*(Y85/($Y$230+$Y$231))))","v":{"$error":"#VALUE!"}},"",{"$error":"#VALUE!"},"No requirement",0,{"$f":"IF(OR(Z85=\"Does not meet requirement\",AND('100L Information'!$AA$21=\"No\",AL85=\"Y\"),AND('100L Information'!$AS$21=FALSE,AL85=\"Y\")),0,IF(ISNUMBER(R85*Incent_Cost_Fixture_Rx),MIN(R85*Incent_Cost_Fixture_Rx,(MAX(AE85,AK85))),0))","v":0},"FAIL","0","0","0",0,"N","0","0",null,"","",0,"",{"$f":"IF(RIGHT(I85,4)=\"Case\",W85,IF(AND(AL85=\"Y\",AF85<1),0,IF(OR(LEFT(D85,2)=\"T5\",LEFT(D85,3)=\"CFL\",'Analysis 103L'!AS85=\"Less\"),'Analysis 103L'!AR85,'Analysis 103L'!W85)))","v":""},null,0,0,null,{"$error":"#VALUE!"},{"$error":"#VALUE!"},{"$error":"#VALUE!"},null,null,{"$f":"IF(RIGHT(I85,4)=\"Case\",'LED Case Lighting'!$AY$1,IF(J85=\"\",\"\",VLOOKUP(J85,Lookups!$A$30:$J$149,VLOOKUP('100L Information'!$AI$46,Lookups!$J$3:$L$6,3,FALSE),FALSE)))","v":""},{"$error":"#N/A"},"","",{"$error":"#VALUE!"},{"$error":"#VALUE!"},{"$error":"#VALUE!"},{"$error":"#N/A"},0,{"$error":"#N/A"},0,{"$error":"#VALUE!"},{"$error":"#VALUE!"},{"$error":"#VALUE!"},"FAIL",null,null,null,null,null,null,null,"Interior / Exterior",null,"",null,{"$f":"IF(RIGHT(I85,4)=\"Case\",(INDEX('LED Case Lighting'!$AZ$3:$AZ$16,MATCH('Analysis 103L'!$CI85,'LED Case Lighting'!$AS$3:$AS$16,0))),IF(CB85=0,0,IF(CB85=\"lamp\",((Q85/VLOOKUP(B85,Int_Ext,2,FALSE))*VLOOKUP(E85,NEB,16,FALSE)),IF(CB85=\"fixture\",((Q85/VLOOKUP(B85,Int_Ext,2,FALSE))*VLOOKUP(E85,NEB,14,FALSE)),\"\"))))","v":""},null,{"$f":"IF(RIGHT(I85,4)=\"Case\",INDEX('Equipment Type'!$V$4:$V$53, MATCH('Analysis 103L'!$K85, 'Equipment Type'!$A$4:$A$53, 0)), \"\")","v":""},"","","",{"$f":"IF(CI85=\"\", \"\", IF(RIGHT(I85,4)=\"Case\", INDEX('LED Case Lighting'!$AR$3:$AR$16, MATCH('Analysis 103L'!CI85, 'LED Case Lighting'!$AS$3:$AS$16, 0)), \"\"))","v":""},{"$f":"IF(CI85=\"\",\"\",INDEX('LED Case Lighting'!$AW$3:$AW$16,MATCH('Analysis 103L'!CI85,'LED Case Lighting'!$AS$3:$AS$16,0)))","v":""},{"$f":"IF(CI85=\"\",\"\",INDEX('LED Case Lighting'!$AX$3:$AX$16,MATCH('Analysis 103L'!CI85,'LED Case Lighting'!$AS$3:$AS$16,0)))","v":""},""]
[59,null,null,null,null,null,"",null,{"$f":"IF(K86=\"\",\"\",VLOOKUP(K86,'Equipment Type'!$A$1:$F$53,5,FALSE))","v":""},{"$f":"IF(K86=\"\",\"\",VLOOKUP(K86,'Equipment Type'!$A$1:$F$53,6,FALSE))","v":""},null,{"$f":"IF(K86=\"\",\"\",VLOOKUP(K86,'Equipment Type'!$A$1:$F$53,4,FALSE))","v":""},null,{"$f":"IF(K86=\"\",\"\",INDEX('Equipment Type'!$T$4:$T$53,MATCH('Analysis 103L'!K86,'Equipment Type'!$A$4:$A$53,0)))","v":""},"",null,{"$f":"IF(RIGHT(I86, 4)=\"Case\", \"\", IF(P86=\"\",\"\",(IF(ISNUMBER(SEARCH(\"exit\",J86)),8760,IF(B86=\"Exterior\",4380,'Analysis 103L'!$J$3)))))","v":""},null,"","","","","","","","",{"$f":"IF('100L Information'!$Z$5=\"Yes\",0,IF('100L Information'!$Z$4=\"Yes\",(MIN($Y$232-(-$Y$227),6000)*0.5)*(Y86/$Y$232),$Y$232*(Y86/($Y$230+$Y$231))))","v":{"$error":"#VALUE!"}},"",{"$error":"#VALUE!"},"No requirement",0,{"$f":"IF(OR(Z86=\"Does not meet requirement\",AND('100L Information'!$AA$21=\"No\",AL86=\"Y\"),AND('100L Information'!$AS$21=FALSE,AL86=\"Y\")),0,IF(ISNUMBER(R86*Incent_Cost_Fixture_Rx),MIN(R86*Incent_Cost_Fixture_Rx,(MAX(AE86,AK86))),0))","v":0},"FAIL","0","0","0",0,"N","0","0",null,"","",0,"",{"$f":"IF(RIGHT(I86,4)=\"Case\",W86,IF(AND(AL86=\"Y\",AF86<1),0,IF(OR(LEFT(D86,2)=\"T5\",LEFT(D86,3)=\"CFL\",'Analysis 103L'!AS86=\"Less\"),'Analysis 103L'!AR86,'Analysis 103L'!W86)))","v":""},null,0,0,null,{"$error":"#VALUE!"},{"$error":"#VALUE!"},{"$error":"#VALUE!"},null,null,{"$f":"IF(RIGHT(I86,4)=\"Case\",'LED Case Lighting'!$AY$1,IF(J86=\"\",\"\",VLOOKUP(J86,Lookups!$A$30:$J$149,VLOOKUP('100L Information'!$AI$46,Lookups!$J$3:$L$6,3,FALSE),FALSE)))","v":""},{"$error":"#N/A"},"","",{"$error":"#VALUE!"},{"$error":"#VALUE!"},{"$error":"#VALUE!"},{"$error":"#N/A"},0,{"$error":"#N/A"},0,{"$error":"#VALUE!"},{"$error":"#VALUE!"},{"$error":"#VALUE!"},"FAIL",null,null,null,null,null,null,null,"Interior / Exterior",null,"",null,{"$f":"IF(RIGHT(I86,4)=\"Case\",(INDEX('LED Case Lighting'!$AZ$3:$AZ$16,MATCH('Analysis 103L'!$CI86,'LED Case Lighting'!$AS$3:$AS$16,0))),IF(CB86=0,0,IF(CB86=\"lamp\",((Q86/VLOOKUP(B86,Int_Ext,2,FALSE))*VLOOKUP(E86,NEB,16,FALSE)),IF(CB86=\"fixture\",((Q86/VLOOKUP(B86,Int_Ext,2,FALSE))*VLOOKUP(E86,NEB,14,FALSE)),\"\"))))","v":""},null,{"$f":"IF(RIGHT(I86,4)=\"Case\",INDEX('Equipment Type'!$V$4:$V$53, MATCH('Analysis 103L'!$K86, 'Equipment Type'!$A$4:$A$53, 0)), \"\")","v":""},"","","",{"$f":"IF(CI86=\"\", \"\", IF(RIGHT(I86,4)=\"Case\", INDEX('LED Case Lighting'!$AR$3:$AR$16, MATCH('Analysis 103L'!CI86, 'LED Case Lighting'!$AS$3:$AS$16, 0)), \"\"))","v":""},{"$f":"IF(CI86=\"\",\"\",INDEX('LED Case Lighting'!$AW$3:$AW$16,MATCH('Analysis 103L'!CI86,'LED Case Lighting'!$AS$3:$AS$16,0)))","v":""},{"$f":"IF(CI86=\"\",\"\",INDEX('LED Case Lighting'!$AX$3:$AX$16,MATCH('Analysis 103L'!CI86,'LED Case Lighting'!$AS$3:$AS$16,0)))","v":""},""]
[60,null,null,null,null,null,"",null,{"$f":"IF(K87=\"\",\"\",VLOOKUP(K87,'Equipment Type'!$A$1:$F$53,5,FALSE))","v":""},{"$f":"IF(K87=\"\",\"\",VLOOKUP(K87,'Equipment Type'!$A$1:$F$53,6,FALSE))","v":""},null,{"$f":"IF(K87=\"\",\"\",VLOOKUP(K87,'Equipment Type'!$A$1:$F$53,4,FALSE))","v":""},null,{"$f":"IF(K87=\"\",\"\",INDEX('Equipment Type'!$T$4:$T$53,MATCH('Analysis 103L'!K87,'Equipment Type'!$A$4:$A$53,0)))","v":""},"",null,{"$f":"IF(RIGHT(I87, 4)=\"Case\", \"\", IF(P87=\"\",\"\",(IF(ISNUMBER(SEARCH(\"exit\",J87)),8760,IF(B87=\"Exterior\",4380,'Analysis 103L'!$J$3)))))","v":""},null,"","","","","","","","",{"$f":"IF('100L Information'!$Z$5=\"Yes\",0,IF('100L Information'!$Z$4=\"Yes\",(MIN($Y$232-(-$Y$227),6000)*0.5)*(Y87/$Y$232),$Y$232*(Y87/($Y$230+$Y$231))))","v":{"$error":"#VALUE!"}},"",{"$error":"#VALUE!"},"No requirement",0,{"$f":"IF(OR(Z87=\"Does not meet requirement\",AND('100L Information'!$AA$21=\"No\",AL87=\"Y\"),AND('100L Information'!$AS$21=FALSE,AL87=\"Y\")),0,IF(ISNUMBER(R87*Incent_Cost_Fixture_Rx),MIN(R87*Incent_Cost_Fixture_Rx,(MAX(AE87,AK87))),0))","v":0},"FAIL","0","0","0",0,"N","0","0",null,"","",0,"",{"$f":"IF(RIGHT(I87,4)=\"Case\",W87,IF(AND(AL87=\"Y\",AF87<1),0,IF(OR(LEFT(D87,2)=\"T5\",LEFT(D87,3)=\"CFL\",'Analysis 103L'!AS87=\"Less\"),'Analysis 103L'!AR87,'Analysis 103L'!W87)))","v":""},null,0,0,null,{"$error":"#VALUE!"},{"$error":"#VALUE!"},{"$error":"#VALUE!"},null,null,{"$f":"IF(RIGHT(I87,4)=\"Case\",'LED Case Lighting'!$AY$1,IF(J87=\"\",\"\",VLOOKUP(J87,Lookups!$A$30:$J$149,VLOOKUP('100L Information'!$AI$46,Lookups!$J$3:$L$6,3,FALSE),FALSE)))","v":""},{"$error":"#N/A"},"","",{"$error":"#VALUE!"},{"$error":"#VALUE!"},{"$error":"#VALUE!"},{"$error":"#N/A"},0,{"$error":"#N/A"},0,{"$error":"#VALUE!"},{"$error":"#VALUE!"},{"$error":"#VALUE!"},"FAIL",null,null,null,null,null,null,null,"Interior / Exterior",null,"",null,{"$f":"IF(RIGHT(I87,4)=\"Case\",(INDEX('LED Case Lighting'!$AZ$3:$AZ$16,MATCH('Analysis 103L'!$CI87,'LED Case Lighting'!$AS$3:$AS$16,0))),IF(CB87=0,0,IF(CB87=\"lamp\",((Q87/VLOOKUP(B87,Int_Ext,2,FALSE))*VLOOKUP(E87,NEB,16,FALSE)),IF(CB87=\"fixture\",((Q87/VLOOKUP(B87,Int_Ext,2,FALSE))*VLOOKUP(E87,NEB,14,FALSE)),\"\"))))","v":""},null,{"$f":"IF(RIGHT(I87,4)=\"Case\",INDEX('Equipment Type'!$V$4:$V$53, MATCH('Analysis 103L'!$K87, 'Equipment Type'!$A$4:$A$53, 0)), \"\")","v":""},"","","",{"$f":"IF(CI87=\"\", \"\", IF(RIGHT(I87,4)=\"Case\", INDEX('LED Case Lighting'!$AR$3:$AR$16, MATCH('Analysis 103L'!CI87, 'LED Case Lighting'!$AS$3:$AS$16, 0)), \"\"))","v":""},{"$f":"IF(CI87=\"\",\"\",INDEX('LED Case Lighting'!$AW$3:$AW$16,MATCH('Analysis 103L'!CI87,'LED Case Lighting'!$AS$3:$AS$16,0)))","v":""},{"$f":"IF(CI87=\"\",\"\",INDEX('LED Case Lighting'!$AX$3:$AX$16,MATCH('Analysis 103L'!CI87,'LED Case Lighting'!$AS$3:$AS$16,0)))","v":""},""]
[61,null,null,null,null,null,"",null,{"$f":"IF(K88=\"\",\"\",VLOOKUP(K88,'Equipment Type'!$A$1:$F$53,5,FALSE))","v":""},{"$f":"IF(K88=\"\",\"\",VLOOKUP(K88,'Equipment Type'!$A$1:$F$53,6,FALSE))","v":""},null,{"$f":"IF(K88=\"\",\"\",VLOOKUP(K88,'Equipment Type'!$A$1:$F$53,4,FALSE))","v":""},null,{"$f":"IF(K88=\"\",\"\",INDEX('Equipment Type'!$T$4:$T$53,MATCH('Analysis 103L'!K88,'Equipment Type'!$A$4:$A$53,0)))","v":""},"",null,{"$f":"IF(RIGHT(I88, 4)=\"Case\", \"\", IF(P88=\"\",\"\",(IF(ISNUMBER(SEARCH(\"exit\",J88)),8760,IF(B88=\"Exterior\",4380,'Analysis 103L'!$J$3)))))","v":""},null,"","","","","","","","",{"$f":"IF('100L Information'!$Z$5=\"Yes\",0,IF('100L Information'!$Z$4=\"Yes\",(MIN($Y$232-(-$Y$227),6000)*0.5)*(Y88/$Y$232),$Y$232*(Y88/($Y$230+$Y$231))))","v":{"$error":"#VALUE!"}},"",{"$error":"#VALUE!"},"No requirement",0,{"$f":"IF(OR(Z88=\"Does not meet requirement\",AND('100L Information'!$AA$21=\"No\",AL88=\"Y\"),AND('100L Information'!$AS$21=FALSE,AL88=\"Y\")),0,IF(ISNUMBER(R88*Incent_Cost_Fixture_Rx),MIN(R88*Incent_Cost_Fixture_Rx,(MAX(AE88,AK88))),0))","v":0},"FAIL","0","0","0",0,"N","0","0",null,"","",0,"",{"$f":"IF(RIGHT(I88,4)=\"Case\",W88,IF(AND(AL88=\"Y\",AF88<1),0,IF(OR(LEFT(D88,2)=\"T5\",LEFT(D88,3)=\"CFL\",'Analysis 103L'!AS88=\"Less\"),'Analysis 103L'!AR88,'Analysis 103L'!W88)))","v":""},null,0,0,null,{"$error":"#VALUE!"},{"$error":"#VALUE!"},{"$error":"#VALUE!"},null,null,{"$f":"IF(RIGHT(I88,4)=\"Case\",'LED Case Lighting'!$AY$1,IF(J88=\"\",\"\",VLOOKUP(J88,Lookups!$A$30:$J$149,VLOOKUP('100L Information'!$AI$46,Lookups!$J$3:$L$6,3,FALSE),FALSE)))","v":""},{"$error":"#N/A"},"","",{"$error":"#VALUE!"},{"$error":"#VALUE!"},{"$error":"#VALUE!"},{"$error":"#N/A"},0,{"$error":"#N/A"},0,{"$error":"#VALUE!"},{"$error":"#VALUE!"},{"$error":"#VALUE!"},"FAIL",null,null,null,null,null,null,null,"Interior / Exterior",null,"",null,{"$f":"IF(RIGHT(I88,4)=\"Case\",(INDEX('LED Case Lighting'!$AZ$3:$AZ$16,MATCH('Analysis 103L'!$CI88,'LED Case Lighting'!$AS$3:$AS$16,0))),IF(CB88=0,0,IF(CB88=\"lamp\",((Q88/VLOOKUP(B88,Int_Ext,2,FALSE))*VLOOKUP(E88,NEB,16,FALSE)),IF(CB88=\"fixture\",((Q88/VLOOKUP(B88,Int_Ext,2,FALSE))*VLOOKUP(E88,NEB,14,FALSE)),\"\"))))","v":""},null,{"$f":"IF(RIGHT(I88,4)=\"Case\",INDEX('Equipment Type'!$V$4:$V$53, MATCH('Analysis 103L'!$K88, 'Equipment Type'!$A$4:$A$53, 0)), \"\")","v":""},"","","",{"$f":"IF(CI88=\"\", \"\", IF(RIGHT(I88,4)=\"Case\", INDEX('LED Case Lighting'!$AR$3:$AR$16, MATCH('Analysis 103L'!CI88, 'LED Case Lighting'!$AS$3:$AS$16, 0)), \"\"))","v":""},{"$f":"IF(CI88=\"\",\"\",INDEX('LED Case Lighting'!$AW$3:$AW$16,MATCH('Analysis 103L'!CI88,'LED Case Lighting'!$AS$3:$AS$16,0)))","v":""},{"$f":"IF(CI88=\"\",\"\",INDEX('LED Case Lighting'!$AX$3:$AX$16,MATCH('Analysis 103L'!CI88,'LED Case Lighting'!$AS$3:$AS$16,0)))","v":""},""]
[62,null,null,null,null,null,"",null,{"$f":"IF(K89=\"\",\"\",VLOOKUP(K89,'Equipment Type'!$A$1:$F$53,5,FALSE))","v":""},{"$f":"IF(K89=\"\",\"\",VLOOKUP(K89,'Equipment Type'!$A$1:$F$53,6,FALSE))","v":""},null,{"$f":"IF(K89=\"\",\"\",VLOOKUP(K89,'Equipment Type'!$A$1:$F$53,4,FALSE))","v":""},null,{"$f":"IF(K89=\"\",\"\",INDEX('Equipment Type'!$T$4:$T$53,MATCH('Analysis 103L'!K89,'Equipment Type'!$A$4:$A$53,0)))","v":""},"",null,{"$f":"IF(RIGHT(I89, 4)=\"Case\", \"\", IF(P89=\"\",\"\",(IF(ISNUMBER(SEARCH(\"exit\",J89)),8760,IF(B89=\"Exterior\",4380,'Analysis 103L'!$J$3)))))","v":""},null,"","","","","","","","",{"$f":"IF('100L Information'!$Z$5=\"Yes\",0,IF('100L Information'!$Z$4=\"Yes\",(MIN($Y$232-(-$Y$227),6000)*0.5)*(Y89/$Y$232),$Y$232*(Y89/($Y$230+$Y$231))))","v":{"$error":"#VALUE!"}},"",{"$error":"#VALUE!"},"No requirement",0,{"$f":"IF(OR(Z89=\"Does not meet requirement\",AND('100L Information'!$AA$21=\"No\",AL89=\"Y\"),AND('100L Information'!$AS$21=FALSE,AL89=\"Y\")),0,IF(ISNUMBER(R89*Incent_Cost_Fixture_Rx),MIN(R89*Incent_Cost_Fixture_Rx,(MAX(AE89,AK89))),0))","v":0},"FAIL","0","0","0",0,"N","0","0",null,"","",0,"",{"$f":"IF(RIGHT(I89,4)=\"Case\",W89,IF(AND(AL89=\"Y\",AF89<1),0,IF(OR(LEFT(D89,2)=\"T5\",LEFT(D89,3)=\"CFL\",'Analysis 103L'!AS89=\"Less\"),'Analysis 103L'!AR89,'Analysis 103L'!W89)))","v":""},null,0,0,null,{"$error":"#VALUE!"},{"$error":"#VALUE!"},{"$error":"#VALUE!"},null,null,{"$f":"IF(RIGHT(I89,4)=\"Case\",'LED Case Lighting'!$AY$1,IF(J89=\"\",\"\",VLOOKUP(J89,Lookups!$A$30:$J$149,VLOOKUP('100L Information'!$AI$46,Lookups!$J$3:$L$6,3,FALSE),FALSE)))","v":""},{"$error":"#N/A"},"","",{"$error":"#VALUE!"},{"$error":"#VALUE!"},{"$error":"#VALUE!"},{"$error":"#N/A"},0,{"$error":"#N/A"},0,{"$error":"#VALUE!"},{"$error":"#VALUE!"},{"$error":"#VALUE!"},"FAIL",null,null,null,null,null,null,null,"Interior / Exterior",null,"",null,{"$f":"IF(RIGHT(I89,4)=\"Case\",(INDEX('LED Case Lighting'!$AZ$3:$AZ$16,MATCH('Analysis 103L'!$CI89,'LED Case Lighting'!$AS$3:$AS$16,0))),IF(CB89=0,0,IF(CB89=\"lamp\",((Q89/VLOOKUP(B89,Int_Ext,2,FALSE))*VLOOKUP(E89,NEB,16,FALSE)),IF(CB89=\"fixture\",((Q89/VLOOKUP(B89,Int_Ext,2,FALSE))*VLOOKUP(E89,NEB,14,FALSE)),\"\"))))","v":""},null,{"$f":"IF(RIGHT(I89,4)=\"Case\",INDEX('Equipment Type'!$V$4:$V$53, MATCH('Analysis 103L'!$K89, 'Equipment Type'!$A$4:$A$53, 0)), \"\")","v":""},"","","",{"$f":"IF(CI89=\"\", \"\", IF(RIGHT(I89,4)=\"Case\", INDEX('LED Case Lighting'!$AR$3:$AR$16, MATCH('Analysis 103L'!CI89, 'LED Case Lighting'!$AS$3:$AS$16, 0)), \"\"))","v":""},{"$f":"IF(CI89=\"\",\"\",INDEX('LED Case Lighting'!$AW$3:$AW$16,MATCH('Analysis 103L'!CI89,'LED Case Lighting'!$AS$3:$AS$16,0)))","v":""},{"$f":"IF(CI89=\"\",\"\",INDEX('LED Case Lighting'!$AX$3:$AX$16,MATCH('Analysis 103L'!CI89,'LED Case Lighting'!$AS$3:$AS$16,0)))","v":""},""]
[63,null,null,null,null,null,"",null,{"$f":"IF(K90=\"\",\"\",VLOOKUP(K90,'Equipment Type'!$A$1:$F$53,5,FALSE))","v":""},{"$f":"IF(K90=\"\",\"\",VLOOKUP(K90,'Equipment Type'!$A$1:$F$53,6,FALSE))","v":""},null,{"$f":"IF(K90=\"\",\"\",VLOOKUP(K90,'Equipment Type'!$A$1:$F$53,4,FALSE))","v":""},null,{"$f":"IF(K90=\"\",\"\",INDEX('Equipment Type'!$T$4:$T$53,MATCH('Analysis 103L'!K90,'Equipment Type'!$A$4:$A$53,0)))","v":""},"",null,{"$f":"IF(RIGHT(I90, 4)=\"Case\", \"\", IF(P90=\"\",\"\",(IF(ISNUMBER(SEARCH(\"exit\",J90)),8760,IF(B90=\"Exterior\",4380,'Analysis 103L'!$J$3)))))","v":""},null,"","","","","","","","",{"$f":"IF('100L Information'!$Z$5=\"Yes\",0,IF('100L Information'!$Z$4=\"Yes\",(MIN($Y$232-(-$Y$227),6000)*0.5)*(Y90/$Y$232),$Y$232*(Y90/($Y$230+$Y$231))))","v":{"$error":"#VALUE!"}},"",{"$error":"#VALUE!"},"No requirement",0,{"$f":"IF(OR(Z90=\"Does not meet requirement\",AND('100L Information'!$AA$21=\"No\",AL90=\"Y\"),AND('100L Information'!$AS$21=FALSE,AL90=\"Y\")),0,IF(ISNUMBER(R90*Incent_Cost_Fixture_Rx),MIN(R90*Incent_Cost_Fixture_Rx,(MAX(AE90,AK90))),0))","v":0},"FAIL","0","0","0",0,"N","0","0",null,"","",0,"",{"$f":"IF(RIGHT(I90,4)=\"Case\",W90,IF(AND(AL90=\"Y\",AF90<1),0,IF(OR(LEFT(D90,2)=\"T5\",LEFT(D90,3)=\"CFL\",'Analysis 103L'!AS90=\"Less\"),'Analysis 103L'!AR90,'Analysis 103L'!W90)))","v":""},null,0,0,null,{"$error":"#VALUE!"},{"$error":"#VALUE!"},{"$error":"#VALUE!"},null,null,{"$f":"IF(RIGHT(I90,4)=\"Case\",'LED Case Lighting'!$AY$1,IF(J90=\"\",\"\",VLOOKUP(J90,Lookups!$A$30:$J$149,VLOOKUP('100L Information'!$AI$46,Lookups!$J$3:$L$6,3,FALSE),FALSE)))","v":""},{"$error":"#N/A"},"","",{"$error":"#VALUE!"},{"$error":"#VALUE!"},{"$error":"#VALUE!"},{"$error":"#N/A"},0,{"$error":"#N/A"},0,{"$error":"#VALUE!"},{"$error":"#VALUE!"},{"$error":"#VALUE!"},"FAIL",null,null,null,null,null,null,null,"Interior / Exterior",null,"",null,{"$f":"IF(RIGHT(I90,4)=\"Case\",(INDEX('LED Case Lighting'!$AZ$3:$AZ$16,MATCH('Analysis 103L'!$CI90,'LED Case Lighting'!$AS$3:$AS$16,0))),IF(CB90=0,0,IF(CB90=\"lamp\",((Q90/VLOOKUP(B90,Int_Ext,2,FALSE))*VLOOKUP(E90,NEB,16,FALSE)),IF(CB90=\"fixture\",((Q90/VLOOKUP(B90,Int_Ext,2,FALSE))*VLOOKUP(E90,NEB,14,FALSE)),\"\"))))","v":""},null,{"$f":"IF(RIGHT(I90,4)=\"Case\",INDEX('Equipment Type'!$V$4:$V$53, MATCH('Analysis 103L'!$K90, 'Equipment Type'!$A$4:$A$53, 0)), \"\")","v":""},"","","",{"$f":"IF(CI90=\"\", \"\", IF(RIGHT(I90,4)=\"Case\", INDEX('LED Case Lighting'!$AR$3:$AR$16, MATCH('Analysis 103L'!CI90, 'LED Case Lighting'!$AS$3:$AS$16, 0)), \"\"))","v":""},{"$f":"IF(CI90=\"\",\"\",INDEX('LED Case Lighting'!$AW$3:$AW$16,MATCH('Analysis 103L'!CI90,'LED Case Lighting'!$AS$3:$AS$16,0)))","v":""},{"$f":"IF(CI90=\"\",\"\",INDEX('LED Case Lighting'!$AX$3:$AX$16,MATCH('Analysis 103L'!CI90,'LED Case Lighting'!$AS$3:$AS$16,0)))","v":""},""]
[64,null,null,null,null,null,"",null,{"$f":"IF(K91=\"\",\"\",VLOOKUP(K91,'Equipment Type'!$A$1:$F$53,5,FALSE))","v":""},{"$f":"IF(K91=\"\",\"\",VLOOKUP(K91,'Equipment Type'!$A$1:$F$53,6,FALSE))","v":""},null,{"$f":"IF(K91=\"\",\"\",VLOOKUP(K91,'Equipment Type'!$A$1:$F$53,4,FALSE))","v":""},null,{"$f":"IF(K91=\"\",\"\",INDEX('Equipment Type'!$T$4:$T$53,MATCH('Analysis 103L'!K91,'Equipment Type'!$A$4:$A$53,0)))","v":""},"",null,{"$f":"IF(RIGHT(I91, 4)=\"Case\", \"\", IF(P91=\"\",\"\",(IF(ISNUMBER(SEARCH(\"exit\",J91)),8760,IF(B91=\"Exterior\",4380,'Analysis 103L'!$J$3)))))","v":""},null,"","","","","","","","",{"$f":"IF('100L Information'!$Z$5=\"Yes\",0,IF('100L Information'!$Z$4=\"Yes\",(MIN($Y$232-(-$Y$227),6000)*0.5)*(Y91/$Y$232),$Y$232*(Y91/($Y$230+$Y$231))))","v":{"$error":"#VALUE!"}},"",{"$error":"#VALUE!"},"No requirement",0,{"$f":"IF(OR(Z91=\"Does not meet requirement\",AND('100L Information'!$AA$21=\"No\",AL91=\"Y\"),AND('100L Information'!$AS$21=FALSE,AL91=\"Y\")),0,IF(ISNUMBER(R91*Incent_Cost_Fixture_Rx),MIN(R91*Incent_Cost_Fixture_Rx,(MAX(AE91,AK91))),0))","v":0},"FAIL","0","0","0",0,"N","0","0",null,"","",0,"",{"$f":"IF(RIGHT(I91,4)=\"Case\",W91,IF(AND(AL91=\"Y\",AF91<1),0,IF(OR(LEFT(D91,2)=\"T5\",LEFT(D91,3)=\"CFL\",'Analysis 103L'!AS91=\"Less\"),'Analysis 103L'!AR91,'Analysis 103L'!W91)))","v":""},null,0,0,null,{"$error":"#VALUE!"},{"$error":"#VALUE!"},{"$error":"#VALUE!"},null,null,{"$f":"IF(RIGHT(I91,4)=\"Case\",'LED Case Lighting'!$AY$1,IF(J91=\"\",\"\",VLOOKUP(J91,Lookups!$A$30:$J$149,VLOOKUP('100L Information'!$AI$46,Lookups!$J$3:$L$6,3,FALSE),FALSE)))","v":""},{"$error":"#N/A"},"","",{"$error":"#VALUE!"},{"$error":"#VALUE!"},{"$error":"#VALUE!"},{"$error":"#N/A"},0,{"$error":"#N/A"},0,{"$error":"#VALUE!"},{"$error":"#VALUE!"},{"$error":"#VALUE!"},"FAIL",null,null,null,null,null,null,null,"Interior / Exterior",null,"",null,{"$f":"IF(RIGHT(I91,4)=\"Case\",(INDEX('LED Case Lighting'!$AZ$3:$AZ$16,MATCH('Analysis 103L'!$CI91,'LED Case Lighting'!$AS$3:$AS$16,0))),IF(CB91=0,0,IF(CB91=\"lamp\",((Q91/VLOOKUP(B91,Int_Ext,2,FALSE))*VLOOKUP(E91,NEB,16,FALSE)),IF(CB91=\"fixture\",((Q91/VLOOKUP(B91,Int_Ext,2,FALSE))*VLOOKUP(E91,NEB,14,FALSE)),\"\"))))","v":""},null,{"$f":"IF(RIGHT(I91,4)=\"Case\",INDEX('Equipment Type'!$V$4:$V$53, MATCH('Analysis 103L'!$K91, 'Equipment Type'!$A$4:$A$53, 0)), \"\")","v":""},"","","",{"$f":"IF(CI91=\"\", \"\", IF(RIGHT(I91,4)=\"Case\", INDEX('LED Case Lighting'!$AR$3:$AR$16, MATCH('Analysis 103L'!CI91, 'LED Case Lighting'!$AS$3:$AS$16, 0)), \"\"))","v":""},{"$f":"IF(CI91=\"\",\"\",INDEX('LED Case Lighting'!$AW$3:$AW$16,MATCH('Analysis 103L'!CI91,'LED Case Lighting'!$AS$3:$AS$16,0)))","v":""},{"$f":"IF(CI91=\"\",\"\",INDEX('LED Case Lighting'!$AX$3:$AX$16,MATCH('Analysis 103L'!CI91,'LED Case Lighting'!$AS$3:$AS$16,0)))","v":""},""]
[65,null,null,null,null,null,"",null,{"$f":"IF(K92=\"\",\"\",VLOOKUP(K92,'Equipment Type'!$A$1:$F$53,5,FALSE))","v":""},{"$f":"IF(K92=\"\",\"\",VLOOKUP(K92,'Equipment Type'!$A$1:$F$53,6,FALSE))","v":""},null,{"$f":"IF(K92=\"\",\"\",VLOOKUP(K92,'Equipment Type'!$A$1:$F$53,4,FALSE))","v":""},null,{"$f":"IF(K92=\"\",\"\",INDEX('Equipment Type'!$T$4:$T$53,MATCH('Analysis 103L'!K92,'Equipment Type'!$A$4:$A$53,0)))","v":""},"",null,{"$f":"IF(RIGHT(I92, 4)=\"Case\", \"\", IF(P92=\"\",\"\",(IF(ISNUMBER(SEARCH(\"exit\",J92)),8760,IF(B92=\"Exterior\",4380,'Analysis 103L'!$J$3)))))","v":""},null,"","","","","",{"$f":"IF(M92=\"Y\",\"CustomCalc\",IF(RIGHT(I92, 4)=\"Case\", \"\",IF(AD92=1,\"\",IF(AF92>0,AF92,\"\"))))","v":""},"",{"$f":"IF(M92 = \"Y\",IF(AND(M92=\"Y\",AG92=\"FAIL\"),\"Not Cost Effective\",\"\"),IF(AD92=1,\"Does not meet requirement\",\"\"))","v":""},{"$f":"IF('100L Information'!$Z$5=\"Yes\",0,IF('100L Information'!$Z$4=\"Yes\",(MIN($Y$232-(-$Y$227),6000)*0.5)*(Y92/$Y$232),$Y$232*(Y92/($Y$230+$Y$231))))","v":{"$error":"#VALUE!"}},"",{"$f":"IF(RIGHT(I92, 4)=\"Case\", \"\", MIN(W92*IF(I92=\"GROW\", RunRateMax_CustomMeasures_Horti, IF(I92=\"Street_Lighting\", RunRateMax_Streetlighting, RunRateMax_CustomMeasures_fixtures)),S92*Incent_Cost_Fixture_Cust))","v":{"$error":"#VALUE!"}},"No requirement",{"$f":"MAX(IF(ISERROR(VLOOKUP(CONCATENATE(J92,\" from \",VLOOKUP(D92,ExistFixtCat,4,FALSE)),PropFixtIncent,2,FALSE)),0,VLOOKUP(CONCATENATE(J92,\" from \",VLOOKUP(D92,ExistFixtCat,4,FALSE)),PropFixtIncent,2,FALSE)),IF(ISERROR(VLOOKUP(CONCATENATE(J92,\" from ANY\"),PropFixtIncent,2,FALSE)),0,VLOOKUP(CONCATENATE(J92,\" from ANY\"),PropFixtIncent,2,FALSE)))","v":0},{"$f":"IF(OR(Z92=\"Does not meet requirement\",AND('100L Information'!$AA$21=\"No\",AL92=\"Y\"),AND('100L Information'!$AS$21=FALSE,AL92=\"Y\")),0,IF(ISNUMBER(R92*Incent_Cost_Fixture_Rx),MIN(R92*Incent_Cost_Fixture_Rx,(MAX(AE92,AK92))),0))","v":0},{"$f":"IF(AND(M92=\"Y\",BR92=\"PASS/PASS\"),\"PASS/PASS\",\"FAIL\")","v":"FAIL"},"0","0","0",{"$f":"IF(AE92=0,MAX(IF(ISERROR(VLOOKUP(CONCATENATE(J92,\" from \",VLOOKUP(E92,ExistFixtCat,4,FALSE)),PropFixtIncent,2,FALSE)),0,VLOOKUP(CONCATENATE(J92,\" from \",VLOOKUP(E92,ExistFixtCat,4,FALSE)),PropFixtIncent,2,FALSE)),IF(ISERROR(VLOOKUP(CONCATENATE(J92,\" from ANY\"),PropFixtIncent,2,FALSE)),0,VLOOKUP(CONCATENATE(J92,\" from ANY\"),PropFixtIncent,2,FALSE))),0)","v":0},"N",{"$f":"IF(AG92=\"PASS/PASS\",W92,\"0\")","v":"0"},{"$f":"IF(AG92=\"PASS/PASS\",Y92,\"0\")","v":"0"},null,{"$f":"IF(AND($CB92=\"fixture\",OR($D92=\"CFL\",$D92=\"INCAN\")),VLOOKUP(E92,Incan_Lookup,7,FALSE)*$G92*H92+VLOOKUP(E92,Incan_Lookup,6,FALSE)*$N92*P92,IF(AND($CB92=\"lamp\",OR($D92=\"CFL\",$D92=\"INCAN\")),VLOOKUP(E92,Incan_Lookup,10,FALSE)*$G92*H92+VLOOKUP(E92,Incan_Lookup,9,FALSE)*$N92*P92,IF($D92=\"OTHER\",$G92*$H92,IF($CB92=\"lamp\",(VLOOKUP($E92,ExistFixtLookup,10,FALSE)*H92+VLOOKUP($E92,ExistFixtLookup,9,FALSE)*N92*P92),IF($CB92=\"fixture\",(VLOOKUP($E92,ExistFixtLookup,7,FALSE)*H92+VLOOKUP($E92,ExistFixtLookup,6,FALSE)*N92*P92),$G92)))))","v":""},"",{"$f":"IF(AND(ISNUMBER(BD92),ISNUMBER(W92),$CB92=\"lamp\"),(W92*VLOOKUP(E92,ExistFixtLookup,11,FALSE)+AQ92*(BD92-VLOOKUP(E92,ExistFixtLookup,11,FALSE)))/BD92,IF(AND(ISNUMBER(BD92),ISNUMBER(W92),$CB92=\"fixture\"),(W92*VLOOKUP(E92,ExistFixtLookup,8,FALSE)+AQ92*(BD92-VLOOKUP(E92,ExistFixtLookup,8,FALSE)))/BD92,IF(ISNUMBER(W92),W92,0)))","v":0},"",{"$f":"IF(RIGHT(I92,4)=\"Case\",W92,IF(AND(AL92=\"Y\",AF92<1),0,IF(OR(LEFT(D92,2)=\"T5\",LEFT(D92,3)=\"CFL\",'Analysis 103L'!AS92=\"Less\"),'Analysis 103L'!AR92,'Analysis 103L'!W92)))","v":""},null,0,0,null,{"$error":"#VALUE!"},{"$error":"#VALUE!"},{"$error":"#VALUE!"},null,null,{"$f":"IF(RIGHT(I92,4)=\"Case\",'LED Case Lighting'!$AY$1,IF(J92=\"\",\"\",VLOOKUP(J92,Lookups!$A$30:$J$149,VLOOKUP('100L Information'!$AI$46,Lookups!$J$3:$L$6,3,FALSE),FALSE)))","v":""},{"$f":"IF(B92=\"Exterior\", INDEX($BW$28:$BW$40, $BX$229), IF(BusType=\"Manufacturing\", IF(Q92<3500, \"1-Shift Industrial\", IF(Q92<5500, \"2-Shift Industrial\", IF(Q92<8000, \"3-Shift Industrial\", \"FLAT\"))), INDEX($BV$28:$BV$40, $BX$229)))","v":{"$error":"#N/A"}},"","",{"$error":"#VALUE!"},{"$error":"#VALUE!"},{"$error":"#VALUE!"},{"$f":"VLOOKUP(E92,ExistFixtCat,3,FALSE)/(H92*IF(ISNUMBER(VALUE(MID(E92,5,1))),VALUE(MID(E92,5,1)),1)*Q92)","v":{"$error":"#N/A"}},{"$f":"IF(ISERROR(-PV(POWER(1+Discount_Rate,$BK92)-1,$BD92/$BK92,10+VLOOKUP($E92,ExistFixtCat,2,FALSE))),0,-PV(POWER(1+Discount_Rate,$BK92)-1,$BD92/$BK92,10+VLOOKUP($E92,ExistFixtCat,2,FALSE)))","v":0},{"$f":"VLOOKUP($J92,PropOpLife,3,FALSE)/($P92*IF(ISNUMBER(VALUE(MID($J92,5,1))),VALUE(MID($J92,5,1)),1)*$Q92)","v":{"$error":"#N/A"}},{"$f":"IF(OR(ISERROR(-PV(POWER(1+Discount_Rate,$BM92)-1,$BD92/$BM92,MIN(R92,10+0.5*VLOOKUP($J92,PropOpLife,2,FALSE)))),BL92=0),0,-PV(POWER(1+Discount_Rate,$BM92)-1,$BD92/$BM92,MIN(R92,10+0.5*VLOOKUP($J92,PropOpLife,2,FALSE))))","v":0},{"$error":"#VALUE!"},{"$error":"#VALUE!"},{"$error":"#VALUE!"},"FAIL",null,null,null,null,null,null,null,"Interior / Exterior",null,{"$f":"IF(I92=\"\",\"\",VLOOKUP(I92,FixVsLamp,2,FALSE))","v":""},null,{"$f":"IF(RIGHT(I92,4)=\"Case\",(INDEX('LED Case Lighting'!$AZ$3:$AZ$16,MATCH('Analysis 103L'!$CI92,'LED Case Lighting'!$AS$3:$AS$16,0))),IF(CB92=0,0,IF(CB92=\"lamp\",((Q92/VLOOKUP(B92,Int_Ext,2,FALSE))*VLOOKUP(E92,NEB,16,FALSE)),IF(CB92=\"fixture\",((Q92/VLOOKUP(B92,Int_Ext,2,FALSE))*VLOOKUP(E92,NEB,14,FALSE)),\"\"))))","v":""},null,{"$f":"IF(RIGHT(I92,4)=\"Case\",INDEX('Equipment Type'!$V$4:$V$53, MATCH('Analysis 103L'!$K92, 'Equipment Type'!$A$4:$A$53, 0)), \"\")","v":""},"","","",{"$f":"IF(CI92=\"\", \"\", IF(RIGHT(I92,4)=\"Case\", INDEX('LED Case Lighting'!$AR$3:$AR$16, MATCH('Analysis 103L'!CI92, 'LED Case Lighting'!$AS$3:$AS$16, 0)), \"\"))","v":""},{"$f":"IF(CI92=\"\",\"\",INDEX('LED Case Lighting'!$AW$3:$AW$16,MATCH('Analysis 103L'!CI92,'LED Case Lighting'!$AS$3:$AS$16,0)))","v":""},{"$f":"IF(CI92=\"\",\"\",INDEX('LED Case Lighting'!$AX$3:$AX$16,MATCH('Analysis 103L'!CI92,'LED Case Lighting'!$AS$3:$AS$16,0)))","v":""},""]
[66,null,null,null,null,null,"",null,{"$f":"IF(K93=\"\",\"\",VLOOKUP(K93,'Equipment Type'!$A$1:$F$53,5,FALSE))","v":""},{"$f":"IF(K93=\"\",\"\",VLOOKUP(K93,'Equipment Type'!$A$1:$F$53,6,FALSE))","v":""},null,{"$f":"IF(K93=\"\",\"\",VLOOKUP(K93,'Equipment Type'!$A$1:$F$53,4,FALSE))","v":""},null,{"$f":"IF(K93=\"\",\"\",INDEX('Equipment Type'!$T$4:$T$53,MATCH('Analysis 103L'!K93,'Equipment Type'!$A$4:$A$53,0)))","v":""},"",null,{"$f":"IF(RIGHT(I93, 4)=\"Case\", \"\", IF(P93=\"\",\"\",(IF(ISNUMBER(SEARCH(\"exit\",J93)),8760,IF(B93=\"Exterior\",4380,'Analysis 103L'!$J$3)))))","v":""},null,"","","","","","","","",{"$f":"IF('100L Information'!$Z$5=\"Yes\",0,IF('100L Information'!$Z$4=\"Yes\",(MIN($Y$232-(-$Y$227),6000)*0.5)*(Y93/$Y$232),$Y$232*(Y93/($Y$230+$Y$231))))","v":{"$error":"#VALUE!"}},"",{"$error":"#VALUE!"},"No requirement",0,{"$f":"IF(OR(Z93=\"Does not meet requirement\",AND('100L Information'!$AA$21=\"No\",AL93=\"Y\"),AND('100L Information'!$AS$21=FALSE,AL93=\"Y\")),0,IF(ISNUMBER(R93*Incent_Cost_Fixture_Rx),MIN(R93*Incent_Cost_Fixture_Rx,(MAX(AE93,AK93))),0))","v":0},"FAIL","0","0","0",0,{"$f":"IF(ISNUMBER(VLOOKUP(J93,PublicSector,13,FALSE)),\"Y\",\"N\")","v":"N"},"0","0",null,"",{"$f":"IF(ISNUMBER((AP93-N93*P93)*Q93/1000),(AP93-N93*P93)*Q93/1000,W93)","v":""},0,{"$f":"IF(ISNUMBER(AP93),IF(AP93>G93*H93,\"Greater\",\"Less\"),\"\")","v":""},{"$f":"IF(RIGHT(I93,4)=\"Case\",W93,IF(AND(AL93=\"Y\",AF93<1),0,IF(OR(LEFT(D93,2)=\"T5\",LEFT(D93,3)=\"CFL\",'Analysis 103L'!AS93=\"Less\"),'Analysis 103L'!AR93,'Analysis 103L'!W93)))","v":""},null,0,0,null,{"$error":"#VALUE!"},{"$error":"#VALUE!"},{"$error":"#VALUE!"},null,null,{"$f":"IF(RIGHT(I93,4)=\"Case\",'LED Case Lighting'!$AY$1,IF(J93=\"\",\"\",VLOOKUP(J93,Lookups!$A$30:$J$149,VLOOKUP('100L Information'!$AI$46,Lookups!$J$3:$L$6,3,FALSE),FALSE)))","v":""},{"$error":"#N/A"},"","",{"$error":"#VALUE!"},{"$error":"#VALUE!"},{"$error":"#VALUE!"},{"$error":"#N/A"},0,{"$error":"#N/A"},0,{"$error":"#VALUE!"},{"$error":"#VALUE!"},{"$error":"#VALUE!"},"FAIL",null,null,null,null,null,null,null,"Interior / Exterior",null,"",null,{"$f":"IF(RIGHT(I93,4)=\"Case\",(INDEX('LED Case Lighting'!$AZ$3:$AZ$16,MATCH('Analysis 103L'!$CI93,'LED Case Lighting'!$AS$3:$AS$16,0))),IF(CB93=0,0,IF(CB93=\"lamp\",((Q93/VLOOKUP(B93,Int_Ext,2,FALSE))*VLOOKUP(E93,NEB,16,FALSE)),IF(CB93=\"fixture\",((Q93/VLOOKUP(B93,Int_Ext,2,FALSE))*VLOOKUP(E93,NEB,14,FALSE)),\"\"))))","v":""},null,{"$f":"IF(RIGHT(I93,4)=\"Case\",INDEX('Equipment Type'!$V$4:$V$53, MATCH('Analysis 103L'!$K93, 'Equipment Type'!$A$4:$A$53, 0)), \"\")","v":""},"",{"$f":"IF(RIGHT(I93,4)=\"Case\",IF(B93=$BZ$231,\"MED\",IF(B93=$BZ$230,\"LOW\",IF(B93=$BZ$232,\"OUT\",\"\"))), \"\")","v":""},{"$f":"IF(RIGHT(I93,4)=\"Case\",IF(OR(CF93=\"NE\", LEFT(J93, 6)=\"Motion\"), \"\", CONCATENATE(\"LEDCL\",CF93, CG93, CH93)), \"\")","v":""},{"$f":"IF(CI93=\"\", \"\", IF(RIGHT(I93,4)=\"Case\", INDEX('LED Case Lighting'!$AR$3:$AR$16, MATCH('Analysis 103L'!CI93, 'LED Case Lighting'!$AS$3:$AS$16, 0)), \"\"))","v":""},{"$f":"IF(CI93=\"\",\"\",INDEX('LED Case Lighting'!$AW$3:$AW$16,MATCH('Analysis 103L'!CI93,'LED Case Lighting'!$AS$3:$AS$16,0)))","v":""},{"$f":"IF(CI93=\"\",\"\",INDEX('LED Case Lighting'!$AX$3:$AX$16,MATCH('Analysis 103L'!CI93,'LED Case Lighting'!$AS$3:$AS$16,0)))","v":""},""]
[67,null,null,null,null,null,{"$f":"IF(E94=\"\",\"\",VLOOKUP(E94,ExistFixtLookup,2,FALSE))","v":""},null,{"$f":"IF(K94=\"\",\"\",VLOOKUP(K94,'Equipment Type'!$A$1:$F$53,5,FALSE))","v":""},{"$f":"IF(K94=\"\",\"\",VLOOKUP(K94,'Equipment Type'!$A$1:$F$53,6,FALSE))","v":""},null,{"$f":"IF(K94=\"\",\"\",VLOOKUP(K94,'Equipment Type'!$A$1:$F$53,4,FALSE))","v":""},null,{"$f":"IF(K94=\"\",\"\",INDEX('Equipment Type'!$T$4:$T$53,MATCH('Analysis 103L'!K94,'Equipment Type'!$A$4:$A$53,0)))","v":""},"",null,{"$f":"IF(RIGHT(I94, 4)=\"Case\", \"\", IF(P94=\"\",\"\",(IF(ISNUMBER(SEARCH(\"exit\",J94)),8760,IF(B94=\"Exterior\",4380,'Analysis 103L'!$J$3)))))","v":""},null,"","","","","","","","",{"$f":"IF('100L Information'!$Z$5=\"Yes\",0,IF('100L Information'!$Z$4=\"Yes\",(MIN($Y$232-(-$Y$227),6000)*0.5)*(Y94/$Y$232),$Y$232*(Y94/($Y$230+$Y$231))))","v":{"$error":"#VALUE!"}},{"$f":"IF(W94=\"\",\"\",W94*$D$23)","v":""},{"$error":"#VALUE!"},{"$f":"IF(OR(I94=\"TLED\",I94=\"Relamp\",I94=\"LED_High_Bay\",I94=\"LED_Lamps\",I94=\"LED_Interior_Fixtures\",I94=\"LED_Exterior_Fixtures\",I94=\"Street_Lighting\", I94=\"LLLC\"),IF(((U94-V94)/U94)>=0.4,0,1),IF(LEFT(J94,3)=\"HID\",IF(((U94-V94)/U94)>=0.5,0,1),\"No requirement\"))","v":"No requirement"},0,{"$f":"IF(OR(Z94=\"Does not meet requirement\",AND('100L Information'!$AA$21=\"No\",AL94=\"Y\"),AND('100L Information'!$AS$21=FALSE,AL94=\"Y\")),0,IF(ISNUMBER(R94*Incent_Cost_Fixture_Rx),MIN(R94*Incent_Cost_Fixture_Rx,(MAX(AE94,AK94))),0))","v":0},"FAIL","0","0","0",0,"N","0","0",null,"","",0,"",{"$f":"IF(RIGHT(I94,4)=\"Case\",W94,IF(AND(AL94=\"Y\",AF94<1),0,IF(OR(LEFT(D94,2)=\"T5\",LEFT(D94,3)=\"CFL\",'Analysis 103L'!AS94=\"Less\"),'Analysis 103L'!AR94,'Analysis 103L'!W94)))","v":""},null,0,0,null,{"$error":"#VALUE!"},{"$error":"#VALUE!"},{"$error":"#VALUE!"},null,null,{"$f":"IF(RIGHT(I94,4)=\"Case\",'LED Case Lighting'!$AY$1,IF(J94=\"\",\"\",VLOOKUP(J94,Lookups!$A$30:$J$149,VLOOKUP('100L Information'!$AI$46,Lookups!$J$3:$L$6,3,FALSE),FALSE)))","v":""},{"$error":"#N/A"},"",{"$f":"IF(BD94=\"\",\"\",$BF94+-PV(4.5%,BD94,CD94)/$AR94*$P94)","v":""},{"$f":"IF(RIGHT(I94,4)=\"Case\",0.5*R94/AR94, 0.5*S94/AR94)","v":{"$error":"#VALUE!"}},{"$error":"#VALUE!"},{"$error":"#VALUE!"},{"$error":"#N/A"},0,{"$error":"#N/A"},0,{"$error":"#VALUE!"},{"$error":"#VALUE!"},{"$error":"#VALUE!"},"FAIL",null,null,null,null,null,null,null,"Interior / Exterior",null,"",null,{"$f":"IF(RIGHT(I94,4)=\"Case\",(INDEX('LED Case Lighting'!$AZ$3:$AZ$16,MATCH('Analysis 103L'!$CI94,'LED Case Lighting'!$AS$3:$AS$16,0))),IF(CB94=0,0,IF(CB94=\"lamp\",((Q94/VLOOKUP(B94,Int_Ext,2,FALSE))*VLOOKUP(E94,NEB,16,FALSE)),IF(CB94=\"fixture\",((Q94/VLOOKUP(B94,Int_Ext,2,FALSE))*VLOOKUP(E94,NEB,14,FALSE)),\"\"))))","v":""},null,{"$f":"IF(RIGHT(I94,4)=\"Case\",INDEX('Equipment Type'!$V$4:$V$53, MATCH('Analysis 103L'!$K94, 'Equipment Type'!$A$4:$A$53, 0)), \"\")","v":""},"","","",{"$f":"IF(CI94=\"\", \"\", IF(RIGHT(I94,4)=\"Case\", INDEX('LED Case Lighting'!$AR$3:$AR$16, MATCH('Analysis 103L'!CI94, 'LED Case Lighting'!$AS$3:$AS$16, 0)), \"\"))","v":""},{"$f":"IF(CI94=\"\",\"\",INDEX('LED Case Lighting'!$AW$3:$AW$16,MATCH('Analysis 103L'!CI94,'LED Case Lighting'!$AS$3:$AS$16,0)))","v":""},{"$f":"IF(CI94=\"\",\"\",INDEX('LED Case Lighting'!$AX$3:$AX$16,MATCH('Analysis 103L'!CI94,'LED Case Lighting'!$AS$3:$AS$16,0)))","v":""},""]
[68,null,null,null,null,null,"",null,{"$f":"IF(K95=\"\",\"\",VLOOKUP(K95,'Equipment Type'!$A$1:$F$53,5,FALSE))","v":""},{"$f":"IF(K95=\"\",\"\",VLOOKUP(K95,'Equipment Type'!$A$1:$F$53,6,FALSE))","v":""},null,{"$f":"IF(K95=\"\",\"\",VLOOKUP(K95,'Equipment Type'!$A$1:$F$53,4,FALSE))","v":""},null,{"$f":"IF(K95=\"\",\"\",INDEX('Equipment Type'!$T$4:$T$53,MATCH('Analysis 103L'!K95,'Equipment Type'!$A$4:$A$53,0)))","v":""},"",null,{"$f":"IF(RIGHT(I95, 4)=\"Case\", \"\", IF(P95=\"\",\"\",(IF(ISNUMBER(SEARCH(\"exit\",J95)),8760,IF(B95=\"Exterior\",4380,'Analysis 103L'!$J$3)))))","v":""},null,"","","","","","","","",{"$f":"IF('100L Information'!$Z$5=\"Yes\",0,IF('100L Information'!$Z$4=\"Yes\",(MIN($Y$232-(-$Y$227),6000)*0.5)*(Y95/$Y$232),$Y$232*(Y95/($Y$230+$Y$231))))","v":{"$error":"#VALUE!"}},"",{"$error":"#VALUE!"},"No requirement",0,{"$f":"IF(OR(Z95=\"Does not meet requirement\",AND('100L Information'!$AA$21=\"No\",AL95=\"Y\"),AND('100L Information'!$AS$21=FALSE,AL95=\"Y\")),0,IF(ISNUMBER(R95*Incent_Cost_Fixture_Rx),MIN(R95*Incent_Cost_Fixture_Rx,(MAX(AE95,AK95))),0))","v":0},"FAIL","0","0","0",0,"N","0","0",null,"","",0,"",{"$f":"IF(RIGHT(I95,4)=\"Case\",W95,IF(AND(AL95=\"Y\",AF95<1),0,IF(OR(LEFT(D95,2)=\"T5\",LEFT(D95,3)=\"CFL\",'Analysis 103L'!AS95=\"Less\"),'Analysis 103L'!AR95,'Analysis 103L'!W95)))","v":""},null,0,0,null,{"$error":"#VALUE!"},{"$error":"#VALUE!"},{"$error":"#VALUE!"},null,null,{"$f":"IF(RIGHT(I95,4)=\"Case\",'LED Case Lighting'!$AY$1,IF(J95=\"\",\"\",VLOOKUP(J95,Lookups!$A$30:$J$149,VLOOKUP('100L Information'!$AI$46,Lookups!$J$3:$L$6,3,FALSE),FALSE)))","v":""},{"$error":"#N/A"},"","",{"$error":"#VALUE!"},{"$error":"#VALUE!"},{"$error":"#VALUE!"},{"$error":"#N/A"},0,{"$error":"#N/A"},0,{"$error":"#VALUE!"},{"$error":"#VALUE!"},{"$error":"#VALUE!"},"FAIL",null,null,null,null,null,null,null,"Interior / Exterior",null,"",null,{"$f":"IF(RIGHT(I95,4)=\"Case\",(INDEX('LED Case Lighting'!$AZ$3:$AZ$16,MATCH('Analysis 103L'!$CI95,'LED Case Lighting'!$AS$3:$AS$16,0))),IF(CB95=0,0,IF(CB95=\"lamp\",((Q95/VLOOKUP(B95,Int_Ext,2,FALSE))*VLOOKUP(E95,NEB,16,FALSE)),IF(CB95=\"fixture\",((Q95/VLOOKUP(B95,Int_Ext,2,FALSE))*VLOOKUP(E95,NEB,14,FALSE)),\"\"))))","v":""},null,{"$f":"IF(RIGHT(I95,4)=\"Case\",INDEX('Equipment Type'!$V$4:$V$53, MATCH('Analysis 103L'!$K95, 'Equipment Type'!$A$4:$A$53, 0)), \"\")","v":""},"","","",{"$f":"IF(CI95=\"\", \"\", IF(RIGHT(I95,4)=\"Case\", INDEX('LED Case Lighting'!$AR$3:$AR$16, MATCH('Analysis 103L'!CI95, 'LED Case Lighting'!$AS$3:$AS$16, 0)), \"\"))","v":""},{"$f":"IF(CI95=\"\",\"\",INDEX('LED Case Lighting'!$AW$3:$AW$16,MATCH('Analysis 103L'!CI95,'LED Case Lighting'!$AS$3:$AS$16,0)))","v":""},{"$f":"IF(CI95=\"\",\"\",INDEX('LED Case Lighting'!$AX$3:$AX$16,MATCH('Analysis 103L'!CI95,'LED Case Lighting'!$AS$3:$AS$16,0)))","v":""},""]
[69,null,null,null,null,null,"",null,{"$f":"IF(K96=\"\",\"\",VLOOKUP(K96,'Equipment Type'!$A$1:$F$53,5,FALSE))","v":""},{"$f":"IF(K96=\"\",\"\",VLOOKUP(K96,'Equipment Type'!$A$1:$F$53,6,FALSE))","v":""},null,{"$f":"IF(K96=\"\",\"\",VLOOKUP(K96,'Equipment Type'!$A$1:$F$53,4,FALSE))","v":""},null,{"$f":"IF(K96=\"\",\"\",INDEX('Equipment Type'!$T$4:$T$53,MATCH('Analysis 103L'!K96,'Equipment Type'!$A$4:$A$53,0)))","v":""},{"$f":"IF(RIGHT(I96, 4)=\"Case\", \"\", IF(G96=\"\",\"\",((G96*H96)-(N96*P96))/(G96*H96)))","v":""},null,{"$f":"IF(RIGHT(I96, 4)=\"Case\", \"\", IF(P96=\"\",\"\",(IF(ISNUMBER(SEARCH(\"exit\",J96)),8760,IF(B96=\"Exterior\",4380,'Analysis 103L'!$J$3)))))","v":""},null,"","","","","","","","",{"$f":"IF('100L Information'!$Z$5=\"Yes\",0,IF('100L Information'!$Z$4=\"Yes\",(MIN($Y$232-(-$Y$227),6000)*0.5)*(Y96/$Y$232),$Y$232*(Y96/($Y$230+$Y$231))))","v":{"$error":"#VALUE!"}},"",{"$error":"#VALUE!"},"No requirement",0,{"$f":"IF(OR(Z96=\"Does not meet requirement\",AND('100L Information'!$AA$21=\"No\",AL96=\"Y\"),AND('100L Information'!$AS$21=FALSE,AL96=\"Y\")),0,IF(ISNUMBER(R96*Incent_Cost_Fixture_Rx),MIN(R96*Incent_Cost_Fixture_Rx,(MAX(AE96,AK96))),0))","v":0},"FAIL","0","0","0",0,"N","0","0",null,"","",0,"",{"$f":"IF(RIGHT(I96,4)=\"Case\",W96,IF(AND(AL96=\"Y\",AF96<1),0,IF(OR(LEFT(D96,2)=\"T5\",LEFT(D96,3)=\"CFL\",'Analysis 103L'!AS96=\"Less\"),'Analysis 103L'!AR96,'Analysis 103L'!W96)))","v":""},null,{"$f":"IF($B96=\"Interior\",IF(ISNUMBER($G96*$H96),$G96*$H96,0), 0)","v":0},{"$f":"IF($B96=\"Interior\",IF(ISNUMBER($N96*$P96),$N96*$P96,0), 0)","v":0},null,{"$error":"#VALUE!"},{"$error":"#VALUE!"},{"$error":"#VALUE!"},null,null,{"$f":"IF(RIGHT(I96,4)=\"Case\",'LED Case Lighting'!$AY$1,IF(J96=\"\",\"\",VLOOKUP(J96,Lookups!$A$30:$J$149,VLOOKUP('100L Information'!$AI$46,Lookups!$J$3:$L$6,3,FALSE),FALSE)))","v":""},{"$error":"#N/A"},"","",{"$error":"#VALUE!"},{"$error":"#VALUE!"},{"$error":"#VALUE!"},{"$error":"#N/A"},0,{"$error":"#N/A"},0,{"$f":"IF(RIGHT(I96,4)=\"Case\",R96/AR96,S96/AR96)","v":{"$error":"#VALUE!"}},{"$error":"#VALUE!"},{"$error":"#VALUE!"},"FAIL",null,null,null,null,null,null,null,"Interior / Exterior",null,"",null,{"$f":"IF(RIGHT(I96,4)=\"Case\",(INDEX('LED Case Lighting'!$AZ$3:$AZ$16,MATCH('Analysis 103L'!$CI96,'LED Case Lighting'!$AS$3:$AS$16,0))),IF(CB96=0,0,IF(CB96=\"lamp\",((Q96/VLOOKUP(B96,Int_Ext,2,FALSE))*VLOOKUP(E96,NEB,16,FALSE)),IF(CB96=\"fixture\",((Q96/VLOOKUP(B96,Int_Ext,2,FALSE))*VLOOKUP(E96,NEB,14,FALSE)),\"\"))))","v":""},null,{"$f":"IF(RIGHT(I96,4)=\"Case\",INDEX('Equipment Type'!$V$4:$V$53, MATCH('Analysis 103L'!$K96, 'Equipment Type'!$A$4:$A$53, 0)), \"\")","v":""},"","","",{"$f":"IF(CI96=\"\", \"\", IF(RIGHT(I96,4)=\"Case\", INDEX('LED Case Lighting'!$AR$3:$AR$16, MATCH('Analysis 103L'!CI96, 'LED Case Lighting'!$AS$3:$AS$16, 0)), \"\"))","v":""},{"$f":"IF(CI96=\"\",\"\",INDEX('LED Case Lighting'!$AW$3:$AW$16,MATCH('Analysis 103L'!CI96,'LED Case Lighting'!$AS$3:$AS$16,0)))","v":""},{"$f":"IF(CI96=\"\",\"\",INDEX('LED Case Lighting'!$AX$3:$AX$16,MATCH('Analysis 103L'!CI96,'LED Case Lighting'!$AS$3:$AS$16,0)))","v":""},""]
[70,null,null,null,null,null,"",null,{"$f":"IF(K97=\"\",\"\",VLOOKUP(K97,'Equipment Type'!$A$1:$F$53,5,FALSE))","v":""},{"$f":"IF(K97=\"\",\"\",VLOOKUP(K97,'Equipment Type'!$A$1:$F$53,6,FALSE))","v":""},null,{"$f":"IF(K97=\"\",\"\",VLOOKUP(K97,'Equipment Type'!$A$1:$F$53,4,FALSE))","v":""},null,{"$f":"IF(K97=\"\",\"\",INDEX('Equipment Type'!$T$4:$T$53,MATCH('Analysis 103L'!K97,'Equipment Type'!$A$4:$A$53,0)))","v":""},"",null,{"$f":"IF(RIGHT(I97, 4)=\"Case\", \"\", IF(P97=\"\",\"\",(IF(ISNUMBER(SEARCH(\"exit\",J97)),8760,IF(B97=\"Exterior\",4380,'Analysis 103L'!$J$3)))))","v":""},null,"","","","","","","","",{"$f":"IF('100L Information'!$Z$5=\"Yes\",0,IF('100L Information'!$Z$4=\"Yes\",(MIN($Y$232-(-$Y$227),6000)*0.5)*(Y97/$Y$232),$Y$232*(Y97/($Y$230+$Y$231))))","v":{"$error":"#VALUE!"}},"",{"$error":"#VALUE!"},"No requirement",0,{"$f":"IF(OR(Z97=\"Does not meet requirement\",AND('100L Information'!$AA$21=\"No\",AL97=\"Y\"),AND('100L Information'!$AS$21=FALSE,AL97=\"Y\")),0,IF(ISNUMBER(R97*Incent_Cost_Fixture_Rx),MIN(R97*Incent_Cost_Fixture_Rx,(MAX(AE97,AK97))),0))","v":0},"FAIL","0","0","0",0,"N","0","0",null,"","",0,"",{"$f":"IF(RIGHT(I97,4)=\"Case\",W97,IF(AND(AL97=\"Y\",AF97<1),0,IF(OR(LEFT(D97,2)=\"T5\",LEFT(D97,3)=\"CFL\",'Analysis 103L'!AS97=\"Less\"),'Analysis 103L'!AR97,'Analysis 103L'!W97)))","v":""},null,0,0,null,{"$error":"#VALUE!"},{"$error":"#VALUE!"},{"$error":"#VALUE!"},null,null,{"$f":"IF(RIGHT(I97,4)=\"Case\",'LED Case Lighting'!$AY$1,IF(J97=\"\",\"\",VLOOKUP(J97,Lookups!$A$30:$J$149,VLOOKUP('100L Information'!$AI$46,Lookups!$J$3:$L$6,3,FALSE),FALSE)))","v":""},{"$error":"#N/A"},"","",{"$error":"#VALUE!"},{"$error":"#VALUE!"},{"$error":"#VALUE!"},{"$error":"#N/A"},0,{"$error":"#N/A"},0,{"$error":"#VALUE!"},{"$error":"#VALUE!"},{"$error":"#VALUE!"},"FAIL",null,null,null,null,null,null,null,"Interior / Exterior",null,"",null,{"$f":"IF(RIGHT(I97,4)=\"Case\",(INDEX('LED Case Lighting'!$AZ$3:$AZ$16,MATCH('Analysis 103L'!$CI97,'LED Case Lighting'!$AS$3:$AS$16,0))),IF(CB97=0,0,IF(CB97=\"lamp\",((Q97/VLOOKUP(B97,Int_Ext,2,FALSE))*VLOOKUP(E97,NEB,16,FALSE)),IF(CB97=\"fixture\",((Q97/VLOOKUP(B97,Int_Ext,2,FALSE))*VLOOKUP(E97,NEB,14,FALSE)),\"\"))))","v":""},null,{"$f":"IF(RIGHT(I97,4)=\"Case\",INDEX('Equipment Type'!$V$4:$V$53, MATCH('Analysis 103L'!$K97, 'Equipment Type'!$A$4:$A$53, 0)), \"\")","v":""},"","","",{"$f":"IF(CI97=\"\", \"\", IF(RIGHT(I97,4)=\"Case\", INDEX('LED Case Lighting'!$AR$3:$AR$16, MATCH('Analysis 103L'!CI97, 'LED Case Lighting'!$AS$3:$AS$16, 0)), \"\"))","v":""},{"$f":"IF(CI97=\"\",\"\",INDEX('LED Case Lighting'!$AW$3:$AW$16,MATCH('Analysis 103L'!CI97,'LED Case Lighting'!$AS$3:$AS$16,0)))","v":""},{"$f":"IF(CI97=\"\",\"\",INDEX('LED Case Lighting'!$AX$3:$AX$16,MATCH('Analysis 103L'!CI97,'LED Case Lighting'!$AS$3:$AS$16,0)))","v":""},""]
[71,null,null,null,null,null,"",null,{"$f":"IF(K98=\"\",\"\",VLOOKUP(K98,'Equipment Type'!$A$1:$F$53,5,FALSE))","v":""},{"$f":"IF(K98=\"\",\"\",VLOOKUP(K98,'Equipment Type'!$A$1:$F$53,6,FALSE))","v":""},null,{"$f":"IF(K98=\"\",\"\",VLOOKUP(K98,'Equipment Type'!$A$1:$F$53,4,FALSE))","v":""},null,{"$f":"IF(K98=\"\",\"\",INDEX('Equipment Type'!$T$4:$T$53,MATCH('Analysis 103L'!K98,'Equipment Type'!$A$4:$A$53,0)))","v":""},"",null,{"$f":"IF(RIGHT(I98, 4)=\"Case\", \"\", IF(P98=\"\",\"\",(IF(ISNUMBER(SEARCH(\"exit\",J98)),8760,IF(B98=\"Exterior\",4380,'Analysis 103L'!$J$3)))))","v":""},null,"","","","","","",{"$f":"IF(RIGHT(I98, 4)=\"Case\", IF(LEFT(J98, 6)=\"Motion\", \"\", CM98), IF(AND(W98>0,ISNUMBER(X98)),X98*P98,IF(P98=\"\",\"\",IF(RIGHT(I98, 4)=\"Case\", IF(LEFT(J98, 6)=\"Motion\", \"\", CM98),IF(AND(X98=\"CustomCalc\",AG98=\"PASS/PASS\"),AC98,0)))))","v":""},"",{"$f":"IF('100L Information'!$Z$5=\"Yes\",0,IF('100L Information'!$Z$4=\"Yes\",(MIN($Y$232-(-$Y$227),6000)*0.5)*(Y98/$Y$232),$Y$232*(Y98/($Y$230+$Y$231))))","v":{"$error":"#VALUE!"}},"",{"$error":"#VALUE!"},"No requirement",0,{"$f":"IF(OR(Z98=\"Does not meet requirement\",AND('100L Information'!$AA$21=\"No\",AL98=\"Y\"),AND('100L Information'!$AS$21=FALSE,AL98=\"Y\")),0,IF(ISNUMBER(R98*Incent_Cost_Fixture_Rx),MIN(R98*Incent_Cost_Fixture_Rx,(MAX(AE98,AK98))),0))","v":0},"FAIL","0","0","0",0,"N","0","0",null,"","",0,"",{"$f":"IF(RIGHT(I98,4)=\"Case\",W98,IF(AND(AL98=\"Y\",AF98<1),0,IF(OR(LEFT(D98,2)=\"T5\",LEFT(D98,3)=\"CFL\",'Analysis 103L'!AS98=\"Less\"),'Analysis 103L'!AR98,'Analysis 103L'!W98)))","v":""},null,0,0,null,{"$error":"#VALUE!"},{"$error":"#VALUE!"},{"$error":"#VALUE!"},null,null,{"$f":"IF(RIGHT(I98,4)=\"Case\",'LED Case Lighting'!$AY$1,IF(J98=\"\",\"\",VLOOKUP(J98,Lookups!$A$30:$J$149,VLOOKUP('100L Information'!$AI$46,Lookups!$J$3:$L$6,3,FALSE),FALSE)))","v":""},{"$error":"#N/A"},"","",{"$error":"#VALUE!"},{"$error":"#VALUE!"},{"$error":"#VALUE!"},{"$error":"#N/A"},0,{"$error":"#N/A"},0,{"$error":"#VALUE!"},{"$error":"#VALUE!"},{"$error":"#VALUE!"},"FAIL",null,null,null,null,null,null,null,"Interior / Exterior",null,"",null,{"$f":"IF(RIGHT(I98,4)=\"Case\",(INDEX('LED Case Lighting'!$AZ$3:$AZ$16,MATCH('Analysis 103L'!$CI98,'LED Case Lighting'!$AS$3:$AS$16,0))),IF(CB98=0,0,IF(CB98=\"lamp\",((Q98/VLOOKUP(B98,Int_Ext,2,FALSE))*VLOOKUP(E98,NEB,16,FALSE)),IF(CB98=\"fixture\",((Q98/VLOOKUP(B98,Int_Ext,2,FALSE))*VLOOKUP(E98,NEB,14,FALSE)),\"\"))))","v":""},null,{"$f":"IF(RIGHT(I98,4)=\"Case\",INDEX('Equipment Type'!$V$4:$V$53, MATCH('Analysis 103L'!$K98, 'Equipment Type'!$A$4:$A$53, 0)), \"\")","v":""},"","","",{"$f":"IF(CI98=\"\", \"\", IF(RIGHT(I98,4)=\"Case\", INDEX('LED Case Lighting'!$AR$3:$AR$16, MATCH('Analysis 103L'!CI98, 'LED Case Lighting'!$AS$3:$AS$16, 0)), \"\"))","v":""},{"$f":"IF(CI98=\"\",\"\",INDEX('LED Case Lighting'!$AW$3:$AW$16,MATCH('Analysis 103L'!CI98,'LED Case Lighting'!$AS$3:$AS$16,0)))","v":""},{"$f":"IF(CI98=\"\",\"\",INDEX('LED Case Lighting'!$AX$3:$AX$16,MATCH('Analysis 103L'!CI98,'LED Case Lighting'!$AS$3:$AS$16,0)))","v":""},""]
[72,null,null,null,null,null,"",null,{"$f":"IF(K99=\"\",\"\",VLOOKUP(K99,'Equipment Type'!$A$1:$F$53,5,FALSE))","v":""},{"$f":"IF(K99=\"\",\"\",VLOOKUP(K99,'Equipment Type'!$A$1:$F$53,6,FALSE))","v":""},null,{"$f":"IF(K99=\"\",\"\",VLOOKUP(K99,'Equipment Type'!$A$1:$F$53,4,FALSE))","v":""},null,{"$f":"IF(K99=\"\",\"\",INDEX('Equipment Type'!$T$4:$T$53,MATCH('Analysis 103L'!K99,'Equipment Type'!$A$4:$A$53,0)))","v":""},"",null,{"$f":"IF(RIGHT(I99, 4)=\"Case\", \"\", IF(P99=\"\",\"\",(IF(ISNUMBER(SEARCH(\"exit\",J99)),8760,IF(B99=\"Exterior\",4380,'Analysis 103L'!$J$3)))))","v":""},null,"","","","","","","","",{"$f":"IF('100L Information'!$Z$5=\"Yes\",0,IF('100L Information'!$Z$4=\"Yes\",(MIN($Y$232-(-$Y$227),6000)*0.5)*(Y99/$Y$232),$Y$232*(Y99/($Y$230+$Y$231))))","v":{"$error":"#VALUE!"}},"",{"$error":"#VALUE!"},"No requirement",0,{"$f":"IF(OR(Z99=\"Does not meet requirement\",AND('100L Information'!$AA$21=\"No\",AL99=\"Y\"),AND('100L Information'!$AS$21=FALSE,AL99=\"Y\")),0,IF(ISNUMBER(R99*Incent_Cost_Fixture_Rx),MIN(R99*Incent_Cost_Fixture_Rx,(MAX(AE99,AK99))),0))","v":0},"FAIL","0","0","0",0,"N","0","0",null,"","",0,"",{"$f":"IF(RIGHT(I99,4)=\"Case\",W99,IF(AND(AL99=\"Y\",AF99<1),0,IF(OR(LEFT(D99,2)=\"T5\",LEFT(D99,3)=\"CFL\",'Analysis 103L'!AS99=\"Less\"),'Analysis 103L'!AR99,'Analysis 103L'!W99)))","v":""},null,0,0,null,{"$error":"#VALUE!"},{"$error":"#VALUE!"},{"$error":"#VALUE!"},null,null,{"$f":"IF(RIGHT(I99,4)=\"Case\",'LED Case Lighting'!$AY$1,IF(J99=\"\",\"\",VLOOKUP(J99,Lookups!$A$30:$J$149,VLOOKUP('100L Information'!$AI$46,Lookups!$J$3:$L$6,3,FALSE),FALSE)))","v":""},{"$error":"#N/A"},"","",{"$error":"#VALUE!"},{"$error":"#VALUE!"},{"$error":"#VALUE!"},{"$error":"#N/A"},0,{"$error":"#N/A"},0,{"$error":"#VALUE!"},{"$error":"#VALUE!"},{"$error":"#VALUE!"},"FAIL",null,null,null,null,null,null,null,"Interior / Exterior",null,"",null,{"$f":"IF(RIGHT(I99,4)=\"Case\",(INDEX('LED Case Lighting'!$AZ$3:$AZ$16,MATCH('Analysis 103L'!$CI99,'LED Case Lighting'!$AS$3:$AS$16,0))),IF(CB99=0,0,IF(CB99=\"lamp\",((Q99/VLOOKUP(B99,Int_Ext,2,FALSE))*VLOOKUP(E99,NEB,16,FALSE)),IF(CB99=\"fixture\",((Q99/VLOOKUP(B99,Int_Ext,2,FALSE))*VLOOKUP(E99,NEB,14,FALSE)),\"\"))))","v":""},null,{"$f":"IF(RIGHT(I99,4)=\"Case\",INDEX('Equipment Type'!$V$4:$V$53, MATCH('Analysis 103L'!$K99, 'Equipment Type'!$A$4:$A$53, 0)), \"\")","v":""},"","","",{"$f":"IF(CI99=\"\", \"\", IF(RIGHT(I99,4)=\"Case\", INDEX('LED Case Lighting'!$AR$3:$AR$16, MATCH('Analysis 103L'!CI99, 'LED Case Lighting'!$AS$3:$AS$16, 0)), \"\"))","v":""},{"$f":"IF(CI99=\"\",\"\",INDEX('LED Case Lighting'!$AW$3:$AW$16,MATCH('Analysis 103L'!CI99,'LED Case Lighting'!$AS$3:$AS$16,0)))","v":""},{"$f":"IF(CI99=\"\",\"\",INDEX('LED Case Lighting'!$AX$3:$AX$16,MATCH('Analysis 103L'!CI99,'LED Case Lighting'!$AS$3:$AS$16,0)))","v":""},{"$f":"IF(CL99=\"\",\"\",MIN(R99*Incent_Cost_Case,(P99*CL99)))","v":""}]
[73,null,null,null,null,null,"",null,{"$f":"IF(K100=\"\",\"\",VLOOKUP(K100,'Equipment Type'!$A$1:$F$53,5,FALSE))","v":""},{"$f":"IF(K100=\"\",\"\",VLOOKUP(K100,'Equipment Type'!$A$1:$F$53,6,FALSE))","v":""},null,{"$f":"IF(K100=\"\",\"\",VLOOKUP(K100,'Equipment Type'!$A$1:$F$53,4,FALSE))","v":""},null,{"$f":"IF(K100=\"\",\"\",INDEX('Equipment Type'!$T$4:$T$53,MATCH('Analysis 103L'!K100,'Equipment Type'!$A$4:$A$53,0)))","v":""},"",null,{"$f":"IF(RIGHT(I100, 4)=\"Case\", \"\", IF(P100=\"\",\"\",(IF(ISNUMBER(SEARCH(\"exit\",J100)),8760,IF(B100=\"Exterior\",4380,'Analysis 103L'!$J$3)))))","v":""},null,"","","","","","","","",{"$f":"IF('100L Information'!$Z$5=\"Yes\",0,IF('100L Information'!$Z$4=\"Yes\",(MIN($Y$232-(-$Y$227),6000)*0.5)*(Y100/$Y$232),$Y$232*(Y100/($Y$230+$Y$231))))","v":{"$error":"#VALUE!"}},"",{"$error":"#VALUE!"},"No requirement",0,{"$f":"IF(OR(Z100=\"Does not meet requirement\",AND('100L Information'!$AA$21=\"No\",AL100=\"Y\"),AND('100L Information'!$AS$21=FALSE,AL100=\"Y\")),0,IF(ISNUMBER(R100*Incent_Cost_Fixture_Rx),MIN(R100*Incent_Cost_Fixture_Rx,(MAX(AE100,AK100))),0))","v":0},"FAIL","0","0","0",0,"N","0","0",null,"","",0,"",{"$f":"IF(RIGHT(I100,4)=\"Case\",W100,IF(AND(AL100=\"Y\",AF100<1),0,IF(OR(LEFT(D100,2)=\"T5\",LEFT(D100,3)=\"CFL\",'Analysis 103L'!AS100=\"Less\"),'Analysis 103L'!AR100,'Analysis 103L'!W100)))","v":""},null,0,0,null,{"$error":"#VALUE!"},{"$error":"#VALUE!"},{"$error":"#VALUE!"},null,null,{"$f":"IF(RIGHT(I100,4)=\"Case\",'LED Case Lighting'!$AY$1,IF(J100=\"\",\"\",VLOOKUP(J100,Lookups!$A$30:$J$149,VLOOKUP('100L Information'!$AI$46,Lookups!$J$3:$L$6,3,FALSE),FALSE)))","v":""},{"$error":"#N/A"},"","",{"$error":"#VALUE!"},{"$error":"#VALUE!"},{"$error":"#VALUE!"},{"$error":"#N/A"},0,{"$error":"#N/A"},0,{"$error":"#VALUE!"},{"$error":"#VALUE!"},{"$error":"#VALUE!"},"FAIL",null,null,null,null,null,null,null,"Interior / Exterior",null,"",null,{"$f":"IF(RIGHT(I100,4)=\"Case\",(INDEX('LED Case Lighting'!$AZ$3:$AZ$16,MATCH('Analysis 103L'!$CI100,'LED Case Lighting'!$AS$3:$AS$16,0))),IF(CB100=0,0,IF(CB100=\"lamp\",((Q100/VLOOKUP(B100,Int_Ext,2,FALSE))*VLOOKUP(E100,NEB,16,FALSE)),IF(CB100=\"fixture\",((Q100/VLOOKUP(B100,Int_Ext,2,FALSE))*VLOOKUP(E100,NEB,14,FALSE)),\"\"))))","v":""},null,{"$f":"IF(RIGHT(I100,4)=\"Case\",INDEX('Equipment Type'!$V$4:$V$53, MATCH('Analysis 103L'!$K100, 'Equipment Type'!$A$4:$A$53, 0)), \"\")","v":""},"","","",{"$f":"IF(CI100=\"\", \"\", IF(RIGHT(I100,4)=\"Case\", INDEX('LED Case Lighting'!$AR$3:$AR$16, MATCH('Analysis 103L'!CI100, 'LED Case Lighting'!$AS$3:$AS$16, 0)), \"\"))","v":""},{"$f":"IF(CI100=\"\",\"\",INDEX('LED Case Lighting'!$AW$3:$AW$16,MATCH('Analysis 103L'!CI100,'LED Case Lighting'!$AS$3:$AS$16,0)))","v":""},{"$f":"IF(CI100=\"\",\"\",INDEX('LED Case Lighting'!$AX$3:$AX$16,MATCH('Analysis 103L'!CI100,'LED Case Lighting'!$AS$3:$AS$16,0)))","v":""},""]
[74,null,null,null,null,null,"",null,{"$f":"IF(K101=\"\",\"\",VLOOKUP(K101,'Equipment Type'!$A$1:$F$53,5,FALSE))","v":""},{"$f":"IF(K101=\"\",\"\",VLOOKUP(K101,'Equipment Type'!$A$1:$F$53,6,FALSE))","v":""},null,{"$f":"IF(K101=\"\",\"\",VLOOKUP(K101,'Equipment Type'!$A$1:$F$53,4,FALSE))","v":""},null,{"$f":"IF(K101=\"\",\"\",INDEX('Equipment Type'!$T$4:$T$53,MATCH('Analysis 103L'!K101,'Equipment Type'!$A$4:$A$53,0)))","v":""},"",null,{"$f":"IF(RIGHT(I101, 4)=\"Case\", \"\", IF(P101=\"\",\"\",(IF(ISNUMBER(SEARCH(\"exit\",J101)),8760,IF(B101=\"Exterior\",4380,'Analysis 103L'!$J$3)))))","v":""},null,"","","","","","","","",{"$f":"IF('100L Information'!$Z$5=\"Yes\",0,IF('100L Information'!$Z$4=\"Yes\",(MIN($Y$232-(-$Y$227),6000)*0.5)*(Y101/$Y$232),$Y$232*(Y101/($Y$230+$Y$231))))","v":{"$error":"#VALUE!"}},"",{"$error":"#VALUE!"},"No requirement",{"$f":"MAX(IF(ISERROR(VLOOKUP(CONCATENATE(J101,\" from \",VLOOKUP(D101,ExistFixtCat,4,FALSE)),PropFixtIncent,2,FALSE)),0,VLOOKUP(CONCATENATE(J101,\" from \",VLOOKUP(D101,ExistFixtCat,4,FALSE)),PropFixtIncent,2,FALSE)),IF(ISERROR(VLOOKUP(CONCATENATE(J101,\" from ANY\"),PropFixtIncent,2,FALSE)),0,VLOOKUP(CONCATENATE(J101,\" from ANY\"),PropFixtIncent,2,FALSE)))","v":0},{"$f":"IF(OR(Z101=\"Does not meet requirement\",AND('100L Information'!$AA$21=\"No\",AL101=\"Y\"),AND('100L Information'!$AS$21=FALSE,AL101=\"Y\")),0,IF(ISNUMBER(R101*Incent_Cost_Fixture_Rx),MIN(R101*Incent_Cost_Fixture_Rx,(MAX(AE101,AK101))),0))","v":0},"FAIL","0","0","0",0,"N","0","0",null,"","",0,"",{"$f":"IF(RIGHT(I101,4)=\"Case\",W101,IF(AND(AL101=\"Y\",AF101<1),0,IF(OR(LEFT(D101,2)=\"T5\",LEFT(D101,3)=\"CFL\",'Analysis 103L'!AS101=\"Less\"),'Analysis 103L'!AR101,'Analysis 103L'!W101)))","v":""},null,0,0,null,{"$error":"#VALUE!"},{"$error":"#VALUE!"},{"$error":"#VALUE!"},null,null,{"$f":"IF(RIGHT(I101,4)=\"Case\",'LED Case Lighting'!$AY$1,IF(J101=\"\",\"\",VLOOKUP(J101,Lookups!$A$30:$J$149,VLOOKUP('100L Information'!$AI$46,Lookups!$J$3:$L$6,3,FALSE),FALSE)))","v":""},{"$error":"#N/A"},"","",{"$error":"#VALUE!"},{"$error":"#VALUE!"},{"$error":"#VALUE!"},{"$error":"#N/A"},0,{"$error":"#N/A"},0,{"$error":"#VALUE!"},{"$error":"#VALUE!"},{"$error":"#VALUE!"},"FAIL",null,null,null,null,null,null,null,"Interior / Exterior",null,"",null,{"$f":"IF(RIGHT(I101,4)=\"Case\",(INDEX('LED Case Lighting'!$AZ$3:$AZ$16,MATCH('Analysis 103L'!$CI101,'LED Case Lighting'!$AS$3:$AS$16,0))),IF(CB101=0,0,IF(CB101=\"lamp\",((Q101/VLOOKUP(B101,Int_Ext,2,FALSE))*VLOOKUP(E101,NEB,16,FALSE)),IF(CB101=\"fixture\",((Q101/VLOOKUP(B101,Int_Ext,2,FALSE))*VLOOKUP(E101,NEB,14,FALSE)),\"\"))))","v":""},null,{"$f":"IF(RIGHT(I101,4)=\"Case\",INDEX('Equipment Type'!$V$4:$V$53, MATCH('Analysis 103L'!$K101, 'Equipment Type'!$A$4:$A$53, 0)), \"\")","v":""},"","","",{"$f":"IF(CI101=\"\", \"\", IF(RIGHT(I101,4)=\"Case\", INDEX('LED Case Lighting'!$AR$3:$AR$16, MATCH('Analysis 103L'!CI101, 'LED Case Lighting'!$AS$3:$AS$16, 0)), \"\"))","v":""},{"$f":"IF(CI101=\"\",\"\",INDEX('LED Case Lighting'!$AW$3:$AW$16,MATCH('Analysis 103L'!CI101,'LED Case Lighting'!$AS$3:$AS$16,0)))","v":""},{"$f":"IF(CI101=\"\",\"\",INDEX('LED Case Lighting'!$AX$3:$AX$16,MATCH('Analysis 103L'!CI101,'LED Case Lighting'!$AS$3:$AS$16,0)))","v":""},""]
[75,null,null,null,null,null,"",null,{"$f":"IF(K102=\"\",\"\",VLOOKUP(K102,'Equipment Type'!$A$1:$F$53,5,FALSE))","v":""},{"$f":"IF(K102=\"\",\"\",VLOOKUP(K102,'Equipment Type'!$A$1:$F$53,6,FALSE))","v":""},null,{"$f":"IF(K102=\"\",\"\",VLOOKUP(K102,'Equipment Type'!$A$1:$F$53,4,FALSE))","v":""},null,{"$f":"IF(K102=\"\",\"\",INDEX('Equipment Type'!$T$4:$T$53,MATCH('Analysis 103L'!K102,'Equipment Type'!$A$4:$A$53,0)))","v":""},"",null,{"$f":"IF(RIGHT(I102, 4)=\"Case\", \"\", IF(P102=\"\",\"\",(IF(ISNUMBER(SEARCH(\"exit\",J102)),8760,IF(B102=\"Exterior\",4380,'Analysis 103L'!$J$3)))))","v":""},null,"","","","","","","","",{"$f":"IF('100L Information'!$Z$5=\"Yes\",0,IF('100L Information'!$Z$4=\"Yes\",(MIN($Y$232-(-$Y$227),6000)*0.5)*(Y102/$Y$232),$Y$232*(Y102/($Y$230+$Y$231))))","v":{"$error":"#VALUE!"}},"",{"$error":"#VALUE!"},"No requirement",0,{"$f":"IF(OR(Z102=\"Does not meet requirement\",AND('100L Information'!$AA$21=\"No\",AL102=\"Y\"),AND('100L Information'!$AS$21=FALSE,AL102=\"Y\")),0,IF(ISNUMBER(R102*Incent_Cost_Fixture_Rx),MIN(R102*Incent_Cost_Fixture_Rx,(MAX(AE102,AK102))),0))","v":0},"FAIL","0","0","0",0,"N","0","0",null,"","",0,"",{"$f":"IF(RIGHT(I102,4)=\"Case\",W102,IF(AND(AL102=\"Y\",AF102<1),0,IF(OR(LEFT(D102,2)=\"T5\",LEFT(D102,3)=\"CFL\",'Analysis 103L'!AS102=\"Less\"),'Analysis 103L'!AR102,'Analysis 103L'!W102)))","v":""},null,0,0,null,{"$error":"#VALUE!"},{"$error":"#VALUE!"},{"$error":"#VALUE!"},null,null,{"$f":"IF(RIGHT(I102,4)=\"Case\",'LED Case Lighting'!$AY$1,IF(J102=\"\",\"\",VLOOKUP(J102,Lookups!$A$30:$J$149,VLOOKUP('100L Information'!$AI$46,Lookups!$J$3:$L$6,3,FALSE),FALSE)))","v":""},{"$error":"#N/A"},"","",{"$error":"#VALUE!"},{"$error":"#VALUE!"},{"$error":"#VALUE!"},{"$error":"#N/A"},0,{"$error":"#N/A"},0,{"$error":"#VALUE!"},{"$error":"#VALUE!"},{"$error":"#VALUE!"},"FAIL",null,null,null,null,null,null,null,"Interior / Exterior",null,"",null,{"$f":"IF(RIGHT(I102,4)=\"Case\",(INDEX('LED Case Lighting'!$AZ$3:$AZ$16,MATCH('Analysis 103L'!$CI102,'LED Case Lighting'!$AS$3:$AS$16,0))),IF(CB102=0,0,IF(CB102=\"lamp\",((Q102/VLOOKUP(B102,Int_Ext,2,FALSE))*VLOOKUP(E102,NEB,16,FALSE)),IF(CB102=\"fixture\",((Q102/VLOOKUP(B102,Int_Ext,2,FALSE))*VLOOKUP(E102,NEB,14,FALSE)),\"\"))))","v":""},null,{"$f":"IF(RIGHT(I102,4)=\"Case\",INDEX('Equipment Type'!$V$4:$V$53, MATCH('Analysis 103L'!$K102, 'Equipment Type'!$A$4:$A$53, 0)), \"\")","v":""},"","","",{"$f":"IF(CI102=\"\", \"\", IF(RIGHT(I102,4)=\"Case\", INDEX('LED Case Lighting'!$AR$3:$AR$16, MATCH('Analysis 103L'!CI102, 'LED Case Lighting'!$AS$3:$AS$16, 0)), \"\"))","v":""},{"$f":"IF(CI102=\"\",\"\",INDEX('LED Case Lighting'!$AW$3:$AW$16,MATCH('Analysis 103L'!CI102,'LED Case Lighting'!$AS$3:$AS$16,0)))","v":""},{"$f":"IF(CI102=\"\",\"\",INDEX('LED Case Lighting'!$AX$3:$AX$16,MATCH('Analysis 103L'!CI102,'LED Case Lighting'!$AS$3:$AS$16,0)))","v":""},""]
[76,null,null,null,null,null,"",null,{"$f":"IF(K103=\"\",\"\",VLOOKUP(K103,'Equipment Type'!$A$1:$F$53,5,FALSE))","v":""},{"$f":"IF(K103=\"\",\"\",VLOOKUP(K103,'Equipment Type'!$A$1:$F$53,6,FALSE))","v":""},null,{"$f":"IF(K103=\"\",\"\",VLOOKUP(K103,'Equipment Type'!$A$1:$F$53,4,FALSE))","v":""},null,{"$f":"IF(K103=\"\",\"\",INDEX('Equipment Type'!$T$4:$T$53,MATCH('Analysis 103L'!K103,'Equipment Type'!$A$4:$A$53,0)))","v":""},"",null,{"$f":"IF(RIGHT(I103, 4)=\"Case\", \"\", IF(P103=\"\",\"\",(IF(ISNUMBER(SEARCH(\"exit\",J103)),8760,IF(B103=\"Exterior\",4380,'Analysis 103L'!$J$3)))))","v":""},null,"","","","","","","","",{"$f":"IF('100L Information'!$Z$5=\"Yes\",0,IF('100L Information'!$Z$4=\"Yes\",(MIN($Y$232-(-$Y$227),6000)*0.5)*(Y103/$Y$232),$Y$232*(Y103/($Y$230+$Y$231))))","v":{"$error":"#VALUE!"}},"",{"$error":"#VALUE!"},"No requirement",0,{"$f":"IF(OR(Z103=\"Does not meet requirement\",AND('100L Information'!$AA$21=\"No\",AL103=\"Y\"),AND('100L Information'!$AS$21=FALSE,AL103=\"Y\")),0,IF(ISNUMBER(R103*Incent_Cost_Fixture_Rx),MIN(R103*Incent_Cost_Fixture_Rx,(MAX(AE103,AK103))),0))","v":0},"FAIL","0","0","0",0,"N","0","0",null,"","",0,"",{"$f":"IF(RIGHT(I103,4)=\"Case\",W103,IF(AND(AL103=\"Y\",AF103<1),0,IF(OR(LEFT(D103,2)=\"T5\",LEFT(D103,3)=\"CFL\",'Analysis 103L'!AS103=\"Less\"),'Analysis 103L'!AR103,'Analysis 103L'!W103)))","v":""},null,0,0,null,{"$error":"#VALUE!"},{"$error":"#VALUE!"},{"$error":"#VALUE!"},null,null,{"$f":"IF(RIGHT(I103,4)=\"Case\",'LED Case Lighting'!$AY$1,IF(J103=\"\",\"\",VLOOKUP(J103,Lookups!$A$30:$J$149,VLOOKUP('100L Information'!$AI$46,Lookups!$J$3:$L$6,3,FALSE),FALSE)))","v":""},{"$error":"#N/A"},"","",{"$error":"#VALUE!"},{"$error":"#VALUE!"},{"$error":"#VALUE!"},{"$error":"#N/A"},0,{"$error":"#N/A"},0,{"$error":"#VALUE!"},{"$error":"#VALUE!"},{"$error":"#VALUE!"},"FAIL",null,null,null,null,null,null,null,"Interior / Exterior",null,"",null,{"$f":"IF(RIGHT(I103,4)=\"Case\",(INDEX('LED Case Lighting'!$AZ$3:$AZ$16,MATCH('Analysis 103L'!$CI103,'LED Case Lighting'!$AS$3:$AS$16,0))),IF(CB103=0,0,IF(CB103=\"lamp\",((Q103/VLOOKUP(B103,Int_Ext,2,FALSE))*VLOOKUP(E103,NEB,16,FALSE)),IF(CB103=\"fixture\",((Q103/VLOOKUP(B103,Int_Ext,2,FALSE))*VLOOKUP(E103,NEB,14,FALSE)),\"\"))))","v":""},null,{"$f":"IF(RIGHT(I103,4)=\"Case\",INDEX('Equipment Type'!$V$4:$V$53, MATCH('Analysis 103L'!$K103, 'Equipment Type'!$A$4:$A$53, 0)), \"\")","v":""},"","","",{"$f":"IF(CI103=\"\", \"\", IF(RIGHT(I103,4)=\"Case\", INDEX('LED Case Lighting'!$AR$3:$AR$16, MATCH('Analysis 103L'!CI103, 'LED Case Lighting'!$AS$3:$AS$16, 0)), \"\"))","v":""},{"$f":"IF(CI103=\"\",\"\",INDEX('LED Case Lighting'!$AW$3:$AW$16,MATCH('Analysis 103L'!CI103,'LED Case Lighting'!$AS$3:$AS$16,0)))","v":""},{"$f":"IF(CI103=\"\",\"\",INDEX('LED Case Lighting'!$AX$3:$AX$16,MATCH('Analysis 103L'!CI103,'LED Case Lighting'!$AS$3:$AS$16,0)))","v":""},""]
[77,null,null,null,null,null,"",null,{"$f":"IF(K104=\"\",\"\",VLOOKUP(K104,'Equipment Type'!$A$1:$F$53,5,FALSE))","v":""},{"$f":"IF(K104=\"\",\"\",VLOOKUP(K104,'Equipment Type'!$A$1:$F$53,6,FALSE))","v":""},null,{"$f":"IF(K104=\"\",\"\",VLOOKUP(K104,'Equipment Type'!$A$1:$F$53,4,FALSE))","v":""},null,{"$f":"IF(K104=\"\",\"\",INDEX('Equipment Type'!$T$4:$T$53,MATCH('Analysis 103L'!K104,'Equipment Type'!$A$4:$A$53,0)))","v":""},"",null,{"$f":"IF(RIGHT(I104, 4)=\"Case\", \"\", IF(P104=\"\",\"\",(IF(ISNUMBER(SEARCH(\"exit\",J104)),8760,IF(B104=\"Exterior\",4380,'Analysis 103L'!$J$3)))))","v":""},null,"","","","","","","","",{"$f":"IF('100L Information'!$Z$5=\"Yes\",0,IF('100L Information'!$Z$4=\"Yes\",(MIN($Y$232-(-$Y$227),6000)*0.5)*(Y104/$Y$232),$Y$232*(Y104/($Y$230+$Y$231))))","v":{"$error":"#VALUE!"}},"",{"$error":"#VALUE!"},"No requirement",0,{"$f":"IF(OR(Z104=\"Does not meet requirement\",AND('100L Information'!$AA$21=\"No\",AL104=\"Y\"),AND('100L Information'!$AS$21=FALSE,AL104=\"Y\")),0,IF(ISNUMBER(R104*Incent_Cost_Fixture_Rx),MIN(R104*Incent_Cost_Fixture_Rx,(MAX(AE104,AK104))),0))","v":0},"FAIL","0","0","0",0,"N","0","0",null,"","",0,"",{"$f":"IF(RIGHT(I104,4)=\"Case\",W104,IF(AND(AL104=\"Y\",AF104<1),0,IF(OR(LEFT(D104,2)=\"T5\",LEFT(D104,3)=\"CFL\",'Analysis 103L'!AS104=\"Less\"),'Analysis 103L'!AR104,'Analysis 103L'!W104)))","v":""},null,0,0,null,{"$f":"IF(RIGHT(I104,4)=\"Case\",\"\",((G104*H104)-(N104*P104))/1000)","v":{"$error":"#VALUE!"}},{"$f":"IF(RIGHT(I104,4)=\"Case\",\"\", IF(W104=0,0,W104/U104))","v":{"$error":"#VALUE!"}},{"$f":"IF(RIGHT(I104,4)=\"Case\",IF(W104=0,0,R104/(W104*$F$9)),IF(W104=0,0,S104/(W104*$F$9)))","v":{"$error":"#VALUE!"}},null,null,{"$f":"IF(RIGHT(I104,4)=\"Case\",'LED Case Lighting'!$AY$1,IF(J104=\"\",\"\",VLOOKUP(J104,Lookups!$A$30:$J$149,VLOOKUP('100L Information'!$AI$46,Lookups!$J$3:$L$6,3,FALSE),FALSE)))","v":""},{"$error":"#N/A"},"","",{"$error":"#VALUE!"},{"$error":"#VALUE!"},{"$error":"#VALUE!"},{"$error":"#N/A"},0,{"$error":"#N/A"},0,{"$error":"#VALUE!"},{"$error":"#VALUE!"},{"$error":"#VALUE!"},"FAIL",null,null,null,null,null,null,null,"Interior / Exterior",null,"",null,{"$f":"IF(RIGHT(I104,4)=\"Case\",(INDEX('LED Case Lighting'!$AZ$3:$AZ$16,MATCH('Analysis 103L'!$CI104,'LED Case Lighting'!$AS$3:$AS$16,0))),IF(CB104=0,0,IF(CB104=\"lamp\",((Q104/VLOOKUP(B104,Int_Ext,2,FALSE))*VLOOKUP(E104,NEB,16,FALSE)),IF(CB104=\"fixture\",((Q104/VLOOKUP(B104,Int_Ext,2,FALSE))*VLOOKUP(E104,NEB,14,FALSE)),\"\"))))","v":""},null,{"$f":"IF(RIGHT(I104,4)=\"Case\",INDEX('Equipment Type'!$V$4:$V$53, MATCH('Analysis 103L'!$K104, 'Equipment Type'!$A$4:$A$53, 0)), \"\")","v":""},"","","",{"$f":"IF(CI104=\"\", \"\", IF(RIGHT(I104,4)=\"Case\", INDEX('LED Case Lighting'!$AR$3:$AR$16, MATCH('Analysis 103L'!CI104, 'LED Case Lighting'!$AS$3:$AS$16, 0)), \"\"))","v":""},{"$f":"IF(CI104=\"\",\"\",INDEX('LED Case Lighting'!$AW$3:$AW$16,MATCH('Analysis 103L'!CI104,'LED Case Lighting'!$AS$3:$AS$16,0)))","v":""},{"$f":"IF(CI104=\"\",\"\",INDEX('LED Case Lighting'!$AX$3:$AX$16,MATCH('Analysis 103L'!CI104,'LED Case Lighting'!$AS$3:$AS$16,0)))","v":""},""]
[78,null,null,null,null,null,"",null,{"$f":"IF(K105=\"\",\"\",VLOOKUP(K105,'Equipment Type'!$A$1:$F$53,5,FALSE))","v":""},{"$f":"IF(K105=\"\",\"\",VLOOKUP(K105,'Equipment Type'!$A$1:$F$53,6,FALSE))","v":""},null,{"$f":"IF(K105=\"\",\"\",VLOOKUP(K105,'Equipment Type'!$A$1:$F$53,4,FALSE))","v":""},null,{"$f":"IF(K105=\"\",\"\",INDEX('Equipment Type'!$T$4:$T$53,MATCH('Analysis 103L'!K105,'Equipment Type'!$A$4:$A$53,0)))","v":""},"",null,{"$f":"IF(RIGHT(I105, 4)=\"Case\", \"\", IF(P105=\"\",\"\",(IF(ISNUMBER(SEARCH(\"exit\",J105)),8760,IF(B105=\"Exterior\",4380,'Analysis 103L'!$J$3)))))","v":""},null,"","","","","","","","",{"$f":"IF('100L Information'!$Z$5=\"Yes\",0,IF('100L Information'!$Z$4=\"Yes\",(MIN($Y$232-(-$Y$227),6000)*0.5)*(Y105/$Y$232),$Y$232*(Y105/($Y$230+$Y$231))))","v":{"$error":"#VALUE!"}},"",{"$error":"#VALUE!"},"No requirement",0,{"$f":"IF(OR(Z105=\"Does not meet requirement\",AND('100L Information'!$AA$21=\"No\",AL105=\"Y\"),AND('100L Information'!$AS$21=FALSE,AL105=\"Y\")),0,IF(ISNUMBER(R105*Incent_Cost_Fixture_Rx),MIN(R105*Incent_Cost_Fixture_Rx,(MAX(AE105,AK105))),0))","v":0},"FAIL","0","0","0",0,"N","0","0",null,"","",0,"",{"$f":"IF(RIGHT(I105,4)=\"Case\",W105,IF(AND(AL105=\"Y\",AF105<1),0,IF(OR(LEFT(D105,2)=\"T5\",LEFT(D105,3)=\"CFL\",'Analysis 103L'!AS105=\"Less\"),'Analysis 103L'!AR105,'Analysis 103L'!W105)))","v":""},null,0,0,null,{"$error":"#VALUE!"},{"$error":"#VALUE!"},{"$error":"#VALUE!"},null,null,{"$f":"IF(RIGHT(I105,4)=\"Case\",'LED Case Lighting'!$AY$1,IF(J105=\"\",\"\",VLOOKUP(J105,Lookups!$A$30:$J$149,VLOOKUP('100L Information'!$AI$46,Lookups!$J$3:$L$6,3,FALSE),FALSE)))","v":""},{"$error":"#N/A"},"","",{"$error":"#VALUE!"},{"$error":"#VALUE!"},{"$error":"#VALUE!"},{"$error":"#N/A"},0,{"$error":"#N/A"},0,{"$error":"#VALUE!"},{"$error":"#VALUE!"},{"$error":"#VALUE!"},"FAIL",null,null,null,null,null,null,null,"Interior / Exterior",null,"",null,{"$f":"IF(RIGHT(I105,4)=\"Case\",(INDEX('LED Case Lighting'!$AZ$3:$AZ$16,MATCH('Analysis 103L'!$CI105,'LED Case Lighting'!$AS$3:$AS$16,0))),IF(CB105=0,0,IF(CB105=\"lamp\",((Q105/VLOOKUP(B105,Int_Ext,2,FALSE))*VLOOKUP(E105,NEB,16,FALSE)),IF(CB105=\"fixture\",((Q105/VLOOKUP(B105,Int_Ext,2,FALSE))*VLOOKUP(E105,NEB,14,FALSE)),\"\"))))","v":""},null,{"$f":"IF(RIGHT(I105,4)=\"Case\",INDEX('Equipment Type'!$V$4:$V$53, MATCH('Analysis 103L'!$K105, 'Equipment Type'!$A$4:$A$53, 0)), \"\")","v":""},"","","",{"$f":"IF(CI105=\"\", \"\", IF(RIGHT(I105,4)=\"Case\", INDEX('LED Case Lighting'!$AR$3:$AR$16, MATCH('Analysis 103L'!CI105, 'LED Case Lighting'!$AS$3:$AS$16, 0)), \"\"))","v":""},{"$f":"IF(CI105=\"\",\"\",INDEX('LED Case Lighting'!$AW$3:$AW$16,MATCH('Analysis 103L'!CI105,'LED Case Lighting'!$AS$3:$AS$16,0)))","v":""},{"$f":"IF(CI105=\"\",\"\",INDEX('LED Case Lighting'!$AX$3:$AX$16,MATCH('Analysis 103L'!CI105,'LED Case Lighting'!$AS$3:$AS$16,0)))","v":""},""]
[79,null,null,null,null,null,"",null,{"$f":"IF(K106=\"\",\"\",VLOOKUP(K106,'Equipment Type'!$A$1:$F$53,5,FALSE))","v":""},{"$f":"IF(K106=\"\",\"\",VLOOKUP(K106,'Equipment Type'!$A$1:$F$53,6,FALSE))","v":""},null,{"$f":"IF(K106=\"\",\"\",VLOOKUP(K106,'Equipment Type'!$A$1:$F$53,4,FALSE))","v":""},null,{"$f":"IF(K106=\"\",\"\",INDEX('Equipment Type'!$T$4:$T$53,MATCH('Analysis 103L'!K106,'Equipment Type'!$A$4:$A$53,0)))","v":""},"",null,{"$f":"IF(RIGHT(I106, 4)=\"Case\", \"\", IF(P106=\"\",\"\",(IF(ISNUMBER(SEARCH(\"exit\",J106)),8760,IF(B106=\"Exterior\",4380,'Analysis 103L'!$J$3)))))","v":""},null,"","","","","","","","",{"$f":"IF('100L Information'!$Z$5=\"Yes\",0,IF('100L Information'!$Z$4=\"Yes\",(MIN($Y$232-(-$Y$227),6000)*0.5)*(Y106/$Y$232),$Y$232*(Y106/($Y$230+$Y$231))))","v":{"$error":"#VALUE!"}},"",{"$error":"#VALUE!"},"No requirement",0,{"$f":"IF(OR(Z106=\"Does not meet requirement\",AND('100L Information'!$AA$21=\"No\",AL106=\"Y\"),AND('100L Information'!$AS$21=FALSE,AL106=\"Y\")),0,IF(ISNUMBER(R106*Incent_Cost_Fixture_Rx),MIN(R106*Incent_Cost_Fixture_Rx,(MAX(AE106,AK106))),0))","v":0},"FAIL","0","0","0",0,"N","0","0",null,"","",0,"",{"$f":"IF(RIGHT(I106,4)=\"Case\",W106,IF(AND(AL106=\"Y\",AF106<1),0,IF(OR(LEFT(D106,2)=\"T5\",LEFT(D106,3)=\"CFL\",'Analysis 103L'!AS106=\"Less\"),'Analysis 103L'!AR106,'Analysis 103L'!W106)))","v":""},null,0,0,null,{"$error":"#VALUE!"},{"$error":"#VALUE!"},{"$error":"#VALUE!"},null,null,{"$f":"IF(RIGHT(I106,4)=\"Case\",'LED Case Lighting'!$AY$1,IF(J106=\"\",\"\",VLOOKUP(J106,Lookups!$A$30:$J$149,VLOOKUP('100L Information'!$AI$46,Lookups!$J$3:$L$6,3,FALSE),FALSE)))","v":""},{"$error":"#N/A"},{"$f":"IF(BD106=\"\",\"\",VLOOKUP(BE106, avoided_costs, ROUND($BD106,0)+2, FALSE))","v":""},"",{"$error":"#VALUE!"},{"$f":"BF106/BH106","v":{"$error":"#VALUE!"}},{"$f":"IF(ROUND(BI106,1)>=1, \"PASS\", \"FAIL\")","v":{"$error":"#VALUE!"}},{"$error":"#N/A"},0,{"$error":"#N/A"},0,{"$error":"#VALUE!"},{"$f":"BG106/BO106","v":{"$error":"#VALUE!"}},{"$f":"IF(ROUND(BP106,1)>=1, \"PASS\", \"FAIL\")","v":{"$error":"#VALUE!"}},{"$f":"IF(OR(NOT(ISERROR(BQ106)),NOT(ISERROR(BJ106))),BJ106&\"/\"&BQ106,\"FAIL\")","v":"FAIL"},null,null,null,null,null,null,null,"Interior / Exterior",null,"",null,{"$f":"IF(RIGHT(I106,4)=\"Case\",(INDEX('LED Case Lighting'!$AZ$3:$AZ$16,MATCH('Analysis 103L'!$CI106,'LED Case Lighting'!$AS$3:$AS$16,0))),IF(CB106=0,0,IF(CB106=\"lamp\",((Q106/VLOOKUP(B106,Int_Ext,2,FALSE))*VLOOKUP(E106,NEB,16,FALSE)),IF(CB106=\"fixture\",((Q106/VLOOKUP(B106,Int_Ext,2,FALSE))*VLOOKUP(E106,NEB,14,FALSE)),\"\"))))","v":""},null,{"$f":"IF(RIGHT(I106,4)=\"Case\",INDEX('Equipment Type'!$V$4:$V$53, MATCH('Analysis 103L'!$K106, 'Equipment Type'!$A$4:$A$53, 0)), \"\")","v":""},"","","",{"$f":"IF(CI106=\"\", \"\", IF(RIGHT(I106,4)=\"Case\", INDEX('LED Case Lighting'!$AR$3:$AR$16, MATCH('Analysis 103L'!CI106, 'LED Case Lighting'!$AS$3:$AS$16, 0)), \"\"))","v":""},{"$f":"IF(CI106=\"\",\"\",INDEX('LED Case Lighting'!$AW$3:$AW$16,MATCH('Analysis 103L'!CI106,'LED Case Lighting'!$AS$3:$AS$16,0)))","v":""},{"$f":"IF(CI106=\"\",\"\",INDEX('LED Case Lighting'!$AX$3:$AX$16,MATCH('Analysis 103L'!CI106,'LED Case Lighting'!$AS$3:$AS$16,0)))","v":""},""]
[80,null,null,null,null,null,"",null,{"$f":"IF(K107=\"\",\"\",VLOOKUP(K107,'Equipment Type'!$A$1:$F$53,5,FALSE))","v":""},{"$f":"IF(K107=\"\",\"\",VLOOKUP(K107,'Equipment Type'!$A$1:$F$53,6,FALSE))","v":""},null,{"$f":"IF(K107=\"\",\"\",VLOOKUP(K107,'Equipment Type'!$A$1:$F$53,4,FALSE))","v":""},null,{"$f":"IF(K107=\"\",\"\",INDEX('Equipment Type'!$T$4:$T$53,MATCH('Analysis 103L'!K107,'Equipment Type'!$A$4:$A$53,0)))","v":""},"",null,{"$f":"IF(RIGHT(I107, 4)=\"Case\", \"\", IF(P107=\"\",\"\",(IF(ISNUMBER(SEARCH(\"exit\",J107)),8760,IF(B107=\"Exterior\",4380,'Analysis 103L'!$J$3)))))","v":""},null,"","","","","","","","",{"$f":"IF('100L Information'!$Z$5=\"Yes\",0,IF('100L Information'!$Z$4=\"Yes\",(MIN($Y$232-(-$Y$227),6000)*0.5)*(Y107/$Y$232),$Y$232*(Y107/($Y$230+$Y$231))))","v":{"$error":"#VALUE!"}},"",{"$error":"#VALUE!"},"No requirement",0,{"$f":"IF(OR(Z107=\"Does not meet requirement\",AND('100L Information'!$AA$21=\"No\",AL107=\"Y\"),AND('100L Information'!$AS$21=FALSE,AL107=\"Y\")),0,IF(ISNUMBER(R107*Incent_Cost_Fixture_Rx),MIN(R107*Incent_Cost_Fixture_Rx,(MAX(AE107,AK107))),0))","v":0},"FAIL",{"$f":"IF(AG107=\"PASS/PASS\",S107,\"0\")","v":"0"},{"$f":"IF(AG107=\"PASS/PASS\",U107,\"0\")","v":"0"},{"$f":"IF(AG107=\"PASS/PASS\",V107,\"0\")","v":"0"},0,"N","0","0",null,"","",0,"",{"$f":"IF(RIGHT(I107,4)=\"Case\",W107,IF(AND(AL107=\"Y\",AF107<1),0,IF(OR(LEFT(D107,2)=\"T5\",LEFT(D107,3)=\"CFL\",'Analysis 103L'!AS107=\"Less\"),'Analysis 103L'!AR107,'Analysis 103L'!W107)))","v":""},null,0,0,null,{"$error":"#VALUE!"},{"$error":"#VALUE!"},{"$error":"#VALUE!"},null,null,{"$f":"IF(RIGHT(I107,4)=\"Case\",'LED Case Lighting'!$AY$1,IF(J107=\"\",\"\",VLOOKUP(J107,Lookups!$A$30:$J$149,VLOOKUP('100L Information'!$AI$46,Lookups!$J$3:$L$6,3,FALSE),FALSE)))","v":""},{"$error":"#N/A"},"","",{"$error":"#VALUE!"},{"$error":"#VALUE!"},{"$error":"#VALUE!"},{"$error":"#N/A"},0,{"$error":"#N/A"},0,{"$error":"#VALUE!"},{"$error":"#VALUE!"},{"$error":"#VALUE!"},"FAIL",null,null,null,null,null,null,null,"Interior / Exterior",null,"",null,{"$f":"IF(RIGHT(I107,4)=\"Case\",(INDEX('LED Case Lighting'!$AZ$3:$AZ$16,MATCH('Analysis 103L'!$CI107,'LED Case Lighting'!$AS$3:$AS$16,0))),IF(CB107=0,0,IF(CB107=\"lamp\",((Q107/VLOOKUP(B107,Int_Ext,2,FALSE))*VLOOKUP(E107,NEB,16,FALSE)),IF(CB107=\"fixture\",((Q107/VLOOKUP(B107,Int_Ext,2,FALSE))*VLOOKUP(E107,NEB,14,FALSE)),\"\"))))","v":""},null,{"$f":"IF(RIGHT(I107,4)=\"Case\",INDEX('Equipment Type'!$V$4:$V$53, MATCH('Analysis 103L'!$K107, 'Equipment Type'!$A$4:$A$53, 0)), \"\")","v":""},"","","",{"$f":"IF(CI107=\"\", \"\", IF(RIGHT(I107,4)=\"Case\", INDEX('LED Case Lighting'!$AR$3:$AR$16, MATCH('Analysis 103L'!CI107, 'LED Case Lighting'!$AS$3:$AS$16, 0)), \"\"))","v":""},{"$f":"IF(CI107=\"\",\"\",INDEX('LED Case Lighting'!$AW$3:$AW$16,MATCH('Analysis 103L'!CI107,'LED Case Lighting'!$AS$3:$AS$16,0)))","v":""},{"$f":"IF(CI107=\"\",\"\",INDEX('LED Case Lighting'!$AX$3:$AX$16,MATCH('Analysis 103L'!CI107,'LED Case Lighting'!$AS$3:$AS$16,0)))","v":""},""]
[81,null,null,null,null,null,"",null,{"$f":"IF(K108=\"\",\"\",VLOOKUP(K108,'Equipment Type'!$A$1:$F$53,5,FALSE))","v":""},{"$f":"IF(K108=\"\",\"\",VLOOKUP(K108,'Equipment Type'!$A$1:$F$53,6,FALSE))","v":""},null,{"$f":"IF(K108=\"\",\"\",VLOOKUP(K108,'Equipment Type'!$A$1:$F$53,4,FALSE))","v":""},null,{"$f":"IF(K108=\"\",\"\",INDEX('Equipment Type'!$T$4:$T$53,MATCH('Analysis 103L'!K108,'Equipment Type'!$A$4:$A$53,0)))","v":""},"",null,{"$f":"IF(RIGHT(I108, 4)=\"Case\", \"\", IF(P108=\"\",\"\",(IF(ISNUMBER(SEARCH(\"exit\",J108)),8760,IF(B108=\"Exterior\",4380,'Analysis 103L'!$J$3)))))","v":""},null,{"$f":"IF(RIGHT(I108, 4)=\"Case\", IF(LEFT(J108, 6)=\"Motion\", \"\", \"<-- Enter total cost.\"), IF(P108=\"\",\"\",IF(AND(AL108=\"Y\",X108=\"\"),\"\",P108*R108)))","v":""},{"$f":"IF(RIGHT(I108, 4)=\"Case\", \"\", IF(P108=\"\",\"\",IF(ISERROR(AY108),0,AY108)))","v":""},{"$f":"IF(RIGHT(I108, 4)=\"Case\", \"\", IF(H108=\"\",\"\",(G108*H108)*Q108/1000))","v":""},{"$f":"IF(RIGHT(I108, 4)=\"Case\", \"\", IF(P108=\"\",\"\",(N108*P108)*Q108/1000))","v":""},{"$f":"IF(RIGHT(I108, 4)=\"Case\", IF(LEFT(J108, 6)=\"Motion\", \"\", CK108*P108), IF(U108=\"\",\"\",IF(AND(ISNUMBER(U108),ISNUMBER(V108)),U108-V108,\"\")))","v":""},"","","",{"$f":"IF('100L Information'!$Z$5=\"Yes\",0,IF('100L Information'!$Z$4=\"Yes\",(MIN($Y$232-(-$Y$227),6000)*0.5)*(Y108/$Y$232),$Y$232*(Y108/($Y$230+$Y$231))))","v":{"$error":"#VALUE!"}},"",{"$error":"#VALUE!"},"No requirement",0,{"$f":"IF(OR(Z108=\"Does not meet requirement\",AND('100L Information'!$AA$21=\"No\",AL108=\"Y\"),AND('100L Information'!$AS$21=FALSE,AL108=\"Y\")),0,IF(ISNUMBER(R108*Incent_Cost_Fixture_Rx),MIN(R108*Incent_Cost_Fixture_Rx,(MAX(AE108,AK108))),0))","v":0},"FAIL","0","0","0",0,"N","0","0",null,"","",0,"",{"$f":"IF(RIGHT(I108,4)=\"Case\",W108,IF(AND(AL108=\"Y\",AF108<1),0,IF(OR(LEFT(D108,2)=\"T5\",LEFT(D108,3)=\"CFL\",'Analysis 103L'!AS108=\"Less\"),'Analysis 103L'!AR108,'Analysis 103L'!W108)))","v":""},null,0,0,null,{"$error":"#VALUE!"},{"$error":"#VALUE!"},{"$error":"#VALUE!"},null,null,{"$f":"IF(RIGHT(I108,4)=\"Case\",'LED Case Lighting'!$AY$1,IF(J108=\"\",\"\",VLOOKUP(J108,Lookups!$A$30:$J$149,VLOOKUP('100L Information'!$AI$46,Lookups!$J$3:$L$6,3,FALSE),FALSE)))","v":""},{"$error":"#N/A"},"","",{"$error":"#VALUE!"},{"$error":"#VALUE!"},{"$error":"#VALUE!"},{"$error":"#N/A"},0,{"$error":"#N/A"},0,{"$error":"#VALUE!"},{"$error":"#VALUE!"},{"$error":"#VALUE!"},"FAIL",null,null,null,null,null,null,null,"Interior / Exterior",null,"",null,{"$f":"IF(RIGHT(I108,4)=\"Case\",(INDEX('LED Case Lighting'!$AZ$3:$AZ$16,MATCH('Analysis 103L'!$CI108,'LED Case Lighting'!$AS$3:$AS$16,0))),IF(CB108=0,0,IF(CB108=\"lamp\",((Q108/VLOOKUP(B108,Int_Ext,2,FALSE))*VLOOKUP(E108,NEB,16,FALSE)),IF(CB108=\"fixture\",((Q108/VLOOKUP(B108,Int_Ext,2,FALSE))*VLOOKUP(E108,NEB,14,FALSE)),\"\"))))","v":""},null,{"$f":"IF(RIGHT(I108,4)=\"Case\",INDEX('Equipment Type'!$V$4:$V$53, MATCH('Analysis 103L'!$K108, 'Equipment Type'!$A$4:$A$53, 0)), \"\")","v":""},"","","",{"$f":"IF(CI108=\"\", \"\", IF(RIGHT(I108,4)=\"Case\", INDEX('LED Case Lighting'!$AR$3:$AR$16, MATCH('Analysis 103L'!CI108, 'LED Case Lighting'!$AS$3:$AS$16, 0)), \"\"))","v":""},{"$f":"IF(CI108=\"\",\"\",INDEX('LED Case Lighting'!$AW$3:$AW$16,MATCH('Analysis 103L'!CI108,'LED Case Lighting'!$AS$3:$AS$16,0)))","v":""},{"$f":"IF(CI108=\"\",\"\",INDEX('LED Case Lighting'!$AX$3:$AX$16,MATCH('Analysis 103L'!CI108,'LED Case Lighting'!$AS$3:$AS$16,0)))","v":""},""]
[82,null,null,null,null,null,"",null,{"$f":"IF(K109=\"\",\"\",VLOOKUP(K109,'Equipment Type'!$A$1:$F$53,5,FALSE))","v":""},{"$f":"IF(K109=\"\",\"\",VLOOKUP(K109,'Equipment Type'!$A$1:$F$53,6,FALSE))","v":""},null,{"$f":"IF(K109=\"\",\"\",VLOOKUP(K109,'Equipment Type'!$A$1:$F$53,4,FALSE))","v":""},null,{"$f":"IF(K109=\"\",\"\",INDEX('Equipment Type'!$T$4:$T$53,MATCH('Analysis 103L'!K109,'Equipment Type'!$A$4:$A$53,0)))","v":""},"",null,{"$f":"IF(RIGHT(I109, 4)=\"Case\", \"\", IF(P109=\"\",\"\",(IF(ISNUMBER(SEARCH(\"exit\",J109)),8760,IF(B109=\"Exterior\",4380,'Analysis 103L'!$J$3)))))","v":""},null,"","","","","","","","",{"$f":"IF('100L Information'!$Z$5=\"Yes\",0,IF('100L Information'!$Z$4=\"Yes\",(MIN($Y$232-(-$Y$227),6000)*0.5)*(Y109/$Y$232),$Y$232*(Y109/($Y$230+$Y$231))))","v":{"$error":"#VALUE!"}},"",{"$error":"#VALUE!"},"No requirement",0,{"$f":"IF(OR(Z109=\"Does not meet requirement\",AND('100L Information'!$AA$21=\"No\",AL109=\"Y\"),AND('100L Information'!$AS$21=FALSE,AL109=\"Y\")),0,IF(ISNUMBER(R109*Incent_Cost_Fixture_Rx),MIN(R109*Incent_Cost_Fixture_Rx,(MAX(AE109,AK109))),0))","v":0},"FAIL","0","0","0",0,"N","0","0",null,"","",0,"",{"$f":"IF(RIGHT(I109,4)=\"Case\",W109,IF(AND(AL109=\"Y\",AF109<1),0,IF(OR(LEFT(D109,2)=\"T5\",LEFT(D109,3)=\"CFL\",'Analysis 103L'!AS109=\"Less\"),'Analysis 103L'!AR109,'Analysis 103L'!W109)))","v":""},null,0,0,null,{"$error":"#VALUE!"},{"$error":"#VALUE!"},{"$error":"#VALUE!"},null,null,{"$f":"IF(RIGHT(I109,4)=\"Case\",'LED Case Lighting'!$AY$1,IF(J109=\"\",\"\",VLOOKUP(J109,Lookups!$A$30:$J$149,VLOOKUP('100L Information'!$AI$46,Lookups!$J$3:$L$6,3,FALSE),FALSE)))","v":""},{"$error":"#N/A"},"","",{"$error":"#VALUE!"},{"$error":"#VALUE!"},{"$error":"#VALUE!"},{"$error":"#N/A"},0,{"$error":"#N/A"},0,{"$error":"#VALUE!"},{"$error":"#VALUE!"},{"$error":"#VALUE!"},"FAIL",null,null,null,null,null,null,null,"Interior / Exterior",null,"",null,{"$f":"IF(RIGHT(I109,4)=\"Case\",(INDEX('LED Case Lighting'!$AZ$3:$AZ$16,MATCH('Analysis 103L'!$CI109,'LED Case Lighting'!$AS$3:$AS$16,0))),IF(CB109=0,0,IF(CB109=\"lamp\",((Q109/VLOOKUP(B109,Int_Ext,2,FALSE))*VLOOKUP(E109,NEB,16,FALSE)),IF(CB109=\"fixture\",((Q109/VLOOKUP(B109,Int_Ext,2,FALSE))*VLOOKUP(E109,NEB,14,FALSE)),\"\"))))","v":""},null,{"$f":"IF(RIGHT(I109,4)=\"Case\",INDEX('Equipment Type'!$V$4:$V$53, MATCH('Analysis 103L'!$K109, 'Equipment Type'!$A$4:$A$53, 0)), \"\")","v":""},"","","",{"$f":"IF(CI109=\"\", \"\", IF(RIGHT(I109,4)=\"Case\", INDEX('LED Case Lighting'!$AR$3:$AR$16, MATCH('Analysis 103L'!CI109, 'LED Case Lighting'!$AS$3:$AS$16, 0)), \"\"))","v":""},{"$f":"IF(CI109=\"\",\"\",INDEX('LED Case Lighting'!$AW$3:$AW$16,MATCH('Analysis 103L'!CI109,'LED Case Lighting'!$AS$3:$AS$16,0)))","v":""},{"$f":"IF(CI109=\"\",\"\",INDEX('LED Case Lighting'!$AX$3:$AX$16,MATCH('Analysis 103L'!CI109,'LED Case Lighting'!$AS$3:$AS$16,0)))","v":""},""]
[83,null,null,null,null,null,"",null,{"$f":"IF(K110=\"\",\"\",VLOOKUP(K110,'Equipment Type'!$A$1:$F$53,5,FALSE))","v":""},{"$f":"IF(K110=\"\",\"\",VLOOKUP(K110,'Equipment Type'!$A$1:$F$53,6,FALSE))","v":""},null,{"$f":"IF(K110=\"\",\"\",VLOOKUP(K110,'Equipment Type'!$A$1:$F$53,4,FALSE))","v":""},null,{"$f":"IF(K110=\"\",\"\",INDEX('Equipment Type'!$T$4:$T$53,MATCH('Analysis 103L'!K110,'Equipment Type'!$A$4:$A$53,0)))","v":""},"",null,{"$f":"IF(RIGHT(I110, 4)=\"Case\", \"\", IF(P110=\"\",\"\",(IF(ISNUMBER(SEARCH(\"exit\",J110)),8760,IF(B110=\"Exterior\",4380,'Analysis 103L'!$J$3)))))","v":""},null,"","","","","","","","",{"$f":"IF('100L Information'!$Z$5=\"Yes\",0,IF('100L Information'!$Z$4=\"Yes\",(MIN($Y$232-(-$Y$227),6000)*0.5)*(Y110/$Y$232),$Y$232*(Y110/($Y$230+$Y$231))))","v":{"$error":"#VALUE!"}},"",{"$error":"#VALUE!"},"No requirement",0,{"$f":"IF(OR(Z110=\"Does not meet requirement\",AND('100L Information'!$AA$21=\"No\",AL110=\"Y\"),AND('100L Information'!$AS$21=FALSE,AL110=\"Y\")),0,IF(ISNUMBER(R110*Incent_Cost_Fixture_Rx),MIN(R110*Incent_Cost_Fixture_Rx,(MAX(AE110,AK110))),0))","v":0},"FAIL","0","0","0",0,"N","0","0",null,"","",0,"",{"$f":"IF(RIGHT(I110,4)=\"Case\",W110,IF(AND(AL110=\"Y\",AF110<1),0,IF(OR(LEFT(D110,2)=\"T5\",LEFT(D110,3)=\"CFL\",'Analysis 103L'!AS110=\"Less\"),'Analysis 103L'!AR110,'Analysis 103L'!W110)))","v":""},null,0,0,null,{"$error":"#VALUE!"},{"$error":"#VALUE!"},{"$error":"#VALUE!"},null,null,{"$f":"IF(RIGHT(I110,4)=\"Case\",'LED Case Lighting'!$AY$1,IF(J110=\"\",\"\",VLOOKUP(J110,Lookups!$A$30:$J$149,VLOOKUP('100L Information'!$AI$46,Lookups!$J$3:$L$6,3,FALSE),FALSE)))","v":""},{"$error":"#N/A"},"","",{"$error":"#VALUE!"},{"$error":"#VALUE!"},{"$error":"#VALUE!"},{"$error":"#N/A"},0,{"$error":"#N/A"},0,{"$error":"#VALUE!"},{"$error":"#VALUE!"},{"$error":"#VALUE!"},"FAIL",null,null,null,null,null,null,null,"Interior / Exterior",null,"",null,{"$f":"IF(RIGHT(I110,4)=\"Case\",(INDEX('LED Case Lighting'!$AZ$3:$AZ$16,MATCH('Analysis 103L'!$CI110,'LED Case Lighting'!$AS$3:$AS$16,0))),IF(CB110=0,0,IF(CB110=\"lamp\",((Q110/VLOOKUP(B110,Int_Ext,2,FALSE))*VLOOKUP(E110,NEB,16,FALSE)),IF(CB110=\"fixture\",((Q110/VLOOKUP(B110,Int_Ext,2,FALSE))*VLOOKUP(E110,NEB,14,FALSE)),\"\"))))","v":""},null,{"$f":"IF(RIGHT(I110,4)=\"Case\",INDEX('Equipment Type'!$V$4:$V$53, MATCH('Analysis 103L'!$K110, 'Equipment Type'!$A$4:$A$53, 0)), \"\")","v":""},"","","",{"$f":"IF(CI110=\"\", \"\", IF(RIGHT(I110,4)=\"Case\", INDEX('LED Case Lighting'!$AR$3:$AR$16, MATCH('Analysis 103L'!CI110, 'LED Case Lighting'!$AS$3:$AS$16, 0)), \"\"))","v":""},{"$f":"IF(CI110=\"\",\"\",INDEX('LED Case Lighting'!$AW$3:$AW$16,MATCH('Analysis 103L'!CI110,'LED Case Lighting'!$AS$3:$AS$16,0)))","v":""},{"$f":"IF(CI110=\"\",\"\",INDEX('LED Case Lighting'!$AX$3:$AX$16,MATCH('Analysis 103L'!CI110,'LED Case Lighting'!$AS$3:$AS$16,0)))","v":""},""]
[84,null,null,null,null,null,"",null,{"$f":"IF(K111=\"\",\"\",VLOOKUP(K111,'Equipment Type'!$A$1:$F$53,5,FALSE))","v":""},{"$f":"IF(K111=\"\",\"\",VLOOKUP(K111,'Equipment Type'!$A$1:$F$53,6,FALSE))","v":""},null,{"$f":"IF(K111=\"\",\"\",VLOOKUP(K111,'Equipment Type'!$A$1:$F$53,4,FALSE))","v":""},null,{"$f":"IF(K111=\"\",\"\",INDEX('Equipment Type'!$T$4:$T$53,MATCH('Analysis 103L'!K111,'Equipment Type'!$A$4:$A$53,0)))","v":""},"",null,{"$f":"IF(RIGHT(I111, 4)=\"Case\", \"\", IF(P111=\"\",\"\",(IF(ISNUMBER(SEARCH(\"exit\",J111)),8760,IF(B111=\"Exterior\",4380,'Analysis 103L'!$J$3)))))","v":""},null,"","","","","","","","",{"$f":"IF('100L Information'!$Z$5=\"Yes\",0,IF('100L Information'!$Z$4=\"Yes\",(MIN($Y$232-(-$Y$227),6000)*0.5)*(Y111/$Y$232),$Y$232*(Y111/($Y$230+$Y$231))))","v":{"$error":"#VALUE!"}},"",{"$error":"#VALUE!"},"No requirement",0,{"$f":"IF(OR(Z111=\"Does not meet requirement\",AND('100L Information'!$AA$21=\"No\",AL111=\"Y\"),AND('100L Information'!$AS$21=FALSE,AL111=\"Y\")),0,IF(ISNUMBER(R111*Incent_Cost_Fixture_Rx),MIN(R111*Incent_Cost_Fixture_Rx,(MAX(AE111,AK111))),0))","v":0},"FAIL","0","0","0",0,"N","0","0",null,"","",0,"",{"$f":"IF(RIGHT(I111,4)=\"Case\",W111,IF(AND(AL111=\"Y\",AF111<1),0,IF(OR(LEFT(D111,2)=\"T5\",LEFT(D111,3)=\"CFL\",'Analysis 103L'!AS111=\"Less\"),'Analysis 103L'!AR111,'Analysis 103L'!W111)))","v":""},null,0,0,null,{"$error":"#VALUE!"},{"$error":"#VALUE!"},{"$error":"#VALUE!"},null,null,{"$f":"IF(RIGHT(I111,4)=\"Case\",'LED Case Lighting'!$AY$1,IF(J111=\"\",\"\",VLOOKUP(J111,Lookups!$A$30:$J$149,VLOOKUP('100L Information'!$AI$46,Lookups!$J$3:$L$6,3,FALSE),FALSE)))","v":""},{"$error":"#N/A"},"","",{"$error":"#VALUE!"},{"$error":"#VALUE!"},{"$error":"#VALUE!"},{"$error":"#N/A"},0,{"$error":"#N/A"},0,{"$error":"#VALUE!"},{"$error":"#VALUE!"},{"$error":"#VALUE!"},"FAIL",null,null,null,null,null,null,null,"Interior / Exterior",null,"",null,{"$f":"IF(RIGHT(I111,4)=\"Case\",(INDEX('LED Case Lighting'!$AZ$3:$AZ$16,MATCH('Analysis 103L'!$CI111,'LED Case Lighting'!$AS$3:$AS$16,0))),IF(CB111=0,0,IF(CB111=\"lamp\",((Q111/VLOOKUP(B111,Int_Ext,2,FALSE))*VLOOKUP(E111,NEB,16,FALSE)),IF(CB111=\"fixture\",((Q111/VLOOKUP(B111,Int_Ext,2,FALSE))*VLOOKUP(E111,NEB,14,FALSE)),\"\"))))","v":""},null,{"$f":"IF(RIGHT(I111,4)=\"Case\",INDEX('Equipment Type'!$V$4:$V$53, MATCH('Analysis 103L'!$K111, 'Equipment Type'!$A$4:$A$53, 0)), \"\")","v":""},"","","",{"$f":"IF(CI111=\"\", \"\", IF(RIGHT(I111,4)=\"Case\", INDEX('LED Case Lighting'!$AR$3:$AR$16, MATCH('Analysis 103L'!CI111, 'LED Case Lighting'!$AS$3:$AS$16, 0)), \"\"))","v":""},{"$f":"IF(CI111=\"\",\"\",INDEX('LED Case Lighting'!$AW$3:$AW$16,MATCH('Analysis 103L'!CI111,'LED Case Lighting'!$AS$3:$AS$16,0)))","v":""},{"$f":"IF(CI111=\"\",\"\",INDEX('LED Case Lighting'!$AX$3:$AX$16,MATCH('Analysis 103L'!CI111,'LED Case Lighting'!$AS$3:$AS$16,0)))","v":""},""]
[85,null,null,null,null,null,"",null,{"$f":"IF(K112=\"\",\"\",VLOOKUP(K112,'Equipment Type'!$A$1:$F$53,5,FALSE))","v":""},{"$f":"IF(K112=\"\",\"\",VLOOKUP(K112,'Equipment Type'!$A$1:$F$53,6,FALSE))","v":""},null,{"$f":"IF(K112=\"\",\"\",VLOOKUP(K112,'Equipment Type'!$A$1:$F$53,4,FALSE))","v":""},null,{"$f":"IF(K112=\"\",\"\",INDEX('Equipment Type'!$T$4:$T$53,MATCH('Analysis 103L'!K112,'Equipment Type'!$A$4:$A$53,0)))","v":""},"",null,{"$f":"IF(RIGHT(I112, 4)=\"Case\", \"\", IF(P112=\"\",\"\",(IF(ISNUMBER(SEARCH(\"exit\",J112)),8760,IF(B112=\"Exterior\",4380,'Analysis 103L'!$J$3)))))","v":""},null,"","","","","","","","",{"$f":"IF('100L Information'!$Z$5=\"Yes\",0,IF('100L Information'!$Z$4=\"Yes\",(MIN($Y$232-(-$Y$227),6000)*0.5)*(Y112/$Y$232),$Y$232*(Y112/($Y$230+$Y$231))))","v":{"$error":"#VALUE!"}},"",{"$error":"#VALUE!"},"No requirement",0,{"$f":"IF(OR(Z112=\"Does not meet requirement\",AND('100L Information'!$AA$21=\"No\",AL112=\"Y\"),AND('100L Information'!$AS$21=FALSE,AL112=\"Y\")),0,IF(ISNUMBER(R112*Incent_Cost_Fixture_Rx),MIN(R112*Incent_Cost_Fixture_Rx,(MAX(AE112,AK112))),0))","v":0},"FAIL","0","0","0",0,"N","0","0",null,"","",0,"",{"$f":"IF(RIGHT(I112,4)=\"Case\",W112,IF(AND(AL112=\"Y\",AF112<1),0,IF(OR(LEFT(D112,2)=\"T5\",LEFT(D112,3)=\"CFL\",'Analysis 103L'!AS112=\"Less\"),'Analysis 103L'!AR112,'Analysis 103L'!W112)))","v":""},null,0,0,null,{"$error":"#VALUE!"},{"$error":"#VALUE!"},{"$error":"#VALUE!"},null,null,{"$f":"IF(RIGHT(I112,4)=\"Case\",'LED Case Lighting'!$AY$1,IF(J112=\"\",\"\",VLOOKUP(J112,Lookups!$A$30:$J$149,VLOOKUP('100L Information'!$AI$46,Lookups!$J$3:$L$6,3,FALSE),FALSE)))","v":""},{"$error":"#N/A"},"","",{"$error":"#VALUE!"},{"$error":"#VALUE!"},{"$error":"#VALUE!"},{"$error":"#N/A"},0,{"$error":"#N/A"},0,{"$error":"#VALUE!"},{"$error":"#VALUE!"},{"$error":"#VALUE!"},"FAIL",null,null,null,null,null,null,null,"Interior / Exterior",null,"",null,{"$f":"IF(RIGHT(I112,4)=\"Case\",(INDEX('LED Case Lighting'!$AZ$3:$AZ$16,MATCH('Analysis 103L'!$CI112,'LED Case Lighting'!$AS$3:$AS$16,0))),IF(CB112=0,0,IF(CB112=\"lamp\",((Q112/VLOOKUP(B112,Int_Ext,2,FALSE))*VLOOKUP(E112,NEB,16,FALSE)),IF(CB112=\"fixture\",((Q112/VLOOKUP(B112,Int_Ext,2,FALSE))*VLOOKUP(E112,NEB,14,FALSE)),\"\"))))","v":""},null,{"$f":"IF(RIGHT(I112,4)=\"Case\",INDEX('Equipment Type'!$V$4:$V$53, MATCH('Analysis 103L'!$K112, 'Equipment Type'!$A$4:$A$53, 0)), \"\")","v":""},"","","",{"$f":"IF(CI112=\"\", \"\", IF(RIGHT(I112,4)=\"Case\", INDEX('LED Case Lighting'!$AR$3:$AR$16, MATCH('Analysis 103L'!CI112, 'LED Case Lighting'!$AS$3:$AS$16, 0)), \"\"))","v":""},{"$f":"IF(CI112=\"\",\"\",INDEX('LED Case Lighting'!$AW$3:$AW$16,MATCH('Analysis 103L'!CI112,'LED Case Lighting'!$AS$3:$AS$16,0)))","v":""},{"$f":"IF(CI112=\"\",\"\",INDEX('LED Case Lighting'!$AX$3:$AX$16,MATCH('Analysis 103L'!CI112,'LED Case Lighting'!$AS$3:$AS$16,0)))","v":""},""]
[86,null,null,null,null,null,"",null,{"$f":"IF(K113=\"\",\"\",VLOOKUP(K113,'Equipment Type'!$A$1:$F$53,5,FALSE))","v":""},{"$f":"IF(K113=\"\",\"\",VLOOKUP(K113,'Equipment Type'!$A$1:$F$53,6,FALSE))","v":""},null,{"$f":"IF(K113=\"\",\"\",VLOOKUP(K113,'Equipment Type'!$A$1:$F$53,4,FALSE))","v":""},null,{"$f":"IF(K113=\"\",\"\",INDEX('Equipment Type'!$T$4:$T$53,MATCH('Analysis 103L'!K113,'Equipment Type'!$A$4:$A$53,0)))","v":""},"",null,{"$f":"IF(RIGHT(I113, 4)=\"Case\", \"\", IF(P113=\"\",\"\",(IF(ISNUMBER(SEARCH(\"exit\",J113)),8760,IF(B113=\"Exterior\",4380,'Analysis 103L'!$J$3)))))","v":""},null,"","","","","","","","",{"$f":"IF('100L Information'!$Z$5=\"Yes\",0,IF('100L Information'!$Z$4=\"Yes\",(MIN($Y$232-(-$Y$227),6000)*0.5)*(Y113/$Y$232),$Y$232*(Y113/($Y$230+$Y$231))))","v":{"$error":"#VALUE!"}},"",{"$error":"#VALUE!"},"No requirement",0,{"$f":"IF(OR(Z113=\"Does not meet requirement\",AND('100L Information'!$AA$21=\"No\",AL113=\"Y\"),AND('100L Information'!$AS$21=FALSE,AL113=\"Y\")),0,IF(ISNUMBER(R113*Incent_Cost_Fixture_Rx),MIN(R113*Incent_Cost_Fixture_Rx,(MAX(AE113,AK113))),0))","v":0},"FAIL","0","0","0",0,"N","0","0",null,"","",0,"",{"$f":"IF(RIGHT(I113,4)=\"Case\",W113,IF(AND(AL113=\"Y\",AF113<1),0,IF(OR(LEFT(D113,2)=\"T5\",LEFT(D113,3)=\"CFL\",'Analysis 103L'!AS113=\"Less\"),'Analysis 103L'!AR113,'Analysis 103L'!W113)))","v":""},null,0,0,null,{"$error":"#VALUE!"},{"$error":"#VALUE!"},{"$error":"#VALUE!"},null,null,{"$f":"IF(RIGHT(I113,4)=\"Case\",'LED Case Lighting'!$AY$1,IF(J113=\"\",\"\",VLOOKUP(J113,Lookups!$A$30:$J$149,VLOOKUP('100L Information'!$AI$46,Lookups!$J$3:$L$6,3,FALSE),FALSE)))","v":""},{"$error":"#N/A"},"","",{"$error":"#VALUE!"},{"$error":"#VALUE!"},{"$error":"#VALUE!"},{"$error":"#N/A"},0,{"$error":"#N/A"},0,{"$error":"#VALUE!"},{"$error":"#VALUE!"},{"$error":"#VALUE!"},"FAIL",null,null,null,null,null,null,null,"Interior / Exterior",null,"",null,{"$f":"IF(RIGHT(I113,4)=\"Case\",(INDEX('LED Case Lighting'!$AZ$3:$AZ$16,MATCH('Analysis 103L'!$CI113,'LED Case Lighting'!$AS$3:$AS$16,0))),IF(CB113=0,0,IF(CB113=\"lamp\",((Q113/VLOOKUP(B113,Int_Ext,2,FALSE))*VLOOKUP(E113,NEB,16,FALSE)),IF(CB113=\"fixture\",((Q113/VLOOKUP(B113,Int_Ext,2,FALSE))*VLOOKUP(E113,NEB,14,FALSE)),\"\"))))","v":""},null,{"$f":"IF(RIGHT(I113,4)=\"Case\",INDEX('Equipment Type'!$V$4:$V$53, MATCH('Analysis 103L'!$K113, 'Equipment Type'!$A$4:$A$53, 0)), \"\")","v":""},{"$f":"IF(LEFT(D113,3)=\"T12\",\"T12\",IF(OR(LEFT(D113,2)=\"T8\",(LEFT(D113,2)=\"T5\")),\"T8\",\"\"))","v":""},"","",{"$f":"IF(CI113=\"\", \"\", IF(RIGHT(I113,4)=\"Case\", INDEX('LED Case Lighting'!$AR$3:$AR$16, MATCH('Analysis 103L'!CI113, 'LED Case Lighting'!$AS$3:$AS$16, 0)), \"\"))","v":""},{"$f":"IF(CI113=\"\",\"\",INDEX('LED Case Lighting'!$AW$3:$AW$16,MATCH('Analysis 103L'!CI113,'LED Case Lighting'!$AS$3:$AS$16,0)))","v":""},{"$f":"IF(CI113=\"\",\"\",INDEX('LED Case Lighting'!$AX$3:$AX$16,MATCH('Analysis 103L'!CI113,'LED Case Lighting'!$AS$3:$AS$16,0)))","v":""},""]
[87,null,null,null,null,null,"",null,{"$f":"IF(K114=\"\",\"\",VLOOKUP(K114,'Equipment Type'!$A$1:$F$53,5,FALSE))","v":""},{"$f":"IF(K114=\"\",\"\",VLOOKUP(K114,'Equipment Type'!$A$1:$F$53,6,FALSE))","v":""},null,{"$f":"IF(K114=\"\",\"\",VLOOKUP(K114,'Equipment Type'!$A$1:$F$53,4,FALSE))","v":""},null,{"$f":"IF(K114=\"\",\"\",INDEX('Equipment Type'!$T$4:$T$53,MATCH('Analysis 103L'!K114,'Equipment Type'!$A$4:$A$53,0)))","v":""},"",null,{"$f":"IF(RIGHT(I114, 4)=\"Case\", \"\", IF(P114=\"\",\"\",(IF(ISNUMBER(SEARCH(\"exit\",J114)),8760,IF(B114=\"Exterior\",4380,'Analysis 103L'!$J$3)))))","v":""},null,"","","","","","","","",{"$f":"IF('100L Information'!$Z$5=\"Yes\",0,IF('100L Information'!$Z$4=\"Yes\",(MIN($Y$232-(-$Y$227),6000)*0.5)*(Y114/$Y$232),$Y$232*(Y114/($Y$230+$Y$231))))","v":{"$error":"#VALUE!"}},"",{"$error":"#VALUE!"},"No requirement",0,{"$f":"IF(OR(Z114=\"Does not meet requirement\",AND('100L Information'!$AA$21=\"No\",AL114=\"Y\"),AND('100L Information'!$AS$21=FALSE,AL114=\"Y\")),0,IF(ISNUMBER(R114*Incent_Cost_Fixture_Rx),MIN(R114*Incent_Cost_Fixture_Rx,(MAX(AE114,AK114))),0))","v":0},"FAIL","0","0","0",0,"N","0","0",null,"","",0,"",{"$f":"IF(RIGHT(I114,4)=\"Case\",W114,IF(AND(AL114=\"Y\",AF114<1),0,IF(OR(LEFT(D114,2)=\"T5\",LEFT(D114,3)=\"CFL\",'Analysis 103L'!AS114=\"Less\"),'Analysis 103L'!AR114,'Analysis 103L'!W114)))","v":""},null,0,0,null,{"$error":"#VALUE!"},{"$error":"#VALUE!"},{"$error":"#VALUE!"},null,null,{"$f":"IF(RIGHT(I114,4)=\"Case\",'LED Case Lighting'!$AY$1,IF(J114=\"\",\"\",VLOOKUP(J114,Lookups!$A$30:$J$149,VLOOKUP('100L Information'!$AI$46,Lookups!$J$3:$L$6,3,FALSE),FALSE)))","v":""},{"$error":"#N/A"},"","",{"$error":"#VALUE!"},{"$error":"#VALUE!"},{"$error":"#VALUE!"},{"$error":"#N/A"},0,{"$error":"#N/A"},0,{"$error":"#VALUE!"},{"$error":"#VALUE!"},{"$error":"#VALUE!"},"FAIL",null,null,null,null,null,null,null,"Interior / Exterior",null,"",null,{"$f":"IF(RIGHT(I114,4)=\"Case\",(INDEX('LED Case Lighting'!$AZ$3:$AZ$16,MATCH('Analysis 103L'!$CI114,'LED Case Lighting'!$AS$3:$AS$16,0))),IF(CB114=0,0,IF(CB114=\"lamp\",((Q114/VLOOKUP(B114,Int_Ext,2,FALSE))*VLOOKUP(E114,NEB,16,FALSE)),IF(CB114=\"fixture\",((Q114/VLOOKUP(B114,Int_Ext,2,FALSE))*VLOOKUP(E114,NEB,14,FALSE)),\"\"))))","v":""},null,{"$f":"IF(RIGHT(I114,4)=\"Case\",INDEX('Equipment Type'!$V$4:$V$53, MATCH('Analysis 103L'!$K114, 'Equipment Type'!$A$4:$A$53, 0)), \"\")","v":""},"","","",{"$f":"IF(CI114=\"\", \"\", IF(RIGHT(I114,4)=\"Case\", INDEX('LED Case Lighting'!$AR$3:$AR$16, MATCH('Analysis 103L'!CI114, 'LED Case Lighting'!$AS$3:$AS$16, 0)), \"\"))","v":""},{"$f":"IF(CI114=\"\",\"\",INDEX('LED Case Lighting'!$AW$3:$AW$16,MATCH('Analysis 103L'!CI114,'LED Case Lighting'!$AS$3:$AS$16,0)))","v":""},{"$f":"IF(CI114=\"\",\"\",INDEX('LED Case Lighting'!$AX$3:$AX$16,MATCH('Analysis 103L'!CI114,'LED Case Lighting'!$AS$3:$AS$16,0)))","v":""},""]
[88,null,null,null,null,null,"",null,{"$f":"IF(K115=\"\",\"\",VLOOKUP(K115,'Equipment Type'!$A$1:$F$53,5,FALSE))","v":""},{"$f":"IF(K115=\"\",\"\",VLOOKUP(K115,'Equipment Type'!$A$1:$F$53,6,FALSE))","v":""},null,{"$f":"IF(K115=\"\",\"\",VLOOKUP(K115,'Equipment Type'!$A$1:$F$53,4,FALSE))","v":""},null,{"$f":"IF(K115=\"\",\"\",INDEX('Equipment Type'!$T$4:$T$53,MATCH('Analysis 103L'!K115,'Equipment Type'!$A$4:$A$53,0)))","v":""},"",null,{"$f":"IF(RIGHT(I115, 4)=\"Case\", \"\", IF(P115=\"\",\"\",(IF(ISNUMBER(SEARCH(\"exit\",J115)),8760,IF(B115=\"Exterior\",4380,'Analysis 103L'!$J$3)))))","v":""},null,"","","","","","","","",{"$f":"IF('100L Information'!$Z$5=\"Yes\",0,IF('100L Information'!$Z$4=\"Yes\",(MIN($Y$232-(-$Y$227),6000)*0.5)*(Y115/$Y$232),$Y$232*(Y115/($Y$230+$Y$231))))","v":{"$error":"#VALUE!"}},"",{"$error":"#VALUE!"},"No requirement",0,{"$f":"IF(OR(Z115=\"Does not meet requirement\",AND('100L Information'!$AA$21=\"No\",AL115=\"Y\"),AND('100L Information'!$AS$21=FALSE,AL115=\"Y\")),0,IF(ISNUMBER(R115*Incent_Cost_Fixture_Rx),MIN(R115*Incent_Cost_Fixture_Rx,(MAX(AE115,AK115))),0))","v":0},"FAIL","0","0","0",0,"N","0","0",null,"","",0,"",{"$f":"IF(RIGHT(I115,4)=\"Case\",W115,IF(AND(AL115=\"Y\",AF115<1),0,IF(OR(LEFT(D115,2)=\"T5\",LEFT(D115,3)=\"CFL\",'Analysis 103L'!AS115=\"Less\"),'Analysis 103L'!AR115,'Analysis 103L'!W115)))","v":""},null,0,0,null,{"$error":"#VALUE!"},{"$error":"#VALUE!"},{"$error":"#VALUE!"},null,null,{"$f":"IF(RIGHT(I115,4)=\"Case\",'LED Case Lighting'!$AY$1,IF(J115=\"\",\"\",VLOOKUP(J115,Lookups!$A$30:$J$149,VLOOKUP('100L Information'!$AI$46,Lookups!$J$3:$L$6,3,FALSE),FALSE)))","v":""},{"$error":"#N/A"},"","",{"$error":"#VALUE!"},{"$error":"#VALUE!"},{"$error":"#VALUE!"},{"$error":"#N/A"},0,{"$error":"#N/A"},0,{"$error":"#VALUE!"},{"$error":"#VALUE!"},{"$error":"#VALUE!"},"FAIL",null,null,null,null,null,null,null,"Interior / Exterior",null,"",null,{"$f":"IF(RIGHT(I115,4)=\"Case\",(INDEX('LED Case Lighting'!$AZ$3:$AZ$16,MATCH('Analysis 103L'!$CI115,'LED Case Lighting'!$AS$3:$AS$16,0))),IF(CB115=0,0,IF(CB115=\"lamp\",((Q115/VLOOKUP(B115,Int_Ext,2,FALSE))*VLOOKUP(E115,NEB,16,FALSE)),IF(CB115=\"fixture\",((Q115/VLOOKUP(B115,Int_Ext,2,FALSE))*VLOOKUP(E115,NEB,14,FALSE)),\"\"))))","v":""},null,{"$f":"IF(RIGHT(I115,4)=\"Case\",INDEX('Equipment Type'!$V$4:$V$53, MATCH('Analysis 103L'!$K115, 'Equipment Type'!$A$4:$A$53, 0)), \"\")","v":""},"","","",{"$f":"IF(CI115=\"\", \"\", IF(RIGHT(I115,4)=\"Case\", INDEX('LED Case Lighting'!$AR$3:$AR$16, MATCH('Analysis 103L'!CI115, 'LED Case Lighting'!$AS$3:$AS$16, 0)), \"\"))","v":""},{"$f":"IF(CI115=\"\",\"\",INDEX('LED Case Lighting'!$AW$3:$AW$16,MATCH('Analysis 103L'!CI115,'LED Case Lighting'!$AS$3:$AS$16,0)))","v":""},{"$f":"IF(CI115=\"\",\"\",INDEX('LED Case Lighting'!$AX$3:$AX$16,MATCH('Analysis 103L'!CI115,'LED Case Lighting'!$AS$3:$AS$16,0)))","v":""},""]
[89,null,null,null,null,null,"",null,{"$f":"IF(K116=\"\",\"\",VLOOKUP(K116,'Equipment Type'!$A$1:$F$53,5,FALSE))","v":""},{"$f":"IF(K116=\"\",\"\",VLOOKUP(K116,'Equipment Type'!$A$1:$F$53,6,FALSE))","v":""},null,{"$f":"IF(K116=\"\",\"\",VLOOKUP(K116,'Equipment Type'!$A$1:$F$53,4,FALSE))","v":""},null,{"$f":"IF(K116=\"\",\"\",INDEX('Equipment Type'!$T$4:$T$53,MATCH('Analysis 103L'!K116,'Equipment Type'!$A$4:$A$53,0)))","v":""},"",null,{"$f":"IF(RIGHT(I116, 4)=\"Case\", \"\", IF(P116=\"\",\"\",(IF(ISNUMBER(SEARCH(\"exit\",J116)),8760,IF(B116=\"Exterior\",4380,'Analysis 103L'!$J$3)))))","v":""},null,"","","","","","","","",{"$f":"IF('100L Information'!$Z$5=\"Yes\",0,IF('100L Information'!$Z$4=\"Yes\",(MIN($Y$232-(-$Y$227),6000)*0.5)*(Y116/$Y$232),$Y$232*(Y116/($Y$230+$Y$231))))","v":{"$error":"#VALUE!"}},"",{"$error":"#VALUE!"},"No requirement",0,{"$f":"IF(OR(Z116=\"Does not meet requirement\",AND('100L Information'!$AA$21=\"No\",AL116=\"Y\"),AND('100L Information'!$AS$21=FALSE,AL116=\"Y\")),0,IF(ISNUMBER(R116*Incent_Cost_Fixture_Rx),MIN(R116*Incent_Cost_Fixture_Rx,(MAX(AE116,AK116))),0))","v":0},"FAIL","0","0","0",0,"N","0","0",null,"","",0,"",{"$f":"IF(RIGHT(I116,4)=\"Case\",W116,IF(AND(AL116=\"Y\",AF116<1),0,IF(OR(LEFT(D116,2)=\"T5\",LEFT(D116,3)=\"CFL\",'Analysis 103L'!AS116=\"Less\"),'Analysis 103L'!AR116,'Analysis 103L'!W116)))","v":""},null,0,0,null,{"$error":"#VALUE!"},{"$error":"#VALUE!"},{"$error":"#VALUE!"},null,null,{"$f":"IF(RIGHT(I116,4)=\"Case\",'LED Case Lighting'!$AY$1,IF(J116=\"\",\"\",VLOOKUP(J116,Lookups!$A$30:$J$149,VLOOKUP('100L Information'!$AI$46,Lookups!$J$3:$L$6,3,FALSE),FALSE)))","v":""},{"$error":"#N/A"},"","",{"$error":"#VALUE!"},{"$error":"#VALUE!"},{"$error":"#VALUE!"},{"$error":"#N/A"},0,{"$error":"#N/A"},0,{"$error":"#VALUE!"},{"$error":"#VALUE!"},{"$error":"#VALUE!"},"FAIL",null,null,null,null,null,null,null,"Interior / Exterior",null,"",null,{"$f":"IF(RIGHT(I116,4)=\"Case\",(INDEX('LED Case Lighting'!$AZ$3:$AZ$16,MATCH('Analysis 103L'!$CI116,'LED Case Lighting'!$AS$3:$AS$16,0))),IF(CB116=0,0,IF(CB116=\"lamp\",((Q116/VLOOKUP(B116,Int_Ext,2,FALSE))*VLOOKUP(E116,NEB,16,FALSE)),IF(CB116=\"fixture\",((Q116/VLOOKUP(B116,Int_Ext,2,FALSE))*VLOOKUP(E116,NEB,14,FALSE)),\"\"))))","v":""},null,{"$f":"IF(RIGHT(I116,4)=\"Case\",INDEX('Equipment Type'!$V$4:$V$53, MATCH('Analysis 103L'!$K116, 'Equipment Type'!$A$4:$A$53, 0)), \"\")","v":""},"","","",{"$f":"IF(CI116=\"\", \"\", IF(RIGHT(I116,4)=\"Case\", INDEX('LED Case Lighting'!$AR$3:$AR$16, MATCH('Analysis 103L'!CI116, 'LED Case Lighting'!$AS$3:$AS$16, 0)), \"\"))","v":""},{"$f":"IF(CI116=\"\",\"\",INDEX('LED Case Lighting'!$AW$3:$AW$16,MATCH('Analysis 103L'!CI116,'LED Case Lighting'!$AS$3:$AS$16,0)))","v":""},{"$f":"IF(CI116=\"\",\"\",INDEX('LED Case Lighting'!$AX$3:$AX$16,MATCH('Analysis 103L'!CI116,'LED Case Lighting'!$AS$3:$AS$16,0)))","v":""},""]
[90,null,null,null,null,null,"",null,{"$f":"IF(K117=\"\",\"\",VLOOKUP(K117,'Equipment Type'!$A$1:$F$53,5,FALSE))","v":""},{"$f":"IF(K117=\"\",\"\",VLOOKUP(K117,'Equipment Type'!$A$1:$F$53,6,FALSE))","v":""},null,{"$f":"IF(K117=\"\",\"\",VLOOKUP(K117,'Equipment Type'!$A$1:$F$53,4,FALSE))","v":""},null,{"$f":"IF(K117=\"\",\"\",INDEX('Equipment Type'!$T$4:$T$53,MATCH('Analysis 103L'!K117,'Equipment Type'!$A$4:$A$53,0)))","v":""},"",null,{"$f":"IF(RIGHT(I117, 4)=\"Case\", \"\", IF(P117=\"\",\"\",(IF(ISNUMBER(SEARCH(\"exit\",J117)),8760,IF(B117=\"Exterior\",4380,'Analysis 103L'!$J$3)))))","v":""},null,"","","","","","","","",{"$f":"IF('100L Information'!$Z$5=\"Yes\",0,IF('100L Information'!$Z$4=\"Yes\",(MIN($Y$232-(-$Y$227),6000)*0.5)*(Y117/$Y$232),$Y$232*(Y117/($Y$230+$Y$231))))","v":{"$error":"#VALUE!"}},"",{"$error":"#VALUE!"},"No requirement",0,{"$f":"IF(OR(Z117=\"Does not meet requirement\",AND('100L Information'!$AA$21=\"No\",AL117=\"Y\"),AND('100L Information'!$AS$21=FALSE,AL117=\"Y\")),0,IF(ISNUMBER(R117*Incent_Cost_Fixture_Rx),MIN(R117*Incent_Cost_Fixture_Rx,(MAX(AE117,AK117))),0))","v":0},"FAIL","0","0","0",0,"N","0","0",null,"","",0,"",{"$f":"IF(RIGHT(I117,4)=\"Case\",W117,IF(AND(AL117=\"Y\",AF117<1),0,IF(OR(LEFT(D117,2)=\"T5\",LEFT(D117,3)=\"CFL\",'Analysis 103L'!AS117=\"Less\"),'Analysis 103L'!AR117,'Analysis 103L'!W117)))","v":""},null,0,0,null,{"$error":"#VALUE!"},{"$error":"#VALUE!"},{"$error":"#VALUE!"},null,null,{"$f":"IF(RIGHT(I117,4)=\"Case\",'LED Case Lighting'!$AY$1,IF(J117=\"\",\"\",VLOOKUP(J117,Lookups!$A$30:$J$149,VLOOKUP('100L Information'!$AI$46,Lookups!$J$3:$L$6,3,FALSE),FALSE)))","v":""},{"$error":"#N/A"},"","",{"$error":"#VALUE!"},{"$error":"#VALUE!"},{"$error":"#VALUE!"},{"$error":"#N/A"},0,{"$error":"#N/A"},0,{"$error":"#VALUE!"},{"$error":"#VALUE!"},{"$error":"#VALUE!"},"FAIL",null,null,null,null,null,null,null,"Interior / Exterior",null,"",null,{"$f":"IF(RIGHT(I117,4)=\"Case\",(INDEX('LED Case Lighting'!$AZ$3:$AZ$16,MATCH('Analysis 103L'!$CI117,'LED Case Lighting'!$AS$3:$AS$16,0))),IF(CB117=0,0,IF(CB117=\"lamp\",((Q117/VLOOKUP(B117,Int_Ext,2,FALSE))*VLOOKUP(E117,NEB,16,FALSE)),IF(CB117=\"fixture\",((Q117/VLOOKUP(B117,Int_Ext,2,FALSE))*VLOOKUP(E117,NEB,14,FALSE)),\"\"))))","v":""},null,{"$f":"IF(RIGHT(I117,4)=\"Case\",INDEX('Equipment Type'!$V$4:$V$53, MATCH('Analysis 103L'!$K117, 'Equipment Type'!$A$4:$A$53, 0)), \"\")","v":""},"","","",{"$f":"IF(CI117=\"\", \"\", IF(RIGHT(I117,4)=\"Case\", INDEX('LED Case Lighting'!$AR$3:$AR$16, MATCH('Analysis 103L'!CI117, 'LED Case Lighting'!$AS$3:$AS$16, 0)), \"\"))","v":""},{"$f":"IF(CI117=\"\",\"\",INDEX('LED Case Lighting'!$AW$3:$AW$16,MATCH('Analysis 103L'!CI117,'LED Case Lighting'!$AS$3:$AS$16,0)))","v":""},{"$f":"IF(CI117=\"\",\"\",INDEX('LED Case Lighting'!$AX$3:$AX$16,MATCH('Analysis 103L'!CI117,'LED Case Lighting'!$AS$3:$AS$16,0)))","v":""},""]
[91,null,null,null,null,null,"",null,{"$f":"IF(K118=\"\",\"\",VLOOKUP(K118,'Equipment Type'!$A$1:$F$53,5,FALSE))","v":""},{"$f":"IF(K118=\"\",\"\",VLOOKUP(K118,'Equipment Type'!$A$1:$F$53,6,FALSE))","v":""},null,{"$f":"IF(K118=\"\",\"\",VLOOKUP(K118,'Equipment Type'!$A$1:$F$53,4,FALSE))","v":""},null,{"$f":"IF(K118=\"\",\"\",INDEX('Equipment Type'!$T$4:$T$53,MATCH('Analysis 103L'!K118,'Equipment Type'!$A$4:$A$53,0)))","v":""},"",null,{"$f":"IF(RIGHT(I118, 4)=\"Case\", \"\", IF(P118=\"\",\"\",(IF(ISNUMBER(SEARCH(\"exit\",J118)),8760,IF(B118=\"Exterior\",4380,'Analysis 103L'!$J$3)))))","v":""},null,"","","","","","","","",{"$f":"IF('100L Information'!$Z$5=\"Yes\",0,IF('100L Information'!$Z$4=\"Yes\",(MIN($Y$232-(-$Y$227),6000)*0.5)*(Y118/$Y$232),$Y$232*(Y118/($Y$230+$Y$231))))","v":{"$error":"#VALUE!"}},"",{"$error":"#VALUE!"},"No requirement",0,{"$f":"IF(OR(Z118=\"Does not meet requirement\",AND('100L Information'!$AA$21=\"No\",AL118=\"Y\"),AND('100L Information'!$AS$21=FALSE,AL118=\"Y\")),0,IF(ISNUMBER(R118*Incent_Cost_Fixture_Rx),MIN(R118*Incent_Cost_Fixture_Rx,(MAX(AE118,AK118))),0))","v":0},"FAIL","0","0","0",0,"N","0","0",null,"","",0,"",{"$f":"IF(RIGHT(I118,4)=\"Case\",W118,IF(AND(AL118=\"Y\",AF118<1),0,IF(OR(LEFT(D118,2)=\"T5\",LEFT(D118,3)=\"CFL\",'Analysis 103L'!AS118=\"Less\"),'Analysis 103L'!AR118,'Analysis 103L'!W118)))","v":""},null,0,0,null,{"$error":"#VALUE!"},{"$error":"#VALUE!"},{"$error":"#VALUE!"},null,null,{"$f":"IF(RIGHT(I118,4)=\"Case\",'LED Case Lighting'!$AY$1,IF(J118=\"\",\"\",VLOOKUP(J118,Lookups!$A$30:$J$149,VLOOKUP('100L Information'!$AI$46,Lookups!$J$3:$L$6,3,FALSE),FALSE)))","v":""},{"$error":"#N/A"},"","",{"$error":"#VALUE!"},{"$error":"#VALUE!"},{"$error":"#VALUE!"},{"$error":"#N/A"},0,{"$error":"#N/A"},0,{"$error":"#VALUE!"},{"$error":"#VALUE!"},{"$error":"#VALUE!"},"FAIL",null,null,null,null,null,null,null,"Interior / Exterior",null,"",null,{"$f":"IF(RIGHT(I118,4)=\"Case\",(INDEX('LED Case Lighting'!$AZ$3:$AZ$16,MATCH('Analysis 103L'!$CI118,'LED Case Lighting'!$AS$3:$AS$16,0))),IF(CB118=0,0,IF(CB118=\"lamp\",((Q118/VLOOKUP(B118,Int_Ext,2,FALSE))*VLOOKUP(E118,NEB,16,FALSE)),IF(CB118=\"fixture\",((Q118/VLOOKUP(B118,Int_Ext,2,FALSE))*VLOOKUP(E118,NEB,14,FALSE)),\"\"))))","v":""},null,{"$f":"IF(RIGHT(I118,4)=\"Case\",INDEX('Equipment Type'!$V$4:$V$53, MATCH('Analysis 103L'!$K118, 'Equipment Type'!$A$4:$A$53, 0)), \"\")","v":""},"","","",{"$f":"IF(CI118=\"\", \"\", IF(RIGHT(I118,4)=\"Case\", INDEX('LED Case Lighting'!$AR$3:$AR$16, MATCH('Analysis 103L'!CI118, 'LED Case Lighting'!$AS$3:$AS$16, 0)), \"\"))","v":""},{"$f":"IF(CI118=\"\",\"\",INDEX('LED Case Lighting'!$AW$3:$AW$16,MATCH('Analysis 103L'!CI118,'LED Case Lighting'!$AS$3:$AS$16,0)))","v":""},{"$f":"IF(CI118=\"\",\"\",INDEX('LED Case Lighting'!$AX$3:$AX$16,MATCH('Analysis 103L'!CI118,'LED Case Lighting'!$AS$3:$AS$16,0)))","v":""},""]
[92,null,null,null,null,null,"",null,{"$f":"IF(K119=\"\",\"\",VLOOKUP(K119,'Equipment Type'!$A$1:$F$53,5,FALSE))","v":""},{"$f":"IF(K119=\"\",\"\",VLOOKUP(K119,'Equipment Type'!$A$1:$F$53,6,FALSE))","v":""},null,{"$f":"IF(K119=\"\",\"\",VLOOKUP(K119,'Equipment Type'!$A$1:$F$53,4,FALSE))","v":""},null,{"$f":"IF(K119=\"\",\"\",INDEX('Equipment Type'!$T$4:$T$53,MATCH('Analysis 103L'!K119,'Equipment Type'!$A$4:$A$53,0)))","v":""},"",null,{"$f":"IF(RIGHT(I119, 4)=\"Case\", \"\", IF(P119=\"\",\"\",(IF(ISNUMBER(SEARCH(\"exit\",J119)),8760,IF(B119=\"Exterior\",4380,'Analysis 103L'!$J$3)))))","v":""},null,"","","","","","","","",{"$f":"IF('100L Information'!$Z$5=\"Yes\",0,IF('100L Information'!$Z$4=\"Yes\",(MIN($Y$232-(-$Y$227),6000)*0.5)*(Y119/$Y$232),$Y$232*(Y119/($Y$230+$Y$231))))","v":{"$error":"#VALUE!"}},"",{"$error":"#VALUE!"},"No requirement",0,{"$f":"IF(OR(Z119=\"Does not meet requirement\",AND('100L Information'!$AA$21=\"No\",AL119=\"Y\"),AND('100L Information'!$AS$21=FALSE,AL119=\"Y\")),0,IF(ISNUMBER(R119*Incent_Cost_Fixture_Rx),MIN(R119*Incent_Cost_Fixture_Rx,(MAX(AE119,AK119))),0))","v":0},"FAIL","0","0","0",0,"N","0","0",null,"","",0,"",{"$f":"IF(RIGHT(I119,4)=\"Case\",W119,IF(AND(AL119=\"Y\",AF119<1),0,IF(OR(LEFT(D119,2)=\"T5\",LEFT(D119,3)=\"CFL\",'Analysis 103L'!AS119=\"Less\"),'Analysis 103L'!AR119,'Analysis 103L'!W119)))","v":""},null,0,0,null,{"$error":"#VALUE!"},{"$error":"#VALUE!"},{"$error":"#VALUE!"},null,null,{"$f":"IF(RIGHT(I119,4)=\"Case\",'LED Case Lighting'!$AY$1,IF(J119=\"\",\"\",VLOOKUP(J119,Lookups!$A$30:$J$149,VLOOKUP('100L Information'!$AI$46,Lookups!$J$3:$L$6,3,FALSE),FALSE)))","v":""},{"$error":"#N/A"},"","",{"$error":"#VALUE!"},{"$error":"#VALUE!"},{"$error":"#VALUE!"},{"$error":"#N/A"},0,{"$error":"#N/A"},0,{"$error":"#VALUE!"},{"$error":"#VALUE!"},{"$error":"#VALUE!"},"FAIL",null,null,null,null,null,null,null,"Interior / Exterior",null,"",null,{"$f":"IF(RIGHT(I119,4)=\"Case\",(INDEX('LED Case Lighting'!$AZ$3:$AZ$16,MATCH('Analysis 103L'!$CI119,'LED Case Lighting'!$AS$3:$AS$16,0))),IF(CB119=0,0,IF(CB119=\"lamp\",((Q119/VLOOKUP(B119,Int_Ext,2,FALSE))*VLOOKUP(E119,NEB,16,FALSE)),IF(CB119=\"fixture\",((Q119/VLOOKUP(B119,Int_Ext,2,FALSE))*VLOOKUP(E119,NEB,14,FALSE)),\"\"))))","v":""},null,{"$f":"IF(RIGHT(I119,4)=\"Case\",INDEX('Equipment Type'!$V$4:$V$53, MATCH('Analysis 103L'!$K119, 'Equipment Type'!$A$4:$A$53, 0)), \"\")","v":""},"","","",{"$f":"IF(CI119=\"\", \"\", IF(RIGHT(I119,4)=\"Case\", INDEX('LED Case Lighting'!$AR$3:$AR$16, MATCH('Analysis 103L'!CI119, 'LED Case Lighting'!$AS$3:$AS$16, 0)), \"\"))","v":""},{"$f":"IF(CI119=\"\",\"\",INDEX('LED Case Lighting'!$AW$3:$AW$16,MATCH('Analysis 103L'!CI119,'LED Case Lighting'!$AS$3:$AS$16,0)))","v":""},{"$f":"IF(CI119=\"\",\"\",INDEX('LED Case Lighting'!$AX$3:$AX$16,MATCH('Analysis 103L'!CI119,'LED Case Lighting'!$AS$3:$AS$16,0)))","v":""},""]
[93,null,null,null,null,null,"",null,{"$f":"IF(K120=\"\",\"\",VLOOKUP(K120,'Equipment Type'!$A$1:$F$53,5,FALSE))","v":""},{"$f":"IF(K120=\"\",\"\",VLOOKUP(K120,'Equipment Type'!$A$1:$F$53,6,FALSE))","v":""},null,{"$f":"IF(K120=\"\",\"\",VLOOKUP(K120,'Equipment Type'!$A$1:$F$53,4,FALSE))","v":""},null,{"$f":"IF(K120=\"\",\"\",INDEX('Equipment Type'!$T$4:$T$53,MATCH('Analysis 103L'!K120,'Equipment Type'!$A$4:$A$53,0)))","v":""},"",null,{"$f":"IF(RIGHT(I120, 4)=\"Case\", \"\", IF(P120=\"\",\"\",(IF(ISNUMBER(SEARCH(\"exit\",J120)),8760,IF(B120=\"Exterior\",4380,'Analysis 103L'!$J$3)))))","v":""},null,"","","","","","","","",{"$f":"IF('100L Information'!$Z$5=\"Yes\",0,IF('100L Information'!$Z$4=\"Yes\",(MIN($Y$232-(-$Y$227),6000)*0.5)*(Y120/$Y$232),$Y$232*(Y120/($Y$230+$Y$231))))","v":{"$error":"#VALUE!"}},"",{"$error":"#VALUE!"},"No requirement",0,{"$f":"IF(OR(Z120=\"Does not meet requirement\",AND('100L Information'!$AA$21=\"No\",AL120=\"Y\"),AND('100L Information'!$AS$21=FALSE,AL120=\"Y\")),0,IF(ISNUMBER(R120*Incent_Cost_Fixture_Rx),MIN(R120*Incent_Cost_Fixture_Rx,(MAX(AE120,AK120))),0))","v":0},"FAIL","0","0","0",0,"N","0","0",null,"","",0,"",{"$f":"IF(RIGHT(I120,4)=\"Case\",W120,IF(AND(AL120=\"Y\",AF120<1),0,IF(OR(LEFT(D120,2)=\"T5\",LEFT(D120,3)=\"CFL\",'Analysis 103L'!AS120=\"Less\"),'Analysis 103L'!AR120,'Analysis 103L'!W120)))","v":""},null,0,0,null,{"$error":"#VALUE!"},{"$error":"#VALUE!"},{"$error":"#VALUE!"},null,null,{"$f":"IF(RIGHT(I120,4)=\"Case\",'LED Case Lighting'!$AY$1,IF(J120=\"\",\"\",VLOOKUP(J120,Lookups!$A$30:$J$149,VLOOKUP('100L Information'!$AI$46,Lookups!$J$3:$L$6,3,FALSE),FALSE)))","v":""},{"$error":"#N/A"},"","",{"$error":"#VALUE!"},{"$error":"#VALUE!"},{"$error":"#VALUE!"},{"$error":"#N/A"},0,{"$error":"#N/A"},0,{"$error":"#VALUE!"},{"$error":"#VALUE!"},{"$error":"#VALUE!"},"FAIL",null,null,null,null,null,null,null,"Interior / Exterior",null,"",null,{"$f":"IF(RIGHT(I120,4)=\"Case\",(INDEX('LED Case Lighting'!$AZ$3:$AZ$16,MATCH('Analysis 103L'!$CI120,'LED Case Lighting'!$AS$3:$AS$16,0))),IF(CB120=0,0,IF(CB120=\"lamp\",((Q120/VLOOKUP(B120,Int_Ext,2,FALSE))*VLOOKUP(E120,NEB,16,FALSE)),IF(CB120=\"fixture\",((Q120/VLOOKUP(B120,Int_Ext,2,FALSE))*VLOOKUP(E120,NEB,14,FALSE)),\"\"))))","v":""},null,{"$f":"IF(RIGHT(I120,4)=\"Case\",INDEX('Equipment Type'!$V$4:$V$53, MATCH('Analysis 103L'!$K120, 'Equipment Type'!$A$4:$A$53, 0)), \"\")","v":""},"","","",{"$f":"IF(CI120=\"\", \"\", IF(RIGHT(I120,4)=\"Case\", INDEX('LED Case Lighting'!$AR$3:$AR$16, MATCH('Analysis 103L'!CI120, 'LED Case Lighting'!$AS$3:$AS$16, 0)), \"\"))","v":""},{"$f":"IF(CI120=\"\",\"\",INDEX('LED Case Lighting'!$AW$3:$AW$16,MATCH('Analysis 103L'!CI120,'LED Case Lighting'!$AS$3:$AS$16,0)))","v":""},{"$f":"IF(CI120=\"\",\"\",INDEX('LED Case Lighting'!$AX$3:$AX$16,MATCH('Analysis 103L'!CI120,'LED Case Lighting'!$AS$3:$AS$16,0)))","v":""},""]
[94,null,null,null,null,null,"",null,{"$f":"IF(K121=\"\",\"\",VLOOKUP(K121,'Equipment Type'!$A$1:$F$53,5,FALSE))","v":""},{"$f":"IF(K121=\"\",\"\",VLOOKUP(K121,'Equipment Type'!$A$1:$F$53,6,FALSE))","v":""},null,{"$f":"IF(K121=\"\",\"\",VLOOKUP(K121,'Equipment Type'!$A$1:$F$53,4,FALSE))","v":""},null,{"$f":"IF(K121=\"\",\"\",INDEX('Equipment Type'!$T$4:$T$53,MATCH('Analysis 103L'!K121,'Equipment Type'!$A$4:$A$53,0)))","v":""},"",null,{"$f":"IF(RIGHT(I121, 4)=\"Case\", \"\", IF(P121=\"\",\"\",(IF(ISNUMBER(SEARCH(\"exit\",J121)),8760,IF(B121=\"Exterior\",4380,'Analysis 103L'!$J$3)))))","v":""},null,"","","","","","","","",{"$f":"IF('100L Information'!$Z$5=\"Yes\",0,IF('100L Information'!$Z$4=\"Yes\",(MIN($Y$232-(-$Y$227),6000)*0.5)*(Y121/$Y$232),$Y$232*(Y121/($Y$230+$Y$231))))","v":{"$error":"#VALUE!"}},"",{"$error":"#VALUE!"},"No requirement",0,{"$f":"IF(OR(Z121=\"Does not meet requirement\",AND('100L Information'!$AA$21=\"No\",AL121=\"Y\"),AND('100L Information'!$AS$21=FALSE,AL121=\"Y\")),0,IF(ISNUMBER(R121*Incent_Cost_Fixture_Rx),MIN(R121*Incent_Cost_Fixture_Rx,(MAX(AE121,AK121))),0))","v":0},"FAIL","0","0","0",0,"N","0","0",null,"","",0,"",{"$f":"IF(RIGHT(I121,4)=\"Case\",W121,IF(AND(AL121=\"Y\",AF121<1),0,IF(OR(LEFT(D121,2)=\"T5\",LEFT(D121,3)=\"CFL\",'Analysis 103L'!AS121=\"Less\"),'Analysis 103L'!AR121,'Analysis 103L'!W121)))","v":""},null,0,0,null,{"$error":"#VALUE!"},{"$error":"#VALUE!"},{"$error":"#VALUE!"},null,null,{"$f":"IF(RIGHT(I121,4)=\"Case\",'LED Case Lighting'!$AY$1,IF(J121=\"\",\"\",VLOOKUP(J121,Lookups!$A$30:$J$149,VLOOKUP('100L Information'!$AI$46,Lookups!$J$3:$L$6,3,FALSE),FALSE)))","v":""},{"$error":"#N/A"},"","",{"$error":"#VALUE!"},{"$error":"#VALUE!"},{"$error":"#VALUE!"},{"$error":"#N/A"},0,{"$error":"#N/A"},0,{"$error":"#VALUE!"},{"$error":"#VALUE!"},{"$error":"#VALUE!"},"FAIL",null,null,null,null,null,null,null,"Interior / Exterior",null,"",null,{"$f":"IF(RIGHT(I121,4)=\"Case\",(INDEX('LED Case Lighting'!$AZ$3:$AZ$16,MATCH('Analysis 103L'!$CI121,'LED Case Lighting'!$AS$3:$AS$16,0))),IF(CB121=0,0,IF(CB121=\"lamp\",((Q121/VLOOKUP(B121,Int_Ext,2,FALSE))*VLOOKUP(E121,NEB,16,FALSE)),IF(CB121=\"fixture\",((Q121/VLOOKUP(B121,Int_Ext,2,FALSE))*VLOOKUP(E121,NEB,14,FALSE)),\"\"))))","v":""},null,{"$f":"IF(RIGHT(I121,4)=\"Case\",INDEX('Equipment Type'!$V$4:$V$53, MATCH('Analysis 103L'!$K121, 'Equipment Type'!$A$4:$A$53, 0)), \"\")","v":""},"","","",{"$f":"IF(CI121=\"\", \"\", IF(RIGHT(I121,4)=\"Case\", INDEX('LED Case Lighting'!$AR$3:$AR$16, MATCH('Analysis 103L'!CI121, 'LED Case Lighting'!$AS$3:$AS$16, 0)), \"\"))","v":""},{"$f":"IF(CI121=\"\",\"\",INDEX('LED Case Lighting'!$AW$3:$AW$16,MATCH('Analysis 103L'!CI121,'LED Case Lighting'!$AS$3:$AS$16,0)))","v":""},{"$f":"IF(CI121=\"\",\"\",INDEX('LED Case Lighting'!$AX$3:$AX$16,MATCH('Analysis 103L'!CI121,'LED Case Lighting'!$AS$3:$AS$16,0)))","v":""},""]
[95,null,null,null,null,null,"",null,{"$f":"IF(K122=\"\",\"\",VLOOKUP(K122,'Equipment Type'!$A$1:$F$53,5,FALSE))","v":""},{"$f":"IF(K122=\"\",\"\",VLOOKUP(K122,'Equipment Type'!$A$1:$F$53,6,FALSE))","v":""},null,{"$f":"IF(K122=\"\",\"\",VLOOKUP(K122,'Equipment Type'!$A$1:$F$53,4,FALSE))","v":""},null,{"$f":"IF(K122=\"\",\"\",INDEX('Equipment Type'!$T$4:$T$53,MATCH('Analysis 103L'!K122,'Equipment Type'!$A$4:$A$53,0)))","v":""},"",null,{"$f":"IF(RIGHT(I122, 4)=\"Case\", \"\", IF(P122=\"\",\"\",(IF(ISNUMBER(SEARCH(\"exit\",J122)),8760,IF(B122=\"Exterior\",4380,'Analysis 103L'!$J$3)))))","v":""},null,"","","","","","","","",{"$f":"IF('100L Information'!$Z$5=\"Yes\",0,IF('100L Information'!$Z$4=\"Yes\",(MIN($Y$232-(-$Y$227),6000)*0.5)*(Y122/$Y$232),$Y$232*(Y122/($Y$230+$Y$231))))","v":{"$error":"#VALUE!"}},"",{"$error":"#VALUE!"},"No requirement",0,{"$f":"IF(OR(Z122=\"Does not meet requirement\",AND('100L Information'!$AA$21=\"No\",AL122=\"Y\"),AND('100L Information'!$AS$21=FALSE,AL122=\"Y\")),0,IF(ISNUMBER(R122*Incent_Cost_Fixture_Rx),MIN(R122*Incent_Cost_Fixture_Rx,(MAX(AE122,AK122))),0))","v":0},"FAIL","0","0","0",0,"N","0","0",null,"","",0,"",{"$f":"IF(RIGHT(I122,4)=\"Case\",W122,IF(AND(AL122=\"Y\",AF122<1),0,IF(OR(LEFT(D122,2)=\"T5\",LEFT(D122,3)=\"CFL\",'Analysis 103L'!AS122=\"Less\"),'Analysis 103L'!AR122,'Analysis 103L'!W122)))","v":""},null,0,0,null,{"$error":"#VALUE!"},{"$error":"#VALUE!"},{"$error":"#VALUE!"},null,null,{"$f":"IF(RIGHT(I122,4)=\"Case\",'LED Case Lighting'!$AY$1,IF(J122=\"\",\"\",VLOOKUP(J122,Lookups!$A$30:$J$149,VLOOKUP('100L Information'!$AI$46,Lookups!$J$3:$L$6,3,FALSE),FALSE)))","v":""},{"$error":"#N/A"},"","",{"$error":"#VALUE!"},{"$error":"#VALUE!"},{"$error":"#VALUE!"},{"$error":"#N/A"},0,{"$error":"#N/A"},0,{"$error":"#VALUE!"},{"$error":"#VALUE!"},{"$error":"#VALUE!"},"FAIL",null,null,null,null,null,null,null,"Interior / Exterior",null,"",null,{"$f":"IF(RIGHT(I122,4)=\"Case\",(INDEX('LED Case Lighting'!$AZ$3:$AZ$16,MATCH('Analysis 103L'!$CI122,'LED Case Lighting'!$AS$3:$AS$16,0))),IF(CB122=0,0,IF(CB122=\"lamp\",((Q122/VLOOKUP(B122,Int_Ext,2,FALSE))*VLOOKUP(E122,NEB,16,FALSE)),IF(CB122=\"fixture\",((Q122/VLOOKUP(B122,Int_Ext,2,FALSE))*VLOOKUP(E122,NEB,14,FALSE)),\"\"))))","v":""},null,{"$f":"IF(RIGHT(I122,4)=\"Case\",INDEX('Equipment Type'!$V$4:$V$53, MATCH('Analysis 103L'!$K122, 'Equipment Type'!$A$4:$A$53, 0)), \"\")","v":""},"","","",{"$f":"IF(CI122=\"\", \"\", IF(RIGHT(I122,4)=\"Case\", INDEX('LED Case Lighting'!$AR$3:$AR$16, MATCH('Analysis 103L'!CI122, 'LED Case Lighting'!$AS$3:$AS$16, 0)), \"\"))","v":""},{"$f":"IF(CI122=\"\",\"\",INDEX('LED Case Lighting'!$AW$3:$AW$16,MATCH('Analysis 103L'!CI122,'LED Case Lighting'!$AS$3:$AS$16,0)))","v":""},{"$f":"IF(CI122=\"\",\"\",INDEX('LED Case Lighting'!$AX$3:$AX$16,MATCH('Analysis 103L'!CI122,'LED Case Lighting'!$AS$3:$AS$16,0)))","v":""},""]
[96,null,null,null,null,null,"",null,{"$f":"IF(K123=\"\",\"\",VLOOKUP(K123,'Equipment Type'!$A$1:$F$53,5,FALSE))","v":""},{"$f":"IF(K123=\"\",\"\",VLOOKUP(K123,'Equipment Type'!$A$1:$F$53,6,FALSE))","v":""},null,{"$f":"IF(K123=\"\",\"\",VLOOKUP(K123,'Equipment Type'!$A$1:$F$53,4,FALSE))","v":""},null,{"$f":"IF(K123=\"\",\"\",INDEX('Equipment Type'!$T$4:$T$53,MATCH('Analysis 103L'!K123,'Equipment Type'!$A$4:$A$53,0)))","v":""},"",null,{"$f":"IF(RIGHT(I123, 4)=\"Case\", \"\", IF(P123=\"\",\"\",(IF(ISNUMBER(SEARCH(\"exit\",J123)),8760,IF(B123=\"Exterior\",4380,'Analysis 103L'!$J$3)))))","v":""},null,"","","","","","","","",{"$f":"IF('100L Information'!$Z$5=\"Yes\",0,IF('100L Information'!$Z$4=\"Yes\",(MIN($Y$232-(-$Y$227),6000)*0.5)*(Y123/$Y$232),$Y$232*(Y123/($Y$230+$Y$231))))","v":{"$error":"#VALUE!"}},"",{"$error":"#VALUE!"},"No requirement",0,{"$f":"IF(OR(Z123=\"Does not meet requirement\",AND('100L Information'!$AA$21=\"No\",AL123=\"Y\"),AND('100L Information'!$AS$21=FALSE,AL123=\"Y\")),0,IF(ISNUMBER(R123*Incent_Cost_Fixture_Rx),MIN(R123*Incent_Cost_Fixture_Rx,(MAX(AE123,AK123))),0))","v":0},"FAIL","0","0","0",0,"N","0","0",null,"","",0,"",{"$f":"IF(RIGHT(I123,4)=\"Case\",W123,IF(AND(AL123=\"Y\",AF123<1),0,IF(OR(LEFT(D123,2)=\"T5\",LEFT(D123,3)=\"CFL\",'Analysis 103L'!AS123=\"Less\"),'Analysis 103L'!AR123,'Analysis 103L'!W123)))","v":""},null,0,0,null,{"$error":"#VALUE!"},{"$error":"#VALUE!"},{"$error":"#VALUE!"},null,null,{"$f":"IF(RIGHT(I123,4)=\"Case\",'LED Case Lighting'!$AY$1,IF(J123=\"\",\"\",VLOOKUP(J123,Lookups!$A$30:$J$149,VLOOKUP('100L Information'!$AI$46,Lookups!$J$3:$L$6,3,FALSE),FALSE)))","v":""},{"$error":"#N/A"},"","",{"$error":"#VALUE!"},{"$error":"#VALUE!"},{"$error":"#VALUE!"},{"$error":"#N/A"},0,{"$error":"#N/A"},0,{"$error":"#VALUE!"},{"$error":"#VALUE!"},{"$error":"#VALUE!"},"FAIL",null,null,null,null,null,null,null,"Interior / Exterior",null,"",null,{"$f":"IF(RIGHT(I123,4)=\"Case\",(INDEX('LED Case Lighting'!$AZ$3:$AZ$16,MATCH('Analysis 103L'!$CI123,'LED Case Lighting'!$AS$3:$AS$16,0))),IF(CB123=0,0,IF(CB123=\"lamp\",((Q123/VLOOKUP(B123,Int_Ext,2,FALSE))*VLOOKUP(E123,NEB,16,FALSE)),IF(CB123=\"fixture\",((Q123/VLOOKUP(B123,Int_Ext,2,FALSE))*VLOOKUP(E123,NEB,14,FALSE)),\"\"))))","v":""},null,{"$f":"IF(RIGHT(I123,4)=\"Case\",INDEX('Equipment Type'!$V$4:$V$53, MATCH('Analysis 103L'!$K123, 'Equipment Type'!$A$4:$A$53, 0)), \"\")","v":""},"","","",{"$f":"IF(CI123=\"\", \"\", IF(RIGHT(I123,4)=\"Case\", INDEX('LED Case Lighting'!$AR$3:$AR$16, MATCH('Analysis 103L'!CI123, 'LED Case Lighting'!$AS$3:$AS$16, 0)), \"\"))","v":""},{"$f":"IF(CI123=\"\",\"\",INDEX('LED Case Lighting'!$AW$3:$AW$16,MATCH('Analysis 103L'!CI123,'LED Case Lighting'!$AS$3:$AS$16,0)))","v":""},{"$f":"IF(CI123=\"\",\"\",INDEX('LED Case Lighting'!$AX$3:$AX$16,MATCH('Analysis 103L'!CI123,'LED Case Lighting'!$AS$3:$AS$16,0)))","v":""},""]
[97,null,null,null,null,null,"",null,{"$f":"IF(K124=\"\",\"\",VLOOKUP(K124,'Equipment Type'!$A$1:$F$53,5,FALSE))","v":""},{"$f":"IF(K124=\"\",\"\",VLOOKUP(K124,'Equipment Type'!$A$1:$F$53,6,FALSE))","v":""},null,{"$f":"IF(K124=\"\",\"\",VLOOKUP(K124,'Equipment Type'!$A$1:$F$53,4,FALSE))","v":""},null,{"$f":"IF(K124=\"\",\"\",INDEX('Equipment Type'!$T$4:$T$53,MATCH('Analysis 103L'!K124,'Equipment Type'!$A$4:$A$53,0)))","v":""},"",null,{"$f":"IF(RIGHT(I124, 4)=\"Case\", \"\", IF(P124=\"\",\"\",(IF(ISNUMBER(SEARCH(\"exit\",J124)),8760,IF(B124=\"Exterior\",4380,'Analysis 103L'!$J$3)))))","v":""},null,"","","","","","","",{"$f":"IF(M124 = \"Y\",IF(AND(M124=\"Y\",AG124=\"FAIL\"),\"Not Cost Effective\",\"\"),IF(AD124=1,\"Does not meet requirement\",\"\"))","v":""},{"$f":"IF('100L Information'!$Z$5=\"Yes\",0,IF('100L Information'!$Z$4=\"Yes\",(MIN($Y$232-(-$Y$227),6000)*0.5)*(Y124/$Y$232),$Y$232*(Y124/($Y$230+$Y$231))))","v":{"$error":"#VALUE!"}},"",{"$f":"IF(RIGHT(I124, 4)=\"Case\", \"\", MIN(W124*IF(I124=\"GROW\", RunRateMax_CustomMeasures_Horti, IF(I124=\"Street_Lighting\", RunRateMax_Streetlighting, RunRateMax_CustomMeasures_fixtures)),S124*Incent_Cost_Fixture_Cust))","v":{"$error":"#VALUE!"}},"No requirement",0,{"$f":"IF(OR(Z124=\"Does not meet requirement\",AND('100L Information'!$AA$21=\"No\",AL124=\"Y\"),AND('100L Information'!$AS$21=FALSE,AL124=\"Y\")),0,IF(ISNUMBER(R124*Incent_Cost_Fixture_Rx),MIN(R124*Incent_Cost_Fixture_Rx,(MAX(AE124,AK124))),0))","v":0},{"$f":"IF(AND(M124=\"Y\",BR124=\"PASS/PASS\"),\"PASS/PASS\",\"FAIL\")","v":"FAIL"},"0","0","0",{"$f":"IF(AE124=0,MAX(IF(ISERROR(VLOOKUP(CONCATENATE(J124,\" from \",VLOOKUP(E124,ExistFixtCat,4,FALSE)),PropFixtIncent,2,FALSE)),0,VLOOKUP(CONCATENATE(J124,\" from \",VLOOKUP(E124,ExistFixtCat,4,FALSE)),PropFixtIncent,2,FALSE)),IF(ISERROR(VLOOKUP(CONCATENATE(J124,\" from ANY\"),PropFixtIncent,2,FALSE)),0,VLOOKUP(CONCATENATE(J124,\" from ANY\"),PropFixtIncent,2,FALSE))),0)","v":0},"N",{"$f":"IF(AG124=\"PASS/PASS\",W124,\"0\")","v":"0"},{"$f":"IF(AG124=\"PASS/PASS\",Y124,\"0\")","v":"0"},null,{"$f":"IF(AND($CB124=\"fixture\",OR($D124=\"CFL\",$D124=\"INCAN\")),VLOOKUP(E124,Incan_Lookup,7,FALSE)*$G124*H124+VLOOKUP(E124,Incan_Lookup,6,FALSE)*$N124*P124,IF(AND($CB124=\"lamp\",OR($D124=\"CFL\",$D124=\"INCAN\")),VLOOKUP(E124,Incan_Lookup,10,FALSE)*$G124*H124+VLOOKUP(E124,Incan_Lookup,9,FALSE)*$N124*P124,IF($D124=\"OTHER\",$G124*$H124,IF($CB124=\"lamp\",(VLOOKUP($E124,ExistFixtLookup,10,FALSE)*H124+VLOOKUP($E124,ExistFixtLookup,9,FALSE)*N124*P124),IF($CB124=\"fixture\",(VLOOKUP($E124,ExistFixtLookup,7,FALSE)*H124+VLOOKUP($E124,ExistFixtLookup,6,FALSE)*N124*P124),$G124)))))","v":""},"",{"$f":"IF(AND(ISNUMBER(BD124),ISNUMBER(W124),$CB124=\"lamp\"),(W124*VLOOKUP(E124,ExistFixtLookup,11,FALSE)+AQ124*(BD124-VLOOKUP(E124,ExistFixtLookup,11,FALSE)))/BD124,IF(AND(ISNUMBER(BD124),ISNUMBER(W124),$CB124=\"fixture\"),(W124*VLOOKUP(E124,ExistFixtLookup,8,FALSE)+AQ124*(BD124-VLOOKUP(E124,ExistFixtLookup,8,FALSE)))/BD124,IF(ISNUMBER(W124),W124,0)))","v":0},"",{"$f":"IF(RIGHT(I124,4)=\"Case\",W124,IF(AND(AL124=\"Y\",AF124<1),0,IF(OR(LEFT(D124,2)=\"T5\",LEFT(D124,3)=\"CFL\",'Analysis 103L'!AS124=\"Less\"),'Analysis 103L'!AR124,'Analysis 103L'!W124)))","v":""},null,0,0,null,{"$error":"#VALUE!"},{"$error":"#VALUE!"},{"$error":"#VALUE!"},null,null,{"$f":"IF(RIGHT(I124,4)=\"Case\",'LED Case Lighting'!$AY$1,IF(J124=\"\",\"\",VLOOKUP(J124,Lookups!$A$30:$J$149,VLOOKUP('100L Information'!$AI$46,Lookups!$J$3:$L$6,3,FALSE),FALSE)))","v":""},{"$f":"IF(B124=\"Exterior\", INDEX($BW$28:$BW$40, $BX$229), IF(BusType=\"Manufacturing\", IF(Q124<3500, \"1-Shift Industrial\", IF(Q124<5500, \"2-Shift Industrial\", IF(Q124<8000, \"3-Shift Industrial\", \"FLAT\"))), INDEX($BV$28:$BV$40, $BX$229)))","v":{"$error":"#N/A"}},"","",{"$error":"#VALUE!"},{"$error":"#VALUE!"},{"$error":"#VALUE!"},{"$f":"VLOOKUP(E124,ExistFixtCat,3,FALSE)/(H124*IF(ISNUMBER(VALUE(MID(E124,5,1))),VALUE(MID(E124,5,1)),1)*Q124)","v":{"$error":"#N/A"}},{"$f":"IF(ISERROR(-PV(POWER(1+Discount_Rate,$BK124)-1,$BD124/$BK124,10+VLOOKUP($E124,ExistFixtCat,2,FALSE))),0,-PV(POWER(1+Discount_Rate,$BK124)-1,$BD124/$BK124,10+VLOOKUP($E124,ExistFixtCat,2,FALSE)))","v":0},{"$f":"VLOOKUP($J124,PropOpLife,3,FALSE)/($P124*IF(ISNUMBER(VALUE(MID($J124,5,1))),VALUE(MID($J124,5,1)),1)*$Q124)","v":{"$error":"#N/A"}},{"$f":"IF(OR(ISERROR(-PV(POWER(1+Discount_Rate,$BM124)-1,$BD124/$BM124,MIN(R124,10+0.5*VLOOKUP($J124,PropOpLife,2,FALSE)))),BL124=0),0,-PV(POWER(1+Discount_Rate,$BM124)-1,$BD124/$BM124,MIN(R124,10+0.5*VLOOKUP($J124,PropOpLife,2,FALSE))))","v":0},{"$error":"#VALUE!"},{"$error":"#VALUE!"},{"$error":"#VALUE!"},"FAIL",null,null,null,null,null,null,null,"Interior / Exterior",null,{"$f":"IF(I124=\"\",\"\",VLOOKUP(I124,FixVsLamp,2,FALSE))","v":""},null,{"$f":"IF(RIGHT(I124,4)=\"Case\",(INDEX('LED Case Lighting'!$AZ$3:$AZ$16,MATCH('Analysis 103L'!$CI124,'LED Case Lighting'!$AS$3:$AS$16,0))),IF(CB124=0,0,IF(CB124=\"lamp\",((Q124/VLOOKUP(B124,Int_Ext,2,FALSE))*VLOOKUP(E124,NEB,16,FALSE)),IF(CB124=\"fixture\",((Q124/VLOOKUP(B124,Int_Ext,2,FALSE))*VLOOKUP(E124,NEB,14,FALSE)),\"\"))))","v":""},null,{"$f":"IF(RIGHT(I124,4)=\"Case\",INDEX('Equipment Type'!$V$4:$V$53, MATCH('Analysis 103L'!$K124, 'Equipment Type'!$A$4:$A$53, 0)), \"\")","v":""},"","","",{"$f":"IF(CI124=\"\", \"\", IF(RIGHT(I124,4)=\"Case\", INDEX('LED Case Lighting'!$AR$3:$AR$16, MATCH('Analysis 103L'!CI124, 'LED Case Lighting'!$AS$3:$AS$16, 0)), \"\"))","v":""},{"$f":"IF(CI124=\"\",\"\",INDEX('LED Case Lighting'!$AW$3:$AW$16,MATCH('Analysis 103L'!CI124,'LED Case Lighting'!$AS$3:$AS$16,0)))","v":""},{"$f":"IF(CI124=\"\",\"\",INDEX('LED Case Lighting'!$AX$3:$AX$16,MATCH('Analysis 103L'!CI124,'LED Case Lighting'!$AS$3:$AS$16,0)))","v":""},""]
[98,null,null,null,null,null,"",null,{"$f":"IF(K125=\"\",\"\",VLOOKUP(K125,'Equipment Type'!$A$1:$F$53,5,FALSE))","v":""},{"$f":"IF(K125=\"\",\"\",VLOOKUP(K125,'Equipment Type'!$A$1:$F$53,6,FALSE))","v":""},null,{"$f":"IF(K125=\"\",\"\",VLOOKUP(K125,'Equipment Type'!$A$1:$F$53,4,FALSE))","v":""},null,{"$f":"IF(K125=\"\",\"\",INDEX('Equipment Type'!$T$4:$T$53,MATCH('Analysis 103L'!K125,'Equipment Type'!$A$4:$A$53,0)))","v":""},"",null,{"$f":"IF(RIGHT(I125, 4)=\"Case\", \"\", IF(P125=\"\",\"\",(IF(ISNUMBER(SEARCH(\"exit\",J125)),8760,IF(B125=\"Exterior\",4380,'Analysis 103L'!$J$3)))))","v":""},null,"","","","","","","","",{"$f":"IF('100L Information'!$Z$5=\"Yes\",0,IF('100L Information'!$Z$4=\"Yes\",(MIN($Y$232-(-$Y$227),6000)*0.5)*(Y125/$Y$232),$Y$232*(Y125/($Y$230+$Y$231))))","v":{"$error":"#VALUE!"}},"",{"$error":"#VALUE!"},"No requirement",0,{"$f":"IF(OR(Z125=\"Does not meet requirement\",AND('100L Information'!$AA$21=\"No\",AL125=\"Y\"),AND('100L Information'!$AS$21=FALSE,AL125=\"Y\")),0,IF(ISNUMBER(R125*Incent_Cost_Fixture_Rx),MIN(R125*Incent_Cost_Fixture_Rx,(MAX(AE125,AK125))),0))","v":0},"FAIL","0","0","0",0,"N","0","0",null,"","",0,"",{"$f":"IF(RIGHT(I125,4)=\"Case\",W125,IF(AND(AL125=\"Y\",AF125<1),0,IF(OR(LEFT(D125,2)=\"T5\",LEFT(D125,3)=\"CFL\",'Analysis 103L'!AS125=\"Less\"),'Analysis 103L'!AR125,'Analysis 103L'!W125)))","v":""},null,0,0,null,{"$error":"#VALUE!"},{"$error":"#VALUE!"},{"$error":"#VALUE!"},null,null,{"$f":"IF(RIGHT(I125,4)=\"Case\",'LED Case Lighting'!$AY$1,IF(J125=\"\",\"\",VLOOKUP(J125,Lookups!$A$30:$J$149,VLOOKUP('100L Information'!$AI$46,Lookups!$J$3:$L$6,3,FALSE),FALSE)))","v":""},{"$error":"#N/A"},"","",{"$error":"#VALUE!"},{"$error":"#VALUE!"},{"$error":"#VALUE!"},{"$error":"#N/A"},0,{"$error":"#N/A"},0,{"$error":"#VALUE!"},{"$error":"#VALUE!"},{"$error":"#VALUE!"},"FAIL",null,null,null,null,null,null,null,"Interior / Exterior",null,"",null,{"$f":"IF(RIGHT(I125,4)=\"Case\",(INDEX('LED Case Lighting'!$AZ$3:$AZ$16,MATCH('Analysis 103L'!$CI125,'LED Case Lighting'!$AS$3:$AS$16,0))),IF(CB125=0,0,IF(CB125=\"lamp\",((Q125/VLOOKUP(B125,Int_Ext,2,FALSE))*VLOOKUP(E125,NEB,16,FALSE)),IF(CB125=\"fixture\",((Q125/VLOOKUP(B125,Int_Ext,2,FALSE))*VLOOKUP(E125,NEB,14,FALSE)),\"\"))))","v":""},null,{"$f":"IF(RIGHT(I125,4)=\"Case\",INDEX('Equipment Type'!$V$4:$V$53, MATCH('Analysis 103L'!$K125, 'Equipment Type'!$A$4:$A$53, 0)), \"\")","v":""},"","","",{"$f":"IF(CI125=\"\", \"\", IF(RIGHT(I125,4)=\"Case\", INDEX('LED Case Lighting'!$AR$3:$AR$16, MATCH('Analysis 103L'!CI125, 'LED Case Lighting'!$AS$3:$AS$16, 0)), \"\"))","v":""},{"$f":"IF(CI125=\"\",\"\",INDEX('LED Case Lighting'!$AW$3:$AW$16,MATCH('Analysis 103L'!CI125,'LED Case Lighting'!$AS$3:$AS$16,0)))","v":""},{"$f":"IF(CI125=\"\",\"\",INDEX('LED Case Lighting'!$AX$3:$AX$16,MATCH('Analysis 103L'!CI125,'LED Case Lighting'!$AS$3:$AS$16,0)))","v":""},""]
[99,null,null,null,null,null,"",null,{"$f":"IF(K126=\"\",\"\",VLOOKUP(K126,'Equipment Type'!$A$1:$F$53,5,FALSE))","v":""},{"$f":"IF(K126=\"\",\"\",VLOOKUP(K126,'Equipment Type'!$A$1:$F$53,6,FALSE))","v":""},null,{"$f":"IF(K126=\"\",\"\",VLOOKUP(K126,'Equipment Type'!$A$1:$F$53,4,FALSE))","v":""},null,{"$f":"IF(K126=\"\",\"\",INDEX('Equipment Type'!$T$4:$T$53,MATCH('Analysis 103L'!K126,'Equipment Type'!$A$4:$A$53,0)))","v":""},"",null,{"$f":"IF(RIGHT(I126, 4)=\"Case\", \"\", IF(P126=\"\",\"\",(IF(ISNUMBER(SEARCH(\"exit\",J126)),8760,IF(B126=\"Exterior\",4380,'Analysis 103L'!$J$3)))))","v":""},null,"","","","","","","","",{"$f":"IF('100L Information'!$Z$5=\"Yes\",0,IF('100L Information'!$Z$4=\"Yes\",(MIN($Y$232-(-$Y$227),6000)*0.5)*(Y126/$Y$232),$Y$232*(Y126/($Y$230+$Y$231))))","v":{"$error":"#VALUE!"}},"",{"$error":"#VALUE!"},"No requirement",0,{"$f":"IF(OR(Z126=\"Does not meet requirement\",AND('100L Information'!$AA$21=\"No\",AL126=\"Y\"),AND('100L Information'!$AS$21=FALSE,AL126=\"Y\")),0,IF(ISNUMBER(R126*Incent_Cost_Fixture_Rx),MIN(R126*Incent_Cost_Fixture_Rx,(MAX(AE126,AK126))),0))","v":0},"FAIL","0","0","0",0,"N","0","0",null,"","",0,"",{"$f":"IF(RIGHT(I126,4)=\"Case\",W126,IF(AND(AL126=\"Y\",AF126<1),0,IF(OR(LEFT(D126,2)=\"T5\",LEFT(D126,3)=\"CFL\",'Analysis 103L'!AS126=\"Less\"),'Analysis 103L'!AR126,'Analysis 103L'!W126)))","v":""},null,0,0,null,{"$error":"#VALUE!"},{"$error":"#VALUE!"},{"$error":"#VALUE!"},null,null,{"$f":"IF(RIGHT(I126,4)=\"Case\",'LED Case Lighting'!$AY$1,IF(J126=\"\",\"\",VLOOKUP(J126,Lookups!$A$30:$J$149,VLOOKUP('100L Information'!$AI$46,Lookups!$J$3:$L$6,3,FALSE),FALSE)))","v":""},{"$error":"#N/A"},"","",{"$error":"#VALUE!"},{"$error":"#VALUE!"},{"$error":"#VALUE!"},{"$error":"#N/A"},0,{"$error":"#N/A"},0,{"$error":"#VALUE!"},{"$error":"#VALUE!"},{"$error":"#VALUE!"},"FAIL",null,null,null,null,null,null,null,"Interior / Exterior",null,"",null,{"$f":"IF(RIGHT(I126,4)=\"Case\",(INDEX('LED Case Lighting'!$AZ$3:$AZ$16,MATCH('Analysis 103L'!$CI126,'LED Case Lighting'!$AS$3:$AS$16,0))),IF(CB126=0,0,IF(CB126=\"lamp\",((Q126/VLOOKUP(B126,Int_Ext,2,FALSE))*VLOOKUP(E126,NEB,16,FALSE)),IF(CB126=\"fixture\",((Q126/VLOOKUP(B126,Int_Ext,2,FALSE))*VLOOKUP(E126,NEB,14,FALSE)),\"\"))))","v":""},null,{"$f":"IF(RIGHT(I126,4)=\"Case\",INDEX('Equipment Type'!$V$4:$V$53, MATCH('Analysis 103L'!$K126, 'Equipment Type'!$A$4:$A$53, 0)), \"\")","v":""},"","","",{"$f":"IF(CI126=\"\", \"\", IF(RIGHT(I126,4)=\"Case\", INDEX('LED Case Lighting'!$AR$3:$AR$16, MATCH('Analysis 103L'!CI126, 'LED Case Lighting'!$AS$3:$AS$16, 0)), \"\"))","v":""},{"$f":"IF(CI126=\"\",\"\",INDEX('LED Case Lighting'!$AW$3:$AW$16,MATCH('Analysis 103L'!CI126,'LED Case Lighting'!$AS$3:$AS$16,0)))","v":""},{"$f":"IF(CI126=\"\",\"\",INDEX('LED Case Lighting'!$AX$3:$AX$16,MATCH('Analysis 103L'!CI126,'LED Case Lighting'!$AS$3:$AS$16,0)))","v":""},""]
[100,null,null,null,null,null,"",null,{"$f":"IF(K127=\"\",\"\",VLOOKUP(K127,'Equipment Type'!$A$1:$F$53,5,FALSE))","v":""},{"$f":"IF(K127=\"\",\"\",VLOOKUP(K127,'Equipment Type'!$A$1:$F$53,6,FALSE))","v":""},null,{"$f":"IF(K127=\"\",\"\",VLOOKUP(K127,'Equipment Type'!$A$1:$F$53,4,FALSE))","v":""},null,{"$f":"IF(K127=\"\",\"\",INDEX('Equipment Type'!$T$4:$T$53,MATCH('Analysis 103L'!K127,'Equipment Type'!$A$4:$A$53,0)))","v":""},"",null,{"$f":"IF(RIGHT(I127, 4)=\"Case\", \"\", IF(P127=\"\",\"\",(IF(ISNUMBER(SEARCH(\"exit\",J127)),8760,IF(B127=\"Exterior\",4380,'Analysis 103L'!$J$3)))))","v":""},null,"","","","","","","","",{"$f":"IF('100L Information'!$Z$5=\"Yes\",0,IF('100L Information'!$Z$4=\"Yes\",(MIN($Y$232-(-$Y$227),6000)*0.5)*(Y127/$Y$232),$Y$232*(Y127/($Y$230+$Y$231))))","v":{"$error":"#VALUE!"}},"",{"$error":"#VALUE!"},"No requirement",0,{"$f":"IF(OR(Z127=\"Does not meet requirement\",AND('100L Information'!$AA$21=\"No\",AL127=\"Y\"),AND('100L Information'!$AS$21=FALSE,AL127=\"Y\")),0,IF(ISNUMBER(R127*Incent_Cost_Fixture_Rx),MIN(R127*Incent_Cost_Fixture_Rx,(MAX(AE127,AK127))),0))","v":0},"FAIL","0","0","0",0,"N","0","0",null,"","",0,"",{"$f":"IF(RIGHT(I127,4)=\"Case\",W127,IF(AND(AL127=\"Y\",AF127<1),0,IF(OR(LEFT(D127,2)=\"T5\",LEFT(D127,3)=\"CFL\",'Analysis 103L'!AS127=\"Less\"),'Analysis 103L'!AR127,'Analysis 103L'!W127)))","v":""},null,0,0,null,{"$error":"#VALUE!"},{"$error":"#VALUE!"},{"$error":"#VALUE!"},null,null,{"$f":"IF(RIGHT(I127,4)=\"Case\",'LED Case Lighting'!$AY$1,IF(J127=\"\",\"\",VLOOKUP(J127,Lookups!$A$30:$J$149,VLOOKUP('100L Information'!$AI$46,Lookups!$J$3:$L$6,3,FALSE),FALSE)))","v":""},{"$error":"#N/A"},"","",{"$error":"#VALUE!"},{"$error":"#VALUE!"},{"$error":"#VALUE!"},{"$error":"#N/A"},0,{"$error":"#N/A"},0,{"$error":"#VALUE!"},{"$error":"#VALUE!"},{"$error":"#VALUE!"},"FAIL",null,null,null,null,null,null,null,"Interior / Exterior",null,"",null,{"$f":"IF(RIGHT(I127,4)=\"Case\",(INDEX('LED Case Lighting'!$AZ$3:$AZ$16,MATCH('Analysis 103L'!$CI127,'LED Case Lighting'!$AS$3:$AS$16,0))),IF(CB127=0,0,IF(CB127=\"lamp\",((Q127/VLOOKUP(B127,Int_Ext,2,FALSE))*VLOOKUP(E127,NEB,16,FALSE)),IF(CB127=\"fixture\",((Q127/VLOOKUP(B127,Int_Ext,2,FALSE))*VLOOKUP(E127,NEB,14,FALSE)),\"\"))))","v":""},null,{"$f":"IF(RIGHT(I127,4)=\"Case\",INDEX('Equipment Type'!$V$4:$V$53, MATCH('Analysis 103L'!$K127, 'Equipment Type'!$A$4:$A$53, 0)), \"\")","v":""},"","","",{"$f":"IF(CI127=\"\", \"\", IF(RIGHT(I127,4)=\"Case\", INDEX('LED Case Lighting'!$AR$3:$AR$16, MATCH('Analysis 103L'!CI127, 'LED Case Lighting'!$AS$3:$AS$16, 0)), \"\"))","v":""},{"$f":"IF(CI127=\"\",\"\",INDEX('LED Case Lighting'!$AW$3:$AW$16,MATCH('Analysis 103L'!CI127,'LED Case Lighting'!$AS$3:$AS$16,0)))","v":""},{"$f":"IF(CI127=\"\",\"\",INDEX('LED Case Lighting'!$AX$3:$AX$16,MATCH('Analysis 103L'!CI127,'LED Case Lighting'!$AS$3:$AS$16,0)))","v":""},""]
[101,null,null,null,null,null,{"$f":"IF(E128=\"\",\"\",VLOOKUP(E128,ExistFixtLookup,2,FALSE))","v":""},null,{"$f":"IF(K128=\"\",\"\",VLOOKUP(K128,'Equipment Type'!$A$1:$F$53,5,FALSE))","v":""},{"$f":"IF(K128=\"\",\"\",VLOOKUP(K128,'Equipment Type'!$A$1:$F$53,6,FALSE))","v":""},null,{"$f":"IF(K128=\"\",\"\",VLOOKUP(K128,'Equipment Type'!$A$1:$F$53,4,FALSE))","v":""},null,{"$f":"IF(K128=\"\",\"\",INDEX('Equipment Type'!$T$4:$T$53,MATCH('Analysis 103L'!K128,'Equipment Type'!$A$4:$A$53,0)))","v":""},"",null,{"$f":"IF(RIGHT(I128, 4)=\"Case\", \"\", IF(P128=\"\",\"\",(IF(ISNUMBER(SEARCH(\"exit\",J128)),8760,IF(B128=\"Exterior\",4380,'Analysis 103L'!$J$3)))))","v":""},null,"","","","","","","","",{"$f":"IF('100L Information'!$Z$5=\"Yes\",0,IF('100L Information'!$Z$4=\"Yes\",(MIN($Y$232-(-$Y$227),6000)*0.5)*(Y128/$Y$232),$Y$232*(Y128/($Y$230+$Y$231))))","v":{"$error":"#VALUE!"}},"",{"$error":"#VALUE!"},"No requirement",0,{"$f":"IF(OR(Z128=\"Does not meet requirement\",AND('100L Information'!$AA$21=\"No\",AL128=\"Y\"),AND('100L Information'!$AS$21=FALSE,AL128=\"Y\")),0,IF(ISNUMBER(R128*Incent_Cost_Fixture_Rx),MIN(R128*Incent_Cost_Fixture_Rx,(MAX(AE128,AK128))),0))","v":0},"FAIL","0","0","0",0,"N","0","0",null,"","",0,"",{"$f":"IF(RIGHT(I128,4)=\"Case\",W128,IF(AND(AL128=\"Y\",AF128<1),0,IF(OR(LEFT(D128,2)=\"T5\",LEFT(D128,3)=\"CFL\",'Analysis 103L'!AS128=\"Less\"),'Analysis 103L'!AR128,'Analysis 103L'!W128)))","v":""},null,0,0,null,{"$error":"#VALUE!"},{"$error":"#VALUE!"},{"$error":"#VALUE!"},null,null,{"$f":"IF(RIGHT(I128,4)=\"Case\",'LED Case Lighting'!$AY$1,IF(J128=\"\",\"\",VLOOKUP(J128,Lookups!$A$30:$J$149,VLOOKUP('100L Information'!$AI$46,Lookups!$J$3:$L$6,3,FALSE),FALSE)))","v":""},{"$error":"#N/A"},"","",{"$error":"#VALUE!"},{"$error":"#VALUE!"},{"$error":"#VALUE!"},{"$error":"#N/A"},0,{"$error":"#N/A"},0,{"$error":"#VALUE!"},{"$error":"#VALUE!"},{"$error":"#VALUE!"},"FAIL",null,null,null,null,null,null,null,"Interior / Exterior",null,"",null,{"$f":"IF(RIGHT(I128,4)=\"Case\",(INDEX('LED Case Lighting'!$AZ$3:$AZ$16,MATCH('Analysis 103L'!$CI128,'LED Case Lighting'!$AS$3:$AS$16,0))),IF(CB128=0,0,IF(CB128=\"lamp\",((Q128/VLOOKUP(B128,Int_Ext,2,FALSE))*VLOOKUP(E128,NEB,16,FALSE)),IF(CB128=\"fixture\",((Q128/VLOOKUP(B128,Int_Ext,2,FALSE))*VLOOKUP(E128,NEB,14,FALSE)),\"\"))))","v":""},null,{"$f":"IF(RIGHT(I128,4)=\"Case\",INDEX('Equipment Type'!$V$4:$V$53, MATCH('Analysis 103L'!$K128, 'Equipment Type'!$A$4:$A$53, 0)), \"\")","v":""},"","","",{"$f":"IF(CI128=\"\", \"\", IF(RIGHT(I128,4)=\"Case\", INDEX('LED Case Lighting'!$AR$3:$AR$16, MATCH('Analysis 103L'!CI128, 'LED Case Lighting'!$AS$3:$AS$16, 0)), \"\"))","v":""},{"$f":"IF(CI128=\"\",\"\",INDEX('LED Case Lighting'!$AW$3:$AW$16,MATCH('Analysis 103L'!CI128,'LED Case Lighting'!$AS$3:$AS$16,0)))","v":""},{"$f":"IF(CI128=\"\",\"\",INDEX('LED Case Lighting'!$AX$3:$AX$16,MATCH('Analysis 103L'!CI128,'LED Case Lighting'!$AS$3:$AS$16,0)))","v":""},""]
[102,null,null,null,null,null,"",null,{"$f":"IF(K129=\"\",\"\",VLOOKUP(K129,'Equipment Type'!$A$1:$F$53,5,FALSE))","v":""},{"$f":"IF(K129=\"\",\"\",VLOOKUP(K129,'Equipment Type'!$A$1:$F$53,6,FALSE))","v":""},null,{"$f":"IF(K129=\"\",\"\",VLOOKUP(K129,'Equipment Type'!$A$1:$F$53,4,FALSE))","v":""},null,{"$f":"IF(K129=\"\",\"\",INDEX('Equipment Type'!$T$4:$T$53,MATCH('Analysis 103L'!K129,'Equipment Type'!$A$4:$A$53,0)))","v":""},"",null,{"$f":"IF(RIGHT(I129, 4)=\"Case\", \"\", IF(P129=\"\",\"\",(IF(ISNUMBER(SEARCH(\"exit\",J129)),8760,IF(B129=\"Exterior\",4380,'Analysis 103L'!$J$3)))))","v":""},null,"","","","","","","","",{"$f":"IF('100L Information'!$Z$5=\"Yes\",0,IF('100L Information'!$Z$4=\"Yes\",(MIN($Y$232-(-$Y$227),6000)*0.5)*(Y129/$Y$232),$Y$232*(Y129/($Y$230+$Y$231))))","v":{"$error":"#VALUE!"}},"",{"$error":"#VALUE!"},"No requirement",0,{"$f":"IF(OR(Z129=\"Does not meet requirement\",AND('100L Information'!$AA$21=\"No\",AL129=\"Y\"),AND('100L Information'!$AS$21=FALSE,AL129=\"Y\")),0,IF(ISNUMBER(R129*Incent_Cost_Fixture_Rx),MIN(R129*Incent_Cost_Fixture_Rx,(MAX(AE129,AK129))),0))","v":0},"FAIL","0","0","0",0,"N","0","0",null,"","",0,"",{"$f":"IF(RIGHT(I129,4)=\"Case\",W129,IF(AND(AL129=\"Y\",AF129<1),0,IF(OR(LEFT(D129,2)=\"T5\",LEFT(D129,3)=\"CFL\",'Analysis 103L'!AS129=\"Less\"),'Analysis 103L'!AR129,'Analysis 103L'!W129)))","v":""},null,0,0,null,{"$error":"#VALUE!"},{"$error":"#VALUE!"},{"$error":"#VALUE!"},null,null,{"$f":"IF(RIGHT(I129,4)=\"Case\",'LED Case Lighting'!$AY$1,IF(J129=\"\",\"\",VLOOKUP(J129,Lookups!$A$30:$J$149,VLOOKUP('100L Information'!$AI$46,Lookups!$J$3:$L$6,3,FALSE),FALSE)))","v":""},{"$error":"#N/A"},"","",{"$error":"#VALUE!"},{"$error":"#VALUE!"},{"$error":"#VALUE!"},{"$error":"#N/A"},0,{"$error":"#N/A"},0,{"$error":"#VALUE!"},{"$error":"#VALUE!"},{"$error":"#VALUE!"},"FAIL",null,null,null,null,null,null,null,"Interior / Exterior",null,"",null,{"$f":"IF(RIGHT(I129,4)=\"Case\",(INDEX('LED Case Lighting'!$AZ$3:$AZ$16,MATCH('Analysis 103L'!$CI129,'LED Case Lighting'!$AS$3:$AS$16,0))),IF(CB129=0,0,IF(CB129=\"lamp\",((Q129/VLOOKUP(B129,Int_Ext,2,FALSE))*VLOOKUP(E129,NEB,16,FALSE)),IF(CB129=\"fixture\",((Q129/VLOOKUP(B129,Int_Ext,2,FALSE))*VLOOKUP(E129,NEB,14,FALSE)),\"\"))))","v":""},null,{"$f":"IF(RIGHT(I129,4)=\"Case\",INDEX('Equipment Type'!$V$4:$V$53, MATCH('Analysis 103L'!$K129, 'Equipment Type'!$A$4:$A$53, 0)), \"\")","v":""},"","","",{"$f":"IF(CI129=\"\", \"\", IF(RIGHT(I129,4)=\"Case\", INDEX('LED Case Lighting'!$AR$3:$AR$16, MATCH('Analysis 103L'!CI129, 'LED Case Lighting'!$AS$3:$AS$16, 0)), \"\"))","v":""},{"$f":"IF(CI129=\"\",\"\",INDEX('LED Case Lighting'!$AW$3:$AW$16,MATCH('Analysis 103L'!CI129,'LED Case Lighting'!$AS$3:$AS$16,0)))","v":""},{"$f":"IF(CI129=\"\",\"\",INDEX('LED Case Lighting'!$AX$3:$AX$16,MATCH('Analysis 103L'!CI129,'LED Case Lighting'!$AS$3:$AS$16,0)))","v":""},""]
[103,null,null,null,null,null,"",null,{"$f":"IF(K130=\"\",\"\",VLOOKUP(K130,'Equipment Type'!$A$1:$F$53,5,FALSE))","v":""},{"$f":"IF(K130=\"\",\"\",VLOOKUP(K130,'Equipment Type'!$A$1:$F$53,6,FALSE))","v":""},null,{"$f":"IF(K130=\"\",\"\",VLOOKUP(K130,'Equipment Type'!$A$1:$F$53,4,FALSE))","v":""},null,{"$f":"IF(K130=\"\",\"\",INDEX('Equipment Type'!$T$4:$T$53,MATCH('Analysis 103L'!K130,'Equipment Type'!$A$4:$A$53,0)))","v":""},"",null,{"$f":"IF(RIGHT(I130, 4)=\"Case\", \"\", IF(P130=\"\",\"\",(IF(ISNUMBER(SEARCH(\"exit\",J130)),8760,IF(B130=\"Exterior\",4380,'Analysis 103L'!$J$3)))))","v":""},null,"","","","","","","","",{"$f":"IF('100L Information'!$Z$5=\"Yes\",0,IF('100L Information'!$Z$4=\"Yes\",(MIN($Y$232-(-$Y$227),6000)*0.5)*(Y130/$Y$232),$Y$232*(Y130/($Y$230+$Y$231))))","v":{"$error":"#VALUE!"}},"",{"$error":"#VALUE!"},"No requirement",0,{"$f":"IF(OR(Z130=\"Does not meet requirement\",AND('100L Information'!$AA$21=\"No\",AL130=\"Y\"),AND('100L Information'!$AS$21=FALSE,AL130=\"Y\")),0,IF(ISNUMBER(R130*Incent_Cost_Fixture_Rx),MIN(R130*Incent_Cost_Fixture_Rx,(MAX(AE130,AK130))),0))","v":0},"FAIL","0","0","0",0,"N","0","0",null,"","",0,"",{"$f":"IF(RIGHT(I130,4)=\"Case\",W130,IF(AND(AL130=\"Y\",AF130<1),0,IF(OR(LEFT(D130,2)=\"T5\",LEFT(D130,3)=\"CFL\",'Analysis 103L'!AS130=\"Less\"),'Analysis 103L'!AR130,'Analysis 103L'!W130)))","v":""},null,0,0,null,{"$error":"#VALUE!"},{"$error":"#VALUE!"},{"$error":"#VALUE!"},null,null,{"$f":"IF(RIGHT(I130,4)=\"Case\",'LED Case Lighting'!$AY$1,IF(J130=\"\",\"\",VLOOKUP(J130,Lookups!$A$30:$J$149,VLOOKUP('100L Information'!$AI$46,Lookups!$J$3:$L$6,3,FALSE),FALSE)))","v":""},{"$error":"#N/A"},"","",{"$error":"#VALUE!"},{"$error":"#VALUE!"},{"$error":"#VALUE!"},{"$error":"#N/A"},0,{"$error":"#N/A"},0,{"$error":"#VALUE!"},{"$error":"#VALUE!"},{"$error":"#VALUE!"},"FAIL",null,null,null,null,null,null,null,"Interior / Exterior",null,"",null,{"$f":"IF(RIGHT(I130,4)=\"Case\",(INDEX('LED Case Lighting'!$AZ$3:$AZ$16,MATCH('Analysis 103L'!$CI130,'LED Case Lighting'!$AS$3:$AS$16,0))),IF(CB130=0,0,IF(CB130=\"lamp\",((Q130/VLOOKUP(B130,Int_Ext,2,FALSE))*VLOOKUP(E130,NEB,16,FALSE)),IF(CB130=\"fixture\",((Q130/VLOOKUP(B130,Int_Ext,2,FALSE))*VLOOKUP(E130,NEB,14,FALSE)),\"\"))))","v":""},null,{"$f":"IF(RIGHT(I130,4)=\"Case\",INDEX('Equipment Type'!$V$4:$V$53, MATCH('Analysis 103L'!$K130, 'Equipment Type'!$A$4:$A$53, 0)), \"\")","v":""},"","","",{"$f":"IF(CI130=\"\", \"\", IF(RIGHT(I130,4)=\"Case\", INDEX('LED Case Lighting'!$AR$3:$AR$16, MATCH('Analysis 103L'!CI130, 'LED Case Lighting'!$AS$3:$AS$16, 0)), \"\"))","v":""},{"$f":"IF(CI130=\"\",\"\",INDEX('LED Case Lighting'!$AW$3:$AW$16,MATCH('Analysis 103L'!CI130,'LED Case Lighting'!$AS$3:$AS$16,0)))","v":""},{"$f":"IF(CI130=\"\",\"\",INDEX('LED Case Lighting'!$AX$3:$AX$16,MATCH('Analysis 103L'!CI130,'LED Case Lighting'!$AS$3:$AS$16,0)))","v":""},""]
[104,null,null,null,null,null,"",null,{"$f":"IF(K131=\"\",\"\",VLOOKUP(K131,'Equipment Type'!$A$1:$F$53,5,FALSE))","v":""},{"$f":"IF(K131=\"\",\"\",VLOOKUP(K131,'Equipment Type'!$A$1:$F$53,6,FALSE))","v":""},null,{"$f":"IF(K131=\"\",\"\",VLOOKUP(K131,'Equipment Type'!$A$1:$F$53,4,FALSE))","v":""},null,{"$f":"IF(K131=\"\",\"\",INDEX('Equipment Type'!$T$4:$T$53,MATCH('Analysis 103L'!K131,'Equipment Type'!$A$4:$A$53,0)))","v":""},"",null,{"$f":"IF(RIGHT(I131, 4)=\"Case\", \"\", IF(P131=\"\",\"\",(IF(ISNUMBER(SEARCH(\"exit\",J131)),8760,IF(B131=\"Exterior\",4380,'Analysis 103L'!$J$3)))))","v":""},null,"","","","","","","","",{"$f":"IF('100L Information'!$Z$5=\"Yes\",0,IF('100L Information'!$Z$4=\"Yes\",(MIN($Y$232-(-$Y$227),6000)*0.5)*(Y131/$Y$232),$Y$232*(Y131/($Y$230+$Y$231))))","v":{"$error":"#VALUE!"}},"",{"$error":"#VALUE!"},"No requirement",0,{"$f":"IF(OR(Z131=\"Does not meet requirement\",AND('100L Information'!$AA$21=\"No\",AL131=\"Y\"),AND('100L Information'!$AS$21=FALSE,AL131=\"Y\")),0,IF(ISNUMBER(R131*Incent_Cost_Fixture_Rx),MIN(R131*Incent_Cost_Fixture_Rx,(MAX(AE131,AK131))),0))","v":0},"FAIL","0","0","0",0,"N","0","0",null,"","",0,"",{"$f":"IF(RIGHT(I131,4)=\"Case\",W131,IF(AND(AL131=\"Y\",AF131<1),0,IF(OR(LEFT(D131,2)=\"T5\",LEFT(D131,3)=\"CFL\",'Analysis 103L'!AS131=\"Less\"),'Analysis 103L'!AR131,'Analysis 103L'!W131)))","v":""},null,0,0,null,{"$error":"#VALUE!"},{"$error":"#VALUE!"},{"$error":"#VALUE!"},null,null,{"$f":"IF(RIGHT(I131,4)=\"Case\",'LED Case Lighting'!$AY$1,IF(J131=\"\",\"\",VLOOKUP(J131,Lookups!$A$30:$J$149,VLOOKUP('100L Information'!$AI$46,Lookups!$J$3:$L$6,3,FALSE),FALSE)))","v":""},{"$error":"#N/A"},"","",{"$error":"#VALUE!"},{"$error":"#VALUE!"},{"$error":"#VALUE!"},{"$error":"#N/A"},0,{"$error":"#N/A"},0,{"$error":"#VALUE!"},{"$error":"#VALUE!"},{"$error":"#VALUE!"},"FAIL",null,null,null,null,null,null,null,"Interior / Exterior",null,"",null,{"$f":"IF(RIGHT(I131,4)=\"Case\",(INDEX('LED Case Lighting'!$AZ$3:$AZ$16,MATCH('Analysis 103L'!$CI131,'LED Case Lighting'!$AS$3:$AS$16,0))),IF(CB131=0,0,IF(CB131=\"lamp\",((Q131/VLOOKUP(B131,Int_Ext,2,FALSE))*VLOOKUP(E131,NEB,16,FALSE)),IF(CB131=\"fixture\",((Q131/VLOOKUP(B131,Int_Ext,2,FALSE))*VLOOKUP(E131,NEB,14,FALSE)),\"\"))))","v":""},null,{"$f":"IF(RIGHT(I131,4)=\"Case\",INDEX('Equipment Type'!$V$4:$V$53, MATCH('Analysis 103L'!$K131, 'Equipment Type'!$A$4:$A$53, 0)), \"\")","v":""},"","","",{"$f":"IF(CI131=\"\", \"\", IF(RIGHT(I131,4)=\"Case\", INDEX('LED Case Lighting'!$AR$3:$AR$16, MATCH('Analysis 103L'!CI131, 'LED Case Lighting'!$AS$3:$AS$16, 0)), \"\"))","v":""},{"$f":"IF(CI131=\"\",\"\",INDEX('LED Case Lighting'!$AW$3:$AW$16,MATCH('Analysis 103L'!CI131,'LED Case Lighting'!$AS$3:$AS$16,0)))","v":""},{"$f":"IF(CI131=\"\",\"\",INDEX('LED Case Lighting'!$AX$3:$AX$16,MATCH('Analysis 103L'!CI131,'LED Case Lighting'!$AS$3:$AS$16,0)))","v":""},""]
[105,null,null,null,null,null,"",null,{"$f":"IF(K132=\"\",\"\",VLOOKUP(K132,'Equipment Type'!$A$1:$F$53,5,FALSE))","v":""},{"$f":"IF(K132=\"\",\"\",VLOOKUP(K132,'Equipment Type'!$A$1:$F$53,6,FALSE))","v":""},null,{"$f":"IF(K132=\"\",\"\",VLOOKUP(K132,'Equipment Type'!$A$1:$F$53,4,FALSE))","v":""},null,{"$f":"IF(K132=\"\",\"\",INDEX('Equipment Type'!$T$4:$T$53,MATCH('Analysis 103L'!K132,'Equipment Type'!$A$4:$A$53,0)))","v":""},"",null,{"$f":"IF(RIGHT(I132, 4)=\"Case\", \"\", IF(P132=\"\",\"\",(IF(ISNUMBER(SEARCH(\"exit\",J132)),8760,IF(B132=\"Exterior\",4380,'Analysis 103L'!$J$3)))))","v":""},null,"","","","","","","","",{"$f":"IF('100L Information'!$Z$5=\"Yes\",0,IF('100L Information'!$Z$4=\"Yes\",(MIN($Y$232-(-$Y$227),6000)*0.5)*(Y132/$Y$232),$Y$232*(Y132/($Y$230+$Y$231))))","v":{"$error":"#VALUE!"}},"",{"$error":"#VALUE!"},"No requirement",0,{"$f":"IF(OR(Z132=\"Does not meet requirement\",AND('100L Information'!$AA$21=\"No\",AL132=\"Y\"),AND('100L Information'!$AS$21=FALSE,AL132=\"Y\")),0,IF(ISNUMBER(R132*Incent_Cost_Fixture_Rx),MIN(R132*Incent_Cost_Fixture_Rx,(MAX(AE132,AK132))),0))","v":0},"FAIL","0","0","0",0,"N","0","0",null,"","",0,"",{"$f":"IF(RIGHT(I132,4)=\"Case\",W132,IF(AND(AL132=\"Y\",AF132<1),0,IF(OR(LEFT(D132,2)=\"T5\",LEFT(D132,3)=\"CFL\",'Analysis 103L'!AS132=\"Less\"),'Analysis 103L'!AR132,'Analysis 103L'!W132)))","v":""},null,0,0,null,{"$error":"#VALUE!"},{"$error":"#VALUE!"},{"$error":"#VALUE!"},null,null,{"$f":"IF(RIGHT(I132,4)=\"Case\",'LED Case Lighting'!$AY$1,IF(J132=\"\",\"\",VLOOKUP(J132,Lookups!$A$30:$J$149,VLOOKUP('100L Information'!$AI$46,Lookups!$J$3:$L$6,3,FALSE),FALSE)))","v":""},{"$error":"#N/A"},"","",{"$error":"#VALUE!"},{"$error":"#VALUE!"},{"$error":"#VALUE!"},{"$error":"#N/A"},0,{"$error":"#N/A"},0,{"$error":"#VALUE!"},{"$error":"#VALUE!"},{"$error":"#VALUE!"},"FAIL",null,null,null,null,null,null,null,"Interior / Exterior",null,"",null,{"$f":"IF(RIGHT(I132,4)=\"Case\",(INDEX('LED Case Lighting'!$AZ$3:$AZ$16,MATCH('Analysis 103L'!$CI132,'LED Case Lighting'!$AS$3:$AS$16,0))),IF(CB132=0,0,IF(CB132=\"lamp\",((Q132/VLOOKUP(B132,Int_Ext,2,FALSE))*VLOOKUP(E132,NEB,16,FALSE)),IF(CB132=\"fixture\",((Q132/VLOOKUP(B132,Int_Ext,2,FALSE))*VLOOKUP(E132,NEB,14,FALSE)),\"\"))))","v":""},null,{"$f":"IF(RIGHT(I132,4)=\"Case\",INDEX('Equipment Type'!$V$4:$V$53, MATCH('Analysis 103L'!$K132, 'Equipment Type'!$A$4:$A$53, 0)), \"\")","v":""},"","","",{"$f":"IF(CI132=\"\", \"\", IF(RIGHT(I132,4)=\"Case\", INDEX('LED Case Lighting'!$AR$3:$AR$16, MATCH('Analysis 103L'!CI132, 'LED Case Lighting'!$AS$3:$AS$16, 0)), \"\"))","v":""},{"$f":"IF(CI132=\"\",\"\",INDEX('LED Case Lighting'!$AW$3:$AW$16,MATCH('Analysis 103L'!CI132,'LED Case Lighting'!$AS$3:$AS$16,0)))","v":""},{"$f":"IF(CI132=\"\",\"\",INDEX('LED Case Lighting'!$AX$3:$AX$16,MATCH('Analysis 103L'!CI132,'LED Case Lighting'!$AS$3:$AS$16,0)))","v":""},""]
[106,null,null,null,null,null,"",null,{"$f":"IF(K133=\"\",\"\",VLOOKUP(K133,'Equipment Type'!$A$1:$F$53,5,FALSE))","v":""},{"$f":"IF(K133=\"\",\"\",VLOOKUP(K133,'Equipment Type'!$A$1:$F$53,6,FALSE))","v":""},null,{"$f":"IF(K133=\"\",\"\",VLOOKUP(K133,'Equipment Type'!$A$1:$F$53,4,FALSE))","v":""},null,{"$f":"IF(K133=\"\",\"\",INDEX('Equipment Type'!$T$4:$T$53,MATCH('Analysis 103L'!K133,'Equipment Type'!$A$4:$A$53,0)))","v":""},"",null,{"$f":"IF(RIGHT(I133, 4)=\"Case\", \"\", IF(P133=\"\",\"\",(IF(ISNUMBER(SEARCH(\"exit\",J133)),8760,IF(B133=\"Exterior\",4380,'Analysis 103L'!$J$3)))))","v":""},null,"","","","","","","","",{"$f":"IF('100L Information'!$Z$5=\"Yes\",0,IF('100L Information'!$Z$4=\"Yes\",(MIN($Y$232-(-$Y$227),6000)*0.5)*(Y133/$Y$232),$Y$232*(Y133/($Y$230+$Y$231))))","v":{"$error":"#VALUE!"}},"",{"$error":"#VALUE!"},"No requirement",0,{"$f":"IF(OR(Z133=\"Does not meet requirement\",AND('100L Information'!$AA$21=\"No\",AL133=\"Y\"),AND('100L Information'!$AS$21=FALSE,AL133=\"Y\")),0,IF(ISNUMBER(R133*Incent_Cost_Fixture_Rx),MIN(R133*Incent_Cost_Fixture_Rx,(MAX(AE133,AK133))),0))","v":0},"FAIL","0","0","0",0,"N","0","0",null,"","",0,"",{"$f":"IF(RIGHT(I133,4)=\"Case\",W133,IF(AND(AL133=\"Y\",AF133<1),0,IF(OR(LEFT(D133,2)=\"T5\",LEFT(D133,3)=\"CFL\",'Analysis 103L'!AS133=\"Less\"),'Analysis 103L'!AR133,'Analysis 103L'!W133)))","v":""},null,0,0,null,{"$error":"#VALUE!"},{"$error":"#VALUE!"},{"$error":"#VALUE!"},null,null,{"$f":"IF(RIGHT(I133,4)=\"Case\",'LED Case Lighting'!$AY$1,IF(J133=\"\",\"\",VLOOKUP(J133,Lookups!$A$30:$J$149,VLOOKUP('100L Information'!$AI$46,Lookups!$J$3:$L$6,3,FALSE),FALSE)))","v":""},{"$error":"#N/A"},"","",{"$error":"#VALUE!"},{"$error":"#VALUE!"},{"$error":"#VALUE!"},{"$error":"#N/A"},0,{"$error":"#N/A"},0,{"$error":"#VALUE!"},{"$error":"#VALUE!"},{"$error":"#VALUE!"},"FAIL",null,null,null,null,null,null,null,"Interior / Exterior",null,"",null,{"$f":"IF(RIGHT(I133,4)=\"Case\",(INDEX('LED Case Lighting'!$AZ$3:$AZ$16,MATCH('Analysis 103L'!$CI133,'LED Case Lighting'!$AS$3:$AS$16,0))),IF(CB133=0,0,IF(CB133=\"lamp\",((Q133/VLOOKUP(B133,Int_Ext,2,FALSE))*VLOOKUP(E133,NEB,16,FALSE)),IF(CB133=\"fixture\",((Q133/VLOOKUP(B133,Int_Ext,2,FALSE))*VLOOKUP(E133,NEB,14,FALSE)),\"\"))))","v":""},null,{"$f":"IF(RIGHT(I133,4)=\"Case\",INDEX('Equipment Type'!$V$4:$V$53, MATCH('Analysis 103L'!$K133, 'Equipment Type'!$A$4:$A$53, 0)), \"\")","v":""},"","","",{"$f":"IF(CI133=\"\", \"\", IF(RIGHT(I133,4)=\"Case\", INDEX('LED Case Lighting'!$AR$3:$AR$16, MATCH('Analysis 103L'!CI133, 'LED Case Lighting'!$AS$3:$AS$16, 0)), \"\"))","v":""},{"$f":"IF(CI133=\"\",\"\",INDEX('LED Case Lighting'!$AW$3:$AW$16,MATCH('Analysis 103L'!CI133,'LED Case Lighting'!$AS$3:$AS$16,0)))","v":""},{"$f":"IF(CI133=\"\",\"\",INDEX('LED Case Lighting'!$AX$3:$AX$16,MATCH('Analysis 103L'!CI133,'LED Case Lighting'!$AS$3:$AS$16,0)))","v":""},""]
[107,null,null,null,null,null,"",null,{"$f":"IF(K134=\"\",\"\",VLOOKUP(K134,'Equipment Type'!$A$1:$F$53,5,FALSE))","v":""},{"$f":"IF(K134=\"\",\"\",VLOOKUP(K134,'Equipment Type'!$A$1:$F$53,6,FALSE))","v":""},null,{"$f":"IF(K134=\"\",\"\",VLOOKUP(K134,'Equipment Type'!$A$1:$F$53,4,FALSE))","v":""},null,{"$f":"IF(K134=\"\",\"\",INDEX('Equipment Type'!$T$4:$T$53,MATCH('Analysis 103L'!K134,'Equipment Type'!$A$4:$A$53,0)))","v":""},"",null,{"$f":"IF(RIGHT(I134, 4)=\"Case\", \"\", IF(P134=\"\",\"\",(IF(ISNUMBER(SEARCH(\"exit\",J134)),8760,IF(B134=\"Exterior\",4380,'Analysis 103L'!$J$3)))))","v":""},null,"","","","","","","","",{"$f":"IF('100L Information'!$Z$5=\"Yes\",0,IF('100L Information'!$Z$4=\"Yes\",(MIN($Y$232-(-$Y$227),6000)*0.5)*(Y134/$Y$232),$Y$232*(Y134/($Y$230+$Y$231))))","v":{"$error":"#VALUE!"}},"",{"$error":"#VALUE!"},"No requirement",0,{"$f":"IF(OR(Z134=\"Does not meet requirement\",AND('100L Information'!$AA$21=\"No\",AL134=\"Y\"),AND('100L Information'!$AS$21=FALSE,AL134=\"Y\")),0,IF(ISNUMBER(R134*Incent_Cost_Fixture_Rx),MIN(R134*Incent_Cost_Fixture_Rx,(MAX(AE134,AK134))),0))","v":0},"FAIL","0","0","0",0,"N","0","0",null,"","",0,"",{"$f":"IF(RIGHT(I134,4)=\"Case\",W134,IF(AND(AL134=\"Y\",AF134<1),0,IF(OR(LEFT(D134,2)=\"T5\",LEFT(D134,3)=\"CFL\",'Analysis 103L'!AS134=\"Less\"),'Analysis 103L'!AR134,'Analysis 103L'!W134)))","v":""},null,0,0,null,{"$error":"#VALUE!"},{"$error":"#VALUE!"},{"$error":"#VALUE!"},null,null,{"$f":"IF(RIGHT(I134,4)=\"Case\",'LED Case Lighting'!$AY$1,IF(J134=\"\",\"\",VLOOKUP(J134,Lookups!$A$30:$J$149,VLOOKUP('100L Information'!$AI$46,Lookups!$J$3:$L$6,3,FALSE),FALSE)))","v":""},{"$error":"#N/A"},"","",{"$error":"#VALUE!"},{"$error":"#VALUE!"},{"$error":"#VALUE!"},{"$error":"#N/A"},0,{"$error":"#N/A"},0,{"$error":"#VALUE!"},{"$error":"#VALUE!"},{"$error":"#VALUE!"},"FAIL",null,null,null,null,null,null,null,"Interior / Exterior",null,"",null,{"$f":"IF(RIGHT(I134,4)=\"Case\",(INDEX('LED Case Lighting'!$AZ$3:$AZ$16,MATCH('Analysis 103L'!$CI134,'LED Case Lighting'!$AS$3:$AS$16,0))),IF(CB134=0,0,IF(CB134=\"lamp\",((Q134/VLOOKUP(B134,Int_Ext,2,FALSE))*VLOOKUP(E134,NEB,16,FALSE)),IF(CB134=\"fixture\",((Q134/VLOOKUP(B134,Int_Ext,2,FALSE))*VLOOKUP(E134,NEB,14,FALSE)),\"\"))))","v":""},null,{"$f":"IF(RIGHT(I134,4)=\"Case\",INDEX('Equipment Type'!$V$4:$V$53, MATCH('Analysis 103L'!$K134, 'Equipment Type'!$A$4:$A$53, 0)), \"\")","v":""},"","","",{"$f":"IF(CI134=\"\", \"\", IF(RIGHT(I134,4)=\"Case\", INDEX('LED Case Lighting'!$AR$3:$AR$16, MATCH('Analysis 103L'!CI134, 'LED Case Lighting'!$AS$3:$AS$16, 0)), \"\"))","v":""},{"$f":"IF(CI134=\"\",\"\",INDEX('LED Case Lighting'!$AW$3:$AW$16,MATCH('Analysis 103L'!CI134,'LED Case Lighting'!$AS$3:$AS$16,0)))","v":""},{"$f":"IF(CI134=\"\",\"\",INDEX('LED Case Lighting'!$AX$3:$AX$16,MATCH('Analysis 103L'!CI134,'LED Case Lighting'!$AS$3:$AS$16,0)))","v":""},""]
[108,null,null,null,null,null,"",null,{"$f":"IF(K135=\"\",\"\",VLOOKUP(K135,'Equipment Type'!$A$1:$F$53,5,FALSE))","v":""},{"$f":"IF(K135=\"\",\"\",VLOOKUP(K135,'Equipment Type'!$A$1:$F$53,6,FALSE))","v":""},null,{"$f":"IF(K135=\"\",\"\",VLOOKUP(K135,'Equipment Type'!$A$1:$F$53,4,FALSE))","v":""},null,{"$f":"IF(K135=\"\",\"\",INDEX('Equipment Type'!$T$4:$T$53,MATCH('Analysis 103L'!K135,'Equipment Type'!$A$4:$A$53,0)))","v":""},"",null,{"$f":"IF(RIGHT(I135, 4)=\"Case\", \"\", IF(P135=\"\",\"\",(IF(ISNUMBER(SEARCH(\"exit\",J135)),8760,IF(B135=\"Exterior\",4380,'Analysis 103L'!$J$3)))))","v":""},null,"","","","","","","","",{"$f":"IF('100L Information'!$Z$5=\"Yes\",0,IF('100L Information'!$Z$4=\"Yes\",(MIN($Y$232-(-$Y$227),6000)*0.5)*(Y135/$Y$232),$Y$232*(Y135/($Y$230+$Y$231))))","v":{"$error":"#VALUE!"}},"",{"$error":"#VALUE!"},"No requirement",0,{"$f":"IF(OR(Z135=\"Does not meet requirement\",AND('100L Information'!$AA$21=\"No\",AL135=\"Y\"),AND('100L Information'!$AS$21=FALSE,AL135=\"Y\")),0,IF(ISNUMBER(R135*Incent_Cost_Fixture_Rx),MIN(R135*Incent_Cost_Fixture_Rx,(MAX(AE135,AK135))),0))","v":0},"FAIL","0","0","0",0,"N","0","0",null,"","",0,"",{"$f":"IF(RIGHT(I135,4)=\"Case\",W135,IF(AND(AL135=\"Y\",AF135<1),0,IF(OR(LEFT(D135,2)=\"T5\",LEFT(D135,3)=\"CFL\",'Analysis 103L'!AS135=\"Less\"),'Analysis 103L'!AR135,'Analysis 103L'!W135)))","v":""},null,0,0,null,{"$error":"#VALUE!"},{"$error":"#VALUE!"},{"$error":"#VALUE!"},null,null,{"$f":"IF(RIGHT(I135,4)=\"Case\",'LED Case Lighting'!$AY$1,IF(J135=\"\",\"\",VLOOKUP(J135,Lookups!$A$30:$J$149,VLOOKUP('100L Information'!$AI$46,Lookups!$J$3:$L$6,3,FALSE),FALSE)))","v":""},{"$error":"#N/A"},"","",{"$error":"#VALUE!"},{"$error":"#VALUE!"},{"$error":"#VALUE!"},{"$error":"#N/A"},0,{"$error":"#N/A"},0,{"$error":"#VALUE!"},{"$error":"#VALUE!"},{"$error":"#VALUE!"},"FAIL",null,null,null,null,null,null,null,"Interior / Exterior",null,"",null,{"$f":"IF(RIGHT(I135,4)=\"Case\",(INDEX('LED Case Lighting'!$AZ$3:$AZ$16,MATCH('Analysis 103L'!$CI135,'LED Case Lighting'!$AS$3:$AS$16,0))),IF(CB135=0,0,IF(CB135=\"lamp\",((Q135/VLOOKUP(B135,Int_Ext,2,FALSE))*VLOOKUP(E135,NEB,16,FALSE)),IF(CB135=\"fixture\",((Q135/VLOOKUP(B135,Int_Ext,2,FALSE))*VLOOKUP(E135,NEB,14,FALSE)),\"\"))))","v":""},null,{"$f":"IF(RIGHT(I135,4)=\"Case\",INDEX('Equipment Type'!$V$4:$V$53, MATCH('Analysis 103L'!$K135, 'Equipment Type'!$A$4:$A$53, 0)), \"\")","v":""},"","","",{"$f":"IF(CI135=\"\", \"\", IF(RIGHT(I135,4)=\"Case\", INDEX('LED Case Lighting'!$AR$3:$AR$16, MATCH('Analysis 103L'!CI135, 'LED Case Lighting'!$AS$3:$AS$16, 0)), \"\"))","v":""},{"$f":"IF(CI135=\"\",\"\",INDEX('LED Case Lighting'!$AW$3:$AW$16,MATCH('Analysis 103L'!CI135,'LED Case Lighting'!$AS$3:$AS$16,0)))","v":""},{"$f":"IF(CI135=\"\",\"\",INDEX('LED Case Lighting'!$AX$3:$AX$16,MATCH('Analysis 103L'!CI135,'LED Case Lighting'!$AS$3:$AS$16,0)))","v":""},""]
[109,null,null,null,null,null,"",null,{"$f":"IF(K136=\"\",\"\",VLOOKUP(K136,'Equipment Type'!$A$1:$F$53,5,FALSE))","v":""},{"$f":"IF(K136=\"\",\"\",VLOOKUP(K136,'Equipment Type'!$A$1:$F$53,6,FALSE))","v":""},null,{"$f":"IF(K136=\"\",\"\",VLOOKUP(K136,'Equipment Type'!$A$1:$F$53,4,FALSE))","v":""},null,{"$f":"IF(K136=\"\",\"\",INDEX('Equipment Type'!$T$4:$T$53,MATCH('Analysis 103L'!K136,'Equipment Type'!$A$4:$A$53,0)))","v":""},"",null,{"$f":"IF(RIGHT(I136, 4)=\"Case\", \"\", IF(P136=\"\",\"\",(IF(ISNUMBER(SEARCH(\"exit\",J136)),8760,IF(B136=\"Exterior\",4380,'Analysis 103L'!$J$3)))))","v":""},null,"","","","","","","","",{"$f":"IF('100L Information'!$Z$5=\"Yes\",0,IF('100L Information'!$Z$4=\"Yes\",(MIN($Y$232-(-$Y$227),6000)*0.5)*(Y136/$Y$232),$Y$232*(Y136/($Y$230+$Y$231))))","v":{"$error":"#VALUE!"}},"",{"$error":"#VALUE!"},"No requirement",0,{"$f":"IF(OR(Z136=\"Does not meet requirement\",AND('100L Information'!$AA$21=\"No\",AL136=\"Y\"),AND('100L Information'!$AS$21=FALSE,AL136=\"Y\")),0,IF(ISNUMBER(R136*Incent_Cost_Fixture_Rx),MIN(R136*Incent_Cost_Fixture_Rx,(MAX(AE136,AK136))),0))","v":0},"FAIL","0","0","0",0,"N","0","0",null,"","",0,"",{"$f":"IF(RIGHT(I136,4)=\"Case\",W136,IF(AND(AL136=\"Y\",AF136<1),0,IF(OR(LEFT(D136,2)=\"T5\",LEFT(D136,3)=\"CFL\",'Analysis 103L'!AS136=\"Less\"),'Analysis 103L'!AR136,'Analysis 103L'!W136)))","v":""},null,0,0,null,{"$error":"#VALUE!"},{"$error":"#VALUE!"},{"$error":"#VALUE!"},null,null,{"$f":"IF(RIGHT(I136,4)=\"Case\",'LED Case Lighting'!$AY$1,IF(J136=\"\",\"\",VLOOKUP(J136,Lookups!$A$30:$J$149,VLOOKUP('100L Information'!$AI$46,Lookups!$J$3:$L$6,3,FALSE),FALSE)))","v":""},{"$error":"#N/A"},"","",{"$error":"#VALUE!"},{"$error":"#VALUE!"},{"$error":"#VALUE!"},{"$error":"#N/A"},0,{"$error":"#N/A"},0,{"$error":"#VALUE!"},{"$error":"#VALUE!"},{"$error":"#VALUE!"},"FAIL",null,null,null,null,null,null,null,"Interior / Exterior",null,"",null,{"$f":"IF(RIGHT(I136,4)=\"Case\",(INDEX('LED Case Lighting'!$AZ$3:$AZ$16,MATCH('Analysis 103L'!$CI136,'LED Case Lighting'!$AS$3:$AS$16,0))),IF(CB136=0,0,IF(CB136=\"lamp\",((Q136/VLOOKUP(B136,Int_Ext,2,FALSE))*VLOOKUP(E136,NEB,16,FALSE)),IF(CB136=\"fixture\",((Q136/VLOOKUP(B136,Int_Ext,2,FALSE))*VLOOKUP(E136,NEB,14,FALSE)),\"\"))))","v":""},null,{"$f":"IF(RIGHT(I136,4)=\"Case\",INDEX('Equipment Type'!$V$4:$V$53, MATCH('Analysis 103L'!$K136, 'Equipment Type'!$A$4:$A$53, 0)), \"\")","v":""},"","","",{"$f":"IF(CI136=\"\", \"\", IF(RIGHT(I136,4)=\"Case\", INDEX('LED Case Lighting'!$AR$3:$AR$16, MATCH('Analysis 103L'!CI136, 'LED Case Lighting'!$AS$3:$AS$16, 0)), \"\"))","v":""},{"$f":"IF(CI136=\"\",\"\",INDEX('LED Case Lighting'!$AW$3:$AW$16,MATCH('Analysis 103L'!CI136,'LED Case Lighting'!$AS$3:$AS$16,0)))","v":""},{"$f":"IF(CI136=\"\",\"\",INDEX('LED Case Lighting'!$AX$3:$AX$16,MATCH('Analysis 103L'!CI136,'LED Case Lighting'!$AS$3:$AS$16,0)))","v":""},""]
[110,null,null,null,null,null,"",null,{"$f":"IF(K137=\"\",\"\",VLOOKUP(K137,'Equipment Type'!$A$1:$F$53,5,FALSE))","v":""},{"$f":"IF(K137=\"\",\"\",VLOOKUP(K137,'Equipment Type'!$A$1:$F$53,6,FALSE))","v":""},null,{"$f":"IF(K137=\"\",\"\",VLOOKUP(K137,'Equipment Type'!$A$1:$F$53,4,FALSE))","v":""},null,{"$f":"IF(K137=\"\",\"\",INDEX('Equipment Type'!$T$4:$T$53,MATCH('Analysis 103L'!K137,'Equipment Type'!$A$4:$A$53,0)))","v":""},"",null,{"$f":"IF(RIGHT(I137, 4)=\"Case\", \"\", IF(P137=\"\",\"\",(IF(ISNUMBER(SEARCH(\"exit\",J137)),8760,IF(B137=\"Exterior\",4380,'Analysis 103L'!$J$3)))))","v":""},null,"","","","","","","","",{"$f":"IF('100L Information'!$Z$5=\"Yes\",0,IF('100L Information'!$Z$4=\"Yes\",(MIN($Y$232-(-$Y$227),6000)*0.5)*(Y137/$Y$232),$Y$232*(Y137/($Y$230+$Y$231))))","v":{"$error":"#VALUE!"}},"",{"$error":"#VALUE!"},"No requirement",0,{"$f":"IF(OR(Z137=\"Does not meet requirement\",AND('100L Information'!$AA$21=\"No\",AL137=\"Y\"),AND('100L Information'!$AS$21=FALSE,AL137=\"Y\")),0,IF(ISNUMBER(R137*Incent_Cost_Fixture_Rx),MIN(R137*Incent_Cost_Fixture_Rx,(MAX(AE137,AK137))),0))","v":0},"FAIL","0","0","0",0,"N","0","0",null,"","",0,"",{"$f":"IF(RIGHT(I137,4)=\"Case\",W137,IF(AND(AL137=\"Y\",AF137<1),0,IF(OR(LEFT(D137,2)=\"T5\",LEFT(D137,3)=\"CFL\",'Analysis 103L'!AS137=\"Less\"),'Analysis 103L'!AR137,'Analysis 103L'!W137)))","v":""},null,0,0,null,{"$error":"#VALUE!"},{"$error":"#VALUE!"},{"$error":"#VALUE!"},null,null,{"$f":"IF(RIGHT(I137,4)=\"Case\",'LED Case Lighting'!$AY$1,IF(J137=\"\",\"\",VLOOKUP(J137,Lookups!$A$30:$J$149,VLOOKUP('100L Information'!$AI$46,Lookups!$J$3:$L$6,3,FALSE),FALSE)))","v":""},{"$error":"#N/A"},"","",{"$error":"#VALUE!"},{"$error":"#VALUE!"},{"$error":"#VALUE!"},{"$error":"#N/A"},0,{"$error":"#N/A"},0,{"$error":"#VALUE!"},{"$error":"#VALUE!"},{"$error":"#VALUE!"},"FAIL",null,null,null,null,null,null,null,"Interior / Exterior",null,"",null,{"$f":"IF(RIGHT(I137,4)=\"Case\",(INDEX('LED Case Lighting'!$AZ$3:$AZ$16,MATCH('Analysis 103L'!$CI137,'LED Case Lighting'!$AS$3:$AS$16,0))),IF(CB137=0,0,IF(CB137=\"lamp\",((Q137/VLOOKUP(B137,Int_Ext,2,FALSE))*VLOOKUP(E137,NEB,16,FALSE)),IF(CB137=\"fixture\",((Q137/VLOOKUP(B137,Int_Ext,2,FALSE))*VLOOKUP(E137,NEB,14,FALSE)),\"\"))))","v":""},null,{"$f":"IF(RIGHT(I137,4)=\"Case\",INDEX('Equipment Type'!$V$4:$V$53, MATCH('Analysis 103L'!$K137, 'Equipment Type'!$A$4:$A$53, 0)), \"\")","v":""},"","","",{"$f":"IF(CI137=\"\", \"\", IF(RIGHT(I137,4)=\"Case\", INDEX('LED Case Lighting'!$AR$3:$AR$16, MATCH('Analysis 103L'!CI137, 'LED Case Lighting'!$AS$3:$AS$16, 0)), \"\"))","v":""},{"$f":"IF(CI137=\"\",\"\",INDEX('LED Case Lighting'!$AW$3:$AW$16,MATCH('Analysis 103L'!CI137,'LED Case Lighting'!$AS$3:$AS$16,0)))","v":""},{"$f":"IF(CI137=\"\",\"\",INDEX('LED Case Lighting'!$AX$3:$AX$16,MATCH('Analysis 103L'!CI137,'LED Case Lighting'!$AS$3:$AS$16,0)))","v":""},""]
[111,null,null,null,null,null,"",null,{"$f":"IF(K138=\"\",\"\",VLOOKUP(K138,'Equipment Type'!$A$1:$F$53,5,FALSE))","v":""},{"$f":"IF(K138=\"\",\"\",VLOOKUP(K138,'Equipment Type'!$A$1:$F$53,6,FALSE))","v":""},null,{"$f":"IF(K138=\"\",\"\",VLOOKUP(K138,'Equipment Type'!$A$1:$F$53,4,FALSE))","v":""},null,{"$f":"IF(K138=\"\",\"\",INDEX('Equipment Type'!$T$4:$T$53,MATCH('Analysis 103L'!K138,'Equipment Type'!$A$4:$A$53,0)))","v":""},"",null,{"$f":"IF(RIGHT(I138, 4)=\"Case\", \"\", IF(P138=\"\",\"\",(IF(ISNUMBER(SEARCH(\"exit\",J138)),8760,IF(B138=\"Exterior\",4380,'Analysis 103L'!$J$3)))))","v":""},null,"","","","","","","","",{"$f":"IF('100L Information'!$Z$5=\"Yes\",0,IF('100L Information'!$Z$4=\"Yes\",(MIN($Y$232-(-$Y$227),6000)*0.5)*(Y138/$Y$232),$Y$232*(Y138/($Y$230+$Y$231))))","v":{"$error":"#VALUE!"}},"",{"$error":"#VALUE!"},"No requirement",0,{"$f":"IF(OR(Z138=\"Does not meet requirement\",AND('100L Information'!$AA$21=\"No\",AL138=\"Y\"),AND('100L Information'!$AS$21=FALSE,AL138=\"Y\")),0,IF(ISNUMBER(R138*Incent_Cost_Fixture_Rx),MIN(R138*Incent_Cost_Fixture_Rx,(MAX(AE138,AK138))),0))","v":0},"FAIL","0","0","0",0,"N","0","0",null,"","",0,"",{"$f":"IF(RIGHT(I138,4)=\"Case\",W138,IF(AND(AL138=\"Y\",AF138<1),0,IF(OR(LEFT(D138,2)=\"T5\",LEFT(D138,3)=\"CFL\",'Analysis 103L'!AS138=\"Less\"),'Analysis 103L'!AR138,'Analysis 103L'!W138)))","v":""},null,0,0,null,{"$error":"#VALUE!"},{"$error":"#VALUE!"},{"$error":"#VALUE!"},null,null,{"$f":"IF(RIGHT(I138,4)=\"Case\",'LED Case Lighting'!$AY$1,IF(J138=\"\",\"\",VLOOKUP(J138,Lookups!$A$30:$J$149,VLOOKUP('100L Information'!$AI$46,Lookups!$J$3:$L$6,3,FALSE),FALSE)))","v":""},{"$error":"#N/A"},"","",{"$error":"#VALUE!"},{"$error":"#VALUE!"},{"$error":"#VALUE!"},{"$error":"#N/A"},0,{"$error":"#N/A"},0,{"$error":"#VALUE!"},{"$error":"#VALUE!"},{"$error":"#VALUE!"},"FAIL",null,null,null,null,null,null,null,"Interior / Exterior",null,"",null,{"$f":"IF(RIGHT(I138,4)=\"Case\",(INDEX('LED Case Lighting'!$AZ$3:$AZ$16,MATCH('Analysis 103L'!$CI138,'LED Case Lighting'!$AS$3:$AS$16,0))),IF(CB138=0,0,IF(CB138=\"lamp\",((Q138/VLOOKUP(B138,Int_Ext,2,FALSE))*VLOOKUP(E138,NEB,16,FALSE)),IF(CB138=\"fixture\",((Q138/VLOOKUP(B138,Int_Ext,2,FALSE))*VLOOKUP(E138,NEB,14,FALSE)),\"\"))))","v":""},null,{"$f":"IF(RIGHT(I138,4)=\"Case\",INDEX('Equipment Type'!$V$4:$V$53, MATCH('Analysis 103L'!$K138, 'Equipment Type'!$A$4:$A$53, 0)), \"\")","v":""},"","","",{"$f":"IF(CI138=\"\", \"\", IF(RIGHT(I138,4)=\"Case\", INDEX('LED Case Lighting'!$AR$3:$AR$16, MATCH('Analysis 103L'!CI138, 'LED Case Lighting'!$AS$3:$AS$16, 0)), \"\"))","v":""},{"$f":"IF(CI138=\"\",\"\",INDEX('LED Case Lighting'!$AW$3:$AW$16,MATCH('Analysis 103L'!CI138,'LED Case Lighting'!$AS$3:$AS$16,0)))","v":""},{"$f":"IF(CI138=\"\",\"\",INDEX('LED Case Lighting'!$AX$3:$AX$16,MATCH('Analysis 103L'!CI138,'LED Case Lighting'!$AS$3:$AS$16,0)))","v":""},""]
[112,null,null,null,null,null,"",null,{"$f":"IF(K139=\"\",\"\",VLOOKUP(K139,'Equipment Type'!$A$1:$F$53,5,FALSE))","v":""},{"$f":"IF(K139=\"\",\"\",VLOOKUP(K139,'Equipment Type'!$A$1:$F$53,6,FALSE))","v":""},null,{"$f":"IF(K139=\"\",\"\",VLOOKUP(K139,'Equipment Type'!$A$1:$F$53,4,FALSE))","v":""},null,{"$f":"IF(K139=\"\",\"\",INDEX('Equipment Type'!$T$4:$T$53,MATCH('Analysis 103L'!K139,'Equipment Type'!$A$4:$A$53,0)))","v":""},"",null,{"$f":"IF(RIGHT(I139, 4)=\"Case\", \"\", IF(P139=\"\",\"\",(IF(ISNUMBER(SEARCH(\"exit\",J139)),8760,IF(B139=\"Exterior\",4380,'Analysis 103L'!$J$3)))))","v":""},null,"","","","","","","","",{"$f":"IF('100L Information'!$Z$5=\"Yes\",0,IF('100L Information'!$Z$4=\"Yes\",(MIN($Y$232-(-$Y$227),6000)*0.5)*(Y139/$Y$232),$Y$232*(Y139/($Y$230+$Y$231))))","v":{"$error":"#VALUE!"}},"",{"$error":"#VALUE!"},"No requirement",0,{"$f":"IF(OR(Z139=\"Does not meet requirement\",AND('100L Information'!$AA$21=\"No\",AL139=\"Y\"),AND('100L Information'!$AS$21=FALSE,AL139=\"Y\")),0,IF(ISNUMBER(R139*Incent_Cost_Fixture_Rx),MIN(R139*Incent_Cost_Fixture_Rx,(MAX(AE139,AK139))),0))","v":0},"FAIL","0","0","0",0,"N","0","0",null,"","",0,"",{"$f":"IF(RIGHT(I139,4)=\"Case\",W139,IF(AND(AL139=\"Y\",AF139<1),0,IF(OR(LEFT(D139,2)=\"T5\",LEFT(D139,3)=\"CFL\",'Analysis 103L'!AS139=\"Less\"),'Analysis 103L'!AR139,'Analysis 103L'!W139)))","v":""},null,0,0,null,{"$error":"#VALUE!"},{"$error":"#VALUE!"},{"$error":"#VALUE!"},null,null,{"$f":"IF(RIGHT(I139,4)=\"Case\",'LED Case Lighting'!$AY$1,IF(J139=\"\",\"\",VLOOKUP(J139,Lookups!$A$30:$J$149,VLOOKUP('100L Information'!$AI$46,Lookups!$J$3:$L$6,3,FALSE),FALSE)))","v":""},{"$error":"#N/A"},"","",{"$error":"#VALUE!"},{"$error":"#VALUE!"},{"$error":"#VALUE!"},{"$error":"#N/A"},0,{"$error":"#N/A"},0,{"$error":"#VALUE!"},{"$error":"#VALUE!"},{"$error":"#VALUE!"},"FAIL",null,null,null,null,null,null,null,"Interior / Exterior",null,"",null,{"$f":"IF(RIGHT(I139,4)=\"Case\",(INDEX('LED Case Lighting'!$AZ$3:$AZ$16,MATCH('Analysis 103L'!$CI139,'LED Case Lighting'!$AS$3:$AS$16,0))),IF(CB139=0,0,IF(CB139=\"lamp\",((Q139/VLOOKUP(B139,Int_Ext,2,FALSE))*VLOOKUP(E139,NEB,16,FALSE)),IF(CB139=\"fixture\",((Q139/VLOOKUP(B139,Int_Ext,2,FALSE))*VLOOKUP(E139,NEB,14,FALSE)),\"\"))))","v":""},null,{"$f":"IF(RIGHT(I139,4)=\"Case\",INDEX('Equipment Type'!$V$4:$V$53, MATCH('Analysis 103L'!$K139, 'Equipment Type'!$A$4:$A$53, 0)), \"\")","v":""},"","","",{"$f":"IF(CI139=\"\", \"\", IF(RIGHT(I139,4)=\"Case\", INDEX('LED Case Lighting'!$AR$3:$AR$16, MATCH('Analysis 103L'!CI139, 'LED Case Lighting'!$AS$3:$AS$16, 0)), \"\"))","v":""},{"$f":"IF(CI139=\"\",\"\",INDEX('LED Case Lighting'!$AW$3:$AW$16,MATCH('Analysis 103L'!CI139,'LED Case Lighting'!$AS$3:$AS$16,0)))","v":""},{"$f":"IF(CI139=\"\",\"\",INDEX('LED Case Lighting'!$AX$3:$AX$16,MATCH('Analysis 103L'!CI139,'LED Case Lighting'!$AS$3:$AS$16,0)))","v":""},""]
[113,null,null,null,null,null,"",null,{"$f":"IF(K140=\"\",\"\",VLOOKUP(K140,'Equipment Type'!$A$1:$F$53,5,FALSE))","v":""},{"$f":"IF(K140=\"\",\"\",VLOOKUP(K140,'Equipment Type'!$A$1:$F$53,6,FALSE))","v":""},null,{"$f":"IF(K140=\"\",\"\",VLOOKUP(K140,'Equipment Type'!$A$1:$F$53,4,FALSE))","v":""},null,{"$f":"IF(K140=\"\",\"\",INDEX('Equipment Type'!$T$4:$T$53,MATCH('Analysis 103L'!K140,'Equipment Type'!$A$4:$A$53,0)))","v":""},"",null,{"$f":"IF(RIGHT(I140, 4)=\"Case\", \"\", IF(P140=\"\",\"\",(IF(ISNUMBER(SEARCH(\"exit\",J140)),8760,IF(B140=\"Exterior\",4380,'Analysis 103L'!$J$3)))))","v":""},null,"","","","","","","","",{"$f":"IF('100L Information'!$Z$5=\"Yes\",0,IF('100L Information'!$Z$4=\"Yes\",(MIN($Y$232-(-$Y$227),6000)*0.5)*(Y140/$Y$232),$Y$232*(Y140/($Y$230+$Y$231))))","v":{"$error":"#VALUE!"}},"",{"$error":"#VALUE!"},"No requirement",0,{"$f":"IF(OR(Z140=\"Does not meet requirement\",AND('100L Information'!$AA$21=\"No\",AL140=\"Y\"),AND('100L Information'!$AS$21=FALSE,AL140=\"Y\")),0,IF(ISNUMBER(R140*Incent_Cost_Fixture_Rx),MIN(R140*Incent_Cost_Fixture_Rx,(MAX(AE140,AK140))),0))","v":0},"FAIL","0","0","0",0,"N","0","0",null,"","",0,"",{"$f":"IF(RIGHT(I140,4)=\"Case\",W140,IF(AND(AL140=\"Y\",AF140<1),0,IF(OR(LEFT(D140,2)=\"T5\",LEFT(D140,3)=\"CFL\",'Analysis 103L'!AS140=\"Less\"),'Analysis 103L'!AR140,'Analysis 103L'!W140)))","v":""},null,0,0,null,{"$error":"#VALUE!"},{"$error":"#VALUE!"},{"$error":"#VALUE!"},null,null,{"$f":"IF(RIGHT(I140,4)=\"Case\",'LED Case Lighting'!$AY$1,IF(J140=\"\",\"\",VLOOKUP(J140,Lookups!$A$30:$J$149,VLOOKUP('100L Information'!$AI$46,Lookups!$J$3:$L$6,3,FALSE),FALSE)))","v":""},{"$error":"#N/A"},"","",{"$error":"#VALUE!"},{"$error":"#VALUE!"},{"$error":"#VALUE!"},{"$error":"#N/A"},0,{"$error":"#N/A"},0,{"$error":"#VALUE!"},{"$error":"#VALUE!"},{"$error":"#VALUE!"},"FAIL",null,null,null,null,null,null,null,"Interior / Exterior",null,"",null,{"$f":"IF(RIGHT(I140,4)=\"Case\",(INDEX('LED Case Lighting'!$AZ$3:$AZ$16,MATCH('Analysis 103L'!$CI140,'LED Case Lighting'!$AS$3:$AS$16,0))),IF(CB140=0,0,IF(CB140=\"lamp\",((Q140/VLOOKUP(B140,Int_Ext,2,FALSE))*VLOOKUP(E140,NEB,16,FALSE)),IF(CB140=\"fixture\",((Q140/VLOOKUP(B140,Int_Ext,2,FALSE))*VLOOKUP(E140,NEB,14,FALSE)),\"\"))))","v":""},null,{"$f":"IF(RIGHT(I140,4)=\"Case\",INDEX('Equipment Type'!$V$4:$V$53, MATCH('Analysis 103L'!$K140, 'Equipment Type'!$A$4:$A$53, 0)), \"\")","v":""},"","","",{"$f":"IF(CI140=\"\", \"\", IF(RIGHT(I140,4)=\"Case\", INDEX('LED Case Lighting'!$AR$3:$AR$16, MATCH('Analysis 103L'!CI140, 'LED Case Lighting'!$AS$3:$AS$16, 0)), \"\"))","v":""},{"$f":"IF(CI140=\"\",\"\",INDEX('LED Case Lighting'!$AW$3:$AW$16,MATCH('Analysis 103L'!CI140,'LED Case Lighting'!$AS$3:$AS$16,0)))","v":""},{"$f":"IF(CI140=\"\",\"\",INDEX('LED Case Lighting'!$AX$3:$AX$16,MATCH('Analysis 103L'!CI140,'LED Case Lighting'!$AS$3:$AS$16,0)))","v":""},""]
[114,null,null,null,null,null,"",null,{"$f":"IF(K141=\"\",\"\",VLOOKUP(K141,'Equipment Type'!$A$1:$F$53,5,FALSE))","v":""},{"$f":"IF(K141=\"\",\"\",VLOOKUP(K141,'Equipment Type'!$A$1:$F$53,6,FALSE))","v":""},null,{"$f":"IF(K141=\"\",\"\",VLOOKUP(K141,'Equipment Type'!$A$1:$F$53,4,FALSE))","v":""},null,{"$f":"IF(K141=\"\",\"\",INDEX('Equipment Type'!$T$4:$T$53,MATCH('Analysis 103L'!K141,'Equipment Type'!$A$4:$A$53,0)))","v":""},"",null,{"$f":"IF(RIGHT(I141, 4)=\"Case\", \"\", IF(P141=\"\",\"\",(IF(ISNUMBER(SEARCH(\"exit\",J141)),8760,IF(B141=\"Exterior\",4380,'Analysis 103L'!$J$3)))))","v":""},null,"","","","","","","","",{"$f":"IF('100L Information'!$Z$5=\"Yes\",0,IF('100L Information'!$Z$4=\"Yes\",(MIN($Y$232-(-$Y$227),6000)*0.5)*(Y141/$Y$232),$Y$232*(Y141/($Y$230+$Y$231))))","v":{"$error":"#VALUE!"}},"",{"$error":"#VALUE!"},"No requirement",0,{"$f":"IF(OR(Z141=\"Does not meet requirement\",AND('100L Information'!$AA$21=\"No\",AL141=\"Y\"),AND('100L Information'!$AS$21=FALSE,AL141=\"Y\")),0,IF(ISNUMBER(R141*Incent_Cost_Fixture_Rx),MIN(R141*Incent_Cost_Fixture_Rx,(MAX(AE141,AK141))),0))","v":0},"FAIL","0","0","0",0,"N","0","0",null,"","",0,"",{"$f":"IF(RIGHT(I141,4)=\"Case\",W141,IF(AND(AL141=\"Y\",AF141<1),0,IF(OR(LEFT(D141,2)=\"T5\",LEFT(D141,3)=\"CFL\",'Analysis 103L'!AS141=\"Less\"),'Analysis 103L'!AR141,'Analysis 103L'!W141)))","v":""},null,0,0,null,{"$error":"#VALUE!"},{"$error":"#VALUE!"},{"$error":"#VALUE!"},null,null,{"$f":"IF(RIGHT(I141,4)=\"Case\",'LED Case Lighting'!$AY$1,IF(J141=\"\",\"\",VLOOKUP(J141,Lookups!$A$30:$J$149,VLOOKUP('100L Information'!$AI$46,Lookups!$J$3:$L$6,3,FALSE),FALSE)))","v":""},{"$error":"#N/A"},"","",{"$error":"#VALUE!"},{"$error":"#VALUE!"},{"$error":"#VALUE!"},{"$error":"#N/A"},0,{"$error":"#N/A"},0,{"$error":"#VALUE!"},{"$error":"#VALUE!"},{"$error":"#VALUE!"},"FAIL",null,null,null,null,null,null,null,"Interior / Exterior",null,"",null,{"$f":"IF(RIGHT(I141,4)=\"Case\",(INDEX('LED Case Lighting'!$AZ$3:$AZ$16,MATCH('Analysis 103L'!$CI141,'LED Case Lighting'!$AS$3:$AS$16,0))),IF(CB141=0,0,IF(CB141=\"lamp\",((Q141/VLOOKUP(B141,Int_Ext,2,FALSE))*VLOOKUP(E141,NEB,16,FALSE)),IF(CB141=\"fixture\",((Q141/VLOOKUP(B141,Int_Ext,2,FALSE))*VLOOKUP(E141,NEB,14,FALSE)),\"\"))))","v":""},null,{"$f":"IF(RIGHT(I141,4)=\"Case\",INDEX('Equipment Type'!$V$4:$V$53, MATCH('Analysis 103L'!$K141, 'Equipment Type'!$A$4:$A$53, 0)), \"\")","v":""},"","","",{"$f":"IF(CI141=\"\", \"\", IF(RIGHT(I141,4)=\"Case\", INDEX('LED Case Lighting'!$AR$3:$AR$16, MATCH('Analysis 103L'!CI141, 'LED Case Lighting'!$AS$3:$AS$16, 0)), \"\"))","v":""},{"$f":"IF(CI141=\"\",\"\",INDEX('LED Case Lighting'!$AW$3:$AW$16,MATCH('Analysis 103L'!CI141,'LED Case Lighting'!$AS$3:$AS$16,0)))","v":""},{"$f":"IF(CI141=\"\",\"\",INDEX('LED Case Lighting'!$AX$3:$AX$16,MATCH('Analysis 103L'!CI141,'LED Case Lighting'!$AS$3:$AS$16,0)))","v":""},""]
[115,null,null,null,null,null,"",null,{"$f":"IF(K142=\"\",\"\",VLOOKUP(K142,'Equipment Type'!$A$1:$F$53,5,FALSE))","v":""},{"$f":"IF(K142=\"\",\"\",VLOOKUP(K142,'Equipment Type'!$A$1:$F$53,6,FALSE))","v":""},null,{"$f":"IF(K142=\"\",\"\",VLOOKUP(K142,'Equipment Type'!$A$1:$F$53,4,FALSE))","v":""},null,{"$f":"IF(K142=\"\",\"\",INDEX('Equipment Type'!$T$4:$T$53,MATCH('Analysis 103L'!K142,'Equipment Type'!$A$4:$A$53,0)))","v":""},"",null,{"$f":"IF(RIGHT(I142, 4)=\"Case\", \"\", IF(P142=\"\",\"\",(IF(ISNUMBER(SEARCH(\"exit\",J142)),8760,IF(B142=\"Exterior\",4380,'Analysis 103L'!$J$3)))))","v":""},null,"","","","","","","","",{"$f":"IF('100L Information'!$Z$5=\"Yes\",0,IF('100L Information'!$Z$4=\"Yes\",(MIN($Y$232-(-$Y$227),6000)*0.5)*(Y142/$Y$232),$Y$232*(Y142/($Y$230+$Y$231))))","v":{"$error":"#VALUE!"}},"",{"$error":"#VALUE!"},"No requirement",0,{"$f":"IF(OR(Z142=\"Does not meet requirement\",AND('100L Information'!$AA$21=\"No\",AL142=\"Y\"),AND('100L Information'!$AS$21=FALSE,AL142=\"Y\")),0,IF(ISNUMBER(R142*Incent_Cost_Fixture_Rx),MIN(R142*Incent_Cost_Fixture_Rx,(MAX(AE142,AK142))),0))","v":0},"FAIL","0","0","0",0,"N","0","0",null,"","",0,"",{"$f":"IF(RIGHT(I142,4)=\"Case\",W142,IF(AND(AL142=\"Y\",AF142<1),0,IF(OR(LEFT(D142,2)=\"T5\",LEFT(D142,3)=\"CFL\",'Analysis 103L'!AS142=\"Less\"),'Analysis 103L'!AR142,'Analysis 103L'!W142)))","v":""},null,0,0,null,{"$error":"#VALUE!"},{"$error":"#VALUE!"},{"$error":"#VALUE!"},null,null,{"$f":"IF(RIGHT(I142,4)=\"Case\",'LED Case Lighting'!$AY$1,IF(J142=\"\",\"\",VLOOKUP(J142,Lookups!$A$30:$J$149,VLOOKUP('100L Information'!$AI$46,Lookups!$J$3:$L$6,3,FALSE),FALSE)))","v":""},{"$error":"#N/A"},"","",{"$error":"#VALUE!"},{"$error":"#VALUE!"},{"$error":"#VALUE!"},{"$error":"#N/A"},0,{"$error":"#N/A"},0,{"$error":"#VALUE!"},{"$error":"#VALUE!"},{"$error":"#VALUE!"},"FAIL",null,null,null,null,null,null,null,"Interior / Exterior",null,"",null,{"$f":"IF(RIGHT(I142,4)=\"Case\",(INDEX('LED Case Lighting'!$AZ$3:$AZ$16,MATCH('Analysis 103L'!$CI142,'LED Case Lighting'!$AS$3:$AS$16,0))),IF(CB142=0,0,IF(CB142=\"lamp\",((Q142/VLOOKUP(B142,Int_Ext,2,FALSE))*VLOOKUP(E142,NEB,16,FALSE)),IF(CB142=\"fixture\",((Q142/VLOOKUP(B142,Int_Ext,2,FALSE))*VLOOKUP(E142,NEB,14,FALSE)),\"\"))))","v":""},null,{"$f":"IF(RIGHT(I142,4)=\"Case\",INDEX('Equipment Type'!$V$4:$V$53, MATCH('Analysis 103L'!$K142, 'Equipment Type'!$A$4:$A$53, 0)), \"\")","v":""},"","","",{"$f":"IF(CI142=\"\", \"\", IF(RIGHT(I142,4)=\"Case\", INDEX('LED Case Lighting'!$AR$3:$AR$16, MATCH('Analysis 103L'!CI142, 'LED Case Lighting'!$AS$3:$AS$16, 0)), \"\"))","v":""},{"$f":"IF(CI142=\"\",\"\",INDEX('LED Case Lighting'!$AW$3:$AW$16,MATCH('Analysis 103L'!CI142,'LED Case Lighting'!$AS$3:$AS$16,0)))","v":""},{"$f":"IF(CI142=\"\",\"\",INDEX('LED Case Lighting'!$AX$3:$AX$16,MATCH('Analysis 103L'!CI142,'LED Case Lighting'!$AS$3:$AS$16,0)))","v":""},""]
[116,null,null,null,null,null,"",null,{"$f":"IF(K143=\"\",\"\",VLOOKUP(K143,'Equipment Type'!$A$1:$F$53,5,FALSE))","v":""},{"$f":"IF(K143=\"\",\"\",VLOOKUP(K143,'Equipment Type'!$A$1:$F$53,6,FALSE))","v":""},null,{"$f":"IF(K143=\"\",\"\",VLOOKUP(K143,'Equipment Type'!$A$1:$F$53,4,FALSE))","v":""},null,{"$f":"IF(K143=\"\",\"\",INDEX('Equipment Type'!$T$4:$T$53,MATCH('Analysis 103L'!K143,'Equipment Type'!$A$4:$A$53,0)))","v":""},"",null,{"$f":"IF(RIGHT(I143, 4)=\"Case\", \"\", IF(P143=\"\",\"\",(IF(ISNUMBER(SEARCH(\"exit\",J143)),8760,IF(B143=\"Exterior\",4380,'Analysis 103L'!$J$3)))))","v":""},null,"","","","","","","","",{"$f":"IF('100L Information'!$Z$5=\"Yes\",0,IF('100L Information'!$Z$4=\"Yes\",(MIN($Y$232-(-$Y$227),6000)*0.5)*(Y143/$Y$232),$Y$232*(Y143/($Y$230+$Y$231))))","v":{"$error":"#VALUE!"}},"",{"$error":"#VALUE!"},"No requirement",0,{"$f":"IF(OR(Z143=\"Does not meet requirement\",AND('100L Information'!$AA$21=\"No\",AL143=\"Y\"),AND('100L Information'!$AS$21=FALSE,AL143=\"Y\")),0,IF(ISNUMBER(R143*Incent_Cost_Fixture_Rx),MIN(R143*Incent_Cost_Fixture_Rx,(MAX(AE143,AK143))),0))","v":0},"FAIL","0","0","0",0,"N","0","0",null,"","",0,"",{"$f":"IF(RIGHT(I143,4)=\"Case\",W143,IF(AND(AL143=\"Y\",AF143<1),0,IF(OR(LEFT(D143,2)=\"T5\",LEFT(D143,3)=\"CFL\",'Analysis 103L'!AS143=\"Less\"),'Analysis 103L'!AR143,'Analysis 103L'!W143)))","v":""},null,0,0,null,{"$error":"#VALUE!"},{"$error":"#VALUE!"},{"$error":"#VALUE!"},null,null,{"$f":"IF(RIGHT(I143,4)=\"Case\",'LED Case Lighting'!$AY$1,IF(J143=\"\",\"\",VLOOKUP(J143,Lookups!$A$30:$J$149,VLOOKUP('100L Information'!$AI$46,Lookups!$J$3:$L$6,3,FALSE),FALSE)))","v":""},{"$error":"#N/A"},"","",{"$error":"#VALUE!"},{"$error":"#VALUE!"},{"$error":"#VALUE!"},{"$error":"#N/A"},0,{"$error":"#N/A"},0,{"$error":"#VALUE!"},{"$error":"#VALUE!"},{"$error":"#VALUE!"},"FAIL",null,null,null,null,null,null,null,"Interior / Exterior",null,"",null,{"$f":"IF(RIGHT(I143,4)=\"Case\",(INDEX('LED Case Lighting'!$AZ$3:$AZ$16,MATCH('Analysis 103L'!$CI143,'LED Case Lighting'!$AS$3:$AS$16,0))),IF(CB143=0,0,IF(CB143=\"lamp\",((Q143/VLOOKUP(B143,Int_Ext,2,FALSE))*VLOOKUP(E143,NEB,16,FALSE)),IF(CB143=\"fixture\",((Q143/VLOOKUP(B143,Int_Ext,2,FALSE))*VLOOKUP(E143,NEB,14,FALSE)),\"\"))))","v":""},null,{"$f":"IF(RIGHT(I143,4)=\"Case\",INDEX('Equipment Type'!$V$4:$V$53, MATCH('Analysis 103L'!$K143, 'Equipment Type'!$A$4:$A$53, 0)), \"\")","v":""},"","","",{"$f":"IF(CI143=\"\", \"\", IF(RIGHT(I143,4)=\"Case\", INDEX('LED Case Lighting'!$AR$3:$AR$16, MATCH('Analysis 103L'!CI143, 'LED Case Lighting'!$AS$3:$AS$16, 0)), \"\"))","v":""},{"$f":"IF(CI143=\"\",\"\",INDEX('LED Case Lighting'!$AW$3:$AW$16,MATCH('Analysis 103L'!CI143,'LED Case Lighting'!$AS$3:$AS$16,0)))","v":""},{"$f":"IF(CI143=\"\",\"\",INDEX('LED Case Lighting'!$AX$3:$AX$16,MATCH('Analysis 103L'!CI143,'LED Case Lighting'!$AS$3:$AS$16,0)))","v":""},""]
[117,null,null,null,null,null,"",null,{"$f":"IF(K144=\"\",\"\",VLOOKUP(K144,'Equipment Type'!$A$1:$F$53,5,FALSE))","v":""},{"$f":"IF(K144=\"\",\"\",VLOOKUP(K144,'Equipment Type'!$A$1:$F$53,6,FALSE))","v":""},null,{"$f":"IF(K144=\"\",\"\",VLOOKUP(K144,'Equipment Type'!$A$1:$F$53,4,FALSE))","v":""},null,{"$f":"IF(K144=\"\",\"\",INDEX('Equipment Type'!$T$4:$T$53,MATCH('Analysis 103L'!K144,'Equipment Type'!$A$4:$A$53,0)))","v":""},"",null,{"$f":"IF(RIGHT(I144, 4)=\"Case\", \"\", IF(P144=\"\",\"\",(IF(ISNUMBER(SEARCH(\"exit\",J144)),8760,IF(B144=\"Exterior\",4380,'Analysis 103L'!$J$3)))))","v":""},null,"","","","","","","","",{"$f":"IF('100L Information'!$Z$5=\"Yes\",0,IF('100L Information'!$Z$4=\"Yes\",(MIN($Y$232-(-$Y$227),6000)*0.5)*(Y144/$Y$232),$Y$232*(Y144/($Y$230+$Y$231))))","v":{"$error":"#VALUE!"}},"",{"$error":"#VALUE!"},"No requirement",0,{"$f":"IF(OR(Z144=\"Does not meet requirement\",AND('100L Information'!$AA$21=\"No\",AL144=\"Y\"),AND('100L Information'!$AS$21=FALSE,AL144=\"Y\")),0,IF(ISNUMBER(R144*Incent_Cost_Fixture_Rx),MIN(R144*Incent_Cost_Fixture_Rx,(MAX(AE144,AK144))),0))","v":0},"FAIL","0","0","0",0,"N","0","0",null,"","",0,"",{"$f":"IF(RIGHT(I144,4)=\"Case\",W144,IF(AND(AL144=\"Y\",AF144<1),0,IF(OR(LEFT(D144,2)=\"T5\",LEFT(D144,3)=\"CFL\",'Analysis 103L'!AS144=\"Less\"),'Analysis 103L'!AR144,'Analysis 103L'!W144)))","v":""},null,0,0,null,{"$error":"#VALUE!"},{"$error":"#VALUE!"},{"$error":"#VALUE!"},null,null,{"$f":"IF(RIGHT(I144,4)=\"Case\",'LED Case Lighting'!$AY$1,IF(J144=\"\",\"\",VLOOKUP(J144,Lookups!$A$30:$J$149,VLOOKUP('100L Information'!$AI$46,Lookups!$J$3:$L$6,3,FALSE),FALSE)))","v":""},{"$error":"#N/A"},"","",{"$error":"#VALUE!"},{"$error":"#VALUE!"},{"$error":"#VALUE!"},{"$error":"#N/A"},0,{"$error":"#N/A"},0,{"$error":"#VALUE!"},{"$error":"#VALUE!"},{"$error":"#VALUE!"},"FAIL",null,null,null,null,null,null,null,"Interior / Exterior",null,"",null,{"$f":"IF(RIGHT(I144,4)=\"Case\",(INDEX('LED Case Lighting'!$AZ$3:$AZ$16,MATCH('Analysis 103L'!$CI144,'LED Case Lighting'!$AS$3:$AS$16,0))),IF(CB144=0,0,IF(CB144=\"lamp\",((Q144/VLOOKUP(B144,Int_Ext,2,FALSE))*VLOOKUP(E144,NEB,16,FALSE)),IF(CB144=\"fixture\",((Q144/VLOOKUP(B144,Int_Ext,2,FALSE))*VLOOKUP(E144,NEB,14,FALSE)),\"\"))))","v":""},null,{"$f":"IF(RIGHT(I144,4)=\"Case\",INDEX('Equipment Type'!$V$4:$V$53, MATCH('Analysis 103L'!$K144, 'Equipment Type'!$A$4:$A$53, 0)), \"\")","v":""},"","","",{"$f":"IF(CI144=\"\", \"\", IF(RIGHT(I144,4)=\"Case\", INDEX('LED Case Lighting'!$AR$3:$AR$16, MATCH('Analysis 103L'!CI144, 'LED Case Lighting'!$AS$3:$AS$16, 0)), \"\"))","v":""},{"$f":"IF(CI144=\"\",\"\",INDEX('LED Case Lighting'!$AW$3:$AW$16,MATCH('Analysis 103L'!CI144,'LED Case Lighting'!$AS$3:$AS$16,0)))","v":""},{"$f":"IF(CI144=\"\",\"\",INDEX('LED Case Lighting'!$AX$3:$AX$16,MATCH('Analysis 103L'!CI144,'LED Case Lighting'!$AS$3:$AS$16,0)))","v":""},""]
[118,null,null,null,null,null,"",null,{"$f":"IF(K145=\"\",\"\",VLOOKUP(K145,'Equipment Type'!$A$1:$F$53,5,FALSE))","v":""},{"$f":"IF(K145=\"\",\"\",VLOOKUP(K145,'Equipment Type'!$A$1:$F$53,6,FALSE))","v":""},null,{"$f":"IF(K145=\"\",\"\",VLOOKUP(K145,'Equipment Type'!$A$1:$F$53,4,FALSE))","v":""},null,{"$f":"IF(K145=\"\",\"\",INDEX('Equipment Type'!$T$4:$T$53,MATCH('Analysis 103L'!K145,'Equipment Type'!$A$4:$A$53,0)))","v":""},"",null,{"$f":"IF(RIGHT(I145, 4)=\"Case\", \"\", IF(P145=\"\",\"\",(IF(ISNUMBER(SEARCH(\"exit\",J145)),8760,IF(B145=\"Exterior\",4380,'Analysis 103L'!$J$3)))))","v":""},null,"","","","","","","","",{"$f":"IF('100L Information'!$Z$5=\"Yes\",0,IF('100L Information'!$Z$4=\"Yes\",(MIN($Y$232-(-$Y$227),6000)*0.5)*(Y145/$Y$232),$Y$232*(Y145/($Y$230+$Y$231))))","v":{"$error":"#VALUE!"}},"",{"$error":"#VALUE!"},"No requirement",0,{"$f":"IF(OR(Z145=\"Does not meet requirement\",AND('100L Information'!$AA$21=\"No\",AL145=\"Y\"),AND('100L Information'!$AS$21=FALSE,AL145=\"Y\")),0,IF(ISNUMBER(R145*Incent_Cost_Fixture_Rx),MIN(R145*Incent_Cost_Fixture_Rx,(MAX(AE145,AK145))),0))","v":0},"FAIL","0","0","0",0,"N","0","0",null,"","",0,"",{"$f":"IF(RIGHT(I145,4)=\"Case\",W145,IF(AND(AL145=\"Y\",AF145<1),0,IF(OR(LEFT(D145,2)=\"T5\",LEFT(D145,3)=\"CFL\",'Analysis 103L'!AS145=\"Less\"),'Analysis 103L'!AR145,'Analysis 103L'!W145)))","v":""},null,0,0,null,{"$error":"#VALUE!"},{"$error":"#VALUE!"},{"$error":"#VALUE!"},null,null,{"$f":"IF(RIGHT(I145,4)=\"Case\",'LED Case Lighting'!$AY$1,IF(J145=\"\",\"\",VLOOKUP(J145,Lookups!$A$30:$J$149,VLOOKUP('100L Information'!$AI$46,Lookups!$J$3:$L$6,3,FALSE),FALSE)))","v":""},{"$error":"#N/A"},"","",{"$error":"#VALUE!"},{"$error":"#VALUE!"},{"$error":"#VALUE!"},{"$error":"#N/A"},0,{"$error":"#N/A"},0,{"$error":"#VALUE!"},{"$error":"#VALUE!"},{"$error":"#VALUE!"},"FAIL",null,null,null,null,null,null,null,"Interior / Exterior",null,"",null,{"$f":"IF(RIGHT(I145,4)=\"Case\",(INDEX('LED Case Lighting'!$AZ$3:$AZ$16,MATCH('Analysis 103L'!$CI145,'LED Case Lighting'!$AS$3:$AS$16,0))),IF(CB145=0,0,IF(CB145=\"lamp\",((Q145/VLOOKUP(B145,Int_Ext,2,FALSE))*VLOOKUP(E145,NEB,16,FALSE)),IF(CB145=\"fixture\",((Q145/VLOOKUP(B145,Int_Ext,2,FALSE))*VLOOKUP(E145,NEB,14,FALSE)),\"\"))))","v":""},null,{"$f":"IF(RIGHT(I145,4)=\"Case\",INDEX('Equipment Type'!$V$4:$V$53, MATCH('Analysis 103L'!$K145, 'Equipment Type'!$A$4:$A$53, 0)), \"\")","v":""},"","","",{"$f":"IF(CI145=\"\", \"\", IF(RIGHT(I145,4)=\"Case\", INDEX('LED Case Lighting'!$AR$3:$AR$16, MATCH('Analysis 103L'!CI145, 'LED Case Lighting'!$AS$3:$AS$16, 0)), \"\"))","v":""},{"$f":"IF(CI145=\"\",\"\",INDEX('LED Case Lighting'!$AW$3:$AW$16,MATCH('Analysis 103L'!CI145,'LED Case Lighting'!$AS$3:$AS$16,0)))","v":""},{"$f":"IF(CI145=\"\",\"\",INDEX('LED Case Lighting'!$AX$3:$AX$16,MATCH('Analysis 103L'!CI145,'LED Case Lighting'!$AS$3:$AS$16,0)))","v":""},""]
[119,null,null,null,null,null,"",null,{"$f":"IF(K146=\"\",\"\",VLOOKUP(K146,'Equipment Type'!$A$1:$F$53,5,FALSE))","v":""},{"$f":"IF(K146=\"\",\"\",VLOOKUP(K146,'Equipment Type'!$A$1:$F$53,6,FALSE))","v":""},null,{"$f":"IF(K146=\"\",\"\",VLOOKUP(K146,'Equipment Type'!$A$1:$F$53,4,FALSE))","v":""},null,{"$f":"IF(K146=\"\",\"\",INDEX('Equipment Type'!$T$4:$T$53,MATCH('Analysis 103L'!K146,'Equipment Type'!$A$4:$A$53,0)))","v":""},"",null,{"$f":"IF(RIGHT(I146, 4)=\"Case\", \"\", IF(P146=\"\",\"\",(IF(ISNUMBER(SEARCH(\"exit\",J146)),8760,IF(B146=\"Exterior\",4380,'Analysis 103L'!$J$3)))))","v":""},null,"","","","","","","","",{"$f":"IF('100L Information'!$Z$5=\"Yes\",0,IF('100L Information'!$Z$4=\"Yes\",(MIN($Y$232-(-$Y$227),6000)*0.5)*(Y146/$Y$232),$Y$232*(Y146/($Y$230+$Y$231))))","v":{"$error":"#VALUE!"}},"",{"$error":"#VALUE!"},"No requirement",0,{"$f":"IF(OR(Z146=\"Does not meet requirement\",AND('100L Information'!$AA$21=\"No\",AL146=\"Y\"),AND('100L Information'!$AS$21=FALSE,AL146=\"Y\")),0,IF(ISNUMBER(R146*Incent_Cost_Fixture_Rx),MIN(R146*Incent_Cost_Fixture_Rx,(MAX(AE146,AK146))),0))","v":0},"FAIL","0","0","0",0,"N","0","0",null,"","",0,"",{"$f":"IF(RIGHT(I146,4)=\"Case\",W146,IF(AND(AL146=\"Y\",AF146<1),0,IF(OR(LEFT(D146,2)=\"T5\",LEFT(D146,3)=\"CFL\",'Analysis 103L'!AS146=\"Less\"),'Analysis 103L'!AR146,'Analysis 103L'!W146)))","v":""},null,0,0,null,{"$error":"#VALUE!"},{"$error":"#VALUE!"},{"$error":"#VALUE!"},null,null,{"$f":"IF(RIGHT(I146,4)=\"Case\",'LED Case Lighting'!$AY$1,IF(J146=\"\",\"\",VLOOKUP(J146,Lookups!$A$30:$J$149,VLOOKUP('100L Information'!$AI$46,Lookups!$J$3:$L$6,3,FALSE),FALSE)))","v":""},{"$error":"#N/A"},"","",{"$error":"#VALUE!"},{"$error":"#VALUE!"},{"$error":"#VALUE!"},{"$error":"#N/A"},0,{"$error":"#N/A"},0,{"$error":"#VALUE!"},{"$error":"#VALUE!"},{"$error":"#VALUE!"},"FAIL",null,null,null,null,null,null,null,"Interior / Exterior",null,"",null,{"$f":"IF(RIGHT(I146,4)=\"Case\",(INDEX('LED Case Lighting'!$AZ$3:$AZ$16,MATCH('Analysis 103L'!$CI146,'LED Case Lighting'!$AS$3:$AS$16,0))),IF(CB146=0,0,IF(CB146=\"lamp\",((Q146/VLOOKUP(B146,Int_Ext,2,FALSE))*VLOOKUP(E146,NEB,16,FALSE)),IF(CB146=\"fixture\",((Q146/VLOOKUP(B146,Int_Ext,2,FALSE))*VLOOKUP(E146,NEB,14,FALSE)),\"\"))))","v":""},null,{"$f":"IF(RIGHT(I146,4)=\"Case\",INDEX('Equipment Type'!$V$4:$V$53, MATCH('Analysis 103L'!$K146, 'Equipment Type'!$A$4:$A$53, 0)), \"\")","v":""},"","","",{"$f":"IF(CI146=\"\", \"\", IF(RIGHT(I146,4)=\"Case\", INDEX('LED Case Lighting'!$AR$3:$AR$16, MATCH('Analysis 103L'!CI146, 'LED Case Lighting'!$AS$3:$AS$16, 0)), \"\"))","v":""},{"$f":"IF(CI146=\"\",\"\",INDEX('LED Case Lighting'!$AW$3:$AW$16,MATCH('Analysis 103L'!CI146,'LED Case Lighting'!$AS$3:$AS$16,0)))","v":""},{"$f":"IF(CI146=\"\",\"\",INDEX('LED Case Lighting'!$AX$3:$AX$16,MATCH('Analysis 103L'!CI146,'LED Case Lighting'!$AS$3:$AS$16,0)))","v":""},""]
[120,null,null,null,null,null,"",null,{"$f":"IF(K147=\"\",\"\",VLOOKUP(K147,'Equipment Type'!$A$1:$F$53,5,FALSE))","v":""},{"$f":"IF(K147=\"\",\"\",VLOOKUP(K147,'Equipment Type'!$A$1:$F$53,6,FALSE))","v":""},null,{"$f":"IF(K147=\"\",\"\",VLOOKUP(K147,'Equipment Type'!$A$1:$F$53,4,FALSE))","v":""},null,{"$f":"IF(K147=\"\",\"\",INDEX('Equipment Type'!$T$4:$T$53,MATCH('Analysis 103L'!K147,'Equipment Type'!$A$4:$A$53,0)))","v":""},"",null,{"$f":"IF(RIGHT(I147, 4)=\"Case\", \"\", IF(P147=\"\",\"\",(IF(ISNUMBER(SEARCH(\"exit\",J147)),8760,IF(B147=\"Exterior\",4380,'Analysis 103L'!$J$3)))))","v":""},null,"","","","","","","","",{"$f":"IF('100L Information'!$Z$5=\"Yes\",0,IF('100L Information'!$Z$4=\"Yes\",(MIN($Y$232-(-$Y$227),6000)*0.5)*(Y147/$Y$232),$Y$232*(Y147/($Y$230+$Y$231))))","v":{"$error":"#VALUE!"}},"",{"$error":"#VALUE!"},"No requirement",0,{"$f":"IF(OR(Z147=\"Does not meet requirement\",AND('100L Information'!$AA$21=\"No\",AL147=\"Y\"),AND('100L Information'!$AS$21=FALSE,AL147=\"Y\")),0,IF(ISNUMBER(R147*Incent_Cost_Fixture_Rx),MIN(R147*Incent_Cost_Fixture_Rx,(MAX(AE147,AK147))),0))","v":0},"FAIL","0","0","0",0,"N","0","0",null,"","",0,"",{"$f":"IF(RIGHT(I147,4)=\"Case\",W147,IF(AND(AL147=\"Y\",AF147<1),0,IF(OR(LEFT(D147,2)=\"T5\",LEFT(D147,3)=\"CFL\",'Analysis 103L'!AS147=\"Less\"),'Analysis 103L'!AR147,'Analysis 103L'!W147)))","v":""},null,0,0,null,{"$error":"#VALUE!"},{"$error":"#VALUE!"},{"$error":"#VALUE!"},null,null,{"$f":"IF(RIGHT(I147,4)=\"Case\",'LED Case Lighting'!$AY$1,IF(J147=\"\",\"\",VLOOKUP(J147,Lookups!$A$30:$J$149,VLOOKUP('100L Information'!$AI$46,Lookups!$J$3:$L$6,3,FALSE),FALSE)))","v":""},{"$error":"#N/A"},"","",{"$error":"#VALUE!"},{"$error":"#VALUE!"},{"$error":"#VALUE!"},{"$error":"#N/A"},0,{"$error":"#N/A"},0,{"$error":"#VALUE!"},{"$error":"#VALUE!"},{"$error":"#VALUE!"},"FAIL",null,null,null,null,null,null,null,"Interior / Exterior",null,"",null,{"$f":"IF(RIGHT(I147,4)=\"Case\",(INDEX('LED Case Lighting'!$AZ$3:$AZ$16,MATCH('Analysis 103L'!$CI147,'LED Case Lighting'!$AS$3:$AS$16,0))),IF(CB147=0,0,IF(CB147=\"lamp\",((Q147/VLOOKUP(B147,Int_Ext,2,FALSE))*VLOOKUP(E147,NEB,16,FALSE)),IF(CB147=\"fixture\",((Q147/VLOOKUP(B147,Int_Ext,2,FALSE))*VLOOKUP(E147,NEB,14,FALSE)),\"\"))))","v":""},null,{"$f":"IF(RIGHT(I147,4)=\"Case\",INDEX('Equipment Type'!$V$4:$V$53, MATCH('Analysis 103L'!$K147, 'Equipment Type'!$A$4:$A$53, 0)), \"\")","v":""},"","","",{"$f":"IF(CI147=\"\", \"\", IF(RIGHT(I147,4)=\"Case\", INDEX('LED Case Lighting'!$AR$3:$AR$16, MATCH('Analysis 103L'!CI147, 'LED Case Lighting'!$AS$3:$AS$16, 0)), \"\"))","v":""},{"$f":"IF(CI147=\"\",\"\",INDEX('LED Case Lighting'!$AW$3:$AW$16,MATCH('Analysis 103L'!CI147,'LED Case Lighting'!$AS$3:$AS$16,0)))","v":""},{"$f":"IF(CI147=\"\",\"\",INDEX('LED Case Lighting'!$AX$3:$AX$16,MATCH('Analysis 103L'!CI147,'LED Case Lighting'!$AS$3:$AS$16,0)))","v":""},""]
[121,null,null,null,null,null,"",null,{"$f":"IF(K148=\"\",\"\",VLOOKUP(K148,'Equipment Type'!$A$1:$F$53,5,FALSE))","v":""},{"$f":"IF(K148=\"\",\"\",VLOOKUP(K148,'Equipment Type'!$A$1:$F$53,6,FALSE))","v":""},null,{"$f":"IF(K148=\"\",\"\",VLOOKUP(K148,'Equipment Type'!$A$1:$F$53,4,FALSE))","v":""},null,{"$f":"IF(K148=\"\",\"\",INDEX('Equipment Type'!$T$4:$T$53,MATCH('Analysis 103L'!K148,'Equipment Type'!$A$4:$A$53,0)))","v":""},"",null,{"$f":"IF(RIGHT(I148, 4)=\"Case\", \"\", IF(P148=\"\",\"\",(IF(ISNUMBER(SEARCH(\"exit\",J148)),8760,IF(B148=\"Exterior\",4380,'Analysis 103L'!$J$3)))))","v":""},null,"","","","","","","","",{"$f":"IF('100L Information'!$Z$5=\"Yes\",0,IF('100L Information'!$Z$4=\"Yes\",(MIN($Y$232-(-$Y$227),6000)*0.5)*(Y148/$Y$232),$Y$232*(Y148/($Y$230+$Y$231))))","v":{"$error":"#VALUE!"}},"",{"$error":"#VALUE!"},"No requirement",0,{"$f":"IF(OR(Z148=\"Does not meet requirement\",AND('100L Information'!$AA$21=\"No\",AL148=\"Y\"),AND('100L Information'!$AS$21=FALSE,AL148=\"Y\")),0,IF(ISNUMBER(R148*Incent_Cost_Fixture_Rx),MIN(R148*Incent_Cost_Fixture_Rx,(MAX(AE148,AK148))),0))","v":0},"FAIL","0","0","0",0,"N","0","0",null,"","",0,"",{"$f":"IF(RIGHT(I148,4)=\"Case\",W148,IF(AND(AL148=\"Y\",AF148<1),0,IF(OR(LEFT(D148,2)=\"T5\",LEFT(D148,3)=\"CFL\",'Analysis 103L'!AS148=\"Less\"),'Analysis 103L'!AR148,'Analysis 103L'!W148)))","v":""},null,0,0,null,{"$error":"#VALUE!"},{"$error":"#VALUE!"},{"$error":"#VALUE!"},null,null,{"$f":"IF(RIGHT(I148,4)=\"Case\",'LED Case Lighting'!$AY$1,IF(J148=\"\",\"\",VLOOKUP(J148,Lookups!$A$30:$J$149,VLOOKUP('100L Information'!$AI$46,Lookups!$J$3:$L$6,3,FALSE),FALSE)))","v":""},{"$error":"#N/A"},"","",{"$error":"#VALUE!"},{"$error":"#VALUE!"},{"$error":"#VALUE!"},{"$error":"#N/A"},0,{"$error":"#N/A"},0,{"$error":"#VALUE!"},{"$error":"#VALUE!"},{"$error":"#VALUE!"},"FAIL",null,null,null,null,null,null,null,"Interior / Exterior",null,"",null,{"$f":"IF(RIGHT(I148,4)=\"Case\",(INDEX('LED Case Lighting'!$AZ$3:$AZ$16,MATCH('Analysis 103L'!$CI148,'LED Case Lighting'!$AS$3:$AS$16,0))),IF(CB148=0,0,IF(CB148=\"lamp\",((Q148/VLOOKUP(B148,Int_Ext,2,FALSE))*VLOOKUP(E148,NEB,16,FALSE)),IF(CB148=\"fixture\",((Q148/VLOOKUP(B148,Int_Ext,2,FALSE))*VLOOKUP(E148,NEB,14,FALSE)),\"\"))))","v":""},null,{"$f":"IF(RIGHT(I148,4)=\"Case\",INDEX('Equipment Type'!$V$4:$V$53, MATCH('Analysis 103L'!$K148, 'Equipment Type'!$A$4:$A$53, 0)), \"\")","v":""},"","","",{"$f":"IF(CI148=\"\", \"\", IF(RIGHT(I148,4)=\"Case\", INDEX('LED Case Lighting'!$AR$3:$AR$16, MATCH('Analysis 103L'!CI148, 'LED Case Lighting'!$AS$3:$AS$16, 0)), \"\"))","v":""},{"$f":"IF(CI148=\"\",\"\",INDEX('LED Case Lighting'!$AW$3:$AW$16,MATCH('Analysis 103L'!CI148,'LED Case Lighting'!$AS$3:$AS$16,0)))","v":""},{"$f":"IF(CI148=\"\",\"\",INDEX('LED Case Lighting'!$AX$3:$AX$16,MATCH('Analysis 103L'!CI148,'LED Case Lighting'!$AS$3:$AS$16,0)))","v":""},""]
[122,null,null,null,null,null,"",null,{"$f":"IF(K149=\"\",\"\",VLOOKUP(K149,'Equipment Type'!$A$1:$F$53,5,FALSE))","v":""},{"$f":"IF(K149=\"\",\"\",VLOOKUP(K149,'Equipment Type'!$A$1:$F$53,6,FALSE))","v":""},null,{"$f":"IF(K149=\"\",\"\",VLOOKUP(K149,'Equipment Type'!$A$1:$F$53,4,FALSE))","v":""},null,{"$f":"IF(K149=\"\",\"\",INDEX('Equipment Type'!$T$4:$T$53,MATCH('Analysis 103L'!K149,'Equipment Type'!$A$4:$A$53,0)))","v":""},"",null,{"$f":"IF(RIGHT(I149, 4)=\"Case\", \"\", IF(P149=\"\",\"\",(IF(ISNUMBER(SEARCH(\"exit\",J149)),8760,IF(B149=\"Exterior\",4380,'Analysis 103L'!$J$3)))))","v":""},null,"","","","","","","","",{"$f":"IF('100L Information'!$Z$5=\"Yes\",0,IF('100L Information'!$Z$4=\"Yes\",(MIN($Y$232-(-$Y$227),6000)*0.5)*(Y149/$Y$232),$Y$232*(Y149/($Y$230+$Y$231))))","v":{"$error":"#VALUE!"}},"",{"$error":"#VALUE!"},"No requirement",0,{"$f":"IF(OR(Z149=\"Does not meet requirement\",AND('100L Information'!$AA$21=\"No\",AL149=\"Y\"),AND('100L Information'!$AS$21=FALSE,AL149=\"Y\")),0,IF(ISNUMBER(R149*Incent_Cost_Fixture_Rx),MIN(R149*Incent_Cost_Fixture_Rx,(MAX(AE149,AK149))),0))","v":0},"FAIL","0","0","0",0,"N","0","0",null,"","",0,"",{"$f":"IF(RIGHT(I149,4)=\"Case\",W149,IF(AND(AL149=\"Y\",AF149<1),0,IF(OR(LEFT(D149,2)=\"T5\",LEFT(D149,3)=\"CFL\",'Analysis 103L'!AS149=\"Less\"),'Analysis 103L'!AR149,'Analysis 103L'!W149)))","v":""},null,0,0,null,{"$error":"#VALUE!"},{"$error":"#VALUE!"},{"$error":"#VALUE!"},null,null,{"$f":"IF(RIGHT(I149,4)=\"Case\",'LED Case Lighting'!$AY$1,IF(J149=\"\",\"\",VLOOKUP(J149,Lookups!$A$30:$J$149,VLOOKUP('100L Information'!$AI$46,Lookups!$J$3:$L$6,3,FALSE),FALSE)))","v":""},{"$error":"#N/A"},"","",{"$error":"#VALUE!"},{"$error":"#VALUE!"},{"$error":"#VALUE!"},{"$error":"#N/A"},0,{"$error":"#N/A"},0,{"$error":"#VALUE!"},{"$error":"#VALUE!"},{"$error":"#VALUE!"},"FAIL",null,null,null,null,null,null,null,"Interior / Exterior",null,"",null,{"$f":"IF(RIGHT(I149,4)=\"Case\",(INDEX('LED Case Lighting'!$AZ$3:$AZ$16,MATCH('Analysis 103L'!$CI149,'LED Case Lighting'!$AS$3:$AS$16,0))),IF(CB149=0,0,IF(CB149=\"lamp\",((Q149/VLOOKUP(B149,Int_Ext,2,FALSE))*VLOOKUP(E149,NEB,16,FALSE)),IF(CB149=\"fixture\",((Q149/VLOOKUP(B149,Int_Ext,2,FALSE))*VLOOKUP(E149,NEB,14,FALSE)),\"\"))))","v":""},null,{"$f":"IF(RIGHT(I149,4)=\"Case\",INDEX('Equipment Type'!$V$4:$V$53, MATCH('Analysis 103L'!$K149, 'Equipment Type'!$A$4:$A$53, 0)), \"\")","v":""},"","","",{"$f":"IF(CI149=\"\", \"\", IF(RIGHT(I149,4)=\"Case\", INDEX('LED Case Lighting'!$AR$3:$AR$16, MATCH('Analysis 103L'!CI149, 'LED Case Lighting'!$AS$3:$AS$16, 0)), \"\"))","v":""},{"$f":"IF(CI149=\"\",\"\",INDEX('LED Case Lighting'!$AW$3:$AW$16,MATCH('Analysis 103L'!CI149,'LED Case Lighting'!$AS$3:$AS$16,0)))","v":""},{"$f":"IF(CI149=\"\",\"\",INDEX('LED Case Lighting'!$AX$3:$AX$16,MATCH('Analysis 103L'!CI149,'LED Case Lighting'!$AS$3:$AS$16,0)))","v":""},""]
[123,null,null,null,null,null,"",null,{"$f":"IF(K150=\"\",\"\",VLOOKUP(K150,'Equipment Type'!$A$1:$F$53,5,FALSE))","v":""},{"$f":"IF(K150=\"\",\"\",VLOOKUP(K150,'Equipment Type'!$A$1:$F$53,6,FALSE))","v":""},null,{"$f":"IF(K150=\"\",\"\",VLOOKUP(K150,'Equipment Type'!$A$1:$F$53,4,FALSE))","v":""},null,{"$f":"IF(K150=\"\",\"\",INDEX('Equipment Type'!$T$4:$T$53,MATCH('Analysis 103L'!K150,'Equipment Type'!$A$4:$A$53,0)))","v":""},"",null,{"$f":"IF(RIGHT(I150, 4)=\"Case\", \"\", IF(P150=\"\",\"\",(IF(ISNUMBER(SEARCH(\"exit\",J150)),8760,IF(B150=\"Exterior\",4380,'Analysis 103L'!$J$3)))))","v":""},null,"","","","","","","","",{"$f":"IF('100L Information'!$Z$5=\"Yes\",0,IF('100L Information'!$Z$4=\"Yes\",(MIN($Y$232-(-$Y$227),6000)*0.5)*(Y150/$Y$232),$Y$232*(Y150/($Y$230+$Y$231))))","v":{"$error":"#VALUE!"}},"",{"$error":"#VALUE!"},"No requirement",0,{"$f":"IF(OR(Z150=\"Does not meet requirement\",AND('100L Information'!$AA$21=\"No\",AL150=\"Y\"),AND('100L Information'!$AS$21=FALSE,AL150=\"Y\")),0,IF(ISNUMBER(R150*Incent_Cost_Fixture_Rx),MIN(R150*Incent_Cost_Fixture_Rx,(MAX(AE150,AK150))),0))","v":0},"FAIL","0","0","0",0,"N","0","0",null,"","",0,"",{"$f":"IF(RIGHT(I150,4)=\"Case\",W150,IF(AND(AL150=\"Y\",AF150<1),0,IF(OR(LEFT(D150,2)=\"T5\",LEFT(D150,3)=\"CFL\",'Analysis 103L'!AS150=\"Less\"),'Analysis 103L'!AR150,'Analysis 103L'!W150)))","v":""},null,0,0,null,{"$error":"#VALUE!"},{"$error":"#VALUE!"},{"$error":"#VALUE!"},null,null,{"$f":"IF(RIGHT(I150,4)=\"Case\",'LED Case Lighting'!$AY$1,IF(J150=\"\",\"\",VLOOKUP(J150,Lookups!$A$30:$J$149,VLOOKUP('100L Information'!$AI$46,Lookups!$J$3:$L$6,3,FALSE),FALSE)))","v":""},{"$error":"#N/A"},"","",{"$error":"#VALUE!"},{"$error":"#VALUE!"},{"$error":"#VALUE!"},{"$error":"#N/A"},0,{"$error":"#N/A"},0,{"$error":"#VALUE!"},{"$error":"#VALUE!"},{"$error":"#VALUE!"},"FAIL",null,null,null,null,null,null,null,"Interior / Exterior",null,"",null,{"$f":"IF(RIGHT(I150,4)=\"Case\",(INDEX('LED Case Lighting'!$AZ$3:$AZ$16,MATCH('Analysis 103L'!$CI150,'LED Case Lighting'!$AS$3:$AS$16,0))),IF(CB150=0,0,IF(CB150=\"lamp\",((Q150/VLOOKUP(B150,Int_Ext,2,FALSE))*VLOOKUP(E150,NEB,16,FALSE)),IF(CB150=\"fixture\",((Q150/VLOOKUP(B150,Int_Ext,2,FALSE))*VLOOKUP(E150,NEB,14,FALSE)),\"\"))))","v":""},null,{"$f":"IF(RIGHT(I150,4)=\"Case\",INDEX('Equipment Type'!$V$4:$V$53, MATCH('Analysis 103L'!$K150, 'Equipment Type'!$A$4:$A$53, 0)), \"\")","v":""},"","","",{"$f":"IF(CI150=\"\", \"\", IF(RIGHT(I150,4)=\"Case\", INDEX('LED Case Lighting'!$AR$3:$AR$16, MATCH('Analysis 103L'!CI150, 'LED Case Lighting'!$AS$3:$AS$16, 0)), \"\"))","v":""},{"$f":"IF(CI150=\"\",\"\",INDEX('LED Case Lighting'!$AW$3:$AW$16,MATCH('Analysis 103L'!CI150,'LED Case Lighting'!$AS$3:$AS$16,0)))","v":""},{"$f":"IF(CI150=\"\",\"\",INDEX('LED Case Lighting'!$AX$3:$AX$16,MATCH('Analysis 103L'!CI150,'LED Case Lighting'!$AS$3:$AS$16,0)))","v":""},""]
[124,null,null,null,null,null,"",null,{"$f":"IF(K151=\"\",\"\",VLOOKUP(K151,'Equipment Type'!$A$1:$F$53,5,FALSE))","v":""},{"$f":"IF(K151=\"\",\"\",VLOOKUP(K151,'Equipment Type'!$A$1:$F$53,6,FALSE))","v":""},null,{"$f":"IF(K151=\"\",\"\",VLOOKUP(K151,'Equipment Type'!$A$1:$F$53,4,FALSE))","v":""},null,{"$f":"IF(K151=\"\",\"\",INDEX('Equipment Type'!$T$4:$T$53,MATCH('Analysis 103L'!K151,'Equipment Type'!$A$4:$A$53,0)))","v":""},"",null,{"$f":"IF(RIGHT(I151, 4)=\"Case\", \"\", IF(P151=\"\",\"\",(IF(ISNUMBER(SEARCH(\"exit\",J151)),8760,IF(B151=\"Exterior\",4380,'Analysis 103L'!$J$3)))))","v":""},null,"","","","","","","","",{"$f":"IF('100L Information'!$Z$5=\"Yes\",0,IF('100L Information'!$Z$4=\"Yes\",(MIN($Y$232-(-$Y$227),6000)*0.5)*(Y151/$Y$232),$Y$232*(Y151/($Y$230+$Y$231))))","v":{"$error":"#VALUE!"}},"",{"$error":"#VALUE!"},"No requirement",0,{"$f":"IF(OR(Z151=\"Does not meet requirement\",AND('100L Information'!$AA$21=\"No\",AL151=\"Y\"),AND('100L Information'!$AS$21=FALSE,AL151=\"Y\")),0,IF(ISNUMBER(R151*Incent_Cost_Fixture_Rx),MIN(R151*Incent_Cost_Fixture_Rx,(MAX(AE151,AK151))),0))","v":0},"FAIL","0","0","0",0,"N","0","0",null,"","",0,"",{"$f":"IF(RIGHT(I151,4)=\"Case\",W151,IF(AND(AL151=\"Y\",AF151<1),0,IF(OR(LEFT(D151,2)=\"T5\",LEFT(D151,3)=\"CFL\",'Analysis 103L'!AS151=\"Less\"),'Analysis 103L'!AR151,'Analysis 103L'!W151)))","v":""},null,0,0,null,{"$error":"#VALUE!"},{"$error":"#VALUE!"},{"$error":"#VALUE!"},null,null,{"$f":"IF(RIGHT(I151,4)=\"Case\",'LED Case Lighting'!$AY$1,IF(J151=\"\",\"\",VLOOKUP(J151,Lookups!$A$30:$J$149,VLOOKUP('100L Information'!$AI$46,Lookups!$J$3:$L$6,3,FALSE),FALSE)))","v":""},{"$error":"#N/A"},"","",{"$error":"#VALUE!"},{"$error":"#VALUE!"},{"$error":"#VALUE!"},{"$error":"#N/A"},0,{"$error":"#N/A"},0,{"$error":"#VALUE!"},{"$error":"#VALUE!"},{"$error":"#VALUE!"},"FAIL",null,null,null,null,null,null,null,"Interior / Exterior",null,"",null,{"$f":"IF(RIGHT(I151,4)=\"Case\",(INDEX('LED Case Lighting'!$AZ$3:$AZ$16,MATCH('Analysis 103L'!$CI151,'LED Case Lighting'!$AS$3:$AS$16,0))),IF(CB151=0,0,IF(CB151=\"lamp\",((Q151/VLOOKUP(B151,Int_Ext,2,FALSE))*VLOOKUP(E151,NEB,16,FALSE)),IF(CB151=\"fixture\",((Q151/VLOOKUP(B151,Int_Ext,2,FALSE))*VLOOKUP(E151,NEB,14,FALSE)),\"\"))))","v":""},null,{"$f":"IF(RIGHT(I151,4)=\"Case\",INDEX('Equipment Type'!$V$4:$V$53, MATCH('Analysis 103L'!$K151, 'Equipment Type'!$A$4:$A$53, 0)), \"\")","v":""},"","","",{"$f":"IF(CI151=\"\", \"\", IF(RIGHT(I151,4)=\"Case\", INDEX('LED Case Lighting'!$AR$3:$AR$16, MATCH('Analysis 103L'!CI151, 'LED Case Lighting'!$AS$3:$AS$16, 0)), \"\"))","v":""},{"$f":"IF(CI151=\"\",\"\",INDEX('LED Case Lighting'!$AW$3:$AW$16,MATCH('Analysis 103L'!CI151,'LED Case Lighting'!$AS$3:$AS$16,0)))","v":""},{"$f":"IF(CI151=\"\",\"\",INDEX('LED Case Lighting'!$AX$3:$AX$16,MATCH('Analysis 103L'!CI151,'LED Case Lighting'!$AS$3:$AS$16,0)))","v":""},""]
[125,null,null,null,null,null,"",null,{"$f":"IF(K152=\"\",\"\",VLOOKUP(K152,'Equipment Type'!$A$1:$F$53,5,FALSE))","v":""},{"$f":"IF(K152=\"\",\"\",VLOOKUP(K152,'Equipment Type'!$A$1:$F$53,6,FALSE))","v":""},null,{"$f":"IF(K152=\"\",\"\",VLOOKUP(K152,'Equipment Type'!$A$1:$F$53,4,FALSE))","v":""},null,{"$f":"IF(K152=\"\",\"\",INDEX('Equipment Type'!$T$4:$T$53,MATCH('Analysis 103L'!K152,'Equipment Type'!$A$4:$A$53,0)))","v":""},"",null,{"$f":"IF(RIGHT(I152, 4)=\"Case\", \"\", IF(P152=\"\",\"\",(IF(ISNUMBER(SEARCH(\"exit\",J152)),8760,IF(B152=\"Exterior\",4380,'Analysis 103L'!$J$3)))))","v":""},null,"","","","","","","","",{"$f":"IF('100L Information'!$Z$5=\"Yes\",0,IF('100L Information'!$Z$4=\"Yes\",(MIN($Y$232-(-$Y$227),6000)*0.5)*(Y152/$Y$232),$Y$232*(Y152/($Y$230+$Y$231))))","v":{"$error":"#VALUE!"}},"",{"$error":"#VALUE!"},"No requirement",0,{"$f":"IF(OR(Z152=\"Does not meet requirement\",AND('100L Information'!$AA$21=\"No\",AL152=\"Y\"),AND('100L Information'!$AS$21=FALSE,AL152=\"Y\")),0,IF(ISNUMBER(R152*Incent_Cost_Fixture_Rx),MIN(R152*Incent_Cost_Fixture_Rx,(MAX(AE152,AK152))),0))","v":0},"FAIL","0","0","0",0,"N","0","0",null,"","",0,"",{"$f":"IF(RIGHT(I152,4)=\"Case\",W152,IF(AND(AL152=\"Y\",AF152<1),0,IF(OR(LEFT(D152,2)=\"T5\",LEFT(D152,3)=\"CFL\",'Analysis 103L'!AS152=\"Less\"),'Analysis 103L'!AR152,'Analysis 103L'!W152)))","v":""},null,0,0,null,{"$error":"#VALUE!"},{"$error":"#VALUE!"},{"$error":"#VALUE!"},null,null,{"$f":"IF(RIGHT(I152,4)=\"Case\",'LED Case Lighting'!$AY$1,IF(J152=\"\",\"\",VLOOKUP(J152,Lookups!$A$30:$J$149,VLOOKUP('100L Information'!$AI$46,Lookups!$J$3:$L$6,3,FALSE),FALSE)))","v":""},{"$error":"#N/A"},"","",{"$error":"#VALUE!"},{"$error":"#VALUE!"},{"$error":"#VALUE!"},{"$error":"#N/A"},0,{"$error":"#N/A"},0,{"$error":"#VALUE!"},{"$error":"#VALUE!"},{"$error":"#VALUE!"},"FAIL",null,null,null,null,null,null,null,"Interior / Exterior",null,"",null,{"$f":"IF(RIGHT(I152,4)=\"Case\",(INDEX('LED Case Lighting'!$AZ$3:$AZ$16,MATCH('Analysis 103L'!$CI152,'LED Case Lighting'!$AS$3:$AS$16,0))),IF(CB152=0,0,IF(CB152=\"lamp\",((Q152/VLOOKUP(B152,Int_Ext,2,FALSE))*VLOOKUP(E152,NEB,16,FALSE)),IF(CB152=\"fixture\",((Q152/VLOOKUP(B152,Int_Ext,2,FALSE))*VLOOKUP(E152,NEB,14,FALSE)),\"\"))))","v":""},null,{"$f":"IF(RIGHT(I152,4)=\"Case\",INDEX('Equipment Type'!$V$4:$V$53, MATCH('Analysis 103L'!$K152, 'Equipment Type'!$A$4:$A$53, 0)), \"\")","v":""},"","","",{"$f":"IF(CI152=\"\", \"\", IF(RIGHT(I152,4)=\"Case\", INDEX('LED Case Lighting'!$AR$3:$AR$16, MATCH('Analysis 103L'!CI152, 'LED Case Lighting'!$AS$3:$AS$16, 0)), \"\"))","v":""},{"$f":"IF(CI152=\"\",\"\",INDEX('LED Case Lighting'!$AW$3:$AW$16,MATCH('Analysis 103L'!CI152,'LED Case Lighting'!$AS$3:$AS$16,0)))","v":""},{"$f":"IF(CI152=\"\",\"\",INDEX('LED Case Lighting'!$AX$3:$AX$16,MATCH('Analysis 103L'!CI152,'LED Case Lighting'!$AS$3:$AS$16,0)))","v":""},""]
[126,null,null,null,null,null,"",null,{"$f":"IF(K153=\"\",\"\",VLOOKUP(K153,'Equipment Type'!$A$1:$F$53,5,FALSE))","v":""},{"$f":"IF(K153=\"\",\"\",VLOOKUP(K153,'Equipment Type'!$A$1:$F$53,6,FALSE))","v":""},null,{"$f":"IF(K153=\"\",\"\",VLOOKUP(K153,'Equipment Type'!$A$1:$F$53,4,FALSE))","v":""},null,{"$f":"IF(K153=\"\",\"\",INDEX('Equipment Type'!$T$4:$T$53,MATCH('Analysis 103L'!K153,'Equipment Type'!$A$4:$A$53,0)))","v":""},"",null,{"$f":"IF(RIGHT(I153, 4)=\"Case\", \"\", IF(P153=\"\",\"\",(IF(ISNUMBER(SEARCH(\"exit\",J153)),8760,IF(B153=\"Exterior\",4380,'Analysis 103L'!$J$3)))))","v":""},null,"","","","","","","","",{"$f":"IF('100L Information'!$Z$5=\"Yes\",0,IF('100L Information'!$Z$4=\"Yes\",(MIN($Y$232-(-$Y$227),6000)*0.5)*(Y153/$Y$232),$Y$232*(Y153/($Y$230+$Y$231))))","v":{"$error":"#VALUE!"}},"",{"$error":"#VALUE!"},"No requirement",0,{"$f":"IF(OR(Z153=\"Does not meet requirement\",AND('100L Information'!$AA$21=\"No\",AL153=\"Y\"),AND('100L Information'!$AS$21=FALSE,AL153=\"Y\")),0,IF(ISNUMBER(R153*Incent_Cost_Fixture_Rx),MIN(R153*Incent_Cost_Fixture_Rx,(MAX(AE153,AK153))),0))","v":0},"FAIL","0","0","0",0,"N","0","0",null,"","",0,"",{"$f":"IF(RIGHT(I153,4)=\"Case\",W153,IF(AND(AL153=\"Y\",AF153<1),0,IF(OR(LEFT(D153,2)=\"T5\",LEFT(D153,3)=\"CFL\",'Analysis 103L'!AS153=\"Less\"),'Analysis 103L'!AR153,'Analysis 103L'!W153)))","v":""},null,0,0,null,{"$error":"#VALUE!"},{"$error":"#VALUE!"},{"$error":"#VALUE!"},null,null,{"$f":"IF(RIGHT(I153,4)=\"Case\",'LED Case Lighting'!$AY$1,IF(J153=\"\",\"\",VLOOKUP(J153,Lookups!$A$30:$J$149,VLOOKUP('100L Information'!$AI$46,Lookups!$J$3:$L$6,3,FALSE),FALSE)))","v":""},{"$error":"#N/A"},"","",{"$error":"#VALUE!"},{"$error":"#VALUE!"},{"$error":"#VALUE!"},{"$error":"#N/A"},0,{"$error":"#N/A"},0,{"$error":"#VALUE!"},{"$error":"#VALUE!"},{"$error":"#VALUE!"},"FAIL",null,null,null,null,null,null,null,"Interior / Exterior",null,"",null,{"$f":"IF(RIGHT(I153,4)=\"Case\",(INDEX('LED Case Lighting'!$AZ$3:$AZ$16,MATCH('Analysis 103L'!$CI153,'LED Case Lighting'!$AS$3:$AS$16,0))),IF(CB153=0,0,IF(CB153=\"lamp\",((Q153/VLOOKUP(B153,Int_Ext,2,FALSE))*VLOOKUP(E153,NEB,16,FALSE)),IF(CB153=\"fixture\",((Q153/VLOOKUP(B153,Int_Ext,2,FALSE))*VLOOKUP(E153,NEB,14,FALSE)),\"\"))))","v":""},null,{"$f":"IF(RIGHT(I153,4)=\"Case\",INDEX('Equipment Type'!$V$4:$V$53, MATCH('Analysis 103L'!$K153, 'Equipment Type'!$A$4:$A$53, 0)), \"\")","v":""},"","","",{"$f":"IF(CI153=\"\", \"\", IF(RIGHT(I153,4)=\"Case\", INDEX('LED Case Lighting'!$AR$3:$AR$16, MATCH('Analysis 103L'!CI153, 'LED Case Lighting'!$AS$3:$AS$16, 0)), \"\"))","v":""},{"$f":"IF(CI153=\"\",\"\",INDEX('LED Case Lighting'!$AW$3:$AW$16,MATCH('Analysis 103L'!CI153,'LED Case Lighting'!$AS$3:$AS$16,0)))","v":""},{"$f":"IF(CI153=\"\",\"\",INDEX('LED Case Lighting'!$AX$3:$AX$16,MATCH('Analysis 103L'!CI153,'LED Case Lighting'!$AS$3:$AS$16,0)))","v":""},""]
[127,null,null,null,null,null,"",null,{"$f":"IF(K154=\"\",\"\",VLOOKUP(K154,'Equipment Type'!$A$1:$F$53,5,FALSE))","v":""},{"$f":"IF(K154=\"\",\"\",VLOOKUP(K154,'Equipment Type'!$A$1:$F$53,6,FALSE))","v":""},null,{"$f":"IF(K154=\"\",\"\",VLOOKUP(K154,'Equipment Type'!$A$1:$F$53,4,FALSE))","v":""},null,{"$f":"IF(K154=\"\",\"\",INDEX('Equipment Type'!$T$4:$T$53,MATCH('Analysis 103L'!K154,'Equipment Type'!$A$4:$A$53,0)))","v":""},"",null,{"$f":"IF(RIGHT(I154, 4)=\"Case\", \"\", IF(P154=\"\",\"\",(IF(ISNUMBER(SEARCH(\"exit\",J154)),8760,IF(B154=\"Exterior\",4380,'Analysis 103L'!$J$3)))))","v":""},null,"","","","","","","","",{"$f":"IF('100L Information'!$Z$5=\"Yes\",0,IF('100L Information'!$Z$4=\"Yes\",(MIN($Y$232-(-$Y$227),6000)*0.5)*(Y154/$Y$232),$Y$232*(Y154/($Y$230+$Y$231))))","v":{"$error":"#VALUE!"}},"",{"$error":"#VALUE!"},"No requirement",0,{"$f":"IF(OR(Z154=\"Does not meet requirement\",AND('100L Information'!$AA$21=\"No\",AL154=\"Y\"),AND('100L Information'!$AS$21=FALSE,AL154=\"Y\")),0,IF(ISNUMBER(R154*Incent_Cost_Fixture_Rx),MIN(R154*Incent_Cost_Fixture_Rx,(MAX(AE154,AK154))),0))","v":0},"FAIL","0","0","0",0,"N","0","0",null,"","",0,"",{"$f":"IF(RIGHT(I154,4)=\"Case\",W154,IF(AND(AL154=\"Y\",AF154<1),0,IF(OR(LEFT(D154,2)=\"T5\",LEFT(D154,3)=\"CFL\",'Analysis 103L'!AS154=\"Less\"),'Analysis 103L'!AR154,'Analysis 103L'!W154)))","v":""},null,0,0,null,{"$error":"#VALUE!"},{"$error":"#VALUE!"},{"$error":"#VALUE!"},null,null,{"$f":"IF(RIGHT(I154,4)=\"Case\",'LED Case Lighting'!$AY$1,IF(J154=\"\",\"\",VLOOKUP(J154,Lookups!$A$30:$J$149,VLOOKUP('100L Information'!$AI$46,Lookups!$J$3:$L$6,3,FALSE),FALSE)))","v":""},{"$error":"#N/A"},"","",{"$error":"#VALUE!"},{"$error":"#VALUE!"},{"$error":"#VALUE!"},{"$error":"#N/A"},0,{"$error":"#N/A"},0,{"$error":"#VALUE!"},{"$error":"#VALUE!"},{"$error":"#VALUE!"},"FAIL",null,null,null,null,null,null,null,"Interior / Exterior",null,"",null,{"$f":"IF(RIGHT(I154,4)=\"Case\",(INDEX('LED Case Lighting'!$AZ$3:$AZ$16,MATCH('Analysis 103L'!$CI154,'LED Case Lighting'!$AS$3:$AS$16,0))),IF(CB154=0,0,IF(CB154=\"lamp\",((Q154/VLOOKUP(B154,Int_Ext,2,FALSE))*VLOOKUP(E154,NEB,16,FALSE)),IF(CB154=\"fixture\",((Q154/VLOOKUP(B154,Int_Ext,2,FALSE))*VLOOKUP(E154,NEB,14,FALSE)),\"\"))))","v":""},null,{"$f":"IF(RIGHT(I154,4)=\"Case\",INDEX('Equipment Type'!$V$4:$V$53, MATCH('Analysis 103L'!$K154, 'Equipment Type'!$A$4:$A$53, 0)), \"\")","v":""},"","","",{"$f":"IF(CI154=\"\", \"\", IF(RIGHT(I154,4)=\"Case\", INDEX('LED Case Lighting'!$AR$3:$AR$16, MATCH('Analysis 103L'!CI154, 'LED Case Lighting'!$AS$3:$AS$16, 0)), \"\"))","v":""},{"$f":"IF(CI154=\"\",\"\",INDEX('LED Case Lighting'!$AW$3:$AW$16,MATCH('Analysis 103L'!CI154,'LED Case Lighting'!$AS$3:$AS$16,0)))","v":""},{"$f":"IF(CI154=\"\",\"\",INDEX('LED Case Lighting'!$AX$3:$AX$16,MATCH('Analysis 103L'!CI154,'LED Case Lighting'!$AS$3:$AS$16,0)))","v":""},""]
[128,null,null,null,null,null,"",null,{"$f":"IF(K155=\"\",\"\",VLOOKUP(K155,'Equipment Type'!$A$1:$F$53,5,FALSE))","v":""},{"$f":"IF(K155=\"\",\"\",VLOOKUP(K155,'Equipment Type'!$A$1:$F$53,6,FALSE))","v":""},null,{"$f":"IF(K155=\"\",\"\",VLOOKUP(K155,'Equipment Type'!$A$1:$F$53,4,FALSE))","v":""},null,{"$f":"IF(K155=\"\",\"\",INDEX('Equipment Type'!$T$4:$T$53,MATCH('Analysis 103L'!K155,'Equipment Type'!$A$4:$A$53,0)))","v":""},"",null,{"$f":"IF(RIGHT(I155, 4)=\"Case\", \"\", IF(P155=\"\",\"\",(IF(ISNUMBER(SEARCH(\"exit\",J155)),8760,IF(B155=\"Exterior\",4380,'Analysis 103L'!$J$3)))))","v":""},null,"","","","","","","","",{"$f":"IF('100L Information'!$Z$5=\"Yes\",0,IF('100L Information'!$Z$4=\"Yes\",(MIN($Y$232-(-$Y$227),6000)*0.5)*(Y155/$Y$232),$Y$232*(Y155/($Y$230+$Y$231))))","v":{"$error":"#VALUE!"}},"",{"$error":"#VALUE!"},"No requirement",0,{"$f":"IF(OR(Z155=\"Does not meet requirement\",AND('100L Information'!$AA$21=\"No\",AL155=\"Y\"),AND('100L Information'!$AS$21=FALSE,AL155=\"Y\")),0,IF(ISNUMBER(R155*Incent_Cost_Fixture_Rx),MIN(R155*Incent_Cost_Fixture_Rx,(MAX(AE155,AK155))),0))","v":0},"FAIL","0","0","0",0,"N","0","0",null,"","",0,"",{"$f":"IF(RIGHT(I155,4)=\"Case\",W155,IF(AND(AL155=\"Y\",AF155<1),0,IF(OR(LEFT(D155,2)=\"T5\",LEFT(D155,3)=\"CFL\",'Analysis 103L'!AS155=\"Less\"),'Analysis 103L'!AR155,'Analysis 103L'!W155)))","v":""},null,0,0,null,{"$error":"#VALUE!"},{"$error":"#VALUE!"},{"$error":"#VALUE!"},null,null,{"$f":"IF(RIGHT(I155,4)=\"Case\",'LED Case Lighting'!$AY$1,IF(J155=\"\",\"\",VLOOKUP(J155,Lookups!$A$30:$J$149,VLOOKUP('100L Information'!$AI$46,Lookups!$J$3:$L$6,3,FALSE),FALSE)))","v":""},{"$error":"#N/A"},"","",{"$error":"#VALUE!"},{"$error":"#VALUE!"},{"$error":"#VALUE!"},{"$error":"#N/A"},0,{"$error":"#N/A"},0,{"$error":"#VALUE!"},{"$error":"#VALUE!"},{"$error":"#VALUE!"},"FAIL",null,null,null,null,null,null,null,"Interior / Exterior",null,"",null,{"$f":"IF(RIGHT(I155,4)=\"Case\",(INDEX('LED Case Lighting'!$AZ$3:$AZ$16,MATCH('Analysis 103L'!$CI155,'LED Case Lighting'!$AS$3:$AS$16,0))),IF(CB155=0,0,IF(CB155=\"lamp\",((Q155/VLOOKUP(B155,Int_Ext,2,FALSE))*VLOOKUP(E155,NEB,16,FALSE)),IF(CB155=\"fixture\",((Q155/VLOOKUP(B155,Int_Ext,2,FALSE))*VLOOKUP(E155,NEB,14,FALSE)),\"\"))))","v":""},null,{"$f":"IF(RIGHT(I155,4)=\"Case\",INDEX('Equipment Type'!$V$4:$V$53, MATCH('Analysis 103L'!$K155, 'Equipment Type'!$A$4:$A$53, 0)), \"\")","v":""},"","","",{"$f":"IF(CI155=\"\", \"\", IF(RIGHT(I155,4)=\"Case\", INDEX('LED Case Lighting'!$AR$3:$AR$16, MATCH('Analysis 103L'!CI155, 'LED Case Lighting'!$AS$3:$AS$16, 0)), \"\"))","v":""},{"$f":"IF(CI155=\"\",\"\",INDEX('LED Case Lighting'!$AW$3:$AW$16,MATCH('Analysis 103L'!CI155,'LED Case Lighting'!$AS$3:$AS$16,0)))","v":""},{"$f":"IF(CI155=\"\",\"\",INDEX('LED Case Lighting'!$AX$3:$AX$16,MATCH('Analysis 103L'!CI155,'LED Case Lighting'!$AS$3:$AS$16,0)))","v":""},""]
[129,null,null,null,null,null,"",null,{"$f":"IF(K156=\"\",\"\",VLOOKUP(K156,'Equipment Type'!$A$1:$F$53,5,FALSE))","v":""},{"$f":"IF(K156=\"\",\"\",VLOOKUP(K156,'Equipment Type'!$A$1:$F$53,6,FALSE))","v":""},null,{"$f":"IF(K156=\"\",\"\",VLOOKUP(K156,'Equipment Type'!$A$1:$F$53,4,FALSE))","v":""},null,{"$f":"IF(K156=\"\",\"\",INDEX('Equipment Type'!$T$4:$T$53,MATCH('Analysis 103L'!K156,'Equipment Type'!$A$4:$A$53,0)))","v":""},"",null,{"$f":"IF(RIGHT(I156, 4)=\"Case\", \"\", IF(P156=\"\",\"\",(IF(ISNUMBER(SEARCH(\"exit\",J156)),8760,IF(B156=\"Exterior\",4380,'Analysis 103L'!$J$3)))))","v":""},null,"","","","","",{"$f":"IF(M156=\"Y\",\"CustomCalc\",IF(RIGHT(I156, 4)=\"Case\", \"\",IF(AD156=1,\"\",IF(AF156>0,AF156,\"\"))))","v":""},"",{"$f":"IF(M156 = \"Y\",IF(AND(M156=\"Y\",AG156=\"FAIL\"),\"Not Cost Effective\",\"\"),IF(AD156=1,\"Does not meet requirement\",\"\"))","v":""},{"$f":"IF('100L Information'!$Z$5=\"Yes\",0,IF('100L Information'!$Z$4=\"Yes\",(MIN($Y$232-(-$Y$227),6000)*0.5)*(Y156/$Y$232),$Y$232*(Y156/($Y$230+$Y$231))))","v":{"$error":"#VALUE!"}},"",{"$f":"IF(RIGHT(I156, 4)=\"Case\", \"\", MIN(W156*IF(I156=\"GROW\", RunRateMax_CustomMeasures_Horti, IF(I156=\"Street_Lighting\", RunRateMax_Streetlighting, RunRateMax_CustomMeasures_fixtures)),S156*Incent_Cost_Fixture_Cust))","v":{"$error":"#VALUE!"}},"No requirement",0,{"$f":"IF(OR(Z156=\"Does not meet requirement\",AND('100L Information'!$AA$21=\"No\",AL156=\"Y\"),AND('100L Information'!$AS$21=FALSE,AL156=\"Y\")),0,IF(ISNUMBER(R156*Incent_Cost_Fixture_Rx),MIN(R156*Incent_Cost_Fixture_Rx,(MAX(AE156,AK156))),0))","v":0},{"$f":"IF(AND(M156=\"Y\",BR156=\"PASS/PASS\"),\"PASS/PASS\",\"FAIL\")","v":"FAIL"},"0","0","0",{"$f":"IF(AE156=0,MAX(IF(ISERROR(VLOOKUP(CONCATENATE(J156,\" from \",VLOOKUP(E156,ExistFixtCat,4,FALSE)),PropFixtIncent,2,FALSE)),0,VLOOKUP(CONCATENATE(J156,\" from \",VLOOKUP(E156,ExistFixtCat,4,FALSE)),PropFixtIncent,2,FALSE)),IF(ISERROR(VLOOKUP(CONCATENATE(J156,\" from ANY\"),PropFixtIncent,2,FALSE)),0,VLOOKUP(CONCATENATE(J156,\" from ANY\"),PropFixtIncent,2,FALSE))),0)","v":0},"N",{"$f":"IF(AG156=\"PASS/PASS\",W156,\"0\")","v":"0"},{"$f":"IF(AG156=\"PASS/PASS\",Y156,\"0\")","v":"0"},null,{"$f":"IF(AND($CB156=\"fixture\",OR($D156=\"CFL\",$D156=\"INCAN\")),VLOOKUP(E156,Incan_Lookup,7,FALSE)*$G156*H156+VLOOKUP(E156,Incan_Lookup,6,FALSE)*$N156*P156,IF(AND($CB156=\"lamp\",OR($D156=\"CFL\",$D156=\"INCAN\")),VLOOKUP(E156,Incan_Lookup,10,FALSE)*$G156*H156+VLOOKUP(E156,Incan_Lookup,9,FALSE)*$N156*P156,IF($D156=\"OTHER\",$G156*$H156,IF($CB156=\"lamp\",(VLOOKUP($E156,ExistFixtLookup,10,FALSE)*H156+VLOOKUP($E156,ExistFixtLookup,9,FALSE)*N156*P156),IF($CB156=\"fixture\",(VLOOKUP($E156,ExistFixtLookup,7,FALSE)*H156+VLOOKUP($E156,ExistFixtLookup,6,FALSE)*N156*P156),$G156)))))","v":""},"",0,"",{"$f":"IF(RIGHT(I156,4)=\"Case\",W156,IF(AND(AL156=\"Y\",AF156<1),0,IF(OR(LEFT(D156,2)=\"T5\",LEFT(D156,3)=\"CFL\",'Analysis 103L'!AS156=\"Less\"),'Analysis 103L'!AR156,'Analysis 103L'!W156)))","v":""},null,0,0,null,{"$error":"#VALUE!"},{"$error":"#VALUE!"},{"$error":"#VALUE!"},null,null,{"$f":"IF(RIGHT(I156,4)=\"Case\",'LED Case Lighting'!$AY$1,IF(J156=\"\",\"\",VLOOKUP(J156,Lookups!$A$30:$J$149,VLOOKUP('100L Information'!$AI$46,Lookups!$J$3:$L$6,3,FALSE),FALSE)))","v":""},{"$f":"IF(B156=\"Exterior\", INDEX($BW$28:$BW$40, $BX$229), IF(BusType=\"Manufacturing\", IF(Q156<3500, \"1-Shift Industrial\", IF(Q156<5500, \"2-Shift Industrial\", IF(Q156<8000, \"3-Shift Industrial\", \"FLAT\"))), INDEX($BV$28:$BV$40, $BX$229)))","v":{"$error":"#N/A"}},"","",{"$error":"#VALUE!"},{"$error":"#VALUE!"},{"$error":"#VALUE!"},{"$f":"VLOOKUP(E156,ExistFixtCat,3,FALSE)/(H156*IF(ISNUMBER(VALUE(MID(E156,5,1))),VALUE(MID(E156,5,1)),1)*Q156)","v":{"$error":"#N/A"}},{"$f":"IF(ISERROR(-PV(POWER(1+Discount_Rate,$BK156)-1,$BD156/$BK156,10+VLOOKUP($E156,ExistFixtCat,2,FALSE))),0,-PV(POWER(1+Discount_Rate,$BK156)-1,$BD156/$BK156,10+VLOOKUP($E156,ExistFixtCat,2,FALSE)))","v":0},{"$f":"VLOOKUP($J156,PropOpLife,3,FALSE)/($P156*IF(ISNUMBER(VALUE(MID($J156,5,1))),VALUE(MID($J156,5,1)),1)*$Q156)","v":{"$error":"#N/A"}},{"$f":"IF(OR(ISERROR(-PV(POWER(1+Discount_Rate,$BM156)-1,$BD156/$BM156,MIN(R156,10+0.5*VLOOKUP($J156,PropOpLife,2,FALSE)))),BL156=0),0,-PV(POWER(1+Discount_Rate,$BM156)-1,$BD156/$BM156,MIN(R156,10+0.5*VLOOKUP($J156,PropOpLife,2,FALSE))))","v":0},{"$error":"#VALUE!"},{"$error":"#VALUE!"},{"$error":"#VALUE!"},"FAIL",null,null,null,null,null,null,null,"Interior / Exterior",null,{"$f":"IF(I156=\"\",\"\",VLOOKUP(I156,FixVsLamp,2,FALSE))","v":""},null,{"$f":"IF(RIGHT(I156,4)=\"Case\",(INDEX('LED Case Lighting'!$AZ$3:$AZ$16,MATCH('Analysis 103L'!$CI156,'LED Case Lighting'!$AS$3:$AS$16,0))),IF(CB156=0,0,IF(CB156=\"lamp\",((Q156/VLOOKUP(B156,Int_Ext,2,FALSE))*VLOOKUP(E156,NEB,16,FALSE)),IF(CB156=\"fixture\",((Q156/VLOOKUP(B156,Int_Ext,2,FALSE))*VLOOKUP(E156,NEB,14,FALSE)),\"\"))))","v":""},null,{"$f":"IF(RIGHT(I156,4)=\"Case\",INDEX('Equipment Type'!$V$4:$V$53, MATCH('Analysis 103L'!$K156, 'Equipment Type'!$A$4:$A$53, 0)), \"\")","v":""},"","","",{"$f":"IF(CI156=\"\", \"\", IF(RIGHT(I156,4)=\"Case\", INDEX('LED Case Lighting'!$AR$3:$AR$16, MATCH('Analysis 103L'!CI156, 'LED Case Lighting'!$AS$3:$AS$16, 0)), \"\"))","v":""},{"$f":"IF(CI156=\"\",\"\",INDEX('LED Case Lighting'!$AW$3:$AW$16,MATCH('Analysis 103L'!CI156,'LED Case Lighting'!$AS$3:$AS$16,0)))","v":""},{"$f":"IF(CI156=\"\",\"\",INDEX('LED Case Lighting'!$AX$3:$AX$16,MATCH('Analysis 103L'!CI156,'LED Case Lighting'!$AS$3:$AS$16,0)))","v":""},""]
[130,null,null,null,null,null,"",null,{"$f":"IF(K157=\"\",\"\",VLOOKUP(K157,'Equipment Type'!$A$1:$F$53,5,FALSE))","v":""},{"$f":"IF(K157=\"\",\"\",VLOOKUP(K157,'Equipment Type'!$A$1:$F$53,6,FALSE))","v":""},null,{"$f":"IF(K157=\"\",\"\",VLOOKUP(K157,'Equipment Type'!$A$1:$F$53,4,FALSE))","v":""},null,{"$f":"IF(K157=\"\",\"\",INDEX('Equipment Type'!$T$4:$T$53,MATCH('Analysis 103L'!K157,'Equipment Type'!$A$4:$A$53,0)))","v":""},"",null,{"$f":"IF(RIGHT(I157, 4)=\"Case\", \"\", IF(P157=\"\",\"\",(IF(ISNUMBER(SEARCH(\"exit\",J157)),8760,IF(B157=\"Exterior\",4380,'Analysis 103L'!$J$3)))))","v":""},null,"","","","","","","","",{"$f":"IF('100L Information'!$Z$5=\"Yes\",0,IF('100L Information'!$Z$4=\"Yes\",(MIN($Y$232-(-$Y$227),6000)*0.5)*(Y157/$Y$232),$Y$232*(Y157/($Y$230+$Y$231))))","v":{"$error":"#VALUE!"}},"",{"$error":"#VALUE!"},"No requirement",0,{"$f":"IF(OR(Z157=\"Does not meet requirement\",AND('100L Information'!$AA$21=\"No\",AL157=\"Y\"),AND('100L Information'!$AS$21=FALSE,AL157=\"Y\")),0,IF(ISNUMBER(R157*Incent_Cost_Fixture_Rx),MIN(R157*Incent_Cost_Fixture_Rx,(MAX(AE157,AK157))),0))","v":0},"FAIL","0","0","0",0,{"$f":"IF(ISNUMBER(VLOOKUP(J157,PublicSector,13,FALSE)),\"Y\",\"N\")","v":"N"},"0","0",null,"",{"$f":"IF(ISNUMBER((AP157-N157*P157)*Q157/1000),(AP157-N157*P157)*Q157/1000,W157)","v":""},0,{"$f":"IF(ISNUMBER(AP157),IF(AP157>G157*H157,\"Greater\",\"Less\"),\"\")","v":""},{"$f":"IF(RIGHT(I157,4)=\"Case\",W157,IF(AND(AL157=\"Y\",AF157<1),0,IF(OR(LEFT(D157,2)=\"T5\",LEFT(D157,3)=\"CFL\",'Analysis 103L'!AS157=\"Less\"),'Analysis 103L'!AR157,'Analysis 103L'!W157)))","v":""},null,0,0,null,{"$error":"#VALUE!"},{"$error":"#VALUE!"},{"$error":"#VALUE!"},null,null,{"$f":"IF(RIGHT(I157,4)=\"Case\",'LED Case Lighting'!$AY$1,IF(J157=\"\",\"\",VLOOKUP(J157,Lookups!$A$30:$J$149,VLOOKUP('100L Information'!$AI$46,Lookups!$J$3:$L$6,3,FALSE),FALSE)))","v":""},{"$error":"#N/A"},"","",{"$error":"#VALUE!"},{"$error":"#VALUE!"},{"$error":"#VALUE!"},{"$error":"#N/A"},0,{"$error":"#N/A"},0,{"$error":"#VALUE!"},{"$error":"#VALUE!"},{"$error":"#VALUE!"},"FAIL",null,null,null,null,null,null,null,"Interior / Exterior",null,"",null,{"$f":"IF(RIGHT(I157,4)=\"Case\",(INDEX('LED Case Lighting'!$AZ$3:$AZ$16,MATCH('Analysis 103L'!$CI157,'LED Case Lighting'!$AS$3:$AS$16,0))),IF(CB157=0,0,IF(CB157=\"lamp\",((Q157/VLOOKUP(B157,Int_Ext,2,FALSE))*VLOOKUP(E157,NEB,16,FALSE)),IF(CB157=\"fixture\",((Q157/VLOOKUP(B157,Int_Ext,2,FALSE))*VLOOKUP(E157,NEB,14,FALSE)),\"\"))))","v":""},null,{"$f":"IF(RIGHT(I157,4)=\"Case\",INDEX('Equipment Type'!$V$4:$V$53, MATCH('Analysis 103L'!$K157, 'Equipment Type'!$A$4:$A$53, 0)), \"\")","v":""},"",{"$f":"IF(RIGHT(I157,4)=\"Case\",IF(B157=$BZ$231,\"MED\",IF(B157=$BZ$230,\"LOW\",IF(B157=$BZ$232,\"OUT\",\"\"))), \"\")","v":""},{"$f":"IF(RIGHT(I157,4)=\"Case\",IF(OR(CF157=\"NE\", LEFT(J157, 6)=\"Motion\"), \"\", CONCATENATE(\"LEDCL\",CF157, CG157, CH157)), \"\")","v":""},{"$f":"IF(CI157=\"\", \"\", IF(RIGHT(I157,4)=\"Case\", INDEX('LED Case Lighting'!$AR$3:$AR$16, MATCH('Analysis 103L'!CI157, 'LED Case Lighting'!$AS$3:$AS$16, 0)), \"\"))","v":""},{"$f":"IF(CI157=\"\",\"\",INDEX('LED Case Lighting'!$AW$3:$AW$16,MATCH('Analysis 103L'!CI157,'LED Case Lighting'!$AS$3:$AS$16,0)))","v":""},{"$f":"IF(CI157=\"\",\"\",INDEX('LED Case Lighting'!$AX$3:$AX$16,MATCH('Analysis 103L'!CI157,'LED Case Lighting'!$AS$3:$AS$16,0)))","v":""},""]
[131,null,null,null,null,null,"",null,{"$f":"IF(K158=\"\",\"\",VLOOKUP(K158,'Equipment Type'!$A$1:$F$53,5,FALSE))","v":""},{"$f":"IF(K158=\"\",\"\",VLOOKUP(K158,'Equipment Type'!$A$1:$F$53,6,FALSE))","v":""},null,{"$f":"IF(K158=\"\",\"\",VLOOKUP(K158,'Equipment Type'!$A$1:$F$53,4,FALSE))","v":""},null,{"$f":"IF(K158=\"\",\"\",INDEX('Equipment Type'!$T$4:$T$53,MATCH('Analysis 103L'!K158,'Equipment Type'!$A$4:$A$53,0)))","v":""},"",null,{"$f":"IF(RIGHT(I158, 4)=\"Case\", \"\", IF(P158=\"\",\"\",(IF(ISNUMBER(SEARCH(\"exit\",J158)),8760,IF(B158=\"Exterior\",4380,'Analysis 103L'!$J$3)))))","v":""},null,"","","","","","","","",{"$f":"IF('100L Information'!$Z$5=\"Yes\",0,IF('100L Information'!$Z$4=\"Yes\",(MIN($Y$232-(-$Y$227),6000)*0.5)*(Y158/$Y$232),$Y$232*(Y158/($Y$230+$Y$231))))","v":{"$error":"#VALUE!"}},{"$f":"IF(W158=\"\",\"\",W158*$D$23)","v":""},{"$error":"#VALUE!"},{"$f":"IF(OR(I158=\"TLED\",I158=\"Relamp\",I158=\"LED_High_Bay\",I158=\"LED_Lamps\",I158=\"LED_Interior_Fixtures\",I158=\"LED_Exterior_Fixtures\",I158=\"Street_Lighting\", I158=\"LLLC\"),IF(((U158-V158)/U158)>=0.4,0,1),IF(LEFT(J158,3)=\"HID\",IF(((U158-V158)/U158)>=0.5,0,1),\"No requirement\"))","v":"No requirement"},0,{"$f":"IF(OR(Z158=\"Does not meet requirement\",AND('100L Information'!$AA$21=\"No\",AL158=\"Y\"),AND('100L Information'!$AS$21=FALSE,AL158=\"Y\")),0,IF(ISNUMBER(R158*Incent_Cost_Fixture_Rx),MIN(R158*Incent_Cost_Fixture_Rx,(MAX(AE158,AK158))),0))","v":0},"FAIL","0","0","0",0,"N","0","0",null,"","",0,"",{"$f":"IF(RIGHT(I158,4)=\"Case\",W158,IF(AND(AL158=\"Y\",AF158<1),0,IF(OR(LEFT(D158,2)=\"T5\",LEFT(D158,3)=\"CFL\",'Analysis 103L'!AS158=\"Less\"),'Analysis 103L'!AR158,'Analysis 103L'!W158)))","v":""},null,0,0,null,{"$error":"#VALUE!"},{"$error":"#VALUE!"},{"$error":"#VALUE!"},null,null,{"$f":"IF(RIGHT(I158,4)=\"Case\",'LED Case Lighting'!$AY$1,IF(J158=\"\",\"\",VLOOKUP(J158,Lookups!$A$30:$J$149,VLOOKUP('100L Information'!$AI$46,Lookups!$J$3:$L$6,3,FALSE),FALSE)))","v":""},{"$error":"#N/A"},"",{"$f":"IF(BD158=\"\",\"\",$BF158+-PV(4.5%,BD158,CD158)/$AR158*$P158)","v":""},{"$f":"IF(RIGHT(I158,4)=\"Case\",0.5*R158/AR158, 0.5*S158/AR158)","v":{"$error":"#VALUE!"}},{"$error":"#VALUE!"},{"$error":"#VALUE!"},{"$error":"#N/A"},0,{"$error":"#N/A"},0,{"$error":"#VALUE!"},{"$error":"#VALUE!"},{"$error":"#VALUE!"},"FAIL",null,null,null,null,null,null,null,"Interior / Exterior",null,"",null,{"$f":"IF(RIGHT(I158,4)=\"Case\",(INDEX('LED Case Lighting'!$AZ$3:$AZ$16,MATCH('Analysis 103L'!$CI158,'LED Case Lighting'!$AS$3:$AS$16,0))),IF(CB158=0,0,IF(CB158=\"lamp\",((Q158/VLOOKUP(B158,Int_Ext,2,FALSE))*VLOOKUP(E158,NEB,16,FALSE)),IF(CB158=\"fixture\",((Q158/VLOOKUP(B158,Int_Ext,2,FALSE))*VLOOKUP(E158,NEB,14,FALSE)),\"\"))))","v":""},null,{"$f":"IF(RIGHT(I158,4)=\"Case\",INDEX('Equipment Type'!$V$4:$V$53, MATCH('Analysis 103L'!$K158, 'Equipment Type'!$A$4:$A$53, 0)), \"\")","v":""},"","","",{"$f":"IF(CI158=\"\", \"\", IF(RIGHT(I158,4)=\"Case\", INDEX('LED Case Lighting'!$AR$3:$AR$16, MATCH('Analysis 103L'!CI158, 'LED Case Lighting'!$AS$3:$AS$16, 0)), \"\"))","v":""},{"$f":"IF(CI158=\"\",\"\",INDEX('LED Case Lighting'!$AW$3:$AW$16,MATCH('Analysis 103L'!CI158,'LED Case Lighting'!$AS$3:$AS$16,0)))","v":""},{"$f":"IF(CI158=\"\",\"\",INDEX('LED Case Lighting'!$AX$3:$AX$16,MATCH('Analysis 103L'!CI158,'LED Case Lighting'!$AS$3:$AS$16,0)))","v":""},""]
[132,null,null,null,null,null,"",null,{"$f":"IF(K159=\"\",\"\",VLOOKUP(K159,'Equipment Type'!$A$1:$F$53,5,FALSE))","v":""},{"$f":"IF(K159=\"\",\"\",VLOOKUP(K159,'Equipment Type'!$A$1:$F$53,6,FALSE))","v":""},null,{"$f":"IF(K159=\"\",\"\",VLOOKUP(K159,'Equipment Type'!$A$1:$F$53,4,FALSE))","v":""},null,{"$f":"IF(K159=\"\",\"\",INDEX('Equipment Type'!$T$4:$T$53,MATCH('Analysis 103L'!K159,'Equipment Type'!$A$4:$A$53,0)))","v":""},"",null,{"$f":"IF(RIGHT(I159, 4)=\"Case\", \"\", IF(P159=\"\",\"\",(IF(ISNUMBER(SEARCH(\"exit\",J159)),8760,IF(B159=\"Exterior\",4380,'Analysis 103L'!$J$3)))))","v":""},null,"","","","","","","","",{"$f":"IF('100L Information'!$Z$5=\"Yes\",0,IF('100L Information'!$Z$4=\"Yes\",(MIN($Y$232-(-$Y$227),6000)*0.5)*(Y159/$Y$232),$Y$232*(Y159/($Y$230+$Y$231))))","v":{"$error":"#VALUE!"}},"",{"$error":"#VALUE!"},"No requirement",0,{"$f":"IF(OR(Z159=\"Does not meet requirement\",AND('100L Information'!$AA$21=\"No\",AL159=\"Y\"),AND('100L Information'!$AS$21=FALSE,AL159=\"Y\")),0,IF(ISNUMBER(R159*Incent_Cost_Fixture_Rx),MIN(R159*Incent_Cost_Fixture_Rx,(MAX(AE159,AK159))),0))","v":0},"FAIL","0","0","0",0,"N","0","0",null,"","",0,"",{"$f":"IF(RIGHT(I159,4)=\"Case\",W159,IF(AND(AL159=\"Y\",AF159<1),0,IF(OR(LEFT(D159,2)=\"T5\",LEFT(D159,3)=\"CFL\",'Analysis 103L'!AS159=\"Less\"),'Analysis 103L'!AR159,'Analysis 103L'!W159)))","v":""},null,0,0,null,{"$error":"#VALUE!"},{"$error":"#VALUE!"},{"$error":"#VALUE!"},null,null,{"$f":"IF(RIGHT(I159,4)=\"Case\",'LED Case Lighting'!$AY$1,IF(J159=\"\",\"\",VLOOKUP(J159,Lookups!$A$30:$J$149,VLOOKUP('100L Information'!$AI$46,Lookups!$J$3:$L$6,3,FALSE),FALSE)))","v":""},{"$error":"#N/A"},"","",{"$error":"#VALUE!"},{"$error":"#VALUE!"},{"$error":"#VALUE!"},{"$error":"#N/A"},0,{"$error":"#N/A"},0,{"$error":"#VALUE!"},{"$error":"#VALUE!"},{"$error":"#VALUE!"},"FAIL",null,null,null,null,null,null,null,"Interior / Exterior",null,"",null,{"$f":"IF(RIGHT(I159,4)=\"Case\",(INDEX('LED Case Lighting'!$AZ$3:$AZ$16,MATCH('Analysis 103L'!$CI159,'LED Case Lighting'!$AS$3:$AS$16,0))),IF(CB159=0,0,IF(CB159=\"lamp\",((Q159/VLOOKUP(B159,Int_Ext,2,FALSE))*VLOOKUP(E159,NEB,16,FALSE)),IF(CB159=\"fixture\",((Q159/VLOOKUP(B159,Int_Ext,2,FALSE))*VLOOKUP(E159,NEB,14,FALSE)),\"\"))))","v":""},null,{"$f":"IF(RIGHT(I159,4)=\"Case\",INDEX('Equipment Type'!$V$4:$V$53, MATCH('Analysis 103L'!$K159, 'Equipment Type'!$A$4:$A$53, 0)), \"\")","v":""},"","","",{"$f":"IF(CI159=\"\", \"\", IF(RIGHT(I159,4)=\"Case\", INDEX('LED Case Lighting'!$AR$3:$AR$16, MATCH('Analysis 103L'!CI159, 'LED Case Lighting'!$AS$3:$AS$16, 0)), \"\"))","v":""},{"$f":"IF(CI159=\"\",\"\",INDEX('LED Case Lighting'!$AW$3:$AW$16,MATCH('Analysis 103L'!CI159,'LED Case Lighting'!$AS$3:$AS$16,0)))","v":""},{"$f":"IF(CI159=\"\",\"\",INDEX('LED Case Lighting'!$AX$3:$AX$16,MATCH('Analysis 103L'!CI159,'LED Case Lighting'!$AS$3:$AS$16,0)))","v":""},""]
[133,null,null,null,null,null,"",null,{"$f":"IF(K160=\"\",\"\",VLOOKUP(K160,'Equipment Type'!$A$1:$F$53,5,FALSE))","v":""},{"$f":"IF(K160=\"\",\"\",VLOOKUP(K160,'Equipment Type'!$A$1:$F$53,6,FALSE))","v":""},null,{"$f":"IF(K160=\"\",\"\",VLOOKUP(K160,'Equipment Type'!$A$1:$F$53,4,FALSE))","v":""},null,{"$f":"IF(K160=\"\",\"\",INDEX('Equipment Type'!$T$4:$T$53,MATCH('Analysis 103L'!K160,'Equipment Type'!$A$4:$A$53,0)))","v":""},{"$f":"IF(RIGHT(I160, 4)=\"Case\", \"\", IF(G160=\"\",\"\",((G160*H160)-(N160*P160))/(G160*H160)))","v":""},null,{"$f":"IF(RIGHT(I160, 4)=\"Case\", \"\", IF(P160=\"\",\"\",(IF(ISNUMBER(SEARCH(\"exit\",J160)),8760,IF(B160=\"Exterior\",4380,'Analysis 103L'!$J$3)))))","v":""},null,"","","","","","","","",{"$f":"IF('100L Information'!$Z$5=\"Yes\",0,IF('100L Information'!$Z$4=\"Yes\",(MIN($Y$232-(-$Y$227),6000)*0.5)*(Y160/$Y$232),$Y$232*(Y160/($Y$230+$Y$231))))","v":{"$error":"#VALUE!"}},"",{"$error":"#VALUE!"},"No requirement",0,{"$f":"IF(OR(Z160=\"Does not meet requirement\",AND('100L Information'!$AA$21=\"No\",AL160=\"Y\"),AND('100L Information'!$AS$21=FALSE,AL160=\"Y\")),0,IF(ISNUMBER(R160*Incent_Cost_Fixture_Rx),MIN(R160*Incent_Cost_Fixture_Rx,(MAX(AE160,AK160))),0))","v":0},"FAIL","0","0","0",0,"N","0","0",null,"","",0,"",{"$f":"IF(RIGHT(I160,4)=\"Case\",W160,IF(AND(AL160=\"Y\",AF160<1),0,IF(OR(LEFT(D160,2)=\"T5\",LEFT(D160,3)=\"CFL\",'Analysis 103L'!AS160=\"Less\"),'Analysis 103L'!AR160,'Analysis 103L'!W160)))","v":""},null,{"$f":"IF($B160=\"Interior\",IF(ISNUMBER($G160*$H160),$G160*$H160,0), 0)","v":0},{"$f":"IF($B160=\"Interior\",IF(ISNUMBER($N160*$P160),$N160*$P160,0), 0)","v":0},null,{"$error":"#VALUE!"},{"$error":"#VALUE!"},{"$error":"#VALUE!"},null,null,{"$f":"IF(RIGHT(I160,4)=\"Case\",'LED Case Lighting'!$AY$1,IF(J160=\"\",\"\",VLOOKUP(J160,Lookups!$A$30:$J$149,VLOOKUP('100L Information'!$AI$46,Lookups!$J$3:$L$6,3,FALSE),FALSE)))","v":""},{"$error":"#N/A"},"","",{"$error":"#VALUE!"},{"$error":"#VALUE!"},{"$error":"#VALUE!"},{"$error":"#N/A"},0,{"$error":"#N/A"},0,{"$f":"IF(RIGHT(I160,4)=\"Case\",R160/AR160,S160/AR160)","v":{"$error":"#VALUE!"}},{"$error":"#VALUE!"},{"$error":"#VALUE!"},"FAIL",null,null,null,null,null,null,null,"Interior / Exterior",null,"",null,{"$f":"IF(RIGHT(I160,4)=\"Case\",(INDEX('LED Case Lighting'!$AZ$3:$AZ$16,MATCH('Analysis 103L'!$CI160,'LED Case Lighting'!$AS$3:$AS$16,0))),IF(CB160=0,0,IF(CB160=\"lamp\",((Q160/VLOOKUP(B160,Int_Ext,2,FALSE))*VLOOKUP(E160,NEB,16,FALSE)),IF(CB160=\"fixture\",((Q160/VLOOKUP(B160,Int_Ext,2,FALSE))*VLOOKUP(E160,NEB,14,FALSE)),\"\"))))","v":""},null,{"$f":"IF(RIGHT(I160,4)=\"Case\",INDEX('Equipment Type'!$V$4:$V$53, MATCH('Analysis 103L'!$K160, 'Equipment Type'!$A$4:$A$53, 0)), \"\")","v":""},"","","",{"$f":"IF(CI160=\"\", \"\", IF(RIGHT(I160,4)=\"Case\", INDEX('LED Case Lighting'!$AR$3:$AR$16, MATCH('Analysis 103L'!CI160, 'LED Case Lighting'!$AS$3:$AS$16, 0)), \"\"))","v":""},{"$f":"IF(CI160=\"\",\"\",INDEX('LED Case Lighting'!$AW$3:$AW$16,MATCH('Analysis 103L'!CI160,'LED Case Lighting'!$AS$3:$AS$16,0)))","v":""},{"$f":"IF(CI160=\"\",\"\",INDEX('LED Case Lighting'!$AX$3:$AX$16,MATCH('Analysis 103L'!CI160,'LED Case Lighting'!$AS$3:$AS$16,0)))","v":""},""]
[134,null,null,null,null,null,"",null,{"$f":"IF(K161=\"\",\"\",VLOOKUP(K161,'Equipment Type'!$A$1:$F$53,5,FALSE))","v":""},{"$f":"IF(K161=\"\",\"\",VLOOKUP(K161,'Equipment Type'!$A$1:$F$53,6,FALSE))","v":""},null,{"$f":"IF(K161=\"\",\"\",VLOOKUP(K161,'Equipment Type'!$A$1:$F$53,4,FALSE))","v":""},null,{"$f":"IF(K161=\"\",\"\",INDEX('Equipment Type'!$T$4:$T$53,MATCH('Analysis 103L'!K161,'Equipment Type'!$A$4:$A$53,0)))","v":""},"",null,{"$f":"IF(RIGHT(I161, 4)=\"Case\", \"\", IF(P161=\"\",\"\",(IF(ISNUMBER(SEARCH(\"exit\",J161)),8760,IF(B161=\"Exterior\",4380,'Analysis 103L'!$J$3)))))","v":""},null,"","","","","","","","",{"$f":"IF('100L Information'!$Z$5=\"Yes\",0,IF('100L Information'!$Z$4=\"Yes\",(MIN($Y$232-(-$Y$227),6000)*0.5)*(Y161/$Y$232),$Y$232*(Y161/($Y$230+$Y$231))))","v":{"$error":"#VALUE!"}},"",{"$error":"#VALUE!"},"No requirement",0,{"$f":"IF(OR(Z161=\"Does not meet requirement\",AND('100L Information'!$AA$21=\"No\",AL161=\"Y\"),AND('100L Information'!$AS$21=FALSE,AL161=\"Y\")),0,IF(ISNUMBER(R161*Incent_Cost_Fixture_Rx),MIN(R161*Incent_Cost_Fixture_Rx,(MAX(AE161,AK161))),0))","v":0},"FAIL","0","0","0",0,"N","0","0",null,"","",0,"",{"$f":"IF(RIGHT(I161,4)=\"Case\",W161,IF(AND(AL161=\"Y\",AF161<1),0,IF(OR(LEFT(D161,2)=\"T5\",LEFT(D161,3)=\"CFL\",'Analysis 103L'!AS161=\"Less\"),'Analysis 103L'!AR161,'Analysis 103L'!W161)))","v":""},null,0,0,null,{"$error":"#VALUE!"},{"$error":"#VALUE!"},{"$error":"#VALUE!"},null,null,{"$f":"IF(RIGHT(I161,4)=\"Case\",'LED Case Lighting'!$AY$1,IF(J161=\"\",\"\",VLOOKUP(J161,Lookups!$A$30:$J$149,VLOOKUP('100L Information'!$AI$46,Lookups!$J$3:$L$6,3,FALSE),FALSE)))","v":""},{"$error":"#N/A"},"","",{"$error":"#VALUE!"},{"$error":"#VALUE!"},{"$error":"#VALUE!"},{"$error":"#N/A"},0,{"$error":"#N/A"},0,{"$error":"#VALUE!"},{"$error":"#VALUE!"},{"$error":"#VALUE!"},"FAIL",null,null,null,null,null,null,null,"Interior / Exterior",null,"",null,{"$f":"IF(RIGHT(I161,4)=\"Case\",(INDEX('LED Case Lighting'!$AZ$3:$AZ$16,MATCH('Analysis 103L'!$CI161,'LED Case Lighting'!$AS$3:$AS$16,0))),IF(CB161=0,0,IF(CB161=\"lamp\",((Q161/VLOOKUP(B161,Int_Ext,2,FALSE))*VLOOKUP(E161,NEB,16,FALSE)),IF(CB161=\"fixture\",((Q161/VLOOKUP(B161,Int_Ext,2,FALSE))*VLOOKUP(E161,NEB,14,FALSE)),\"\"))))","v":""},null,{"$f":"IF(RIGHT(I161,4)=\"Case\",INDEX('Equipment Type'!$V$4:$V$53, MATCH('Analysis 103L'!$K161, 'Equipment Type'!$A$4:$A$53, 0)), \"\")","v":""},"","","",{"$f":"IF(CI161=\"\", \"\", IF(RIGHT(I161,4)=\"Case\", INDEX('LED Case Lighting'!$AR$3:$AR$16, MATCH('Analysis 103L'!CI161, 'LED Case Lighting'!$AS$3:$AS$16, 0)), \"\"))","v":""},{"$f":"IF(CI161=\"\",\"\",INDEX('LED Case Lighting'!$AW$3:$AW$16,MATCH('Analysis 103L'!CI161,'LED Case Lighting'!$AS$3:$AS$16,0)))","v":""},{"$f":"IF(CI161=\"\",\"\",INDEX('LED Case Lighting'!$AX$3:$AX$16,MATCH('Analysis 103L'!CI161,'LED Case Lighting'!$AS$3:$AS$16,0)))","v":""},""]
[135,null,null,null,null,null,"",null,{"$f":"IF(K162=\"\",\"\",VLOOKUP(K162,'Equipment Type'!$A$1:$F$53,5,FALSE))","v":""},{"$f":"IF(K162=\"\",\"\",VLOOKUP(K162,'Equipment Type'!$A$1:$F$53,6,FALSE))","v":""},null,{"$f":"IF(K162=\"\",\"\",VLOOKUP(K162,'Equipment Type'!$A$1:$F$53,4,FALSE))","v":""},null,{"$f":"IF(K162=\"\",\"\",INDEX('Equipment Type'!$T$4:$T$53,MATCH('Analysis 103L'!K162,'Equipment Type'!$A$4:$A$53,0)))","v":""},"",null,{"$f":"IF(RIGHT(I162, 4)=\"Case\", \"\", IF(P162=\"\",\"\",(IF(ISNUMBER(SEARCH(\"exit\",J162)),8760,IF(B162=\"Exterior\",4380,'Analysis 103L'!$J$3)))))","v":""},null,"","","","","","",{"$f":"IF(RIGHT(I162, 4)=\"Case\", IF(LEFT(J162, 6)=\"Motion\", \"\", CM162), IF(AND(W162>0,ISNUMBER(X162)),X162*P162,IF(P162=\"\",\"\",IF(RIGHT(I162, 4)=\"Case\", IF(LEFT(J162, 6)=\"Motion\", \"\", CM162),IF(AND(X162=\"CustomCalc\",AG162=\"PASS/PASS\"),AC162,0)))))","v":""},"",{"$f":"IF('100L Information'!$Z$5=\"Yes\",0,IF('100L Information'!$Z$4=\"Yes\",(MIN($Y$232-(-$Y$227),6000)*0.5)*(Y162/$Y$232),$Y$232*(Y162/($Y$230+$Y$231))))","v":{"$error":"#VALUE!"}},"",{"$error":"#VALUE!"},"No requirement",0,{"$f":"IF(OR(Z162=\"Does not meet requirement\",AND('100L Information'!$AA$21=\"No\",AL162=\"Y\"),AND('100L Information'!$AS$21=FALSE,AL162=\"Y\")),0,IF(ISNUMBER(R162*Incent_Cost_Fixture_Rx),MIN(R162*Incent_Cost_Fixture_Rx,(MAX(AE162,AK162))),0))","v":0},"FAIL","0","0","0",0,"N","0","0",null,"","",0,"",{"$f":"IF(RIGHT(I162,4)=\"Case\",W162,IF(AND(AL162=\"Y\",AF162<1),0,IF(OR(LEFT(D162,2)=\"T5\",LEFT(D162,3)=\"CFL\",'Analysis 103L'!AS162=\"Less\"),'Analysis 103L'!AR162,'Analysis 103L'!W162)))","v":""},null,0,0,null,{"$error":"#VALUE!"},{"$error":"#VALUE!"},{"$error":"#VALUE!"},null,null,{"$f":"IF(RIGHT(I162,4)=\"Case\",'LED Case Lighting'!$AY$1,IF(J162=\"\",\"\",VLOOKUP(J162,Lookups!$A$30:$J$149,VLOOKUP('100L Information'!$AI$46,Lookups!$J$3:$L$6,3,FALSE),FALSE)))","v":""},{"$error":"#N/A"},"","",{"$error":"#VALUE!"},{"$error":"#VALUE!"},{"$error":"#VALUE!"},{"$error":"#N/A"},0,{"$error":"#N/A"},0,{"$error":"#VALUE!"},{"$error":"#VALUE!"},{"$error":"#VALUE!"},"FAIL",null,null,null,null,null,null,null,"Interior / Exterior",null,"",null,{"$f":"IF(RIGHT(I162,4)=\"Case\",(INDEX('LED Case Lighting'!$AZ$3:$AZ$16,MATCH('Analysis 103L'!$CI162,'LED Case Lighting'!$AS$3:$AS$16,0))),IF(CB162=0,0,IF(CB162=\"lamp\",((Q162/VLOOKUP(B162,Int_Ext,2,FALSE))*VLOOKUP(E162,NEB,16,FALSE)),IF(CB162=\"fixture\",((Q162/VLOOKUP(B162,Int_Ext,2,FALSE))*VLOOKUP(E162,NEB,14,FALSE)),\"\"))))","v":""},null,{"$f":"IF(RIGHT(I162,4)=\"Case\",INDEX('Equipment Type'!$V$4:$V$53, MATCH('Analysis 103L'!$K162, 'Equipment Type'!$A$4:$A$53, 0)), \"\")","v":""},"","","",{"$f":"IF(CI162=\"\", \"\", IF(RIGHT(I162,4)=\"Case\", INDEX('LED Case Lighting'!$AR$3:$AR$16, MATCH('Analysis 103L'!CI162, 'LED Case Lighting'!$AS$3:$AS$16, 0)), \"\"))","v":""},{"$f":"IF(CI162=\"\",\"\",INDEX('LED Case Lighting'!$AW$3:$AW$16,MATCH('Analysis 103L'!CI162,'LED Case Lighting'!$AS$3:$AS$16,0)))","v":""},{"$f":"IF(CI162=\"\",\"\",INDEX('LED Case Lighting'!$AX$3:$AX$16,MATCH('Analysis 103L'!CI162,'LED Case Lighting'!$AS$3:$AS$16,0)))","v":""},""]
[136,null,null,null,null,null,"",null,{"$f":"IF(K163=\"\",\"\",VLOOKUP(K163,'Equipment Type'!$A$1:$F$53,5,FALSE))","v":""},{"$f":"IF(K163=\"\",\"\",VLOOKUP(K163,'Equipment Type'!$A$1:$F$53,6,FALSE))","v":""},null,{"$f":"IF(K163=\"\",\"\",VLOOKUP(K163,'Equipment Type'!$A$1:$F$53,4,FALSE))","v":""},null,{"$f":"IF(K163=\"\",\"\",INDEX('Equipment Type'!$T$4:$T$53,MATCH('Analysis 103L'!K163,'Equipment Type'!$A$4:$A$53,0)))","v":""},"",null,{"$f":"IF(RIGHT(I163, 4)=\"Case\", \"\", IF(P163=\"\",\"\",(IF(ISNUMBER(SEARCH(\"exit\",J163)),8760,IF(B163=\"Exterior\",4380,'Analysis 103L'!$J$3)))))","v":""},null,"","","","","","","","",{"$f":"IF('100L Information'!$Z$5=\"Yes\",0,IF('100L Information'!$Z$4=\"Yes\",(MIN($Y$232-(-$Y$227),6000)*0.5)*(Y163/$Y$232),$Y$232*(Y163/($Y$230+$Y$231))))","v":{"$error":"#VALUE!"}},"",{"$error":"#VALUE!"},"No requirement",0,{"$f":"IF(OR(Z163=\"Does not meet requirement\",AND('100L Information'!$AA$21=\"No\",AL163=\"Y\"),AND('100L Information'!$AS$21=FALSE,AL163=\"Y\")),0,IF(ISNUMBER(R163*Incent_Cost_Fixture_Rx),MIN(R163*Incent_Cost_Fixture_Rx,(MAX(AE163,AK163))),0))","v":0},"FAIL","0","0","0",0,"N","0","0",null,"","",0,"",{"$f":"IF(RIGHT(I163,4)=\"Case\",W163,IF(AND(AL163=\"Y\",AF163<1),0,IF(OR(LEFT(D163,2)=\"T5\",LEFT(D163,3)=\"CFL\",'Analysis 103L'!AS163=\"Less\"),'Analysis 103L'!AR163,'Analysis 103L'!W163)))","v":""},null,0,0,null,{"$error":"#VALUE!"},{"$error":"#VALUE!"},{"$error":"#VALUE!"},null,null,{"$f":"IF(RIGHT(I163,4)=\"Case\",'LED Case Lighting'!$AY$1,IF(J163=\"\",\"\",VLOOKUP(J163,Lookups!$A$30:$J$149,VLOOKUP('100L Information'!$AI$46,Lookups!$J$3:$L$6,3,FALSE),FALSE)))","v":""},{"$error":"#N/A"},"","",{"$error":"#VALUE!"},{"$error":"#VALUE!"},{"$error":"#VALUE!"},{"$error":"#N/A"},0,{"$error":"#N/A"},0,{"$error":"#VALUE!"},{"$error":"#VALUE!"},{"$error":"#VALUE!"},"FAIL",null,null,null,null,null,null,null,"Interior / Exterior",null,"",null,{"$f":"IF(RIGHT(I163,4)=\"Case\",(INDEX('LED Case Lighting'!$AZ$3:$AZ$16,MATCH('Analysis 103L'!$CI163,'LED Case Lighting'!$AS$3:$AS$16,0))),IF(CB163=0,0,IF(CB163=\"lamp\",((Q163/VLOOKUP(B163,Int_Ext,2,FALSE))*VLOOKUP(E163,NEB,16,FALSE)),IF(CB163=\"fixture\",((Q163/VLOOKUP(B163,Int_Ext,2,FALSE))*VLOOKUP(E163,NEB,14,FALSE)),\"\"))))","v":""},null,{"$f":"IF(RIGHT(I163,4)=\"Case\",INDEX('Equipment Type'!$V$4:$V$53, MATCH('Analysis 103L'!$K163, 'Equipment Type'!$A$4:$A$53, 0)), \"\")","v":""},"","","",{"$f":"IF(CI163=\"\", \"\", IF(RIGHT(I163,4)=\"Case\", INDEX('LED Case Lighting'!$AR$3:$AR$16, MATCH('Analysis 103L'!CI163, 'LED Case Lighting'!$AS$3:$AS$16, 0)), \"\"))","v":""},{"$f":"IF(CI163=\"\",\"\",INDEX('LED Case Lighting'!$AW$3:$AW$16,MATCH('Analysis 103L'!CI163,'LED Case Lighting'!$AS$3:$AS$16,0)))","v":""},{"$f":"IF(CI163=\"\",\"\",INDEX('LED Case Lighting'!$AX$3:$AX$16,MATCH('Analysis 103L'!CI163,'LED Case Lighting'!$AS$3:$AS$16,0)))","v":""},{"$f":"IF(CL163=\"\",\"\",MIN(R163*Incent_Cost_Case,(P163*CL163)))","v":""}]
[137,null,null,null,null,null,"",null,{"$f":"IF(K164=\"\",\"\",VLOOKUP(K164,'Equipment Type'!$A$1:$F$53,5,FALSE))","v":""},{"$f":"IF(K164=\"\",\"\",VLOOKUP(K164,'Equipment Type'!$A$1:$F$53,6,FALSE))","v":""},null,{"$f":"IF(K164=\"\",\"\",VLOOKUP(K164,'Equipment Type'!$A$1:$F$53,4,FALSE))","v":""},null,{"$f":"IF(K164=\"\",\"\",INDEX('Equipment Type'!$T$4:$T$53,MATCH('Analysis 103L'!K164,'Equipment Type'!$A$4:$A$53,0)))","v":""},"",null,{"$f":"IF(RIGHT(I164, 4)=\"Case\", \"\", IF(P164=\"\",\"\",(IF(ISNUMBER(SEARCH(\"exit\",J164)),8760,IF(B164=\"Exterior\",4380,'Analysis 103L'!$J$3)))))","v":""},null,"","","","","","","","",{"$f":"IF('100L Information'!$Z$5=\"Yes\",0,IF('100L Information'!$Z$4=\"Yes\",(MIN($Y$232-(-$Y$227),6000)*0.5)*(Y164/$Y$232),$Y$232*(Y164/($Y$230+$Y$231))))","v":{"$error":"#VALUE!"}},"",{"$error":"#VALUE!"},"No requirement",0,{"$f":"IF(OR(Z164=\"Does not meet requirement\",AND('100L Information'!$AA$21=\"No\",AL164=\"Y\"),AND('100L Information'!$AS$21=FALSE,AL164=\"Y\")),0,IF(ISNUMBER(R164*Incent_Cost_Fixture_Rx),MIN(R164*Incent_Cost_Fixture_Rx,(MAX(AE164,AK164))),0))","v":0},"FAIL","0","0","0",0,"N","0","0",null,"","",0,"",{"$f":"IF(RIGHT(I164,4)=\"Case\",W164,IF(AND(AL164=\"Y\",AF164<1),0,IF(OR(LEFT(D164,2)=\"T5\",LEFT(D164,3)=\"CFL\",'Analysis 103L'!AS164=\"Less\"),'Analysis 103L'!AR164,'Analysis 103L'!W164)))","v":""},null,0,0,null,{"$error":"#VALUE!"},{"$error":"#VALUE!"},{"$error":"#VALUE!"},null,null,{"$f":"IF(RIGHT(I164,4)=\"Case\",'LED Case Lighting'!$AY$1,IF(J164=\"\",\"\",VLOOKUP(J164,Lookups!$A$30:$J$149,VLOOKUP('100L Information'!$AI$46,Lookups!$J$3:$L$6,3,FALSE),FALSE)))","v":""},{"$error":"#N/A"},"","",{"$error":"#VALUE!"},{"$error":"#VALUE!"},{"$error":"#VALUE!"},{"$error":"#N/A"},0,{"$error":"#N/A"},0,{"$error":"#VALUE!"},{"$error":"#VALUE!"},{"$error":"#VALUE!"},"FAIL",null,null,null,null,null,null,null,"Interior / Exterior",null,"",null,{"$f":"IF(RIGHT(I164,4)=\"Case\",(INDEX('LED Case Lighting'!$AZ$3:$AZ$16,MATCH('Analysis 103L'!$CI164,'LED Case Lighting'!$AS$3:$AS$16,0))),IF(CB164=0,0,IF(CB164=\"lamp\",((Q164/VLOOKUP(B164,Int_Ext,2,FALSE))*VLOOKUP(E164,NEB,16,FALSE)),IF(CB164=\"fixture\",((Q164/VLOOKUP(B164,Int_Ext,2,FALSE))*VLOOKUP(E164,NEB,14,FALSE)),\"\"))))","v":""},null,{"$f":"IF(RIGHT(I164,4)=\"Case\",INDEX('Equipment Type'!$V$4:$V$53, MATCH('Analysis 103L'!$K164, 'Equipment Type'!$A$4:$A$53, 0)), \"\")","v":""},"","","",{"$f":"IF(CI164=\"\", \"\", IF(RIGHT(I164,4)=\"Case\", INDEX('LED Case Lighting'!$AR$3:$AR$16, MATCH('Analysis 103L'!CI164, 'LED Case Lighting'!$AS$3:$AS$16, 0)), \"\"))","v":""},{"$f":"IF(CI164=\"\",\"\",INDEX('LED Case Lighting'!$AW$3:$AW$16,MATCH('Analysis 103L'!CI164,'LED Case Lighting'!$AS$3:$AS$16,0)))","v":""},{"$f":"IF(CI164=\"\",\"\",INDEX('LED Case Lighting'!$AX$3:$AX$16,MATCH('Analysis 103L'!CI164,'LED Case Lighting'!$AS$3:$AS$16,0)))","v":""},""]
[138,null,null,null,null,null,"",null,{"$f":"IF(K165=\"\",\"\",VLOOKUP(K165,'Equipment Type'!$A$1:$F$53,5,FALSE))","v":""},{"$f":"IF(K165=\"\",\"\",VLOOKUP(K165,'Equipment Type'!$A$1:$F$53,6,FALSE))","v":""},null,{"$f":"IF(K165=\"\",\"\",VLOOKUP(K165,'Equipment Type'!$A$1:$F$53,4,FALSE))","v":""},null,{"$f":"IF(K165=\"\",\"\",INDEX('Equipment Type'!$T$4:$T$53,MATCH('Analysis 103L'!K165,'Equipment Type'!$A$4:$A$53,0)))","v":""},"",null,{"$f":"IF(RIGHT(I165, 4)=\"Case\", \"\", IF(P165=\"\",\"\",(IF(ISNUMBER(SEARCH(\"exit\",J165)),8760,IF(B165=\"Exterior\",4380,'Analysis 103L'!$J$3)))))","v":""},null,"","","","","","","","",{"$f":"IF('100L Information'!$Z$5=\"Yes\",0,IF('100L Information'!$Z$4=\"Yes\",(MIN($Y$232-(-$Y$227),6000)*0.5)*(Y165/$Y$232),$Y$232*(Y165/($Y$230+$Y$231))))","v":{"$error":"#VALUE!"}},"",{"$error":"#VALUE!"},"No requirement",{"$f":"MAX(IF(ISERROR(VLOOKUP(CONCATENATE(J165,\" from \",VLOOKUP(D165,ExistFixtCat,4,FALSE)),PropFixtIncent,2,FALSE)),0,VLOOKUP(CONCATENATE(J165,\" from \",VLOOKUP(D165,ExistFixtCat,4,FALSE)),PropFixtIncent,2,FALSE)),IF(ISERROR(VLOOKUP(CONCATENATE(J165,\" from ANY\"),PropFixtIncent,2,FALSE)),0,VLOOKUP(CONCATENATE(J165,\" from ANY\"),PropFixtIncent,2,FALSE)))","v":0},{"$f":"IF(OR(Z165=\"Does not meet requirement\",AND('100L Information'!$AA$21=\"No\",AL165=\"Y\"),AND('100L Information'!$AS$21=FALSE,AL165=\"Y\")),0,IF(ISNUMBER(R165*Incent_Cost_Fixture_Rx),MIN(R165*Incent_Cost_Fixture_Rx,(MAX(AE165,AK165))),0))","v":0},"FAIL","0","0","0",0,"N","0","0",null,"","",0,"",{"$f":"IF(RIGHT(I165,4)=\"Case\",W165,IF(AND(AL165=\"Y\",AF165<1),0,IF(OR(LEFT(D165,2)=\"T5\",LEFT(D165,3)=\"CFL\",'Analysis 103L'!AS165=\"Less\"),'Analysis 103L'!AR165,'Analysis 103L'!W165)))","v":""},null,0,0,null,{"$error":"#VALUE!"},{"$error":"#VALUE!"},{"$error":"#VALUE!"},null,null,{"$f":"IF(RIGHT(I165,4)=\"Case\",'LED Case Lighting'!$AY$1,IF(J165=\"\",\"\",VLOOKUP(J165,Lookups!$A$30:$J$149,VLOOKUP('100L Information'!$AI$46,Lookups!$J$3:$L$6,3,FALSE),FALSE)))","v":""},{"$error":"#N/A"},"","",{"$error":"#VALUE!"},{"$error":"#VALUE!"},{"$error":"#VALUE!"},{"$error":"#N/A"},0,{"$error":"#N/A"},0,{"$error":"#VALUE!"},{"$error":"#VALUE!"},{"$error":"#VALUE!"},"FAIL",null,null,null,null,null,null,null,"Interior / Exterior",null,"",null,{"$f":"IF(RIGHT(I165,4)=\"Case\",(INDEX('LED Case Lighting'!$AZ$3:$AZ$16,MATCH('Analysis 103L'!$CI165,'LED Case Lighting'!$AS$3:$AS$16,0))),IF(CB165=0,0,IF(CB165=\"lamp\",((Q165/VLOOKUP(B165,Int_Ext,2,FALSE))*VLOOKUP(E165,NEB,16,FALSE)),IF(CB165=\"fixture\",((Q165/VLOOKUP(B165,Int_Ext,2,FALSE))*VLOOKUP(E165,NEB,14,FALSE)),\"\"))))","v":""},null,{"$f":"IF(RIGHT(I165,4)=\"Case\",INDEX('Equipment Type'!$V$4:$V$53, MATCH('Analysis 103L'!$K165, 'Equipment Type'!$A$4:$A$53, 0)), \"\")","v":""},"","","",{"$f":"IF(CI165=\"\", \"\", IF(RIGHT(I165,4)=\"Case\", INDEX('LED Case Lighting'!$AR$3:$AR$16, MATCH('Analysis 103L'!CI165, 'LED Case Lighting'!$AS$3:$AS$16, 0)), \"\"))","v":""},{"$f":"IF(CI165=\"\",\"\",INDEX('LED Case Lighting'!$AW$3:$AW$16,MATCH('Analysis 103L'!CI165,'LED Case Lighting'!$AS$3:$AS$16,0)))","v":""},{"$f":"IF(CI165=\"\",\"\",INDEX('LED Case Lighting'!$AX$3:$AX$16,MATCH('Analysis 103L'!CI165,'LED Case Lighting'!$AS$3:$AS$16,0)))","v":""},""]
[139,null,null,null,null,null,"",null,{"$f":"IF(K166=\"\",\"\",VLOOKUP(K166,'Equipment Type'!$A$1:$F$53,5,FALSE))","v":""},{"$f":"IF(K166=\"\",\"\",VLOOKUP(K166,'Equipment Type'!$A$1:$F$53,6,FALSE))","v":""},null,{"$f":"IF(K166=\"\",\"\",VLOOKUP(K166,'Equipment Type'!$A$1:$F$53,4,FALSE))","v":""},null,{"$f":"IF(K166=\"\",\"\",INDEX('Equipment Type'!$T$4:$T$53,MATCH('Analysis 103L'!K166,'Equipment Type'!$A$4:$A$53,0)))","v":""},"",null,{"$f":"IF(RIGHT(I166, 4)=\"Case\", \"\", IF(P166=\"\",\"\",(IF(ISNUMBER(SEARCH(\"exit\",J166)),8760,IF(B166=\"Exterior\",4380,'Analysis 103L'!$J$3)))))","v":""},null,"","","","","","","","",{"$f":"IF('100L Information'!$Z$5=\"Yes\",0,IF('100L Information'!$Z$4=\"Yes\",(MIN($Y$232-(-$Y$227),6000)*0.5)*(Y166/$Y$232),$Y$232*(Y166/($Y$230+$Y$231))))","v":{"$error":"#VALUE!"}},"",{"$error":"#VALUE!"},"No requirement",0,{"$f":"IF(OR(Z166=\"Does not meet requirement\",AND('100L Information'!$AA$21=\"No\",AL166=\"Y\"),AND('100L Information'!$AS$21=FALSE,AL166=\"Y\")),0,IF(ISNUMBER(R166*Incent_Cost_Fixture_Rx),MIN(R166*Incent_Cost_Fixture_Rx,(MAX(AE166,AK166))),0))","v":0},"FAIL",{"$f":"IF(AG166=\"PASS/PASS\",S166,\"0\")","v":"0"},{"$f":"IF(AG166=\"PASS/PASS\",U166,\"0\")","v":"0"},{"$f":"IF(AG166=\"PASS/PASS\",V166,\"0\")","v":"0"},0,"N","0","0",null,"","",0,"",{"$f":"IF(RIGHT(I166,4)=\"Case\",W166,IF(AND(AL166=\"Y\",AF166<1),0,IF(OR(LEFT(D166,2)=\"T5\",LEFT(D166,3)=\"CFL\",'Analysis 103L'!AS166=\"Less\"),'Analysis 103L'!AR166,'Analysis 103L'!W166)))","v":""},null,0,0,null,{"$error":"#VALUE!"},{"$error":"#VALUE!"},{"$error":"#VALUE!"},null,null,{"$f":"IF(RIGHT(I166,4)=\"Case\",'LED Case Lighting'!$AY$1,IF(J166=\"\",\"\",VLOOKUP(J166,Lookups!$A$30:$J$149,VLOOKUP('100L Information'!$AI$46,Lookups!$J$3:$L$6,3,FALSE),FALSE)))","v":""},{"$error":"#N/A"},"","",{"$error":"#VALUE!"},{"$error":"#VALUE!"},{"$error":"#VALUE!"},{"$error":"#N/A"},0,{"$error":"#N/A"},0,{"$error":"#VALUE!"},{"$error":"#VALUE!"},{"$error":"#VALUE!"},"FAIL",null,null,null,null,null,null,null,"Interior / Exterior",null,"",null,{"$f":"IF(RIGHT(I166,4)=\"Case\",(INDEX('LED Case Lighting'!$AZ$3:$AZ$16,MATCH('Analysis 103L'!$CI166,'LED Case Lighting'!$AS$3:$AS$16,0))),IF(CB166=0,0,IF(CB166=\"lamp\",((Q166/VLOOKUP(B166,Int_Ext,2,FALSE))*VLOOKUP(E166,NEB,16,FALSE)),IF(CB166=\"fixture\",((Q166/VLOOKUP(B166,Int_Ext,2,FALSE))*VLOOKUP(E166,NEB,14,FALSE)),\"\"))))","v":""},null,{"$f":"IF(RIGHT(I166,4)=\"Case\",INDEX('Equipment Type'!$V$4:$V$53, MATCH('Analysis 103L'!$K166, 'Equipment Type'!$A$4:$A$53, 0)), \"\")","v":""},"","","",{"$f":"IF(CI166=\"\", \"\", IF(RIGHT(I166,4)=\"Case\", INDEX('LED Case Lighting'!$AR$3:$AR$16, MATCH('Analysis 103L'!CI166, 'LED Case Lighting'!$AS$3:$AS$16, 0)), \"\"))","v":""},{"$f":"IF(CI166=\"\",\"\",INDEX('LED Case Lighting'!$AW$3:$AW$16,MATCH('Analysis 103L'!CI166,'LED Case Lighting'!$AS$3:$AS$16,0)))","v":""},{"$f":"IF(CI166=\"\",\"\",INDEX('LED Case Lighting'!$AX$3:$AX$16,MATCH('Analysis 103L'!CI166,'LED Case Lighting'!$AS$3:$AS$16,0)))","v":""},""]
[140,null,null,null,null,null,"",null,{"$f":"IF(K167=\"\",\"\",VLOOKUP(K167,'Equipment Type'!$A$1:$F$53,5,FALSE))","v":""},{"$f":"IF(K167=\"\",\"\",VLOOKUP(K167,'Equipment Type'!$A$1:$F$53,6,FALSE))","v":""},null,{"$f":"IF(K167=\"\",\"\",VLOOKUP(K167,'Equipment Type'!$A$1:$F$53,4,FALSE))","v":""},null,{"$f":"IF(K167=\"\",\"\",INDEX('Equipment Type'!$T$4:$T$53,MATCH('Analysis 103L'!K167,'Equipment Type'!$A$4:$A$53,0)))","v":""},"",null,{"$f":"IF(RIGHT(I167, 4)=\"Case\", \"\", IF(P167=\"\",\"\",(IF(ISNUMBER(SEARCH(\"exit\",J167)),8760,IF(B167=\"Exterior\",4380,'Analysis 103L'!$J$3)))))","v":""},null,"","","","","","","","",{"$f":"IF('100L Information'!$Z$5=\"Yes\",0,IF('100L Information'!$Z$4=\"Yes\",(MIN($Y$232-(-$Y$227),6000)*0.5)*(Y167/$Y$232),$Y$232*(Y167/($Y$230+$Y$231))))","v":{"$error":"#VALUE!"}},"",{"$error":"#VALUE!"},"No requirement",0,{"$f":"IF(OR(Z167=\"Does not meet requirement\",AND('100L Information'!$AA$21=\"No\",AL167=\"Y\"),AND('100L Information'!$AS$21=FALSE,AL167=\"Y\")),0,IF(ISNUMBER(R167*Incent_Cost_Fixture_Rx),MIN(R167*Incent_Cost_Fixture_Rx,(MAX(AE167,AK167))),0))","v":0},"FAIL","0","0","0",0,"N","0","0",null,"","",0,"",{"$f":"IF(RIGHT(I167,4)=\"Case\",W167,IF(AND(AL167=\"Y\",AF167<1),0,IF(OR(LEFT(D167,2)=\"T5\",LEFT(D167,3)=\"CFL\",'Analysis 103L'!AS167=\"Less\"),'Analysis 103L'!AR167,'Analysis 103L'!W167)))","v":""},null,0,0,null,{"$error":"#VALUE!"},{"$error":"#VALUE!"},{"$error":"#VALUE!"},null,null,{"$f":"IF(RIGHT(I167,4)=\"Case\",'LED Case Lighting'!$AY$1,IF(J167=\"\",\"\",VLOOKUP(J167,Lookups!$A$30:$J$149,VLOOKUP('100L Information'!$AI$46,Lookups!$J$3:$L$6,3,FALSE),FALSE)))","v":""},{"$error":"#N/A"},"","",{"$error":"#VALUE!"},{"$error":"#VALUE!"},{"$error":"#VALUE!"},{"$error":"#N/A"},0,{"$error":"#N/A"},0,{"$error":"#VALUE!"},{"$error":"#VALUE!"},{"$error":"#VALUE!"},"FAIL",null,null,null,null,null,null,null,"Interior / Exterior",null,"",null,{"$f":"IF(RIGHT(I167,4)=\"Case\",(INDEX('LED Case Lighting'!$AZ$3:$AZ$16,MATCH('Analysis 103L'!$CI167,'LED Case Lighting'!$AS$3:$AS$16,0))),IF(CB167=0,0,IF(CB167=\"lamp\",((Q167/VLOOKUP(B167,Int_Ext,2,FALSE))*VLOOKUP(E167,NEB,16,FALSE)),IF(CB167=\"fixture\",((Q167/VLOOKUP(B167,Int_Ext,2,FALSE))*VLOOKUP(E167,NEB,14,FALSE)),\"\"))))","v":""},null,{"$f":"IF(RIGHT(I167,4)=\"Case\",INDEX('Equipment Type'!$V$4:$V$53, MATCH('Analysis 103L'!$K167, 'Equipment Type'!$A$4:$A$53, 0)), \"\")","v":""},"","","",{"$f":"IF(CI167=\"\", \"\", IF(RIGHT(I167,4)=\"Case\", INDEX('LED Case Lighting'!$AR$3:$AR$16, MATCH('Analysis 103L'!CI167, 'LED Case Lighting'!$AS$3:$AS$16, 0)), \"\"))","v":""},{"$f":"IF(CI167=\"\",\"\",INDEX('LED Case Lighting'!$AW$3:$AW$16,MATCH('Analysis 103L'!CI167,'LED Case Lighting'!$AS$3:$AS$16,0)))","v":""},{"$f":"IF(CI167=\"\",\"\",INDEX('LED Case Lighting'!$AX$3:$AX$16,MATCH('Analysis 103L'!CI167,'LED Case Lighting'!$AS$3:$AS$16,0)))","v":""},""]
[141,null,null,null,null,null,"",null,{"$f":"IF(K168=\"\",\"\",VLOOKUP(K168,'Equipment Type'!$A$1:$F$53,5,FALSE))","v":""},{"$f":"IF(K168=\"\",\"\",VLOOKUP(K168,'Equipment Type'!$A$1:$F$53,6,FALSE))","v":""},null,{"$f":"IF(K168=\"\",\"\",VLOOKUP(K168,'Equipment Type'!$A$1:$F$53,4,FALSE))","v":""},null,{"$f":"IF(K168=\"\",\"\",INDEX('Equipment Type'!$T$4:$T$53,MATCH('Analysis 103L'!K168,'Equipment Type'!$A$4:$A$53,0)))","v":""},"",null,{"$f":"IF(RIGHT(I168, 4)=\"Case\", \"\", IF(P168=\"\",\"\",(IF(ISNUMBER(SEARCH(\"exit\",J168)),8760,IF(B168=\"Exterior\",4380,'Analysis 103L'!$J$3)))))","v":""},null,"","","","","","","","",{"$f":"IF('100L Information'!$Z$5=\"Yes\",0,IF('100L Information'!$Z$4=\"Yes\",(MIN($Y$232-(-$Y$227),6000)*0.5)*(Y168/$Y$232),$Y$232*(Y168/($Y$230+$Y$231))))","v":{"$error":"#VALUE!"}},"",{"$error":"#VALUE!"},"No requirement",0,{"$f":"IF(OR(Z168=\"Does not meet requirement\",AND('100L Information'!$AA$21=\"No\",AL168=\"Y\"),AND('100L Information'!$AS$21=FALSE,AL168=\"Y\")),0,IF(ISNUMBER(R168*Incent_Cost_Fixture_Rx),MIN(R168*Incent_Cost_Fixture_Rx,(MAX(AE168,AK168))),0))","v":0},"FAIL","0","0","0",0,"N","0","0",null,"","",0,"",{"$f":"IF(RIGHT(I168,4)=\"Case\",W168,IF(AND(AL168=\"Y\",AF168<1),0,IF(OR(LEFT(D168,2)=\"T5\",LEFT(D168,3)=\"CFL\",'Analysis 103L'!AS168=\"Less\"),'Analysis 103L'!AR168,'Analysis 103L'!W168)))","v":""},null,0,0,null,{"$f":"IF(RIGHT(I168,4)=\"Case\",\"\",((G168*H168)-(N168*P168))/1000)","v":{"$error":"#VALUE!"}},{"$f":"IF(RIGHT(I168,4)=\"Case\",\"\", IF(W168=0,0,W168/U168))","v":{"$error":"#VALUE!"}},{"$f":"IF(RIGHT(I168,4)=\"Case\",IF(W168=0,0,R168/(W168*$F$9)),IF(W168=0,0,S168/(W168*$F$9)))","v":{"$error":"#VALUE!"}},null,null,{"$f":"IF(RIGHT(I168,4)=\"Case\",'LED Case Lighting'!$AY$1,IF(J168=\"\",\"\",VLOOKUP(J168,Lookups!$A$30:$J$149,VLOOKUP('100L Information'!$AI$46,Lookups!$J$3:$L$6,3,FALSE),FALSE)))","v":""},{"$error":"#N/A"},"","",{"$error":"#VALUE!"},{"$error":"#VALUE!"},{"$error":"#VALUE!"},{"$error":"#N/A"},0,{"$error":"#N/A"},0,{"$error":"#VALUE!"},{"$error":"#VALUE!"},{"$error":"#VALUE!"},"FAIL",null,null,null,null,null,null,null,"Interior / Exterior",null,"",null,{"$f":"IF(RIGHT(I168,4)=\"Case\",(INDEX('LED Case Lighting'!$AZ$3:$AZ$16,MATCH('Analysis 103L'!$CI168,'LED Case Lighting'!$AS$3:$AS$16,0))),IF(CB168=0,0,IF(CB168=\"lamp\",((Q168/VLOOKUP(B168,Int_Ext,2,FALSE))*VLOOKUP(E168,NEB,16,FALSE)),IF(CB168=\"fixture\",((Q168/VLOOKUP(B168,Int_Ext,2,FALSE))*VLOOKUP(E168,NEB,14,FALSE)),\"\"))))","v":""},null,{"$f":"IF(RIGHT(I168,4)=\"Case\",INDEX('Equipment Type'!$V$4:$V$53, MATCH('Analysis 103L'!$K168, 'Equipment Type'!$A$4:$A$53, 0)), \"\")","v":""},"","","",{"$f":"IF(CI168=\"\", \"\", IF(RIGHT(I168,4)=\"Case\", INDEX('LED Case Lighting'!$AR$3:$AR$16, MATCH('Analysis 103L'!CI168, 'LED Case Lighting'!$AS$3:$AS$16, 0)), \"\"))","v":""},{"$f":"IF(CI168=\"\",\"\",INDEX('LED Case Lighting'!$AW$3:$AW$16,MATCH('Analysis 103L'!CI168,'LED Case Lighting'!$AS$3:$AS$16,0)))","v":""},{"$f":"IF(CI168=\"\",\"\",INDEX('LED Case Lighting'!$AX$3:$AX$16,MATCH('Analysis 103L'!CI168,'LED Case Lighting'!$AS$3:$AS$16,0)))","v":""},""]
[142,null,null,null,null,null,"",null,{"$f":"IF(K169=\"\",\"\",VLOOKUP(K169,'Equipment Type'!$A$1:$F$53,5,FALSE))","v":""},{"$f":"IF(K169=\"\",\"\",VLOOKUP(K169,'Equipment Type'!$A$1:$F$53,6,FALSE))","v":""},null,{"$f":"IF(K169=\"\",\"\",VLOOKUP(K169,'Equipment Type'!$A$1:$F$53,4,FALSE))","v":""},null,{"$f":"IF(K169=\"\",\"\",INDEX('Equipment Type'!$T$4:$T$53,MATCH('Analysis 103L'!K169,'Equipment Type'!$A$4:$A$53,0)))","v":""},"",null,{"$f":"IF(RIGHT(I169, 4)=\"Case\", \"\", IF(P169=\"\",\"\",(IF(ISNUMBER(SEARCH(\"exit\",J169)),8760,IF(B169=\"Exterior\",4380,'Analysis 103L'!$J$3)))))","v":""},null,"","","","","","","","",{"$f":"IF('100L Information'!$Z$5=\"Yes\",0,IF('100L Information'!$Z$4=\"Yes\",(MIN($Y$232-(-$Y$227),6000)*0.5)*(Y169/$Y$232),$Y$232*(Y169/($Y$230+$Y$231))))","v":{"$error":"#VALUE!"}},"",{"$error":"#VALUE!"},"No requirement",0,{"$f":"IF(OR(Z169=\"Does not meet requirement\",AND('100L Information'!$AA$21=\"No\",AL169=\"Y\"),AND('100L Information'!$AS$21=FALSE,AL169=\"Y\")),0,IF(ISNUMBER(R169*Incent_Cost_Fixture_Rx),MIN(R169*Incent_Cost_Fixture_Rx,(MAX(AE169,AK169))),0))","v":0},"FAIL","0","0","0",0,"N","0","0",null,"","",0,"",{"$f":"IF(RIGHT(I169,4)=\"Case\",W169,IF(AND(AL169=\"Y\",AF169<1),0,IF(OR(LEFT(D169,2)=\"T5\",LEFT(D169,3)=\"CFL\",'Analysis 103L'!AS169=\"Less\"),'Analysis 103L'!AR169,'Analysis 103L'!W169)))","v":""},null,0,0,null,{"$error":"#VALUE!"},{"$error":"#VALUE!"},{"$error":"#VALUE!"},null,null,{"$f":"IF(RIGHT(I169,4)=\"Case\",'LED Case Lighting'!$AY$1,IF(J169=\"\",\"\",VLOOKUP(J169,Lookups!$A$30:$J$149,VLOOKUP('100L Information'!$AI$46,Lookups!$J$3:$L$6,3,FALSE),FALSE)))","v":""},{"$error":"#N/A"},"","",{"$error":"#VALUE!"},{"$error":"#VALUE!"},{"$error":"#VALUE!"},{"$error":"#N/A"},0,{"$error":"#N/A"},0,{"$error":"#VALUE!"},{"$error":"#VALUE!"},{"$error":"#VALUE!"},"FAIL",null,null,null,null,null,null,null,"Interior / Exterior",null,"",null,{"$f":"IF(RIGHT(I169,4)=\"Case\",(INDEX('LED Case Lighting'!$AZ$3:$AZ$16,MATCH('Analysis 103L'!$CI169,'LED Case Lighting'!$AS$3:$AS$16,0))),IF(CB169=0,0,IF(CB169=\"lamp\",((Q169/VLOOKUP(B169,Int_Ext,2,FALSE))*VLOOKUP(E169,NEB,16,FALSE)),IF(CB169=\"fixture\",((Q169/VLOOKUP(B169,Int_Ext,2,FALSE))*VLOOKUP(E169,NEB,14,FALSE)),\"\"))))","v":""},null,{"$f":"IF(RIGHT(I169,4)=\"Case\",INDEX('Equipment Type'!$V$4:$V$53, MATCH('Analysis 103L'!$K169, 'Equipment Type'!$A$4:$A$53, 0)), \"\")","v":""},"","","",{"$f":"IF(CI169=\"\", \"\", IF(RIGHT(I169,4)=\"Case\", INDEX('LED Case Lighting'!$AR$3:$AR$16, MATCH('Analysis 103L'!CI169, 'LED Case Lighting'!$AS$3:$AS$16, 0)), \"\"))","v":""},{"$f":"IF(CI169=\"\",\"\",INDEX('LED Case Lighting'!$AW$3:$AW$16,MATCH('Analysis 103L'!CI169,'LED Case Lighting'!$AS$3:$AS$16,0)))","v":""},{"$f":"IF(CI169=\"\",\"\",INDEX('LED Case Lighting'!$AX$3:$AX$16,MATCH('Analysis 103L'!CI169,'LED Case Lighting'!$AS$3:$AS$16,0)))","v":""},""]
[143,null,null,null,null,null,"",null,{"$f":"IF(K170=\"\",\"\",VLOOKUP(K170,'Equipment Type'!$A$1:$F$53,5,FALSE))","v":""},{"$f":"IF(K170=\"\",\"\",VLOOKUP(K170,'Equipment Type'!$A$1:$F$53,6,FALSE))","v":""},null,{"$f":"IF(K170=\"\",\"\",VLOOKUP(K170,'Equipment Type'!$A$1:$F$53,4,FALSE))","v":""},null,{"$f":"IF(K170=\"\",\"\",INDEX('Equipment Type'!$T$4:$T$53,MATCH('Analysis 103L'!K170,'Equipment Type'!$A$4:$A$53,0)))","v":""},"",null,{"$f":"IF(RIGHT(I170, 4)=\"Case\", \"\", IF(P170=\"\",\"\",(IF(ISNUMBER(SEARCH(\"exit\",J170)),8760,IF(B170=\"Exterior\",4380,'Analysis 103L'!$J$3)))))","v":""},null,"","","","","","","","",{"$f":"IF('100L Information'!$Z$5=\"Yes\",0,IF('100L Information'!$Z$4=\"Yes\",(MIN($Y$232-(-$Y$227),6000)*0.5)*(Y170/$Y$232),$Y$232*(Y170/($Y$230+$Y$231))))","v":{"$error":"#VALUE!"}},"",{"$error":"#VALUE!"},"No requirement",0,{"$f":"IF(OR(Z170=\"Does not meet requirement\",AND('100L Information'!$AA$21=\"No\",AL170=\"Y\"),AND('100L Information'!$AS$21=FALSE,AL170=\"Y\")),0,IF(ISNUMBER(R170*Incent_Cost_Fixture_Rx),MIN(R170*Incent_Cost_Fixture_Rx,(MAX(AE170,AK170))),0))","v":0},"FAIL","0","0","0",0,"N","0","0",null,"","",0,"",{"$f":"IF(RIGHT(I170,4)=\"Case\",W170,IF(AND(AL170=\"Y\",AF170<1),0,IF(OR(LEFT(D170,2)=\"T5\",LEFT(D170,3)=\"CFL\",'Analysis 103L'!AS170=\"Less\"),'Analysis 103L'!AR170,'Analysis 103L'!W170)))","v":""},null,0,0,null,{"$error":"#VALUE!"},{"$error":"#VALUE!"},{"$error":"#VALUE!"},null,null,{"$f":"IF(RIGHT(I170,4)=\"Case\",'LED Case Lighting'!$AY$1,IF(J170=\"\",\"\",VLOOKUP(J170,Lookups!$A$30:$J$149,VLOOKUP('100L Information'!$AI$46,Lookups!$J$3:$L$6,3,FALSE),FALSE)))","v":""},{"$error":"#N/A"},{"$f":"IF(BD170=\"\",\"\",VLOOKUP(BE170, avoided_costs, ROUND($BD170,0)+2, FALSE))","v":""},"",{"$error":"#VALUE!"},{"$f":"BF170/BH170","v":{"$error":"#VALUE!"}},{"$f":"IF(ROUND(BI170,1)>=1, \"PASS\", \"FAIL\")","v":{"$error":"#VALUE!"}},{"$error":"#N/A"},0,{"$error":"#N/A"},0,{"$error":"#VALUE!"},{"$f":"BG170/BO170","v":{"$error":"#VALUE!"}},{"$f":"IF(ROUND(BP170,1)>=1, \"PASS\", \"FAIL\")","v":{"$error":"#VALUE!"}},{"$f":"IF(OR(NOT(ISERROR(BQ170)),NOT(ISERROR(BJ170))),BJ170&\"/\"&BQ170,\"FAIL\")","v":"FAIL"},null,null,null,null,null,null,null,"Interior / Exterior",null,"",null,{"$f":"IF(RIGHT(I170,4)=\"Case\",(INDEX('LED Case Lighting'!$AZ$3:$AZ$16,MATCH('Analysis 103L'!$CI170,'LED Case Lighting'!$AS$3:$AS$16,0))),IF(CB170=0,0,IF(CB170=\"lamp\",((Q170/VLOOKUP(B170,Int_Ext,2,FALSE))*VLOOKUP(E170,NEB,16,FALSE)),IF(CB170=\"fixture\",((Q170/VLOOKUP(B170,Int_Ext,2,FALSE))*VLOOKUP(E170,NEB,14,FALSE)),\"\"))))","v":""},null,{"$f":"IF(RIGHT(I170,4)=\"Case\",INDEX('Equipment Type'!$V$4:$V$53, MATCH('Analysis 103L'!$K170, 'Equipment Type'!$A$4:$A$53, 0)), \"\")","v":""},"","","",{"$f":"IF(CI170=\"\", \"\", IF(RIGHT(I170,4)=\"Case\", INDEX('LED Case Lighting'!$AR$3:$AR$16, MATCH('Analysis 103L'!CI170, 'LED Case Lighting'!$AS$3:$AS$16, 0)), \"\"))","v":""},{"$f":"IF(CI170=\"\",\"\",INDEX('LED Case Lighting'!$AW$3:$AW$16,MATCH('Analysis 103L'!CI170,'LED Case Lighting'!$AS$3:$AS$16,0)))","v":""},{"$f":"IF(CI170=\"\",\"\",INDEX('LED Case Lighting'!$AX$3:$AX$16,MATCH('Analysis 103L'!CI170,'LED Case Lighting'!$AS$3:$AS$16,0)))","v":""},""]
[144,null,null,null,null,null,"",null,{"$f":"IF(K171=\"\",\"\",VLOOKUP(K171,'Equipment Type'!$A$1:$F$53,5,FALSE))","v":""},{"$f":"IF(K171=\"\",\"\",VLOOKUP(K171,'Equipment Type'!$A$1:$F$53,6,FALSE))","v":""},null,{"$f":"IF(K171=\"\",\"\",VLOOKUP(K171,'Equipment Type'!$A$1:$F$53,4,FALSE))","v":""},null,{"$f":"IF(K171=\"\",\"\",INDEX('Equipment Type'!$T$4:$T$53,MATCH('Analysis 103L'!K171,'Equipment Type'!$A$4:$A$53,0)))","v":""},"",null,{"$f":"IF(RIGHT(I171, 4)=\"Case\", \"\", IF(P171=\"\",\"\",(IF(ISNUMBER(SEARCH(\"exit\",J171)),8760,IF(B171=\"Exterior\",4380,'Analysis 103L'!$J$3)))))","v":""},null,"","","","","","","","",{"$f":"IF('100L Information'!$Z$5=\"Yes\",0,IF('100L Information'!$Z$4=\"Yes\",(MIN($Y$232-(-$Y$227),6000)*0.5)*(Y171/$Y$232),$Y$232*(Y171/($Y$230+$Y$231))))","v":{"$error":"#VALUE!"}},"",{"$error":"#VALUE!"},"No requirement",0,{"$f":"IF(OR(Z171=\"Does not meet requirement\",AND('100L Information'!$AA$21=\"No\",AL171=\"Y\"),AND('100L Information'!$AS$21=FALSE,AL171=\"Y\")),0,IF(ISNUMBER(R171*Incent_Cost_Fixture_Rx),MIN(R171*Incent_Cost_Fixture_Rx,(MAX(AE171,AK171))),0))","v":0},"FAIL","0","0","0",0,"N","0","0",null,"","",0,"",{"$f":"IF(RIGHT(I171,4)=\"Case\",W171,IF(AND(AL171=\"Y\",AF171<1),0,IF(OR(LEFT(D171,2)=\"T5\",LEFT(D171,3)=\"CFL\",'Analysis 103L'!AS171=\"Less\"),'Analysis 103L'!AR171,'Analysis 103L'!W171)))","v":""},null,0,0,null,{"$error":"#VALUE!"},{"$error":"#VALUE!"},{"$error":"#VALUE!"},null,null,{"$f":"IF(RIGHT(I171,4)=\"Case\",'LED Case Lighting'!$AY$1,IF(J171=\"\",\"\",VLOOKUP(J171,Lookups!$A$30:$J$149,VLOOKUP('100L Information'!$AI$46,Lookups!$J$3:$L$6,3,FALSE),FALSE)))","v":""},{"$error":"#N/A"},"","",{"$error":"#VALUE!"},{"$error":"#VALUE!"},{"$error":"#VALUE!"},{"$error":"#N/A"},0,{"$error":"#N/A"},0,{"$error":"#VALUE!"},{"$error":"#VALUE!"},{"$error":"#VALUE!"},"FAIL",null,null,null,null,null,null,null,"Interior / Exterior",null,"",null,{"$f":"IF(RIGHT(I171,4)=\"Case\",(INDEX('LED Case Lighting'!$AZ$3:$AZ$16,MATCH('Analysis 103L'!$CI171,'LED Case Lighting'!$AS$3:$AS$16,0))),IF(CB171=0,0,IF(CB171=\"lamp\",((Q171/VLOOKUP(B171,Int_Ext,2,FALSE))*VLOOKUP(E171,NEB,16,FALSE)),IF(CB171=\"fixture\",((Q171/VLOOKUP(B171,Int_Ext,2,FALSE))*VLOOKUP(E171,NEB,14,FALSE)),\"\"))))","v":""},null,{"$f":"IF(RIGHT(I171,4)=\"Case\",INDEX('Equipment Type'!$V$4:$V$53, MATCH('Analysis 103L'!$K171, 'Equipment Type'!$A$4:$A$53, 0)), \"\")","v":""},"","","",{"$f":"IF(CI171=\"\", \"\", IF(RIGHT(I171,4)=\"Case\", INDEX('LED Case Lighting'!$AR$3:$AR$16, MATCH('Analysis 103L'!CI171, 'LED Case Lighting'!$AS$3:$AS$16, 0)), \"\"))","v":""},{"$f":"IF(CI171=\"\",\"\",INDEX('LED Case Lighting'!$AW$3:$AW$16,MATCH('Analysis 103L'!CI171,'LED Case Lighting'!$AS$3:$AS$16,0)))","v":""},{"$f":"IF(CI171=\"\",\"\",INDEX('LED Case Lighting'!$AX$3:$AX$16,MATCH('Analysis 103L'!CI171,'LED Case Lighting'!$AS$3:$AS$16,0)))","v":""},""]
[145,null,null,null,null,null,"",null,{"$f":"IF(K172=\"\",\"\",VLOOKUP(K172,'Equipment Type'!$A$1:$F$53,5,FALSE))","v":""},{"$f":"IF(K172=\"\",\"\",VLOOKUP(K172,'Equipment Type'!$A$1:$F$53,6,FALSE))","v":""},null,{"$f":"IF(K172=\"\",\"\",VLOOKUP(K172,'Equipment Type'!$A$1:$F$53,4,FALSE))","v":""},null,{"$f":"IF(K172=\"\",\"\",INDEX('Equipment Type'!$T$4:$T$53,MATCH('Analysis 103L'!K172,'Equipment Type'!$A$4:$A$53,0)))","v":""},"",null,{"$f":"IF(RIGHT(I172, 4)=\"Case\", \"\", IF(P172=\"\",\"\",(IF(ISNUMBER(SEARCH(\"exit\",J172)),8760,IF(B172=\"Exterior\",4380,'Analysis 103L'!$J$3)))))","v":""},null,{"$f":"IF(RIGHT(I172, 4)=\"Case\", IF(LEFT(J172, 6)=\"Motion\", \"\", \"<-- Enter total cost.\"), IF(P172=\"\",\"\",IF(AND(AL172=\"Y\",X172=\"\"),\"\",P172*R172)))","v":""},{"$f":"IF(RIGHT(I172, 4)=\"Case\", \"\", IF(P172=\"\",\"\",IF(ISERROR(AY172),0,AY172)))","v":""},{"$f":"IF(RIGHT(I172, 4)=\"Case\", \"\", IF(H172=\"\",\"\",(G172*H172)*Q172/1000))","v":""},{"$f":"IF(RIGHT(I172, 4)=\"Case\", \"\", IF(P172=\"\",\"\",(N172*P172)*Q172/1000))","v":""},{"$f":"IF(RIGHT(I172, 4)=\"Case\", IF(LEFT(J172, 6)=\"Motion\", \"\", CK172*P172), IF(U172=\"\",\"\",IF(AND(ISNUMBER(U172),ISNUMBER(V172)),U172-V172,\"\")))","v":""},"","","",{"$f":"IF('100L Information'!$Z$5=\"Yes\",0,IF('100L Information'!$Z$4=\"Yes\",(MIN($Y$232-(-$Y$227),6000)*0.5)*(Y172/$Y$232),$Y$232*(Y172/($Y$230+$Y$231))))","v":{"$error":"#VALUE!"}},"",{"$error":"#VALUE!"},"No requirement",0,{"$f":"IF(OR(Z172=\"Does not meet requirement\",AND('100L Information'!$AA$21=\"No\",AL172=\"Y\"),AND('100L Information'!$AS$21=FALSE,AL172=\"Y\")),0,IF(ISNUMBER(R172*Incent_Cost_Fixture_Rx),MIN(R172*Incent_Cost_Fixture_Rx,(MAX(AE172,AK172))),0))","v":0},"FAIL","0","0","0",0,"N","0","0",null,"","",0,"",{"$f":"IF(RIGHT(I172,4)=\"Case\",W172,IF(AND(AL172=\"Y\",AF172<1),0,IF(OR(LEFT(D172,2)=\"T5\",LEFT(D172,3)=\"CFL\",'Analysis 103L'!AS172=\"Less\"),'Analysis 103L'!AR172,'Analysis 103L'!W172)))","v":""},null,0,0,null,{"$error":"#VALUE!"},{"$error":"#VALUE!"},{"$error":"#VALUE!"},null,null,{"$f":"IF(RIGHT(I172,4)=\"Case\",'LED Case Lighting'!$AY$1,IF(J172=\"\",\"\",VLOOKUP(J172,Lookups!$A$30:$J$149,VLOOKUP('100L Information'!$AI$46,Lookups!$J$3:$L$6,3,FALSE),FALSE)))","v":""},{"$error":"#N/A"},"","",{"$error":"#VALUE!"},{"$error":"#VALUE!"},{"$error":"#VALUE!"},{"$error":"#N/A"},0,{"$error":"#N/A"},0,{"$error":"#VALUE!"},{"$error":"#VALUE!"},{"$error":"#VALUE!"},"FAIL",null,null,null,null,null,null,null,"Interior / Exterior",null,"",null,{"$f":"IF(RIGHT(I172,4)=\"Case\",(INDEX('LED Case Lighting'!$AZ$3:$AZ$16,MATCH('Analysis 103L'!$CI172,'LED Case Lighting'!$AS$3:$AS$16,0))),IF(CB172=0,0,IF(CB172=\"lamp\",((Q172/VLOOKUP(B172,Int_Ext,2,FALSE))*VLOOKUP(E172,NEB,16,FALSE)),IF(CB172=\"fixture\",((Q172/VLOOKUP(B172,Int_Ext,2,FALSE))*VLOOKUP(E172,NEB,14,FALSE)),\"\"))))","v":""},null,{"$f":"IF(RIGHT(I172,4)=\"Case\",INDEX('Equipment Type'!$V$4:$V$53, MATCH('Analysis 103L'!$K172, 'Equipment Type'!$A$4:$A$53, 0)), \"\")","v":""},"","","",{"$f":"IF(CI172=\"\", \"\", IF(RIGHT(I172,4)=\"Case\", INDEX('LED Case Lighting'!$AR$3:$AR$16, MATCH('Analysis 103L'!CI172, 'LED Case Lighting'!$AS$3:$AS$16, 0)), \"\"))","v":""},{"$f":"IF(CI172=\"\",\"\",INDEX('LED Case Lighting'!$AW$3:$AW$16,MATCH('Analysis 103L'!CI172,'LED Case Lighting'!$AS$3:$AS$16,0)))","v":""},{"$f":"IF(CI172=\"\",\"\",INDEX('LED Case Lighting'!$AX$3:$AX$16,MATCH('Analysis 103L'!CI172,'LED Case Lighting'!$AS$3:$AS$16,0)))","v":""},""]
[146,null,null,null,null,null,"",null,{"$f":"IF(K173=\"\",\"\",VLOOKUP(K173,'Equipment Type'!$A$1:$F$53,5,FALSE))","v":""},{"$f":"IF(K173=\"\",\"\",VLOOKUP(K173,'Equipment Type'!$A$1:$F$53,6,FALSE))","v":""},null,{"$f":"IF(K173=\"\",\"\",VLOOKUP(K173,'Equipment Type'!$A$1:$F$53,4,FALSE))","v":""},null,{"$f":"IF(K173=\"\",\"\",INDEX('Equipment Type'!$T$4:$T$53,MATCH('Analysis 103L'!K173,'Equipment Type'!$A$4:$A$53,0)))","v":""},"",null,{"$f":"IF(RIGHT(I173, 4)=\"Case\", \"\", IF(P173=\"\",\"\",(IF(ISNUMBER(SEARCH(\"exit\",J173)),8760,IF(B173=\"Exterior\",4380,'Analysis 103L'!$J$3)))))","v":""},null,"","","","","","","","",{"$f":"IF('100L Information'!$Z$5=\"Yes\",0,IF('100L Information'!$Z$4=\"Yes\",(MIN($Y$232-(-$Y$227),6000)*0.5)*(Y173/$Y$232),$Y$232*(Y173/($Y$230+$Y$231))))","v":{"$error":"#VALUE!"}},"",{"$error":"#VALUE!"},"No requirement",0,{"$f":"IF(OR(Z173=\"Does not meet requirement\",AND('100L Information'!$AA$21=\"No\",AL173=\"Y\"),AND('100L Information'!$AS$21=FALSE,AL173=\"Y\")),0,IF(ISNUMBER(R173*Incent_Cost_Fixture_Rx),MIN(R173*Incent_Cost_Fixture_Rx,(MAX(AE173,AK173))),0))","v":0},"FAIL","0","0","0",0,"N","0","0",null,"","",0,"",{"$f":"IF(RIGHT(I173,4)=\"Case\",W173,IF(AND(AL173=\"Y\",AF173<1),0,IF(OR(LEFT(D173,2)=\"T5\",LEFT(D173,3)=\"CFL\",'Analysis 103L'!AS173=\"Less\"),'Analysis 103L'!AR173,'Analysis 103L'!W173)))","v":""},null,0,0,null,{"$error":"#VALUE!"},{"$error":"#VALUE!"},{"$error":"#VALUE!"},null,null,{"$f":"IF(RIGHT(I173,4)=\"Case\",'LED Case Lighting'!$AY$1,IF(J173=\"\",\"\",VLOOKUP(J173,Lookups!$A$30:$J$149,VLOOKUP('100L Information'!$AI$46,Lookups!$J$3:$L$6,3,FALSE),FALSE)))","v":""},{"$error":"#N/A"},"","",{"$error":"#VALUE!"},{"$error":"#VALUE!"},{"$error":"#VALUE!"},{"$error":"#N/A"},0,{"$error":"#N/A"},0,{"$error":"#VALUE!"},{"$error":"#VALUE!"},{"$error":"#VALUE!"},"FAIL",null,null,null,null,null,null,null,"Interior / Exterior",null,"",null,{"$f":"IF(RIGHT(I173,4)=\"Case\",(INDEX('LED Case Lighting'!$AZ$3:$AZ$16,MATCH('Analysis 103L'!$CI173,'LED Case Lighting'!$AS$3:$AS$16,0))),IF(CB173=0,0,IF(CB173=\"lamp\",((Q173/VLOOKUP(B173,Int_Ext,2,FALSE))*VLOOKUP(E173,NEB,16,FALSE)),IF(CB173=\"fixture\",((Q173/VLOOKUP(B173,Int_Ext,2,FALSE))*VLOOKUP(E173,NEB,14,FALSE)),\"\"))))","v":""},null,{"$f":"IF(RIGHT(I173,4)=\"Case\",INDEX('Equipment Type'!$V$4:$V$53, MATCH('Analysis 103L'!$K173, 'Equipment Type'!$A$4:$A$53, 0)), \"\")","v":""},"","","",{"$f":"IF(CI173=\"\", \"\", IF(RIGHT(I173,4)=\"Case\", INDEX('LED Case Lighting'!$AR$3:$AR$16, MATCH('Analysis 103L'!CI173, 'LED Case Lighting'!$AS$3:$AS$16, 0)), \"\"))","v":""},{"$f":"IF(CI173=\"\",\"\",INDEX('LED Case Lighting'!$AW$3:$AW$16,MATCH('Analysis 103L'!CI173,'LED Case Lighting'!$AS$3:$AS$16,0)))","v":""},{"$f":"IF(CI173=\"\",\"\",INDEX('LED Case Lighting'!$AX$3:$AX$16,MATCH('Analysis 103L'!CI173,'LED Case Lighting'!$AS$3:$AS$16,0)))","v":""},""]
[147,null,null,null,null,null,"",null,{"$f":"IF(K174=\"\",\"\",VLOOKUP(K174,'Equipment Type'!$A$1:$F$53,5,FALSE))","v":""},{"$f":"IF(K174=\"\",\"\",VLOOKUP(K174,'Equipment Type'!$A$1:$F$53,6,FALSE))","v":""},null,{"$f":"IF(K174=\"\",\"\",VLOOKUP(K174,'Equipment Type'!$A$1:$F$53,4,FALSE))","v":""},null,{"$f":"IF(K174=\"\",\"\",INDEX('Equipment Type'!$T$4:$T$53,MATCH('Analysis 103L'!K174,'Equipment Type'!$A$4:$A$53,0)))","v":""},"",null,{"$f":"IF(RIGHT(I174, 4)=\"Case\", \"\", IF(P174=\"\",\"\",(IF(ISNUMBER(SEARCH(\"exit\",J174)),8760,IF(B174=\"Exterior\",4380,'Analysis 103L'!$J$3)))))","v":""},null,"","","","","","","","",{"$f":"IF('100L Information'!$Z$5=\"Yes\",0,IF('100L Information'!$Z$4=\"Yes\",(MIN($Y$232-(-$Y$227),6000)*0.5)*(Y174/$Y$232),$Y$232*(Y174/($Y$230+$Y$231))))","v":{"$error":"#VALUE!"}},"",{"$error":"#VALUE!"},"No requirement",0,{"$f":"IF(OR(Z174=\"Does not meet requirement\",AND('100L Information'!$AA$21=\"No\",AL174=\"Y\"),AND('100L Information'!$AS$21=FALSE,AL174=\"Y\")),0,IF(ISNUMBER(R174*Incent_Cost_Fixture_Rx),MIN(R174*Incent_Cost_Fixture_Rx,(MAX(AE174,AK174))),0))","v":0},"FAIL","0","0","0",0,"N","0","0",null,"","",0,"",{"$f":"IF(RIGHT(I174,4)=\"Case\",W174,IF(AND(AL174=\"Y\",AF174<1),0,IF(OR(LEFT(D174,2)=\"T5\",LEFT(D174,3)=\"CFL\",'Analysis 103L'!AS174=\"Less\"),'Analysis 103L'!AR174,'Analysis 103L'!W174)))","v":""},null,0,0,null,{"$error":"#VALUE!"},{"$error":"#VALUE!"},{"$error":"#VALUE!"},null,null,{"$f":"IF(RIGHT(I174,4)=\"Case\",'LED Case Lighting'!$AY$1,IF(J174=\"\",\"\",VLOOKUP(J174,Lookups!$A$30:$J$149,VLOOKUP('100L Information'!$AI$46,Lookups!$J$3:$L$6,3,FALSE),FALSE)))","v":""},{"$error":"#N/A"},"","",{"$error":"#VALUE!"},{"$error":"#VALUE!"},{"$error":"#VALUE!"},{"$error":"#N/A"},0,{"$error":"#N/A"},0,{"$error":"#VALUE!"},{"$error":"#VALUE!"},{"$error":"#VALUE!"},"FAIL",null,null,null,null,null,null,null,"Interior / Exterior",null,"",null,{"$f":"IF(RIGHT(I174,4)=\"Case\",(INDEX('LED Case Lighting'!$AZ$3:$AZ$16,MATCH('Analysis 103L'!$CI174,'LED Case Lighting'!$AS$3:$AS$16,0))),IF(CB174=0,0,IF(CB174=\"lamp\",((Q174/VLOOKUP(B174,Int_Ext,2,FALSE))*VLOOKUP(E174,NEB,16,FALSE)),IF(CB174=\"fixture\",((Q174/VLOOKUP(B174,Int_Ext,2,FALSE))*VLOOKUP(E174,NEB,14,FALSE)),\"\"))))","v":""},null,{"$f":"IF(RIGHT(I174,4)=\"Case\",INDEX('Equipment Type'!$V$4:$V$53, MATCH('Analysis 103L'!$K174, 'Equipment Type'!$A$4:$A$53, 0)), \"\")","v":""},"","","",{"$f":"IF(CI174=\"\", \"\", IF(RIGHT(I174,4)=\"Case\", INDEX('LED Case Lighting'!$AR$3:$AR$16, MATCH('Analysis 103L'!CI174, 'LED Case Lighting'!$AS$3:$AS$16, 0)), \"\"))","v":""},{"$f":"IF(CI174=\"\",\"\",INDEX('LED Case Lighting'!$AW$3:$AW$16,MATCH('Analysis 103L'!CI174,'LED Case Lighting'!$AS$3:$AS$16,0)))","v":""},{"$f":"IF(CI174=\"\",\"\",INDEX('LED Case Lighting'!$AX$3:$AX$16,MATCH('Analysis 103L'!CI174,'LED Case Lighting'!$AS$3:$AS$16,0)))","v":""},""]
[148,null,null,null,null,null,"",null,{"$f":"IF(K175=\"\",\"\",VLOOKUP(K175,'Equipment Type'!$A$1:$F$53,5,FALSE))","v":""},{"$f":"IF(K175=\"\",\"\",VLOOKUP(K175,'Equipment Type'!$A$1:$F$53,6,FALSE))","v":""},null,{"$f":"IF(K175=\"\",\"\",VLOOKUP(K175,'Equipment Type'!$A$1:$F$53,4,FALSE))","v":""},null,{"$f":"IF(K175=\"\",\"\",INDEX('Equipment Type'!$T$4:$T$53,MATCH('Analysis 103L'!K175,'Equipment Type'!$A$4:$A$53,0)))","v":""},"",null,{"$f":"IF(RIGHT(I175, 4)=\"Case\", \"\", IF(P175=\"\",\"\",(IF(ISNUMBER(SEARCH(\"exit\",J175)),8760,IF(B175=\"Exterior\",4380,'Analysis 103L'!$J$3)))))","v":""},null,"","","","","","","","",{"$f":"IF('100L Information'!$Z$5=\"Yes\",0,IF('100L Information'!$Z$4=\"Yes\",(MIN($Y$232-(-$Y$227),6000)*0.5)*(Y175/$Y$232),$Y$232*(Y175/($Y$230+$Y$231))))","v":{"$error":"#VALUE!"}},"",{"$error":"#VALUE!"},"No requirement",0,{"$f":"IF(OR(Z175=\"Does not meet requirement\",AND('100L Information'!$AA$21=\"No\",AL175=\"Y\"),AND('100L Information'!$AS$21=FALSE,AL175=\"Y\")),0,IF(ISNUMBER(R175*Incent_Cost_Fixture_Rx),MIN(R175*Incent_Cost_Fixture_Rx,(MAX(AE175,AK175))),0))","v":0},"FAIL","0","0","0",0,"N","0","0",null,"","",0,"",{"$f":"IF(RIGHT(I175,4)=\"Case\",W175,IF(AND(AL175=\"Y\",AF175<1),0,IF(OR(LEFT(D175,2)=\"T5\",LEFT(D175,3)=\"CFL\",'Analysis 103L'!AS175=\"Less\"),'Analysis 103L'!AR175,'Analysis 103L'!W175)))","v":""},null,0,0,null,{"$error":"#VALUE!"},{"$error":"#VALUE!"},{"$error":"#VALUE!"},null,null,{"$f":"IF(RIGHT(I175,4)=\"Case\",'LED Case Lighting'!$AY$1,IF(J175=\"\",\"\",VLOOKUP(J175,Lookups!$A$30:$J$149,VLOOKUP('100L Information'!$AI$46,Lookups!$J$3:$L$6,3,FALSE),FALSE)))","v":""},{"$error":"#N/A"},"","",{"$error":"#VALUE!"},{"$error":"#VALUE!"},{"$error":"#VALUE!"},{"$error":"#N/A"},0,{"$error":"#N/A"},0,{"$error":"#VALUE!"},{"$error":"#VALUE!"},{"$error":"#VALUE!"},"FAIL",null,null,null,null,null,null,null,"Interior / Exterior",null,"",null,{"$f":"IF(RIGHT(I175,4)=\"Case\",(INDEX('LED Case Lighting'!$AZ$3:$AZ$16,MATCH('Analysis 103L'!$CI175,'LED Case Lighting'!$AS$3:$AS$16,0))),IF(CB175=0,0,IF(CB175=\"lamp\",((Q175/VLOOKUP(B175,Int_Ext,2,FALSE))*VLOOKUP(E175,NEB,16,FALSE)),IF(CB175=\"fixture\",((Q175/VLOOKUP(B175,Int_Ext,2,FALSE))*VLOOKUP(E175,NEB,14,FALSE)),\"\"))))","v":""},null,{"$f":"IF(RIGHT(I175,4)=\"Case\",INDEX('Equipment Type'!$V$4:$V$53, MATCH('Analysis 103L'!$K175, 'Equipment Type'!$A$4:$A$53, 0)), \"\")","v":""},"","","",{"$f":"IF(CI175=\"\", \"\", IF(RIGHT(I175,4)=\"Case\", INDEX('LED Case Lighting'!$AR$3:$AR$16, MATCH('Analysis 103L'!CI175, 'LED Case Lighting'!$AS$3:$AS$16, 0)), \"\"))","v":""},{"$f":"IF(CI175=\"\",\"\",INDEX('LED Case Lighting'!$AW$3:$AW$16,MATCH('Analysis 103L'!CI175,'LED Case Lighting'!$AS$3:$AS$16,0)))","v":""},{"$f":"IF(CI175=\"\",\"\",INDEX('LED Case Lighting'!$AX$3:$AX$16,MATCH('Analysis 103L'!CI175,'LED Case Lighting'!$AS$3:$AS$16,0)))","v":""},""]
[149,null,null,null,null,null,"",null,{"$f":"IF(K176=\"\",\"\",VLOOKUP(K176,'Equipment Type'!$A$1:$F$53,5,FALSE))","v":""},{"$f":"IF(K176=\"\",\"\",VLOOKUP(K176,'Equipment Type'!$A$1:$F$53,6,FALSE))","v":""},null,{"$f":"IF(K176=\"\",\"\",VLOOKUP(K176,'Equipment Type'!$A$1:$F$53,4,FALSE))","v":""},null,{"$f":"IF(K176=\"\",\"\",INDEX('Equipment Type'!$T$4:$T$53,MATCH('Analysis 103L'!K176,'Equipment Type'!$A$4:$A$53,0)))","v":""},"",null,{"$f":"IF(RIGHT(I176, 4)=\"Case\", \"\", IF(P176=\"\",\"\",(IF(ISNUMBER(SEARCH(\"exit\",J176)),8760,IF(B176=\"Exterior\",4380,'Analysis 103L'!$J$3)))))","v":""},null,"","","","","","","","",{"$f":"IF('100L Information'!$Z$5=\"Yes\",0,IF('100L Information'!$Z$4=\"Yes\",(MIN($Y$232-(-$Y$227),6000)*0.5)*(Y176/$Y$232),$Y$232*(Y176/($Y$230+$Y$231))))","v":{"$error":"#VALUE!"}},"",{"$error":"#VALUE!"},"No requirement",0,{"$f":"IF(OR(Z176=\"Does not meet requirement\",AND('100L Information'!$AA$21=\"No\",AL176=\"Y\"),AND('100L Information'!$AS$21=FALSE,AL176=\"Y\")),0,IF(ISNUMBER(R176*Incent_Cost_Fixture_Rx),MIN(R176*Incent_Cost_Fixture_Rx,(MAX(AE176,AK176))),0))","v":0},"FAIL","0","0","0",0,"N","0","0",null,"","",0,"",{"$f":"IF(RIGHT(I176,4)=\"Case\",W176,IF(AND(AL176=\"Y\",AF176<1),0,IF(OR(LEFT(D176,2)=\"T5\",LEFT(D176,3)=\"CFL\",'Analysis 103L'!AS176=\"Less\"),'Analysis 103L'!AR176,'Analysis 103L'!W176)))","v":""},null,0,0,null,{"$error":"#VALUE!"},{"$error":"#VALUE!"},{"$error":"#VALUE!"},null,null,{"$f":"IF(RIGHT(I176,4)=\"Case\",'LED Case Lighting'!$AY$1,IF(J176=\"\",\"\",VLOOKUP(J176,Lookups!$A$30:$J$149,VLOOKUP('100L Information'!$AI$46,Lookups!$J$3:$L$6,3,FALSE),FALSE)))","v":""},{"$error":"#N/A"},"","",{"$error":"#VALUE!"},{"$error":"#VALUE!"},{"$error":"#VALUE!"},{"$error":"#N/A"},0,{"$error":"#N/A"},0,{"$error":"#VALUE!"},{"$error":"#VALUE!"},{"$error":"#VALUE!"},"FAIL",null,null,null,null,null,null,null,"Interior / Exterior",null,"",null,{"$f":"IF(RIGHT(I176,4)=\"Case\",(INDEX('LED Case Lighting'!$AZ$3:$AZ$16,MATCH('Analysis 103L'!$CI176,'LED Case Lighting'!$AS$3:$AS$16,0))),IF(CB176=0,0,IF(CB176=\"lamp\",((Q176/VLOOKUP(B176,Int_Ext,2,FALSE))*VLOOKUP(E176,NEB,16,FALSE)),IF(CB176=\"fixture\",((Q176/VLOOKUP(B176,Int_Ext,2,FALSE))*VLOOKUP(E176,NEB,14,FALSE)),\"\"))))","v":""},null,{"$f":"IF(RIGHT(I176,4)=\"Case\",INDEX('Equipment Type'!$V$4:$V$53, MATCH('Analysis 103L'!$K176, 'Equipment Type'!$A$4:$A$53, 0)), \"\")","v":""},"","","",{"$f":"IF(CI176=\"\", \"\", IF(RIGHT(I176,4)=\"Case\", INDEX('LED Case Lighting'!$AR$3:$AR$16, MATCH('Analysis 103L'!CI176, 'LED Case Lighting'!$AS$3:$AS$16, 0)), \"\"))","v":""},{"$f":"IF(CI176=\"\",\"\",INDEX('LED Case Lighting'!$AW$3:$AW$16,MATCH('Analysis 103L'!CI176,'LED Case Lighting'!$AS$3:$AS$16,0)))","v":""},{"$f":"IF(CI176=\"\",\"\",INDEX('LED Case Lighting'!$AX$3:$AX$16,MATCH('Analysis 103L'!CI176,'LED Case Lighting'!$AS$3:$AS$16,0)))","v":""},""]
[150,null,null,null,null,null,"",null,{"$f":"IF(K177=\"\",\"\",VLOOKUP(K177,'Equipment Type'!$A$1:$F$53,5,FALSE))","v":""},{"$f":"IF(K177=\"\",\"\",VLOOKUP(K177,'Equipment Type'!$A$1:$F$53,6,FALSE))","v":""},null,{"$f":"IF(K177=\"\",\"\",VLOOKUP(K177,'Equipment Type'!$A$1:$F$53,4,FALSE))","v":""},null,{"$f":"IF(K177=\"\",\"\",INDEX('Equipment Type'!$T$4:$T$53,MATCH('Analysis 103L'!K177,'Equipment Type'!$A$4:$A$53,0)))","v":""},"",null,{"$f":"IF(RIGHT(I177, 4)=\"Case\", \"\", IF(P177=\"\",\"\",(IF(ISNUMBER(SEARCH(\"exit\",J177)),8760,IF(B177=\"Exterior\",4380,'Analysis 103L'!$J$3)))))","v":""},null,"","","","","","","","",{"$f":"IF('100L Information'!$Z$5=\"Yes\",0,IF('100L Information'!$Z$4=\"Yes\",(MIN($Y$232-(-$Y$227),6000)*0.5)*(Y177/$Y$232),$Y$232*(Y177/($Y$230+$Y$231))))","v":{"$error":"#VALUE!"}},"",{"$error":"#VALUE!"},"No requirement",0,{"$f":"IF(OR(Z177=\"Does not meet requirement\",AND('100L Information'!$AA$21=\"No\",AL177=\"Y\"),AND('100L Information'!$AS$21=FALSE,AL177=\"Y\")),0,IF(ISNUMBER(R177*Incent_Cost_Fixture_Rx),MIN(R177*Incent_Cost_Fixture_Rx,(MAX(AE177,AK177))),0))","v":0},"FAIL","0","0","0",0,"N","0","0",null,"","",0,"",{"$f":"IF(RIGHT(I177,4)=\"Case\",W177,IF(AND(AL177=\"Y\",AF177<1),0,IF(OR(LEFT(D177,2)=\"T5\",LEFT(D177,3)=\"CFL\",'Analysis 103L'!AS177=\"Less\"),'Analysis 103L'!AR177,'Analysis 103L'!W177)))","v":""},null,0,0,null,{"$error":"#VALUE!"},{"$error":"#VALUE!"},{"$error":"#VALUE!"},null,null,{"$f":"IF(RIGHT(I177,4)=\"Case\",'LED Case Lighting'!$AY$1,IF(J177=\"\",\"\",VLOOKUP(J177,Lookups!$A$30:$J$149,VLOOKUP('100L Information'!$AI$46,Lookups!$J$3:$L$6,3,FALSE),FALSE)))","v":""},{"$error":"#N/A"},"","",{"$error":"#VALUE!"},{"$error":"#VALUE!"},{"$error":"#VALUE!"},{"$error":"#N/A"},0,{"$error":"#N/A"},0,{"$error":"#VALUE!"},{"$error":"#VALUE!"},{"$error":"#VALUE!"},"FAIL",null,null,null,null,null,null,null,"Interior / Exterior",null,"",null,{"$f":"IF(RIGHT(I177,4)=\"Case\",(INDEX('LED Case Lighting'!$AZ$3:$AZ$16,MATCH('Analysis 103L'!$CI177,'LED Case Lighting'!$AS$3:$AS$16,0))),IF(CB177=0,0,IF(CB177=\"lamp\",((Q177/VLOOKUP(B177,Int_Ext,2,FALSE))*VLOOKUP(E177,NEB,16,FALSE)),IF(CB177=\"fixture\",((Q177/VLOOKUP(B177,Int_Ext,2,FALSE))*VLOOKUP(E177,NEB,14,FALSE)),\"\"))))","v":""},null,{"$f":"IF(RIGHT(I177,4)=\"Case\",INDEX('Equipment Type'!$V$4:$V$53, MATCH('Analysis 103L'!$K177, 'Equipment Type'!$A$4:$A$53, 0)), \"\")","v":""},{"$f":"IF(LEFT(D177,3)=\"T12\",\"T12\",IF(OR(LEFT(D177,2)=\"T8\",(LEFT(D177,2)=\"T5\")),\"T8\",\"\"))","v":""},"","",{"$f":"IF(CI177=\"\", \"\", IF(RIGHT(I177,4)=\"Case\", INDEX('LED Case Lighting'!$AR$3:$AR$16, MATCH('Analysis 103L'!CI177, 'LED Case Lighting'!$AS$3:$AS$16, 0)), \"\"))","v":""},{"$f":"IF(CI177=\"\",\"\",INDEX('LED Case Lighting'!$AW$3:$AW$16,MATCH('Analysis 103L'!CI177,'LED Case Lighting'!$AS$3:$AS$16,0)))","v":""},{"$f":"IF(CI177=\"\",\"\",INDEX('LED Case Lighting'!$AX$3:$AX$16,MATCH('Analysis 103L'!CI177,'LED Case Lighting'!$AS$3:$AS$16,0)))","v":""},""]
[151,null,null,null,null,null,"",null,{"$f":"IF(K178=\"\",\"\",VLOOKUP(K178,'Equipment Type'!$A$1:$F$53,5,FALSE))","v":""},{"$f":"IF(K178=\"\",\"\",VLOOKUP(K178,'Equipment Type'!$A$1:$F$53,6,FALSE))","v":""},null,{"$f":"IF(K178=\"\",\"\",VLOOKUP(K178,'Equipment Type'!$A$1:$F$53,4,FALSE))","v":""},null,{"$f":"IF(K178=\"\",\"\",INDEX('Equipment Type'!$T$4:$T$53,MATCH('Analysis 103L'!K178,'Equipment Type'!$A$4:$A$53,0)))","v":""},"",null,{"$f":"IF(RIGHT(I178, 4)=\"Case\", \"\", IF(P178=\"\",\"\",(IF(ISNUMBER(SEARCH(\"exit\",J178)),8760,IF(B178=\"Exterior\",4380,'Analysis 103L'!$J$3)))))","v":""},null,"","","","","","","","",{"$f":"IF('100L Information'!$Z$5=\"Yes\",0,IF('100L Information'!$Z$4=\"Yes\",(MIN($Y$232-(-$Y$227),6000)*0.5)*(Y178/$Y$232),$Y$232*(Y178/($Y$230+$Y$231))))","v":{"$error":"#VALUE!"}},"",{"$error":"#VALUE!"},"No requirement",0,{"$f":"IF(OR(Z178=\"Does not meet requirement\",AND('100L Information'!$AA$21=\"No\",AL178=\"Y\"),AND('100L Information'!$AS$21=FALSE,AL178=\"Y\")),0,IF(ISNUMBER(R178*Incent_Cost_Fixture_Rx),MIN(R178*Incent_Cost_Fixture_Rx,(MAX(AE178,AK178))),0))","v":0},"FAIL","0","0","0",0,"N","0","0",null,"","",0,"",{"$f":"IF(RIGHT(I178,4)=\"Case\",W178,IF(AND(AL178=\"Y\",AF178<1),0,IF(OR(LEFT(D178,2)=\"T5\",LEFT(D178,3)=\"CFL\",'Analysis 103L'!AS178=\"Less\"),'Analysis 103L'!AR178,'Analysis 103L'!W178)))","v":""},null,0,0,null,{"$error":"#VALUE!"},{"$error":"#VALUE!"},{"$error":"#VALUE!"},null,null,{"$f":"IF(RIGHT(I178,4)=\"Case\",'LED Case Lighting'!$AY$1,IF(J178=\"\",\"\",VLOOKUP(J178,Lookups!$A$30:$J$149,VLOOKUP('100L Information'!$AI$46,Lookups!$J$3:$L$6,3,FALSE),FALSE)))","v":""},{"$error":"#N/A"},"","",{"$error":"#VALUE!"},{"$error":"#VALUE!"},{"$error":"#VALUE!"},{"$error":"#N/A"},0,{"$error":"#N/A"},0,{"$error":"#VALUE!"},{"$error":"#VALUE!"},{"$error":"#VALUE!"},"FAIL",null,null,null,null,null,null,null,"Interior / Exterior",null,"",null,{"$f":"IF(RIGHT(I178,4)=\"Case\",(INDEX('LED Case Lighting'!$AZ$3:$AZ$16,MATCH('Analysis 103L'!$CI178,'LED Case Lighting'!$AS$3:$AS$16,0))),IF(CB178=0,0,IF(CB178=\"lamp\",((Q178/VLOOKUP(B178,Int_Ext,2,FALSE))*VLOOKUP(E178,NEB,16,FALSE)),IF(CB178=\"fixture\",((Q178/VLOOKUP(B178,Int_Ext,2,FALSE))*VLOOKUP(E178,NEB,14,FALSE)),\"\"))))","v":""},null,{"$f":"IF(RIGHT(I178,4)=\"Case\",INDEX('Equipment Type'!$V$4:$V$53, MATCH('Analysis 103L'!$K178, 'Equipment Type'!$A$4:$A$53, 0)), \"\")","v":""},"","","",{"$f":"IF(CI178=\"\", \"\", IF(RIGHT(I178,4)=\"Case\", INDEX('LED Case Lighting'!$AR$3:$AR$16, MATCH('Analysis 103L'!CI178, 'LED Case Lighting'!$AS$3:$AS$16, 0)), \"\"))","v":""},{"$f":"IF(CI178=\"\",\"\",INDEX('LED Case Lighting'!$AW$3:$AW$16,MATCH('Analysis 103L'!CI178,'LED Case Lighting'!$AS$3:$AS$16,0)))","v":""},{"$f":"IF(CI178=\"\",\"\",INDEX('LED Case Lighting'!$AX$3:$AX$16,MATCH('Analysis 103L'!CI178,'LED Case Lighting'!$AS$3:$AS$16,0)))","v":""},""]
[152,null,null,null,null,null,"",null,{"$f":"IF(K179=\"\",\"\",VLOOKUP(K179,'Equipment Type'!$A$1:$F$53,5,FALSE))","v":""},{"$f":"IF(K179=\"\",\"\",VLOOKUP(K179,'Equipment Type'!$A$1:$F$53,6,FALSE))","v":""},null,{"$f":"IF(K179=\"\",\"\",VLOOKUP(K179,'Equipment Type'!$A$1:$F$53,4,FALSE))","v":""},null,{"$f":"IF(K179=\"\",\"\",INDEX('Equipment Type'!$T$4:$T$53,MATCH('Analysis 103L'!K179,'Equipment Type'!$A$4:$A$53,0)))","v":""},"",null,{"$f":"IF(RIGHT(I179, 4)=\"Case\", \"\", IF(P179=\"\",\"\",(IF(ISNUMBER(SEARCH(\"exit\",J179)),8760,IF(B179=\"Exterior\",4380,'Analysis 103L'!$J$3)))))","v":""},null,"","","","","","","","",{"$f":"IF('100L Information'!$Z$5=\"Yes\",0,IF('100L Information'!$Z$4=\"Yes\",(MIN($Y$232-(-$Y$227),6000)*0.5)*(Y179/$Y$232),$Y$232*(Y179/($Y$230+$Y$231))))","v":{"$error":"#VALUE!"}},"",{"$error":"#VALUE!"},"No requirement",0,{"$f":"IF(OR(Z179=\"Does not meet requirement\",AND('100L Information'!$AA$21=\"No\",AL179=\"Y\"),AND('100L Information'!$AS$21=FALSE,AL179=\"Y\")),0,IF(ISNUMBER(R179*Incent_Cost_Fixture_Rx),MIN(R179*Incent_Cost_Fixture_Rx,(MAX(AE179,AK179))),0))","v":0},"FAIL","0","0","0",0,"N","0","0",null,"","",0,"",{"$f":"IF(RIGHT(I179,4)=\"Case\",W179,IF(AND(AL179=\"Y\",AF179<1),0,IF(OR(LEFT(D179,2)=\"T5\",LEFT(D179,3)=\"CFL\",'Analysis 103L'!AS179=\"Less\"),'Analysis 103L'!AR179,'Analysis 103L'!W179)))","v":""},null,0,0,null,{"$error":"#VALUE!"},{"$error":"#VALUE!"},{"$error":"#VALUE!"},null,null,{"$f":"IF(RIGHT(I179,4)=\"Case\",'LED Case Lighting'!$AY$1,IF(J179=\"\",\"\",VLOOKUP(J179,Lookups!$A$30:$J$149,VLOOKUP('100L Information'!$AI$46,Lookups!$J$3:$L$6,3,FALSE),FALSE)))","v":""},{"$error":"#N/A"},"","",{"$error":"#VALUE!"},{"$error":"#VALUE!"},{"$error":"#VALUE!"},{"$error":"#N/A"},0,{"$error":"#N/A"},0,{"$error":"#VALUE!"},{"$error":"#VALUE!"},{"$error":"#VALUE!"},"FAIL",null,null,null,null,null,null,null,"Interior / Exterior",null,"",null,{"$f":"IF(RIGHT(I179,4)=\"Case\",(INDEX('LED Case Lighting'!$AZ$3:$AZ$16,MATCH('Analysis 103L'!$CI179,'LED Case Lighting'!$AS$3:$AS$16,0))),IF(CB179=0,0,IF(CB179=\"lamp\",((Q179/VLOOKUP(B179,Int_Ext,2,FALSE))*VLOOKUP(E179,NEB,16,FALSE)),IF(CB179=\"fixture\",((Q179/VLOOKUP(B179,Int_Ext,2,FALSE))*VLOOKUP(E179,NEB,14,FALSE)),\"\"))))","v":""},null,{"$f":"IF(RIGHT(I179,4)=\"Case\",INDEX('Equipment Type'!$V$4:$V$53, MATCH('Analysis 103L'!$K179, 'Equipment Type'!$A$4:$A$53, 0)), \"\")","v":""},"","","",{"$f":"IF(CI179=\"\", \"\", IF(RIGHT(I179,4)=\"Case\", INDEX('LED Case Lighting'!$AR$3:$AR$16, MATCH('Analysis 103L'!CI179, 'LED Case Lighting'!$AS$3:$AS$16, 0)), \"\"))","v":""},{"$f":"IF(CI179=\"\",\"\",INDEX('LED Case Lighting'!$AW$3:$AW$16,MATCH('Analysis 103L'!CI179,'LED Case Lighting'!$AS$3:$AS$16,0)))","v":""},{"$f":"IF(CI179=\"\",\"\",INDEX('LED Case Lighting'!$AX$3:$AX$16,MATCH('Analysis 103L'!CI179,'LED Case Lighting'!$AS$3:$AS$16,0)))","v":""},""]
[153,null,null,null,null,null,"",null,{"$f":"IF(K180=\"\",\"\",VLOOKUP(K180,'Equipment Type'!$A$1:$F$53,5,FALSE))","v":""},{"$f":"IF(K180=\"\",\"\",VLOOKUP(K180,'Equipment Type'!$A$1:$F$53,6,FALSE))","v":""},null,{"$f":"IF(K180=\"\",\"\",VLOOKUP(K180,'Equipment Type'!$A$1:$F$53,4,FALSE))","v":""},null,{"$f":"IF(K180=\"\",\"\",INDEX('Equipment Type'!$T$4:$T$53,MATCH('Analysis 103L'!K180,'Equipment Type'!$A$4:$A$53,0)))","v":""},"",null,{"$f":"IF(RIGHT(I180, 4)=\"Case\", \"\", IF(P180=\"\",\"\",(IF(ISNUMBER(SEARCH(\"exit\",J180)),8760,IF(B180=\"Exterior\",4380,'Analysis 103L'!$J$3)))))","v":""},null,"","","","","","","","",{"$f":"IF('100L Information'!$Z$5=\"Yes\",0,IF('100L Information'!$Z$4=\"Yes\",(MIN($Y$232-(-$Y$227),6000)*0.5)*(Y180/$Y$232),$Y$232*(Y180/($Y$230+$Y$231))))","v":{"$error":"#VALUE!"}},"",{"$error":"#VALUE!"},"No requirement",0,{"$f":"IF(OR(Z180=\"Does not meet requirement\",AND('100L Information'!$AA$21=\"No\",AL180=\"Y\"),AND('100L Information'!$AS$21=FALSE,AL180=\"Y\")),0,IF(ISNUMBER(R180*Incent_Cost_Fixture_Rx),MIN(R180*Incent_Cost_Fixture_Rx,(MAX(AE180,AK180))),0))","v":0},"FAIL","0","0","0",0,"N","0","0",null,"","",0,"",{"$f":"IF(RIGHT(I180,4)=\"Case\",W180,IF(AND(AL180=\"Y\",AF180<1),0,IF(OR(LEFT(D180,2)=\"T5\",LEFT(D180,3)=\"CFL\",'Analysis 103L'!AS180=\"Less\"),'Analysis 103L'!AR180,'Analysis 103L'!W180)))","v":""},null,0,0,null,{"$error":"#VALUE!"},{"$error":"#VALUE!"},{"$error":"#VALUE!"},null,null,{"$f":"IF(RIGHT(I180,4)=\"Case\",'LED Case Lighting'!$AY$1,IF(J180=\"\",\"\",VLOOKUP(J180,Lookups!$A$30:$J$149,VLOOKUP('100L Information'!$AI$46,Lookups!$J$3:$L$6,3,FALSE),FALSE)))","v":""},{"$error":"#N/A"},"","",{"$error":"#VALUE!"},{"$error":"#VALUE!"},{"$error":"#VALUE!"},{"$error":"#N/A"},0,{"$error":"#N/A"},0,{"$error":"#VALUE!"},{"$error":"#VALUE!"},{"$error":"#VALUE!"},"FAIL",null,null,null,null,null,null,null,"Interior / Exterior",null,"",null,{"$f":"IF(RIGHT(I180,4)=\"Case\",(INDEX('LED Case Lighting'!$AZ$3:$AZ$16,MATCH('Analysis 103L'!$CI180,'LED Case Lighting'!$AS$3:$AS$16,0))),IF(CB180=0,0,IF(CB180=\"lamp\",((Q180/VLOOKUP(B180,Int_Ext,2,FALSE))*VLOOKUP(E180,NEB,16,FALSE)),IF(CB180=\"fixture\",((Q180/VLOOKUP(B180,Int_Ext,2,FALSE))*VLOOKUP(E180,NEB,14,FALSE)),\"\"))))","v":""},null,{"$f":"IF(RIGHT(I180,4)=\"Case\",INDEX('Equipment Type'!$V$4:$V$53, MATCH('Analysis 103L'!$K180, 'Equipment Type'!$A$4:$A$53, 0)), \"\")","v":""},"","","",{"$f":"IF(CI180=\"\", \"\", IF(RIGHT(I180,4)=\"Case\", INDEX('LED Case Lighting'!$AR$3:$AR$16, MATCH('Analysis 103L'!CI180, 'LED Case Lighting'!$AS$3:$AS$16, 0)), \"\"))","v":""},{"$f":"IF(CI180=\"\",\"\",INDEX('LED Case Lighting'!$AW$3:$AW$16,MATCH('Analysis 103L'!CI180,'LED Case Lighting'!$AS$3:$AS$16,0)))","v":""},{"$f":"IF(CI180=\"\",\"\",INDEX('LED Case Lighting'!$AX$3:$AX$16,MATCH('Analysis 103L'!CI180,'LED Case Lighting'!$AS$3:$AS$16,0)))","v":""},""]
[154,null,null,null,null,null,"",null,{"$f":"IF(K181=\"\",\"\",VLOOKUP(K181,'Equipment Type'!$A$1:$F$53,5,FALSE))","v":""},{"$f":"IF(K181=\"\",\"\",VLOOKUP(K181,'Equipment Type'!$A$1:$F$53,6,FALSE))","v":""},null,{"$f":"IF(K181=\"\",\"\",VLOOKUP(K181,'Equipment Type'!$A$1:$F$53,4,FALSE))","v":""},null,{"$f":"IF(K181=\"\",\"\",INDEX('Equipment Type'!$T$4:$T$53,MATCH('Analysis 103L'!K181,'Equipment Type'!$A$4:$A$53,0)))","v":""},"",null,{"$f":"IF(RIGHT(I181, 4)=\"Case\", \"\", IF(P181=\"\",\"\",(IF(ISNUMBER(SEARCH(\"exit\",J181)),8760,IF(B181=\"Exterior\",4380,'Analysis 103L'!$J$3)))))","v":""},null,"","","","","","","","",{"$f":"IF('100L Information'!$Z$5=\"Yes\",0,IF('100L Information'!$Z$4=\"Yes\",(MIN($Y$232-(-$Y$227),6000)*0.5)*(Y181/$Y$232),$Y$232*(Y181/($Y$230+$Y$231))))","v":{"$error":"#VALUE!"}},"",{"$error":"#VALUE!"},"No requirement",0,{"$f":"IF(OR(Z181=\"Does not meet requirement\",AND('100L Information'!$AA$21=\"No\",AL181=\"Y\"),AND('100L Information'!$AS$21=FALSE,AL181=\"Y\")),0,IF(ISNUMBER(R181*Incent_Cost_Fixture_Rx),MIN(R181*Incent_Cost_Fixture_Rx,(MAX(AE181,AK181))),0))","v":0},"FAIL","0","0","0",0,"N","0","0",null,"","",0,"",{"$f":"IF(RIGHT(I181,4)=\"Case\",W181,IF(AND(AL181=\"Y\",AF181<1),0,IF(OR(LEFT(D181,2)=\"T5\",LEFT(D181,3)=\"CFL\",'Analysis 103L'!AS181=\"Less\"),'Analysis 103L'!AR181,'Analysis 103L'!W181)))","v":""},null,0,0,null,{"$error":"#VALUE!"},{"$error":"#VALUE!"},{"$error":"#VALUE!"},null,null,{"$f":"IF(RIGHT(I181,4)=\"Case\",'LED Case Lighting'!$AY$1,IF(J181=\"\",\"\",VLOOKUP(J181,Lookups!$A$30:$J$149,VLOOKUP('100L Information'!$AI$46,Lookups!$J$3:$L$6,3,FALSE),FALSE)))","v":""},{"$error":"#N/A"},"","",{"$error":"#VALUE!"},{"$error":"#VALUE!"},{"$error":"#VALUE!"},{"$error":"#N/A"},0,{"$error":"#N/A"},0,{"$error":"#VALUE!"},{"$error":"#VALUE!"},{"$error":"#VALUE!"},"FAIL",null,null,null,null,null,null,null,"Interior / Exterior",null,"",null,{"$f":"IF(RIGHT(I181,4)=\"Case\",(INDEX('LED Case Lighting'!$AZ$3:$AZ$16,MATCH('Analysis 103L'!$CI181,'LED Case Lighting'!$AS$3:$AS$16,0))),IF(CB181=0,0,IF(CB181=\"lamp\",((Q181/VLOOKUP(B181,Int_Ext,2,FALSE))*VLOOKUP(E181,NEB,16,FALSE)),IF(CB181=\"fixture\",((Q181/VLOOKUP(B181,Int_Ext,2,FALSE))*VLOOKUP(E181,NEB,14,FALSE)),\"\"))))","v":""},null,{"$f":"IF(RIGHT(I181,4)=\"Case\",INDEX('Equipment Type'!$V$4:$V$53, MATCH('Analysis 103L'!$K181, 'Equipment Type'!$A$4:$A$53, 0)), \"\")","v":""},"","","",{"$f":"IF(CI181=\"\", \"\", IF(RIGHT(I181,4)=\"Case\", INDEX('LED Case Lighting'!$AR$3:$AR$16, MATCH('Analysis 103L'!CI181, 'LED Case Lighting'!$AS$3:$AS$16, 0)), \"\"))","v":""},{"$f":"IF(CI181=\"\",\"\",INDEX('LED Case Lighting'!$AW$3:$AW$16,MATCH('Analysis 103L'!CI181,'LED Case Lighting'!$AS$3:$AS$16,0)))","v":""},{"$f":"IF(CI181=\"\",\"\",INDEX('LED Case Lighting'!$AX$3:$AX$16,MATCH('Analysis 103L'!CI181,'LED Case Lighting'!$AS$3:$AS$16,0)))","v":""},""]
[155,null,null,null,null,null,"",null,{"$f":"IF(K182=\"\",\"\",VLOOKUP(K182,'Equipment Type'!$A$1:$F$53,5,FALSE))","v":""},{"$f":"IF(K182=\"\",\"\",VLOOKUP(K182,'Equipment Type'!$A$1:$F$53,6,FALSE))","v":""},null,{"$f":"IF(K182=\"\",\"\",VLOOKUP(K182,'Equipment Type'!$A$1:$F$53,4,FALSE))","v":""},null,{"$f":"IF(K182=\"\",\"\",INDEX('Equipment Type'!$T$4:$T$53,MATCH('Analysis 103L'!K182,'Equipment Type'!$A$4:$A$53,0)))","v":""},"",null,{"$f":"IF(RIGHT(I182, 4)=\"Case\", \"\", IF(P182=\"\",\"\",(IF(ISNUMBER(SEARCH(\"exit\",J182)),8760,IF(B182=\"Exterior\",4380,'Analysis 103L'!$J$3)))))","v":""},null,"","","","","","","","",{"$f":"IF('100L Information'!$Z$5=\"Yes\",0,IF('100L Information'!$Z$4=\"Yes\",(MIN($Y$232-(-$Y$227),6000)*0.5)*(Y182/$Y$232),$Y$232*(Y182/($Y$230+$Y$231))))","v":{"$error":"#VALUE!"}},"",{"$error":"#VALUE!"},"No requirement",0,{"$f":"IF(OR(Z182=\"Does not meet requirement\",AND('100L Information'!$AA$21=\"No\",AL182=\"Y\"),AND('100L Information'!$AS$21=FALSE,AL182=\"Y\")),0,IF(ISNUMBER(R182*Incent_Cost_Fixture_Rx),MIN(R182*Incent_Cost_Fixture_Rx,(MAX(AE182,AK182))),0))","v":0},"FAIL","0","0","0",0,"N","0","0",null,"","",0,"",{"$f":"IF(RIGHT(I182,4)=\"Case\",W182,IF(AND(AL182=\"Y\",AF182<1),0,IF(OR(LEFT(D182,2)=\"T5\",LEFT(D182,3)=\"CFL\",'Analysis 103L'!AS182=\"Less\"),'Analysis 103L'!AR182,'Analysis 103L'!W182)))","v":""},null,0,0,null,{"$error":"#VALUE!"},{"$error":"#VALUE!"},{"$error":"#VALUE!"},null,null,{"$f":"IF(RIGHT(I182,4)=\"Case\",'LED Case Lighting'!$AY$1,IF(J182=\"\",\"\",VLOOKUP(J182,Lookups!$A$30:$J$149,VLOOKUP('100L Information'!$AI$46,Lookups!$J$3:$L$6,3,FALSE),FALSE)))","v":""},{"$error":"#N/A"},"","",{"$error":"#VALUE!"},{"$error":"#VALUE!"},{"$error":"#VALUE!"},{"$error":"#N/A"},0,{"$error":"#N/A"},0,{"$error":"#VALUE!"},{"$error":"#VALUE!"},{"$error":"#VALUE!"},"FAIL",null,null,null,null,null,null,null,"Interior / Exterior",null,"",null,{"$f":"IF(RIGHT(I182,4)=\"Case\",(INDEX('LED Case Lighting'!$AZ$3:$AZ$16,MATCH('Analysis 103L'!$CI182,'LED Case Lighting'!$AS$3:$AS$16,0))),IF(CB182=0,0,IF(CB182=\"lamp\",((Q182/VLOOKUP(B182,Int_Ext,2,FALSE))*VLOOKUP(E182,NEB,16,FALSE)),IF(CB182=\"fixture\",((Q182/VLOOKUP(B182,Int_Ext,2,FALSE))*VLOOKUP(E182,NEB,14,FALSE)),\"\"))))","v":""},null,{"$f":"IF(RIGHT(I182,4)=\"Case\",INDEX('Equipment Type'!$V$4:$V$53, MATCH('Analysis 103L'!$K182, 'Equipment Type'!$A$4:$A$53, 0)), \"\")","v":""},"","","",{"$f":"IF(CI182=\"\", \"\", IF(RIGHT(I182,4)=\"Case\", INDEX('LED Case Lighting'!$AR$3:$AR$16, MATCH('Analysis 103L'!CI182, 'LED Case Lighting'!$AS$3:$AS$16, 0)), \"\"))","v":""},{"$f":"IF(CI182=\"\",\"\",INDEX('LED Case Lighting'!$AW$3:$AW$16,MATCH('Analysis 103L'!CI182,'LED Case Lighting'!$AS$3:$AS$16,0)))","v":""},{"$f":"IF(CI182=\"\",\"\",INDEX('LED Case Lighting'!$AX$3:$AX$16,MATCH('Analysis 103L'!CI182,'LED Case Lighting'!$AS$3:$AS$16,0)))","v":""},""]
[156,null,null,null,null,null,"",null,{"$f":"IF(K183=\"\",\"\",VLOOKUP(K183,'Equipment Type'!$A$1:$F$53,5,FALSE))","v":""},{"$f":"IF(K183=\"\",\"\",VLOOKUP(K183,'Equipment Type'!$A$1:$F$53,6,FALSE))","v":""},null,{"$f":"IF(K183=\"\",\"\",VLOOKUP(K183,'Equipment Type'!$A$1:$F$53,4,FALSE))","v":""},null,{"$f":"IF(K183=\"\",\"\",INDEX('Equipment Type'!$T$4:$T$53,MATCH('Analysis 103L'!K183,'Equipment Type'!$A$4:$A$53,0)))","v":""},"",null,{"$f":"IF(RIGHT(I183, 4)=\"Case\", \"\", IF(P183=\"\",\"\",(IF(ISNUMBER(SEARCH(\"exit\",J183)),8760,IF(B183=\"Exterior\",4380,'Analysis 103L'!$J$3)))))","v":""},null,"","","","","","","","",{"$f":"IF('100L Information'!$Z$5=\"Yes\",0,IF('100L Information'!$Z$4=\"Yes\",(MIN($Y$232-(-$Y$227),6000)*0.5)*(Y183/$Y$232),$Y$232*(Y183/($Y$230+$Y$231))))","v":{"$error":"#VALUE!"}},"",{"$error":"#VALUE!"},"No requirement",0,{"$f":"IF(OR(Z183=\"Does not meet requirement\",AND('100L Information'!$AA$21=\"No\",AL183=\"Y\"),AND('100L Information'!$AS$21=FALSE,AL183=\"Y\")),0,IF(ISNUMBER(R183*Incent_Cost_Fixture_Rx),MIN(R183*Incent_Cost_Fixture_Rx,(MAX(AE183,AK183))),0))","v":0},"FAIL","0","0","0",0,"N","0","0",null,"","",0,"",{"$f":"IF(RIGHT(I183,4)=\"Case\",W183,IF(AND(AL183=\"Y\",AF183<1),0,IF(OR(LEFT(D183,2)=\"T5\",LEFT(D183,3)=\"CFL\",'Analysis 103L'!AS183=\"Less\"),'Analysis 103L'!AR183,'Analysis 103L'!W183)))","v":""},null,0,0,null,{"$error":"#VALUE!"},{"$error":"#VALUE!"},{"$error":"#VALUE!"},null,null,{"$f":"IF(RIGHT(I183,4)=\"Case\",'LED Case Lighting'!$AY$1,IF(J183=\"\",\"\",VLOOKUP(J183,Lookups!$A$30:$J$149,VLOOKUP('100L Information'!$AI$46,Lookups!$J$3:$L$6,3,FALSE),FALSE)))","v":""},{"$error":"#N/A"},"","",{"$error":"#VALUE!"},{"$error":"#VALUE!"},{"$error":"#VALUE!"},{"$error":"#N/A"},0,{"$error":"#N/A"},0,{"$error":"#VALUE!"},{"$error":"#VALUE!"},{"$error":"#VALUE!"},"FAIL",null,null,null,null,null,null,null,"Interior / Exterior",null,"",null,{"$f":"IF(RIGHT(I183,4)=\"Case\",(INDEX('LED Case Lighting'!$AZ$3:$AZ$16,MATCH('Analysis 103L'!$CI183,'LED Case Lighting'!$AS$3:$AS$16,0))),IF(CB183=0,0,IF(CB183=\"lamp\",((Q183/VLOOKUP(B183,Int_Ext,2,FALSE))*VLOOKUP(E183,NEB,16,FALSE)),IF(CB183=\"fixture\",((Q183/VLOOKUP(B183,Int_Ext,2,FALSE))*VLOOKUP(E183,NEB,14,FALSE)),\"\"))))","v":""},null,{"$f":"IF(RIGHT(I183,4)=\"Case\",INDEX('Equipment Type'!$V$4:$V$53, MATCH('Analysis 103L'!$K183, 'Equipment Type'!$A$4:$A$53, 0)), \"\")","v":""},"","","",{"$f":"IF(CI183=\"\", \"\", IF(RIGHT(I183,4)=\"Case\", INDEX('LED Case Lighting'!$AR$3:$AR$16, MATCH('Analysis 103L'!CI183, 'LED Case Lighting'!$AS$3:$AS$16, 0)), \"\"))","v":""},{"$f":"IF(CI183=\"\",\"\",INDEX('LED Case Lighting'!$AW$3:$AW$16,MATCH('Analysis 103L'!CI183,'LED Case Lighting'!$AS$3:$AS$16,0)))","v":""},{"$f":"IF(CI183=\"\",\"\",INDEX('LED Case Lighting'!$AX$3:$AX$16,MATCH('Analysis 103L'!CI183,'LED Case Lighting'!$AS$3:$AS$16,0)))","v":""},""]
[157,null,null,null,null,null,"",null,{"$f":"IF(K184=\"\",\"\",VLOOKUP(K184,'Equipment Type'!$A$1:$F$53,5,FALSE))","v":""},{"$f":"IF(K184=\"\",\"\",VLOOKUP(K184,'Equipment Type'!$A$1:$F$53,6,FALSE))","v":""},null,{"$f":"IF(K184=\"\",\"\",VLOOKUP(K184,'Equipment Type'!$A$1:$F$53,4,FALSE))","v":""},null,{"$f":"IF(K184=\"\",\"\",INDEX('Equipment Type'!$T$4:$T$53,MATCH('Analysis 103L'!K184,'Equipment Type'!$A$4:$A$53,0)))","v":""},"",null,{"$f":"IF(RIGHT(I184, 4)=\"Case\", \"\", IF(P184=\"\",\"\",(IF(ISNUMBER(SEARCH(\"exit\",J184)),8760,IF(B184=\"Exterior\",4380,'Analysis 103L'!$J$3)))))","v":""},null,"","","","","","","","",{"$f":"IF('100L Information'!$Z$5=\"Yes\",0,IF('100L Information'!$Z$4=\"Yes\",(MIN($Y$232-(-$Y$227),6000)*0.5)*(Y184/$Y$232),$Y$232*(Y184/($Y$230+$Y$231))))","v":{"$error":"#VALUE!"}},"",{"$error":"#VALUE!"},"No requirement",0,{"$f":"IF(OR(Z184=\"Does not meet requirement\",AND('100L Information'!$AA$21=\"No\",AL184=\"Y\"),AND('100L Information'!$AS$21=FALSE,AL184=\"Y\")),0,IF(ISNUMBER(R184*Incent_Cost_Fixture_Rx),MIN(R184*Incent_Cost_Fixture_Rx,(MAX(AE184,AK184))),0))","v":0},"FAIL","0","0","0",0,"N","0","0",null,"","",0,"",{"$f":"IF(RIGHT(I184,4)=\"Case\",W184,IF(AND(AL184=\"Y\",AF184<1),0,IF(OR(LEFT(D184,2)=\"T5\",LEFT(D184,3)=\"CFL\",'Analysis 103L'!AS184=\"Less\"),'Analysis 103L'!AR184,'Analysis 103L'!W184)))","v":""},null,0,0,null,{"$error":"#VALUE!"},{"$error":"#VALUE!"},{"$error":"#VALUE!"},null,null,{"$f":"IF(RIGHT(I184,4)=\"Case\",'LED Case Lighting'!$AY$1,IF(J184=\"\",\"\",VLOOKUP(J184,Lookups!$A$30:$J$149,VLOOKUP('100L Information'!$AI$46,Lookups!$J$3:$L$6,3,FALSE),FALSE)))","v":""},{"$error":"#N/A"},"","",{"$error":"#VALUE!"},{"$error":"#VALUE!"},{"$error":"#VALUE!"},{"$error":"#N/A"},0,{"$error":"#N/A"},0,{"$error":"#VALUE!"},{"$error":"#VALUE!"},{"$error":"#VALUE!"},"FAIL",null,null,null,null,null,null,null,"Interior / Exterior",null,"",null,{"$f":"IF(RIGHT(I184,4)=\"Case\",(INDEX('LED Case Lighting'!$AZ$3:$AZ$16,MATCH('Analysis 103L'!$CI184,'LED Case Lighting'!$AS$3:$AS$16,0))),IF(CB184=0,0,IF(CB184=\"lamp\",((Q184/VLOOKUP(B184,Int_Ext,2,FALSE))*VLOOKUP(E184,NEB,16,FALSE)),IF(CB184=\"fixture\",((Q184/VLOOKUP(B184,Int_Ext,2,FALSE))*VLOOKUP(E184,NEB,14,FALSE)),\"\"))))","v":""},null,{"$f":"IF(RIGHT(I184,4)=\"Case\",INDEX('Equipment Type'!$V$4:$V$53, MATCH('Analysis 103L'!$K184, 'Equipment Type'!$A$4:$A$53, 0)), \"\")","v":""},"","","",{"$f":"IF(CI184=\"\", \"\", IF(RIGHT(I184,4)=\"Case\", INDEX('LED Case Lighting'!$AR$3:$AR$16, MATCH('Analysis 103L'!CI184, 'LED Case Lighting'!$AS$3:$AS$16, 0)), \"\"))","v":""},{"$f":"IF(CI184=\"\",\"\",INDEX('LED Case Lighting'!$AW$3:$AW$16,MATCH('Analysis 103L'!CI184,'LED Case Lighting'!$AS$3:$AS$16,0)))","v":""},{"$f":"IF(CI184=\"\",\"\",INDEX('LED Case Lighting'!$AX$3:$AX$16,MATCH('Analysis 103L'!CI184,'LED Case Lighting'!$AS$3:$AS$16,0)))","v":""},""]
[158,null,null,null,null,null,"",null,{"$f":"IF(K185=\"\",\"\",VLOOKUP(K185,'Equipment Type'!$A$1:$F$53,5,FALSE))","v":""},{"$f":"IF(K185=\"\",\"\",VLOOKUP(K185,'Equipment Type'!$A$1:$F$53,6,FALSE))","v":""},null,{"$f":"IF(K185=\"\",\"\",VLOOKUP(K185,'Equipment Type'!$A$1:$F$53,4,FALSE))","v":""},null,{"$f":"IF(K185=\"\",\"\",INDEX('Equipment Type'!$T$4:$T$53,MATCH('Analysis 103L'!K185,'Equipment Type'!$A$4:$A$53,0)))","v":""},"",null,{"$f":"IF(RIGHT(I185, 4)=\"Case\", \"\", IF(P185=\"\",\"\",(IF(ISNUMBER(SEARCH(\"exit\",J185)),8760,IF(B185=\"Exterior\",4380,'Analysis 103L'!$J$3)))))","v":""},null,"","","","","","","","",{"$f":"IF('100L Information'!$Z$5=\"Yes\",0,IF('100L Information'!$Z$4=\"Yes\",(MIN($Y$232-(-$Y$227),6000)*0.5)*(Y185/$Y$232),$Y$232*(Y185/($Y$230+$Y$231))))","v":{"$error":"#VALUE!"}},"",{"$error":"#VALUE!"},"No requirement",0,{"$f":"IF(OR(Z185=\"Does not meet requirement\",AND('100L Information'!$AA$21=\"No\",AL185=\"Y\"),AND('100L Information'!$AS$21=FALSE,AL185=\"Y\")),0,IF(ISNUMBER(R185*Incent_Cost_Fixture_Rx),MIN(R185*Incent_Cost_Fixture_Rx,(MAX(AE185,AK185))),0))","v":0},"FAIL","0","0","0",0,"N","0","0",null,"","",0,"",{"$f":"IF(RIGHT(I185,4)=\"Case\",W185,IF(AND(AL185=\"Y\",AF185<1),0,IF(OR(LEFT(D185,2)=\"T5\",LEFT(D185,3)=\"CFL\",'Analysis 103L'!AS185=\"Less\"),'Analysis 103L'!AR185,'Analysis 103L'!W185)))","v":""},null,0,0,null,{"$error":"#VALUE!"},{"$error":"#VALUE!"},{"$error":"#VALUE!"},null,null,{"$f":"IF(RIGHT(I185,4)=\"Case\",'LED Case Lighting'!$AY$1,IF(J185=\"\",\"\",VLOOKUP(J185,Lookups!$A$30:$J$149,VLOOKUP('100L Information'!$AI$46,Lookups!$J$3:$L$6,3,FALSE),FALSE)))","v":""},{"$error":"#N/A"},"","",{"$error":"#VALUE!"},{"$error":"#VALUE!"},{"$error":"#VALUE!"},{"$error":"#N/A"},0,{"$error":"#N/A"},0,{"$error":"#VALUE!"},{"$error":"#VALUE!"},{"$error":"#VALUE!"},"FAIL",null,null,null,null,null,null,null,"Interior / Exterior",null,"",null,{"$f":"IF(RIGHT(I185,4)=\"Case\",(INDEX('LED Case Lighting'!$AZ$3:$AZ$16,MATCH('Analysis 103L'!$CI185,'LED Case Lighting'!$AS$3:$AS$16,0))),IF(CB185=0,0,IF(CB185=\"lamp\",((Q185/VLOOKUP(B185,Int_Ext,2,FALSE))*VLOOKUP(E185,NEB,16,FALSE)),IF(CB185=\"fixture\",((Q185/VLOOKUP(B185,Int_Ext,2,FALSE))*VLOOKUP(E185,NEB,14,FALSE)),\"\"))))","v":""},null,{"$f":"IF(RIGHT(I185,4)=\"Case\",INDEX('Equipment Type'!$V$4:$V$53, MATCH('Analysis 103L'!$K185, 'Equipment Type'!$A$4:$A$53, 0)), \"\")","v":""},"","","",{"$f":"IF(CI185=\"\", \"\", IF(RIGHT(I185,4)=\"Case\", INDEX('LED Case Lighting'!$AR$3:$AR$16, MATCH('Analysis 103L'!CI185, 'LED Case Lighting'!$AS$3:$AS$16, 0)), \"\"))","v":""},{"$f":"IF(CI185=\"\",\"\",INDEX('LED Case Lighting'!$AW$3:$AW$16,MATCH('Analysis 103L'!CI185,'LED Case Lighting'!$AS$3:$AS$16,0)))","v":""},{"$f":"IF(CI185=\"\",\"\",INDEX('LED Case Lighting'!$AX$3:$AX$16,MATCH('Analysis 103L'!CI185,'LED Case Lighting'!$AS$3:$AS$16,0)))","v":""},""]
[159,null,null,null,null,null,"",null,{"$f":"IF(K186=\"\",\"\",VLOOKUP(K186,'Equipment Type'!$A$1:$F$53,5,FALSE))","v":""},{"$f":"IF(K186=\"\",\"\",VLOOKUP(K186,'Equipment Type'!$A$1:$F$53,6,FALSE))","v":""},null,{"$f":"IF(K186=\"\",\"\",VLOOKUP(K186,'Equipment Type'!$A$1:$F$53,4,FALSE))","v":""},null,{"$f":"IF(K186=\"\",\"\",INDEX('Equipment Type'!$T$4:$T$53,MATCH('Analysis 103L'!K186,'Equipment Type'!$A$4:$A$53,0)))","v":""},"",null,{"$f":"IF(RIGHT(I186, 4)=\"Case\", \"\", IF(P186=\"\",\"\",(IF(ISNUMBER(SEARCH(\"exit\",J186)),8760,IF(B186=\"Exterior\",4380,'Analysis 103L'!$J$3)))))","v":""},null,"","","","","","","","",{"$f":"IF('100L Information'!$Z$5=\"Yes\",0,IF('100L Information'!$Z$4=\"Yes\",(MIN($Y$232-(-$Y$227),6000)*0.5)*(Y186/$Y$232),$Y$232*(Y186/($Y$230+$Y$231))))","v":{"$error":"#VALUE!"}},"",{"$error":"#VALUE!"},"No requirement",0,{"$f":"IF(OR(Z186=\"Does not meet requirement\",AND('100L Information'!$AA$21=\"No\",AL186=\"Y\"),AND('100L Information'!$AS$21=FALSE,AL186=\"Y\")),0,IF(ISNUMBER(R186*Incent_Cost_Fixture_Rx),MIN(R186*Incent_Cost_Fixture_Rx,(MAX(AE186,AK186))),0))","v":0},"FAIL","0","0","0",0,"N","0","0",null,"","",0,"",{"$f":"IF(RIGHT(I186,4)=\"Case\",W186,IF(AND(AL186=\"Y\",AF186<1),0,IF(OR(LEFT(D186,2)=\"T5\",LEFT(D186,3)=\"CFL\",'Analysis 103L'!AS186=\"Less\"),'Analysis 103L'!AR186,'Analysis 103L'!W186)))","v":""},null,0,0,null,{"$error":"#VALUE!"},{"$error":"#VALUE!"},{"$error":"#VALUE!"},null,null,{"$f":"IF(RIGHT(I186,4)=\"Case\",'LED Case Lighting'!$AY$1,IF(J186=\"\",\"\",VLOOKUP(J186,Lookups!$A$30:$J$149,VLOOKUP('100L Information'!$AI$46,Lookups!$J$3:$L$6,3,FALSE),FALSE)))","v":""},{"$error":"#N/A"},"","",{"$error":"#VALUE!"},{"$error":"#VALUE!"},{"$error":"#VALUE!"},{"$error":"#N/A"},0,{"$error":"#N/A"},0,{"$error":"#VALUE!"},{"$error":"#VALUE!"},{"$error":"#VALUE!"},"FAIL",null,null,null,null,null,null,null,"Interior / Exterior",null,"",null,{"$f":"IF(RIGHT(I186,4)=\"Case\",(INDEX('LED Case Lighting'!$AZ$3:$AZ$16,MATCH('Analysis 103L'!$CI186,'LED Case Lighting'!$AS$3:$AS$16,0))),IF(CB186=0,0,IF(CB186=\"lamp\",((Q186/VLOOKUP(B186,Int_Ext,2,FALSE))*VLOOKUP(E186,NEB,16,FALSE)),IF(CB186=\"fixture\",((Q186/VLOOKUP(B186,Int_Ext,2,FALSE))*VLOOKUP(E186,NEB,14,FALSE)),\"\"))))","v":""},null,{"$f":"IF(RIGHT(I186,4)=\"Case\",INDEX('Equipment Type'!$V$4:$V$53, MATCH('Analysis 103L'!$K186, 'Equipment Type'!$A$4:$A$53, 0)), \"\")","v":""},"","","",{"$f":"IF(CI186=\"\", \"\", IF(RIGHT(I186,4)=\"Case\", INDEX('LED Case Lighting'!$AR$3:$AR$16, MATCH('Analysis 103L'!CI186, 'LED Case Lighting'!$AS$3:$AS$16, 0)), \"\"))","v":""},{"$f":"IF(CI186=\"\",\"\",INDEX('LED Case Lighting'!$AW$3:$AW$16,MATCH('Analysis 103L'!CI186,'LED Case Lighting'!$AS$3:$AS$16,0)))","v":""},{"$f":"IF(CI186=\"\",\"\",INDEX('LED Case Lighting'!$AX$3:$AX$16,MATCH('Analysis 103L'!CI186,'LED Case Lighting'!$AS$3:$AS$16,0)))","v":""},""]
[160,null,null,null,null,null,"",null,{"$f":"IF(K187=\"\",\"\",VLOOKUP(K187,'Equipment Type'!$A$1:$F$53,5,FALSE))","v":""},{"$f":"IF(K187=\"\",\"\",VLOOKUP(K187,'Equipment Type'!$A$1:$F$53,6,FALSE))","v":""},null,{"$f":"IF(K187=\"\",\"\",VLOOKUP(K187,'Equipment Type'!$A$1:$F$53,4,FALSE))","v":""},null,{"$f":"IF(K187=\"\",\"\",INDEX('Equipment Type'!$T$4:$T$53,MATCH('Analysis 103L'!K187,'Equipment Type'!$A$4:$A$53,0)))","v":""},"",null,{"$f":"IF(RIGHT(I187, 4)=\"Case\", \"\", IF(P187=\"\",\"\",(IF(ISNUMBER(SEARCH(\"exit\",J187)),8760,IF(B187=\"Exterior\",4380,'Analysis 103L'!$J$3)))))","v":""},null,"","","","","","","","",{"$f":"IF('100L Information'!$Z$5=\"Yes\",0,IF('100L Information'!$Z$4=\"Yes\",(MIN($Y$232-(-$Y$227),6000)*0.5)*(Y187/$Y$232),$Y$232*(Y187/($Y$230+$Y$231))))","v":{"$error":"#VALUE!"}},"",{"$error":"#VALUE!"},"No requirement",0,{"$f":"IF(OR(Z187=\"Does not meet requirement\",AND('100L Information'!$AA$21=\"No\",AL187=\"Y\"),AND('100L Information'!$AS$21=FALSE,AL187=\"Y\")),0,IF(ISNUMBER(R187*Incent_Cost_Fixture_Rx),MIN(R187*Incent_Cost_Fixture_Rx,(MAX(AE187,AK187))),0))","v":0},"FAIL","0","0","0",0,"N","0","0",null,"","",0,"",{"$f":"IF(RIGHT(I187,4)=\"Case\",W187,IF(AND(AL187=\"Y\",AF187<1),0,IF(OR(LEFT(D187,2)=\"T5\",LEFT(D187,3)=\"CFL\",'Analysis 103L'!AS187=\"Less\"),'Analysis 103L'!AR187,'Analysis 103L'!W187)))","v":""},null,0,0,null,{"$error":"#VALUE!"},{"$error":"#VALUE!"},{"$error":"#VALUE!"},null,null,{"$f":"IF(RIGHT(I187,4)=\"Case\",'LED Case Lighting'!$AY$1,IF(J187=\"\",\"\",VLOOKUP(J187,Lookups!$A$30:$J$149,VLOOKUP('100L Information'!$AI$46,Lookups!$J$3:$L$6,3,FALSE),FALSE)))","v":""},{"$error":"#N/A"},"","",{"$error":"#VALUE!"},{"$error":"#VALUE!"},{"$error":"#VALUE!"},{"$error":"#N/A"},0,{"$error":"#N/A"},0,{"$error":"#VALUE!"},{"$error":"#VALUE!"},{"$error":"#VALUE!"},"FAIL",null,null,null,null,null,null,null,"Interior / Exterior",null,"",null,{"$f":"IF(RIGHT(I187,4)=\"Case\",(INDEX('LED Case Lighting'!$AZ$3:$AZ$16,MATCH('Analysis 103L'!$CI187,'LED Case Lighting'!$AS$3:$AS$16,0))),IF(CB187=0,0,IF(CB187=\"lamp\",((Q187/VLOOKUP(B187,Int_Ext,2,FALSE))*VLOOKUP(E187,NEB,16,FALSE)),IF(CB187=\"fixture\",((Q187/VLOOKUP(B187,Int_Ext,2,FALSE))*VLOOKUP(E187,NEB,14,FALSE)),\"\"))))","v":""},null,{"$f":"IF(RIGHT(I187,4)=\"Case\",INDEX('Equipment Type'!$V$4:$V$53, MATCH('Analysis 103L'!$K187, 'Equipment Type'!$A$4:$A$53, 0)), \"\")","v":""},"","","",{"$f":"IF(CI187=\"\", \"\", IF(RIGHT(I187,4)=\"Case\", INDEX('LED Case Lighting'!$AR$3:$AR$16, MATCH('Analysis 103L'!CI187, 'LED Case Lighting'!$AS$3:$AS$16, 0)), \"\"))","v":""},{"$f":"IF(CI187=\"\",\"\",INDEX('LED Case Lighting'!$AW$3:$AW$16,MATCH('Analysis 103L'!CI187,'LED Case Lighting'!$AS$3:$AS$16,0)))","v":""},{"$f":"IF(CI187=\"\",\"\",INDEX('LED Case Lighting'!$AX$3:$AX$16,MATCH('Analysis 103L'!CI187,'LED Case Lighting'!$AS$3:$AS$16,0)))","v":""},""]
[161,null,null,null,null,null,"",null,{"$f":"IF(K188=\"\",\"\",VLOOKUP(K188,'Equipment Type'!$A$1:$F$53,5,FALSE))","v":""},{"$f":"IF(K188=\"\",\"\",VLOOKUP(K188,'Equipment Type'!$A$1:$F$53,6,FALSE))","v":""},null,{"$f":"IF(K188=\"\",\"\",VLOOKUP(K188,'Equipment Type'!$A$1:$F$53,4,FALSE))","v":""},null,{"$f":"IF(K188=\"\",\"\",INDEX('Equipment Type'!$T$4:$T$53,MATCH('Analysis 103L'!K188,'Equipment Type'!$A$4:$A$53,0)))","v":""},"",null,{"$f":"IF(RIGHT(I188, 4)=\"Case\", \"\", IF(P188=\"\",\"\",(IF(ISNUMBER(SEARCH(\"exit\",J188)),8760,IF(B188=\"Exterior\",4380,'Analysis 103L'!$J$3)))))","v":""},null,"","","","","","","",{"$f":"IF(M188 = \"Y\",IF(AND(M188=\"Y\",AG188=\"FAIL\"),\"Not Cost Effective\",\"\"),IF(AD188=1,\"Does not meet requirement\",\"\"))","v":""},{"$f":"IF('100L Information'!$Z$5=\"Yes\",0,IF('100L Information'!$Z$4=\"Yes\",(MIN($Y$232-(-$Y$227),6000)*0.5)*(Y188/$Y$232),$Y$232*(Y188/($Y$230+$Y$231))))","v":{"$error":"#VALUE!"}},"",{"$f":"IF(RIGHT(I188, 4)=\"Case\", \"\", MIN(W188*IF(I188=\"GROW\", RunRateMax_CustomMeasures_Horti, IF(I188=\"Street_Lighting\", RunRateMax_Streetlighting, RunRateMax_CustomMeasures_fixtures)),S188*Incent_Cost_Fixture_Cust))","v":{"$error":"#VALUE!"}},"No requirement",0,{"$f":"IF(OR(Z188=\"Does not meet requirement\",AND('100L Information'!$AA$21=\"No\",AL188=\"Y\"),AND('100L Information'!$AS$21=FALSE,AL188=\"Y\")),0,IF(ISNUMBER(R188*Incent_Cost_Fixture_Rx),MIN(R188*Incent_Cost_Fixture_Rx,(MAX(AE188,AK188))),0))","v":0},{"$f":"IF(AND(M188=\"Y\",BR188=\"PASS/PASS\"),\"PASS/PASS\",\"FAIL\")","v":"FAIL"},"0","0","0",{"$f":"IF(AE188=0,MAX(IF(ISERROR(VLOOKUP(CONCATENATE(J188,\" from \",VLOOKUP(E188,ExistFixtCat,4,FALSE)),PropFixtIncent,2,FALSE)),0,VLOOKUP(CONCATENATE(J188,\" from \",VLOOKUP(E188,ExistFixtCat,4,FALSE)),PropFixtIncent,2,FALSE)),IF(ISERROR(VLOOKUP(CONCATENATE(J188,\" from ANY\"),PropFixtIncent,2,FALSE)),0,VLOOKUP(CONCATENATE(J188,\" from ANY\"),PropFixtIncent,2,FALSE))),0)","v":0},"N",{"$f":"IF(AG188=\"PASS/PASS\",W188,\"0\")","v":"0"},{"$f":"IF(AG188=\"PASS/PASS\",Y188,\"0\")","v":"0"},null,{"$f":"IF(AND($CB188=\"fixture\",OR($D188=\"CFL\",$D188=\"INCAN\")),VLOOKUP(E188,Incan_Lookup,7,FALSE)*$G188*H188+VLOOKUP(E188,Incan_Lookup,6,FALSE)*$N188*P188,IF(AND($CB188=\"lamp\",OR($D188=\"CFL\",$D188=\"INCAN\")),VLOOKUP(E188,Incan_Lookup,10,FALSE)*$G188*H188+VLOOKUP(E188,Incan_Lookup,9,FALSE)*$N188*P188,IF($D188=\"OTHER\",$G188*$H188,IF($CB188=\"lamp\",(VLOOKUP($E188,ExistFixtLookup,10,FALSE)*H188+VLOOKUP($E188,ExistFixtLookup,9,FALSE)*N188*P188),IF($CB188=\"fixture\",(VLOOKUP($E188,ExistFixtLookup,7,FALSE)*H188+VLOOKUP($E188,ExistFixtLookup,6,FALSE)*N188*P188),$G188)))))","v":""},"",{"$f":"IF(AND(ISNUMBER(BD188),ISNUMBER(W188),$CB188=\"lamp\"),(W188*VLOOKUP(E188,ExistFixtLookup,11,FALSE)+AQ188*(BD188-VLOOKUP(E188,ExistFixtLookup,11,FALSE)))/BD188,IF(AND(ISNUMBER(BD188),ISNUMBER(W188),$CB188=\"fixture\"),(W188*VLOOKUP(E188,ExistFixtLookup,8,FALSE)+AQ188*(BD188-VLOOKUP(E188,ExistFixtLookup,8,FALSE)))/BD188,IF(ISNUMBER(W188),W188,0)))","v":0},"",{"$f":"IF(RIGHT(I188,4)=\"Case\",W188,IF(AND(AL188=\"Y\",AF188<1),0,IF(OR(LEFT(D188,2)=\"T5\",LEFT(D188,3)=\"CFL\",'Analysis 103L'!AS188=\"Less\"),'Analysis 103L'!AR188,'Analysis 103L'!W188)))","v":""},null,0,0,null,{"$error":"#VALUE!"},{"$error":"#VALUE!"},{"$error":"#VALUE!"},null,null,{"$f":"IF(RIGHT(I188,4)=\"Case\",'LED Case Lighting'!$AY$1,IF(J188=\"\",\"\",VLOOKUP(J188,Lookups!$A$30:$J$149,VLOOKUP('100L Information'!$AI$46,Lookups!$J$3:$L$6,3,FALSE),FALSE)))","v":""},{"$f":"IF(B188=\"Exterior\", INDEX($BW$28:$BW$40, $BX$229), IF(BusType=\"Manufacturing\", IF(Q188<3500, \"1-Shift Industrial\", IF(Q188<5500, \"2-Shift Industrial\", IF(Q188<8000, \"3-Shift Industrial\", \"FLAT\"))), INDEX($BV$28:$BV$40, $BX$229)))","v":{"$error":"#N/A"}},"","",{"$error":"#VALUE!"},{"$error":"#VALUE!"},{"$error":"#VALUE!"},{"$f":"VLOOKUP(E188,ExistFixtCat,3,FALSE)/(H188*IF(ISNUMBER(VALUE(MID(E188,5,1))),VALUE(MID(E188,5,1)),1)*Q188)","v":{"$error":"#N/A"}},{"$f":"IF(ISERROR(-PV(POWER(1+Discount_Rate,$BK188)-1,$BD188/$BK188,10+VLOOKUP($E188,ExistFixtCat,2,FALSE))),0,-PV(POWER(1+Discount_Rate,$BK188)-1,$BD188/$BK188,10+VLOOKUP($E188,ExistFixtCat,2,FALSE)))","v":0},{"$f":"VLOOKUP($J188,PropOpLife,3,FALSE)/($P188*IF(ISNUMBER(VALUE(MID($J188,5,1))),VALUE(MID($J188,5,1)),1)*$Q188)","v":{"$error":"#N/A"}},{"$f":"IF(OR(ISERROR(-PV(POWER(1+Discount_Rate,$BM188)-1,$BD188/$BM188,MIN(R188,10+0.5*VLOOKUP($J188,PropOpLife,2,FALSE)))),BL188=0),0,-PV(POWER(1+Discount_Rate,$BM188)-1,$BD188/$BM188,MIN(R188,10+0.5*VLOOKUP($J188,PropOpLife,2,FALSE))))","v":0},{"$error":"#VALUE!"},{"$error":"#VALUE!"},{"$error":"#VALUE!"},"FAIL",null,null,null,null,null,null,null,"Interior / Exterior",null,{"$f":"IF(I188=\"\",\"\",VLOOKUP(I188,FixVsLamp,2,FALSE))","v":""},null,{"$f":"IF(RIGHT(I188,4)=\"Case\",(INDEX('LED Case Lighting'!$AZ$3:$AZ$16,MATCH('Analysis 103L'!$CI188,'LED Case Lighting'!$AS$3:$AS$16,0))),IF(CB188=0,0,IF(CB188=\"lamp\",((Q188/VLOOKUP(B188,Int_Ext,2,FALSE))*VLOOKUP(E188,NEB,16,FALSE)),IF(CB188=\"fixture\",((Q188/VLOOKUP(B188,Int_Ext,2,FALSE))*VLOOKUP(E188,NEB,14,FALSE)),\"\"))))","v":""},null,{"$f":"IF(RIGHT(I188,4)=\"Case\",INDEX('Equipment Type'!$V$4:$V$53, MATCH('Analysis 103L'!$K188, 'Equipment Type'!$A$4:$A$53, 0)), \"\")","v":""},"","","",{"$f":"IF(CI188=\"\", \"\", IF(RIGHT(I188,4)=\"Case\", INDEX('LED Case Lighting'!$AR$3:$AR$16, MATCH('Analysis 103L'!CI188, 'LED Case Lighting'!$AS$3:$AS$16, 0)), \"\"))","v":""},{"$f":"IF(CI188=\"\",\"\",INDEX('LED Case Lighting'!$AW$3:$AW$16,MATCH('Analysis 103L'!CI188,'LED Case Lighting'!$AS$3:$AS$16,0)))","v":""},{"$f":"IF(CI188=\"\",\"\",INDEX('LED Case Lighting'!$AX$3:$AX$16,MATCH('Analysis 103L'!CI188,'LED Case Lighting'!$AS$3:$AS$16,0)))","v":""},""]
[162,null,null,null,null,null,"",null,{"$f":"IF(K189=\"\",\"\",VLOOKUP(K189,'Equipment Type'!$A$1:$F$53,5,FALSE))","v":""},{"$f":"IF(K189=\"\",\"\",VLOOKUP(K189,'Equipment Type'!$A$1:$F$53,6,FALSE))","v":""},null,{"$f":"IF(K189=\"\",\"\",VLOOKUP(K189,'Equipment Type'!$A$1:$F$53,4,FALSE))","v":""},null,{"$f":"IF(K189=\"\",\"\",INDEX('Equipment Type'!$T$4:$T$53,MATCH('Analysis 103L'!K189,'Equipment Type'!$A$4:$A$53,0)))","v":""},"",null,{"$f":"IF(RIGHT(I189, 4)=\"Case\", \"\", IF(P189=\"\",\"\",(IF(ISNUMBER(SEARCH(\"exit\",J189)),8760,IF(B189=\"Exterior\",4380,'Analysis 103L'!$J$3)))))","v":""},null,"","","","","","","","",{"$f":"IF('100L Information'!$Z$5=\"Yes\",0,IF('100L Information'!$Z$4=\"Yes\",(MIN($Y$232-(-$Y$227),6000)*0.5)*(Y189/$Y$232),$Y$232*(Y189/($Y$230+$Y$231))))","v":{"$error":"#VALUE!"}},"",{"$error":"#VALUE!"},"No requirement",0,{"$f":"IF(OR(Z189=\"Does not meet requirement\",AND('100L Information'!$AA$21=\"No\",AL189=\"Y\"),AND('100L Information'!$AS$21=FALSE,AL189=\"Y\")),0,IF(ISNUMBER(R189*Incent_Cost_Fixture_Rx),MIN(R189*Incent_Cost_Fixture_Rx,(MAX(AE189,AK189))),0))","v":0},"FAIL","0","0","0",0,"N","0","0",null,"","",0,"",{"$f":"IF(RIGHT(I189,4)=\"Case\",W189,IF(AND(AL189=\"Y\",AF189<1),0,IF(OR(LEFT(D189,2)=\"T5\",LEFT(D189,3)=\"CFL\",'Analysis 103L'!AS189=\"Less\"),'Analysis 103L'!AR189,'Analysis 103L'!W189)))","v":""},null,0,0,null,{"$error":"#VALUE!"},{"$error":"#VALUE!"},{"$error":"#VALUE!"},null,null,{"$f":"IF(RIGHT(I189,4)=\"Case\",'LED Case Lighting'!$AY$1,IF(J189=\"\",\"\",VLOOKUP(J189,Lookups!$A$30:$J$149,VLOOKUP('100L Information'!$AI$46,Lookups!$J$3:$L$6,3,FALSE),FALSE)))","v":""},{"$error":"#N/A"},"","",{"$error":"#VALUE!"},{"$error":"#VALUE!"},{"$error":"#VALUE!"},{"$error":"#N/A"},0,{"$error":"#N/A"},0,{"$error":"#VALUE!"},{"$error":"#VALUE!"},{"$error":"#VALUE!"},"FAIL",null,null,null,null,null,null,null,"Interior / Exterior",null,"",null,{"$f":"IF(RIGHT(I189,4)=\"Case\",(INDEX('LED Case Lighting'!$AZ$3:$AZ$16,MATCH('Analysis 103L'!$CI189,'LED Case Lighting'!$AS$3:$AS$16,0))),IF(CB189=0,0,IF(CB189=\"lamp\",((Q189/VLOOKUP(B189,Int_Ext,2,FALSE))*VLOOKUP(E189,NEB,16,FALSE)),IF(CB189=\"fixture\",((Q189/VLOOKUP(B189,Int_Ext,2,FALSE))*VLOOKUP(E189,NEB,14,FALSE)),\"\"))))","v":""},null,{"$f":"IF(RIGHT(I189,4)=\"Case\",INDEX('Equipment Type'!$V$4:$V$53, MATCH('Analysis 103L'!$K189, 'Equipment Type'!$A$4:$A$53, 0)), \"\")","v":""},"","","",{"$f":"IF(CI189=\"\", \"\", IF(RIGHT(I189,4)=\"Case\", INDEX('LED Case Lighting'!$AR$3:$AR$16, MATCH('Analysis 103L'!CI189, 'LED Case Lighting'!$AS$3:$AS$16, 0)), \"\"))","v":""},{"$f":"IF(CI189=\"\",\"\",INDEX('LED Case Lighting'!$AW$3:$AW$16,MATCH('Analysis 103L'!CI189,'LED Case Lighting'!$AS$3:$AS$16,0)))","v":""},{"$f":"IF(CI189=\"\",\"\",INDEX('LED Case Lighting'!$AX$3:$AX$16,MATCH('Analysis 103L'!CI189,'LED Case Lighting'!$AS$3:$AS$16,0)))","v":""},""]
[163,null,null,null,null,null,"",null,{"$f":"IF(K190=\"\",\"\",VLOOKUP(K190,'Equipment Type'!$A$1:$F$53,5,FALSE))","v":""},{"$f":"IF(K190=\"\",\"\",VLOOKUP(K190,'Equipment Type'!$A$1:$F$53,6,FALSE))","v":""},null,{"$f":"IF(K190=\"\",\"\",VLOOKUP(K190,'Equipment Type'!$A$1:$F$53,4,FALSE))","v":""},null,{"$f":"IF(K190=\"\",\"\",INDEX('Equipment Type'!$T$4:$T$53,MATCH('Analysis 103L'!K190,'Equipment Type'!$A$4:$A$53,0)))","v":""},"",null,{"$f":"IF(RIGHT(I190, 4)=\"Case\", \"\", IF(P190=\"\",\"\",(IF(ISNUMBER(SEARCH(\"exit\",J190)),8760,IF(B190=\"Exterior\",4380,'Analysis 103L'!$J$3)))))","v":""},null,"","","","","","","","",{"$f":"IF('100L Information'!$Z$5=\"Yes\",0,IF('100L Information'!$Z$4=\"Yes\",(MIN($Y$232-(-$Y$227),6000)*0.5)*(Y190/$Y$232),$Y$232*(Y190/($Y$230+$Y$231))))","v":{"$error":"#VALUE!"}},"",{"$error":"#VALUE!"},"No requirement",0,{"$f":"IF(OR(Z190=\"Does not meet requirement\",AND('100L Information'!$AA$21=\"No\",AL190=\"Y\"),AND('100L Information'!$AS$21=FALSE,AL190=\"Y\")),0,IF(ISNUMBER(R190*Incent_Cost_Fixture_Rx),MIN(R190*Incent_Cost_Fixture_Rx,(MAX(AE190,AK190))),0))","v":0},"FAIL","0","0","0",0,"N","0","0",null,"","",0,"",{"$f":"IF(RIGHT(I190,4)=\"Case\",W190,IF(AND(AL190=\"Y\",AF190<1),0,IF(OR(LEFT(D190,2)=\"T5\",LEFT(D190,3)=\"CFL\",'Analysis 103L'!AS190=\"Less\"),'Analysis 103L'!AR190,'Analysis 103L'!W190)))","v":""},null,0,0,null,{"$error":"#VALUE!"},{"$error":"#VALUE!"},{"$error":"#VALUE!"},null,null,{"$f":"IF(RIGHT(I190,4)=\"Case\",'LED Case Lighting'!$AY$1,IF(J190=\"\",\"\",VLOOKUP(J190,Lookups!$A$30:$J$149,VLOOKUP('100L Information'!$AI$46,Lookups!$J$3:$L$6,3,FALSE),FALSE)))","v":""},{"$error":"#N/A"},"","",{"$error":"#VALUE!"},{"$error":"#VALUE!"},{"$error":"#VALUE!"},{"$error":"#N/A"},0,{"$error":"#N/A"},0,{"$error":"#VALUE!"},{"$error":"#VALUE!"},{"$error":"#VALUE!"},"FAIL",null,null,null,null,null,null,null,"Interior / Exterior",null,"",null,{"$f":"IF(RIGHT(I190,4)=\"Case\",(INDEX('LED Case Lighting'!$AZ$3:$AZ$16,MATCH('Analysis 103L'!$CI190,'LED Case Lighting'!$AS$3:$AS$16,0))),IF(CB190=0,0,IF(CB190=\"lamp\",((Q190/VLOOKUP(B190,Int_Ext,2,FALSE))*VLOOKUP(E190,NEB,16,FALSE)),IF(CB190=\"fixture\",((Q190/VLOOKUP(B190,Int_Ext,2,FALSE))*VLOOKUP(E190,NEB,14,FALSE)),\"\"))))","v":""},null,{"$f":"IF(RIGHT(I190,4)=\"Case\",INDEX('Equipment Type'!$V$4:$V$53, MATCH('Analysis 103L'!$K190, 'Equipment Type'!$A$4:$A$53, 0)), \"\")","v":""},"","","",{"$f":"IF(CI190=\"\", \"\", IF(RIGHT(I190,4)=\"Case\", INDEX('LED Case Lighting'!$AR$3:$AR$16, MATCH('Analysis 103L'!CI190, 'LED Case Lighting'!$AS$3:$AS$16, 0)), \"\"))","v":""},{"$f":"IF(CI190=\"\",\"\",INDEX('LED Case Lighting'!$AW$3:$AW$16,MATCH('Analysis 103L'!CI190,'LED Case Lighting'!$AS$3:$AS$16,0)))","v":""},{"$f":"IF(CI190=\"\",\"\",INDEX('LED Case Lighting'!$AX$3:$AX$16,MATCH('Analysis 103L'!CI190,'LED Case Lighting'!$AS$3:$AS$16,0)))","v":""},""]
[164,null,null,null,null,null,"",null,{"$f":"IF(K191=\"\",\"\",VLOOKUP(K191,'Equipment Type'!$A$1:$F$53,5,FALSE))","v":""},{"$f":"IF(K191=\"\",\"\",VLOOKUP(K191,'Equipment Type'!$A$1:$F$53,6,FALSE))","v":""},null,{"$f":"IF(K191=\"\",\"\",VLOOKUP(K191,'Equipment Type'!$A$1:$F$53,4,FALSE))","v":""},null,{"$f":"IF(K191=\"\",\"\",INDEX('Equipment Type'!$T$4:$T$53,MATCH('Analysis 103L'!K191,'Equipment Type'!$A$4:$A$53,0)))","v":""},"",null,{"$f":"IF(RIGHT(I191, 4)=\"Case\", \"\", IF(P191=\"\",\"\",(IF(ISNUMBER(SEARCH(\"exit\",J191)),8760,IF(B191=\"Exterior\",4380,'Analysis 103L'!$J$3)))))","v":""},null,"","","","","","","","",{"$f":"IF('100L Information'!$Z$5=\"Yes\",0,IF('100L Information'!$Z$4=\"Yes\",(MIN($Y$232-(-$Y$227),6000)*0.5)*(Y191/$Y$232),$Y$232*(Y191/($Y$230+$Y$231))))","v":{"$error":"#VALUE!"}},"",{"$error":"#VALUE!"},"No requirement",0,{"$f":"IF(OR(Z191=\"Does not meet requirement\",AND('100L Information'!$AA$21=\"No\",AL191=\"Y\"),AND('100L Information'!$AS$21=FALSE,AL191=\"Y\")),0,IF(ISNUMBER(R191*Incent_Cost_Fixture_Rx),MIN(R191*Incent_Cost_Fixture_Rx,(MAX(AE191,AK191))),0))","v":0},"FAIL","0","0","0",0,"N","0","0",null,"","",0,"",{"$f":"IF(RIGHT(I191,4)=\"Case\",W191,IF(AND(AL191=\"Y\",AF191<1),0,IF(OR(LEFT(D191,2)=\"T5\",LEFT(D191,3)=\"CFL\",'Analysis 103L'!AS191=\"Less\"),'Analysis 103L'!AR191,'Analysis 103L'!W191)))","v":""},null,0,0,null,{"$error":"#VALUE!"},{"$error":"#VALUE!"},{"$error":"#VALUE!"},null,null,{"$f":"IF(RIGHT(I191,4)=\"Case\",'LED Case Lighting'!$AY$1,IF(J191=\"\",\"\",VLOOKUP(J191,Lookups!$A$30:$J$149,VLOOKUP('100L Information'!$AI$46,Lookups!$J$3:$L$6,3,FALSE),FALSE)))","v":""},{"$error":"#N/A"},"","",{"$error":"#VALUE!"},{"$error":"#VALUE!"},{"$error":"#VALUE!"},{"$error":"#N/A"},0,{"$error":"#N/A"},0,{"$error":"#VALUE!"},{"$error":"#VALUE!"},{"$error":"#VALUE!"},"FAIL",null,null,null,null,null,null,null,"Interior / Exterior",null,"",null,{"$f":"IF(RIGHT(I191,4)=\"Case\",(INDEX('LED Case Lighting'!$AZ$3:$AZ$16,MATCH('Analysis 103L'!$CI191,'LED Case Lighting'!$AS$3:$AS$16,0))),IF(CB191=0,0,IF(CB191=\"lamp\",((Q191/VLOOKUP(B191,Int_Ext,2,FALSE))*VLOOKUP(E191,NEB,16,FALSE)),IF(CB191=\"fixture\",((Q191/VLOOKUP(B191,Int_Ext,2,FALSE))*VLOOKUP(E191,NEB,14,FALSE)),\"\"))))","v":""},null,{"$f":"IF(RIGHT(I191,4)=\"Case\",INDEX('Equipment Type'!$V$4:$V$53, MATCH('Analysis 103L'!$K191, 'Equipment Type'!$A$4:$A$53, 0)), \"\")","v":""},"","","",{"$f":"IF(CI191=\"\", \"\", IF(RIGHT(I191,4)=\"Case\", INDEX('LED Case Lighting'!$AR$3:$AR$16, MATCH('Analysis 103L'!CI191, 'LED Case Lighting'!$AS$3:$AS$16, 0)), \"\"))","v":""},{"$f":"IF(CI191=\"\",\"\",INDEX('LED Case Lighting'!$AW$3:$AW$16,MATCH('Analysis 103L'!CI191,'LED Case Lighting'!$AS$3:$AS$16,0)))","v":""},{"$f":"IF(CI191=\"\",\"\",INDEX('LED Case Lighting'!$AX$3:$AX$16,MATCH('Analysis 103L'!CI191,'LED Case Lighting'!$AS$3:$AS$16,0)))","v":""},""]
[165,null,null,null,null,null,{"$f":"IF(E192=\"\",\"\",VLOOKUP(E192,ExistFixtLookup,2,FALSE))","v":""},null,{"$f":"IF(K192=\"\",\"\",VLOOKUP(K192,'Equipment Type'!$A$1:$F$53,5,FALSE))","v":""},{"$f":"IF(K192=\"\",\"\",VLOOKUP(K192,'Equipment Type'!$A$1:$F$53,6,FALSE))","v":""},null,{"$f":"IF(K192=\"\",\"\",VLOOKUP(K192,'Equipment Type'!$A$1:$F$53,4,FALSE))","v":""},null,{"$f":"IF(K192=\"\",\"\",INDEX('Equipment Type'!$T$4:$T$53,MATCH('Analysis 103L'!K192,'Equipment Type'!$A$4:$A$53,0)))","v":""},"",null,{"$f":"IF(RIGHT(I192, 4)=\"Case\", \"\", IF(P192=\"\",\"\",(IF(ISNUMBER(SEARCH(\"exit\",J192)),8760,IF(B192=\"Exterior\",4380,'Analysis 103L'!$J$3)))))","v":""},null,"","","","","","","","",{"$f":"IF('100L Information'!$Z$5=\"Yes\",0,IF('100L Information'!$Z$4=\"Yes\",(MIN($Y$232-(-$Y$227),6000)*0.5)*(Y192/$Y$232),$Y$232*(Y192/($Y$230+$Y$231))))","v":{"$error":"#VALUE!"}},"",{"$error":"#VALUE!"},"No requirement",0,{"$f":"IF(OR(Z192=\"Does not meet requirement\",AND('100L Information'!$AA$21=\"No\",AL192=\"Y\"),AND('100L Information'!$AS$21=FALSE,AL192=\"Y\")),0,IF(ISNUMBER(R192*Incent_Cost_Fixture_Rx),MIN(R192*Incent_Cost_Fixture_Rx,(MAX(AE192,AK192))),0))","v":0},"FAIL","0","0","0",0,"N","0","0",null,"","",0,"",{"$f":"IF(RIGHT(I192,4)=\"Case\",W192,IF(AND(AL192=\"Y\",AF192<1),0,IF(OR(LEFT(D192,2)=\"T5\",LEFT(D192,3)=\"CFL\",'Analysis 103L'!AS192=\"Less\"),'Analysis 103L'!AR192,'Analysis 103L'!W192)))","v":""},null,0,0,null,{"$error":"#VALUE!"},{"$error":"#VALUE!"},{"$error":"#VALUE!"},null,null,{"$f":"IF(RIGHT(I192,4)=\"Case\",'LED Case Lighting'!$AY$1,IF(J192=\"\",\"\",VLOOKUP(J192,Lookups!$A$30:$J$149,VLOOKUP('100L Information'!$AI$46,Lookups!$J$3:$L$6,3,FALSE),FALSE)))","v":""},{"$error":"#N/A"},"","",{"$error":"#VALUE!"},{"$error":"#VALUE!"},{"$error":"#VALUE!"},{"$error":"#N/A"},0,{"$error":"#N/A"},0,{"$error":"#VALUE!"},{"$error":"#VALUE!"},{"$error":"#VALUE!"},"FAIL",null,null,null,null,null,null,null,"Interior / Exterior",null,"",null,{"$f":"IF(RIGHT(I192,4)=\"Case\",(INDEX('LED Case Lighting'!$AZ$3:$AZ$16,MATCH('Analysis 103L'!$CI192,'LED Case Lighting'!$AS$3:$AS$16,0))),IF(CB192=0,0,IF(CB192=\"lamp\",((Q192/VLOOKUP(B192,Int_Ext,2,FALSE))*VLOOKUP(E192,NEB,16,FALSE)),IF(CB192=\"fixture\",((Q192/VLOOKUP(B192,Int_Ext,2,FALSE))*VLOOKUP(E192,NEB,14,FALSE)),\"\"))))","v":""},null,{"$f":"IF(RIGHT(I192,4)=\"Case\",INDEX('Equipment Type'!$V$4:$V$53, MATCH('Analysis 103L'!$K192, 'Equipment Type'!$A$4:$A$53, 0)), \"\")","v":""},"","","",{"$f":"IF(CI192=\"\", \"\", IF(RIGHT(I192,4)=\"Case\", INDEX('LED Case Lighting'!$AR$3:$AR$16, MATCH('Analysis 103L'!CI192, 'LED Case Lighting'!$AS$3:$AS$16, 0)), \"\"))","v":""},{"$f":"IF(CI192=\"\",\"\",INDEX('LED Case Lighting'!$AW$3:$AW$16,MATCH('Analysis 103L'!CI192,'LED Case Lighting'!$AS$3:$AS$16,0)))","v":""},{"$f":"IF(CI192=\"\",\"\",INDEX('LED Case Lighting'!$AX$3:$AX$16,MATCH('Analysis 103L'!CI192,'LED Case Lighting'!$AS$3:$AS$16,0)))","v":""},""]
[166,null,null,null,null,null,"",null,{"$f":"IF(K193=\"\",\"\",VLOOKUP(K193,'Equipment Type'!$A$1:$F$53,5,FALSE))","v":""},{"$f":"IF(K193=\"\",\"\",VLOOKUP(K193,'Equipment Type'!$A$1:$F$53,6,FALSE))","v":""},null,{"$f":"IF(K193=\"\",\"\",VLOOKUP(K193,'Equipment Type'!$A$1:$F$53,4,FALSE))","v":""},null,{"$f":"IF(K193=\"\",\"\",INDEX('Equipment Type'!$T$4:$T$53,MATCH('Analysis 103L'!K193,'Equipment Type'!$A$4:$A$53,0)))","v":""},"",null,{"$f":"IF(RIGHT(I193, 4)=\"Case\", \"\", IF(P193=\"\",\"\",(IF(ISNUMBER(SEARCH(\"exit\",J193)),8760,IF(B193=\"Exterior\",4380,'Analysis 103L'!$J$3)))))","v":""},null,"","","","","","","","",{"$f":"IF('100L Information'!$Z$5=\"Yes\",0,IF('100L Information'!$Z$4=\"Yes\",(MIN($Y$232-(-$Y$227),6000)*0.5)*(Y193/$Y$232),$Y$232*(Y193/($Y$230+$Y$231))))","v":{"$error":"#VALUE!"}},"",{"$error":"#VALUE!"},"No requirement",0,{"$f":"IF(OR(Z193=\"Does not meet requirement\",AND('100L Information'!$AA$21=\"No\",AL193=\"Y\"),AND('100L Information'!$AS$21=FALSE,AL193=\"Y\")),0,IF(ISNUMBER(R193*Incent_Cost_Fixture_Rx),MIN(R193*Incent_Cost_Fixture_Rx,(MAX(AE193,AK193))),0))","v":0},"FAIL","0","0","0",0,"N","0","0",null,"","",0,"",{"$f":"IF(RIGHT(I193,4)=\"Case\",W193,IF(AND(AL193=\"Y\",AF193<1),0,IF(OR(LEFT(D193,2)=\"T5\",LEFT(D193,3)=\"CFL\",'Analysis 103L'!AS193=\"Less\"),'Analysis 103L'!AR193,'Analysis 103L'!W193)))","v":""},null,0,0,null,{"$error":"#VALUE!"},{"$error":"#VALUE!"},{"$error":"#VALUE!"},null,null,{"$f":"IF(RIGHT(I193,4)=\"Case\",'LED Case Lighting'!$AY$1,IF(J193=\"\",\"\",VLOOKUP(J193,Lookups!$A$30:$J$149,VLOOKUP('100L Information'!$AI$46,Lookups!$J$3:$L$6,3,FALSE),FALSE)))","v":""},{"$error":"#N/A"},"","",{"$error":"#VALUE!"},{"$error":"#VALUE!"},{"$error":"#VALUE!"},{"$error":"#N/A"},0,{"$error":"#N/A"},0,{"$error":"#VALUE!"},{"$error":"#VALUE!"},{"$error":"#VALUE!"},"FAIL",null,null,null,null,null,null,null,"Interior / Exterior",null,"",null,{"$f":"IF(RIGHT(I193,4)=\"Case\",(INDEX('LED Case Lighting'!$AZ$3:$AZ$16,MATCH('Analysis 103L'!$CI193,'LED Case Lighting'!$AS$3:$AS$16,0))),IF(CB193=0,0,IF(CB193=\"lamp\",((Q193/VLOOKUP(B193,Int_Ext,2,FALSE))*VLOOKUP(E193,NEB,16,FALSE)),IF(CB193=\"fixture\",((Q193/VLOOKUP(B193,Int_Ext,2,FALSE))*VLOOKUP(E193,NEB,14,FALSE)),\"\"))))","v":""},null,{"$f":"IF(RIGHT(I193,4)=\"Case\",INDEX('Equipment Type'!$V$4:$V$53, MATCH('Analysis 103L'!$K193, 'Equipment Type'!$A$4:$A$53, 0)), \"\")","v":""},"","","",{"$f":"IF(CI193=\"\", \"\", IF(RIGHT(I193,4)=\"Case\", INDEX('LED Case Lighting'!$AR$3:$AR$16, MATCH('Analysis 103L'!CI193, 'LED Case Lighting'!$AS$3:$AS$16, 0)), \"\"))","v":""},{"$f":"IF(CI193=\"\",\"\",INDEX('LED Case Lighting'!$AW$3:$AW$16,MATCH('Analysis 103L'!CI193,'LED Case Lighting'!$AS$3:$AS$16,0)))","v":""},{"$f":"IF(CI193=\"\",\"\",INDEX('LED Case Lighting'!$AX$3:$AX$16,MATCH('Analysis 103L'!CI193,'LED Case Lighting'!$AS$3:$AS$16,0)))","v":""},""]
[167,null,null,null,null,null,"",null,{"$f":"IF(K194=\"\",\"\",VLOOKUP(K194,'Equipment Type'!$A$1:$F$53,5,FALSE))","v":""},{"$f":"IF(K194=\"\",\"\",VLOOKUP(K194,'Equipment Type'!$A$1:$F$53,6,FALSE))","v":""},null,{"$f":"IF(K194=\"\",\"\",VLOOKUP(K194,'Equipment Type'!$A$1:$F$53,4,FALSE))","v":""},null,{"$f":"IF(K194=\"\",\"\",INDEX('Equipment Type'!$T$4:$T$53,MATCH('Analysis 103L'!K194,'Equipment Type'!$A$4:$A$53,0)))","v":""},"",null,{"$f":"IF(RIGHT(I194, 4)=\"Case\", \"\", IF(P194=\"\",\"\",(IF(ISNUMBER(SEARCH(\"exit\",J194)),8760,IF(B194=\"Exterior\",4380,'Analysis 103L'!$J$3)))))","v":""},null,"","","","","","","","",{"$f":"IF('100L Information'!$Z$5=\"Yes\",0,IF('100L Information'!$Z$4=\"Yes\",(MIN($Y$232-(-$Y$227),6000)*0.5)*(Y194/$Y$232),$Y$232*(Y194/($Y$230+$Y$231))))","v":{"$error":"#VALUE!"}},"",{"$error":"#VALUE!"},"No requirement",0,{"$f":"IF(OR(Z194=\"Does not meet requirement\",AND('100L Information'!$AA$21=\"No\",AL194=\"Y\"),AND('100L Information'!$AS$21=FALSE,AL194=\"Y\")),0,IF(ISNUMBER(R194*Incent_Cost_Fixture_Rx),MIN(R194*Incent_Cost_Fixture_Rx,(MAX(AE194,AK194))),0))","v":0},"FAIL","0","0","0",0,"N","0","0",null,"","",0,"",{"$f":"IF(RIGHT(I194,4)=\"Case\",W194,IF(AND(AL194=\"Y\",AF194<1),0,IF(OR(LEFT(D194,2)=\"T5\",LEFT(D194,3)=\"CFL\",'Analysis 103L'!AS194=\"Less\"),'Analysis 103L'!AR194,'Analysis 103L'!W194)))","v":""},null,0,0,null,{"$error":"#VALUE!"},{"$error":"#VALUE!"},{"$error":"#VALUE!"},null,null,{"$f":"IF(RIGHT(I194,4)=\"Case\",'LED Case Lighting'!$AY$1,IF(J194=\"\",\"\",VLOOKUP(J194,Lookups!$A$30:$J$149,VLOOKUP('100L Information'!$AI$46,Lookups!$J$3:$L$6,3,FALSE),FALSE)))","v":""},{"$error":"#N/A"},"","",{"$error":"#VALUE!"},{"$error":"#VALUE!"},{"$error":"#VALUE!"},{"$error":"#N/A"},0,{"$error":"#N/A"},0,{"$error":"#VALUE!"},{"$error":"#VALUE!"},{"$error":"#VALUE!"},"FAIL",null,null,null,null,null,null,null,"Interior / Exterior",null,"",null,{"$f":"IF(RIGHT(I194,4)=\"Case\",(INDEX('LED Case Lighting'!$AZ$3:$AZ$16,MATCH('Analysis 103L'!$CI194,'LED Case Lighting'!$AS$3:$AS$16,0))),IF(CB194=0,0,IF(CB194=\"lamp\",((Q194/VLOOKUP(B194,Int_Ext,2,FALSE))*VLOOKUP(E194,NEB,16,FALSE)),IF(CB194=\"fixture\",((Q194/VLOOKUP(B194,Int_Ext,2,FALSE))*VLOOKUP(E194,NEB,14,FALSE)),\"\"))))","v":""},null,{"$f":"IF(RIGHT(I194,4)=\"Case\",INDEX('Equipment Type'!$V$4:$V$53, MATCH('Analysis 103L'!$K194, 'Equipment Type'!$A$4:$A$53, 0)), \"\")","v":""},"","","",{"$f":"IF(CI194=\"\", \"\", IF(RIGHT(I194,4)=\"Case\", INDEX('LED Case Lighting'!$AR$3:$AR$16, MATCH('Analysis 103L'!CI194, 'LED Case Lighting'!$AS$3:$AS$16, 0)), \"\"))","v":""},{"$f":"IF(CI194=\"\",\"\",INDEX('LED Case Lighting'!$AW$3:$AW$16,MATCH('Analysis 103L'!CI194,'LED Case Lighting'!$AS$3:$AS$16,0)))","v":""},{"$f":"IF(CI194=\"\",\"\",INDEX('LED Case Lighting'!$AX$3:$AX$16,MATCH('Analysis 103L'!CI194,'LED Case Lighting'!$AS$3:$AS$16,0)))","v":""},""]
[168,null,null,null,null,null,"",null,{"$f":"IF(K195=\"\",\"\",VLOOKUP(K195,'Equipment Type'!$A$1:$F$53,5,FALSE))","v":""},{"$f":"IF(K195=\"\",\"\",VLOOKUP(K195,'Equipment Type'!$A$1:$F$53,6,FALSE))","v":""},null,{"$f":"IF(K195=\"\",\"\",VLOOKUP(K195,'Equipment Type'!$A$1:$F$53,4,FALSE))","v":""},null,{"$f":"IF(K195=\"\",\"\",INDEX('Equipment Type'!$T$4:$T$53,MATCH('Analysis 103L'!K195,'Equipment Type'!$A$4:$A$53,0)))","v":""},"",null,{"$f":"IF(RIGHT(I195, 4)=\"Case\", \"\", IF(P195=\"\",\"\",(IF(ISNUMBER(SEARCH(\"exit\",J195)),8760,IF(B195=\"Exterior\",4380,'Analysis 103L'!$J$3)))))","v":""},null,"","","","","","","","",{"$f":"IF('100L Information'!$Z$5=\"Yes\",0,IF('100L Information'!$Z$4=\"Yes\",(MIN($Y$232-(-$Y$227),6000)*0.5)*(Y195/$Y$232),$Y$232*(Y195/($Y$230+$Y$231))))","v":{"$error":"#VALUE!"}},"",{"$error":"#VALUE!"},"No requirement",0,{"$f":"IF(OR(Z195=\"Does not meet requirement\",AND('100L Information'!$AA$21=\"No\",AL195=\"Y\"),AND('100L Information'!$AS$21=FALSE,AL195=\"Y\")),0,IF(ISNUMBER(R195*Incent_Cost_Fixture_Rx),MIN(R195*Incent_Cost_Fixture_Rx,(MAX(AE195,AK195))),0))","v":0},"FAIL","0","0","0",0,"N","0","0",null,"","",0,"",{"$f":"IF(RIGHT(I195,4)=\"Case\",W195,IF(AND(AL195=\"Y\",AF195<1),0,IF(OR(LEFT(D195,2)=\"T5\",LEFT(D195,3)=\"CFL\",'Analysis 103L'!AS195=\"Less\"),'Analysis 103L'!AR195,'Analysis 103L'!W195)))","v":""},null,0,0,null,{"$error":"#VALUE!"},{"$error":"#VALUE!"},{"$error":"#VALUE!"},null,null,{"$f":"IF(RIGHT(I195,4)=\"Case\",'LED Case Lighting'!$AY$1,IF(J195=\"\",\"\",VLOOKUP(J195,Lookups!$A$30:$J$149,VLOOKUP('100L Information'!$AI$46,Lookups!$J$3:$L$6,3,FALSE),FALSE)))","v":""},{"$error":"#N/A"},"","",{"$error":"#VALUE!"},{"$error":"#VALUE!"},{"$error":"#VALUE!"},{"$error":"#N/A"},0,{"$error":"#N/A"},0,{"$error":"#VALUE!"},{"$error":"#VALUE!"},{"$error":"#VALUE!"},"FAIL",null,null,null,null,null,null,null,"Interior / Exterior",null,"",null,{"$f":"IF(RIGHT(I195,4)=\"Case\",(INDEX('LED Case Lighting'!$AZ$3:$AZ$16,MATCH('Analysis 103L'!$CI195,'LED Case Lighting'!$AS$3:$AS$16,0))),IF(CB195=0,0,IF(CB195=\"lamp\",((Q195/VLOOKUP(B195,Int_Ext,2,FALSE))*VLOOKUP(E195,NEB,16,FALSE)),IF(CB195=\"fixture\",((Q195/VLOOKUP(B195,Int_Ext,2,FALSE))*VLOOKUP(E195,NEB,14,FALSE)),\"\"))))","v":""},null,{"$f":"IF(RIGHT(I195,4)=\"Case\",INDEX('Equipment Type'!$V$4:$V$53, MATCH('Analysis 103L'!$K195, 'Equipment Type'!$A$4:$A$53, 0)), \"\")","v":""},"","","",{"$f":"IF(CI195=\"\", \"\", IF(RIGHT(I195,4)=\"Case\", INDEX('LED Case Lighting'!$AR$3:$AR$16, MATCH('Analysis 103L'!CI195, 'LED Case Lighting'!$AS$3:$AS$16, 0)), \"\"))","v":""},{"$f":"IF(CI195=\"\",\"\",INDEX('LED Case Lighting'!$AW$3:$AW$16,MATCH('Analysis 103L'!CI195,'LED Case Lighting'!$AS$3:$AS$16,0)))","v":""},{"$f":"IF(CI195=\"\",\"\",INDEX('LED Case Lighting'!$AX$3:$AX$16,MATCH('Analysis 103L'!CI195,'LED Case Lighting'!$AS$3:$AS$16,0)))","v":""},""]
[169,null,null,null,null,null,"",null,{"$f":"IF(K196=\"\",\"\",VLOOKUP(K196,'Equipment Type'!$A$1:$F$53,5,FALSE))","v":""},{"$f":"IF(K196=\"\",\"\",VLOOKUP(K196,'Equipment Type'!$A$1:$F$53,6,FALSE))","v":""},null,{"$f":"IF(K196=\"\",\"\",VLOOKUP(K196,'Equipment Type'!$A$1:$F$53,4,FALSE))","v":""},null,{"$f":"IF(K196=\"\",\"\",INDEX('Equipment Type'!$T$4:$T$53,MATCH('Analysis 103L'!K196,'Equipment Type'!$A$4:$A$53,0)))","v":""},"",null,{"$f":"IF(RIGHT(I196, 4)=\"Case\", \"\", IF(P196=\"\",\"\",(IF(ISNUMBER(SEARCH(\"exit\",J196)),8760,IF(B196=\"Exterior\",4380,'Analysis 103L'!$J$3)))))","v":""},null,"","","","","","","","",{"$f":"IF('100L Information'!$Z$5=\"Yes\",0,IF('100L Information'!$Z$4=\"Yes\",(MIN($Y$232-(-$Y$227),6000)*0.5)*(Y196/$Y$232),$Y$232*(Y196/($Y$230+$Y$231))))","v":{"$error":"#VALUE!"}},"",{"$error":"#VALUE!"},"No requirement",0,{"$f":"IF(OR(Z196=\"Does not meet requirement\",AND('100L Information'!$AA$21=\"No\",AL196=\"Y\"),AND('100L Information'!$AS$21=FALSE,AL196=\"Y\")),0,IF(ISNUMBER(R196*Incent_Cost_Fixture_Rx),MIN(R196*Incent_Cost_Fixture_Rx,(MAX(AE196,AK196))),0))","v":0},"FAIL","0","0","0",0,"N","0","0",null,"","",0,"",{"$f":"IF(RIGHT(I196,4)=\"Case\",W196,IF(AND(AL196=\"Y\",AF196<1),0,IF(OR(LEFT(D196,2)=\"T5\",LEFT(D196,3)=\"CFL\",'Analysis 103L'!AS196=\"Less\"),'Analysis 103L'!AR196,'Analysis 103L'!W196)))","v":""},null,0,0,null,{"$error":"#VALUE!"},{"$error":"#VALUE!"},{"$error":"#VALUE!"},null,null,{"$f":"IF(RIGHT(I196,4)=\"Case\",'LED Case Lighting'!$AY$1,IF(J196=\"\",\"\",VLOOKUP(J196,Lookups!$A$30:$J$149,VLOOKUP('100L Information'!$AI$46,Lookups!$J$3:$L$6,3,FALSE),FALSE)))","v":""},{"$error":"#N/A"},"","",{"$error":"#VALUE!"},{"$error":"#VALUE!"},{"$error":"#VALUE!"},{"$error":"#N/A"},0,{"$error":"#N/A"},0,{"$error":"#VALUE!"},{"$error":"#VALUE!"},{"$error":"#VALUE!"},"FAIL",null,null,null,null,null,null,null,"Interior / Exterior",null,"",null,{"$f":"IF(RIGHT(I196,4)=\"Case\",(INDEX('LED Case Lighting'!$AZ$3:$AZ$16,MATCH('Analysis 103L'!$CI196,'LED Case Lighting'!$AS$3:$AS$16,0))),IF(CB196=0,0,IF(CB196=\"lamp\",((Q196/VLOOKUP(B196,Int_Ext,2,FALSE))*VLOOKUP(E196,NEB,16,FALSE)),IF(CB196=\"fixture\",((Q196/VLOOKUP(B196,Int_Ext,2,FALSE))*VLOOKUP(E196,NEB,14,FALSE)),\"\"))))","v":""},null,{"$f":"IF(RIGHT(I196,4)=\"Case\",INDEX('Equipment Type'!$V$4:$V$53, MATCH('Analysis 103L'!$K196, 'Equipment Type'!$A$4:$A$53, 0)), \"\")","v":""},"","","",{"$f":"IF(CI196=\"\", \"\", IF(RIGHT(I196,4)=\"Case\", INDEX('LED Case Lighting'!$AR$3:$AR$16, MATCH('Analysis 103L'!CI196, 'LED Case Lighting'!$AS$3:$AS$16, 0)), \"\"))","v":""},{"$f":"IF(CI196=\"\",\"\",INDEX('LED Case Lighting'!$AW$3:$AW$16,MATCH('Analysis 103L'!CI196,'LED Case Lighting'!$AS$3:$AS$16,0)))","v":""},{"$f":"IF(CI196=\"\",\"\",INDEX('LED Case Lighting'!$AX$3:$AX$16,MATCH('Analysis 103L'!CI196,'LED Case Lighting'!$AS$3:$AS$16,0)))","v":""},""]
[170,null,null,null,null,null,"",null,{"$f":"IF(K197=\"\",\"\",VLOOKUP(K197,'Equipment Type'!$A$1:$F$53,5,FALSE))","v":""},{"$f":"IF(K197=\"\",\"\",VLOOKUP(K197,'Equipment Type'!$A$1:$F$53,6,FALSE))","v":""},null,{"$f":"IF(K197=\"\",\"\",VLOOKUP(K197,'Equipment Type'!$A$1:$F$53,4,FALSE))","v":""},null,{"$f":"IF(K197=\"\",\"\",INDEX('Equipment Type'!$T$4:$T$53,MATCH('Analysis 103L'!K197,'Equipment Type'!$A$4:$A$53,0)))","v":""},"",null,{"$f":"IF(RIGHT(I197, 4)=\"Case\", \"\", IF(P197=\"\",\"\",(IF(ISNUMBER(SEARCH(\"exit\",J197)),8760,IF(B197=\"Exterior\",4380,'Analysis 103L'!$J$3)))))","v":""},null,"","","","","","","","",{"$f":"IF('100L Information'!$Z$5=\"Yes\",0,IF('100L Information'!$Z$4=\"Yes\",(MIN($Y$232-(-$Y$227),6000)*0.5)*(Y197/$Y$232),$Y$232*(Y197/($Y$230+$Y$231))))","v":{"$error":"#VALUE!"}},"",{"$error":"#VALUE!"},"No requirement",0,{"$f":"IF(OR(Z197=\"Does not meet requirement\",AND('100L Information'!$AA$21=\"No\",AL197=\"Y\"),AND('100L Information'!$AS$21=FALSE,AL197=\"Y\")),0,IF(ISNUMBER(R197*Incent_Cost_Fixture_Rx),MIN(R197*Incent_Cost_Fixture_Rx,(MAX(AE197,AK197))),0))","v":0},"FAIL","0","0","0",0,"N","0","0",null,"","",0,"",{"$f":"IF(RIGHT(I197,4)=\"Case\",W197,IF(AND(AL197=\"Y\",AF197<1),0,IF(OR(LEFT(D197,2)=\"T5\",LEFT(D197,3)=\"CFL\",'Analysis 103L'!AS197=\"Less\"),'Analysis 103L'!AR197,'Analysis 103L'!W197)))","v":""},null,0,0,null,{"$error":"#VALUE!"},{"$error":"#VALUE!"},{"$error":"#VALUE!"},null,null,{"$f":"IF(RIGHT(I197,4)=\"Case\",'LED Case Lighting'!$AY$1,IF(J197=\"\",\"\",VLOOKUP(J197,Lookups!$A$30:$J$149,VLOOKUP('100L Information'!$AI$46,Lookups!$J$3:$L$6,3,FALSE),FALSE)))","v":""},{"$error":"#N/A"},"","",{"$error":"#VALUE!"},{"$error":"#VALUE!"},{"$error":"#VALUE!"},{"$error":"#N/A"},0,{"$error":"#N/A"},0,{"$error":"#VALUE!"},{"$error":"#VALUE!"},{"$error":"#VALUE!"},"FAIL",null,null,null,null,null,null,null,"Interior / Exterior",null,"",null,{"$f":"IF(RIGHT(I197,4)=\"Case\",(INDEX('LED Case Lighting'!$AZ$3:$AZ$16,MATCH('Analysis 103L'!$CI197,'LED Case Lighting'!$AS$3:$AS$16,0))),IF(CB197=0,0,IF(CB197=\"lamp\",((Q197/VLOOKUP(B197,Int_Ext,2,FALSE))*VLOOKUP(E197,NEB,16,FALSE)),IF(CB197=\"fixture\",((Q197/VLOOKUP(B197,Int_Ext,2,FALSE))*VLOOKUP(E197,NEB,14,FALSE)),\"\"))))","v":""},null,{"$f":"IF(RIGHT(I197,4)=\"Case\",INDEX('Equipment Type'!$V$4:$V$53, MATCH('Analysis 103L'!$K197, 'Equipment Type'!$A$4:$A$53, 0)), \"\")","v":""},"","","",{"$f":"IF(CI197=\"\", \"\", IF(RIGHT(I197,4)=\"Case\", INDEX('LED Case Lighting'!$AR$3:$AR$16, MATCH('Analysis 103L'!CI197, 'LED Case Lighting'!$AS$3:$AS$16, 0)), \"\"))","v":""},{"$f":"IF(CI197=\"\",\"\",INDEX('LED Case Lighting'!$AW$3:$AW$16,MATCH('Analysis 103L'!CI197,'LED Case Lighting'!$AS$3:$AS$16,0)))","v":""},{"$f":"IF(CI197=\"\",\"\",INDEX('LED Case Lighting'!$AX$3:$AX$16,MATCH('Analysis 103L'!CI197,'LED Case Lighting'!$AS$3:$AS$16,0)))","v":""},""]
[171,null,null,null,null,null,"",null,{"$f":"IF(K198=\"\",\"\",VLOOKUP(K198,'Equipment Type'!$A$1:$F$53,5,FALSE))","v":""},{"$f":"IF(K198=\"\",\"\",VLOOKUP(K198,'Equipment Type'!$A$1:$F$53,6,FALSE))","v":""},null,{"$f":"IF(K198=\"\",\"\",VLOOKUP(K198,'Equipment Type'!$A$1:$F$53,4,FALSE))","v":""},null,{"$f":"IF(K198=\"\",\"\",INDEX('Equipment Type'!$T$4:$T$53,MATCH('Analysis 103L'!K198,'Equipment Type'!$A$4:$A$53,0)))","v":""},"",null,{"$f":"IF(RIGHT(I198, 4)=\"Case\", \"\", IF(P198=\"\",\"\",(IF(ISNUMBER(SEARCH(\"exit\",J198)),8760,IF(B198=\"Exterior\",4380,'Analysis 103L'!$J$3)))))","v":""},null,"","","","","","","","",{"$f":"IF('100L Information'!$Z$5=\"Yes\",0,IF('100L Information'!$Z$4=\"Yes\",(MIN($Y$232-(-$Y$227),6000)*0.5)*(Y198/$Y$232),$Y$232*(Y198/($Y$230+$Y$231))))","v":{"$error":"#VALUE!"}},"",{"$error":"#VALUE!"},"No requirement",0,{"$f":"IF(OR(Z198=\"Does not meet requirement\",AND('100L Information'!$AA$21=\"No\",AL198=\"Y\"),AND('100L Information'!$AS$21=FALSE,AL198=\"Y\")),0,IF(ISNUMBER(R198*Incent_Cost_Fixture_Rx),MIN(R198*Incent_Cost_Fixture_Rx,(MAX(AE198,AK198))),0))","v":0},"FAIL","0","0","0",0,"N","0","0",null,"","",0,"",{"$f":"IF(RIGHT(I198,4)=\"Case\",W198,IF(AND(AL198=\"Y\",AF198<1),0,IF(OR(LEFT(D198,2)=\"T5\",LEFT(D198,3)=\"CFL\",'Analysis 103L'!AS198=\"Less\"),'Analysis 103L'!AR198,'Analysis 103L'!W198)))","v":""},null,0,0,null,{"$error":"#VALUE!"},{"$error":"#VALUE!"},{"$error":"#VALUE!"},null,null,{"$f":"IF(RIGHT(I198,4)=\"Case\",'LED Case Lighting'!$AY$1,IF(J198=\"\",\"\",VLOOKUP(J198,Lookups!$A$30:$J$149,VLOOKUP('100L Information'!$AI$46,Lookups!$J$3:$L$6,3,FALSE),FALSE)))","v":""},{"$error":"#N/A"},"","",{"$error":"#VALUE!"},{"$error":"#VALUE!"},{"$error":"#VALUE!"},{"$error":"#N/A"},0,{"$error":"#N/A"},0,{"$error":"#VALUE!"},{"$error":"#VALUE!"},{"$error":"#VALUE!"},"FAIL",null,null,null,null,null,null,null,"Interior / Exterior",null,"",null,{"$f":"IF(RIGHT(I198,4)=\"Case\",(INDEX('LED Case Lighting'!$AZ$3:$AZ$16,MATCH('Analysis 103L'!$CI198,'LED Case Lighting'!$AS$3:$AS$16,0))),IF(CB198=0,0,IF(CB198=\"lamp\",((Q198/VLOOKUP(B198,Int_Ext,2,FALSE))*VLOOKUP(E198,NEB,16,FALSE)),IF(CB198=\"fixture\",((Q198/VLOOKUP(B198,Int_Ext,2,FALSE))*VLOOKUP(E198,NEB,14,FALSE)),\"\"))))","v":""},null,{"$f":"IF(RIGHT(I198,4)=\"Case\",INDEX('Equipment Type'!$V$4:$V$53, MATCH('Analysis 103L'!$K198, 'Equipment Type'!$A$4:$A$53, 0)), \"\")","v":""},"","","",{"$f":"IF(CI198=\"\", \"\", IF(RIGHT(I198,4)=\"Case\", INDEX('LED Case Lighting'!$AR$3:$AR$16, MATCH('Analysis 103L'!CI198, 'LED Case Lighting'!$AS$3:$AS$16, 0)), \"\"))","v":""},{"$f":"IF(CI198=\"\",\"\",INDEX('LED Case Lighting'!$AW$3:$AW$16,MATCH('Analysis 103L'!CI198,'LED Case Lighting'!$AS$3:$AS$16,0)))","v":""},{"$f":"IF(CI198=\"\",\"\",INDEX('LED Case Lighting'!$AX$3:$AX$16,MATCH('Analysis 103L'!CI198,'LED Case Lighting'!$AS$3:$AS$16,0)))","v":""},""]
[172,null,null,null,null,null,"",null,{"$f":"IF(K199=\"\",\"\",VLOOKUP(K199,'Equipment Type'!$A$1:$F$53,5,FALSE))","v":""},{"$f":"IF(K199=\"\",\"\",VLOOKUP(K199,'Equipment Type'!$A$1:$F$53,6,FALSE))","v":""},null,{"$f":"IF(K199=\"\",\"\",VLOOKUP(K199,'Equipment Type'!$A$1:$F$53,4,FALSE))","v":""},null,{"$f":"IF(K199=\"\",\"\",INDEX('Equipment Type'!$T$4:$T$53,MATCH('Analysis 103L'!K199,'Equipment Type'!$A$4:$A$53,0)))","v":""},"",null,{"$f":"IF(RIGHT(I199, 4)=\"Case\", \"\", IF(P199=\"\",\"\",(IF(ISNUMBER(SEARCH(\"exit\",J199)),8760,IF(B199=\"Exterior\",4380,'Analysis 103L'!$J$3)))))","v":""},null,"","","","","","","","",{"$f":"IF('100L Information'!$Z$5=\"Yes\",0,IF('100L Information'!$Z$4=\"Yes\",(MIN($Y$232-(-$Y$227),6000)*0.5)*(Y199/$Y$232),$Y$232*(Y199/($Y$230+$Y$231))))","v":{"$error":"#VALUE!"}},"",{"$error":"#VALUE!"},"No requirement",0,{"$f":"IF(OR(Z199=\"Does not meet requirement\",AND('100L Information'!$AA$21=\"No\",AL199=\"Y\"),AND('100L Information'!$AS$21=FALSE,AL199=\"Y\")),0,IF(ISNUMBER(R199*Incent_Cost_Fixture_Rx),MIN(R199*Incent_Cost_Fixture_Rx,(MAX(AE199,AK199))),0))","v":0},"FAIL","0","0","0",0,"N","0","0",null,"","",0,"",{"$f":"IF(RIGHT(I199,4)=\"Case\",W199,IF(AND(AL199=\"Y\",AF199<1),0,IF(OR(LEFT(D199,2)=\"T5\",LEFT(D199,3)=\"CFL\",'Analysis 103L'!AS199=\"Less\"),'Analysis 103L'!AR199,'Analysis 103L'!W199)))","v":""},null,0,0,null,{"$error":"#VALUE!"},{"$error":"#VALUE!"},{"$error":"#VALUE!"},null,null,{"$f":"IF(RIGHT(I199,4)=\"Case\",'LED Case Lighting'!$AY$1,IF(J199=\"\",\"\",VLOOKUP(J199,Lookups!$A$30:$J$149,VLOOKUP('100L Information'!$AI$46,Lookups!$J$3:$L$6,3,FALSE),FALSE)))","v":""},{"$error":"#N/A"},"","",{"$error":"#VALUE!"},{"$error":"#VALUE!"},{"$error":"#VALUE!"},{"$error":"#N/A"},0,{"$error":"#N/A"},0,{"$error":"#VALUE!"},{"$error":"#VALUE!"},{"$error":"#VALUE!"},"FAIL",null,null,null,null,null,null,null,"Interior / Exterior",null,"",null,{"$f":"IF(RIGHT(I199,4)=\"Case\",(INDEX('LED Case Lighting'!$AZ$3:$AZ$16,MATCH('Analysis 103L'!$CI199,'LED Case Lighting'!$AS$3:$AS$16,0))),IF(CB199=0,0,IF(CB199=\"lamp\",((Q199/VLOOKUP(B199,Int_Ext,2,FALSE))*VLOOKUP(E199,NEB,16,FALSE)),IF(CB199=\"fixture\",((Q199/VLOOKUP(B199,Int_Ext,2,FALSE))*VLOOKUP(E199,NEB,14,FALSE)),\"\"))))","v":""},null,{"$f":"IF(RIGHT(I199,4)=\"Case\",INDEX('Equipment Type'!$V$4:$V$53, MATCH('Analysis 103L'!$K199, 'Equipment Type'!$A$4:$A$53, 0)), \"\")","v":""},"","","",{"$f":"IF(CI199=\"\", \"\", IF(RIGHT(I199,4)=\"Case\", INDEX('LED Case Lighting'!$AR$3:$AR$16, MATCH('Analysis 103L'!CI199, 'LED Case Lighting'!$AS$3:$AS$16, 0)), \"\"))","v":""},{"$f":"IF(CI199=\"\",\"\",INDEX('LED Case Lighting'!$AW$3:$AW$16,MATCH('Analysis 103L'!CI199,'LED Case Lighting'!$AS$3:$AS$16,0)))","v":""},{"$f":"IF(CI199=\"\",\"\",INDEX('LED Case Lighting'!$AX$3:$AX$16,MATCH('Analysis 103L'!CI199,'LED Case Lighting'!$AS$3:$AS$16,0)))","v":""},""]
[173,null,null,null,null,null,"",null,{"$f":"IF(K200=\"\",\"\",VLOOKUP(K200,'Equipment Type'!$A$1:$F$53,5,FALSE))","v":""},{"$f":"IF(K200=\"\",\"\",VLOOKUP(K200,'Equipment Type'!$A$1:$F$53,6,FALSE))","v":""},null,{"$f":"IF(K200=\"\",\"\",VLOOKUP(K200,'Equipment Type'!$A$1:$F$53,4,FALSE))","v":""},null,{"$f":"IF(K200=\"\",\"\",INDEX('Equipment Type'!$T$4:$T$53,MATCH('Analysis 103L'!K200,'Equipment Type'!$A$4:$A$53,0)))","v":""},"",null,{"$f":"IF(RIGHT(I200, 4)=\"Case\", \"\", IF(P200=\"\",\"\",(IF(ISNUMBER(SEARCH(\"exit\",J200)),8760,IF(B200=\"Exterior\",4380,'Analysis 103L'!$J$3)))))","v":""},null,"","","","","","","","",{"$f":"IF('100L Information'!$Z$5=\"Yes\",0,IF('100L Information'!$Z$4=\"Yes\",(MIN($Y$232-(-$Y$227),6000)*0.5)*(Y200/$Y$232),$Y$232*(Y200/($Y$230+$Y$231))))","v":{"$error":"#VALUE!"}},"",{"$error":"#VALUE!"},"No requirement",0,{"$f":"IF(OR(Z200=\"Does not meet requirement\",AND('100L Information'!$AA$21=\"No\",AL200=\"Y\"),AND('100L Information'!$AS$21=FALSE,AL200=\"Y\")),0,IF(ISNUMBER(R200*Incent_Cost_Fixture_Rx),MIN(R200*Incent_Cost_Fixture_Rx,(MAX(AE200,AK200))),0))","v":0},"FAIL","0","0","0",0,"N","0","0",null,"","",0,"",{"$f":"IF(RIGHT(I200,4)=\"Case\",W200,IF(AND(AL200=\"Y\",AF200<1),0,IF(OR(LEFT(D200,2)=\"T5\",LEFT(D200,3)=\"CFL\",'Analysis 103L'!AS200=\"Less\"),'Analysis 103L'!AR200,'Analysis 103L'!W200)))","v":""},null,0,0,null,{"$error":"#VALUE!"},{"$error":"#VALUE!"},{"$error":"#VALUE!"},null,null,{"$f":"IF(RIGHT(I200,4)=\"Case\",'LED Case Lighting'!$AY$1,IF(J200=\"\",\"\",VLOOKUP(J200,Lookups!$A$30:$J$149,VLOOKUP('100L Information'!$AI$46,Lookups!$J$3:$L$6,3,FALSE),FALSE)))","v":""},{"$error":"#N/A"},"","",{"$error":"#VALUE!"},{"$error":"#VALUE!"},{"$error":"#VALUE!"},{"$error":"#N/A"},0,{"$error":"#N/A"},0,{"$error":"#VALUE!"},{"$error":"#VALUE!"},{"$error":"#VALUE!"},"FAIL",null,null,null,null,null,null,null,"Interior / Exterior",null,"",null,{"$f":"IF(RIGHT(I200,4)=\"Case\",(INDEX('LED Case Lighting'!$AZ$3:$AZ$16,MATCH('Analysis 103L'!$CI200,'LED Case Lighting'!$AS$3:$AS$16,0))),IF(CB200=0,0,IF(CB200=\"lamp\",((Q200/VLOOKUP(B200,Int_Ext,2,FALSE))*VLOOKUP(E200,NEB,16,FALSE)),IF(CB200=\"fixture\",((Q200/VLOOKUP(B200,Int_Ext,2,FALSE))*VLOOKUP(E200,NEB,14,FALSE)),\"\"))))","v":""},null,{"$f":"IF(RIGHT(I200,4)=\"Case\",INDEX('Equipment Type'!$V$4:$V$53, MATCH('Analysis 103L'!$K200, 'Equipment Type'!$A$4:$A$53, 0)), \"\")","v":""},"","","",{"$f":"IF(CI200=\"\", \"\", IF(RIGHT(I200,4)=\"Case\", INDEX('LED Case Lighting'!$AR$3:$AR$16, MATCH('Analysis 103L'!CI200, 'LED Case Lighting'!$AS$3:$AS$16, 0)), \"\"))","v":""},{"$f":"IF(CI200=\"\",\"\",INDEX('LED Case Lighting'!$AW$3:$AW$16,MATCH('Analysis 103L'!CI200,'LED Case Lighting'!$AS$3:$AS$16,0)))","v":""},{"$f":"IF(CI200=\"\",\"\",INDEX('LED Case Lighting'!$AX$3:$AX$16,MATCH('Analysis 103L'!CI200,'LED Case Lighting'!$AS$3:$AS$16,0)))","v":""},""]
[174,null,null,null,null,null,"",null,{"$f":"IF(K201=\"\",\"\",VLOOKUP(K201,'Equipment Type'!$A$1:$F$53,5,FALSE))","v":""},{"$f":"IF(K201=\"\",\"\",VLOOKUP(K201,'Equipment Type'!$A$1:$F$53,6,FALSE))","v":""},null,{"$f":"IF(K201=\"\",\"\",VLOOKUP(K201,'Equipment Type'!$A$1:$F$53,4,FALSE))","v":""},null,{"$f":"IF(K201=\"\",\"\",INDEX('Equipment Type'!$T$4:$T$53,MATCH('Analysis 103L'!K201,'Equipment Type'!$A$4:$A$53,0)))","v":""},"",null,{"$f":"IF(RIGHT(I201, 4)=\"Case\", \"\", IF(P201=\"\",\"\",(IF(ISNUMBER(SEARCH(\"exit\",J201)),8760,IF(B201=\"Exterior\",4380,'Analysis 103L'!$J$3)))))","v":""},null,"","","","","","","","",{"$f":"IF('100L Information'!$Z$5=\"Yes\",0,IF('100L Information'!$Z$4=\"Yes\",(MIN($Y$232-(-$Y$227),6000)*0.5)*(Y201/$Y$232),$Y$232*(Y201/($Y$230+$Y$231))))","v":{"$error":"#VALUE!"}},"",{"$error":"#VALUE!"},"No requirement",0,{"$f":"IF(OR(Z201=\"Does not meet requirement\",AND('100L Information'!$AA$21=\"No\",AL201=\"Y\"),AND('100L Information'!$AS$21=FALSE,AL201=\"Y\")),0,IF(ISNUMBER(R201*Incent_Cost_Fixture_Rx),MIN(R201*Incent_Cost_Fixture_Rx,(MAX(AE201,AK201))),0))","v":0},"FAIL","0","0","0",0,"N","0","0",null,"","",0,"",{"$f":"IF(RIGHT(I201,4)=\"Case\",W201,IF(AND(AL201=\"Y\",AF201<1),0,IF(OR(LEFT(D201,2)=\"T5\",LEFT(D201,3)=\"CFL\",'Analysis 103L'!AS201=\"Less\"),'Analysis 103L'!AR201,'Analysis 103L'!W201)))","v":""},null,0,0,null,{"$error":"#VALUE!"},{"$error":"#VALUE!"},{"$error":"#VALUE!"},null,null,{"$f":"IF(RIGHT(I201,4)=\"Case\",'LED Case Lighting'!$AY$1,IF(J201=\"\",\"\",VLOOKUP(J201,Lookups!$A$30:$J$149,VLOOKUP('100L Information'!$AI$46,Lookups!$J$3:$L$6,3,FALSE),FALSE)))","v":""},{"$error":"#N/A"},"","",{"$error":"#VALUE!"},{"$error":"#VALUE!"},{"$error":"#VALUE!"},{"$error":"#N/A"},0,{"$error":"#N/A"},0,{"$error":"#VALUE!"},{"$error":"#VALUE!"},{"$error":"#VALUE!"},"FAIL",null,null,null,null,null,null,null,"Interior / Exterior",null,"",null,{"$f":"IF(RIGHT(I201,4)=\"Case\",(INDEX('LED Case Lighting'!$AZ$3:$AZ$16,MATCH('Analysis 103L'!$CI201,'LED Case Lighting'!$AS$3:$AS$16,0))),IF(CB201=0,0,IF(CB201=\"lamp\",((Q201/VLOOKUP(B201,Int_Ext,2,FALSE))*VLOOKUP(E201,NEB,16,FALSE)),IF(CB201=\"fixture\",((Q201/VLOOKUP(B201,Int_Ext,2,FALSE))*VLOOKUP(E201,NEB,14,FALSE)),\"\"))))","v":""},null,{"$f":"IF(RIGHT(I201,4)=\"Case\",INDEX('Equipment Type'!$V$4:$V$53, MATCH('Analysis 103L'!$K201, 'Equipment Type'!$A$4:$A$53, 0)), \"\")","v":""},"","","",{"$f":"IF(CI201=\"\", \"\", IF(RIGHT(I201,4)=\"Case\", INDEX('LED Case Lighting'!$AR$3:$AR$16, MATCH('Analysis 103L'!CI201, 'LED Case Lighting'!$AS$3:$AS$16, 0)), \"\"))","v":""},{"$f":"IF(CI201=\"\",\"\",INDEX('LED Case Lighting'!$AW$3:$AW$16,MATCH('Analysis 103L'!CI201,'LED Case Lighting'!$AS$3:$AS$16,0)))","v":""},{"$f":"IF(CI201=\"\",\"\",INDEX('LED Case Lighting'!$AX$3:$AX$16,MATCH('Analysis 103L'!CI201,'LED Case Lighting'!$AS$3:$AS$16,0)))","v":""},""]
[175,null,null,null,null,null,"",null,{"$f":"IF(K202=\"\",\"\",VLOOKUP(K202,'Equipment Type'!$A$1:$F$53,5,FALSE))","v":""},{"$f":"IF(K202=\"\",\"\",VLOOKUP(K202,'Equipment Type'!$A$1:$F$53,6,FALSE))","v":""},null,{"$f":"IF(K202=\"\",\"\",VLOOKUP(K202,'Equipment Type'!$A$1:$F$53,4,FALSE))","v":""},null,{"$f":"IF(K202=\"\",\"\",INDEX('Equipment Type'!$T$4:$T$53,MATCH('Analysis 103L'!K202,'Equipment Type'!$A$4:$A$53,0)))","v":""},"",null,{"$f":"IF(RIGHT(I202, 4)=\"Case\", \"\", IF(P202=\"\",\"\",(IF(ISNUMBER(SEARCH(\"exit\",J202)),8760,IF(B202=\"Exterior\",4380,'Analysis 103L'!$J$3)))))","v":""},null,"","","","","","","","",{"$f":"IF('100L Information'!$Z$5=\"Yes\",0,IF('100L Information'!$Z$4=\"Yes\",(MIN($Y$232-(-$Y$227),6000)*0.5)*(Y202/$Y$232),$Y$232*(Y202/($Y$230+$Y$231))))","v":{"$error":"#VALUE!"}},"",{"$error":"#VALUE!"},"No requirement",0,{"$f":"IF(OR(Z202=\"Does not meet requirement\",AND('100L Information'!$AA$21=\"No\",AL202=\"Y\"),AND('100L Information'!$AS$21=FALSE,AL202=\"Y\")),0,IF(ISNUMBER(R202*Incent_Cost_Fixture_Rx),MIN(R202*Incent_Cost_Fixture_Rx,(MAX(AE202,AK202))),0))","v":0},"FAIL","0","0","0",0,"N","0","0",null,"","",0,"",{"$f":"IF(RIGHT(I202,4)=\"Case\",W202,IF(AND(AL202=\"Y\",AF202<1),0,IF(OR(LEFT(D202,2)=\"T5\",LEFT(D202,3)=\"CFL\",'Analysis 103L'!AS202=\"Less\"),'Analysis 103L'!AR202,'Analysis 103L'!W202)))","v":""},null,0,0,null,{"$error":"#VALUE!"},{"$error":"#VALUE!"},{"$error":"#VALUE!"},null,null,{"$f":"IF(RIGHT(I202,4)=\"Case\",'LED Case Lighting'!$AY$1,IF(J202=\"\",\"\",VLOOKUP(J202,Lookups!$A$30:$J$149,VLOOKUP('100L Information'!$AI$46,Lookups!$J$3:$L$6,3,FALSE),FALSE)))","v":""},{"$error":"#N/A"},"","",{"$error":"#VALUE!"},{"$error":"#VALUE!"},{"$error":"#VALUE!"},{"$error":"#N/A"},0,{"$error":"#N/A"},0,{"$error":"#VALUE!"},{"$error":"#VALUE!"},{"$error":"#VALUE!"},"FAIL",null,null,null,null,null,null,null,"Interior / Exterior",null,"",null,{"$f":"IF(RIGHT(I202,4)=\"Case\",(INDEX('LED Case Lighting'!$AZ$3:$AZ$16,MATCH('Analysis 103L'!$CI202,'LED Case Lighting'!$AS$3:$AS$16,0))),IF(CB202=0,0,IF(CB202=\"lamp\",((Q202/VLOOKUP(B202,Int_Ext,2,FALSE))*VLOOKUP(E202,NEB,16,FALSE)),IF(CB202=\"fixture\",((Q202/VLOOKUP(B202,Int_Ext,2,FALSE))*VLOOKUP(E202,NEB,14,FALSE)),\"\"))))","v":""},null,{"$f":"IF(RIGHT(I202,4)=\"Case\",INDEX('Equipment Type'!$V$4:$V$53, MATCH('Analysis 103L'!$K202, 'Equipment Type'!$A$4:$A$53, 0)), \"\")","v":""},"","","",{"$f":"IF(CI202=\"\", \"\", IF(RIGHT(I202,4)=\"Case\", INDEX('LED Case Lighting'!$AR$3:$AR$16, MATCH('Analysis 103L'!CI202, 'LED Case Lighting'!$AS$3:$AS$16, 0)), \"\"))","v":""},{"$f":"IF(CI202=\"\",\"\",INDEX('LED Case Lighting'!$AW$3:$AW$16,MATCH('Analysis 103L'!CI202,'LED Case Lighting'!$AS$3:$AS$16,0)))","v":""},{"$f":"IF(CI202=\"\",\"\",INDEX('LED Case Lighting'!$AX$3:$AX$16,MATCH('Analysis 103L'!CI202,'LED Case Lighting'!$AS$3:$AS$16,0)))","v":""},""]
[176,null,null,null,null,null,"",null,{"$f":"IF(K203=\"\",\"\",VLOOKUP(K203,'Equipment Type'!$A$1:$F$53,5,FALSE))","v":""},{"$f":"IF(K203=\"\",\"\",VLOOKUP(K203,'Equipment Type'!$A$1:$F$53,6,FALSE))","v":""},null,{"$f":"IF(K203=\"\",\"\",VLOOKUP(K203,'Equipment Type'!$A$1:$F$53,4,FALSE))","v":""},null,{"$f":"IF(K203=\"\",\"\",INDEX('Equipment Type'!$T$4:$T$53,MATCH('Analysis 103L'!K203,'Equipment Type'!$A$4:$A$53,0)))","v":""},"",null,{"$f":"IF(RIGHT(I203, 4)=\"Case\", \"\", IF(P203=\"\",\"\",(IF(ISNUMBER(SEARCH(\"exit\",J203)),8760,IF(B203=\"Exterior\",4380,'Analysis 103L'!$J$3)))))","v":""},null,"","","","","","","","",{"$f":"IF('100L Information'!$Z$5=\"Yes\",0,IF('100L Information'!$Z$4=\"Yes\",(MIN($Y$232-(-$Y$227),6000)*0.5)*(Y203/$Y$232),$Y$232*(Y203/($Y$230+$Y$231))))","v":{"$error":"#VALUE!"}},"",{"$error":"#VALUE!"},"No requirement",0,{"$f":"IF(OR(Z203=\"Does not meet requirement\",AND('100L Information'!$AA$21=\"No\",AL203=\"Y\"),AND('100L Information'!$AS$21=FALSE,AL203=\"Y\")),0,IF(ISNUMBER(R203*Incent_Cost_Fixture_Rx),MIN(R203*Incent_Cost_Fixture_Rx,(MAX(AE203,AK203))),0))","v":0},"FAIL","0","0","0",0,"N","0","0",null,"","",0,"",{"$f":"IF(RIGHT(I203,4)=\"Case\",W203,IF(AND(AL203=\"Y\",AF203<1),0,IF(OR(LEFT(D203,2)=\"T5\",LEFT(D203,3)=\"CFL\",'Analysis 103L'!AS203=\"Less\"),'Analysis 103L'!AR203,'Analysis 103L'!W203)))","v":""},null,0,0,null,{"$error":"#VALUE!"},{"$error":"#VALUE!"},{"$error":"#VALUE!"},null,null,{"$f":"IF(RIGHT(I203,4)=\"Case\",'LED Case Lighting'!$AY$1,IF(J203=\"\",\"\",VLOOKUP(J203,Lookups!$A$30:$J$149,VLOOKUP('100L Information'!$AI$46,Lookups!$J$3:$L$6,3,FALSE),FALSE)))","v":""},{"$error":"#N/A"},"","",{"$error":"#VALUE!"},{"$error":"#VALUE!"},{"$error":"#VALUE!"},{"$error":"#N/A"},0,{"$error":"#N/A"},0,{"$error":"#VALUE!"},{"$error":"#VALUE!"},{"$error":"#VALUE!"},"FAIL",null,null,null,null,null,null,null,"Interior / Exterior",null,"",null,{"$f":"IF(RIGHT(I203,4)=\"Case\",(INDEX('LED Case Lighting'!$AZ$3:$AZ$16,MATCH('Analysis 103L'!$CI203,'LED Case Lighting'!$AS$3:$AS$16,0))),IF(CB203=0,0,IF(CB203=\"lamp\",((Q203/VLOOKUP(B203,Int_Ext,2,FALSE))*VLOOKUP(E203,NEB,16,FALSE)),IF(CB203=\"fixture\",((Q203/VLOOKUP(B203,Int_Ext,2,FALSE))*VLOOKUP(E203,NEB,14,FALSE)),\"\"))))","v":""},null,{"$f":"IF(RIGHT(I203,4)=\"Case\",INDEX('Equipment Type'!$V$4:$V$53, MATCH('Analysis 103L'!$K203, 'Equipment Type'!$A$4:$A$53, 0)), \"\")","v":""},"","","",{"$f":"IF(CI203=\"\", \"\", IF(RIGHT(I203,4)=\"Case\", INDEX('LED Case Lighting'!$AR$3:$AR$16, MATCH('Analysis 103L'!CI203, 'LED Case Lighting'!$AS$3:$AS$16, 0)), \"\"))","v":""},{"$f":"IF(CI203=\"\",\"\",INDEX('LED Case Lighting'!$AW$3:$AW$16,MATCH('Analysis 103L'!CI203,'LED Case Lighting'!$AS$3:$AS$16,0)))","v":""},{"$f":"IF(CI203=\"\",\"\",INDEX('LED Case Lighting'!$AX$3:$AX$16,MATCH('Analysis 103L'!CI203,'LED Case Lighting'!$AS$3:$AS$16,0)))","v":""},""]
[177,null,null,null,null,null,"",null,{"$f":"IF(K204=\"\",\"\",VLOOKUP(K204,'Equipment Type'!$A$1:$F$53,5,FALSE))","v":""},{"$f":"IF(K204=\"\",\"\",VLOOKUP(K204,'Equipment Type'!$A$1:$F$53,6,FALSE))","v":""},null,{"$f":"IF(K204=\"\",\"\",VLOOKUP(K204,'Equipment Type'!$A$1:$F$53,4,FALSE))","v":""},null,{"$f":"IF(K204=\"\",\"\",INDEX('Equipment Type'!$T$4:$T$53,MATCH('Analysis 103L'!K204,'Equipment Type'!$A$4:$A$53,0)))","v":""},"",null,{"$f":"IF(RIGHT(I204, 4)=\"Case\", \"\", IF(P204=\"\",\"\",(IF(ISNUMBER(SEARCH(\"exit\",J204)),8760,IF(B204=\"Exterior\",4380,'Analysis 103L'!$J$3)))))","v":""},null,"","","","","","","","",{"$f":"IF('100L Information'!$Z$5=\"Yes\",0,IF('100L Information'!$Z$4=\"Yes\",(MIN($Y$232-(-$Y$227),6000)*0.5)*(Y204/$Y$232),$Y$232*(Y204/($Y$230+$Y$231))))","v":{"$error":"#VALUE!"}},"",{"$error":"#VALUE!"},"No requirement",0,{"$f":"IF(OR(Z204=\"Does not meet requirement\",AND('100L Information'!$AA$21=\"No\",AL204=\"Y\"),AND('100L Information'!$AS$21=FALSE,AL204=\"Y\")),0,IF(ISNUMBER(R204*Incent_Cost_Fixture_Rx),MIN(R204*Incent_Cost_Fixture_Rx,(MAX(AE204,AK204))),0))","v":0},"FAIL","0","0","0",0,"N","0","0",null,"","",0,"",{"$f":"IF(RIGHT(I204,4)=\"Case\",W204,IF(AND(AL204=\"Y\",AF204<1),0,IF(OR(LEFT(D204,2)=\"T5\",LEFT(D204,3)=\"CFL\",'Analysis 103L'!AS204=\"Less\"),'Analysis 103L'!AR204,'Analysis 103L'!W204)))","v":""},null,0,0,null,{"$error":"#VALUE!"},{"$error":"#VALUE!"},{"$error":"#VALUE!"},null,null,{"$f":"IF(RIGHT(I204,4)=\"Case\",'LED Case Lighting'!$AY$1,IF(J204=\"\",\"\",VLOOKUP(J204,Lookups!$A$30:$J$149,VLOOKUP('100L Information'!$AI$46,Lookups!$J$3:$L$6,3,FALSE),FALSE)))","v":""},{"$error":"#N/A"},"","",{"$error":"#VALUE!"},{"$error":"#VALUE!"},{"$error":"#VALUE!"},{"$error":"#N/A"},0,{"$error":"#N/A"},0,{"$error":"#VALUE!"},{"$error":"#VALUE!"},{"$error":"#VALUE!"},"FAIL",null,null,null,null,null,null,null,"Interior / Exterior",null,"",null,{"$f":"IF(RIGHT(I204,4)=\"Case\",(INDEX('LED Case Lighting'!$AZ$3:$AZ$16,MATCH('Analysis 103L'!$CI204,'LED Case Lighting'!$AS$3:$AS$16,0))),IF(CB204=0,0,IF(CB204=\"lamp\",((Q204/VLOOKUP(B204,Int_Ext,2,FALSE))*VLOOKUP(E204,NEB,16,FALSE)),IF(CB204=\"fixture\",((Q204/VLOOKUP(B204,Int_Ext,2,FALSE))*VLOOKUP(E204,NEB,14,FALSE)),\"\"))))","v":""},null,{"$f":"IF(RIGHT(I204,4)=\"Case\",INDEX('Equipment Type'!$V$4:$V$53, MATCH('Analysis 103L'!$K204, 'Equipment Type'!$A$4:$A$53, 0)), \"\")","v":""},"","","",{"$f":"IF(CI204=\"\", \"\", IF(RIGHT(I204,4)=\"Case\", INDEX('LED Case Lighting'!$AR$3:$AR$16, MATCH('Analysis 103L'!CI204, 'LED Case Lighting'!$AS$3:$AS$16, 0)), \"\"))","v":""},{"$f":"IF(CI204=\"\",\"\",INDEX('LED Case Lighting'!$AW$3:$AW$16,MATCH('Analysis 103L'!CI204,'LED Case Lighting'!$AS$3:$AS$16,0)))","v":""},{"$f":"IF(CI204=\"\",\"\",INDEX('LED Case Lighting'!$AX$3:$AX$16,MATCH('Analysis 103L'!CI204,'LED Case Lighting'!$AS$3:$AS$16,0)))","v":""},""]
[178,null,null,null,null,null,"",null,{"$f":"IF(K205=\"\",\"\",VLOOKUP(K205,'Equipment Type'!$A$1:$F$53,5,FALSE))","v":""},{"$f":"IF(K205=\"\",\"\",VLOOKUP(K205,'Equipment Type'!$A$1:$F$53,6,FALSE))","v":""},null,{"$f":"IF(K205=\"\",\"\",VLOOKUP(K205,'Equipment Type'!$A$1:$F$53,4,FALSE))","v":""},null,{"$f":"IF(K205=\"\",\"\",INDEX('Equipment Type'!$T$4:$T$53,MATCH('Analysis 103L'!K205,'Equipment Type'!$A$4:$A$53,0)))","v":""},"",null,{"$f":"IF(RIGHT(I205, 4)=\"Case\", \"\", IF(P205=\"\",\"\",(IF(ISNUMBER(SEARCH(\"exit\",J205)),8760,IF(B205=\"Exterior\",4380,'Analysis 103L'!$J$3)))))","v":""},null,"","","","","","","","",{"$f":"IF('100L Information'!$Z$5=\"Yes\",0,IF('100L Information'!$Z$4=\"Yes\",(MIN($Y$232-(-$Y$227),6000)*0.5)*(Y205/$Y$232),$Y$232*(Y205/($Y$230+$Y$231))))","v":{"$error":"#VALUE!"}},"",{"$error":"#VALUE!"},"No requirement",0,{"$f":"IF(OR(Z205=\"Does not meet requirement\",AND('100L Information'!$AA$21=\"No\",AL205=\"Y\"),AND('100L Information'!$AS$21=FALSE,AL205=\"Y\")),0,IF(ISNUMBER(R205*Incent_Cost_Fixture_Rx),MIN(R205*Incent_Cost_Fixture_Rx,(MAX(AE205,AK205))),0))","v":0},"FAIL","0","0","0",0,"N","0","0",null,"","",0,"",{"$f":"IF(RIGHT(I205,4)=\"Case\",W205,IF(AND(AL205=\"Y\",AF205<1),0,IF(OR(LEFT(D205,2)=\"T5\",LEFT(D205,3)=\"CFL\",'Analysis 103L'!AS205=\"Less\"),'Analysis 103L'!AR205,'Analysis 103L'!W205)))","v":""},null,0,0,null,{"$error":"#VALUE!"},{"$error":"#VALUE!"},{"$error":"#VALUE!"},null,null,{"$f":"IF(RIGHT(I205,4)=\"Case\",'LED Case Lighting'!$AY$1,IF(J205=\"\",\"\",VLOOKUP(J205,Lookups!$A$30:$J$149,VLOOKUP('100L Information'!$AI$46,Lookups!$J$3:$L$6,3,FALSE),FALSE)))","v":""},{"$error":"#N/A"},"","",{"$error":"#VALUE!"},{"$error":"#VALUE!"},{"$error":"#VALUE!"},{"$error":"#N/A"},0,{"$error":"#N/A"},0,{"$error":"#VALUE!"},{"$error":"#VALUE!"},{"$error":"#VALUE!"},"FAIL",null,null,null,null,null,null,null,"Interior / Exterior",null,"",null,{"$f":"IF(RIGHT(I205,4)=\"Case\",(INDEX('LED Case Lighting'!$AZ$3:$AZ$16,MATCH('Analysis 103L'!$CI205,'LED Case Lighting'!$AS$3:$AS$16,0))),IF(CB205=0,0,IF(CB205=\"lamp\",((Q205/VLOOKUP(B205,Int_Ext,2,FALSE))*VLOOKUP(E205,NEB,16,FALSE)),IF(CB205=\"fixture\",((Q205/VLOOKUP(B205,Int_Ext,2,FALSE))*VLOOKUP(E205,NEB,14,FALSE)),\"\"))))","v":""},null,{"$f":"IF(RIGHT(I205,4)=\"Case\",INDEX('Equipment Type'!$V$4:$V$53, MATCH('Analysis 103L'!$K205, 'Equipment Type'!$A$4:$A$53, 0)), \"\")","v":""},"","","",{"$f":"IF(CI205=\"\", \"\", IF(RIGHT(I205,4)=\"Case\", INDEX('LED Case Lighting'!$AR$3:$AR$16, MATCH('Analysis 103L'!CI205, 'LED Case Lighting'!$AS$3:$AS$16, 0)), \"\"))","v":""},{"$f":"IF(CI205=\"\",\"\",INDEX('LED Case Lighting'!$AW$3:$AW$16,MATCH('Analysis 103L'!CI205,'LED Case Lighting'!$AS$3:$AS$16,0)))","v":""},{"$f":"IF(CI205=\"\",\"\",INDEX('LED Case Lighting'!$AX$3:$AX$16,MATCH('Analysis 103L'!CI205,'LED Case Lighting'!$AS$3:$AS$16,0)))","v":""},""]
[179,null,null,null,null,null,"",null,{"$f":"IF(K206=\"\",\"\",VLOOKUP(K206,'Equipment Type'!$A$1:$F$53,5,FALSE))","v":""},{"$f":"IF(K206=\"\",\"\",VLOOKUP(K206,'Equipment Type'!$A$1:$F$53,6,FALSE))","v":""},null,{"$f":"IF(K206=\"\",\"\",VLOOKUP(K206,'Equipment Type'!$A$1:$F$53,4,FALSE))","v":""},null,{"$f":"IF(K206=\"\",\"\",INDEX('Equipment Type'!$T$4:$T$53,MATCH('Analysis 103L'!K206,'Equipment Type'!$A$4:$A$53,0)))","v":""},"",null,{"$f":"IF(RIGHT(I206, 4)=\"Case\", \"\", IF(P206=\"\",\"\",(IF(ISNUMBER(SEARCH(\"exit\",J206)),8760,IF(B206=\"Exterior\",4380,'Analysis 103L'!$J$3)))))","v":""},null,"","","","","","","","",{"$f":"IF('100L Information'!$Z$5=\"Yes\",0,IF('100L Information'!$Z$4=\"Yes\",(MIN($Y$232-(-$Y$227),6000)*0.5)*(Y206/$Y$232),$Y$232*(Y206/($Y$230+$Y$231))))","v":{"$error":"#VALUE!"}},"",{"$error":"#VALUE!"},"No requirement",0,{"$f":"IF(OR(Z206=\"Does not meet requirement\",AND('100L Information'!$AA$21=\"No\",AL206=\"Y\"),AND('100L Information'!$AS$21=FALSE,AL206=\"Y\")),0,IF(ISNUMBER(R206*Incent_Cost_Fixture_Rx),MIN(R206*Incent_Cost_Fixture_Rx,(MAX(AE206,AK206))),0))","v":0},"FAIL","0","0","0",0,"N","0","0",null,"","",0,"",{"$f":"IF(RIGHT(I206,4)=\"Case\",W206,IF(AND(AL206=\"Y\",AF206<1),0,IF(OR(LEFT(D206,2)=\"T5\",LEFT(D206,3)=\"CFL\",'Analysis 103L'!AS206=\"Less\"),'Analysis 103L'!AR206,'Analysis 103L'!W206)))","v":""},null,0,0,null,{"$error":"#VALUE!"},{"$error":"#VALUE!"},{"$error":"#VALUE!"},null,null,{"$f":"IF(RIGHT(I206,4)=\"Case\",'LED Case Lighting'!$AY$1,IF(J206=\"\",\"\",VLOOKUP(J206,Lookups!$A$30:$J$149,VLOOKUP('100L Information'!$AI$46,Lookups!$J$3:$L$6,3,FALSE),FALSE)))","v":""},{"$error":"#N/A"},"","",{"$error":"#VALUE!"},{"$error":"#VALUE!"},{"$error":"#VALUE!"},{"$error":"#N/A"},0,{"$error":"#N/A"},0,{"$error":"#VALUE!"},{"$error":"#VALUE!"},{"$error":"#VALUE!"},"FAIL",null,null,null,null,null,null,null,"Interior / Exterior",null,"",null,{"$f":"IF(RIGHT(I206,4)=\"Case\",(INDEX('LED Case Lighting'!$AZ$3:$AZ$16,MATCH('Analysis 103L'!$CI206,'LED Case Lighting'!$AS$3:$AS$16,0))),IF(CB206=0,0,IF(CB206=\"lamp\",((Q206/VLOOKUP(B206,Int_Ext,2,FALSE))*VLOOKUP(E206,NEB,16,FALSE)),IF(CB206=\"fixture\",((Q206/VLOOKUP(B206,Int_Ext,2,FALSE))*VLOOKUP(E206,NEB,14,FALSE)),\"\"))))","v":""},null,{"$f":"IF(RIGHT(I206,4)=\"Case\",INDEX('Equipment Type'!$V$4:$V$53, MATCH('Analysis 103L'!$K206, 'Equipment Type'!$A$4:$A$53, 0)), \"\")","v":""},"","","",{"$f":"IF(CI206=\"\", \"\", IF(RIGHT(I206,4)=\"Case\", INDEX('LED Case Lighting'!$AR$3:$AR$16, MATCH('Analysis 103L'!CI206, 'LED Case Lighting'!$AS$3:$AS$16, 0)), \"\"))","v":""},{"$f":"IF(CI206=\"\",\"\",INDEX('LED Case Lighting'!$AW$3:$AW$16,MATCH('Analysis 103L'!CI206,'LED Case Lighting'!$AS$3:$AS$16,0)))","v":""},{"$f":"IF(CI206=\"\",\"\",INDEX('LED Case Lighting'!$AX$3:$AX$16,MATCH('Analysis 103L'!CI206,'LED Case Lighting'!$AS$3:$AS$16,0)))","v":""},""]
[180,null,null,null,null,null,"",null,{"$f":"IF(K207=\"\",\"\",VLOOKUP(K207,'Equipment Type'!$A$1:$F$53,5,FALSE))","v":""},{"$f":"IF(K207=\"\",\"\",VLOOKUP(K207,'Equipment Type'!$A$1:$F$53,6,FALSE))","v":""},null,{"$f":"IF(K207=\"\",\"\",VLOOKUP(K207,'Equipment Type'!$A$1:$F$53,4,FALSE))","v":""},null,{"$f":"IF(K207=\"\",\"\",INDEX('Equipment Type'!$T$4:$T$53,MATCH('Analysis 103L'!K207,'Equipment Type'!$A$4:$A$53,0)))","v":""},"",null,{"$f":"IF(RIGHT(I207, 4)=\"Case\", \"\", IF(P207=\"\",\"\",(IF(ISNUMBER(SEARCH(\"exit\",J207)),8760,IF(B207=\"Exterior\",4380,'Analysis 103L'!$J$3)))))","v":""},null,"","","","","","","","",{"$f":"IF('100L Information'!$Z$5=\"Yes\",0,IF('100L Information'!$Z$4=\"Yes\",(MIN($Y$232-(-$Y$227),6000)*0.5)*(Y207/$Y$232),$Y$232*(Y207/($Y$230+$Y$231))))","v":{"$error":"#VALUE!"}},"",{"$error":"#VALUE!"},"No requirement",0,{"$f":"IF(OR(Z207=\"Does not meet requirement\",AND('100L Information'!$AA$21=\"No\",AL207=\"Y\"),AND('100L Information'!$AS$21=FALSE,AL207=\"Y\")),0,IF(ISNUMBER(R207*Incent_Cost_Fixture_Rx),MIN(R207*Incent_Cost_Fixture_Rx,(MAX(AE207,AK207))),0))","v":0},"FAIL","0","0","0",0,"N","0","0",null,"","",0,"",{"$f":"IF(RIGHT(I207,4)=\"Case\",W207,IF(AND(AL207=\"Y\",AF207<1),0,IF(OR(LEFT(D207,2)=\"T5\",LEFT(D207,3)=\"CFL\",'Analysis 103L'!AS207=\"Less\"),'Analysis 103L'!AR207,'Analysis 103L'!W207)))","v":""},null,0,0,null,{"$error":"#VALUE!"},{"$error":"#VALUE!"},{"$error":"#VALUE!"},null,null,{"$f":"IF(RIGHT(I207,4)=\"Case\",'LED Case Lighting'!$AY$1,IF(J207=\"\",\"\",VLOOKUP(J207,Lookups!$A$30:$J$149,VLOOKUP('100L Information'!$AI$46,Lookups!$J$3:$L$6,3,FALSE),FALSE)))","v":""},{"$error":"#N/A"},"","",{"$error":"#VALUE!"},{"$error":"#VALUE!"},{"$error":"#VALUE!"},{"$error":"#N/A"},0,{"$error":"#N/A"},0,{"$error":"#VALUE!"},{"$error":"#VALUE!"},{"$error":"#VALUE!"},"FAIL",null,null,null,null,null,null,null,"Interior / Exterior",null,"",null,{"$f":"IF(RIGHT(I207,4)=\"Case\",(INDEX('LED Case Lighting'!$AZ$3:$AZ$16,MATCH('Analysis 103L'!$CI207,'LED Case Lighting'!$AS$3:$AS$16,0))),IF(CB207=0,0,IF(CB207=\"lamp\",((Q207/VLOOKUP(B207,Int_Ext,2,FALSE))*VLOOKUP(E207,NEB,16,FALSE)),IF(CB207=\"fixture\",((Q207/VLOOKUP(B207,Int_Ext,2,FALSE))*VLOOKUP(E207,NEB,14,FALSE)),\"\"))))","v":""},null,{"$f":"IF(RIGHT(I207,4)=\"Case\",INDEX('Equipment Type'!$V$4:$V$53, MATCH('Analysis 103L'!$K207, 'Equipment Type'!$A$4:$A$53, 0)), \"\")","v":""},"","","",{"$f":"IF(CI207=\"\", \"\", IF(RIGHT(I207,4)=\"Case\", INDEX('LED Case Lighting'!$AR$3:$AR$16, MATCH('Analysis 103L'!CI207, 'LED Case Lighting'!$AS$3:$AS$16, 0)), \"\"))","v":""},{"$f":"IF(CI207=\"\",\"\",INDEX('LED Case Lighting'!$AW$3:$AW$16,MATCH('Analysis 103L'!CI207,'LED Case Lighting'!$AS$3:$AS$16,0)))","v":""},{"$f":"IF(CI207=\"\",\"\",INDEX('LED Case Lighting'!$AX$3:$AX$16,MATCH('Analysis 103L'!CI207,'LED Case Lighting'!$AS$3:$AS$16,0)))","v":""},""]
[181,null,null,null,null,null,"",null,{"$f":"IF(K208=\"\",\"\",VLOOKUP(K208,'Equipment Type'!$A$1:$F$53,5,FALSE))","v":""},{"$f":"IF(K208=\"\",\"\",VLOOKUP(K208,'Equipment Type'!$A$1:$F$53,6,FALSE))","v":""},null,{"$f":"IF(K208=\"\",\"\",VLOOKUP(K208,'Equipment Type'!$A$1:$F$53,4,FALSE))","v":""},null,{"$f":"IF(K208=\"\",\"\",INDEX('Equipment Type'!$T$4:$T$53,MATCH('Analysis 103L'!K208,'Equipment Type'!$A$4:$A$53,0)))","v":""},"",null,{"$f":"IF(RIGHT(I208, 4)=\"Case\", \"\", IF(P208=\"\",\"\",(IF(ISNUMBER(SEARCH(\"exit\",J208)),8760,IF(B208=\"Exterior\",4380,'Analysis 103L'!$J$3)))))","v":""},null,"","","","","","","","",{"$f":"IF('100L Information'!$Z$5=\"Yes\",0,IF('100L Information'!$Z$4=\"Yes\",(MIN($Y$232-(-$Y$227),6000)*0.5)*(Y208/$Y$232),$Y$232*(Y208/($Y$230+$Y$231))))","v":{"$error":"#VALUE!"}},"",{"$error":"#VALUE!"},"No requirement",0,{"$f":"IF(OR(Z208=\"Does not meet requirement\",AND('100L Information'!$AA$21=\"No\",AL208=\"Y\"),AND('100L Information'!$AS$21=FALSE,AL208=\"Y\")),0,IF(ISNUMBER(R208*Incent_Cost_Fixture_Rx),MIN(R208*Incent_Cost_Fixture_Rx,(MAX(AE208,AK208))),0))","v":0},"FAIL","0","0","0",0,"N","0","0",null,"","",0,"",{"$f":"IF(RIGHT(I208,4)=\"Case\",W208,IF(AND(AL208=\"Y\",AF208<1),0,IF(OR(LEFT(D208,2)=\"T5\",LEFT(D208,3)=\"CFL\",'Analysis 103L'!AS208=\"Less\"),'Analysis 103L'!AR208,'Analysis 103L'!W208)))","v":""},null,0,0,null,{"$error":"#VALUE!"},{"$error":"#VALUE!"},{"$error":"#VALUE!"},null,null,{"$f":"IF(RIGHT(I208,4)=\"Case\",'LED Case Lighting'!$AY$1,IF(J208=\"\",\"\",VLOOKUP(J208,Lookups!$A$30:$J$149,VLOOKUP('100L Information'!$AI$46,Lookups!$J$3:$L$6,3,FALSE),FALSE)))","v":""},{"$error":"#N/A"},"","",{"$error":"#VALUE!"},{"$error":"#VALUE!"},{"$error":"#VALUE!"},{"$error":"#N/A"},0,{"$error":"#N/A"},0,{"$error":"#VALUE!"},{"$error":"#VALUE!"},{"$error":"#VALUE!"},"FAIL",null,null,null,null,null,null,null,"Interior / Exterior",null,"",null,{"$f":"IF(RIGHT(I208,4)=\"Case\",(INDEX('LED Case Lighting'!$AZ$3:$AZ$16,MATCH('Analysis 103L'!$CI208,'LED Case Lighting'!$AS$3:$AS$16,0))),IF(CB208=0,0,IF(CB208=\"lamp\",((Q208/VLOOKUP(B208,Int_Ext,2,FALSE))*VLOOKUP(E208,NEB,16,FALSE)),IF(CB208=\"fixture\",((Q208/VLOOKUP(B208,Int_Ext,2,FALSE))*VLOOKUP(E208,NEB,14,FALSE)),\"\"))))","v":""},null,{"$f":"IF(RIGHT(I208,4)=\"Case\",INDEX('Equipment Type'!$V$4:$V$53, MATCH('Analysis 103L'!$K208, 'Equipment Type'!$A$4:$A$53, 0)), \"\")","v":""},"","","",{"$f":"IF(CI208=\"\", \"\", IF(RIGHT(I208,4)=\"Case\", INDEX('LED Case Lighting'!$AR$3:$AR$16, MATCH('Analysis 103L'!CI208, 'LED Case Lighting'!$AS$3:$AS$16, 0)), \"\"))","v":""},{"$f":"IF(CI208=\"\",\"\",INDEX('LED Case Lighting'!$AW$3:$AW$16,MATCH('Analysis 103L'!CI208,'LED Case Lighting'!$AS$3:$AS$16,0)))","v":""},{"$f":"IF(CI208=\"\",\"\",INDEX('LED Case Lighting'!$AX$3:$AX$16,MATCH('Analysis 103L'!CI208,'LED Case Lighting'!$AS$3:$AS$16,0)))","v":""},""]
[182,null,null,null,null,null,"",null,{"$f":"IF(K209=\"\",\"\",VLOOKUP(K209,'Equipment Type'!$A$1:$F$53,5,FALSE))","v":""},{"$f":"IF(K209=\"\",\"\",VLOOKUP(K209,'Equipment Type'!$A$1:$F$53,6,FALSE))","v":""},null,{"$f":"IF(K209=\"\",\"\",VLOOKUP(K209,'Equipment Type'!$A$1:$F$53,4,FALSE))","v":""},null,{"$f":"IF(K209=\"\",\"\",INDEX('Equipment Type'!$T$4:$T$53,MATCH('Analysis 103L'!K209,'Equipment Type'!$A$4:$A$53,0)))","v":""},"",null,{"$f":"IF(RIGHT(I209, 4)=\"Case\", \"\", IF(P209=\"\",\"\",(IF(ISNUMBER(SEARCH(\"exit\",J209)),8760,IF(B209=\"Exterior\",4380,'Analysis 103L'!$J$3)))))","v":""},null,"","","","","","","","",{"$f":"IF('100L Information'!$Z$5=\"Yes\",0,IF('100L Information'!$Z$4=\"Yes\",(MIN($Y$232-(-$Y$227),6000)*0.5)*(Y209/$Y$232),$Y$232*(Y209/($Y$230+$Y$231))))","v":{"$error":"#VALUE!"}},"",{"$error":"#VALUE!"},"No requirement",0,{"$f":"IF(OR(Z209=\"Does not meet requirement\",AND('100L Information'!$AA$21=\"No\",AL209=\"Y\"),AND('100L Information'!$AS$21=FALSE,AL209=\"Y\")),0,IF(ISNUMBER(R209*Incent_Cost_Fixture_Rx),MIN(R209*Incent_Cost_Fixture_Rx,(MAX(AE209,AK209))),0))","v":0},"FAIL","0","0","0",0,"N","0","0",null,"","",0,"",{"$f":"IF(RIGHT(I209,4)=\"Case\",W209,IF(AND(AL209=\"Y\",AF209<1),0,IF(OR(LEFT(D209,2)=\"T5\",LEFT(D209,3)=\"CFL\",'Analysis 103L'!AS209=\"Less\"),'Analysis 103L'!AR209,'Analysis 103L'!W209)))","v":""},null,0,0,null,{"$error":"#VALUE!"},{"$error":"#VALUE!"},{"$error":"#VALUE!"},null,null,{"$f":"IF(RIGHT(I209,4)=\"Case\",'LED Case Lighting'!$AY$1,IF(J209=\"\",\"\",VLOOKUP(J209,Lookups!$A$30:$J$149,VLOOKUP('100L Information'!$AI$46,Lookups!$J$3:$L$6,3,FALSE),FALSE)))","v":""},{"$error":"#N/A"},"","",{"$error":"#VALUE!"},{"$error":"#VALUE!"},{"$error":"#VALUE!"},{"$error":"#N/A"},0,{"$error":"#N/A"},0,{"$error":"#VALUE!"},{"$error":"#VALUE!"},{"$error":"#VALUE!"},"FAIL",null,null,null,null,null,null,null,"Interior / Exterior",null,"",null,{"$f":"IF(RIGHT(I209,4)=\"Case\",(INDEX('LED Case Lighting'!$AZ$3:$AZ$16,MATCH('Analysis 103L'!$CI209,'LED Case Lighting'!$AS$3:$AS$16,0))),IF(CB209=0,0,IF(CB209=\"lamp\",((Q209/VLOOKUP(B209,Int_Ext,2,FALSE))*VLOOKUP(E209,NEB,16,FALSE)),IF(CB209=\"fixture\",((Q209/VLOOKUP(B209,Int_Ext,2,FALSE))*VLOOKUP(E209,NEB,14,FALSE)),\"\"))))","v":""},null,{"$f":"IF(RIGHT(I209,4)=\"Case\",INDEX('Equipment Type'!$V$4:$V$53, MATCH('Analysis 103L'!$K209, 'Equipment Type'!$A$4:$A$53, 0)), \"\")","v":""},"","","",{"$f":"IF(CI209=\"\", \"\", IF(RIGHT(I209,4)=\"Case\", INDEX('LED Case Lighting'!$AR$3:$AR$16, MATCH('Analysis 103L'!CI209, 'LED Case Lighting'!$AS$3:$AS$16, 0)), \"\"))","v":""},{"$f":"IF(CI209=\"\",\"\",INDEX('LED Case Lighting'!$AW$3:$AW$16,MATCH('Analysis 103L'!CI209,'LED Case Lighting'!$AS$3:$AS$16,0)))","v":""},{"$f":"IF(CI209=\"\",\"\",INDEX('LED Case Lighting'!$AX$3:$AX$16,MATCH('Analysis 103L'!CI209,'LED Case Lighting'!$AS$3:$AS$16,0)))","v":""},""]
[183,null,null,null,null,null,"",null,{"$f":"IF(K210=\"\",\"\",VLOOKUP(K210,'Equipment Type'!$A$1:$F$53,5,FALSE))","v":""},{"$f":"IF(K210=\"\",\"\",VLOOKUP(K210,'Equipment Type'!$A$1:$F$53,6,FALSE))","v":""},null,{"$f":"IF(K210=\"\",\"\",VLOOKUP(K210,'Equipment Type'!$A$1:$F$53,4,FALSE))","v":""},null,{"$f":"IF(K210=\"\",\"\",INDEX('Equipment Type'!$T$4:$T$53,MATCH('Analysis 103L'!K210,'Equipment Type'!$A$4:$A$53,0)))","v":""},"",null,{"$f":"IF(RIGHT(I210, 4)=\"Case\", \"\", IF(P210=\"\",\"\",(IF(ISNUMBER(SEARCH(\"exit\",J210)),8760,IF(B210=\"Exterior\",4380,'Analysis 103L'!$J$3)))))","v":""},null,"","","","","","","","",{"$f":"IF('100L Information'!$Z$5=\"Yes\",0,IF('100L Information'!$Z$4=\"Yes\",(MIN($Y$232-(-$Y$227),6000)*0.5)*(Y210/$Y$232),$Y$232*(Y210/($Y$230+$Y$231))))","v":{"$error":"#VALUE!"}},"",{"$error":"#VALUE!"},"No requirement",0,{"$f":"IF(OR(Z210=\"Does not meet requirement\",AND('100L Information'!$AA$21=\"No\",AL210=\"Y\"),AND('100L Information'!$AS$21=FALSE,AL210=\"Y\")),0,IF(ISNUMBER(R210*Incent_Cost_Fixture_Rx),MIN(R210*Incent_Cost_Fixture_Rx,(MAX(AE210,AK210))),0))","v":0},"FAIL","0","0","0",0,"N","0","0",null,"","",0,"",{"$f":"IF(RIGHT(I210,4)=\"Case\",W210,IF(AND(AL210=\"Y\",AF210<1),0,IF(OR(LEFT(D210,2)=\"T5\",LEFT(D210,3)=\"CFL\",'Analysis 103L'!AS210=\"Less\"),'Analysis 103L'!AR210,'Analysis 103L'!W210)))","v":""},null,0,0,null,{"$error":"#VALUE!"},{"$error":"#VALUE!"},{"$error":"#VALUE!"},null,null,{"$f":"IF(RIGHT(I210,4)=\"Case\",'LED Case Lighting'!$AY$1,IF(J210=\"\",\"\",VLOOKUP(J210,Lookups!$A$30:$J$149,VLOOKUP('100L Information'!$AI$46,Lookups!$J$3:$L$6,3,FALSE),FALSE)))","v":""},{"$error":"#N/A"},"","",{"$error":"#VALUE!"},{"$error":"#VALUE!"},{"$error":"#VALUE!"},{"$error":"#N/A"},0,{"$error":"#N/A"},0,{"$error":"#VALUE!"},{"$error":"#VALUE!"},{"$error":"#VALUE!"},"FAIL",null,null,null,null,null,null,null,"Interior / Exterior",null,"",null,{"$f":"IF(RIGHT(I210,4)=\"Case\",(INDEX('LED Case Lighting'!$AZ$3:$AZ$16,MATCH('Analysis 103L'!$CI210,'LED Case Lighting'!$AS$3:$AS$16,0))),IF(CB210=0,0,IF(CB210=\"lamp\",((Q210/VLOOKUP(B210,Int_Ext,2,FALSE))*VLOOKUP(E210,NEB,16,FALSE)),IF(CB210=\"fixture\",((Q210/VLOOKUP(B210,Int_Ext,2,FALSE))*VLOOKUP(E210,NEB,14,FALSE)),\"\"))))","v":""},null,{"$f":"IF(RIGHT(I210,4)=\"Case\",INDEX('Equipment Type'!$V$4:$V$53, MATCH('Analysis 103L'!$K210, 'Equipment Type'!$A$4:$A$53, 0)), \"\")","v":""},"","","",{"$f":"IF(CI210=\"\", \"\", IF(RIGHT(I210,4)=\"Case\", INDEX('LED Case Lighting'!$AR$3:$AR$16, MATCH('Analysis 103L'!CI210, 'LED Case Lighting'!$AS$3:$AS$16, 0)), \"\"))","v":""},{"$f":"IF(CI210=\"\",\"\",INDEX('LED Case Lighting'!$AW$3:$AW$16,MATCH('Analysis 103L'!CI210,'LED Case Lighting'!$AS$3:$AS$16,0)))","v":""},{"$f":"IF(CI210=\"\",\"\",INDEX('LED Case Lighting'!$AX$3:$AX$16,MATCH('Analysis 103L'!CI210,'LED Case Lighting'!$AS$3:$AS$16,0)))","v":""},""]
[184,null,null,null,null,null,"",null,{"$f":"IF(K211=\"\",\"\",VLOOKUP(K211,'Equipment Type'!$A$1:$F$53,5,FALSE))","v":""},{"$f":"IF(K211=\"\",\"\",VLOOKUP(K211,'Equipment Type'!$A$1:$F$53,6,FALSE))","v":""},null,{"$f":"IF(K211=\"\",\"\",VLOOKUP(K211,'Equipment Type'!$A$1:$F$53,4,FALSE))","v":""},null,{"$f":"IF(K211=\"\",\"\",INDEX('Equipment Type'!$T$4:$T$53,MATCH('Analysis 103L'!K211,'Equipment Type'!$A$4:$A$53,0)))","v":""},"",null,{"$f":"IF(RIGHT(I211, 4)=\"Case\", \"\", IF(P211=\"\",\"\",(IF(ISNUMBER(SEARCH(\"exit\",J211)),8760,IF(B211=\"Exterior\",4380,'Analysis 103L'!$J$3)))))","v":""},null,"","","","","","","","",{"$f":"IF('100L Information'!$Z$5=\"Yes\",0,IF('100L Information'!$Z$4=\"Yes\",(MIN($Y$232-(-$Y$227),6000)*0.5)*(Y211/$Y$232),$Y$232*(Y211/($Y$230+$Y$231))))","v":{"$error":"#VALUE!"}},"",{"$error":"#VALUE!"},"No requirement",0,{"$f":"IF(OR(Z211=\"Does not meet requirement\",AND('100L Information'!$AA$21=\"No\",AL211=\"Y\"),AND('100L Information'!$AS$21=FALSE,AL211=\"Y\")),0,IF(ISNUMBER(R211*Incent_Cost_Fixture_Rx),MIN(R211*Incent_Cost_Fixture_Rx,(MAX(AE211,AK211))),0))","v":0},"FAIL","0","0","0",0,"N","0","0",null,"","",0,"",{"$f":"IF(RIGHT(I211,4)=\"Case\",W211,IF(AND(AL211=\"Y\",AF211<1),0,IF(OR(LEFT(D211,2)=\"T5\",LEFT(D211,3)=\"CFL\",'Analysis 103L'!AS211=\"Less\"),'Analysis 103L'!AR211,'Analysis 103L'!W211)))","v":""},null,0,0,null,{"$error":"#VALUE!"},{"$error":"#VALUE!"},{"$error":"#VALUE!"},null,null,{"$f":"IF(RIGHT(I211,4)=\"Case\",'LED Case Lighting'!$AY$1,IF(J211=\"\",\"\",VLOOKUP(J211,Lookups!$A$30:$J$149,VLOOKUP('100L Information'!$AI$46,Lookups!$J$3:$L$6,3,FALSE),FALSE)))","v":""},{"$error":"#N/A"},"","",{"$error":"#VALUE!"},{"$error":"#VALUE!"},{"$error":"#VALUE!"},{"$error":"#N/A"},0,{"$error":"#N/A"},0,{"$error":"#VALUE!"},{"$error":"#VALUE!"},{"$error":"#VALUE!"},"FAIL",null,null,null,null,null,null,null,"Interior / Exterior",null,"",null,{"$f":"IF(RIGHT(I211,4)=\"Case\",(INDEX('LED Case Lighting'!$AZ$3:$AZ$16,MATCH('Analysis 103L'!$CI211,'LED Case Lighting'!$AS$3:$AS$16,0))),IF(CB211=0,0,IF(CB211=\"lamp\",((Q211/VLOOKUP(B211,Int_Ext,2,FALSE))*VLOOKUP(E211,NEB,16,FALSE)),IF(CB211=\"fixture\",((Q211/VLOOKUP(B211,Int_Ext,2,FALSE))*VLOOKUP(E211,NEB,14,FALSE)),\"\"))))","v":""},null,{"$f":"IF(RIGHT(I211,4)=\"Case\",INDEX('Equipment Type'!$V$4:$V$53, MATCH('Analysis 103L'!$K211, 'Equipment Type'!$A$4:$A$53, 0)), \"\")","v":""},"","","",{"$f":"IF(CI211=\"\", \"\", IF(RIGHT(I211,4)=\"Case\", INDEX('LED Case Lighting'!$AR$3:$AR$16, MATCH('Analysis 103L'!CI211, 'LED Case Lighting'!$AS$3:$AS$16, 0)), \"\"))","v":""},{"$f":"IF(CI211=\"\",\"\",INDEX('LED Case Lighting'!$AW$3:$AW$16,MATCH('Analysis 103L'!CI211,'LED Case Lighting'!$AS$3:$AS$16,0)))","v":""},{"$f":"IF(CI211=\"\",\"\",INDEX('LED Case Lighting'!$AX$3:$AX$16,MATCH('Analysis 103L'!CI211,'LED Case Lighting'!$AS$3:$AS$16,0)))","v":""},""]
[185,null,null,null,null,null,"",null,{"$f":"IF(K212=\"\",\"\",VLOOKUP(K212,'Equipment Type'!$A$1:$F$53,5,FALSE))","v":""},{"$f":"IF(K212=\"\",\"\",VLOOKUP(K212,'Equipment Type'!$A$1:$F$53,6,FALSE))","v":""},null,{"$f":"IF(K212=\"\",\"\",VLOOKUP(K212,'Equipment Type'!$A$1:$F$53,4,FALSE))","v":""},null,{"$f":"IF(K212=\"\",\"\",INDEX('Equipment Type'!$T$4:$T$53,MATCH('Analysis 103L'!K212,'Equipment Type'!$A$4:$A$53,0)))","v":""},"",null,{"$f":"IF(RIGHT(I212, 4)=\"Case\", \"\", IF(P212=\"\",\"\",(IF(ISNUMBER(SEARCH(\"exit\",J212)),8760,IF(B212=\"Exterior\",4380,'Analysis 103L'!$J$3)))))","v":""},null,"","","","","","","","",{"$f":"IF('100L Information'!$Z$5=\"Yes\",0,IF('100L Information'!$Z$4=\"Yes\",(MIN($Y$232-(-$Y$227),6000)*0.5)*(Y212/$Y$232),$Y$232*(Y212/($Y$230+$Y$231))))","v":{"$error":"#VALUE!"}},"",{"$error":"#VALUE!"},"No requirement",0,{"$f":"IF(OR(Z212=\"Does not meet requirement\",AND('100L Information'!$AA$21=\"No\",AL212=\"Y\"),AND('100L Information'!$AS$21=FALSE,AL212=\"Y\")),0,IF(ISNUMBER(R212*Incent_Cost_Fixture_Rx),MIN(R212*Incent_Cost_Fixture_Rx,(MAX(AE212,AK212))),0))","v":0},"FAIL","0","0","0",0,"N","0","0",null,"","",0,"",{"$f":"IF(RIGHT(I212,4)=\"Case\",W212,IF(AND(AL212=\"Y\",AF212<1),0,IF(OR(LEFT(D212,2)=\"T5\",LEFT(D212,3)=\"CFL\",'Analysis 103L'!AS212=\"Less\"),'Analysis 103L'!AR212,'Analysis 103L'!W212)))","v":""},null,0,0,null,{"$error":"#VALUE!"},{"$error":"#VALUE!"},{"$error":"#VALUE!"},null,null,{"$f":"IF(RIGHT(I212,4)=\"Case\",'LED Case Lighting'!$AY$1,IF(J212=\"\",\"\",VLOOKUP(J212,Lookups!$A$30:$J$149,VLOOKUP('100L Information'!$AI$46,Lookups!$J$3:$L$6,3,FALSE),FALSE)))","v":""},{"$error":"#N/A"},"","",{"$error":"#VALUE!"},{"$error":"#VALUE!"},{"$error":"#VALUE!"},{"$error":"#N/A"},0,{"$error":"#N/A"},0,{"$error":"#VALUE!"},{"$error":"#VALUE!"},{"$error":"#VALUE!"},"FAIL",null,null,null,null,null,null,null,"Interior / Exterior",null,"",null,{"$f":"IF(RIGHT(I212,4)=\"Case\",(INDEX('LED Case Lighting'!$AZ$3:$AZ$16,MATCH('Analysis 103L'!$CI212,'LED Case Lighting'!$AS$3:$AS$16,0))),IF(CB212=0,0,IF(CB212=\"lamp\",((Q212/VLOOKUP(B212,Int_Ext,2,FALSE))*VLOOKUP(E212,NEB,16,FALSE)),IF(CB212=\"fixture\",((Q212/VLOOKUP(B212,Int_Ext,2,FALSE))*VLOOKUP(E212,NEB,14,FALSE)),\"\"))))","v":""},null,{"$f":"IF(RIGHT(I212,4)=\"Case\",INDEX('Equipment Type'!$V$4:$V$53, MATCH('Analysis 103L'!$K212, 'Equipment Type'!$A$4:$A$53, 0)), \"\")","v":""},"","","",{"$f":"IF(CI212=\"\", \"\", IF(RIGHT(I212,4)=\"Case\", INDEX('LED Case Lighting'!$AR$3:$AR$16, MATCH('Analysis 103L'!CI212, 'LED Case Lighting'!$AS$3:$AS$16, 0)), \"\"))","v":""},{"$f":"IF(CI212=\"\",\"\",INDEX('LED Case Lighting'!$AW$3:$AW$16,MATCH('Analysis 103L'!CI212,'LED Case Lighting'!$AS$3:$AS$16,0)))","v":""},{"$f":"IF(CI212=\"\",\"\",INDEX('LED Case Lighting'!$AX$3:$AX$16,MATCH('Analysis 103L'!CI212,'LED Case Lighting'!$AS$3:$AS$16,0)))","v":""},""]
[186,null,null,null,null,null,"",null,{"$f":"IF(K213=\"\",\"\",VLOOKUP(K213,'Equipment Type'!$A$1:$F$53,5,FALSE))","v":""},{"$f":"IF(K213=\"\",\"\",VLOOKUP(K213,'Equipment Type'!$A$1:$F$53,6,FALSE))","v":""},null,{"$f":"IF(K213=\"\",\"\",VLOOKUP(K213,'Equipment Type'!$A$1:$F$53,4,FALSE))","v":""},null,{"$f":"IF(K213=\"\",\"\",INDEX('Equipment Type'!$T$4:$T$53,MATCH('Analysis 103L'!K213,'Equipment Type'!$A$4:$A$53,0)))","v":""},"",null,{"$f":"IF(RIGHT(I213, 4)=\"Case\", \"\", IF(P213=\"\",\"\",(IF(ISNUMBER(SEARCH(\"exit\",J213)),8760,IF(B213=\"Exterior\",4380,'Analysis 103L'!$J$3)))))","v":""},null,"","","","","","","","",{"$f":"IF('100L Information'!$Z$5=\"Yes\",0,IF('100L Information'!$Z$4=\"Yes\",(MIN($Y$232-(-$Y$227),6000)*0.5)*(Y213/$Y$232),$Y$232*(Y213/($Y$230+$Y$231))))","v":{"$error":"#VALUE!"}},"",{"$error":"#VALUE!"},"No requirement",0,{"$f":"IF(OR(Z213=\"Does not meet requirement\",AND('100L Information'!$AA$21=\"No\",AL213=\"Y\"),AND('100L Information'!$AS$21=FALSE,AL213=\"Y\")),0,IF(ISNUMBER(R213*Incent_Cost_Fixture_Rx),MIN(R213*Incent_Cost_Fixture_Rx,(MAX(AE213,AK213))),0))","v":0},"FAIL","0","0","0",0,"N","0","0",null,"","",0,"",{"$f":"IF(RIGHT(I213,4)=\"Case\",W213,IF(AND(AL213=\"Y\",AF213<1),0,IF(OR(LEFT(D213,2)=\"T5\",LEFT(D213,3)=\"CFL\",'Analysis 103L'!AS213=\"Less\"),'Analysis 103L'!AR213,'Analysis 103L'!W213)))","v":""},null,0,0,null,{"$error":"#VALUE!"},{"$error":"#VALUE!"},{"$error":"#VALUE!"},null,null,{"$f":"IF(RIGHT(I213,4)=\"Case\",'LED Case Lighting'!$AY$1,IF(J213=\"\",\"\",VLOOKUP(J213,Lookups!$A$30:$J$149,VLOOKUP('100L Information'!$AI$46,Lookups!$J$3:$L$6,3,FALSE),FALSE)))","v":""},{"$error":"#N/A"},"","",{"$error":"#VALUE!"},{"$error":"#VALUE!"},{"$error":"#VALUE!"},{"$error":"#N/A"},0,{"$error":"#N/A"},0,{"$error":"#VALUE!"},{"$error":"#VALUE!"},{"$error":"#VALUE!"},"FAIL",null,null,null,null,null,null,null,"Interior / Exterior",null,"",null,{"$f":"IF(RIGHT(I213,4)=\"Case\",(INDEX('LED Case Lighting'!$AZ$3:$AZ$16,MATCH('Analysis 103L'!$CI213,'LED Case Lighting'!$AS$3:$AS$16,0))),IF(CB213=0,0,IF(CB213=\"lamp\",((Q213/VLOOKUP(B213,Int_Ext,2,FALSE))*VLOOKUP(E213,NEB,16,FALSE)),IF(CB213=\"fixture\",((Q213/VLOOKUP(B213,Int_Ext,2,FALSE))*VLOOKUP(E213,NEB,14,FALSE)),\"\"))))","v":""},null,{"$f":"IF(RIGHT(I213,4)=\"Case\",INDEX('Equipment Type'!$V$4:$V$53, MATCH('Analysis 103L'!$K213, 'Equipment Type'!$A$4:$A$53, 0)), \"\")","v":""},"","","",{"$f":"IF(CI213=\"\", \"\", IF(RIGHT(I213,4)=\"Case\", INDEX('LED Case Lighting'!$AR$3:$AR$16, MATCH('Analysis 103L'!CI213, 'LED Case Lighting'!$AS$3:$AS$16, 0)), \"\"))","v":""},{"$f":"IF(CI213=\"\",\"\",INDEX('LED Case Lighting'!$AW$3:$AW$16,MATCH('Analysis 103L'!CI213,'LED Case Lighting'!$AS$3:$AS$16,0)))","v":""},{"$f":"IF(CI213=\"\",\"\",INDEX('LED Case Lighting'!$AX$3:$AX$16,MATCH('Analysis 103L'!CI213,'LED Case Lighting'!$AS$3:$AS$16,0)))","v":""},""]
[187,null,null,null,null,null,"",null,{"$f":"IF(K214=\"\",\"\",VLOOKUP(K214,'Equipment Type'!$A$1:$F$53,5,FALSE))","v":""},{"$f":"IF(K214=\"\",\"\",VLOOKUP(K214,'Equipment Type'!$A$1:$F$53,6,FALSE))","v":""},null,{"$f":"IF(K214=\"\",\"\",VLOOKUP(K214,'Equipment Type'!$A$1:$F$53,4,FALSE))","v":""},null,{"$f":"IF(K214=\"\",\"\",INDEX('Equipment Type'!$T$4:$T$53,MATCH('Analysis 103L'!K214,'Equipment Type'!$A$4:$A$53,0)))","v":""},"",null,{"$f":"IF(RIGHT(I214, 4)=\"Case\", \"\", IF(P214=\"\",\"\",(IF(ISNUMBER(SEARCH(\"exit\",J214)),8760,IF(B214=\"Exterior\",4380,'Analysis 103L'!$J$3)))))","v":""},null,"","","","","","","","",{"$f":"IF('100L Information'!$Z$5=\"Yes\",0,IF('100L Information'!$Z$4=\"Yes\",(MIN($Y$232-(-$Y$227),6000)*0.5)*(Y214/$Y$232),$Y$232*(Y214/($Y$230+$Y$231))))","v":{"$error":"#VALUE!"}},"",{"$error":"#VALUE!"},"No requirement",0,{"$f":"IF(OR(Z214=\"Does not meet requirement\",AND('100L Information'!$AA$21=\"No\",AL214=\"Y\"),AND('100L Information'!$AS$21=FALSE,AL214=\"Y\")),0,IF(ISNUMBER(R214*Incent_Cost_Fixture_Rx),MIN(R214*Incent_Cost_Fixture_Rx,(MAX(AE214,AK214))),0))","v":0},"FAIL","0","0","0",0,"N","0","0",null,"","",0,"",{"$f":"IF(RIGHT(I214,4)=\"Case\",W214,IF(AND(AL214=\"Y\",AF214<1),0,IF(OR(LEFT(D214,2)=\"T5\",LEFT(D214,3)=\"CFL\",'Analysis 103L'!AS214=\"Less\"),'Analysis 103L'!AR214,'Analysis 103L'!W214)))","v":""},null,0,0,null,{"$error":"#VALUE!"},{"$error":"#VALUE!"},{"$error":"#VALUE!"},null,null,{"$f":"IF(RIGHT(I214,4)=\"Case\",'LED Case Lighting'!$AY$1,IF(J214=\"\",\"\",VLOOKUP(J214,Lookups!$A$30:$J$149,VLOOKUP('100L Information'!$AI$46,Lookups!$J$3:$L$6,3,FALSE),FALSE)))","v":""},{"$error":"#N/A"},"","",{"$error":"#VALUE!"},{"$error":"#VALUE!"},{"$error":"#VALUE!"},{"$error":"#N/A"},0,{"$error":"#N/A"},0,{"$error":"#VALUE!"},{"$error":"#VALUE!"},{"$error":"#VALUE!"},"FAIL",null,null,null,null,null,null,null,"Interior / Exterior",null,"",null,{"$f":"IF(RIGHT(I214,4)=\"Case\",(INDEX('LED Case Lighting'!$AZ$3:$AZ$16,MATCH('Analysis 103L'!$CI214,'LED Case Lighting'!$AS$3:$AS$16,0))),IF(CB214=0,0,IF(CB214=\"lamp\",((Q214/VLOOKUP(B214,Int_Ext,2,FALSE))*VLOOKUP(E214,NEB,16,FALSE)),IF(CB214=\"fixture\",((Q214/VLOOKUP(B214,Int_Ext,2,FALSE))*VLOOKUP(E214,NEB,14,FALSE)),\"\"))))","v":""},null,{"$f":"IF(RIGHT(I214,4)=\"Case\",INDEX('Equipment Type'!$V$4:$V$53, MATCH('Analysis 103L'!$K214, 'Equipment Type'!$A$4:$A$53, 0)), \"\")","v":""},"","","",{"$f":"IF(CI214=\"\", \"\", IF(RIGHT(I214,4)=\"Case\", INDEX('LED Case Lighting'!$AR$3:$AR$16, MATCH('Analysis 103L'!CI214, 'LED Case Lighting'!$AS$3:$AS$16, 0)), \"\"))","v":""},{"$f":"IF(CI214=\"\",\"\",INDEX('LED Case Lighting'!$AW$3:$AW$16,MATCH('Analysis 103L'!CI214,'LED Case Lighting'!$AS$3:$AS$16,0)))","v":""},{"$f":"IF(CI214=\"\",\"\",INDEX('LED Case Lighting'!$AX$3:$AX$16,MATCH('Analysis 103L'!CI214,'LED Case Lighting'!$AS$3:$AS$16,0)))","v":""},""]
[188,null,null,null,null,null,"",null,{"$f":"IF(K215=\"\",\"\",VLOOKUP(K215,'Equipment Type'!$A$1:$F$53,5,FALSE))","v":""},{"$f":"IF(K215=\"\",\"\",VLOOKUP(K215,'Equipment Type'!$A$1:$F$53,6,FALSE))","v":""},null,{"$f":"IF(K215=\"\",\"\",VLOOKUP(K215,'Equipment Type'!$A$1:$F$53,4,FALSE))","v":""},null,{"$f":"IF(K215=\"\",\"\",INDEX('Equipment Type'!$T$4:$T$53,MATCH('Analysis 103L'!K215,'Equipment Type'!$A$4:$A$53,0)))","v":""},"",null,{"$f":"IF(RIGHT(I215, 4)=\"Case\", \"\", IF(P215=\"\",\"\",(IF(ISNUMBER(SEARCH(\"exit\",J215)),8760,IF(B215=\"Exterior\",4380,'Analysis 103L'!$J$3)))))","v":""},null,"","","","","","","","",{"$f":"IF('100L Information'!$Z$5=\"Yes\",0,IF('100L Information'!$Z$4=\"Yes\",(MIN($Y$232-(-$Y$227),6000)*0.5)*(Y215/$Y$232),$Y$232*(Y215/($Y$230+$Y$231))))","v":{"$error":"#VALUE!"}},"",{"$error":"#VALUE!"},"No requirement",{"$f":"MAX(IF(ISERROR(VLOOKUP(CONCATENATE(J215,\" from \",VLOOKUP(D215,ExistFixtCat,4,FALSE)),PropFixtIncent,2,FALSE)),0,VLOOKUP(CONCATENATE(J215,\" from \",VLOOKUP(D215,ExistFixtCat,4,FALSE)),PropFixtIncent,2,FALSE)),IF(ISERROR(VLOOKUP(CONCATENATE(J215,\" from ANY\"),PropFixtIncent,2,FALSE)),0,VLOOKUP(CONCATENATE(J215,\" from ANY\"),PropFixtIncent,2,FALSE)))","v":0},{"$f":"IF(OR(Z215=\"Does not meet requirement\",AND('100L Information'!$AA$21=\"No\",AL215=\"Y\"),AND('100L Information'!$AS$21=FALSE,AL215=\"Y\")),0,IF(ISNUMBER(R215*Incent_Cost_Fixture_Rx),MIN(R215*Incent_Cost_Fixture_Rx,(MAX(AE215,AK215))),0))","v":0},"FAIL","0","0","0",0,"N","0","0",null,"","",0,"",{"$f":"IF(RIGHT(I215,4)=\"Case\",W215,IF(AND(AL215=\"Y\",AF215<1),0,IF(OR(LEFT(D215,2)=\"T5\",LEFT(D215,3)=\"CFL\",'Analysis 103L'!AS215=\"Less\"),'Analysis 103L'!AR215,'Analysis 103L'!W215)))","v":""},null,0,0,null,{"$error":"#VALUE!"},{"$error":"#VALUE!"},{"$error":"#VALUE!"},null,null,{"$f":"IF(RIGHT(I215,4)=\"Case\",'LED Case Lighting'!$AY$1,IF(J215=\"\",\"\",VLOOKUP(J215,Lookups!$A$30:$J$149,VLOOKUP('100L Information'!$AI$46,Lookups!$J$3:$L$6,3,FALSE),FALSE)))","v":""},{"$error":"#N/A"},"","",{"$error":"#VALUE!"},{"$error":"#VALUE!"},{"$error":"#VALUE!"},{"$error":"#N/A"},0,{"$error":"#N/A"},0,{"$error":"#VALUE!"},{"$error":"#VALUE!"},{"$error":"#VALUE!"},"FAIL",null,null,null,null,null,null,null,"Interior / Exterior",null,"",null,{"$f":"IF(RIGHT(I215,4)=\"Case\",(INDEX('LED Case Lighting'!$AZ$3:$AZ$16,MATCH('Analysis 103L'!$CI215,'LED Case Lighting'!$AS$3:$AS$16,0))),IF(CB215=0,0,IF(CB215=\"lamp\",((Q215/VLOOKUP(B215,Int_Ext,2,FALSE))*VLOOKUP(E215,NEB,16,FALSE)),IF(CB215=\"fixture\",((Q215/VLOOKUP(B215,Int_Ext,2,FALSE))*VLOOKUP(E215,NEB,14,FALSE)),\"\"))))","v":""},null,{"$f":"IF(RIGHT(I215,4)=\"Case\",INDEX('Equipment Type'!$V$4:$V$53, MATCH('Analysis 103L'!$K215, 'Equipment Type'!$A$4:$A$53, 0)), \"\")","v":""},"","","",{"$f":"IF(CI215=\"\", \"\", IF(RIGHT(I215,4)=\"Case\", INDEX('LED Case Lighting'!$AR$3:$AR$16, MATCH('Analysis 103L'!CI215, 'LED Case Lighting'!$AS$3:$AS$16, 0)), \"\"))","v":""},{"$f":"IF(CI215=\"\",\"\",INDEX('LED Case Lighting'!$AW$3:$AW$16,MATCH('Analysis 103L'!CI215,'LED Case Lighting'!$AS$3:$AS$16,0)))","v":""},{"$f":"IF(CI215=\"\",\"\",INDEX('LED Case Lighting'!$AX$3:$AX$16,MATCH('Analysis 103L'!CI215,'LED Case Lighting'!$AS$3:$AS$16,0)))","v":""},""]
[189,null,null,null,null,null,"",null,{"$f":"IF(K216=\"\",\"\",VLOOKUP(K216,'Equipment Type'!$A$1:$F$53,5,FALSE))","v":""},{"$f":"IF(K216=\"\",\"\",VLOOKUP(K216,'Equipment Type'!$A$1:$F$53,6,FALSE))","v":""},null,{"$f":"IF(K216=\"\",\"\",VLOOKUP(K216,'Equipment Type'!$A$1:$F$53,4,FALSE))","v":""},null,{"$f":"IF(K216=\"\",\"\",INDEX('Equipment Type'!$T$4:$T$53,MATCH('Analysis 103L'!K216,'Equipment Type'!$A$4:$A$53,0)))","v":""},"",null,{"$f":"IF(RIGHT(I216, 4)=\"Case\", \"\", IF(P216=\"\",\"\",(IF(ISNUMBER(SEARCH(\"exit\",J216)),8760,IF(B216=\"Exterior\",4380,'Analysis 103L'!$J$3)))))","v":""},null,"","","","","","","","",{"$f":"IF('100L Information'!$Z$5=\"Yes\",0,IF('100L Information'!$Z$4=\"Yes\",(MIN($Y$232-(-$Y$227),6000)*0.5)*(Y216/$Y$232),$Y$232*(Y216/($Y$230+$Y$231))))","v":{"$error":"#VALUE!"}},"",{"$error":"#VALUE!"},"No requirement",{"$f":"MAX(IF(ISERROR(VLOOKUP(CONCATENATE(J216,\" from \",VLOOKUP(D216,ExistFixtCat,4,FALSE)),PropFixtIncent,2,FALSE)),0,VLOOKUP(CONCATENATE(J216,\" from \",VLOOKUP(D216,ExistFixtCat,4,FALSE)),PropFixtIncent,2,FALSE)),IF(ISERROR(VLOOKUP(CONCATENATE(J216,\" from ANY\"),PropFixtIncent,2,FALSE)),0,VLOOKUP(CONCATENATE(J216,\" from ANY\"),PropFixtIncent,2,FALSE)))","v":0},{"$f":"IF(OR(Z216=\"Does not meet requirement\",AND('100L Information'!$AA$21=\"No\",AL216=\"Y\"),AND('100L Information'!$AS$21=FALSE,AL216=\"Y\")),0,IF(ISNUMBER(R216*Incent_Cost_Fixture_Rx),MIN(R216*Incent_Cost_Fixture_Rx,(MAX(AE216,AK216))),0))","v":0},"FAIL","0","0","0",0,"N","0","0",null,"","",0,"",{"$f":"IF(RIGHT(I216,4)=\"Case\",W216,IF(AND(AL216=\"Y\",AF216<1),0,IF(OR(LEFT(D216,2)=\"T5\",LEFT(D216,3)=\"CFL\",'Analysis 103L'!AS216=\"Less\"),'Analysis 103L'!AR216,'Analysis 103L'!W216)))","v":""},null,0,0,null,{"$error":"#VALUE!"},{"$error":"#VALUE!"},{"$error":"#VALUE!"},null,null,{"$f":"IF(RIGHT(I216,4)=\"Case\",'LED Case Lighting'!$AY$1,IF(J216=\"\",\"\",VLOOKUP(J216,Lookups!$A$30:$J$149,VLOOKUP('100L Information'!$AI$46,Lookups!$J$3:$L$6,3,FALSE),FALSE)))","v":""},{"$error":"#N/A"},"","",{"$error":"#VALUE!"},{"$error":"#VALUE!"},{"$error":"#VALUE!"},{"$error":"#N/A"},0,{"$error":"#N/A"},0,{"$error":"#VALUE!"},{"$error":"#VALUE!"},{"$error":"#VALUE!"},"FAIL",null,null,null,null,null,null,null,"Interior / Exterior",null,"",null,{"$f":"IF(RIGHT(I216,4)=\"Case\",(INDEX('LED Case Lighting'!$AZ$3:$AZ$16,MATCH('Analysis 103L'!$CI216,'LED Case Lighting'!$AS$3:$AS$16,0))),IF(CB216=0,0,IF(CB216=\"lamp\",((Q216/VLOOKUP(B216,Int_Ext,2,FALSE))*VLOOKUP(E216,NEB,16,FALSE)),IF(CB216=\"fixture\",((Q216/VLOOKUP(B216,Int_Ext,2,FALSE))*VLOOKUP(E216,NEB,14,FALSE)),\"\"))))","v":""},null,{"$f":"IF(RIGHT(I216,4)=\"Case\",INDEX('Equipment Type'!$V$4:$V$53, MATCH('Analysis 103L'!$K216, 'Equipment Type'!$A$4:$A$53, 0)), \"\")","v":""},"","","",{"$f":"IF(CI216=\"\", \"\", IF(RIGHT(I216,4)=\"Case\", INDEX('LED Case Lighting'!$AR$3:$AR$16, MATCH('Analysis 103L'!CI216, 'LED Case Lighting'!$AS$3:$AS$16, 0)), \"\"))","v":""},{"$f":"IF(CI216=\"\",\"\",INDEX('LED Case Lighting'!$AW$3:$AW$16,MATCH('Analysis 103L'!CI216,'LED Case Lighting'!$AS$3:$AS$16,0)))","v":""},{"$f":"IF(CI216=\"\",\"\",INDEX('LED Case Lighting'!$AX$3:$AX$16,MATCH('Analysis 103L'!CI216,'LED Case Lighting'!$AS$3:$AS$16,0)))","v":""},""]
[190,null,null,null,null,null,"",null,{"$f":"IF(K217=\"\",\"\",VLOOKUP(K217,'Equipment Type'!$A$1:$F$53,5,FALSE))","v":""},{"$f":"IF(K217=\"\",\"\",VLOOKUP(K217,'Equipment Type'!$A$1:$F$53,6,FALSE))","v":""},null,{"$f":"IF(K217=\"\",\"\",VLOOKUP(K217,'Equipment Type'!$A$1:$F$53,4,FALSE))","v":""},null,{"$f":"IF(K217=\"\",\"\",INDEX('Equipment Type'!$T$4:$T$53,MATCH('Analysis 103L'!K217,'Equipment Type'!$A$4:$A$53,0)))","v":""},"",null,{"$f":"IF(RIGHT(I217, 4)=\"Case\", \"\", IF(P217=\"\",\"\",(IF(ISNUMBER(SEARCH(\"exit\",J217)),8760,IF(B217=\"Exterior\",4380,'Analysis 103L'!$J$3)))))","v":""},null,"","","","","","","","",{"$f":"IF('100L Information'!$Z$5=\"Yes\",0,IF('100L Information'!$Z$4=\"Yes\",(MIN($Y$232-(-$Y$227),6000)*0.5)*(Y217/$Y$232),$Y$232*(Y217/($Y$230+$Y$231))))","v":{"$error":"#VALUE!"}},"",{"$error":"#VALUE!"},"No requirement",{"$f":"MAX(IF(ISERROR(VLOOKUP(CONCATENATE(J217,\" from \",VLOOKUP(D217,ExistFixtCat,4,FALSE)),PropFixtIncent,2,FALSE)),0,VLOOKUP(CONCATENATE(J217,\" from \",VLOOKUP(D217,ExistFixtCat,4,FALSE)),PropFixtIncent,2,FALSE)),IF(ISERROR(VLOOKUP(CONCATENATE(J217,\" from ANY\"),PropFixtIncent,2,FALSE)),0,VLOOKUP(CONCATENATE(J217,\" from ANY\"),PropFixtIncent,2,FALSE)))","v":0},{"$f":"IF(OR(Z217=\"Does not meet requirement\",AND('100L Information'!$AA$21=\"No\",AL217=\"Y\"),AND('100L Information'!$AS$21=FALSE,AL217=\"Y\")),0,IF(ISNUMBER(R217*Incent_Cost_Fixture_Rx),MIN(R217*Incent_Cost_Fixture_Rx,(MAX(AE217,AK217))),0))","v":0},"FAIL","0","0","0",0,"N","0","0",null,"","",0,"",{"$f":"IF(RIGHT(I217,4)=\"Case\",W217,IF(AND(AL217=\"Y\",AF217<1),0,IF(OR(LEFT(D217,2)=\"T5\",LEFT(D217,3)=\"CFL\",'Analysis 103L'!AS217=\"Less\"),'Analysis 103L'!AR217,'Analysis 103L'!W217)))","v":""},null,0,0,null,{"$error":"#VALUE!"},{"$error":"#VALUE!"},{"$error":"#VALUE!"},null,null,{"$f":"IF(RIGHT(I217,4)=\"Case\",'LED Case Lighting'!$AY$1,IF(J217=\"\",\"\",VLOOKUP(J217,Lookups!$A$30:$J$149,VLOOKUP('100L Information'!$AI$46,Lookups!$J$3:$L$6,3,FALSE),FALSE)))","v":""},{"$error":"#N/A"},"","",{"$error":"#VALUE!"},{"$error":"#VALUE!"},{"$error":"#VALUE!"},{"$error":"#N/A"},0,{"$error":"#N/A"},0,{"$error":"#VALUE!"},{"$error":"#VALUE!"},{"$error":"#VALUE!"},"FAIL",null,null,null,null,null,null,null,"Interior / Exterior",null,"",null,{"$f":"IF(RIGHT(I217,4)=\"Case\",(INDEX('LED Case Lighting'!$AZ$3:$AZ$16,MATCH('Analysis 103L'!$CI217,'LED Case Lighting'!$AS$3:$AS$16,0))),IF(CB217=0,0,IF(CB217=\"lamp\",((Q217/VLOOKUP(B217,Int_Ext,2,FALSE))*VLOOKUP(E217,NEB,16,FALSE)),IF(CB217=\"fixture\",((Q217/VLOOKUP(B217,Int_Ext,2,FALSE))*VLOOKUP(E217,NEB,14,FALSE)),\"\"))))","v":""},null,{"$f":"IF(RIGHT(I217,4)=\"Case\",INDEX('Equipment Type'!$V$4:$V$53, MATCH('Analysis 103L'!$K217, 'Equipment Type'!$A$4:$A$53, 0)), \"\")","v":""},"","","",{"$f":"IF(CI217=\"\", \"\", IF(RIGHT(I217,4)=\"Case\", INDEX('LED Case Lighting'!$AR$3:$AR$16, MATCH('Analysis 103L'!CI217, 'LED Case Lighting'!$AS$3:$AS$16, 0)), \"\"))","v":""},{"$f":"IF(CI217=\"\",\"\",INDEX('LED Case Lighting'!$AW$3:$AW$16,MATCH('Analysis 103L'!CI217,'LED Case Lighting'!$AS$3:$AS$16,0)))","v":""},{"$f":"IF(CI217=\"\",\"\",INDEX('LED Case Lighting'!$AX$3:$AX$16,MATCH('Analysis 103L'!CI217,'LED Case Lighting'!$AS$3:$AS$16,0)))","v":""},""]
[191,null,null,null,null,null,"",null,{"$f":"IF(K218=\"\",\"\",VLOOKUP(K218,'Equipment Type'!$A$1:$F$53,5,FALSE))","v":""},{"$f":"IF(K218=\"\",\"\",VLOOKUP(K218,'Equipment Type'!$A$1:$F$53,6,FALSE))","v":""},null,{"$f":"IF(K218=\"\",\"\",VLOOKUP(K218,'Equipment Type'!$A$1:$F$53,4,FALSE))","v":""},null,{"$f":"IF(K218=\"\",\"\",INDEX('Equipment Type'!$T$4:$T$53,MATCH('Analysis 103L'!K218,'Equipment Type'!$A$4:$A$53,0)))","v":""},"",null,{"$f":"IF(RIGHT(I218, 4)=\"Case\", \"\", IF(P218=\"\",\"\",(IF(ISNUMBER(SEARCH(\"exit\",J218)),8760,IF(B218=\"Exterior\",4380,'Analysis 103L'!$J$3)))))","v":""},null,"","","","","","","","",{"$f":"IF('100L Information'!$Z$5=\"Yes\",0,IF('100L Information'!$Z$4=\"Yes\",(MIN($Y$232-(-$Y$227),6000)*0.5)*(Y218/$Y$232),$Y$232*(Y218/($Y$230+$Y$231))))","v":{"$error":"#VALUE!"}},"",{"$error":"#VALUE!"},"No requirement",{"$f":"MAX(IF(ISERROR(VLOOKUP(CONCATENATE(J218,\" from \",VLOOKUP(D218,ExistFixtCat,4,FALSE)),PropFixtIncent,2,FALSE)),0,VLOOKUP(CONCATENATE(J218,\" from \",VLOOKUP(D218,ExistFixtCat,4,FALSE)),PropFixtIncent,2,FALSE)),IF(ISERROR(VLOOKUP(CONCATENATE(J218,\" from ANY\"),PropFixtIncent,2,FALSE)),0,VLOOKUP(CONCATENATE(J218,\" from ANY\"),PropFixtIncent,2,FALSE)))","v":0},{"$f":"IF(OR(Z218=\"Does not meet requirement\",AND('100L Information'!$AA$21=\"No\",AL218=\"Y\"),AND('100L Information'!$AS$21=FALSE,AL218=\"Y\")),0,IF(ISNUMBER(R218*Incent_Cost_Fixture_Rx),MIN(R218*Incent_Cost_Fixture_Rx,(MAX(AE218,AK218))),0))","v":0},"FAIL","0","0","0",0,"N","0","0",null,"","",0,"",{"$f":"IF(RIGHT(I218,4)=\"Case\",W218,IF(AND(AL218=\"Y\",AF218<1),0,IF(OR(LEFT(D218,2)=\"T5\",LEFT(D218,3)=\"CFL\",'Analysis 103L'!AS218=\"Less\"),'Analysis 103L'!AR218,'Analysis 103L'!W218)))","v":""},null,0,0,null,{"$error":"#VALUE!"},{"$error":"#VALUE!"},{"$error":"#VALUE!"},null,null,{"$f":"IF(RIGHT(I218,4)=\"Case\",'LED Case Lighting'!$AY$1,IF(J218=\"\",\"\",VLOOKUP(J218,Lookups!$A$30:$J$149,VLOOKUP('100L Information'!$AI$46,Lookups!$J$3:$L$6,3,FALSE),FALSE)))","v":""},{"$error":"#N/A"},"","",{"$error":"#VALUE!"},{"$error":"#VALUE!"},{"$error":"#VALUE!"},{"$error":"#N/A"},0,{"$error":"#N/A"},0,{"$error":"#VALUE!"},{"$error":"#VALUE!"},{"$error":"#VALUE!"},"FAIL",null,null,null,null,null,null,null,"Interior / Exterior",null,"",null,{"$f":"IF(RIGHT(I218,4)=\"Case\",(INDEX('LED Case Lighting'!$AZ$3:$AZ$16,MATCH('Analysis 103L'!$CI218,'LED Case Lighting'!$AS$3:$AS$16,0))),IF(CB218=0,0,IF(CB218=\"lamp\",((Q218/VLOOKUP(B218,Int_Ext,2,FALSE))*VLOOKUP(E218,NEB,16,FALSE)),IF(CB218=\"fixture\",((Q218/VLOOKUP(B218,Int_Ext,2,FALSE))*VLOOKUP(E218,NEB,14,FALSE)),\"\"))))","v":""},null,{"$f":"IF(RIGHT(I218,4)=\"Case\",INDEX('Equipment Type'!$V$4:$V$53, MATCH('Analysis 103L'!$K218, 'Equipment Type'!$A$4:$A$53, 0)), \"\")","v":""},"","","",{"$f":"IF(CI218=\"\", \"\", IF(RIGHT(I218,4)=\"Case\", INDEX('LED Case Lighting'!$AR$3:$AR$16, MATCH('Analysis 103L'!CI218, 'LED Case Lighting'!$AS$3:$AS$16, 0)), \"\"))","v":""},{"$f":"IF(CI218=\"\",\"\",INDEX('LED Case Lighting'!$AW$3:$AW$16,MATCH('Analysis 103L'!CI218,'LED Case Lighting'!$AS$3:$AS$16,0)))","v":""},{"$f":"IF(CI218=\"\",\"\",INDEX('LED Case Lighting'!$AX$3:$AX$16,MATCH('Analysis 103L'!CI218,'LED Case Lighting'!$AS$3:$AS$16,0)))","v":""},""]
[192,null,null,null,null,null,"",null,{"$f":"IF(K219=\"\",\"\",VLOOKUP(K219,'Equipment Type'!$A$1:$F$53,5,FALSE))","v":""},{"$f":"IF(K219=\"\",\"\",VLOOKUP(K219,'Equipment Type'!$A$1:$F$53,6,FALSE))","v":""},null,{"$f":"IF(K219=\"\",\"\",VLOOKUP(K219,'Equipment Type'!$A$1:$F$53,4,FALSE))","v":""},null,{"$f":"IF(K219=\"\",\"\",INDEX('Equipment Type'!$T$4:$T$53,MATCH('Analysis 103L'!K219,'Equipment Type'!$A$4:$A$53,0)))","v":""},"",null,{"$f":"IF(RIGHT(I219, 4)=\"Case\", \"\", IF(P219=\"\",\"\",(IF(ISNUMBER(SEARCH(\"exit\",J219)),8760,IF(B219=\"Exterior\",4380,'Analysis 103L'!$J$3)))))","v":""},null,"","","","","","","","",{"$f":"IF('100L Information'!$Z$5=\"Yes\",0,IF('100L Information'!$Z$4=\"Yes\",(MIN($Y$232-(-$Y$227),6000)*0.5)*(Y219/$Y$232),$Y$232*(Y219/($Y$230+$Y$231))))","v":{"$error":"#VALUE!"}},"",{"$error":"#VALUE!"},"No requirement",{"$f":"MAX(IF(ISERROR(VLOOKUP(CONCATENATE(J219,\" from \",VLOOKUP(D219,ExistFixtCat,4,FALSE)),PropFixtIncent,2,FALSE)),0,VLOOKUP(CONCATENATE(J219,\" from \",VLOOKUP(D219,ExistFixtCat,4,FALSE)),PropFixtIncent,2,FALSE)),IF(ISERROR(VLOOKUP(CONCATENATE(J219,\" from ANY\"),PropFixtIncent,2,FALSE)),0,VLOOKUP(CONCATENATE(J219,\" from ANY\"),PropFixtIncent,2,FALSE)))","v":0},{"$f":"IF(OR(Z219=\"Does not meet requirement\",AND('100L Information'!$AA$21=\"No\",AL219=\"Y\"),AND('100L Information'!$AS$21=FALSE,AL219=\"Y\")),0,IF(ISNUMBER(R219*Incent_Cost_Fixture_Rx),MIN(R219*Incent_Cost_Fixture_Rx,(MAX(AE219,AK219))),0))","v":0},"FAIL","0","0","0",0,"N","0","0",null,"","",0,"",{"$f":"IF(RIGHT(I219,4)=\"Case\",W219,IF(AND(AL219=\"Y\",AF219<1),0,IF(OR(LEFT(D219,2)=\"T5\",LEFT(D219,3)=\"CFL\",'Analysis 103L'!AS219=\"Less\"),'Analysis 103L'!AR219,'Analysis 103L'!W219)))","v":""},null,0,0,null,{"$error":"#VALUE!"},{"$error":"#VALUE!"},{"$error":"#VALUE!"},null,null,{"$f":"IF(RIGHT(I219,4)=\"Case\",'LED Case Lighting'!$AY$1,IF(J219=\"\",\"\",VLOOKUP(J219,Lookups!$A$30:$J$149,VLOOKUP('100L Information'!$AI$46,Lookups!$J$3:$L$6,3,FALSE),FALSE)))","v":""},{"$error":"#N/A"},"","",{"$error":"#VALUE!"},{"$error":"#VALUE!"},{"$error":"#VALUE!"},{"$error":"#N/A"},0,{"$error":"#N/A"},0,{"$error":"#VALUE!"},{"$error":"#VALUE!"},{"$error":"#VALUE!"},"FAIL",null,null,null,null,null,null,null,"Interior / Exterior",null,"",null,{"$f":"IF(RIGHT(I219,4)=\"Case\",(INDEX('LED Case Lighting'!$AZ$3:$AZ$16,MATCH('Analysis 103L'!$CI219,'LED Case Lighting'!$AS$3:$AS$16,0))),IF(CB219=0,0,IF(CB219=\"lamp\",((Q219/VLOOKUP(B219,Int_Ext,2,FALSE))*VLOOKUP(E219,NEB,16,FALSE)),IF(CB219=\"fixture\",((Q219/VLOOKUP(B219,Int_Ext,2,FALSE))*VLOOKUP(E219,NEB,14,FALSE)),\"\"))))","v":""},null,{"$f":"IF(RIGHT(I219,4)=\"Case\",INDEX('Equipment Type'!$V$4:$V$53, MATCH('Analysis 103L'!$K219, 'Equipment Type'!$A$4:$A$53, 0)), \"\")","v":""},"","","",{"$f":"IF(CI219=\"\", \"\", IF(RIGHT(I219,4)=\"Case\", INDEX('LED Case Lighting'!$AR$3:$AR$16, MATCH('Analysis 103L'!CI219, 'LED Case Lighting'!$AS$3:$AS$16, 0)), \"\"))","v":""},{"$f":"IF(CI219=\"\",\"\",INDEX('LED Case Lighting'!$AW$3:$AW$16,MATCH('Analysis 103L'!CI219,'LED Case Lighting'!$AS$3:$AS$16,0)))","v":""},{"$f":"IF(CI219=\"\",\"\",INDEX('LED Case Lighting'!$AX$3:$AX$16,MATCH('Analysis 103L'!CI219,'LED Case Lighting'!$AS$3:$AS$16,0)))","v":""},""]
[193,null,null,null,null,null,"",null,{"$f":"IF(K220=\"\",\"\",VLOOKUP(K220,'Equipment Type'!$A$1:$F$53,5,FALSE))","v":""},{"$f":"IF(K220=\"\",\"\",VLOOKUP(K220,'Equipment Type'!$A$1:$F$53,6,FALSE))","v":""},null,{"$f":"IF(K220=\"\",\"\",VLOOKUP(K220,'Equipment Type'!$A$1:$F$53,4,FALSE))","v":""},null,{"$f":"IF(K220=\"\",\"\",INDEX('Equipment Type'!$T$4:$T$53,MATCH('Analysis 103L'!K220,'Equipment Type'!$A$4:$A$53,0)))","v":""},"",null,{"$f":"IF(RIGHT(I220, 4)=\"Case\", \"\", IF(P220=\"\",\"\",(IF(ISNUMBER(SEARCH(\"exit\",J220)),8760,IF(B220=\"Exterior\",4380,'Analysis 103L'!$J$3)))))","v":""},null,"","","","","",{"$f":"IF(M220=\"Y\",\"CustomCalc\",IF(RIGHT(I220, 4)=\"Case\", \"\",IF(AD220=1,\"\",IF(AF220>0,AF220,\"\"))))","v":""},"",{"$f":"IF(M220 = \"Y\",IF(AND(M220=\"Y\",AG220=\"FAIL\"),\"Not Cost Effective\",\"\"),IF(AD220=1,\"Does not meet requirement\",\"\"))","v":""},{"$f":"IF('100L Information'!$Z$5=\"Yes\",0,IF('100L Information'!$Z$4=\"Yes\",(MIN($Y$232-(-$Y$227),6000)*0.5)*(Y220/$Y$232),$Y$232*(Y220/($Y$230+$Y$231))))","v":{"$error":"#VALUE!"}},"",{"$f":"IF(RIGHT(I220, 4)=\"Case\", \"\", MIN(W220*IF(I220=\"GROW\", RunRateMax_CustomMeasures_Horti, IF(I220=\"Street_Lighting\", RunRateMax_Streetlighting, RunRateMax_CustomMeasures_fixtures)),S220*Incent_Cost_Fixture_Cust))","v":{"$error":"#VALUE!"}},"No requirement",{"$f":"MAX(IF(ISERROR(VLOOKUP(CONCATENATE(J220,\" from \",VLOOKUP(D220,ExistFixtCat,4,FALSE)),PropFixtIncent,2,FALSE)),0,VLOOKUP(CONCATENATE(J220,\" from \",VLOOKUP(D220,ExistFixtCat,4,FALSE)),PropFixtIncent,2,FALSE)),IF(ISERROR(VLOOKUP(CONCATENATE(J220,\" from ANY\"),PropFixtIncent,2,FALSE)),0,VLOOKUP(CONCATENATE(J220,\" from ANY\"),PropFixtIncent,2,FALSE)))","v":0},{"$f":"IF(OR(Z220=\"Does not meet requirement\",AND('100L Information'!$AA$21=\"No\",AL220=\"Y\"),AND('100L Information'!$AS$21=FALSE,AL220=\"Y\")),0,IF(ISNUMBER(R220*Incent_Cost_Fixture_Rx),MIN(R220*Incent_Cost_Fixture_Rx,(MAX(AE220,AK220))),0))","v":0},{"$f":"IF(AND(M220=\"Y\",BR220=\"PASS/PASS\"),\"PASS/PASS\",\"FAIL\")","v":"FAIL"},"0","0","0",{"$f":"IF(AE220=0,MAX(IF(ISERROR(VLOOKUP(CONCATENATE(J220,\" from \",VLOOKUP(E220,ExistFixtCat,4,FALSE)),PropFixtIncent,2,FALSE)),0,VLOOKUP(CONCATENATE(J220,\" from \",VLOOKUP(E220,ExistFixtCat,4,FALSE)),PropFixtIncent,2,FALSE)),IF(ISERROR(VLOOKUP(CONCATENATE(J220,\" from ANY\"),PropFixtIncent,2,FALSE)),0,VLOOKUP(CONCATENATE(J220,\" from ANY\"),PropFixtIncent,2,FALSE))),0)","v":0},"N",{"$f":"IF(AG220=\"PASS/PASS\",W220,\"0\")","v":"0"},{"$f":"IF(AG220=\"PASS/PASS\",Y220,\"0\")","v":"0"},null,{"$f":"IF(AND($CB220=\"fixture\",OR($D220=\"CFL\",$D220=\"INCAN\")),VLOOKUP(E220,Incan_Lookup,7,FALSE)*$G220*H220+VLOOKUP(E220,Incan_Lookup,6,FALSE)*$N220*P220,IF(AND($CB220=\"lamp\",OR($D220=\"CFL\",$D220=\"INCAN\")),VLOOKUP(E220,Incan_Lookup,10,FALSE)*$G220*H220+VLOOKUP(E220,Incan_Lookup,9,FALSE)*$N220*P220,IF($D220=\"OTHER\",$G220*$H220,IF($CB220=\"lamp\",(VLOOKUP($E220,ExistFixtLookup,10,FALSE)*H220+VLOOKUP($E220,ExistFixtLookup,9,FALSE)*N220*P220),IF($CB220=\"fixture\",(VLOOKUP($E220,ExistFixtLookup,7,FALSE)*H220+VLOOKUP($E220,ExistFixtLookup,6,FALSE)*N220*P220),$G220)))))","v":""},"",0,"",{"$f":"IF(RIGHT(I220,4)=\"Case\",W220,IF(AND(AL220=\"Y\",AF220<1),0,IF(OR(LEFT(D220,2)=\"T5\",LEFT(D220,3)=\"CFL\",'Analysis 103L'!AS220=\"Less\"),'Analysis 103L'!AR220,'Analysis 103L'!W220)))","v":""},null,0,0,null,{"$error":"#VALUE!"},{"$error":"#VALUE!"},{"$error":"#VALUE!"},null,null,{"$f":"IF(RIGHT(I220,4)=\"Case\",'LED Case Lighting'!$AY$1,IF(J220=\"\",\"\",VLOOKUP(J220,Lookups!$A$30:$J$149,VLOOKUP('100L Information'!$AI$46,Lookups!$J$3:$L$6,3,FALSE),FALSE)))","v":""},{"$f":"IF(B220=\"Exterior\", INDEX($BW$28:$BW$40, $BX$229), IF(BusType=\"Manufacturing\", IF(Q220<3500, \"1-Shift Industrial\", IF(Q220<5500, \"2-Shift Industrial\", IF(Q220<8000, \"3-Shift Industrial\", \"FLAT\"))), INDEX($BV$28:$BV$40, $BX$229)))","v":{"$error":"#N/A"}},"","",{"$error":"#VALUE!"},{"$error":"#VALUE!"},{"$error":"#VALUE!"},{"$f":"VLOOKUP(E220,ExistFixtCat,3,FALSE)/(H220*IF(ISNUMBER(VALUE(MID(E220,5,1))),VALUE(MID(E220,5,1)),1)*Q220)","v":{"$error":"#N/A"}},{"$f":"IF(ISERROR(-PV(POWER(1+Discount_Rate,$BK220)-1,$BD220/$BK220,10+VLOOKUP($E220,ExistFixtCat,2,FALSE))),0,-PV(POWER(1+Discount_Rate,$BK220)-1,$BD220/$BK220,10+VLOOKUP($E220,ExistFixtCat,2,FALSE)))","v":0},{"$f":"VLOOKUP($J220,PropOpLife,3,FALSE)/($P220*IF(ISNUMBER(VALUE(MID($J220,5,1))),VALUE(MID($J220,5,1)),1)*$Q220)","v":{"$error":"#N/A"}},{"$f":"IF(OR(ISERROR(-PV(POWER(1+Discount_Rate,$BM220)-1,$BD220/$BM220,MIN(R220,10+0.5*VLOOKUP($J220,PropOpLife,2,FALSE)))),BL220=0),0,-PV(POWER(1+Discount_Rate,$BM220)-1,$BD220/$BM220,MIN(R220,10+0.5*VLOOKUP($J220,PropOpLife,2,FALSE))))","v":0},{"$error":"#VALUE!"},{"$error":"#VALUE!"},{"$error":"#VALUE!"},"FAIL",null,null,null,null,null,null,null,"Interior / Exterior",null,{"$f":"IF(I220=\"\",\"\",VLOOKUP(I220,FixVsLamp,2,FALSE))","v":""},null,{"$f":"IF(RIGHT(I220,4)=\"Case\",(INDEX('LED Case Lighting'!$AZ$3:$AZ$16,MATCH('Analysis 103L'!$CI220,'LED Case Lighting'!$AS$3:$AS$16,0))),IF(CB220=0,0,IF(CB220=\"lamp\",((Q220/VLOOKUP(B220,Int_Ext,2,FALSE))*VLOOKUP(E220,NEB,16,FALSE)),IF(CB220=\"fixture\",((Q220/VLOOKUP(B220,Int_Ext,2,FALSE))*VLOOKUP(E220,NEB,14,FALSE)),\"\"))))","v":""},null,{"$f":"IF(RIGHT(I220,4)=\"Case\",INDEX('Equipment Type'!$V$4:$V$53, MATCH('Analysis 103L'!$K220, 'Equipment Type'!$A$4:$A$53, 0)), \"\")","v":""},"","","",{"$f":"IF(CI220=\"\", \"\", IF(RIGHT(I220,4)=\"Case\", INDEX('LED Case Lighting'!$AR$3:$AR$16, MATCH('Analysis 103L'!CI220, 'LED Case Lighting'!$AS$3:$AS$16, 0)), \"\"))","v":""},{"$f":"IF(CI220=\"\",\"\",INDEX('LED Case Lighting'!$AW$3:$AW$16,MATCH('Analysis 103L'!CI220,'LED Case Lighting'!$AS$3:$AS$16,0)))","v":""},{"$f":"IF(CI220=\"\",\"\",INDEX('LED Case Lighting'!$AX$3:$AX$16,MATCH('Analysis 103L'!CI220,'LED Case Lighting'!$AS$3:$AS$16,0)))","v":""},""]
[194,null,null,null,null,null,"",null,{"$f":"IF(K221=\"\",\"\",VLOOKUP(K221,'Equipment Type'!$A$1:$F$53,5,FALSE))","v":""},{"$f":"IF(K221=\"\",\"\",VLOOKUP(K221,'Equipment Type'!$A$1:$F$53,6,FALSE))","v":""},null,{"$f":"IF(K221=\"\",\"\",VLOOKUP(K221,'Equipment Type'!$A$1:$F$53,4,FALSE))","v":""},null,{"$f":"IF(K221=\"\",\"\",INDEX('Equipment Type'!$T$4:$T$53,MATCH('Analysis 103L'!K221,'Equipment Type'!$A$4:$A$53,0)))","v":""},"",null,{"$f":"IF(RIGHT(I221, 4)=\"Case\", \"\", IF(P221=\"\",\"\",(IF(ISNUMBER(SEARCH(\"exit\",J221)),8760,IF(B221=\"Exterior\",4380,'Analysis 103L'!$J$3)))))","v":""},null,"","","","","","","","",{"$f":"IF('100L Information'!$Z$5=\"Yes\",0,IF('100L Information'!$Z$4=\"Yes\",(MIN($Y$232-(-$Y$227),6000)*0.5)*(Y221/$Y$232),$Y$232*(Y221/($Y$230+$Y$231))))","v":{"$error":"#VALUE!"}},"",{"$error":"#VALUE!"},"No requirement",0,{"$f":"IF(OR(Z221=\"Does not meet requirement\",AND('100L Information'!$AA$21=\"No\",AL221=\"Y\"),AND('100L Information'!$AS$21=FALSE,AL221=\"Y\")),0,IF(ISNUMBER(R221*Incent_Cost_Fixture_Rx),MIN(R221*Incent_Cost_Fixture_Rx,(MAX(AE221,AK221))),0))","v":0},"FAIL","0","0","0",0,{"$f":"IF(ISNUMBER(VLOOKUP(J221,PublicSector,13,FALSE)),\"Y\",\"N\")","v":"N"},"0","0",null,"",{"$f":"IF(ISNUMBER((AP221-N221*P221)*Q221/1000),(AP221-N221*P221)*Q221/1000,W221)","v":""},0,{"$f":"IF(ISNUMBER(AP221),IF(AP221>G221*H221,\"Greater\",\"Less\"),\"\")","v":""},{"$f":"IF(RIGHT(I221,4)=\"Case\",W221,IF(AND(AL221=\"Y\",AF221<1),0,IF(OR(LEFT(D221,2)=\"T5\",LEFT(D221,3)=\"CFL\",'Analysis 103L'!AS221=\"Less\"),'Analysis 103L'!AR221,'Analysis 103L'!W221)))","v":""},null,0,0,null,{"$error":"#VALUE!"},{"$error":"#VALUE!"},{"$error":"#VALUE!"},null,null,{"$f":"IF(RIGHT(I221,4)=\"Case\",'LED Case Lighting'!$AY$1,IF(J221=\"\",\"\",VLOOKUP(J221,Lookups!$A$30:$J$149,VLOOKUP('100L Information'!$AI$46,Lookups!$J$3:$L$6,3,FALSE),FALSE)))","v":""},{"$error":"#N/A"},"","",{"$error":"#VALUE!"},{"$error":"#VALUE!"},{"$error":"#VALUE!"},{"$error":"#N/A"},0,{"$error":"#N/A"},0,{"$error":"#VALUE!"},{"$error":"#VALUE!"},{"$error":"#VALUE!"},"FAIL",null,null,null,null,null,null,null,"Interior / Exterior",null,"",null,{"$f":"IF(RIGHT(I221,4)=\"Case\",(INDEX('LED Case Lighting'!$AZ$3:$AZ$16,MATCH('Analysis 103L'!$CI221,'LED Case Lighting'!$AS$3:$AS$16,0))),IF(CB221=0,0,IF(CB221=\"lamp\",((Q221/VLOOKUP(B221,Int_Ext,2,FALSE))*VLOOKUP(E221,NEB,16,FALSE)),IF(CB221=\"fixture\",((Q221/VLOOKUP(B221,Int_Ext,2,FALSE))*VLOOKUP(E221,NEB,14,FALSE)),\"\"))))","v":""},null,{"$f":"IF(RIGHT(I221,4)=\"Case\",INDEX('Equipment Type'!$V$4:$V$53, MATCH('Analysis 103L'!$K221, 'Equipment Type'!$A$4:$A$53, 0)), \"\")","v":""},"",{"$f":"IF(RIGHT(I221,4)=\"Case\",IF(B221=$BZ$231,\"MED\",IF(B221=$BZ$230,\"LOW\",IF(B221=$BZ$232,\"OUT\",\"\"))), \"\")","v":""},{"$f":"IF(RIGHT(I221,4)=\"Case\",IF(OR(CF221=\"NE\", LEFT(J221, 6)=\"Motion\"), \"\", CONCATENATE(\"LEDCL\",CF221, CG221, CH221)), \"\")","v":""},{"$f":"IF(CI221=\"\", \"\", IF(RIGHT(I221,4)=\"Case\", INDEX('LED Case Lighting'!$AR$3:$AR$16, MATCH('Analysis 103L'!CI221, 'LED Case Lighting'!$AS$3:$AS$16, 0)), \"\"))","v":""},{"$f":"IF(CI221=\"\",\"\",INDEX('LED Case Lighting'!$AW$3:$AW$16,MATCH('Analysis 103L'!CI221,'LED Case Lighting'!$AS$3:$AS$16,0)))","v":""},{"$f":"IF(CI221=\"\",\"\",INDEX('LED Case Lighting'!$AX$3:$AX$16,MATCH('Analysis 103L'!CI221,'LED Case Lighting'!$AS$3:$AS$16,0)))","v":""},""]
[195,null,null,null,null,null,"",null,{"$f":"IF(K222=\"\",\"\",VLOOKUP(K222,'Equipment Type'!$A$1:$F$53,5,FALSE))","v":""},{"$f":"IF(K222=\"\",\"\",VLOOKUP(K222,'Equipment Type'!$A$1:$F$53,6,FALSE))","v":""},null,{"$f":"IF(K222=\"\",\"\",VLOOKUP(K222,'Equipment Type'!$A$1:$F$53,4,FALSE))","v":""},null,{"$f":"IF(K222=\"\",\"\",INDEX('Equipment Type'!$T$4:$T$53,MATCH('Analysis 103L'!K222,'Equipment Type'!$A$4:$A$53,0)))","v":""},"",null,{"$f":"IF(RIGHT(I222, 4)=\"Case\", \"\", IF(P222=\"\",\"\",(IF(ISNUMBER(SEARCH(\"exit\",J222)),8760,IF(B222=\"Exterior\",4380,'Analysis 103L'!$J$3)))))","v":""},null,"","","","","","","","",{"$f":"IF('100L Information'!$Z$5=\"Yes\",0,IF('100L Information'!$Z$4=\"Yes\",(MIN($Y$232-(-$Y$227),6000)*0.5)*(Y222/$Y$232),$Y$232*(Y222/($Y$230+$Y$231))))","v":{"$error":"#VALUE!"}},{"$f":"IF(W222=\"\",\"\",W222*$D$23)","v":""},{"$error":"#VALUE!"},{"$f":"IF(OR(I222=\"TLED\",I222=\"Relamp\",I222=\"LED_High_Bay\",I222=\"LED_Lamps\",I222=\"LED_Interior_Fixtures\",I222=\"LED_Exterior_Fixtures\",I222=\"Street_Lighting\", I222=\"LLLC\"),IF(((U222-V222)/U222)>=0.4,0,1),IF(LEFT(J222,3)=\"HID\",IF(((U222-V222)/U222)>=0.5,0,1),\"No requirement\"))","v":"No requirement"},0,{"$f":"IF(OR(Z222=\"Does not meet requirement\",AND('100L Information'!$AA$21=\"No\",AL222=\"Y\"),AND('100L Information'!$AS$21=FALSE,AL222=\"Y\")),0,IF(ISNUMBER(R222*Incent_Cost_Fixture_Rx),MIN(R222*Incent_Cost_Fixture_Rx,(MAX(AE222,AK222))),0))","v":0},"FAIL","0","0","0",0,"N","0","0",null,"","",0,"",{"$f":"IF(RIGHT(I222,4)=\"Case\",W222,IF(AND(AL222=\"Y\",AF222<1),0,IF(OR(LEFT(D222,2)=\"T5\",LEFT(D222,3)=\"CFL\",'Analysis 103L'!AS222=\"Less\"),'Analysis 103L'!AR222,'Analysis 103L'!W222)))","v":""},null,0,0,null,{"$error":"#VALUE!"},{"$error":"#VALUE!"},{"$error":"#VALUE!"},null,null,{"$f":"IF(RIGHT(I222,4)=\"Case\",'LED Case Lighting'!$AY$1,IF(J222=\"\",\"\",VLOOKUP(J222,Lookups!$A$30:$J$149,VLOOKUP('100L Information'!$AI$46,Lookups!$J$3:$L$6,3,FALSE),FALSE)))","v":""},{"$error":"#N/A"},"",{"$f":"IF(BD222=\"\",\"\",$BF222+-PV(4.5%,BD222,CD222)/$AR222*$P222)","v":""},{"$f":"IF(RIGHT(I222,4)=\"Case\",0.5*R222/AR222, 0.5*S222/AR222)","v":{"$error":"#VALUE!"}},{"$error":"#VALUE!"},{"$error":"#VALUE!"},{"$error":"#N/A"},0,{"$error":"#N/A"},0,{"$error":"#VALUE!"},{"$error":"#VALUE!"},{"$error":"#VALUE!"},"FAIL",null,null,null,null,null,null,null,"Interior / Exterior",null,"",null,{"$f":"IF(RIGHT(I222,4)=\"Case\",(INDEX('LED Case Lighting'!$AZ$3:$AZ$16,MATCH('Analysis 103L'!$CI222,'LED Case Lighting'!$AS$3:$AS$16,0))),IF(CB222=0,0,IF(CB222=\"lamp\",((Q222/VLOOKUP(B222,Int_Ext,2,FALSE))*VLOOKUP(E222,NEB,16,FALSE)),IF(CB222=\"fixture\",((Q222/VLOOKUP(B222,Int_Ext,2,FALSE))*VLOOKUP(E222,NEB,14,FALSE)),\"\"))))","v":""},null,{"$f":"IF(RIGHT(I222,4)=\"Case\",INDEX('Equipment Type'!$V$4:$V$53, MATCH('Analysis 103L'!$K222, 'Equipment Type'!$A$4:$A$53, 0)), \"\")","v":""},"","","",{"$f":"IF(CI222=\"\", \"\", IF(RIGHT(I222,4)=\"Case\", INDEX('LED Case Lighting'!$AR$3:$AR$16, MATCH('Analysis 103L'!CI222, 'LED Case Lighting'!$AS$3:$AS$16, 0)), \"\"))","v":""},{"$f":"IF(CI222=\"\",\"\",INDEX('LED Case Lighting'!$AW$3:$AW$16,MATCH('Analysis 103L'!CI222,'LED Case Lighting'!$AS$3:$AS$16,0)))","v":""},{"$f":"IF(CI222=\"\",\"\",INDEX('LED Case Lighting'!$AX$3:$AX$16,MATCH('Analysis 103L'!CI222,'LED Case Lighting'!$AS$3:$AS$16,0)))","v":""},""]
[196,null,null,null,null,null,"",null,{"$f":"IF(K223=\"\",\"\",VLOOKUP(K223,'Equipment Type'!$A$1:$F$53,5,FALSE))","v":""},{"$f":"IF(K223=\"\",\"\",VLOOKUP(K223,'Equipment Type'!$A$1:$F$53,6,FALSE))","v":""},null,{"$f":"IF(K223=\"\",\"\",VLOOKUP(K223,'Equipment Type'!$A$1:$F$53,4,FALSE))","v":""},null,{"$f":"IF(K223=\"\",\"\",INDEX('Equipment Type'!$T$4:$T$53,MATCH('Analysis 103L'!K223,'Equipment Type'!$A$4:$A$53,0)))","v":""},"",null,{"$f":"IF(RIGHT(I223, 4)=\"Case\", \"\", IF(P223=\"\",\"\",(IF(ISNUMBER(SEARCH(\"exit\",J223)),8760,IF(B223=\"Exterior\",4380,'Analysis 103L'!$J$3)))))","v":""},null,"","","","","","","","",{"$f":"IF('100L Information'!$Z$5=\"Yes\",0,IF('100L Information'!$Z$4=\"Yes\",(MIN($Y$232-(-$Y$227),6000)*0.5)*(Y223/$Y$232),$Y$232*(Y223/($Y$230+$Y$231))))","v":{"$error":"#VALUE!"}},"",{"$error":"#VALUE!"},{"$f":"IF(OR(I223=\"TLED\",I223=\"Relamp\",I223=\"LED_High_Bay\",I223=\"LED_Lamps\",I223=\"LED_Interior_Fixtures\",I223=\"LED_Exterior_Fixtures\",I223=\"Street_Lighting\", I223=\"LLLC\"),IF(((U223-V223)/U223)>=0.4,0,1),IF(LEFT(J223,3)=\"HID\",IF(((U223-V223)/U223)>=0.5,0,1),\"No requirement\"))","v":"No requirement"},0,{"$f":"IF(OR(Z223=\"Does not meet requirement\",AND('100L Information'!$AA$21=\"No\",AL223=\"Y\"),AND('100L Information'!$AS$21=FALSE,AL223=\"Y\")),0,IF(ISNUMBER(R223*Incent_Cost_Fixture_Rx),MIN(R223*Incent_Cost_Fixture_Rx,(MAX(AE223,AK223))),0))","v":0},"FAIL","0","0","0",0,"N","0","0",null,"","",0,"",{"$f":"IF(RIGHT(I223,4)=\"Case\",W223,IF(AND(AL223=\"Y\",AF223<1),0,IF(OR(LEFT(D223,2)=\"T5\",LEFT(D223,3)=\"CFL\",'Analysis 103L'!AS223=\"Less\"),'Analysis 103L'!AR223,'Analysis 103L'!W223)))","v":""},null,0,0,null,{"$error":"#VALUE!"},{"$error":"#VALUE!"},{"$error":"#VALUE!"},null,null,{"$f":"IF(RIGHT(I223,4)=\"Case\",'LED Case Lighting'!$AY$1,IF(J223=\"\",\"\",VLOOKUP(J223,Lookups!$A$30:$J$149,VLOOKUP('100L Information'!$AI$46,Lookups!$J$3:$L$6,3,FALSE),FALSE)))","v":""},{"$error":"#N/A"},"","",{"$f":"IF(RIGHT(I223,4)=\"Case\",0.5*R223/AR223, 0.5*S223/AR223)","v":{"$error":"#VALUE!"}},{"$error":"#VALUE!"},{"$error":"#VALUE!"},{"$error":"#N/A"},0,{"$error":"#N/A"},0,{"$error":"#VALUE!"},{"$error":"#VALUE!"},{"$error":"#VALUE!"},"FAIL",null,null,null,null,null,null,null,"Interior / Exterior",null,"",null,{"$f":"IF(RIGHT(I223,4)=\"Case\",(INDEX('LED Case Lighting'!$AZ$3:$AZ$16,MATCH('Analysis 103L'!$CI223,'LED Case Lighting'!$AS$3:$AS$16,0))),IF(CB223=0,0,IF(CB223=\"lamp\",((Q223/VLOOKUP(B223,Int_Ext,2,FALSE))*VLOOKUP(E223,NEB,16,FALSE)),IF(CB223=\"fixture\",((Q223/VLOOKUP(B223,Int_Ext,2,FALSE))*VLOOKUP(E223,NEB,14,FALSE)),\"\"))))","v":""},null,{"$f":"IF(RIGHT(I223,4)=\"Case\",INDEX('Equipment Type'!$V$4:$V$53, MATCH('Analysis 103L'!$K223, 'Equipment Type'!$A$4:$A$53, 0)), \"\")","v":""},"","","",{"$f":"IF(CI223=\"\", \"\", IF(RIGHT(I223,4)=\"Case\", INDEX('LED Case Lighting'!$AR$3:$AR$16, MATCH('Analysis 103L'!CI223, 'LED Case Lighting'!$AS$3:$AS$16, 0)), \"\"))","v":""},{"$f":"IF(CI223=\"\",\"\",INDEX('LED Case Lighting'!$AW$3:$AW$16,MATCH('Analysis 103L'!CI223,'LED Case Lighting'!$AS$3:$AS$16,0)))","v":""},{"$f":"IF(CI223=\"\",\"\",INDEX('LED Case Lighting'!$AX$3:$AX$16,MATCH('Analysis 103L'!CI223,'LED Case Lighting'!$AS$3:$AS$16,0)))","v":""},""]
[197,null,null,null,null,null,"",null,{"$f":"IF(K224=\"\",\"\",VLOOKUP(K224,'Equipment Type'!$A$1:$F$53,5,FALSE))","v":""},{"$f":"IF(K224=\"\",\"\",VLOOKUP(K224,'Equipment Type'!$A$1:$F$53,6,FALSE))","v":""},null,{"$f":"IF(K224=\"\",\"\",VLOOKUP(K224,'Equipment Type'!$A$1:$F$53,4,FALSE))","v":""},null,{"$f":"IF(K224=\"\",\"\",INDEX('Equipment Type'!$T$4:$T$53,MATCH('Analysis 103L'!K224,'Equipment Type'!$A$4:$A$53,0)))","v":""},{"$f":"IF(RIGHT(I224, 4)=\"Case\", \"\", IF(G224=\"\",\"\",((G224*H224)-(N224*P224))/(G224*H224)))","v":""},null,{"$f":"IF(RIGHT(I224, 4)=\"Case\", \"\", IF(P224=\"\",\"\",(IF(ISNUMBER(SEARCH(\"exit\",J224)),8760,IF(B224=\"Exterior\",4380,'Analysis 103L'!$J$3)))))","v":""},null,"","","","","","","","",{"$f":"IF('100L Information'!$Z$5=\"Yes\",0,IF('100L Information'!$Z$4=\"Yes\",(MIN($Y$232-(-$Y$227),6000)*0.5)*(Y224/$Y$232),$Y$232*(Y224/($Y$230+$Y$231))))","v":{"$error":"#VALUE!"}},"",{"$error":"#VALUE!"},{"$f":"IF(OR(I224=\"TLED\",I224=\"Relamp\",I224=\"LED_High_Bay\",I224=\"LED_Lamps\",I224=\"LED_Interior_Fixtures\",I224=\"LED_Exterior_Fixtures\",I224=\"Street_Lighting\", I224=\"LLLC\"),IF(((U224-V224)/U224)>=0.4,0,1),IF(LEFT(J224,3)=\"HID\",IF(((U224-V224)/U224)>=0.5,0,1),\"No requirement\"))","v":"No requirement"},0,{"$f":"IF(OR(Z224=\"Does not meet requirement\",AND('100L Information'!$AA$21=\"No\",AL224=\"Y\"),AND('100L Information'!$AS$21=FALSE,AL224=\"Y\")),0,IF(ISNUMBER(R224*Incent_Cost_Fixture_Rx),MIN(R224*Incent_Cost_Fixture_Rx,(MAX(AE224,AK224))),0))","v":0},"FAIL","0","0","0",0,"N","0","0",null,"","",0,"",{"$f":"IF(RIGHT(I224,4)=\"Case\",W224,IF(AND(AL224=\"Y\",AF224<1),0,IF(OR(LEFT(D224,2)=\"T5\",LEFT(D224,3)=\"CFL\",'Analysis 103L'!AS224=\"Less\"),'Analysis 103L'!AR224,'Analysis 103L'!W224)))","v":""},null,{"$f":"IF($B224=\"Interior\",IF(ISNUMBER($G224*$H224),$G224*$H224,0), 0)","v":0},{"$f":"IF($B224=\"Interior\",IF(ISNUMBER($N224*$P224),$N224*$P224,0), 0)","v":0},null,{"$error":"#VALUE!"},{"$error":"#VALUE!"},{"$error":"#VALUE!"},null,null,{"$f":"IF(RIGHT(I224,4)=\"Case\",'LED Case Lighting'!$AY$1,IF(J224=\"\",\"\",VLOOKUP(J224,Lookups!$A$30:$J$149,VLOOKUP('100L Information'!$AI$46,Lookups!$J$3:$L$6,3,FALSE),FALSE)))","v":""},{"$error":"#N/A"},"","",{"$f":"IF(RIGHT(I224,4)=\"Case\",0.5*R224/AR224, 0.5*S224/AR224)","v":{"$error":"#VALUE!"}},{"$error":"#VALUE!"},{"$error":"#VALUE!"},{"$error":"#N/A"},0,{"$error":"#N/A"},0,{"$f":"IF(RIGHT(I224,4)=\"Case\",R224/AR224,S224/AR224)","v":{"$error":"#VALUE!"}},{"$error":"#VALUE!"},{"$error":"#VALUE!"},"FAIL",null,null,null,null,null,null,null,"Interior / Exterior",null,"",null,{"$f":"IF(RIGHT(I224,4)=\"Case\",(INDEX('LED Case Lighting'!$AZ$3:$AZ$16,MATCH('Analysis 103L'!$CI224,'LED Case Lighting'!$AS$3:$AS$16,0))),IF(CB224=0,0,IF(CB224=\"lamp\",((Q224/VLOOKUP(B224,Int_Ext,2,FALSE))*VLOOKUP(E224,NEB,16,FALSE)),IF(CB224=\"fixture\",((Q224/VLOOKUP(B224,Int_Ext,2,FALSE))*VLOOKUP(E224,NEB,14,FALSE)),\"\"))))","v":""},null,{"$f":"IF(RIGHT(I224,4)=\"Case\",INDEX('Equipment Type'!$V$4:$V$53, MATCH('Analysis 103L'!$K224, 'Equipment Type'!$A$4:$A$53, 0)), \"\")","v":""},"","","",{"$f":"IF(CI224=\"\", \"\", IF(RIGHT(I224,4)=\"Case\", INDEX('LED Case Lighting'!$AR$3:$AR$16, MATCH('Analysis 103L'!CI224, 'LED Case Lighting'!$AS$3:$AS$16, 0)), \"\"))","v":""},{"$f":"IF(CI224=\"\",\"\",INDEX('LED Case Lighting'!$AW$3:$AW$16,MATCH('Analysis 103L'!CI224,'LED Case Lighting'!$AS$3:$AS$16,0)))","v":""},{"$f":"IF(CI224=\"\",\"\",INDEX('LED Case Lighting'!$AX$3:$AX$16,MATCH('Analysis 103L'!CI224,'LED Case Lighting'!$AS$3:$AS$16,0)))","v":""},""]
[198,null,null,null,null,null,"",null,{"$f":"IF(K225=\"\",\"\",VLOOKUP(K225,'Equipment Type'!$A$1:$F$53,5,FALSE))","v":""},{"$f":"IF(K225=\"\",\"\",VLOOKUP(K225,'Equipment Type'!$A$1:$F$53,6,FALSE))","v":""},null,{"$f":"IF(K225=\"\",\"\",VLOOKUP(K225,'Equipment Type'!$A$1:$F$53,4,FALSE))","v":""},null,{"$f":"IF(K225=\"\",\"\",INDEX('Equipment Type'!$T$4:$T$53,MATCH('Analysis 103L'!K225,'Equipment Type'!$A$4:$A$53,0)))","v":""},{"$f":"IF(RIGHT(I225, 4)=\"Case\", \"\", IF(G225=\"\",\"\",((G225*H225)-(N225*P225))/(G225*H225)))","v":""},null,{"$f":"IF(RIGHT(I225, 4)=\"Case\", \"\", IF(P225=\"\",\"\",(IF(ISNUMBER(SEARCH(\"exit\",J225)),8760,IF(B225=\"Exterior\",4380,'Analysis 103L'!$J$3)))))","v":""},null,"","","","","","","","",{"$f":"IF('100L Information'!$Z$5=\"Yes\",0,IF('100L Information'!$Z$4=\"Yes\",(MIN($Y$232-(-$Y$227),6000)*0.5)*(Y225/$Y$232),$Y$232*(Y225/($Y$230+$Y$231))))","v":{"$error":"#VALUE!"}},"",{"$error":"#VALUE!"},{"$f":"IF(OR(I225=\"TLED\",I225=\"Relamp\",I225=\"LED_High_Bay\",I225=\"LED_Lamps\",I225=\"LED_Interior_Fixtures\",I225=\"LED_Exterior_Fixtures\",I225=\"Street_Lighting\", I225=\"LLLC\"),IF(((U225-V225)/U225)>=0.4,0,1),IF(LEFT(J225,3)=\"HID\",IF(((U225-V225)/U225)>=0.5,0,1),\"No requirement\"))","v":"No requirement"},0,{"$f":"IF(OR(Z225=\"Does not meet requirement\",AND('100L Information'!$AA$21=\"No\",AL225=\"Y\"),AND('100L Information'!$AS$21=FALSE,AL225=\"Y\")),0,IF(ISNUMBER(R225*Incent_Cost_Fixture_Rx),MIN(R225*Incent_Cost_Fixture_Rx,(MAX(AE225,AK225))),0))","v":0},"FAIL","0","0","0",0,"N","0","0",null,"","",0,"",{"$f":"IF(RIGHT(I225,4)=\"Case\",W225,IF(AND(AL225=\"Y\",AF225<1),0,IF(OR(LEFT(D225,2)=\"T5\",LEFT(D225,3)=\"CFL\",'Analysis 103L'!AS225=\"Less\"),'Analysis 103L'!AR225,'Analysis 103L'!W225)))","v":""},null,{"$f":"IF($B225=\"Interior\",IF(ISNUMBER($G225*$H225),$G225*$H225,0), 0)","v":0},{"$f":"IF($B225=\"Interior\",IF(ISNUMBER($N225*$P225),$N225*$P225,0), 0)","v":0},null,{"$error":"#VALUE!"},{"$error":"#VALUE!"},{"$error":"#VALUE!"},null,null,{"$f":"IF(RIGHT(I225,4)=\"Case\",'LED Case Lighting'!$AY$1,IF(J225=\"\",\"\",VLOOKUP(J225,Lookups!$A$30:$J$149,VLOOKUP('100L Information'!$AI$46,Lookups!$J$3:$L$6,3,FALSE),FALSE)))","v":""},{"$error":"#N/A"},"","",{"$f":"IF(RIGHT(I225,4)=\"Case\",0.5*R225/AR225, 0.5*S225/AR225)","v":{"$error":"#VALUE!"}},{"$error":"#VALUE!"},{"$error":"#VALUE!"},{"$error":"#N/A"},0,{"$error":"#N/A"},0,{"$f":"IF(RIGHT(I225,4)=\"Case\",R225/AR225,S225/AR225)","v":{"$error":"#VALUE!"}},{"$error":"#VALUE!"},{"$error":"#VALUE!"},"FAIL",null,null,null,null,null,null,null,"Interior / Exterior",null,"",null,{"$f":"IF(RIGHT(I225,4)=\"Case\",(INDEX('LED Case Lighting'!$AZ$3:$AZ$16,MATCH('Analysis 103L'!$CI225,'LED Case Lighting'!$AS$3:$AS$16,0))),IF(CB225=0,0,IF(CB225=\"lamp\",((Q225/VLOOKUP(B225,Int_Ext,2,FALSE))*VLOOKUP(E225,NEB,16,FALSE)),IF(CB225=\"fixture\",((Q225/VLOOKUP(B225,Int_Ext,2,FALSE))*VLOOKUP(E225,NEB,14,FALSE)),\"\"))))","v":""},null,{"$f":"IF(RIGHT(I225,4)=\"Case\",INDEX('Equipment Type'!$V$4:$V$53, MATCH('Analysis 103L'!$K225, 'Equipment Type'!$A$4:$A$53, 0)), \"\")","v":""},"","","",{"$f":"IF(CI225=\"\", \"\", IF(RIGHT(I225,4)=\"Case\", INDEX('LED Case Lighting'!$AR$3:$AR$16, MATCH('Analysis 103L'!CI225, 'LED Case Lighting'!$AS$3:$AS$16, 0)), \"\"))","v":""},{"$f":"IF(CI225=\"\",\"\",INDEX('LED Case Lighting'!$AW$3:$AW$16,MATCH('Analysis 103L'!CI225,'LED Case Lighting'!$AS$3:$AS$16,0)))","v":""},{"$f":"IF(CI225=\"\",\"\",INDEX('LED Case Lighting'!$AX$3:$AX$16,MATCH('Analysis 103L'!CI225,'LED Case Lighting'!$AS$3:$AS$16,0)))","v":""},""]
[199,null,null,null,null,null,"",null,{"$f":"IF(K226=\"\",\"\",VLOOKUP(K226,'Equipment Type'!$A$1:$F$53,5,FALSE))","v":""},{"$f":"IF(K226=\"\",\"\",VLOOKUP(K226,'Equipment Type'!$A$1:$F$53,6,FALSE))","v":""},null,{"$f":"IF(K226=\"\",\"\",VLOOKUP(K226,'Equipment Type'!$A$1:$F$53,4,FALSE))","v":""},null,{"$f":"IF(K226=\"\",\"\",INDEX('Equipment Type'!$T$4:$T$53,MATCH('Analysis 103L'!K226,'Equipment Type'!$A$4:$A$53,0)))","v":""},{"$f":"IF(RIGHT(I226, 4)=\"Case\", \"\", IF(G226=\"\",\"\",((G226*H226)-(N226*P226))/(G226*H226)))","v":""},null,{"$f":"IF(RIGHT(I226, 4)=\"Case\", \"\", IF(P226=\"\",\"\",(IF(ISNUMBER(SEARCH(\"exit\",J226)),8760,IF(B226=\"Exterior\",4380,'Analysis 103L'!$J$3)))))","v":""},null,"","","","","","",{"$f":"IF(RIGHT(I226, 4)=\"Case\", IF(LEFT(J226, 6)=\"Motion\", \"\", CM226), IF(AND(W226>0,ISNUMBER(X226)),X226*P226,IF(P226=\"\",\"\",IF(RIGHT(I226, 4)=\"Case\", IF(LEFT(J226, 6)=\"Motion\", \"\", CM226),IF(AND(X226=\"CustomCalc\",AG226=\"PASS/PASS\"),AC226,0)))))","v":""},"",{"$f":"IF('100L Information'!$Z$5=\"Yes\",0,IF('100L Information'!$Z$4=\"Yes\",(MIN($Y$232-(-$Y$227),6000)*0.5)*(Y226/$Y$232),$Y$232*(Y226/($Y$230+$Y$231))))","v":{"$error":"#VALUE!"}},"",{"$error":"#VALUE!"},{"$f":"IF(OR(I226=\"TLED\",I226=\"Relamp\",I226=\"LED_High_Bay\",I226=\"LED_Lamps\",I226=\"LED_Interior_Fixtures\",I226=\"LED_Exterior_Fixtures\",I226=\"Street_Lighting\", I226=\"LLLC\"),IF(((U226-V226)/U226)>=0.4,0,1),IF(LEFT(J226,3)=\"HID\",IF(((U226-V226)/U226)>=0.5,0,1),\"No requirement\"))","v":"No requirement"},0,{"$f":"IF(OR(Z226=\"Does not meet requirement\",AND('100L Information'!$AA$21=\"No\",AL226=\"Y\"),AND('100L Information'!$AS$21=FALSE,AL226=\"Y\")),0,IF(ISNUMBER(R226*Incent_Cost_Fixture_Rx),MIN(R226*Incent_Cost_Fixture_Rx,(MAX(AE226,AK226))),0))","v":0},"FAIL","0","0","0",0,"N","0","0",null,"","",0,"",{"$f":"IF(RIGHT(I226,4)=\"Case\",W226,IF(AND(AL226=\"Y\",AF226<1),0,IF(OR(LEFT(D226,2)=\"T5\",LEFT(D226,3)=\"CFL\",'Analysis 103L'!AS226=\"Less\"),'Analysis 103L'!AR226,'Analysis 103L'!W226)))","v":""},null,{"$f":"IF($B226=\"Interior\",IF(ISNUMBER($G226*$H226),$G226*$H226,0), 0)","v":0},{"$f":"IF($B226=\"Interior\",IF(ISNUMBER($N226*$P226),$N226*$P226,0), 0)","v":0},null,{"$error":"#VALUE!"},{"$error":"#VALUE!"},{"$error":"#VALUE!"},null,null,{"$f":"IF(RIGHT(I226,4)=\"Case\",'LED Case Lighting'!$AY$1,IF(J226=\"\",\"\",VLOOKUP(J226,Lookups!$A$30:$J$149,VLOOKUP('100L Information'!$AI$46,Lookups!$J$3:$L$6,3,FALSE),FALSE)))","v":""},{"$error":"#N/A"},"","",{"$f":"IF(RIGHT(I226,4)=\"Case\",0.5*R226/AR226, 0.5*S226/AR226)","v":{"$error":"#VALUE!"}},{"$error":"#VALUE!"},{"$error":"#VALUE!"},{"$error":"#N/A"},0,{"$error":"#N/A"},0,{"$f":"IF(RIGHT(I226,4)=\"Case\",R226/AR226,S226/AR226)","v":{"$error":"#VALUE!"}},{"$error":"#VALUE!"},{"$error":"#VALUE!"},"FAIL",null,null,null,null,null,null,null,"Interior / Exterior",null,"",null,{"$f":"IF(RIGHT(I226,4)=\"Case\",(INDEX('LED Case Lighting'!$AZ$3:$AZ$16,MATCH('Analysis 103L'!$CI226,'LED Case Lighting'!$AS$3:$AS$16,0))),IF(CB226=0,0,IF(CB226=\"lamp\",((Q226/VLOOKUP(B226,Int_Ext,2,FALSE))*VLOOKUP(E226,NEB,16,FALSE)),IF(CB226=\"fixture\",((Q226/VLOOKUP(B226,Int_Ext,2,FALSE))*VLOOKUP(E226,NEB,14,FALSE)),\"\"))))","v":""},null,{"$f":"IF(RIGHT(I226,4)=\"Case\",INDEX('Equipment Type'!$V$4:$V$53, MATCH('Analysis 103L'!$K226, 'Equipment Type'!$A$4:$A$53, 0)), \"\")","v":""},"","","",{"$f":"IF(CI226=\"\", \"\", IF(RIGHT(I226,4)=\"Case\", INDEX('LED Case Lighting'!$AR$3:$AR$16, MATCH('Analysis 103L'!CI226, 'LED Case Lighting'!$AS$3:$AS$16, 0)), \"\"))","v":""},{"$f":"IF(CI226=\"\",\"\",INDEX('LED Case Lighting'!$AW$3:$AW$16,MATCH('Analysis 103L'!CI226,'LED Case Lighting'!$AS$3:$AS$16,0)))","v":""},{"$f":"IF(CI226=\"\",\"\",INDEX('LED Case Lighting'!$AX$3:$AX$16,MATCH('Analysis 103L'!CI226,'LED Case Lighting'!$AS$3:$AS$16,0)))","v":""},""]
[200,null,null,"OTHER",null,null,{"$f":"IF(E227=\"\",\"\",VLOOKUP(E227,ExistFixtLookup,2,FALSE))","v":""},null,"OTHERS","Incentive Cap",null,null,null,0,{"$f":"IF(G227=\"\",\"\",((G227*H227)-(N227*P227))/(G227*H227))","v":""},{"$f":"IF(Y230+Y231>6000,1,\"\")","v":""},null,0,{"$f":"IF(P227=\"\",\"\",P227*R227)","v":""},{"$f":"IF(P227=\"\",\"\",IF(ISERROR(AY227),0,AY227))","v":""},{"$f":"IF(H227=\"\",\"\",(G227*H227)*Q227/1000)","v":""},{"$f":"IF(P227=\"\",\"\",(N227*P227)*Q227/1000)","v":""},{"$f":"IF(U227=\"\",\"\",IF(AND(ISNUMBER(U227),ISNUMBER(V227)),U227-V227,\"\"))","v":""},{"$f":"IF(M227=\"Y\",\"CustomCalc\", IF(AD227 =1,\"\",IF(AF227 >0,AF227,\"\")))","v":""},{"$f":"IF('100L Information'!AS47=\"EB\",MIN(0,-(Y232-Cap_Com)),IF('100L Information'!AS47=\"PE\",MIN(0,-(Y232-Cap_Ind)),0))","v":0},"<--",{"$f":"IF('100L Information'!$Z$5=\"Yes\",0,IF('100L Information'!$Z$4=\"Yes\",((MIN($Y$232-(-$Y$227),6000)*0.5)-AA231-AA229)-SUMIF(AA28:AA226,\"<>#Value!\"),$Y$232*(Y227/($Y$230+$Y$231))))","v":{"$error":"#DIV/0!"}},"",{"$error":"#VALUE!"},{"$f":"IF(OR(I227=\"TLED\",I227=\"Relamp\",I227=\"LED_High_Bay\",I227=\"LED_Lamps\",I227=\"LED_Interior_Fixtures\",I227=\"LED_Exterior_Fixtures\"),IF(((U227-V227)/U227)>=0.4,0,1),IF(AND(I227=\"LED_Lamps\",(LEFT(J227,3)=\"HID\")),IF(((U227-V227)/U227)>=0.5,0,1),\"No requirement\"))","v":"No requirement"},0,{"$f":"IF(OR(Z227=\"Does not meet requirement\",AND('100L Information'!$AA$21=\"No\",AL227=\"Y\"),AND('100L Information'!$AS$21=FALSE,AL227=\"Y\")),0,IF(ISNUMBER(R227*Incent_Cost_Fixture_Rx),MIN(R227*Incent_Cost_Fixture_Rx,(MAX(AE227,AK227))),0))","v":0},"FAIL","0","0","0",0,{"$f":"IF(OR(J227=\"LED Street Light (City Owned)\",J227=\"LED Street Light (State Owned)\"),VLOOKUP(E227,StreetLighting,3,FALSE),0)","v":0},"0","0",null,{"$error":"#VALUE!"},"",0,"",{"$f":"IF(OR(LEFT(D227,2)=\"T5\",LEFT(D227,3)=\"CFL\",'Analysis 103L'!AS227=\"Less\"),'Analysis 103L'!AR227,'Analysis 103L'!W227)","v":""},null,{"$f":"IF($B227=\"Exterior\",0,IF(ISNUMBER($G227*$H227),$G227*$H227,0))","v":0},{"$f":"IF($B227=\"Exterior\",0,IF(ISNUMBER($N227*$P227),$N227*$P227,0))","v":0},null,{"$f":"((G227*H227)-(N227*P227))/1000","v":{"$error":"#VALUE!"}},{"$f":"IF(W227=0,0,W227/U227)","v":{"$error":"#VALUE!"}},{"$f":"IF(W227=0,0,S227/(W227*$F$9))","v":{"$error":"#VALUE!"}},null,null,{"$f":"IF(J227=\"\",\"\",VLOOKUP(J227,Lookups!$A$30:$J$149,VLOOKUP('100L Information'!$AI$46,Lookups!$J$3:$L$6,3,FALSE),FALSE))","v":0},{"$error":"#N/A"},{"$error":"#N/A"},{"$error":"#N/A"},{"$f":"0.5*S227/AR227","v":{"$error":"#VALUE!"}},{"$error":"#N/A"},{"$error":"#N/A"},{"$error":"#N/A"},0,{"$error":"#N/A"},0,{"$f":"S227/AR227","v":{"$error":"#VALUE!"}},{"$error":"#N/A"},{"$error":"#N/A"},"FAIL",null,null,null,null,null,null,null,"Interior / Exterior",null,0,null,{"$f":"IF(CB227=0,0,IF(CB227=\"lamp\",((Q227/VLOOKUP(B227,Int_Ext,2,FALSE))*VLOOKUP(E227,NEB,16,FALSE)),IF(CB227=\"fixture\",((Q227/VLOOKUP(B227,Int_Ext,2,FALSE))*VLOOKUP(E227,NEB,14,FALSE)),\"\")))","v":0}]
[null,null,null,null,null,null,"Existing Quantity (this page)",{"$f":"SUM(H28:H227)-H231","v":0},null,null,null,null,null,"Proposed Quantity (this page)",null,{"$f":"SUM(P28:P226)-P231","v":0},null,"Cost (this page)",{"$f":"SUM(S28:S227)","v":0},null,null,null,null,"Incentive (this page)",{"$f":"IF('100L Information'!Z5= \"Yes\",0,SUMIF(Y28:Y226,\"<>#Value!\"))-Y231","v":0},null,{"$f":"SUMIF(AA28:AA227,\"<>#Value!\")","v":{"$error":"#DIV/0!"}},{"$f":"SUM(AB28:AB227)","v":0},null,null,null,null,null,null,null,null,null,null,null,null,null,null,null,null,null,null,null,null,{"$f":"SUM(AW28:AW227)","v":0},null,null,null,null,null,"Weighted Avg Measure Life",null,null,null,null,null,null,null,null,null,null,null,null,null,null,null,null,null,null,null,null,null,null,"Interior"]
[null,null,null,null,null,null,null,null,null,null,null,null,null,null,null,null,null,"plus Controls",{"$f":"Controls!L207","v":0},null,null,null,null,"plus Controls",{"$f":"IF('100L Information'!Z5= \"Yes\",0,Controls!S207)","v":0},null,{"$f":"Controls!V207","v":0},{"$f":"Controls!Y207","v":0},null,null,null,null,null,null,null,null,null,null,null,null,null,null,null,null,null,null,null,null,null,null,null,null,null,null,{"$f":"(SUMPRODUCT(BD28:BD227,AM28:AM227))/(SUM(AM28:AM227))","v":{"$error":"#DIV/0!"}},null,null,null,null,null,null,null,null,null,null,null,null,null,null,null,null,null,null,"Selected Building Use Type:",{"$f":"BusType","v":"(select)"},{"$f":"MATCH(BusType, BU28:BU40, 0)","v":{"$error":"#N/A"}},null,"Exterior"]
[null,null,null,null,null,null,"Total Existing Quantity",{"$f":"SUM(H228:H229)","v":0},null,null,null,null,null,"Total Proposed Quantity",null,{"$f":"SUM(P228:P229)","v":0},null,"Total Installed Cost",{"$f":"SUM(S228:S229)","v":0},null,null,null,null,"Energy Trust Incentive (without LED Case Lighting)",{"$f":"SUM(Y228:Y229)","v":0},null,{"$f":"SUMIF(AA228:AA229,\"<>#Value!\")","v":{"$error":"#DIV/0!"}},{"$f":"SUM(AB228:AB229)","v":0},null,null,null,null,null,null,null,null,null,null,null,null,null,null,null,null,null,null,null,null,null,null,null,null,null,null,null,null,null,null,null,null,null,null,null,null,null,null,null,null,null,null,null,null,null,null,null,null,null,"Refrigerated Case: Freezer"]
[null,null,null,null,null,null,"Existing Quantity (LED Case)",{"$f":"SUMIFS(H28:H227, $I$28:$I$227, \"LED_Refrigerated_Case\")","v":0},null,null,null,null,null,"Quantity (LED Case)",null,{"$f":"SUMIFS(P28:P227, $I$28:$I$227, \"LED_Refrigerated_Case\")","v":0},null,"Cost (LED Case)",{"$f":"SUMIFS(R28:R227, $I$28:$I$227, \"LED_Refrigerated_Case\")","v":0},null,null,null,null,"plus Incentive from LED Case Lighting",{"$f":"IF('100L Information'!Z5=\"Yes\",0,SUMIFS(Y28:Y226,I28:I226,\"LED_Refrigerated_Case\"))","v":0},null,{"$f":"'LED Case Lighting'!AJ16","v":0},null,null,null,null,null,null,null,null,null,null,null,null,null,null,null,null,null,null,null,null,null,null,null,null,null,null,null,null,null,null,null,null,null,null,null,null,null,null,null,null,null,null,null,null,null,null,null,null,null,null,"Refrigerated Case: Cooler"]
[null,null,null,null,null,null,"Total Existing Quantity",{"$f":"SUM(H230:H231)","v":0},null,null,null,null,null,"Total Proposed Quantity",null,{"$f":"SUM(P230:P231)","v":0},null,"Total Installed Cost",{"$f":"SUM(S230:S231)","v":0},null,null,null,null,"Estimated Energy Trust Incentive",{"$f":"IF(ISNA(#REF!),0,MIN(S232,Y230+Y231))","v":0},null,{"$f":"AA230+AA231","v":{"$error":"#DIV/0!"}},null,null,null,null,null,null,null,null,null,null,null,null,null,null,null,null,null,null,null,null,null,null,null,null,null,null,null,null,null,null,null,null,null,null,null,null,null,null,null,null,null,null,null,null,null,null,null,null,null,null,"Refrigerated Case: Canopy / Lip"]
[]
[]
[null,"General Project Notes:"]
[]
[null,{"$f":"IF('Equipment Type'!C1=\"\",\"\",'Equipment Type'!C1)","v":""}]
[]
[]
[]
[]
[]
[]
[]
[]
[]
[]
[]
[null,null,null,null,null,null,null,null,null,null,null,null,null,null,null,null,null,"RATE SCHEDULES",null,null,null,null,"Schedule #","kWh","kW"]
[null,null,null,null,null,null,null,null,null,null,null,null,null,null,null,null,null,"PAC","Residential",null,null,null,4,0.107525,0]
[null,null,null,null,null,null,null,null,null,null,null,null,null,null,null,null,null,"PAC","Small Nonresidential",null,null,null,23,9.1730000000000006E-2,5.98]
[null,null,null,null,null,null,null,null,null,null,null,null,null,null,null,null,null,"PAC","Large Nonresidential, 31 - 200 kW",null,null,null,28,0.06,8.44]
[null,null,null,null,null,null,null,null,null,null,null,null,null,null,null,null,null,"PAC","Large Nonresidential, 201 - 999 kW",null,null,null,30,4.7620000000000003E-2,11.73]
[null,null,null,null,null,null,null,null,null,null,null,null,null,null,null,null,null,"PAC","Large General Service, over 1,000 kW",null,null,null,48,4.3295E-2,10.33]
[null,null,null,null,null,null,null,null,null,null,null,null,null,null,null,null,null,"PAC","Street Light Service Company Owned System",null,null,null,51,1.6299999999999999E-2,0]
[null,null,null,null,null,null,null,null,null,null,null,null,null,null,null,null,null,"PAC","Street Light Service Customer Owned System",null,null,null,53,8.0939999999999998E-2,0]
[null,null,null,null,null,null,null,null,null,null,null,null,null,null,null,null,null,"PGE ","Residential",null,null,null,7,0.13006999999999999,0]
[null,null,null,null,null,null,null,null,null,null,null,null,null,null,null,null,null,"PGE ","Small Nonresidential",null,null,null,32,9.572E-2,0]
[null,null,null,null,null,null,null,null,null,null,null,null,null,null,null,null,null,"PGE ","Large Nonresidential",null,null,null,83,5.0779999999999999E-2,7.8900000000000006]
[null,null,null,null,null,null,null,null,null,null,null,null,null,null,null,null,null,"PGE ","Large Nonresidential",null,null,null,85,4.1939999999999998E-2,5.28]
[null,null,null,null,null,null,null,null,null,null,null,null,null,null,null,null,null,"PGE ","Large Nonresidential",null,null,null,89,5.4419999999999996E-2,4.22]
[null,null,null,null,null,null,null,null,null,null,null,null,null,null,null,null,null,"PGE ","Streetlighting",null,null,null,91,0.11002000000000001,0]
[null,null,null,null,null,null,null,null,null,null,null,null,null,null,null,null,null,"PGE ","Street and Highway Lighting New Technology",null,null,null,95,0.11002000000000001,0]
[]
[]
[]
[]
[]
[]
[]
[]
[]
[]
[]
[]
[]
[]
[]
[]
[]
[]
[]
[]
[]
[]
[]
[]
[]
[]
[]
[]
[]
[]
[]
[]
[]
[null,"Quattro Tool Key"]
[null,"Project Name",{"$f":"'100L Information'!I15","v":""}]
[null,"kWh (Savings)",{"$f":"'Analysis 103L'!L20","v":0}]
[null,"kWh Bus (baseline savings)",{"$f":"'Analysis 103L'!M22","v":0}]
[null,"Total Cost",{"$f":"'Analysis 103L'!M13","v":0}]
[null,"Incentive",{"$f":"'Analysis 103L'!F20","v":0}]
[null,"Trade Ally (company)",{"$f":"'100L Information'!I47","v":0}]
[null,"Business Name",{"$f":"OrgName","v":0}]
[null,"Assumed Business Name",{"$f":"ABN","v":""}]
[null,"kW",{"$f":"'Analysis 103L'!F12","v":0}]
[null,"Contact (participant)",{"$f":"'100L Information'!F9","v":0}]
[null,"Title (participant contact)",{"$f":"'100L Information'!R9","v":0}]
[null,"Street Address",{"$f":"'100L Information'!F16","v":0}]
[null,"Location (city)",{"$f":"'100L Information'!R16","v":0}]
[null,"State",{"$f":"'100L Information'!AA16","v":0}]
[null,"Zip",{"$f":"'100L Information'!AD16","v":0}]
[null,"Account Number (PPL)",{"$f":"'100L Information'!B37","v":0}]
[null,"Account Number (PGE)",{"$f":"'100L Information'!B40","v":0}]
[null,"$ Savings per year (cost savings)",{"$f":"'Analysis 103L'!F13","v":""}]
[null,"TA Contact",{"$f":"'100L Information'!I48","v":0}]
[null,"TA Contact Email",{"$f":"'100L Information'!M49","v":0}]
[null,"EDP (estimated completion date 6mos as a default)"]
[null,"Self-Direct  - ",{"$f":"'100L Information'!Z4","v":"(select)"}]
[null,"Self-Direct Credit - ",{"$f":"'100L Information'!Z5","v":"(select)"}]
[null,"Program Type",{"$f":"'100L Information'!AI46","v":"Existing Buildings"}]
[null,"Utility",{"$f":"'100L Information'!G34","v":"(select)"}]
[null,"Rate Schedule (PPL)",{"$f":"IF('100L Information'!X37=\"(select)\",\"\",'100L Information'!X37)","v":""}]
[null,"Rate Schedule (PGE)",{"$f":"IF('100L Information'!X40=\"(select)\",\"\",'100L Information'!X40)","v":""}]
[null,"Proposed Project"]

{"sheet":"Performance+","index":4,"n_rows":46,"n_cols":10,"rows_kept":46,"cut":false,"hidden":true,"merged":[[3,2,3,3],[2,1,2,3],[4,7,4,8],[2,7,2,8]]}
[]
[null,"Energy Trust of Oregon \nPerformance Plus calculator "]
[null,"This calculator is a supplemental page and must be accompanied by Form 120L to be valid",null,null,null,null,null,"TABLE 9.5.1 INTERIOR LIGHTING POWER ALLOWANCES "]
[null,"Project name: ",{"$f":"'100L Information'!I15","v":""},null,null,null,null,"ASHRAE 90.1-2016"]
[null,"Utility: ",{"$f":"'100L Information'!G34","v":"(select)"},null,null,null,null,"LIGHTING POWER DENSITY"]
[null,"Project ID",{"$f":"IF('100L Information'!S3=\"\",\"\",'100L Information'!S3)","v":""},null,null,null,null,"Building Area Type","(W/ft2)","% of Space"]
[null,null,null,null,null,null,null,"(select)"]
[null,"Project cost",{"$f":"'Analysis 103L'!S232","v":0},null,null,null,null,"Automotive Facility",0.71]
[null,"kWh savings",{"$f":"'Analysis 103L'!F10","v":0},null,null,null,null,"Convention Center",0.76]
[null,"Base program incentive per kWh",{"$f":"'Analysis 103L'!F20/'Analysis 103L'!F10","v":{"$error":"#DIV/0!"}},null,null,null,null,"Court House",0.9]
[null,null,null,null,null,null,null,"Dining: Bar Lounge/Leisure",0.9]
[null,"Performance+ LPD calculation",null,null,null,null,null,"Dining: Cafeteria/Fast Food",0.79]
[null,"Building type:",{"$f":"IF('Analysis 103L'!#REF!=\"other\",'Analysis 103L'!#REF!,'Analysis 103L'!#REF!)","v":{"$error":"#REF!"}},null,null,null,null,"Dining: Family",0.78]
[null,"LPD allowance",{"$f":"VLOOKUP(C13,$H$8:$I$41,2,FALSE)","v":{"$error":"#REF!"}},null,null,null,null,"Dormitory",0.61]
[null,"LPD proposed",{"$f":"SUM('Analysis 103L'!$AW$28:$AW$227)/'100L Information'!$N$26","v":{"$error":"#DIV/0!"}},null,null,null,null,"Exercise Center",0.65]
[null,"% below code",{"$f":"IF((C15/C14)*100-100<0,(C15/C14)*100-100,\"\")","v":{"$error":"#DIV/0!"}},null,null,null,null,"Gymnasium",0.68]
[null,null,null,null,null,null,null,"Healthcare—clinic",0.82]
[null,"Performance+ incentive calculation",null,null,null,null,null,"Hospital",1.05]
[null,{"$f":"IF(AND(ISNUMBER(C16),C16<=-20),\">20% LPD reduction\",\"No Performance+ incentive\")","v":{"$error":"#DIV/0!"}},{"$f":"'Analysis 103L'!#REF!","v":{"$error":"#REF!"}},null,null,null,null,"Hotel",0.75]
[null,"Estimated Energy Trust Incentive w/ Performance + Adder",{"$f":"'Analysis 103L'!#REF!","v":{"$error":"#REF!"}},null,null,null,null,"Library",0.78]
[null,null,null,null,null,null,null,"Manufacturing Facility",0.9]
[null,"Incentive for this project ($/kWh)",{"$f":"$C$20/$C$9","v":{"$error":"#REF!"}},null,null,null,null,"Motel",0.75]
[null,null,null,null,null,null,null,"Motion Picture Theater",0.83]
[null,"Annual savings ",{"$f":"'Analysis 103L'!F13","v":""},null,null,null,null,"Multifamily",0.68]
[null,"Simple payback (years) w/ Performance+ adder",{"$f":"($C$8-$C$22)/$C$24","v":{"$error":"#REF!"}},null,null,null,null,"Museum",1.06]
[null,"Estimated ROR after Energy Trust Incentive w/ Performance+ adder",{"$f":"$C$24/($C$8-$C$22)","v":{"$error":"#VALUE!"}},null,null,null,null,"Office",0.79,0.5]
[null,"Engage adder on 103L","(select)",null,null,null,null,"Parking Garage",0.15]
[null,null,null,null,null,null,null,"Penitentiary",0.75,0.5]
[null,null,null,null,null,null,null,"Performing Arts Theater",1.18]
[null,null,null,null,null,null,null,"Police",0.8]
[null,null,null,null,null,null,null,"Fire Station",0.53]
[null,null,null,null,null,null,null,"Post Office",0.67]
[null,null,null,null,null,null,null,"Religious Building",0.94]
[null,null,null,null,null,null,null,"Retail",1.06]
[null,null,null,null,null,null,null,"School/University",0.81]
[null,null,null,null,null,null,null,"Sports Arena",0.87]
[null,null,null,null,null,null,null,"Town Hall",0.8]
[null,null,null,null,null,null,null,"Transportation",0.61]
[null,null,null,null,null,null,null,"Warehouse",0.48]
[null,null,null,null,null,null,null,"Workshop",0.9]
[null,null,null,null,null,null,null,"Other",{"$f":"'Analysis 103L'!#REF!","v":{"$error":"#REF!"}}]
[]
[]
[null,null,null,null,null,null,null,null,"Total ",{"$f":"SUM(J8:J40)","v":1}]
[null,null,null,null,null,null,null,null,"Weighted Average LPD",{"$f":"SUMPRODUCT(I8:I40,J8:J40)","v":0.77}]
[null,null,null,null,null,null,null,"Source: https://www.ashrae.org/technical-resources/standards-and-guidelines/read-only-versions-of-ashrae-standards"]

{"sheet":"AvoidedCost","index":5,"n_rows":36,"n_cols":37,"rows_kept":36,"cut":false,"hidden":true,"merged":[]}
["Load Profile Name",0,1,2,3,4,5,6,7,8,9,10,11,12,13,14,15,16,17,18,19,20,21,22,23,24,25,26,27,28,29,30,31,32,33,34,35]
["Res Lighting",0,6.4082116775597039E-2,0.12777037476313016,0.18990628842604032,0.25138213750766364,0.31125369155076088,0.36883393905444062,0.42410547550170108,0.47844088487739983,0.53210738858358242,0.58557561432348793,0.63822546804233149,0.69056141008542116,0.74127057631235349,0.78970446319115251,0.83611796449639453,0.88220803124132219,0.92726912750576374,0.971777890809709,1.0150615276389023,1.0566970612673148,1.0968208910477537,1.1357967810473195,1.1740479552168541,1.2112019482594671,1.2472789522413676,1.282064569490097,1.3153821128096377,1.347569779505092,1.3786959043280407,1.3852553559870211,1.3915323432204951,1.3975390295683172,1.4032870547815439,1.4087875573779334,1.4140511962261528]
["Flat",0,6.0094988399107034E-2,0.11990470324101701,0.1781413872553205,0.23587347592740363,0.29207288228030465,0.34609725705195343,0.39791053439208013,0.44887695973662861,0.4992011965741589,0.54941264889993946,0.59878277350536702,0.64792680008498582,0.69542615902272886,0.74083177855575466,0.78423945299315911,0.82743508142297584,0.869640748954149,0.91136898527965016,0.9519249350322202,0.99093750809489645,1.0285686542496042,1.0651554399808598,1.1010286012009383,1.1359175794963856,1.1697787968507514,1.2024766025996727,1.2337793581081913,1.2640270014526909,1.2932768129839951,1.2993291010722983,1.3051207643146938,1.3106630257906704,1.3159666252892126,1.3210418401203534,1.3258985050305361]
["1-Shift Industrial",0,6.6223579500140739E-2,0.13185598704804147,0.1957884241528301,0.25905105489442964,0.32051734391637365,0.3795455127126684,0.43614057260698885,0.49176355551807716,0.54652692370416678,0.60100444592697821,0.65454280705778278,0.70762341766647019,0.75893126556395829,0.80784955566103156,0.85463885752194724,0.90115569912343507,0.94655622219772062,0.99128702481713349,1.0347914700930425,1.0765816085642359,1.1167853897881581,1.1559065415157124,1.1942830589913487,1.2315459485826759,1.2677259847717297,1.3026076947659255,1.3359700680085127,1.36825664629066,1.3994400700421452,1.4068662953988034,1.4139727311468016,1.4207731481305321,1.4272807241915182,1.4335080697044236,1.439467252013424]
["2-Shift Industrial",0,6.543335871741103E-2,0.13031470833668049,0.19351498654872099,0.25606806405470772,0.31685794581447319,0.37524279139736777,0.4312227237207657,0.48624852666879959,0.54044204187662848,0.59437213464162664,0.6473772522033544,0.69995290768801544,0.75077281684957708,0.7992392744321154,0.84559350889228091,0.89168425389311734,0.93667533388697921,0.98102050902119009,1.024147351908808,1.0655810169982269,1.1054529655936098,1.1442484612615853,1.1823046235813843,1.2192633335283425,1.255147235180605,1.2897495799859628,1.3228478411985434,1.3548740510206163,1.3858104994471234,1.3930533288199518,1.3999842660188306,1.4066167418072315,1.4129636085903901,1.4190371653206852,1.4248491813305373]
["3-Shift Industrial",0,6.1917216150334568E-2,0.12345253480703901,0.18339941936213125,0.24280685518255188,0.3005975583049641,0.35612716808165296,0.40937626858810133,0.46175616115023471,0.51342408845614695,0.56492979096158369,0.61557867443807768,0.66592186397239395,0.71458729147722488,0.76104735177315519,0.80547454214979897,0.84968381776364099,0.89286772230840528,0.93550447353350408,0.97696591091639562,1.016823836035988,1.0552244035327016,1.0925812292611563,1.1292278708819903,1.1648463282363546,1.1994291949484097,1.2328008862648296,1.2647335212140278,1.2956159119061568,1.3254647352831375,1.3318678092998917,1.3379951528565941,1.3438586395137255,1.3494696315301191,1.3548390018807352,1.3599771553263009]
["Street Lighting",0,5.3432229045588267E-2,0.10693906362849824,0.15915748247445313,0.21095175816905212,0.26163789649178204,0.31046981803433804,0.35738008179629005,0.40358537599776723,0.44949684365467896,0.49546770938855156,0.54080873843718569,0.58619557892832419,0.63020857292611854,0.67248255652088218,0.71300263948935461,0.75324874409293185,0.79270833096571203,0.83191799934212807,0.86999917134876459,0.90675967599932739,0.94237427738363111,0.97686588662851592,1.0106851259253662,1.0436248176131233,1.07558927524222,1.1064994943213464,1.1361553101852397,1.1647170801178592,1.1923992024432413,1.1966508866294263,1.2007194839367803,1.2046128784892722,1.2083386149031401,1.2119039129068414,1.2153156813314359]
["College Exterior Lights",0,5.5653880052832436E-2,0.111290257387704,0.16547770632219816,0.21921746857859337,0.27171385340115312,0.32226133076277258,0.37078333588673124,0.41852907996870931,0.46587430669926344,0.51323468867643529,0.5598693986917308,0.60649621715332747,0.65162814382889811,0.69494484263261413,0.73640526937313411,0.77760765491817829,0.81795346311578854,0.85800526372235519,0.89688185441051915,0.93437203872407537,0.97067213030826738,1.0058651253474102,1.0403448314166814,1.0739249204376156,1.1064969112500169,1.1379932853894619,1.1681995669689187,1.1973069466625259,1.225506185771194,1.2304178819750469,1.23511806972993,1.239615857055177,1.2439199597587627,1.2480387183267871,1.2519801140856623]
["College Interior Lights",0,6.8354849326074385E-2,0.13610616682975862,0.20212221110716852,0.26740051263350806,0.33083561087456076,0.39177041405337054,0.45018658683767787,0.50759412547653326,0.56410353951128089,0.6203051622690896,0.67552950147752644,0.73026333773498153,0.78319482539826146,0.83367718861440376,0.88197508135621905,0.92995352819394661,0.97677139082416975,1.022897306691029,1.0677481550951797,1.1108597873532506,1.1523228407867847,1.1926475418523881,1.2322003628363787,1.2705997315161821,1.3078806264532212,1.3438208271894416,1.3781961450155114,1.4114529624587593,1.4435778202567233,1.4513382521218465,1.4587645027104812,1.4658709626039115,1.4726714026933185,1.4791790008649999,1.4854063675364653]
["Grocery Exterior Lights",0,5.6916719255699785E-2,0.11375953781026851,0.1691048658914939,0.22398238563161552,0.27754934305137896,0.32910879314404684,0.37858872970533952,0.42726766558483009,0.47548965820641947,0.52369810007993811,0.57114602948303095,0.61853967463306547,0.66439283625657231,0.70837014476345395,0.75045068535765513,0.79227494270427534,0.83320994772104573,0.87381100130962597,0.91322483425322443,0.95121694728537731,0.98797699435014108,1.0236334577301704,1.0585674789101083,1.0925817921299534,1.125574750695358,1.1574718497642789,1.188050887336058,1.2175326554678154,1.2460835188484161,1.2513047233645505,1.2563010913225734,1.2610823046795334,1.2656576284660979,1.2700359287403222,1.2742256897682882]
["Grocery Interior Lights",0,6.3243332264973778E-2,0.12609873516282472,0.18733949481592954,0.24803289946774762,0.30707778604472774,0.3638128043222032,0.41822040736722055,0.47174313096124193,0.52454162200197774,0.57717847184925053,0.6289446555154381,0.68039904066843249,0.73014416666156812,0.77763169149384348,0.82304116963764384,0.86823370791443544,0.91237949514441374,0.95596766427761026,0.99835738639760341,1.0391095045356145,1.0783679332730154,1.116561644455994,1.154032436923885,1.1904525941285435,1.2258142099842386,1.259936702119101,1.2925877613472045,1.324167274040821,1.3546888081765267,1.3611938448710676,1.367418760368236,1.3733756173033251,1.3790759588680042,1.3845308311787015,1.3897508046817613]
["Healthcare Exterior Lights",0,5.61246542421776E-2,0.11221479260619566,0.16682937434709402,0.22099909325487876,0.27389171852595123,0.32480917730362041,0.37367610523741335,0.42176141018665203,0.46941673377670051,0.51708108378279416,0.56400032389534149,0.61089244265290366,0.65626221589246525,0.69979049753910094,0.74143902246556082,0.78284094242781843,0.82337037890458953,0.86358874934486407,0.90262948677167543,0.94026923512918104,0.97670023607006629,1.0120341233098742,1.0466520512895712,1.0803658683654485,1.1130667990930547,1.1446880001658468,1.1750058781336958,1.2042310371921352,1.2325377691643895,1.2375698380277997,1.2423852149305847,1.2469932311054985,1.2514028159618753,1.2556225143890303,1.2596605033145372]
["Healthcare Interior Lights",0,6.2850666070243671E-2,0.12533260799779763,0.18621304108506143,0.2465596095622172,0.30527227495196796,0.36169031257341816,0.41579674201751643,0.46902882482217528,0.52155019460063545,0.573921608946238,0.62543157948283279,0.676642495634455,0.72615304761660493,0.77342020393897526,0.81861602773989317,0.86360341923621764,0.9075520692654343,0.95095495323614765,0.99316509577057077,1.0337454163251165,1.0728418209001971,1.1108791357403507,1.148198547537449,1.1844745370700804,1.219696580336362,1.2536867935244378,1.2862125263431927,1.3176701821518033,1.3480755289729682,1.3544776795344324,1.3606041394018622,1.3664667804233261,1.3720769632189855,1.3774455591956927,1.3825829716135944]
["Lodging Exterior Lights",0,5.6094434902432759E-2,0.11215636256235119,0.1667353775022842,0.22086994631322512,0.27372807384591641,0.32461326689049819,0.37344691515039202,0.42149773822187431,0.46911853042007057,0.51674933959201619,0.56362974819144684,0.61048698005325941,0.65581921451322911,0.69931523662174466,0.74093102785277676,0.78229949036146595,0.82279410826338495,0.86297927234407856,0.90198515520554023,0.93959349766502553,0.97599635234500703,1.0113023527481351,1.0458891154898342,1.079574398050676,1.1122463496262518,1.1438415504130026,1.1741344896406407,1.2033337548709102,1.2316161344421201,1.2366583711539683,1.2414834780552582,1.2461008052335261,1.2505193001409596,1.254747524932762,1.2587936730588887]
["Lodging Interior Lights",0,6.3123888285940247E-2,0.12587019800480642,0.18698624675722736,0.24754741264897334,0.30646925762982657,0.36309214719729066,0.41739388580499365,0.4708022257624434,0.52349489319381792,0.57602667829902432,0.62767975522839448,0.67903437150755663,0.72867730059307112,0.77608648681469306,0.8214194482266034,0.86652519344380508,0.9105861746031183,0.95410155188171653,0.99640960804968592,1.0370892942901038,1.0762924007604069,1.1144220513168472,1.151819291689355,1.1881721982562963,1.2234620285331945,1.2575210818312437,1.2901165783344797,1.3216320894788123,1.3520955364856224,1.3586207396554741,1.3648649532151409,1.3708402771956834,1.3765582905741927,1.3820300737115221,1.3872662298237992]
["Large Office Exterior Lights",0,5.6358589038299906E-2,0.11266972043502077,0.16749626743476287,0.22188638184703455,0.2749788303788625,0.32608181524321916,0.37512010146435865,0.42337728358119747,0.47118902748289487,0.51900762774183062,0.56607417353441059,0.61310288430630366,0.65859646648061609,0.70222701516221753,0.74396657405686029,0.78547187408127905,0.82609575104066113,0.866396920872606,0.90552334892623842,0.94323716716041794,0.97972899660451807,1.0151341525996895,1.0498257208349362,1.0836095219794841,1.1163811482342643,1.148068418850184,1.1784440784647532,1.207733329596822,1.2360987490715845,1.2411744067856327,1.24603149550721,1.2506794272981929,1.2551272089163588,1.2593834592686703,1.2634564261129875]
["Large Office Interior Lights",0,6.6135662129469974E-2,0.13175028954112028,0.19567099834520738,0.25895430757496768,0.32046767522170333,0.37955397053154816,0.43621012830489575,0.4919098813947147,0.54678490260098989,0.60141657681062688,0.65511677884627662,0.70840420611175647,0.7599148483587137,0.80905556619264762,0.85604451093714351,0.90277841904016076,0.94840238203974325,0.99339326335227296,1.0371456570262223,1.0791885256476512,1.1196542227069584,1.1590264113243876,1.1976494612490434,1.2351667579094587,1.271591373227845,1.3067220421514936,1.3403284476927626,1.3728433390236421,1.4042553052657141,1.411459046464995,1.4183525787131108,1.4249492602902549,1.4312618742396752,1.4373026531386419,1.4430833028027248]
["Other Exterior Lights",0,6.0585886181822347E-2,0.12092688694588383,0.17964550207903077,0.23778101619133127,0.29445343895074344,0.34897239025922711,0.40127760719213484,0.45268298100642862,0.50350473562500941,0.55420773228666231,0.60406102099482439,0.65374208681316848,0.7017883382393526,0.74782379942833144,0.79187408020332439,0.83561327916501971,0.87838152226814137,0.9207180312801293,0.96181313944537905,1.0014003451637721,1.0396606496455543,1.0767782482576558,1.1131307691697685,1.148497447380485,1.1827976343397819,1.2159369240906528,1.2476937447639385,1.2783240466825707,1.307968039920006,1.3141255087123749,1.3200178233462208,1.3256564019432024,1.3310521709355294,1.3362155862391916,1.3411566535154233]
["Other Interior Lights",0,6.5549121624921394E-2,0.13059895736751614,0.19399134094156151,0.25677390434986958,0.31780840456519227,0.37643492169355508,0.43265183049091366,0.48793722097733894,0.54241647998944531,0.59667032132918552,0.65001620283915684,0.70296269099245656,0.75415333930182049,0.80297780623790049,0.84966908585771139,0.89612263433560091,0.94148038834951042,0.98621176288389734,1.0297236311842999,1.0715332748223445,1.1117706194284718,1.1509282121060587,1.1893521458842462,1.2266766948148833,1.2629215088912846,1.2978763409228116,1.331312975797845,1.3636695131380077,1.3949285145454045,1.4019412907406856,1.4086520813581793,1.4150738905615228,1.4212191625264448,1.4270998055550781,1.4327272151518564]
["Restaurant Exterior Lights",0,5.9372818057804977E-2,0.11855946307933969,0.17615930276939915,0.23322009706489324,0.28886269675303911,0.342398318365358,0.39376207357834075,0.44425977181530785,0.49421163027090598,0.54408203771392782,0.59312774347177333,0.64204043437111202,0.68934302196449593,0.73467859671796709,0.77805322470491545,0.821140696655837,0.8632818332921246,0.90502369239177771,0.94554290916145622,0.98458066974600822,1.0223232734764596,1.0589400721075484,1.0948055214728449,1.1297091306092908,1.1635607214115666,1.1962751274180408,1.2276276263899497,1.2578652504174213,1.2871345926972313,1.2929879601528289,1.2985892687227785,1.3039493726174674,1.3090786586410927,1.3139870663192035,1.3186841071595008]
["Restaurant Interior Lights",0,6.7298747526474523E-2,0.134017947037502,0.19899894803447216,0.26330302288651813,0.32579248456568877,0.38581047606847951,0.4433552961530382,0.49990895305696315,0.55560091144790014,0.61101407099336269,0.66546638181605433,0.71947336768597636,0.77167429023501755,0.82146360111214856,0.86908154096028967,0.91642100978813812,0.96262641480111388,1.0081653845385539,1.0524488193984363,1.0949961382172506,1.1359418105488019,1.1757779856088058,1.2148481169748599,1.2527918004268237,1.2896279369289354,1.3251488687044684,1.3591269645738946,1.3920016599371157,1.4237564975704393,1.4312714613412465,1.4384628142319711,1.445344491639363,1.4519298288713172,1.4582315869880196,1.4642619775303185]
["Retail Exterior Lights",0,5.96815005158743E-2,0.11916431691783583,0.17703517158466556,0.23436489817808787,0.29025592141476281,0.34402712243650846,0.39561028326620068,0.44631812194070902,0.49646416965242612,0.54652287560895518,0.5957393689153857,0.64481578165642384,0.69226393944683118,0.7377357717456563,0.78123175884556717,0.82444284023038905,0.86669564328995108,0.90854162332735677,0.94915929721818959,0.98828835473090781,1.0261160364795694,1.0628201825745294,1.0987667429981545,1.1337494116181093,1.1676761292361384,1.2004642908831751,1.2318844356359049,1.2621889367331929,1.2915213910157506,1.2974741162278525,1.3031705039906294,1.3086215927588372,1.3138379456470739,1.3188296708989753,1.3236064414749575]
["Retail Interior Lights",0,6.5387924145544701E-2,0.13028193460780044,0.1935192366810255,0.25615115853960174,0.3170417193954515,0.37553071388753828,0.43161639413475406,0.48677265130364566,0.54112989144825008,0.59526574684407507,0.64849659718277564,0.70133607087714278,0.75242140363598031,0.80114570345584735,0.84774420036015019,0.89410701258301839,0.93937841793033494,0.98402743062439935,1.0274589745471103,1.0691908443032945,1.1093574400569368,1.1484467536752958,1.1868021129896034,1.2240621197170598,1.2602429983661108,1.2951374385395262,1.3285177297878736,1.3608186943054508,1.3920247143148861,1.399004476784252,1.4056836753195305,1.4120752528652516,1.4181915950142669,1.42404455400854,1.4296454717064091]
["School Exterior Lights",0,5.760824564031642E-2,0.11511427882411998,0.17108161563778884,0.22656151244778838,0.2806968668316317,0.33280015868779511,0.38279172280307022,0.43196076717822912,0.48064500400914983,0.52929900820049047,0.57716305817020919,0.62495793831986202,0.67118516004333462,0.71551676152772459,0.75793183443584933,0.80008115887126208,0.84132158200040086,0.88221315747761453,0.92190037665250357,0.96015398791825768,0.99715767808018807,1.0330584415142989,1.0682197929428026,1.1024531607777319,1.135655640152643,1.1677531873342419,1.1985228949925453,1.2281891108646656,1.2569162785609949,1.2623420538376096,1.2675341832889155,1.2725027282183949,1.2772573166676575,1.2818071620736504,1.2861610811224473]
["School Interior Lights",0,6.4395480076730627E-2,0.12837498242572465,0.19081721379126731,0.25268502631678247,0.31284076323996113,0.37063897880028257,0.42603230561993083,0.48057967348176556,0.53433087713082028,0.58790827491609809,0.64061520877614464,0.69292717138280513,0.74354217214955198,0.79179947259417915,0.83795699000612933,0.88390469296446617,0.92876081252936105,0.97300533691724589,1.016060156840521,1.0574613387016873,1.0972616411368412,1.1360082695360043,1.1740602497612989,1.2110193901868012,1.2469332086979135,1.2815629187487259,1.3146736309061473,1.3467275413382465,1.3777046207557513,1.3843219456659022,1.3906543140009751,1.3967139966182696,1.4025127359649627,1.408061768832612,1.4133718481317976]
["Small Office Exterior Lights",0,5.6404332152604701E-2,0.11276042870364737,0.16762573821402521,0.22203404384535327,0.27515651682698061,0.32629465738739727,0.37537104301680291,0.4236544313295656,0.47149910167188624,0.51934387623529188,0.56643540591436981,0.61349202084160781,0.65901890662710494,0.7027005175194222,0.74449684141877226,0.78603684249760808,0.82669931861035006,0.86704473258312853,0.90620481422146959,0.94396029510522073,0.98050443694938472,1.0159440055795319,1.0506617221609269,1.0844711627266492,1.1172627219631859,1.1489709858104498,1.1793725435662765,1.2086766122755148,1.2370597435470922,1.242178259050843,1.2470763600113699,1.2517635379640273,1.2562488757177663,1.2605410649557942,1.2646484230783088]
["Small Office Interior Lights",0,6.9332915621654806E-2,0.13798055941429122,0.20487772942683949,0.27105957930699293,0.33533019223807403,0.39703436388062907,0.45619038174973781,0.51433066438953723,0.57153036368347465,0.62839870217207616,0.6842906806763791,0.73964310739141126,0.79315448725822657,0.84413335564121883,0.89288810251873052,0.94136591374477441,0.98866845995144259,1.0352350739006539,1.0805386445442366,1.1240392652720193,1.1658491256208054,1.2065510803226491,1.2464948208222253,1.2852637288998492,1.3229136281176304,1.3591963837228285,1.3938873585867844,1.4274810586670561,1.459916296219955,1.4678044228483766,1.4753528693827516,1.4825762631955504,1.4894886017723914,1.496103279836354,1.5024331153042609]
["Warehouse Exterior Lights",0,5.6222484406656989E-2,0.11240271044334774,0.16711208709180692,0.22136354565909061,0.27434257325705824,0.32534554469717397,0.37429834561377329,0.42246410740893159,0.47020400510682325,0.51794612261844486,0.56494828534021702,0.61192084106597333,0.65737809709193784,0.70099089238329448,0.74273139761341311,0.78421407294012879,0.82482668535566506,0.86512644571474306,0.90424496967960155,0.94196220074918657,0.97846921369800244,1.0138711989568663,1.04855601536663,1.0823322549153012,1.115093575887304,1.1467702791491703,1.1771440833167013,1.2064206172898104,1.234778203699058,1.23982883972104,1.2446619842396831,1.2492870029178105,1.2537128581121908,1.2579481262407843,1.2620010144021179]
["Warehouse Interior Lights",0,6.7362902845111899E-2,0.13415042478543174,0.19921817619968424,0.26360283871734358,0.32616901233163526,0.38626139005955101,0.4438847052295164,0.50052024943432838,0.55629246870640547,0.61178478717308749,0.66632177693110817,0.72040390467676862,0.77268585055325878,0.82255389686322422,0.87024002230641506,0.91765002555267772,0.96392438257459334,1.009536848634139,1.0538934161750961,1.0965096204873723,1.1375140519177298,1.1774079452993067,1.2165415407018605,1.2545445477384458,1.2914397271555431,1.3270163131647019,1.3610480615975979,1.3939757997914053,1.4257822588371458,1.4332771179718404,1.4404492319763327,1.4473124989662773,1.4538802185738802,1.4601651177199113,1.4661793752759222]
[]
[]
["2022 Avoided Costs"]
["Entered on 12/3/2021"]
[]
[]
["Discount Rate",4.4999999999999998E-2]

{"sheet":"Controls","index":6,"n_rows":209,"n_cols":76,"rows_kept":209,"cut":false,"hidden":false,"merged":[[4,64,4,65],[4,36,4,42],[4,44,4,53],[4,69,4,75]]}
[]
[null,"Project ID",null,{"$f":"IF('100L Information'!S3=\"\",\"\",'100L Information'!S3)","v":""}]
[null,"Ref ID",null,{"$f":"IF('100L Information'!AB3=\"\",\"\",'100L Information'!AB3)","v":""}]
[]
[null,"Instructions:  Fill in Control Type, Control Qty, and Installed Cost (each) for each appropriate row where controls are installed",null,null,null,null,null,null,null,null,null,null,null,"Default savings based on building type",null,null,null,null,null,null,null,null,null,null,null,null,null,null,null,"Watts controlled","Incentive","Meet req?",null,"LLLC",{"$f":"IF(COUNTIF(LLLC_Lookup,AH5),\"LLLC\",\"\")","v":""},null,"COST EFFECTIVE TEST",null,null,null,null,null,null,null,"COST EFFECTIVENESS BY MEASURE",null,null,null,null,null,null,null,null,null,null,null,null,null,null,null,{"$f":"IF(AI5=\"LLLC\",\"Optional\",\"\")","v":""},null,null,null,"Incentive Lookup LLLC",null,null,null,null,"Case Lighting Controls (total)"]
[null,"Location\nArea/Room","Proposed Equipment\nCategory","Proposed Equipment\nSpecific fixture, lamp type","Number \nof Fixtures \nOR  Case Lighting Ft","Controlled Watts \nper Fixture","Baseline Operating Hours","Controls\n(note type, wall mount or ceiling mount)","Measure Description","Number \nof Controls","Installed Cost (each)","Total \nCost","Watts Controlled per Sensor","Percent Time at Lowest Wattage","kWh \nBefore","kWh \nAfter","kWh Savings","Estimated \nIncentive (Each)","Estimated \nIncentive Amount",null,"CEC","Final Incentives Paid",null,null,"Incentive/ kWh Saved",null,null,"Controls Lookup","NEB",null,null,null,null,"Looks to see if control w/ LLLC","Incentive each",null,"Custom?","Custom\nUtility/TRC\nPass/Fail","Total Installed Cost","Total kWh Before","Total kWh After","Total kWh Savings","Total Incentive Amount",null,"Measure Life","PV Utility Benefit","PV TRC Benefit","Utility Measure C/E","Utility BCR","Utility Pass/Fail","TRC Measure C/E \n","TRC BCR","TRC Pass/Fail","Combined Utility & TRC Result",null,null,{"$f":"IF(AI5=\"LLLC\",\"Occupancy\",\"\")","v":""},{"$f":"IF(AI5=\"LLLC\",\"% with Daylighting\",\"\")","v":""},{"$f":"IF(AI5=\"LLLC\",\"Task Tuning\",\"\")","v":""},{"$f":"IF(AI5=\"LLLC\",\"Task Tuning Average Max Level\",\"\")","v":""},{"$f":"IF(AI5=\"LLLC\",\"Energy Monitoring/ Reporting Enabled\",\"\")","v":""},null,null,null,"Measure with LLLC","Incentive (each)",null,null,null,{"$f":"'Analysis 103L'!CF27","v":"High/Low"},"Measure","Controlled Linear Feet","Total Deemed Savings (kWh)","Maximum Incentive per LN FT","Total Incentive","Total NEBs"]
[1,{"$f":"'Analysis 103L'!C28","v":0},{"$f":"'Analysis 103L'!I28","v":""},{"$f":"'Analysis 103L'!J28","v":""},{"$f":"'Analysis 103L'!P28","v":0},{"$f":"'Analysis 103L'!N28","v":""},{"$f":"'Analysis 103L'!Q28","v":""},null,null,null,null,{"$f":"IF(RIGHT(H7, 4)=\"Case\", \"<-- Enter Total Cost.\", IF(J7=\"\",\"\",J7*K7))","v":""},{"$f":"IFERROR(IF(J7=\"\",\"\",IF(LEFT(H7,8) =\"Exterior\", (F7*E7/J7*0.5), F7*E7/J7)),\"\")","v":""},{"$f":"IF(RIGHT(C7, 4)=\"Case\", \"\",IF(J7=\"\",\"\",IF(AH7=\"LLLC\", 0.6, VLOOKUP('100L Information'!$G$19,Load_Profiles, 4, FALSE))))","v":""},{"$f":"IF(RIGHT(C7, 4)=\"Case\", \"\",IF(J7=\"\",\"\",(J7*M7*G7)/1000))","v":""},{"$f":"IF(RIGHT(C7, 4)=\"Case\", \"\",IF(J7=\"\",\"\",O7*(1-N7)))","v":""},{"$f":"IF(RIGHT(C7, 4)=\"Case\", BU7, IF(J7=\"\",\"\",O7-P7))","v":""},{"$f":"IF(AND(ISNUMBER(AE7),ISNUMBER(K7)),AE7,)","v":0},{"$f":"IF(RIGHT(C7,4)=\"Case\",BW7,IF(H7=\"\",\"\",J7*R7))","v":""},null,{"$f":"IF(AL7=\"FAIL\",\"Control System Not Cost Effective\",IF(AF7=\"N\",\"Does not meet requirement\",\"\"))","v":""},{"$f":"'Analysis 103L'!$Y$232*(S7/('Analysis 103L'!$Y$230+'Analysis 103L'!$Y$231))","v":{"$error":"#VALUE!"}},null,null,{"$f":"IF(Q7=\"\",\"\",Q7*'Analysis 103L'!$D$23)","v":""},null,"Custom","Custom control system",null,{"$f":"E7*F7/J7","v":{"$error":"#VALUE!"}},{"$f":"IF(AND(U7=\"\",AK7=\"Custom\"),MIN(K7*Incent_Cost_Controls_Cust,Q7/J7*0.2),IF(AH7=\"LLLC\",MIN(AI7,((K7+'Analysis 103L'!R28)*Incent_Cost_LLLC)-'Analysis 103L'!X28),IF(AD7>=VLOOKUP(H7,Incent_Controls,3,FALSE),MIN(K7,VLOOKUP(H7,Incent_Controls,2,FALSE)),\"\")))","v":{"$error":"#VALUE!"}},{"$f":"IF(OR(AH7=\"LLLC\",J7=\"\"),\"\",IF(AD7>=VLOOKUP(H7,Incent_Controls,3,FALSE),\"Y\",\"N\"))","v":""},null,{"$f":"IF(RIGHT(H7,4)=\"LLLC\", \"LLLC\",\"\")","v":""},{"$f":"IF(AH7=\"LLLC\",VLOOKUP(D7,Incent_LLLC,2,FALSE),\"\")","v":""},null,{"$f":"IF(OR(H7=\"Custom Control System\",LEFT(H7,4)=\"Hard\"),\"Custom\",\"\")","v":""},{"$f":"IF(AK7=\"\",\"PASS/PASS\",IF(BB7=\"PASS/PASS\",\"PASS/PASS\",\"FAIL\"))","v":"PASS/PASS"},{"$f":"IF(AL7=\"PASS/PASS\",L7,\"0\")","v":""},{"$f":"E7*F7*G7/1000","v":{"$error":"#VALUE!"}},{"$f":"AN7*(1-N7)","v":{"$error":"#VALUE!"}},{"$f":"AN7-AO7","v":{"$error":"#VALUE!"}},{"$f":"IF(AK7=\"Custom\",0.35*L7,S7)","v":""},null,10,{"$f":"VLOOKUP('Analysis 103L'!BE28, avoided_costs, ROUND($AS7, 0)+2, FALSE)","v":{"$error":"#N/A"}},{"$f":"AT7","v":{"$error":"#N/A"}},{"$f":"0.5*L7/AP7","v":{"$error":"#VALUE!"}},{"$f":"AT7/AV7","v":{"$error":"#N/A"}},{"$f":"IF(ROUND(AW7*1,1)>=1, \"PASS\", \"FAIL\")","v":{"$error":"#N/A"}},{"$f":"L7/AP7","v":{"$error":"#VALUE!"}},{"$f":"AU7/AY7","v":{"$error":"#N/A"}},{"$f":"IF(OR(ROUND(AZ7,1)>=1,AZ7<0), \"PASS\", \"FAIL\")","v":{"$error":"#N/A"}},{"$f":"AX7&\"/\"&BA7","v":{"$error":"#N/A"}},null,null,null,null,null,null,null,null,null,null,"LED fixture or kit, 25W or less",30,null,null,null,{"$f":"'Analysis 103L'!CF28","v":""},{"$f":"IF(H7=$AB$18, IF(BR7=\"DR\", $AB$20, IF(BR7=\"SR\", $AB$19, \"\")), \"\")","v":""},{"$f":"IF(BS7=\"\", \"\", $E7)","v":""},{"$f":"IF(BS7=\"\", \"\", INDEX($BP$32:$BP$33, MATCH($BS7, $BM$32:$BM$33, 0))*$BT7)","v":""},{"$f":"IF(BT7=\"\", \"\", INDEX($BN$32:$BN$33, MATCH($BS7, $BM$32:$BM$33, 0)))","v":""},{"$f":"IF(BV7=\"\",\"\",MIN(K7*Incent_Cost_Case,(E7*BV7)))","v":""},{"$f":"IF(BU7=\"\", \"\", INDEX($AC$19:$AC$20, MATCH($BS7, $AB$19:$AB$20, 0))*$BT7)","v":""}]
[2,{"$f":"'Analysis 103L'!C29","v":0},{"$f":"'Analysis 103L'!I29","v":""},{"$f":"'Analysis 103L'!J29","v":""},{"$f":"'Analysis 103L'!P29","v":0},{"$f":"'Analysis 103L'!N29","v":""},{"$f":"'Analysis 103L'!Q29","v":""},null,null,null,null,"",{"$f":"IFERROR(IF(J8=\"\",\"\",IF(LEFT(H8,8) =\"Exterior\", (F8*E8/J8*0.5), F8*E8/J8)),\"\")","v":""},{"$f":"IF(RIGHT(C8, 4)=\"Case\", \"\",IF(J8=\"\",\"\",IF(AH8=\"LLLC\", 0.6, VLOOKUP('100L Information'!$G$19,Load_Profiles, 4, FALSE))))","v":""},{"$f":"IF(RIGHT(C8, 4)=\"Case\", \"\",IF(J8=\"\",\"\",(J8*M8*G8)/1000))","v":""},{"$f":"IF(RIGHT(C8, 4)=\"Case\", \"\",IF(J8=\"\",\"\",O8*(1-N8)))","v":""},{"$f":"IF(RIGHT(C8, 4)=\"Case\", BU8, IF(J8=\"\",\"\",O8-P8))","v":""},{"$f":"IF(AND(ISNUMBER(AE8),ISNUMBER(K8)),AE8,)","v":0},{"$f":"IF(RIGHT(C8,4)=\"Case\",BW8,IF(H8=\"\",\"\",J8*R8))","v":""},null,"",{"$f":"'Analysis 103L'!$Y$232*(S8/('Analysis 103L'!$Y$230+'Analysis 103L'!$Y$231))","v":{"$error":"#VALUE!"}},null,null,{"$f":"IF(Q8=\"\",\"\",Q8*'Analysis 103L'!$D$23)","v":""},null,"Custom","Hard-Wired Occupancy Sensor, ceiling/corner/surface mount, 100W or greater",11.91,{"$f":"E8*F8/J8","v":{"$error":"#VALUE!"}},{"$f":"IF(AND(U8=\"\",AK8=\"Custom\"),MIN(K8*Incent_Cost_Controls_Cust,Q8/J8*0.2),IF(AH8=\"LLLC\",MIN(AI8,((K8+'Analysis 103L'!R29)*Incent_Cost_LLLC)-'Analysis 103L'!X29),IF(AD8>=VLOOKUP(H8,Incent_Controls,3,FALSE),MIN(K8,VLOOKUP(H8,Incent_Controls,2,FALSE)),\"\")))","v":{"$error":"#VALUE!"}},{"$f":"IF(OR(AH8=\"LLLC\",J8=\"\"),\"\",IF(AD8>=VLOOKUP(H8,Incent_Controls,3,FALSE),\"Y\",\"N\"))","v":""},null,{"$f":"IF(RIGHT(H8,4)=\"LLLC\", \"LLLC\",\"\")","v":""},{"$f":"IF(AH8=\"LLLC\",VLOOKUP(D8,Incent_LLLC,2,FALSE),\"\")","v":""},null,"",{"$f":"IF(AK8=\"\",\"PASS/PASS\",IF(BB8=\"PASS/PASS\",\"PASS/PASS\",\"FAIL\"))","v":"PASS/PASS"},"",{"$error":"#VALUE!"},{"$error":"#VALUE!"},{"$f":"AN8-AO8","v":{"$error":"#VALUE!"}},"",null,10,{"$f":"VLOOKUP('Analysis 103L'!BE29, avoided_costs, ROUND($AS8, 0)+2, FALSE)","v":{"$error":"#N/A"}},{"$f":"AT8","v":{"$error":"#N/A"}},{"$error":"#VALUE!"},{"$f":"AT8/AV8","v":{"$error":"#N/A"}},{"$f":"IF(ROUND(AW8,1)>=1, \"PASS\", \"FAIL\")","v":{"$error":"#N/A"}},{"$error":"#VALUE!"},{"$error":"#N/A"},{"$f":"IF(OR(ROUND(AZ8,1)>=1,AZ8<0), \"PASS\", \"FAIL\")","v":{"$error":"#N/A"}},{"$error":"#N/A"},null,null,null,null,null,null,null,null,null,null,"LED fixture or kit, 26-39W",45,null,null,null,{"$f":"'Analysis 103L'!CF29","v":""},"",{"$f":"IF(BS8=\"\", \"\", $E8)","v":""},"","","",""]
[3,{"$f":"'Analysis 103L'!C30","v":0},{"$f":"'Analysis 103L'!I30","v":""},{"$f":"'Analysis 103L'!J30","v":""},{"$f":"'Analysis 103L'!P30","v":0},{"$f":"'Analysis 103L'!N30","v":""},{"$f":"'Analysis 103L'!Q30","v":""},null,null,null,null,"",{"$f":"IFERROR(IF(J9=\"\",\"\",IF(LEFT(H9,8) =\"Exterior\", (F9*E9/J9*0.5), F9*E9/J9)),\"\")","v":""},{"$f":"IF(RIGHT(C9, 4)=\"Case\", \"\",IF(J9=\"\",\"\",IF(AH9=\"LLLC\", 0.6, VLOOKUP('100L Information'!$G$19,Load_Profiles, 4, FALSE))))","v":""},{"$f":"IF(RIGHT(C9, 4)=\"Case\", \"\",IF(J9=\"\",\"\",(J9*M9*G9)/1000))","v":""},{"$f":"IF(RIGHT(C9, 4)=\"Case\", \"\",IF(J9=\"\",\"\",O9*(1-N9)))","v":""},{"$f":"IF(RIGHT(C9, 4)=\"Case\", BU9, IF(J9=\"\",\"\",O9-P9))","v":""},{"$f":"IF(AND(ISNUMBER(AE9),ISNUMBER(K9)),AE9,)","v":0},{"$f":"IF(RIGHT(C9,4)=\"Case\",BW9,IF(H9=\"\",\"\",J9*R9))","v":""},null,"",{"$f":"'Analysis 103L'!$Y$232*(S9/('Analysis 103L'!$Y$230+'Analysis 103L'!$Y$231))","v":{"$error":"#VALUE!"}},null,null,{"$f":"IF(Q9=\"\",\"\",Q9*'Analysis 103L'!$D$23)","v":""},null,null,"Wall Switch Vacancy Sensor, 30W or greater",5.33,{"$error":"#VALUE!"},{"$f":"IF(AND(U9=\"\",AK9=\"Custom\"),MIN(K9*Incent_Cost_Controls_Cust,Q9/J9*0.2),IF(AH9=\"LLLC\",MIN(AI9,((K9+'Analysis 103L'!R30)*Incent_Cost_LLLC)-'Analysis 103L'!X30),IF(AD9>=VLOOKUP(H9,Incent_Controls,3,FALSE),MIN(K9,VLOOKUP(H9,Incent_Controls,2,FALSE)),\"\")))","v":{"$error":"#VALUE!"}},"",null,{"$f":"IF(RIGHT(H9,4)=\"LLLC\", \"LLLC\",\"\")","v":""},"",null,"","PASS/PASS","",{"$error":"#VALUE!"},{"$error":"#VALUE!"},{"$error":"#VALUE!"},"",null,10,{"$f":"VLOOKUP('Analysis 103L'!BE30, avoided_costs, ROUND($AS9, 0)+2, FALSE)","v":{"$error":"#N/A"}},{"$error":"#N/A"},{"$error":"#VALUE!"},{"$error":"#N/A"},{"$f":"IF(ROUND(AW9,1)>=1, \"PASS\", \"FAIL\")","v":{"$error":"#N/A"}},{"$error":"#VALUE!"},{"$error":"#N/A"},{"$f":"IF(OR(ROUND(AZ9,1)>=1,AZ9<0), \"PASS\", \"FAIL\")","v":{"$error":"#N/A"}},{"$error":"#N/A"},null,null,null,null,null,null,null,null,null,null,"LED fixture or kit, 40-57W",45,null,null,null,{"$f":"'Analysis 103L'!CF30","v":""},"","","","","",""]
[4,{"$f":"'Analysis 103L'!C31","v":0},{"$f":"'Analysis 103L'!I31","v":""},{"$f":"'Analysis 103L'!J31","v":""},{"$f":"'Analysis 103L'!P31","v":0},{"$f":"'Analysis 103L'!N31","v":""},{"$f":"'Analysis 103L'!Q31","v":""},null,null,null,null,"",{"$f":"IFERROR(IF(J10=\"\",\"\",IF(LEFT(H10,8) =\"Exterior\", (F10*E10/J10*0.5), F10*E10/J10)),\"\")","v":""},{"$f":"IF(RIGHT(C10, 4)=\"Case\", \"\",IF(J10=\"\",\"\",IF(AH10=\"LLLC\", 0.6, VLOOKUP('100L Information'!$G$19,Load_Profiles, 4, FALSE))))","v":""},{"$f":"IF(RIGHT(C10, 4)=\"Case\", \"\",IF(J10=\"\",\"\",(J10*M10*G10)/1000))","v":""},{"$f":"IF(RIGHT(C10, 4)=\"Case\", \"\",IF(J10=\"\",\"\",O10*(1-N10)))","v":""},{"$f":"IF(RIGHT(C10, 4)=\"Case\", BU10, IF(J10=\"\",\"\",O10-P10))","v":""},{"$f":"IF(AND(ISNUMBER(AE10),ISNUMBER(K10)),AE10,)","v":0},{"$f":"IF(RIGHT(C10,4)=\"Case\",BW10,IF(H10=\"\",\"\",J10*R10))","v":""},null,"",{"$f":"'Analysis 103L'!$Y$232*(S10/('Analysis 103L'!$Y$230+'Analysis 103L'!$Y$231))","v":{"$error":"#VALUE!"}},null,null,{"$f":"IF(Q10=\"\",\"\",Q10*'Analysis 103L'!$D$23)","v":""},null,null,"Wall Switch Occupancy Sensor, 30W or greater",5.33,{"$error":"#VALUE!"},{"$f":"IF(AND(U10=\"\",AK10=\"Custom\"),MIN(K10*Incent_Cost_Controls_Cust,Q10/J10*0.2),IF(AH10=\"LLLC\",MIN(AI10,((K10+'Analysis 103L'!R31)*Incent_Cost_LLLC)-'Analysis 103L'!X31),IF(AD10>=VLOOKUP(H10,Incent_Controls,3,FALSE),MIN(K10,VLOOKUP(H10,Incent_Controls,2,FALSE)),\"\")))","v":{"$error":"#VALUE!"}},"",null,{"$f":"IF(RIGHT(H10,4)=\"LLLC\", \"LLLC\",\"\")","v":""},"",null,"","PASS/PASS","",{"$error":"#VALUE!"},{"$error":"#VALUE!"},{"$error":"#VALUE!"},"",null,10,{"$f":"VLOOKUP('Analysis 103L'!BE31, avoided_costs, ROUND($AS10, 0)+2, FALSE)","v":{"$error":"#N/A"}},{"$error":"#N/A"},{"$error":"#VALUE!"},{"$error":"#N/A"},{"$error":"#N/A"},{"$error":"#VALUE!"},{"$error":"#N/A"},{"$error":"#N/A"},{"$error":"#N/A"},null,null,null,null,null,null,null,null,null,null,"LED fixture or kit, 58-100W",45,null,null,null,{"$f":"'Analysis 103L'!CF31","v":""},"","","","","",""]
[5,{"$f":"'Analysis 103L'!C32","v":0},{"$f":"'Analysis 103L'!I32","v":""},{"$f":"'Analysis 103L'!J32","v":""},{"$f":"'Analysis 103L'!P32","v":0},{"$f":"'Analysis 103L'!N32","v":""},{"$f":"'Analysis 103L'!Q32","v":""},null,null,null,null,"",{"$f":"IFERROR(IF(J11=\"\",\"\",IF(LEFT(H11,8) =\"Exterior\", (F11*E11/J11*0.5), F11*E11/J11)),\"\")","v":""},{"$f":"IF(RIGHT(C11, 4)=\"Case\", \"\",IF(J11=\"\",\"\",IF(AH11=\"LLLC\", 0.6, VLOOKUP('100L Information'!$G$19,Load_Profiles, 4, FALSE))))","v":""},{"$f":"IF(RIGHT(C11, 4)=\"Case\", \"\",IF(J11=\"\",\"\",(J11*M11*G11)/1000))","v":""},{"$f":"IF(RIGHT(C11, 4)=\"Case\", \"\",IF(J11=\"\",\"\",O11*(1-N11)))","v":""},{"$f":"IF(RIGHT(C11, 4)=\"Case\", BU11, IF(J11=\"\",\"\",O11-P11))","v":""},{"$f":"IF(AND(ISNUMBER(AE11),ISNUMBER(K11)),AE11,)","v":0},{"$f":"IF(RIGHT(C11,4)=\"Case\",BW11,IF(H11=\"\",\"\",J11*R11))","v":""},null,"",{"$f":"'Analysis 103L'!$Y$232*(S11/('Analysis 103L'!$Y$230+'Analysis 103L'!$Y$231))","v":{"$error":"#VALUE!"}},null,null,{"$f":"IF(Q11=\"\",\"\",Q11*'Analysis 103L'!$D$23)","v":""},null,null,"Occupancy Sensor, fixture mount, 30W or greater",3.81,{"$error":"#VALUE!"},{"$f":"IF(AND(U11=\"\",AK11=\"Custom\"),MIN(K11*Incent_Cost_Controls_Cust,Q11/J11*0.2),IF(AH11=\"LLLC\",MIN(AI11,((K11+'Analysis 103L'!R32)*Incent_Cost_LLLC)-'Analysis 103L'!X32),IF(AD11>=VLOOKUP(H11,Incent_Controls,3,FALSE),MIN(K11,VLOOKUP(H11,Incent_Controls,2,FALSE)),\"\")))","v":{"$error":"#VALUE!"}},"",null,"","",null,"","PASS/PASS","",{"$error":"#VALUE!"},{"$error":"#VALUE!"},{"$error":"#VALUE!"},"",null,10,{"$f":"VLOOKUP('Analysis 103L'!BE32, avoided_costs, ROUND($AS11, 0)+2, FALSE)","v":{"$error":"#N/A"}},{"$error":"#N/A"},{"$error":"#VALUE!"},{"$error":"#N/A"},{"$error":"#N/A"},{"$error":"#VALUE!"},{"$error":"#N/A"},{"$error":"#N/A"},{"$error":"#N/A"},null,null,null,null,null,null,null,null,null,null,"LED High-Bay or Low-Bay, 40-90W",55,null,null,null,{"$f":"'Analysis 103L'!CF32","v":""},"","","","","",""]
[6,{"$f":"'Analysis 103L'!C33","v":0},{"$f":"'Analysis 103L'!I33","v":""},{"$f":"'Analysis 103L'!J33","v":""},{"$f":"'Analysis 103L'!P33","v":0},{"$f":"'Analysis 103L'!N33","v":""},{"$f":"'Analysis 103L'!Q33","v":""},null,null,null,null,"","",{"$f":"IF(RIGHT(C12, 4)=\"Case\", \"\",IF(J12=\"\",\"\",IF(AH12=\"LLLC\", 0.6, VLOOKUP('100L Information'!$G$19,Load_Profiles, 4, FALSE))))","v":""},"","","",{"$f":"IF(AND(ISNUMBER(AE12),ISNUMBER(K12)),AE12,)","v":0},"",null,"",{"$f":"'Analysis 103L'!$Y$232*(S12/('Analysis 103L'!$Y$230+'Analysis 103L'!$Y$231))","v":{"$error":"#VALUE!"}},null,null,{"$f":"IF(Q12=\"\",\"\",Q12*'Analysis 103L'!$D$23)","v":""},null,null,"Wireless Occ Sensor ceiling/corner/surface mount 100W or greater",11.91,{"$error":"#VALUE!"},{"$f":"IF(AND(U12=\"\",AK12=\"Custom\"),MIN(K12*Incent_Cost_Controls_Cust,Q12/J12*0.2),IF(AH12=\"LLLC\",MIN(AI12,((K12+'Analysis 103L'!R33)*Incent_Cost_LLLC)-'Analysis 103L'!X33),IF(AD12>=VLOOKUP(H12,Incent_Controls,3,FALSE),MIN(K12,VLOOKUP(H12,Incent_Controls,2,FALSE)),\"\")))","v":{"$error":"#VALUE!"}},"",null,"","",null,"","PASS/PASS","",{"$error":"#VALUE!"},{"$error":"#VALUE!"},{"$error":"#VALUE!"},"",null,10,{"$f":"VLOOKUP('Analysis 103L'!BE33, avoided_costs, ROUND($AS12, 0)+2, FALSE)","v":{"$error":"#N/A"}},{"$error":"#N/A"},{"$error":"#VALUE!"},{"$error":"#N/A"},{"$error":"#N/A"},{"$error":"#VALUE!"},{"$error":"#N/A"},{"$error":"#N/A"},{"$error":"#N/A"},null,null,null,null,null,null,null,null,null,null,"LED High-Bay or Low-Bay, 91-140W",55,null,null,null,{"$f":"'Analysis 103L'!CF33","v":""},"","","",{"$f":"IF(BT12=\"\", \"\", INDEX($BN$32:$BN$33, MATCH($BS12, $BM$32:$BM$33, 0)))","v":""},{"$f":"IF(BV12=\"\",\"\",MIN(K12*Incent_Cost_Case,(E12*BV12)))","v":""},""]
[7,{"$f":"'Analysis 103L'!C34","v":0},{"$f":"'Analysis 103L'!I34","v":""},{"$f":"'Analysis 103L'!J34","v":""},{"$f":"'Analysis 103L'!P34","v":0},{"$f":"'Analysis 103L'!N34","v":""},{"$f":"'Analysis 103L'!Q34","v":""},null,null,null,null,"","",{"$f":"IF(RIGHT(C13, 4)=\"Case\", \"\",IF(J13=\"\",\"\",IF(AH13=\"LLLC\", 0.6, VLOOKUP('100L Information'!$G$19,Load_Profiles, 4, FALSE))))","v":""},"","","",0,"",null,"",{"$f":"'Analysis 103L'!$Y$232*(S13/('Analysis 103L'!$Y$230+'Analysis 103L'!$Y$231))","v":{"$error":"#VALUE!"}},null,null,{"$f":"IF(Q13=\"\",\"\",Q13*'Analysis 103L'!$D$23)","v":""},null,null,"Exterior occupancy sensor, fixture or pole mount, 40W or greater",3.65,{"$error":"#VALUE!"},{"$f":"IF(AND(U13=\"\",AK13=\"Custom\"),MIN(K13*Incent_Cost_Controls_Cust,Q13/J13*0.2),IF(AH13=\"LLLC\",MIN(AI13,((K13+'Analysis 103L'!R34)*Incent_Cost_LLLC)-'Analysis 103L'!X34),IF(AD13>=VLOOKUP(H13,Incent_Controls,3,FALSE),MIN(K13,VLOOKUP(H13,Incent_Controls,2,FALSE)),\"\")))","v":{"$error":"#VALUE!"}},"",null,"","",null,"","PASS/PASS","",{"$error":"#VALUE!"},{"$error":"#VALUE!"},{"$error":"#VALUE!"},"",null,10,{"$f":"VLOOKUP('Analysis 103L'!BE34, avoided_costs, ROUND($AS13, 0)+2, FALSE)","v":{"$error":"#N/A"}},{"$error":"#N/A"},{"$error":"#VALUE!"},{"$error":"#N/A"},{"$error":"#N/A"},{"$error":"#VALUE!"},{"$error":"#N/A"},{"$error":"#N/A"},{"$error":"#N/A"},null,null,null,null,null,null,null,null,null,null,"LED High-Bay or Low-Bay, 141-299W",55,null,null,null,{"$f":"'Analysis 103L'!CF34","v":""},"","","","",{"$f":"IF(BV13=\"\",\"\",MIN(K13*Incent_Cost_Case,(E13*BV13)))","v":""},""]
[8,{"$f":"'Analysis 103L'!C35","v":0},{"$f":"'Analysis 103L'!I35","v":""},{"$f":"'Analysis 103L'!J35","v":""},{"$f":"'Analysis 103L'!P35","v":0},{"$f":"'Analysis 103L'!N35","v":""},{"$f":"'Analysis 103L'!Q35","v":""},null,null,null,null,"","",{"$f":"IF(RIGHT(C14, 4)=\"Case\", \"\",IF(J14=\"\",\"\",IF(AH14=\"LLLC\", 0.6, VLOOKUP('100L Information'!$G$19,Load_Profiles, 4, FALSE))))","v":""},"","","",0,"",null,"",{"$f":"'Analysis 103L'!$Y$232*(S14/('Analysis 103L'!$Y$230+'Analysis 103L'!$Y$231))","v":{"$error":"#VALUE!"}},null,null,{"$f":"IF(Q14=\"\",\"\",Q14*'Analysis 103L'!$D$23)","v":""},null,null,"Fixture controlled by other sensor",null,{"$error":"#VALUE!"},{"$f":"IF(AND(U14=\"\",AK14=\"Custom\"),MIN(K14*Incent_Cost_Controls_Cust,Q14/J14*0.2),IF(AH14=\"LLLC\",MIN(AI14,((K14+'Analysis 103L'!R35)*Incent_Cost_LLLC)-'Analysis 103L'!X35),IF(AD14>=VLOOKUP(H14,Incent_Controls,3,FALSE),MIN(K14,VLOOKUP(H14,Incent_Controls,2,FALSE)),\"\")))","v":{"$error":"#VALUE!"}},"",null,"","",null,"","PASS/PASS","",{"$error":"#VALUE!"},{"$error":"#VALUE!"},{"$error":"#VALUE!"},"",null,10,{"$f":"VLOOKUP('Analysis 103L'!BE35, avoided_costs, ROUND($AS14, 0)+2, FALSE)","v":{"$error":"#N/A"}},{"$error":"#N/A"},{"$error":"#VALUE!"},{"$error":"#N/A"},{"$error":"#N/A"},{"$error":"#VALUE!"},{"$error":"#N/A"},{"$error":"#N/A"},{"$error":"#N/A"},null,null,null,null,null,null,null,null,null,null,"LED High-Bay or Low-Bay, 300W or greater",55,null,null,null,{"$f":"'Analysis 103L'!CF35","v":""},"","","","","",""]
[9,{"$f":"'Analysis 103L'!C36","v":0},{"$f":"'Analysis 103L'!I36","v":""},{"$f":"'Analysis 103L'!J36","v":""},{"$f":"'Analysis 103L'!P36","v":0},{"$f":"'Analysis 103L'!N36","v":""},{"$f":"'Analysis 103L'!Q36","v":""},null,null,null,null,"","",{"$f":"IF(RIGHT(C15, 4)=\"Case\", \"\",IF(J15=\"\",\"\",IF(AH15=\"LLLC\", 0.6, VLOOKUP('100L Information'!$G$19,Load_Profiles, 4, FALSE))))","v":""},"","","",0,{"$f":"IF(RIGHT(C15,4)=\"Case\",BW15,IF(H15=\"\",\"\",J15*R15))","v":""},null,"",{"$f":"'Analysis 103L'!$Y$232*(S15/('Analysis 103L'!$Y$230+'Analysis 103L'!$Y$231))","v":{"$error":"#VALUE!"}},null,null,{"$f":"IF(Q15=\"\",\"\",Q15*'Analysis 103L'!$D$23)","v":""},null,null,"Interior Fixtures with LLLC",4.5199999999999996,{"$error":"#VALUE!"},{"$f":"IF(AND(U15=\"\",AK15=\"Custom\"),MIN(K15*Incent_Cost_Controls_Cust,Q15/J15*0.2),IF(AH15=\"LLLC\",MIN(AI15,((K15+'Analysis 103L'!R36)*Incent_Cost_LLLC)-'Analysis 103L'!X36),IF(AD15>=VLOOKUP(H15,Incent_Controls,3,FALSE),MIN(K15,VLOOKUP(H15,Incent_Controls,2,FALSE)),\"\")))","v":{"$error":"#VALUE!"}},"",null,"","",null,"","PASS/PASS","",{"$error":"#VALUE!"},{"$error":"#VALUE!"},{"$error":"#VALUE!"},"",null,10,{"$f":"VLOOKUP('Analysis 103L'!BE36, avoided_costs, ROUND($AS15, 0)+2, FALSE)","v":{"$error":"#N/A"}},{"$error":"#N/A"},{"$error":"#VALUE!"},{"$error":"#N/A"},{"$error":"#N/A"},{"$error":"#VALUE!"},{"$error":"#N/A"},{"$error":"#N/A"},{"$error":"#N/A"},null,null,null,null,null,null,null,null,null,null,"Exterior LED fixture, 20W or less",25,null,null,null,{"$f":"'Analysis 103L'!CF36","v":""},"","","","","",{"$f":"IF(BU15=\"\", \"\", INDEX($AC$19:$AC$20, MATCH($BS15, $AB$19:$AB$20, 0))*$BT15)","v":""}]
[10,{"$f":"'Analysis 103L'!C37","v":0},{"$f":"'Analysis 103L'!I37","v":""},{"$f":"'Analysis 103L'!J37","v":""},{"$f":"'Analysis 103L'!P37","v":0},{"$f":"'Analysis 103L'!N37","v":""},{"$f":"'Analysis 103L'!Q37","v":""},null,null,null,null,"","",{"$f":"IF(RIGHT(C16, 4)=\"Case\", \"\",IF(J16=\"\",\"\",IF(AH16=\"LLLC\", 0.6, VLOOKUP('100L Information'!$G$19,Load_Profiles, 4, FALSE))))","v":""},"","","",0,{"$f":"IF(RIGHT(C16,4)=\"Case\",BW16,IF(H16=\"\",\"\",J16*R16))","v":""},null,"",{"$f":"'Analysis 103L'!$Y$232*(S16/('Analysis 103L'!$Y$230+'Analysis 103L'!$Y$231))","v":{"$error":"#VALUE!"}},null,null,{"$f":"IF(Q16=\"\",\"\",Q16*'Analysis 103L'!$D$23)","v":""},null,null,"High-Bay with LLLC",9.51,{"$error":"#VALUE!"},{"$f":"IF(AND(U16=\"\",AK16=\"Custom\"),MIN(K16*Incent_Cost_Controls_Cust,Q16/J16*0.2),IF(AH16=\"LLLC\",MIN(AI16,((K16+'Analysis 103L'!R37)*Incent_Cost_LLLC)-'Analysis 103L'!X37),IF(AD16>=VLOOKUP(H16,Incent_Controls,3,FALSE),MIN(K16,VLOOKUP(H16,Incent_Controls,2,FALSE)),\"\")))","v":{"$error":"#VALUE!"}},"",null,"","",null,"","PASS/PASS","",{"$error":"#VALUE!"},{"$error":"#VALUE!"},{"$error":"#VALUE!"},"",null,10,{"$f":"VLOOKUP('Analysis 103L'!BE37, avoided_costs, ROUND($AS16, 0)+2, FALSE)","v":{"$error":"#N/A"}},{"$error":"#N/A"},{"$error":"#VALUE!"},{"$error":"#N/A"},{"$error":"#N/A"},{"$error":"#VALUE!"},{"$error":"#N/A"},{"$error":"#N/A"},{"$error":"#N/A"},null,null,null,null,null,null,null,null,null,null,"Exterior LED fixture, 21-40W ",45,null,null,null,{"$f":"'Analysis 103L'!CF37","v":""},"","","","","",{"$f":"IF(BU16=\"\", \"\", INDEX($AC$19:$AC$20, MATCH($BS16, $AB$19:$AB$20, 0))*$BT16)","v":""}]
[11,{"$f":"'Analysis 103L'!C38","v":0},{"$f":"'Analysis 103L'!I38","v":""},{"$f":"'Analysis 103L'!J38","v":""},{"$f":"'Analysis 103L'!P38","v":0},{"$f":"'Analysis 103L'!N38","v":""},{"$f":"'Analysis 103L'!Q38","v":""},null,null,null,null,{"$f":"IF(RIGHT(H17, 4)=\"Case\", \"<-- Enter Total Cost.\", IF(J17=\"\",\"\",J17*K17))","v":""},{"$f":"IFERROR(IF(J17=\"\",\"\",IF(LEFT(H17,8) =\"Exterior\", (F17*E17/J17*0.5), F17*E17/J17)),\"\")","v":""},{"$f":"IF(RIGHT(C17, 4)=\"Case\", \"\",IF(J17=\"\",\"\",IF(AH17=\"LLLC\", 0.6, VLOOKUP('100L Information'!$G$19,Load_Profiles, 4, FALSE))))","v":""},"","","",{"$f":"IF(AND(ISNUMBER(AE17),ISNUMBER(K17)),AE17,)","v":0},{"$f":"IF(RIGHT(C17,4)=\"Case\",BW17,IF(H17=\"\",\"\",J17*R17))","v":""},null,{"$f":"IF(AL17=\"FAIL\",\"Control System Not Cost Effective\",IF(AF17=\"N\",\"Does not meet requirement\",\"\"))","v":""},{"$f":"'Analysis 103L'!$Y$232*(S17/('Analysis 103L'!$Y$230+'Analysis 103L'!$Y$231))","v":{"$error":"#VALUE!"}},null,null,{"$f":"IF(Q17=\"\",\"\",Q17*'Analysis 103L'!$D$23)","v":""},null,null,"Exterior with LLLC",8.58,{"$error":"#VALUE!"},{"$f":"IF(AND(U17=\"\",AK17=\"Custom\"),MIN(K17*Incent_Cost_Controls_Cust,Q17/J17*0.2),IF(AH17=\"LLLC\",MIN(AI17,((K17+'Analysis 103L'!R38)*Incent_Cost_LLLC)-'Analysis 103L'!X38),IF(AD17>=VLOOKUP(H17,Incent_Controls,3,FALSE),MIN(K17,VLOOKUP(H17,Incent_Controls,2,FALSE)),\"\")))","v":{"$error":"#VALUE!"}},"",null,{"$f":"IF(RIGHT(H17,4)=\"LLLC\", \"LLLC\",\"\")","v":""},{"$f":"IF(AH17=\"LLLC\",VLOOKUP(D17,Incent_LLLC,2,FALSE),\"\")","v":""},null,"","PASS/PASS","",{"$error":"#VALUE!"},{"$error":"#VALUE!"},{"$f":"AN17-AO17","v":{"$error":"#VALUE!"}},"",null,10,{"$f":"VLOOKUP('Analysis 103L'!BE38, avoided_costs, ROUND($AS17, 0)+2, FALSE)","v":{"$error":"#N/A"}},{"$error":"#N/A"},{"$error":"#VALUE!"},{"$error":"#N/A"},{"$error":"#N/A"},{"$error":"#VALUE!"},{"$error":"#N/A"},{"$error":"#N/A"},{"$error":"#N/A"},null,null,null,null,null,null,null,null,null,null,"Exterior LED fixture, 41-90W ",60,null,null,null,{"$f":"'Analysis 103L'!CF38","v":""},"","","","","",""]
[12,{"$f":"'Analysis 103L'!C39","v":0},{"$f":"'Analysis 103L'!I39","v":""},{"$f":"'Analysis 103L'!J39","v":""},{"$f":"'Analysis 103L'!P39","v":0},{"$f":"'Analysis 103L'!N39","v":""},{"$f":"'Analysis 103L'!Q39","v":""},null,null,null,null,"","",{"$f":"IF(RIGHT(C18, 4)=\"Case\", \"\",IF(J18=\"\",\"\",IF(AH18=\"LLLC\", 0.6, VLOOKUP('100L Information'!$G$19,Load_Profiles, 4, FALSE))))","v":""},"","","",0,{"$f":"IF(RIGHT(C18,4)=\"Case\",BW18,IF(H18=\"\",\"\",J18*R18))","v":""},null,"",{"$f":"'Analysis 103L'!$Y$232*(S18/('Analysis 103L'!$Y$230+'Analysis 103L'!$Y$231))","v":{"$error":"#VALUE!"}},null,null,{"$f":"IF(Q18=\"\",\"\",Q18*'Analysis 103L'!$D$23)","v":""},null,null,"Motion Sensor on Refrigerated Case",null,{"$error":"#VALUE!"},{"$f":"IF(AND(U18=\"\",AK18=\"Custom\"),MIN(K18*Incent_Cost_Controls_Cust,Q18/J18*0.2),IF(AH18=\"LLLC\",MIN(AI18,((K18+'Analysis 103L'!R39)*Incent_Cost_LLLC)-'Analysis 103L'!X39),IF(AD18>=VLOOKUP(H18,Incent_Controls,3,FALSE),MIN(K18,VLOOKUP(H18,Incent_Controls,2,FALSE)),\"\")))","v":{"$error":"#VALUE!"}},"",null,{"$f":"IF(RIGHT(H18,4)=\"LLLC\", \"LLLC\",\"\")","v":""},"",null,"","PASS/PASS","",{"$error":"#VALUE!"},{"$error":"#VALUE!"},{"$error":"#VALUE!"},"",null,10,{"$f":"VLOOKUP('Analysis 103L'!BE39, avoided_costs, ROUND($AS18, 0)+2, FALSE)","v":{"$error":"#N/A"}},{"$error":"#N/A"},{"$error":"#VALUE!"},{"$error":"#N/A"},{"$error":"#N/A"},{"$error":"#VALUE!"},{"$error":"#N/A"},{"$error":"#N/A"},{"$error":"#N/A"},null,null,null,null,null,null,null,null,null,null,"Exterior LED fixture, 91-140W ",65,null,null,null,{"$f":"'Analysis 103L'!CF39","v":""},"","","","","",""]
[13,{"$f":"'Analysis 103L'!C40","v":0},{"$f":"'Analysis 103L'!I40","v":""},{"$f":"'Analysis 103L'!J40","v":""},{"$f":"'Analysis 103L'!P40","v":0},{"$f":"'Analysis 103L'!N40","v":""},{"$f":"'Analysis 103L'!Q40","v":""},null,null,null,null,"","",{"$f":"IF(RIGHT(C19, 4)=\"Case\", \"\",IF(J19=\"\",\"\",IF(AH19=\"LLLC\", 0.6, VLOOKUP('100L Information'!$G$19,Load_Profiles, 4, FALSE))))","v":""},"","","",0,"",null,"",{"$f":"'Analysis 103L'!$Y$232*(S19/('Analysis 103L'!$Y$230+'Analysis 103L'!$Y$231))","v":{"$error":"#VALUE!"}},null,null,{"$f":"IF(Q19=\"\",\"\",Q19*'Analysis 103L'!$D$23)","v":""},null,null,"Motion Sensor on Refrigerated Case - Single Row",{"$f":"'LED Case Lighting'!$AZ$15","v":0.56999999999999995},{"$error":"#VALUE!"},{"$f":"IF(AND(U19=\"\",AK19=\"Custom\"),MIN(K19*Incent_Cost_Controls_Cust,Q19/J19*0.2),IF(AH19=\"LLLC\",MIN(AI19,((K19+'Analysis 103L'!R40)*Incent_Cost_LLLC)-'Analysis 103L'!X40),IF(AD19>=VLOOKUP(H19,Incent_Controls,3,FALSE),MIN(K19,VLOOKUP(H19,Incent_Controls,2,FALSE)),\"\")))","v":{"$error":"#VALUE!"}},"",null,"","",null,"","PASS/PASS","",{"$error":"#VALUE!"},{"$error":"#VALUE!"},{"$error":"#VALUE!"},"",null,10,{"$f":"VLOOKUP('Analysis 103L'!BE40, avoided_costs, ROUND($AS19, 0)+2, FALSE)","v":{"$error":"#N/A"}},{"$error":"#N/A"},{"$error":"#VALUE!"},{"$error":"#N/A"},{"$error":"#N/A"},{"$error":"#VALUE!"},{"$error":"#N/A"},{"$error":"#N/A"},{"$error":"#N/A"},null,null,null,null,null,null,null,null,null,null,"Exterior LED fixture, 141-299W ",75,null,null,null,{"$f":"'Analysis 103L'!CF40","v":""},"","","","","",""]
[14,{"$f":"'Analysis 103L'!C41","v":0},{"$f":"'Analysis 103L'!I41","v":""},{"$f":"'Analysis 103L'!J41","v":""},{"$f":"'Analysis 103L'!P41","v":0},{"$f":"'Analysis 103L'!N41","v":""},{"$f":"'Analysis 103L'!Q41","v":""},null,null,null,null,"","",{"$f":"IF(RIGHT(C20, 4)=\"Case\", \"\",IF(J20=\"\",\"\",IF(AH20=\"LLLC\", 0.6, VLOOKUP('100L Information'!$G$19,Load_Profiles, 4, FALSE))))","v":""},"","","",0,"",null,"",{"$f":"'Analysis 103L'!$Y$232*(S20/('Analysis 103L'!$Y$230+'Analysis 103L'!$Y$231))","v":{"$error":"#VALUE!"}},null,null,{"$f":"IF(Q20=\"\",\"\",Q20*'Analysis 103L'!$D$23)","v":""},null,null,"Motion Sensor on Refrigerated Case - Double Row",{"$f":"'LED Case Lighting'!$AZ$16","v":0.74},{"$error":"#VALUE!"},{"$f":"IF(AND(U20=\"\",AK20=\"Custom\"),MIN(K20*Incent_Cost_Controls_Cust,Q20/J20*0.2),IF(AH20=\"LLLC\",MIN(AI20,((K20+'Analysis 103L'!R41)*Incent_Cost_LLLC)-'Analysis 103L'!X41),IF(AD20>=VLOOKUP(H20,Incent_Controls,3,FALSE),MIN(K20,VLOOKUP(H20,Incent_Controls,2,FALSE)),\"\")))","v":{"$error":"#VALUE!"}},"",null,"","",null,"","PASS/PASS","",{"$error":"#VALUE!"},{"$error":"#VALUE!"},{"$error":"#VALUE!"},"",null,10,{"$f":"VLOOKUP('Analysis 103L'!BE41, avoided_costs, ROUND($AS20, 0)+2, FALSE)","v":{"$error":"#N/A"}},{"$error":"#N/A"},{"$error":"#VALUE!"},{"$error":"#N/A"},{"$error":"#N/A"},{"$error":"#VALUE!"},{"$error":"#N/A"},{"$error":"#N/A"},{"$error":"#N/A"},null,null,null,null,null,null,null,null,null,null,"Exterior LED fixture, 300W or greater",100,null,null,null,{"$f":"'Analysis 103L'!CF41","v":""},"","","","","",""]
[15,{"$f":"'Analysis 103L'!C42","v":0},{"$f":"'Analysis 103L'!I42","v":""},{"$f":"'Analysis 103L'!J42","v":""},{"$f":"'Analysis 103L'!P42","v":0},{"$f":"'Analysis 103L'!N42","v":""},{"$f":"'Analysis 103L'!Q42","v":""},null,null,null,null,"","",{"$f":"IF(RIGHT(C21, 4)=\"Case\", \"\",IF(J21=\"\",\"\",IF(AH21=\"LLLC\", 0.6, VLOOKUP('100L Information'!$G$19,Load_Profiles, 4, FALSE))))","v":""},"","","",0,{"$f":"IF(RIGHT(C21,4)=\"Case\",BW21,IF(H21=\"\",\"\",J21*R21))","v":""},null,"",{"$f":"'Analysis 103L'!$Y$232*(S21/('Analysis 103L'!$Y$230+'Analysis 103L'!$Y$231))","v":{"$error":"#VALUE!"}},null,null,{"$f":"IF(Q21=\"\",\"\",Q21*'Analysis 103L'!$D$23)","v":""},null,null,null,null,{"$error":"#VALUE!"},{"$f":"IF(AND(U21=\"\",AK21=\"Custom\"),MIN(K21*Incent_Cost_Controls_Cust,Q21/J21*0.2),IF(AH21=\"LLLC\",MIN(AI21,((K21+'Analysis 103L'!R42)*Incent_Cost_LLLC)-'Analysis 103L'!X42),IF(AD21>=VLOOKUP(H21,Incent_Controls,3,FALSE),MIN(K21,VLOOKUP(H21,Incent_Controls,2,FALSE)),\"\")))","v":{"$error":"#VALUE!"}},"",null,"","",null,"","PASS/PASS","",{"$error":"#VALUE!"},{"$error":"#VALUE!"},{"$error":"#VALUE!"},"",null,10,{"$f":"VLOOKUP('Analysis 103L'!BE42, avoided_costs, ROUND($AS21, 0)+2, FALSE)","v":{"$error":"#N/A"}},{"$error":"#N/A"},{"$error":"#VALUE!"},{"$error":"#N/A"},{"$f":"IF(ROUND(AW21,1)>=1, \"PASS\", \"FAIL\")","v":{"$error":"#N/A"}},{"$error":"#VALUE!"},{"$error":"#N/A"},{"$f":"IF(OR(ROUND(AZ21,1)>=1,AZ21<0), \"PASS\", \"FAIL\")","v":{"$error":"#N/A"}},{"$error":"#N/A"},null,null,null,null,null,null,null,null,null,null,null,null,null,null,null,{"$f":"'Analysis 103L'!CF42","v":""},"","","","","",""]
[16,{"$f":"'Analysis 103L'!C43","v":0},{"$f":"'Analysis 103L'!I43","v":""},{"$f":"'Analysis 103L'!J43","v":""},{"$f":"'Analysis 103L'!P43","v":0},{"$f":"'Analysis 103L'!N43","v":""},{"$f":"'Analysis 103L'!Q43","v":""},null,null,null,null,"","",{"$f":"IF(RIGHT(C22, 4)=\"Case\", \"\",IF(J22=\"\",\"\",IF(AH22=\"LLLC\", 0.6, VLOOKUP('100L Information'!$G$19,Load_Profiles, 4, FALSE))))","v":""},"","","",0,{"$f":"IF(RIGHT(C22,4)=\"Case\",BW22,IF(H22=\"\",\"\",J22*R22))","v":""},null,"",{"$f":"'Analysis 103L'!$Y$232*(S22/('Analysis 103L'!$Y$230+'Analysis 103L'!$Y$231))","v":{"$error":"#VALUE!"}},null,null,{"$f":"IF(Q22=\"\",\"\",Q22*'Analysis 103L'!$D$23)","v":""},null,null,null,null,{"$error":"#VALUE!"},{"$f":"IF(AND(U22=\"\",AK22=\"Custom\"),MIN(K22*Incent_Cost_Controls_Cust,Q22/J22*0.2),IF(AH22=\"LLLC\",MIN(AI22,((K22+'Analysis 103L'!R43)*Incent_Cost_LLLC)-'Analysis 103L'!X43),IF(AD22>=VLOOKUP(H22,Incent_Controls,3,FALSE),MIN(K22,VLOOKUP(H22,Incent_Controls,2,FALSE)),\"\")))","v":{"$error":"#VALUE!"}},"",null,"","",null,"","PASS/PASS","",{"$error":"#VALUE!"},{"$error":"#VALUE!"},{"$error":"#VALUE!"},"",null,10,{"$f":"VLOOKUP('Analysis 103L'!BE43, avoided_costs, ROUND($AS22, 0)+2, FALSE)","v":{"$error":"#N/A"}},{"$error":"#N/A"},{"$error":"#VALUE!"},{"$error":"#N/A"},{"$f":"IF(ROUND(AW22,1)>=1, \"PASS\", \"FAIL\")","v":{"$error":"#N/A"}},{"$error":"#VALUE!"},{"$error":"#N/A"},{"$f":"IF(OR(ROUND(AZ22,1)>=1,AZ22<0), \"PASS\", \"FAIL\")","v":{"$error":"#N/A"}},{"$error":"#N/A"},null,null,null,null,null,null,null,null,null,null,"Controls Measure","Incentive (each)","Watts (min)","Deemed Savings (kWh)",null,{"$f":"'Analysis 103L'!CF43","v":""},"","","","","",""]
[17,{"$f":"'Analysis 103L'!C44","v":0},{"$f":"'Analysis 103L'!I44","v":""},{"$f":"'Analysis 103L'!J44","v":""},{"$f":"'Analysis 103L'!P44","v":0},{"$f":"'Analysis 103L'!N44","v":""},{"$f":"'Analysis 103L'!Q44","v":""},null,null,null,null,"","",{"$f":"IF(RIGHT(C23, 4)=\"Case\", \"\",IF(J23=\"\",\"\",IF(AH23=\"LLLC\", 0.6, VLOOKUP('100L Information'!$G$19,Load_Profiles, 4, FALSE))))","v":""},{"$f":"IF(RIGHT(C23, 4)=\"Case\", \"\",IF(J23=\"\",\"\",(J23*M23*G23)/1000))","v":""},{"$f":"IF(RIGHT(C23, 4)=\"Case\", \"\",IF(J23=\"\",\"\",O23*(1-N23)))","v":""},{"$f":"IF(RIGHT(C23, 4)=\"Case\", BU23, IF(J23=\"\",\"\",O23-P23))","v":""},{"$f":"IF(AND(ISNUMBER(AE23),ISNUMBER(K23)),AE23,)","v":0},{"$f":"IF(RIGHT(C23,4)=\"Case\",BW23,IF(H23=\"\",\"\",J23*R23))","v":""},null,"",{"$f":"'Analysis 103L'!$Y$232*(S23/('Analysis 103L'!$Y$230+'Analysis 103L'!$Y$231))","v":{"$error":"#VALUE!"}},null,null,{"$f":"IF(Q23=\"\",\"\",Q23*'Analysis 103L'!$D$23)","v":""},null,null,null,null,{"$error":"#VALUE!"},{"$f":"IF(AND(U23=\"\",AK23=\"Custom\"),MIN(K23*Incent_Cost_Controls_Cust,Q23/J23*0.2),IF(AH23=\"LLLC\",MIN(AI23,((K23+'Analysis 103L'!R44)*Incent_Cost_LLLC)-'Analysis 103L'!X44),IF(AD23>=VLOOKUP(H23,Incent_Controls,3,FALSE),MIN(K23,VLOOKUP(H23,Incent_Controls,2,FALSE)),\"\")))","v":{"$error":"#VALUE!"}},"",null,"","",null,{"$f":"IF(OR(H23=\"Custom Control System\",LEFT(H23,4)=\"Hard\"),\"Custom\",\"\")","v":""},"PASS/PASS","",{"$error":"#VALUE!"},{"$error":"#VALUE!"},{"$error":"#VALUE!"},"",null,10,{"$f":"VLOOKUP('Analysis 103L'!BE44, avoided_costs, ROUND($AS23, 0)+2, FALSE)","v":{"$error":"#N/A"}},{"$error":"#N/A"},{"$error":"#VALUE!"},{"$error":"#N/A"},{"$error":"#N/A"},{"$error":"#VALUE!"},{"$error":"#N/A"},{"$error":"#N/A"},{"$error":"#N/A"},null,null,null,null,null,null,null,null,null,null,"Custom control system","Custom",null,null,null,{"$f":"'Analysis 103L'!CF44","v":""},"","","","","",""]
[18,{"$f":"'Analysis 103L'!C45","v":0},{"$f":"'Analysis 103L'!I45","v":""},{"$f":"'Analysis 103L'!J45","v":""},{"$f":"'Analysis 103L'!P45","v":0},{"$f":"'Analysis 103L'!N45","v":""},{"$f":"'Analysis 103L'!Q45","v":""},null,null,null,null,"","",{"$f":"IF(RIGHT(C24, 4)=\"Case\", \"\",IF(J24=\"\",\"\",IF(AH24=\"LLLC\", 0.6, VLOOKUP('100L Information'!$G$19,Load_Profiles, 4, FALSE))))","v":""},"","","",0,"",null,"",{"$f":"'Analysis 103L'!$Y$232*(S24/('Analysis 103L'!$Y$230+'Analysis 103L'!$Y$231))","v":{"$error":"#VALUE!"}},null,null,{"$f":"IF(Q24=\"\",\"\",Q24*'Analysis 103L'!$D$23)","v":""},null,null,null,null,{"$error":"#VALUE!"},{"$f":"IF(AND(U24=\"\",AK24=\"Custom\"),MIN(K24*Incent_Cost_Controls_Cust,Q24/J24*0.2),IF(AH24=\"LLLC\",MIN(AI24,((K24+'Analysis 103L'!R45)*Incent_Cost_LLLC)-'Analysis 103L'!X45),IF(AD24>=VLOOKUP(H24,Incent_Controls,3,FALSE),MIN(K24,VLOOKUP(H24,Incent_Controls,2,FALSE)),\"\")))","v":{"$error":"#VALUE!"}},"",null,"","",null,"","PASS/PASS","",{"$error":"#VALUE!"},{"$error":"#VALUE!"},{"$error":"#VALUE!"},"",null,10,{"$f":"VLOOKUP('Analysis 103L'!BE45, avoided_costs, ROUND($AS24, 0)+2, FALSE)","v":{"$error":"#N/A"}},{"$error":"#N/A"},{"$error":"#VALUE!"},{"$error":"#N/A"},{"$error":"#N/A"},{"$error":"#VALUE!"},{"$error":"#N/A"},{"$error":"#N/A"},{"$error":"#N/A"},null,null,null,null,null,null,null,null,null,null,"Hard-Wired Occupancy Sensor, ceiling/corner/surface mount, 100W or greater","Custom",null,null,null,{"$f":"'Analysis 103L'!CF45","v":""},{"$f":"IF(H24=$AB$18, IF(BR24=\"DR\", $AB$20, IF(BR24=\"SR\", $AB$19, \"\")), \"\")","v":""},{"$f":"IF(BS24=\"\", \"\", $E24)","v":""},"","","",{"$f":"IF(BU24=\"\", \"\", INDEX($AC$19:$AC$20, MATCH($BS24, $AB$19:$AB$20, 0))*$BT24)","v":""}]
[19,{"$f":"'Analysis 103L'!C46","v":0},{"$f":"'Analysis 103L'!I46","v":""},{"$f":"'Analysis 103L'!J46","v":""},{"$f":"'Analysis 103L'!P46","v":0},{"$f":"'Analysis 103L'!N46","v":""},{"$f":"'Analysis 103L'!Q46","v":""},null,null,null,null,"","",{"$f":"IF(RIGHT(C25, 4)=\"Case\", \"\",IF(J25=\"\",\"\",IF(AH25=\"LLLC\", 0.6, VLOOKUP('100L Information'!$G$19,Load_Profiles, 4, FALSE))))","v":""},"","","",0,"",null,"",{"$f":"'Analysis 103L'!$Y$232*(S25/('Analysis 103L'!$Y$230+'Analysis 103L'!$Y$231))","v":{"$error":"#VALUE!"}},null,null,{"$f":"IF(Q25=\"\",\"\",Q25*'Analysis 103L'!$D$23)","v":""},null,null,null,null,{"$error":"#VALUE!"},{"$f":"IF(AND(U25=\"\",AK25=\"Custom\"),MIN(K25*Incent_Cost_Controls_Cust,Q25/J25*0.2),IF(AH25=\"LLLC\",MIN(AI25,((K25+'Analysis 103L'!R46)*Incent_Cost_LLLC)-'Analysis 103L'!X46),IF(AD25>=VLOOKUP(H25,Incent_Controls,3,FALSE),MIN(K25,VLOOKUP(H25,Incent_Controls,2,FALSE)),\"\")))","v":{"$error":"#VALUE!"}},"",null,"","",null,"","PASS/PASS","",{"$error":"#VALUE!"},{"$error":"#VALUE!"},{"$error":"#VALUE!"},"",null,10,{"$f":"VLOOKUP('Analysis 103L'!BE46, avoided_costs, ROUND($AS25, 0)+2, FALSE)","v":{"$error":"#N/A"}},{"$error":"#N/A"},{"$error":"#VALUE!"},{"$error":"#N/A"},{"$error":"#N/A"},{"$error":"#VALUE!"},{"$error":"#N/A"},{"$error":"#N/A"},{"$error":"#N/A"},null,null,null,null,null,null,null,null,null,null,"Wall Switch Vacancy Sensor, 30W or greater",30,30,null,null,{"$f":"'Analysis 103L'!CF46","v":""},"","","","","",""]
[20,{"$f":"'Analysis 103L'!C47","v":0},{"$f":"'Analysis 103L'!I47","v":""},{"$f":"'Analysis 103L'!J47","v":""},{"$f":"'Analysis 103L'!P47","v":0},{"$f":"'Analysis 103L'!N47","v":""},{"$f":"'Analysis 103L'!Q47","v":""},null,null,null,null,"","",{"$f":"IF(RIGHT(C26, 4)=\"Case\", \"\",IF(J26=\"\",\"\",IF(AH26=\"LLLC\", 0.6, VLOOKUP('100L Information'!$G$19,Load_Profiles, 4, FALSE))))","v":""},"","","",0,"",null,"",{"$f":"'Analysis 103L'!$Y$232*(S26/('Analysis 103L'!$Y$230+'Analysis 103L'!$Y$231))","v":{"$error":"#VALUE!"}},null,null,{"$f":"IF(Q26=\"\",\"\",Q26*'Analysis 103L'!$D$23)","v":""},null,null,null,null,{"$error":"#VALUE!"},{"$f":"IF(AND(U26=\"\",AK26=\"Custom\"),MIN(K26*Incent_Cost_Controls_Cust,Q26/J26*0.2),IF(AH26=\"LLLC\",MIN(AI26,((K26+'Analysis 103L'!R47)*Incent_Cost_LLLC)-'Analysis 103L'!X47),IF(AD26>=VLOOKUP(H26,Incent_Controls,3,FALSE),MIN(K26,VLOOKUP(H26,Incent_Controls,2,FALSE)),\"\")))","v":{"$error":"#VALUE!"}},"",null,"","",null,"","PASS/PASS","",{"$error":"#VALUE!"},{"$error":"#VALUE!"},{"$error":"#VALUE!"},"",null,10,{"$f":"VLOOKUP('Analysis 103L'!BE47, avoided_costs, ROUND($AS26, 0)+2, FALSE)","v":{"$error":"#N/A"}},{"$error":"#N/A"},{"$error":"#VALUE!"},{"$error":"#N/A"},{"$error":"#N/A"},{"$error":"#VALUE!"},{"$error":"#N/A"},{"$error":"#N/A"},{"$error":"#N/A"},null,null,null,null,null,null,null,null,null,null,"Wall Switch Occupancy Sensor, 30W or greater",30,30,null,null,{"$f":"'Analysis 103L'!CF47","v":""},"","","","","",""]
[21,{"$f":"'Analysis 103L'!C48","v":0},{"$f":"'Analysis 103L'!I48","v":""},{"$f":"'Analysis 103L'!J48","v":""},{"$f":"'Analysis 103L'!P48","v":0},{"$f":"'Analysis 103L'!N48","v":""},{"$f":"'Analysis 103L'!Q48","v":""},null,null,null,null,"","",{"$f":"IF(RIGHT(C27, 4)=\"Case\", \"\",IF(J27=\"\",\"\",IF(AH27=\"LLLC\", 0.6, VLOOKUP('100L Information'!$G$19,Load_Profiles, 4, FALSE))))","v":""},"","","",0,"",null,"",{"$f":"'Analysis 103L'!$Y$232*(S27/('Analysis 103L'!$Y$230+'Analysis 103L'!$Y$231))","v":{"$error":"#VALUE!"}},null,null,{"$f":"IF(Q27=\"\",\"\",Q27*'Analysis 103L'!$D$23)","v":""},null,null,null,null,{"$error":"#VALUE!"},{"$f":"IF(AND(U27=\"\",AK27=\"Custom\"),MIN(K27*Incent_Cost_Controls_Cust,Q27/J27*0.2),IF(AH27=\"LLLC\",MIN(AI27,((K27+'Analysis 103L'!R48)*Incent_Cost_LLLC)-'Analysis 103L'!X48),IF(AD27>=VLOOKUP(H27,Incent_Controls,3,FALSE),MIN(K27,VLOOKUP(H27,Incent_Controls,2,FALSE)),\"\")))","v":{"$error":"#VALUE!"}},"",null,{"$f":"IF(RIGHT(H27,4)=\"LLLC\", \"LLLC\",\"\")","v":""},{"$f":"IF(AH27=\"LLLC\",VLOOKUP(D27,Incent_LLLC,2,FALSE),\"\")","v":""},null,"","PASS/PASS","",{"$error":"#VALUE!"},{"$error":"#VALUE!"},{"$error":"#VALUE!"},"",null,10,{"$f":"VLOOKUP('Analysis 103L'!BE48, avoided_costs, ROUND($AS27, 0)+2, FALSE)","v":{"$error":"#N/A"}},{"$error":"#N/A"},{"$error":"#VALUE!"},{"$error":"#N/A"},{"$error":"#N/A"},{"$error":"#VALUE!"},{"$error":"#N/A"},{"$error":"#N/A"},{"$error":"#N/A"},null,null,null,null,null,null,null,null,null,null,"Occupancy Sensor, fixture mount, 30W or greater",50,30,null,null,{"$f":"'Analysis 103L'!CF48","v":""},"","","","","",""]
[22,{"$f":"'Analysis 103L'!C49","v":0},{"$f":"'Analysis 103L'!I49","v":""},{"$f":"'Analysis 103L'!J49","v":""},{"$f":"'Analysis 103L'!P49","v":0},{"$f":"'Analysis 103L'!N49","v":""},{"$f":"'Analysis 103L'!Q49","v":""},null,null,null,null,"","",{"$f":"IF(RIGHT(C28, 4)=\"Case\", \"\",IF(J28=\"\",\"\",IF(AH28=\"LLLC\", 0.6, VLOOKUP('100L Information'!$G$19,Load_Profiles, 4, FALSE))))","v":""},"","","",0,"",null,"",{"$f":"'Analysis 103L'!$Y$232*(S28/('Analysis 103L'!$Y$230+'Analysis 103L'!$Y$231))","v":{"$error":"#VALUE!"}},null,null,{"$f":"IF(Q28=\"\",\"\",Q28*'Analysis 103L'!$D$23)","v":""},null,null,null,null,{"$error":"#VALUE!"},{"$f":"IF(AND(U28=\"\",AK28=\"Custom\"),MIN(K28*Incent_Cost_Controls_Cust,Q28/J28*0.2),IF(AH28=\"LLLC\",MIN(AI28,((K28+'Analysis 103L'!R49)*Incent_Cost_LLLC)-'Analysis 103L'!X49),IF(AD28>=VLOOKUP(H28,Incent_Controls,3,FALSE),MIN(K28,VLOOKUP(H28,Incent_Controls,2,FALSE)),\"\")))","v":{"$error":"#VALUE!"}},"",null,"","",null,"","PASS/PASS","",{"$error":"#VALUE!"},{"$error":"#VALUE!"},{"$error":"#VALUE!"},"",null,10,{"$f":"VLOOKUP('Analysis 103L'!BE49, avoided_costs, ROUND($AS28, 0)+2, FALSE)","v":{"$error":"#N/A"}},{"$error":"#N/A"},{"$error":"#VALUE!"},{"$error":"#N/A"},{"$error":"#N/A"},{"$error":"#VALUE!"},{"$error":"#N/A"},{"$error":"#N/A"},{"$error":"#N/A"},null,null,null,null,null,null,null,null,null,null,"Wireless Occ Sensor ceiling/corner/surface mount 100W or greater",60,100,null,null,{"$f":"'Analysis 103L'!CF49","v":""},"","","","","",""]
[23,{"$f":"'Analysis 103L'!C50","v":0},{"$f":"'Analysis 103L'!I50","v":""},{"$f":"'Analysis 103L'!J50","v":""},{"$f":"'Analysis 103L'!P50","v":0},{"$f":"'Analysis 103L'!N50","v":""},{"$f":"'Analysis 103L'!Q50","v":""},null,null,null,null,"","",{"$f":"IF(RIGHT(C29, 4)=\"Case\", \"\",IF(J29=\"\",\"\",IF(AH29=\"LLLC\", 0.6, VLOOKUP('100L Information'!$G$19,Load_Profiles, 4, FALSE))))","v":""},"","","",0,"",null,"",{"$f":"'Analysis 103L'!$Y$232*(S29/('Analysis 103L'!$Y$230+'Analysis 103L'!$Y$231))","v":{"$error":"#VALUE!"}},null,null,{"$f":"IF(Q29=\"\",\"\",Q29*'Analysis 103L'!$D$23)","v":""},null,null,null,null,{"$error":"#VALUE!"},{"$f":"IF(AND(U29=\"\",AK29=\"Custom\"),MIN(K29*Incent_Cost_Controls_Cust,Q29/J29*0.2),IF(AH29=\"LLLC\",MIN(AI29,((K29+'Analysis 103L'!R50)*Incent_Cost_LLLC)-'Analysis 103L'!X50),IF(AD29>=VLOOKUP(H29,Incent_Controls,3,FALSE),MIN(K29,VLOOKUP(H29,Incent_Controls,2,FALSE)),\"\")))","v":{"$error":"#VALUE!"}},"",null,"","",null,"","PASS/PASS","",{"$error":"#VALUE!"},{"$error":"#VALUE!"},{"$error":"#VALUE!"},"",null,10,{"$f":"VLOOKUP('Analysis 103L'!BE50, avoided_costs, ROUND($AS29, 0)+2, FALSE)","v":{"$error":"#N/A"}},{"$error":"#N/A"},{"$error":"#VALUE!"},{"$error":"#N/A"},{"$error":"#N/A"},{"$error":"#VALUE!"},{"$error":"#N/A"},{"$error":"#N/A"},{"$error":"#N/A"},null,null,null,null,null,null,null,null,null,null,"Hard-Wired Occ Sensor ceiling/corner/surface mount 100W or greater",60,100,null,null,{"$f":"'Analysis 103L'!CF50","v":""},"","","","","",""]
[24,{"$f":"'Analysis 103L'!C51","v":0},{"$f":"'Analysis 103L'!I51","v":""},{"$f":"'Analysis 103L'!J51","v":""},{"$f":"'Analysis 103L'!P51","v":0},{"$f":"'Analysis 103L'!N51","v":""},{"$f":"'Analysis 103L'!Q51","v":""},null,null,null,null,"","",{"$f":"IF(RIGHT(C30, 4)=\"Case\", \"\",IF(J30=\"\",\"\",IF(AH30=\"LLLC\", 0.6, VLOOKUP('100L Information'!$G$19,Load_Profiles, 4, FALSE))))","v":""},"","","",0,"",null,"",{"$f":"'Analysis 103L'!$Y$232*(S30/('Analysis 103L'!$Y$230+'Analysis 103L'!$Y$231))","v":{"$error":"#VALUE!"}},null,null,{"$f":"IF(Q30=\"\",\"\",Q30*'Analysis 103L'!$D$23)","v":""},null,null,null,null,{"$error":"#VALUE!"},{"$f":"IF(AND(U30=\"\",AK30=\"Custom\"),MIN(K30*Incent_Cost_Controls_Cust,Q30/J30*0.2),IF(AH30=\"LLLC\",MIN(AI30,((K30+'Analysis 103L'!R51)*Incent_Cost_LLLC)-'Analysis 103L'!X51),IF(AD30>=VLOOKUP(H30,Incent_Controls,3,FALSE),MIN(K30,VLOOKUP(H30,Incent_Controls,2,FALSE)),\"\")))","v":{"$error":"#VALUE!"}},"",null,"","",null,"","PASS/PASS","",{"$error":"#VALUE!"},{"$error":"#VALUE!"},{"$error":"#VALUE!"},"",null,10,{"$f":"VLOOKUP('Analysis 103L'!BE51, avoided_costs, ROUND($AS30, 0)+2, FALSE)","v":{"$error":"#N/A"}},{"$error":"#N/A"},{"$error":"#VALUE!"},{"$error":"#N/A"},{"$error":"#N/A"},{"$error":"#VALUE!"},{"$error":"#N/A"},{"$error":"#N/A"},{"$error":"#N/A"},null,null,null,null,null,null,null,null,null,null,"Exterior occupancy sensor, fixture or pole mount, 40W or greater",30,40,null,null,{"$f":"'Analysis 103L'!CF51","v":""},"","","","","",""]
[25,{"$f":"'Analysis 103L'!C52","v":0},{"$f":"'Analysis 103L'!I52","v":""},{"$f":"'Analysis 103L'!J52","v":""},{"$f":"'Analysis 103L'!P52","v":0},{"$f":"'Analysis 103L'!N52","v":""},{"$f":"'Analysis 103L'!Q52","v":""},null,null,null,null,"","",{"$f":"IF(RIGHT(C31, 4)=\"Case\", \"\",IF(J31=\"\",\"\",IF(AH31=\"LLLC\", 0.6, VLOOKUP('100L Information'!$G$19,Load_Profiles, 4, FALSE))))","v":""},"","","",0,"",null,"",{"$f":"'Analysis 103L'!$Y$232*(S31/('Analysis 103L'!$Y$230+'Analysis 103L'!$Y$231))","v":{"$error":"#VALUE!"}},null,null,{"$f":"IF(Q31=\"\",\"\",Q31*'Analysis 103L'!$D$23)","v":""},null,null,null,null,{"$error":"#VALUE!"},{"$f":"IF(AND(U31=\"\",AK31=\"Custom\"),MIN(K31*Incent_Cost_Controls_Cust,Q31/J31*0.2),IF(AH31=\"LLLC\",MIN(AI31,((K31+'Analysis 103L'!R52)*Incent_Cost_LLLC)-'Analysis 103L'!X52),IF(AD31>=VLOOKUP(H31,Incent_Controls,3,FALSE),MIN(K31,VLOOKUP(H31,Incent_Controls,2,FALSE)),\"\")))","v":{"$error":"#VALUE!"}},"",null,"","",null,"","PASS/PASS","",{"$error":"#VALUE!"},{"$error":"#VALUE!"},{"$error":"#VALUE!"},"",null,10,{"$f":"VLOOKUP('Analysis 103L'!BE52, avoided_costs, ROUND($AS31, 0)+2, FALSE)","v":{"$error":"#N/A"}},{"$error":"#N/A"},{"$error":"#VALUE!"},{"$error":"#N/A"},{"$error":"#N/A"},{"$error":"#VALUE!"},{"$error":"#N/A"},{"$error":"#N/A"},{"$error":"#N/A"},null,null,null,null,null,null,null,null,null,null,"Fixture controlled by other sensor",null,null,null,null,{"$f":"'Analysis 103L'!CF52","v":""},"","","","","",""]
[26,{"$f":"'Analysis 103L'!C53","v":0},{"$f":"'Analysis 103L'!I53","v":""},{"$f":"'Analysis 103L'!J53","v":""},{"$f":"'Analysis 103L'!P53","v":0},{"$f":"'Analysis 103L'!N53","v":""},{"$f":"'Analysis 103L'!Q53","v":""},null,null,null,null,"","",{"$f":"IF(RIGHT(C32, 4)=\"Case\", \"\",IF(J32=\"\",\"\",IF(AH32=\"LLLC\", 0.6, VLOOKUP('100L Information'!$G$19,Load_Profiles, 4, FALSE))))","v":""},"","","",0,"",null,"",{"$f":"'Analysis 103L'!$Y$232*(S32/('Analysis 103L'!$Y$230+'Analysis 103L'!$Y$231))","v":{"$error":"#VALUE!"}},null,null,{"$f":"IF(Q32=\"\",\"\",Q32*'Analysis 103L'!$D$23)","v":""},null,null,null,null,{"$error":"#VALUE!"},{"$f":"IF(AND(U32=\"\",AK32=\"Custom\"),MIN(K32*Incent_Cost_Controls_Cust,Q32/J32*0.2),IF(AH32=\"LLLC\",MIN(AI32,((K32+'Analysis 103L'!R53)*Incent_Cost_LLLC)-'Analysis 103L'!X53),IF(AD32>=VLOOKUP(H32,Incent_Controls,3,FALSE),MIN(K32,VLOOKUP(H32,Incent_Controls,2,FALSE)),\"\")))","v":{"$error":"#VALUE!"}},"",null,"","",null,"","PASS/PASS","",{"$error":"#VALUE!"},{"$error":"#VALUE!"},{"$error":"#VALUE!"},"",null,10,{"$f":"VLOOKUP('Analysis 103L'!BE53, avoided_costs, ROUND($AS32, 0)+2, FALSE)","v":{"$error":"#N/A"}},{"$error":"#N/A"},{"$error":"#VALUE!"},{"$error":"#N/A"},{"$error":"#N/A"},{"$error":"#VALUE!"},{"$error":"#N/A"},{"$error":"#N/A"},{"$error":"#N/A"},null,null,null,null,null,null,null,null,null,null,"Motion Sensor on Refrigerated Case - Single Row",{"$f":"'LED Case Lighting'!$AX$15","v":2.5},null,{"$f":"'LED Case Lighting'!$AW$15","v":7.52},null,{"$f":"'Analysis 103L'!CF53","v":""},"","","","","",""]
[27,{"$f":"'Analysis 103L'!C54","v":0},{"$f":"'Analysis 103L'!I54","v":""},{"$f":"'Analysis 103L'!J54","v":""},{"$f":"'Analysis 103L'!P54","v":0},{"$f":"'Analysis 103L'!N54","v":""},{"$f":"'Analysis 103L'!Q54","v":""},null,null,null,null,"","",{"$f":"IF(RIGHT(C33, 4)=\"Case\", \"\",IF(J33=\"\",\"\",IF(AH33=\"LLLC\", 0.6, VLOOKUP('100L Information'!$G$19,Load_Profiles, 4, FALSE))))","v":""},"","","",0,"",null,"",{"$f":"'Analysis 103L'!$Y$232*(S33/('Analysis 103L'!$Y$230+'Analysis 103L'!$Y$231))","v":{"$error":"#VALUE!"}},null,null,{"$f":"IF(Q33=\"\",\"\",Q33*'Analysis 103L'!$D$23)","v":""},null,null,null,null,{"$error":"#VALUE!"},{"$f":"IF(AND(U33=\"\",AK33=\"Custom\"),MIN(K33*Incent_Cost_Controls_Cust,Q33/J33*0.2),IF(AH33=\"LLLC\",MIN(AI33,((K33+'Analysis 103L'!R54)*Incent_Cost_LLLC)-'Analysis 103L'!X54),IF(AD33>=VLOOKUP(H33,Incent_Controls,3,FALSE),MIN(K33,VLOOKUP(H33,Incent_Controls,2,FALSE)),\"\")))","v":{"$error":"#VALUE!"}},"",null,"","",null,"","PASS/PASS","",{"$error":"#VALUE!"},{"$error":"#VALUE!"},{"$error":"#VALUE!"},"",null,10,{"$f":"VLOOKUP('Analysis 103L'!BE54, avoided_costs, ROUND($AS33, 0)+2, FALSE)","v":{"$error":"#N/A"}},{"$error":"#N/A"},{"$error":"#VALUE!"},{"$error":"#N/A"},{"$error":"#N/A"},{"$error":"#VALUE!"},{"$error":"#N/A"},{"$error":"#N/A"},{"$error":"#N/A"},null,null,null,null,null,null,null,null,null,null,"Motion Sensor on Refrigerated Case - Double Row",{"$f":"'LED Case Lighting'!$AX$16","v":2.5},null,{"$f":"'LED Case Lighting'!$AW$16","v":12.16},null,{"$f":"'Analysis 103L'!CF54","v":""},"","","","","",""]
[28,{"$f":"'Analysis 103L'!C55","v":0},{"$f":"'Analysis 103L'!I55","v":""},{"$f":"'Analysis 103L'!J55","v":""},{"$f":"'Analysis 103L'!P55","v":0},{"$f":"'Analysis 103L'!N55","v":""},{"$f":"'Analysis 103L'!Q55","v":""},null,null,null,null,"","",{"$f":"IF(RIGHT(C34, 4)=\"Case\", \"\",IF(J34=\"\",\"\",IF(AH34=\"LLLC\", 0.6, VLOOKUP('100L Information'!$G$19,Load_Profiles, 4, FALSE))))","v":""},"","","",0,"",null,"",{"$f":"'Analysis 103L'!$Y$232*(S34/('Analysis 103L'!$Y$230+'Analysis 103L'!$Y$231))","v":{"$error":"#VALUE!"}},null,null,{"$f":"IF(Q34=\"\",\"\",Q34*'Analysis 103L'!$D$23)","v":""},null,null,null,null,{"$error":"#VALUE!"},{"$f":"IF(AND(U34=\"\",AK34=\"Custom\"),MIN(K34*Incent_Cost_Controls_Cust,Q34/J34*0.2),IF(AH34=\"LLLC\",MIN(AI34,((K34+'Analysis 103L'!R55)*Incent_Cost_LLLC)-'Analysis 103L'!X55),IF(AD34>=VLOOKUP(H34,Incent_Controls,3,FALSE),MIN(K34,VLOOKUP(H34,Incent_Controls,2,FALSE)),\"\")))","v":{"$error":"#VALUE!"}},"",null,"","",null,"","PASS/PASS","",{"$error":"#VALUE!"},{"$error":"#VALUE!"},{"$error":"#VALUE!"},"",null,10,{"$f":"VLOOKUP('Analysis 103L'!BE55, avoided_costs, ROUND($AS34, 0)+2, FALSE)","v":{"$error":"#N/A"}},{"$error":"#N/A"},{"$error":"#VALUE!"},{"$error":"#N/A"},{"$error":"#N/A"},{"$error":"#VALUE!"},{"$error":"#N/A"},{"$error":"#N/A"},{"$error":"#N/A"},null,null,null,null,null,null,null,null,null,null,null,null,null,null,null,{"$f":"'Analysis 103L'!CF55","v":""},"","","","","",""]
[29,{"$f":"'Analysis 103L'!C56","v":0},{"$f":"'Analysis 103L'!I56","v":""},{"$f":"'Analysis 103L'!J56","v":""},{"$f":"'Analysis 103L'!P56","v":0},{"$f":"'Analysis 103L'!N56","v":""},{"$f":"'Analysis 103L'!Q56","v":""},null,null,null,null,"","",{"$f":"IF(RIGHT(C35, 4)=\"Case\", \"\",IF(J35=\"\",\"\",IF(AH35=\"LLLC\", 0.6, VLOOKUP('100L Information'!$G$19,Load_Profiles, 4, FALSE))))","v":""},"","","",0,"",null,"",{"$f":"'Analysis 103L'!$Y$232*(S35/('Analysis 103L'!$Y$230+'Analysis 103L'!$Y$231))","v":{"$error":"#VALUE!"}},null,null,{"$f":"IF(Q35=\"\",\"\",Q35*'Analysis 103L'!$D$23)","v":""},null,null,null,null,{"$error":"#VALUE!"},{"$f":"IF(AND(U35=\"\",AK35=\"Custom\"),MIN(K35*Incent_Cost_Controls_Cust,Q35/J35*0.2),IF(AH35=\"LLLC\",MIN(AI35,((K35+'Analysis 103L'!R56)*Incent_Cost_LLLC)-'Analysis 103L'!X56),IF(AD35>=VLOOKUP(H35,Incent_Controls,3,FALSE),MIN(K35,VLOOKUP(H35,Incent_Controls,2,FALSE)),\"\")))","v":{"$error":"#VALUE!"}},"",null,{"$f":"IF(RIGHT(H35,4)=\"LLLC\", \"LLLC\",\"\")","v":""},{"$f":"IF(AH35=\"LLLC\",VLOOKUP(D35,Incent_LLLC,2,FALSE),\"\")","v":""},null,"","PASS/PASS","",{"$error":"#VALUE!"},{"$error":"#VALUE!"},{"$error":"#VALUE!"},"",null,10,{"$f":"VLOOKUP('Analysis 103L'!BE56, avoided_costs, ROUND($AS35, 0)+2, FALSE)","v":{"$error":"#N/A"}},{"$error":"#N/A"},{"$error":"#VALUE!"},{"$error":"#N/A"},{"$error":"#N/A"},{"$error":"#VALUE!"},{"$error":"#N/A"},{"$error":"#N/A"},{"$error":"#N/A"},null,null,null,null,null,null,null,null,null,null,null,null,null,null,null,{"$f":"'Analysis 103L'!CF56","v":""},"","","","","",""]
[30,{"$f":"'Analysis 103L'!C57","v":0},{"$f":"'Analysis 103L'!I57","v":""},{"$f":"'Analysis 103L'!J57","v":""},{"$f":"'Analysis 103L'!P57","v":0},{"$f":"'Analysis 103L'!N57","v":""},{"$f":"'Analysis 103L'!Q57","v":""},null,null,null,null,"","",{"$f":"IF(RIGHT(C36, 4)=\"Case\", \"\",IF(J36=\"\",\"\",IF(AH36=\"LLLC\", 0.6, VLOOKUP('100L Information'!$G$19,Load_Profiles, 4, FALSE))))","v":""},"","","",0,"",null,"",{"$f":"'Analysis 103L'!$Y$232*(S36/('Analysis 103L'!$Y$230+'Analysis 103L'!$Y$231))","v":{"$error":"#VALUE!"}},null,null,{"$f":"IF(Q36=\"\",\"\",Q36*'Analysis 103L'!$D$23)","v":""},null,null,null,null,{"$error":"#VALUE!"},{"$f":"IF(AND(U36=\"\",AK36=\"Custom\"),MIN(K36*Incent_Cost_Controls_Cust,Q36/J36*0.2),IF(AH36=\"LLLC\",MIN(AI36,((K36+'Analysis 103L'!R57)*Incent_Cost_LLLC)-'Analysis 103L'!X57),IF(AD36>=VLOOKUP(H36,Incent_Controls,3,FALSE),MIN(K36,VLOOKUP(H36,Incent_Controls,2,FALSE)),\"\")))","v":{"$error":"#VALUE!"}},"",null,"","",null,"","PASS/PASS","",{"$error":"#VALUE!"},{"$error":"#VALUE!"},{"$error":"#VALUE!"},"",null,10,{"$f":"VLOOKUP('Analysis 103L'!BE57, avoided_costs, ROUND($AS36, 0)+2, FALSE)","v":{"$error":"#N/A"}},{"$error":"#N/A"},{"$error":"#VALUE!"},{"$error":"#N/A"},{"$error":"#N/A"},{"$error":"#VALUE!"},{"$error":"#N/A"},{"$error":"#N/A"},{"$error":"#N/A"},null,null,null,null,null,null,null,null,null,null,null,null,null,null,null,{"$f":"'Analysis 103L'!CF57","v":""},"","","","","",""]
[31,{"$f":"'Analysis 103L'!C58","v":0},{"$f":"'Analysis 103L'!I58","v":""},{"$f":"'Analysis 103L'!J58","v":""},{"$f":"'Analysis 103L'!P58","v":0},{"$f":"'Analysis 103L'!N58","v":""},{"$f":"'Analysis 103L'!Q58","v":""},null,null,null,null,"","",{"$f":"IF(RIGHT(C37, 4)=\"Case\", \"\",IF(J37=\"\",\"\",IF(AH37=\"LLLC\", 0.6, VLOOKUP('100L Information'!$G$19,Load_Profiles, 4, FALSE))))","v":""},"","","",0,"",null,"",{"$f":"'Analysis 103L'!$Y$232*(S37/('Analysis 103L'!$Y$230+'Analysis 103L'!$Y$231))","v":{"$error":"#VALUE!"}},null,null,{"$f":"IF(Q37=\"\",\"\",Q37*'Analysis 103L'!$D$23)","v":""},null,null,null,null,{"$error":"#VALUE!"},{"$f":"IF(AND(U37=\"\",AK37=\"Custom\"),MIN(K37*Incent_Cost_Controls_Cust,Q37/J37*0.2),IF(AH37=\"LLLC\",MIN(AI37,((K37+'Analysis 103L'!R58)*Incent_Cost_LLLC)-'Analysis 103L'!X58),IF(AD37>=VLOOKUP(H37,Incent_Controls,3,FALSE),MIN(K37,VLOOKUP(H37,Incent_Controls,2,FALSE)),\"\")))","v":{"$error":"#VALUE!"}},"",null,"","",null,"","PASS/PASS","",{"$error":"#VALUE!"},{"$error":"#VALUE!"},{"$error":"#VALUE!"},"",null,10,{"$f":"VLOOKUP('Analysis 103L'!BE58, avoided_costs, ROUND($AS37, 0)+2, FALSE)","v":{"$error":"#N/A"}},{"$error":"#N/A"},{"$error":"#VALUE!"},{"$error":"#N/A"},{"$error":"#N/A"},{"$error":"#VALUE!"},{"$error":"#N/A"},{"$error":"#N/A"},{"$error":"#N/A"},null,null,null,null,null,null,null,null,null,null,null,null,null,null,null,{"$f":"'Analysis 103L'!CF58","v":""},"","","","","",""]
[32,{"$f":"'Analysis 103L'!C59","v":0},{"$f":"'Analysis 103L'!I59","v":""},{"$f":"'Analysis 103L'!J59","v":""},{"$f":"'Analysis 103L'!P59","v":0},{"$f":"'Analysis 103L'!N59","v":""},{"$f":"'Analysis 103L'!Q59","v":""},null,null,null,null,"","",{"$f":"IF(RIGHT(C38, 4)=\"Case\", \"\",IF(J38=\"\",\"\",IF(AH38=\"LLLC\", 0.6, VLOOKUP('100L Information'!$G$19,Load_Profiles, 4, FALSE))))","v":""},"","","",0,"",null,"",{"$f":"'Analysis 103L'!$Y$232*(S38/('Analysis 103L'!$Y$230+'Analysis 103L'!$Y$231))","v":{"$error":"#VALUE!"}},null,null,{"$f":"IF(Q38=\"\",\"\",Q38*'Analysis 103L'!$D$23)","v":""},null,null,null,null,{"$error":"#VALUE!"},{"$f":"IF(AND(U38=\"\",AK38=\"Custom\"),MIN(K38*Incent_Cost_Controls_Cust,Q38/J38*0.2),IF(AH38=\"LLLC\",MIN(AI38,((K38+'Analysis 103L'!R59)*Incent_Cost_LLLC)-'Analysis 103L'!X59),IF(AD38>=VLOOKUP(H38,Incent_Controls,3,FALSE),MIN(K38,VLOOKUP(H38,Incent_Controls,2,FALSE)),\"\")))","v":{"$error":"#VALUE!"}},"",null,"","",null,"","PASS/PASS","",{"$error":"#VALUE!"},{"$error":"#VALUE!"},{"$error":"#VALUE!"},"",null,10,{"$f":"VLOOKUP('Analysis 103L'!BE59, avoided_costs, ROUND($AS38, 0)+2, FALSE)","v":{"$error":"#N/A"}},{"$error":"#N/A"},{"$error":"#VALUE!"},{"$error":"#N/A"},{"$error":"#N/A"},{"$error":"#VALUE!"},{"$error":"#N/A"},{"$error":"#N/A"},{"$error":"#N/A"},null,null,null,null,null,null,null,null,null,null,null,null,null,null,null,{"$f":"'Analysis 103L'!CF59","v":""},"","","","","",""]
[33,{"$f":"'Analysis 103L'!C60","v":0},{"$f":"'Analysis 103L'!I60","v":""},{"$f":"'Analysis 103L'!J60","v":""},{"$f":"'Analysis 103L'!P60","v":0},{"$f":"'Analysis 103L'!N60","v":""},{"$f":"'Analysis 103L'!Q60","v":""},null,null,null,null,"","",{"$f":"IF(RIGHT(C39, 4)=\"Case\", \"\",IF(J39=\"\",\"\",IF(AH39=\"LLLC\", 0.6, VLOOKUP('100L Information'!$G$19,Load_Profiles, 4, FALSE))))","v":""},"","","",0,"",null,"",{"$f":"'Analysis 103L'!$Y$232*(S39/('Analysis 103L'!$Y$230+'Analysis 103L'!$Y$231))","v":{"$error":"#VALUE!"}},null,null,{"$f":"IF(Q39=\"\",\"\",Q39*'Analysis 103L'!$D$23)","v":""},null,null,null,null,{"$error":"#VALUE!"},{"$f":"IF(AND(U39=\"\",AK39=\"Custom\"),MIN(K39*Incent_Cost_Controls_Cust,Q39/J39*0.2),IF(AH39=\"LLLC\",MIN(AI39,((K39+'Analysis 103L'!R60)*Incent_Cost_LLLC)-'Analysis 103L'!X60),IF(AD39>=VLOOKUP(H39,Incent_Controls,3,FALSE),MIN(K39,VLOOKUP(H39,Incent_Controls,2,FALSE)),\"\")))","v":{"$error":"#VALUE!"}},"",null,"","",null,{"$f":"IF(OR(H39=\"Custom Control System\",LEFT(H39,4)=\"Hard\"),\"Custom\",\"\")","v":""},"PASS/PASS",{"$f":"IF(AL39=\"PASS/PASS\",L39,\"0\")","v":""},{"$f":"E39*F39*G39/1000","v":{"$error":"#VALUE!"}},{"$f":"AN39*(1-N39)","v":{"$error":"#VALUE!"}},{"$error":"#VALUE!"},{"$f":"IF(AK39=\"Custom\",0.35*L39,S39)","v":""},null,10,{"$f":"VLOOKUP('Analysis 103L'!BE60, avoided_costs, ROUND($AS39, 0)+2, FALSE)","v":{"$error":"#N/A"}},{"$error":"#N/A"},{"$f":"0.5*L39/AP39","v":{"$error":"#VALUE!"}},{"$error":"#N/A"},{"$error":"#N/A"},{"$f":"L39/AP39","v":{"$error":"#VALUE!"}},{"$error":"#N/A"},{"$error":"#N/A"},{"$error":"#N/A"},null,null,null,null,null,null,null,null,null,null,null,null,null,null,null,{"$f":"'Analysis 103L'!CF60","v":""},"","",{"$f":"IF(BS39=\"\", \"\", INDEX($BP$32:$BP$33, MATCH($BS39, $BM$32:$BM$33, 0))*$BT39)","v":""},"","",""]
[34,{"$f":"'Analysis 103L'!C61","v":0},{"$f":"'Analysis 103L'!I61","v":""},{"$f":"'Analysis 103L'!J61","v":""},{"$f":"'Analysis 103L'!P61","v":0},{"$f":"'Analysis 103L'!N61","v":""},{"$f":"'Analysis 103L'!Q61","v":""},null,null,null,null,"","",{"$f":"IF(RIGHT(C40, 4)=\"Case\", \"\",IF(J40=\"\",\"\",IF(AH40=\"LLLC\", 0.6, VLOOKUP('100L Information'!$G$19,Load_Profiles, 4, FALSE))))","v":""},"","","",0,"",null,"",{"$f":"'Analysis 103L'!$Y$232*(S40/('Analysis 103L'!$Y$230+'Analysis 103L'!$Y$231))","v":{"$error":"#VALUE!"}},null,null,{"$f":"IF(Q40=\"\",\"\",Q40*'Analysis 103L'!$D$23)","v":""},null,null,null,null,{"$error":"#VALUE!"},{"$f":"IF(AND(U40=\"\",AK40=\"Custom\"),MIN(K40*Incent_Cost_Controls_Cust,Q40/J40*0.2),IF(AH40=\"LLLC\",MIN(AI40,((K40+'Analysis 103L'!R61)*Incent_Cost_LLLC)-'Analysis 103L'!X61),IF(AD40>=VLOOKUP(H40,Incent_Controls,3,FALSE),MIN(K40,VLOOKUP(H40,Incent_Controls,2,FALSE)),\"\")))","v":{"$error":"#VALUE!"}},"",null,"","",null,"","PASS/PASS","",{"$error":"#VALUE!"},{"$error":"#VALUE!"},{"$error":"#VALUE!"},"",null,10,{"$f":"VLOOKUP('Analysis 103L'!BE61, avoided_costs, ROUND($AS40, 0)+2, FALSE)","v":{"$error":"#N/A"}},{"$error":"#N/A"},{"$error":"#VALUE!"},{"$error":"#N/A"},{"$error":"#N/A"},{"$error":"#VALUE!"},{"$error":"#N/A"},{"$error":"#N/A"},{"$error":"#N/A"},null,null,null,null,null,null,null,null,null,null,null,null,null,null,null,{"$f":"'Analysis 103L'!CF61","v":""},"","","","","",""]
[35,{"$f":"'Analysis 103L'!C62","v":0},{"$f":"'Analysis 103L'!I62","v":""},{"$f":"'Analysis 103L'!J62","v":""},{"$f":"'Analysis 103L'!P62","v":0},{"$f":"'Analysis 103L'!N62","v":""},{"$f":"'Analysis 103L'!Q62","v":""},null,null,null,null,"","",{"$f":"IF(RIGHT(C41, 4)=\"Case\", \"\",IF(J41=\"\",\"\",IF(AH41=\"LLLC\", 0.6, VLOOKUP('100L Information'!$G$19,Load_Profiles, 4, FALSE))))","v":""},"","","",0,"",null,"",{"$f":"'Analysis 103L'!$Y$232*(S41/('Analysis 103L'!$Y$230+'Analysis 103L'!$Y$231))","v":{"$error":"#VALUE!"}},null,null,{"$f":"IF(Q41=\"\",\"\",Q41*'Analysis 103L'!$D$23)","v":""},null,null,null,null,{"$error":"#VALUE!"},{"$f":"IF(AND(U41=\"\",AK41=\"Custom\"),MIN(K41*Incent_Cost_Controls_Cust,Q41/J41*0.2),IF(AH41=\"LLLC\",MIN(AI41,((K41+'Analysis 103L'!R62)*Incent_Cost_LLLC)-'Analysis 103L'!X62),IF(AD41>=VLOOKUP(H41,Incent_Controls,3,FALSE),MIN(K41,VLOOKUP(H41,Incent_Controls,2,FALSE)),\"\")))","v":{"$error":"#VALUE!"}},"",null,"","",null,"","PASS/PASS","",{"$error":"#VALUE!"},{"$error":"#VALUE!"},{"$error":"#VALUE!"},"",null,10,{"$f":"VLOOKUP('Analysis 103L'!BE62, avoided_costs, ROUND($AS41, 0)+2, FALSE)","v":{"$error":"#N/A"}},{"$error":"#N/A"},{"$error":"#VALUE!"},{"$error":"#N/A"},{"$error":"#N/A"},{"$error":"#VALUE!"},{"$error":"#N/A"},{"$error":"#N/A"},{"$error":"#N/A"},null,null,null,null,null,null,null,null,null,null,null,null,null,null,null,{"$f":"'Analysis 103L'!CF62","v":""},"","","","","",""]
[36,{"$f":"'Analysis 103L'!C63","v":0},{"$f":"'Analysis 103L'!I63","v":""},{"$f":"'Analysis 103L'!J63","v":""},{"$f":"'Analysis 103L'!P63","v":0},{"$f":"'Analysis 103L'!N63","v":""},{"$f":"'Analysis 103L'!Q63","v":""},null,null,null,null,"","",{"$f":"IF(RIGHT(C42, 4)=\"Case\", \"\",IF(J42=\"\",\"\",IF(AH42=\"LLLC\", 0.6, VLOOKUP('100L Information'!$G$19,Load_Profiles, 4, FALSE))))","v":""},"","","",0,"",null,"",{"$f":"'Analysis 103L'!$Y$232*(S42/('Analysis 103L'!$Y$230+'Analysis 103L'!$Y$231))","v":{"$error":"#VALUE!"}},null,null,{"$f":"IF(Q42=\"\",\"\",Q42*'Analysis 103L'!$D$23)","v":""},null,null,null,null,{"$error":"#VALUE!"},{"$f":"IF(AND(U42=\"\",AK42=\"Custom\"),MIN(K42*Incent_Cost_Controls_Cust,Q42/J42*0.2),IF(AH42=\"LLLC\",MIN(AI42,((K42+'Analysis 103L'!R63)*Incent_Cost_LLLC)-'Analysis 103L'!X63),IF(AD42>=VLOOKUP(H42,Incent_Controls,3,FALSE),MIN(K42,VLOOKUP(H42,Incent_Controls,2,FALSE)),\"\")))","v":{"$error":"#VALUE!"}},"",null,"","",null,"","PASS/PASS","",{"$error":"#VALUE!"},{"$error":"#VALUE!"},{"$error":"#VALUE!"},"",null,10,{"$f":"VLOOKUP('Analysis 103L'!BE63, avoided_costs, ROUND($AS42, 0)+2, FALSE)","v":{"$error":"#N/A"}},{"$error":"#N/A"},{"$error":"#VALUE!"},{"$error":"#N/A"},{"$error":"#N/A"},{"$error":"#VALUE!"},{"$error":"#N/A"},{"$error":"#N/A"},{"$error":"#N/A"},null,null,null,null,null,null,null,null,null,null,null,null,null,null,null,{"$f":"'Analysis 103L'!CF63","v":""},"","","","","",""]
[37,{"$f":"'Analysis 103L'!C64","v":0},{"$f":"'Analysis 103L'!I64","v":""},{"$f":"'Analysis 103L'!J64","v":""},{"$f":"'Analysis 103L'!P64","v":0},{"$f":"'Analysis 103L'!N64","v":""},{"$f":"'Analysis 103L'!Q64","v":""},null,null,null,null,"","",{"$f":"IF(RIGHT(C43, 4)=\"Case\", \"\",IF(J43=\"\",\"\",IF(AH43=\"LLLC\", 0.6, VLOOKUP('100L Information'!$G$19,Load_Profiles, 4, FALSE))))","v":""},"","","",0,"",null,"",{"$f":"'Analysis 103L'!$Y$232*(S43/('Analysis 103L'!$Y$230+'Analysis 103L'!$Y$231))","v":{"$error":"#VALUE!"}},null,null,{"$f":"IF(Q43=\"\",\"\",Q43*'Analysis 103L'!$D$23)","v":""},null,null,null,null,{"$error":"#VALUE!"},{"$f":"IF(AND(U43=\"\",AK43=\"Custom\"),MIN(K43*Incent_Cost_Controls_Cust,Q43/J43*0.2),IF(AH43=\"LLLC\",MIN(AI43,((K43+'Analysis 103L'!R64)*Incent_Cost_LLLC)-'Analysis 103L'!X64),IF(AD43>=VLOOKUP(H43,Incent_Controls,3,FALSE),MIN(K43,VLOOKUP(H43,Incent_Controls,2,FALSE)),\"\")))","v":{"$error":"#VALUE!"}},"",null,"","",null,"","PASS/PASS","",{"$error":"#VALUE!"},{"$error":"#VALUE!"},{"$error":"#VALUE!"},"",null,10,{"$f":"VLOOKUP('Analysis 103L'!BE64, avoided_costs, ROUND($AS43, 0)+2, FALSE)","v":{"$error":"#N/A"}},{"$error":"#N/A"},{"$error":"#VALUE!"},{"$error":"#N/A"},{"$error":"#N/A"},{"$error":"#VALUE!"},{"$error":"#N/A"},{"$error":"#N/A"},{"$error":"#N/A"},null,null,null,null,null,null,null,null,null,null,null,null,null,null,null,{"$f":"'Analysis 103L'!CF64","v":""},"","","","","",""]
[38,{"$f":"'Analysis 103L'!C65","v":0},{"$f":"'Analysis 103L'!I65","v":""},{"$f":"'Analysis 103L'!J65","v":""},{"$f":"'Analysis 103L'!P65","v":0},{"$f":"'Analysis 103L'!N65","v":""},{"$f":"'Analysis 103L'!Q65","v":""},null,null,null,null,"","",{"$f":"IF(RIGHT(C44, 4)=\"Case\", \"\",IF(J44=\"\",\"\",IF(AH44=\"LLLC\", 0.6, VLOOKUP('100L Information'!$G$19,Load_Profiles, 4, FALSE))))","v":""},"","","",0,"",null,"",{"$f":"'Analysis 103L'!$Y$232*(S44/('Analysis 103L'!$Y$230+'Analysis 103L'!$Y$231))","v":{"$error":"#VALUE!"}},null,null,{"$f":"IF(Q44=\"\",\"\",Q44*'Analysis 103L'!$D$23)","v":""},null,null,null,null,{"$error":"#VALUE!"},{"$f":"IF(AND(U44=\"\",AK44=\"Custom\"),MIN(K44*Incent_Cost_Controls_Cust,Q44/J44*0.2),IF(AH44=\"LLLC\",MIN(AI44,((K44+'Analysis 103L'!R65)*Incent_Cost_LLLC)-'Analysis 103L'!X65),IF(AD44>=VLOOKUP(H44,Incent_Controls,3,FALSE),MIN(K44,VLOOKUP(H44,Incent_Controls,2,FALSE)),\"\")))","v":{"$error":"#VALUE!"}},"",null,"","",null,"","PASS/PASS","",{"$error":"#VALUE!"},{"$error":"#VALUE!"},{"$error":"#VALUE!"},"",null,10,{"$f":"VLOOKUP('Analysis 103L'!BE65, avoided_costs, ROUND($AS44, 0)+2, FALSE)","v":{"$error":"#N/A"}},{"$error":"#N/A"},{"$error":"#VALUE!"},{"$error":"#N/A"},{"$error":"#N/A"},{"$error":"#VALUE!"},{"$error":"#N/A"},{"$error":"#N/A"},{"$error":"#N/A"},null,null,null,null,null,null,null,null,null,null,null,null,null,null,null,{"$f":"'Analysis 103L'!CF65","v":""},"","","","","",""]
[39,{"$f":"'Analysis 103L'!C66","v":0},{"$f":"'Analysis 103L'!I66","v":""},{"$f":"'Analysis 103L'!J66","v":""},{"$f":"'Analysis 103L'!P66","v":0},{"$f":"'Analysis 103L'!N66","v":""},{"$f":"'Analysis 103L'!Q66","v":""},null,null,null,null,"","",{"$f":"IF(RIGHT(C45, 4)=\"Case\", \"\",IF(J45=\"\",\"\",IF(AH45=\"LLLC\", 0.6, VLOOKUP('100L Information'!$G$19,Load_Profiles, 4, FALSE))))","v":""},"","","",0,"",null,"",{"$f":"'Analysis 103L'!$Y$232*(S45/('Analysis 103L'!$Y$230+'Analysis 103L'!$Y$231))","v":{"$error":"#VALUE!"}},null,null,{"$f":"IF(Q45=\"\",\"\",Q45*'Analysis 103L'!$D$23)","v":""},null,null,null,null,{"$error":"#VALUE!"},{"$f":"IF(AND(U45=\"\",AK45=\"Custom\"),MIN(K45*Incent_Cost_Controls_Cust,Q45/J45*0.2),IF(AH45=\"LLLC\",MIN(AI45,((K45+'Analysis 103L'!R66)*Incent_Cost_LLLC)-'Analysis 103L'!X66),IF(AD45>=VLOOKUP(H45,Incent_Controls,3,FALSE),MIN(K45,VLOOKUP(H45,Incent_Controls,2,FALSE)),\"\")))","v":{"$error":"#VALUE!"}},"",null,"","",null,"","PASS/PASS","",{"$error":"#VALUE!"},{"$error":"#VALUE!"},{"$error":"#VALUE!"},"",null,10,{"$f":"VLOOKUP('Analysis 103L'!BE66, avoided_costs, ROUND($AS45, 0)+2, FALSE)","v":{"$error":"#N/A"}},{"$error":"#N/A"},{"$error":"#VALUE!"},{"$error":"#N/A"},{"$error":"#N/A"},{"$error":"#VALUE!"},{"$error":"#N/A"},{"$error":"#N/A"},{"$error":"#N/A"},null,null,null,null,null,null,null,null,null,null,null,null,null,null,null,{"$f":"'Analysis 103L'!CF66","v":""},"","","","","",""]
[40,{"$f":"'Analysis 103L'!C67","v":0},{"$f":"'Analysis 103L'!I67","v":""},{"$f":"'Analysis 103L'!J67","v":""},{"$f":"'Analysis 103L'!P67","v":0},{"$f":"'Analysis 103L'!N67","v":""},{"$f":"'Analysis 103L'!Q67","v":""},null,null,null,null,"","",{"$f":"IF(RIGHT(C46, 4)=\"Case\", \"\",IF(J46=\"\",\"\",IF(AH46=\"LLLC\", 0.6, VLOOKUP('100L Information'!$G$19,Load_Profiles, 4, FALSE))))","v":""},"","","",0,"",null,"",{"$f":"'Analysis 103L'!$Y$232*(S46/('Analysis 103L'!$Y$230+'Analysis 103L'!$Y$231))","v":{"$error":"#VALUE!"}},null,null,{"$f":"IF(Q46=\"\",\"\",Q46*'Analysis 103L'!$D$23)","v":""},null,null,null,null,{"$error":"#VALUE!"},{"$f":"IF(AND(U46=\"\",AK46=\"Custom\"),MIN(K46*Incent_Cost_Controls_Cust,Q46/J46*0.2),IF(AH46=\"LLLC\",MIN(AI46,((K46+'Analysis 103L'!R67)*Incent_Cost_LLLC)-'Analysis 103L'!X67),IF(AD46>=VLOOKUP(H46,Incent_Controls,3,FALSE),MIN(K46,VLOOKUP(H46,Incent_Controls,2,FALSE)),\"\")))","v":{"$error":"#VALUE!"}},"",null,"","",null,"","PASS/PASS","",{"$error":"#VALUE!"},{"$error":"#VALUE!"},{"$error":"#VALUE!"},"",null,10,{"$f":"VLOOKUP('Analysis 103L'!BE67, avoided_costs, ROUND($AS46, 0)+2, FALSE)","v":{"$error":"#N/A"}},{"$error":"#N/A"},{"$error":"#VALUE!"},{"$error":"#N/A"},{"$error":"#N/A"},{"$error":"#VALUE!"},{"$error":"#N/A"},{"$error":"#N/A"},{"$error":"#N/A"},null,null,null,null,null,null,null,null,null,null,null,null,null,null,null,{"$f":"'Analysis 103L'!CF67","v":""},"","","","","",""]
[41,{"$f":"'Analysis 103L'!C68","v":0},{"$f":"'Analysis 103L'!I68","v":""},{"$f":"'Analysis 103L'!J68","v":""},{"$f":"'Analysis 103L'!P68","v":0},{"$f":"'Analysis 103L'!N68","v":""},{"$f":"'Analysis 103L'!Q68","v":""},null,null,null,null,"","",{"$f":"IF(RIGHT(C47, 4)=\"Case\", \"\",IF(J47=\"\",\"\",IF(AH47=\"LLLC\", 0.6, VLOOKUP('100L Information'!$G$19,Load_Profiles, 4, FALSE))))","v":""},"","","",0,"",null,"",{"$f":"'Analysis 103L'!$Y$232*(S47/('Analysis 103L'!$Y$230+'Analysis 103L'!$Y$231))","v":{"$error":"#VALUE!"}},null,null,{"$f":"IF(Q47=\"\",\"\",Q47*'Analysis 103L'!$D$23)","v":""},null,null,null,null,{"$error":"#VALUE!"},{"$f":"IF(AND(U47=\"\",AK47=\"Custom\"),MIN(K47*Incent_Cost_Controls_Cust,Q47/J47*0.2),IF(AH47=\"LLLC\",MIN(AI47,((K47+'Analysis 103L'!R68)*Incent_Cost_LLLC)-'Analysis 103L'!X68),IF(AD47>=VLOOKUP(H47,Incent_Controls,3,FALSE),MIN(K47,VLOOKUP(H47,Incent_Controls,2,FALSE)),\"\")))","v":{"$error":"#VALUE!"}},"",null,"","",null,"","PASS/PASS","",{"$error":"#VALUE!"},{"$error":"#VALUE!"},{"$error":"#VALUE!"},"",null,10,{"$f":"VLOOKUP('Analysis 103L'!BE68, avoided_costs, ROUND($AS47, 0)+2, FALSE)","v":{"$error":"#N/A"}},{"$error":"#N/A"},{"$error":"#VALUE!"},{"$error":"#N/A"},{"$error":"#N/A"},{"$error":"#VALUE!"},{"$error":"#N/A"},{"$error":"#N/A"},{"$error":"#N/A"},null,null,null,null,null,null,null,null,null,null,null,null,null,null,null,{"$f":"'Analysis 103L'!CF68","v":""},"","","","","",""]
[42,{"$f":"'Analysis 103L'!C69","v":0},{"$f":"'Analysis 103L'!I69","v":""},{"$f":"'Analysis 103L'!J69","v":""},{"$f":"'Analysis 103L'!P69","v":0},{"$f":"'Analysis 103L'!N69","v":""},{"$f":"'Analysis 103L'!Q69","v":""},null,null,null,null,"","",{"$f":"IF(RIGHT(C48, 4)=\"Case\", \"\",IF(J48=\"\",\"\",IF(AH48=\"LLLC\", 0.6, VLOOKUP('100L Information'!$G$19,Load_Profiles, 4, FALSE))))","v":""},"","","",0,"",null,"",{"$f":"'Analysis 103L'!$Y$232*(S48/('Analysis 103L'!$Y$230+'Analysis 103L'!$Y$231))","v":{"$error":"#VALUE!"}},null,null,{"$f":"IF(Q48=\"\",\"\",Q48*'Analysis 103L'!$D$23)","v":""},null,null,null,null,{"$error":"#VALUE!"},{"$f":"IF(AND(U48=\"\",AK48=\"Custom\"),MIN(K48*Incent_Cost_Controls_Cust,Q48/J48*0.2),IF(AH48=\"LLLC\",MIN(AI48,((K48+'Analysis 103L'!R69)*Incent_Cost_LLLC)-'Analysis 103L'!X69),IF(AD48>=VLOOKUP(H48,Incent_Controls,3,FALSE),MIN(K48,VLOOKUP(H48,Incent_Controls,2,FALSE)),\"\")))","v":{"$error":"#VALUE!"}},"",null,"","",null,"","PASS/PASS","",{"$error":"#VALUE!"},{"$error":"#VALUE!"},{"$error":"#VALUE!"},"",null,10,{"$f":"VLOOKUP('Analysis 103L'!BE69, avoided_costs, ROUND($AS48, 0)+2, FALSE)","v":{"$error":"#N/A"}},{"$error":"#N/A"},{"$error":"#VALUE!"},{"$error":"#N/A"},{"$error":"#N/A"},{"$error":"#VALUE!"},{"$error":"#N/A"},{"$error":"#N/A"},{"$error":"#N/A"},null,null,null,null,null,null,null,null,null,null,null,null,null,null,null,{"$f":"'Analysis 103L'!CF69","v":""},"","","","","",""]
[43,{"$f":"'Analysis 103L'!C70","v":0},{"$f":"'Analysis 103L'!I70","v":""},{"$f":"'Analysis 103L'!J70","v":""},{"$f":"'Analysis 103L'!P70","v":0},{"$f":"'Analysis 103L'!N70","v":""},{"$f":"'Analysis 103L'!Q70","v":""},null,null,null,null,"","",{"$f":"IF(RIGHT(C49, 4)=\"Case\", \"\",IF(J49=\"\",\"\",IF(AH49=\"LLLC\", 0.6, VLOOKUP('100L Information'!$G$19,Load_Profiles, 4, FALSE))))","v":""},"","","",0,"",null,"",{"$f":"'Analysis 103L'!$Y$232*(S49/('Analysis 103L'!$Y$230+'Analysis 103L'!$Y$231))","v":{"$error":"#VALUE!"}},null,null,{"$f":"IF(Q49=\"\",\"\",Q49*'Analysis 103L'!$D$23)","v":""},null,null,null,null,{"$error":"#VALUE!"},{"$f":"IF(AND(U49=\"\",AK49=\"Custom\"),MIN(K49*Incent_Cost_Controls_Cust,Q49/J49*0.2),IF(AH49=\"LLLC\",MIN(AI49,((K49+'Analysis 103L'!R70)*Incent_Cost_LLLC)-'Analysis 103L'!X70),IF(AD49>=VLOOKUP(H49,Incent_Controls,3,FALSE),MIN(K49,VLOOKUP(H49,Incent_Controls,2,FALSE)),\"\")))","v":{"$error":"#VALUE!"}},"",null,"","",null,"","PASS/PASS","",{"$error":"#VALUE!"},{"$error":"#VALUE!"},{"$error":"#VALUE!"},"",null,10,{"$f":"VLOOKUP('Analysis 103L'!BE70, avoided_costs, ROUND($AS49, 0)+2, FALSE)","v":{"$error":"#N/A"}},{"$error":"#N/A"},{"$error":"#VALUE!"},{"$error":"#N/A"},{"$error":"#N/A"},{"$error":"#VALUE!"},{"$error":"#N/A"},{"$error":"#N/A"},{"$error":"#N/A"},null,null,null,null,null,null,null,null,null,null,null,null,null,null,null,{"$f":"'Analysis 103L'!CF70","v":""},"","","","","",""]
[44,{"$f":"'Analysis 103L'!C71","v":0},{"$f":"'Analysis 103L'!I71","v":""},{"$f":"'Analysis 103L'!J71","v":""},{"$f":"'Analysis 103L'!P71","v":0},{"$f":"'Analysis 103L'!N71","v":""},{"$f":"'Analysis 103L'!Q71","v":""},null,null,null,null,"","",{"$f":"IF(RIGHT(C50, 4)=\"Case\", \"\",IF(J50=\"\",\"\",IF(AH50=\"LLLC\", 0.6, VLOOKUP('100L Information'!$G$19,Load_Profiles, 4, FALSE))))","v":""},"","","",0,"",null,"",{"$f":"'Analysis 103L'!$Y$232*(S50/('Analysis 103L'!$Y$230+'Analysis 103L'!$Y$231))","v":{"$error":"#VALUE!"}},null,null,{"$f":"IF(Q50=\"\",\"\",Q50*'Analysis 103L'!$D$23)","v":""},null,null,null,null,{"$error":"#VALUE!"},{"$f":"IF(AND(U50=\"\",AK50=\"Custom\"),MIN(K50*Incent_Cost_Controls_Cust,Q50/J50*0.2),IF(AH50=\"LLLC\",MIN(AI50,((K50+'Analysis 103L'!R71)*Incent_Cost_LLLC)-'Analysis 103L'!X71),IF(AD50>=VLOOKUP(H50,Incent_Controls,3,FALSE),MIN(K50,VLOOKUP(H50,Incent_Controls,2,FALSE)),\"\")))","v":{"$error":"#VALUE!"}},"",null,"","",null,"","PASS/PASS","",{"$error":"#VALUE!"},{"$error":"#VALUE!"},{"$error":"#VALUE!"},"",null,10,{"$f":"VLOOKUP('Analysis 103L'!BE71, avoided_costs, ROUND($AS50, 0)+2, FALSE)","v":{"$error":"#N/A"}},{"$error":"#N/A"},{"$error":"#VALUE!"},{"$error":"#N/A"},{"$error":"#N/A"},{"$error":"#VALUE!"},{"$error":"#N/A"},{"$error":"#N/A"},{"$error":"#N/A"},null,null,null,null,null,null,null,null,null,null,null,null,null,null,null,{"$f":"'Analysis 103L'!CF71","v":""},"","","","","",""]
[45,{"$f":"'Analysis 103L'!C72","v":0},{"$f":"'Analysis 103L'!I72","v":""},{"$f":"'Analysis 103L'!J72","v":""},{"$f":"'Analysis 103L'!P72","v":0},{"$f":"'Analysis 103L'!N72","v":""},{"$f":"'Analysis 103L'!Q72","v":""},null,null,null,null,"","",{"$f":"IF(RIGHT(C51, 4)=\"Case\", \"\",IF(J51=\"\",\"\",IF(AH51=\"LLLC\", 0.6, VLOOKUP('100L Information'!$G$19,Load_Profiles, 4, FALSE))))","v":""},"","","",0,"",null,"",{"$f":"'Analysis 103L'!$Y$232*(S51/('Analysis 103L'!$Y$230+'Analysis 103L'!$Y$231))","v":{"$error":"#VALUE!"}},null,null,{"$f":"IF(Q51=\"\",\"\",Q51*'Analysis 103L'!$D$23)","v":""},null,null,null,null,{"$error":"#VALUE!"},{"$f":"IF(AND(U51=\"\",AK51=\"Custom\"),MIN(K51*Incent_Cost_Controls_Cust,Q51/J51*0.2),IF(AH51=\"LLLC\",MIN(AI51,((K51+'Analysis 103L'!R72)*Incent_Cost_LLLC)-'Analysis 103L'!X72),IF(AD51>=VLOOKUP(H51,Incent_Controls,3,FALSE),MIN(K51,VLOOKUP(H51,Incent_Controls,2,FALSE)),\"\")))","v":{"$error":"#VALUE!"}},"",null,"","",null,"","PASS/PASS","",{"$error":"#VALUE!"},{"$error":"#VALUE!"},{"$error":"#VALUE!"},"",null,10,{"$f":"VLOOKUP('Analysis 103L'!BE72, avoided_costs, ROUND($AS51, 0)+2, FALSE)","v":{"$error":"#N/A"}},{"$error":"#N/A"},{"$error":"#VALUE!"},{"$error":"#N/A"},{"$error":"#N/A"},{"$error":"#VALUE!"},{"$error":"#N/A"},{"$error":"#N/A"},{"$error":"#N/A"},null,null,null,null,null,null,null,null,null,null,null,null,null,null,null,{"$f":"'Analysis 103L'!CF72","v":""},"","","","","",""]
[46,{"$f":"'Analysis 103L'!C73","v":0},{"$f":"'Analysis 103L'!I73","v":""},{"$f":"'Analysis 103L'!J73","v":""},{"$f":"'Analysis 103L'!P73","v":0},{"$f":"'Analysis 103L'!N73","v":""},{"$f":"'Analysis 103L'!Q73","v":""},null,null,null,null,"","",{"$f":"IF(RIGHT(C52, 4)=\"Case\", \"\",IF(J52=\"\",\"\",IF(AH52=\"LLLC\", 0.6, VLOOKUP('100L Information'!$G$19,Load_Profiles, 4, FALSE))))","v":""},"","","",0,"",null,"",{"$f":"'Analysis 103L'!$Y$232*(S52/('Analysis 103L'!$Y$230+'Analysis 103L'!$Y$231))","v":{"$error":"#VALUE!"}},null,null,{"$f":"IF(Q52=\"\",\"\",Q52*'Analysis 103L'!$D$23)","v":""},null,null,null,null,{"$error":"#VALUE!"},{"$f":"IF(AND(U52=\"\",AK52=\"Custom\"),MIN(K52*Incent_Cost_Controls_Cust,Q52/J52*0.2),IF(AH52=\"LLLC\",MIN(AI52,((K52+'Analysis 103L'!R73)*Incent_Cost_LLLC)-'Analysis 103L'!X73),IF(AD52>=VLOOKUP(H52,Incent_Controls,3,FALSE),MIN(K52,VLOOKUP(H52,Incent_Controls,2,FALSE)),\"\")))","v":{"$error":"#VALUE!"}},"",null,"","",null,"","PASS/PASS","",{"$error":"#VALUE!"},{"$error":"#VALUE!"},{"$error":"#VALUE!"},"",null,10,{"$f":"VLOOKUP('Analysis 103L'!BE73, avoided_costs, ROUND($AS52, 0)+2, FALSE)","v":{"$error":"#N/A"}},{"$error":"#N/A"},{"$error":"#VALUE!"},{"$error":"#N/A"},{"$error":"#N/A"},{"$error":"#VALUE!"},{"$error":"#N/A"},{"$error":"#N/A"},{"$error":"#N/A"},null,null,null,null,null,null,null,null,null,null,null,null,null,null,null,{"$f":"'Analysis 103L'!CF73","v":""},"","","","","",""]
[47,{"$f":"'Analysis 103L'!C74","v":0},{"$f":"'Analysis 103L'!I74","v":""},{"$f":"'Analysis 103L'!J74","v":""},{"$f":"'Analysis 103L'!P74","v":0},{"$f":"'Analysis 103L'!N74","v":""},{"$f":"'Analysis 103L'!Q74","v":""},null,null,null,null,"","",{"$f":"IF(RIGHT(C53, 4)=\"Case\", \"\",IF(J53=\"\",\"\",IF(AH53=\"LLLC\", 0.6, VLOOKUP('100L Information'!$G$19,Load_Profiles, 4, FALSE))))","v":""},"","","",0,"",null,"",{"$f":"'Analysis 103L'!$Y$232*(S53/('Analysis 103L'!$Y$230+'Analysis 103L'!$Y$231))","v":{"$error":"#VALUE!"}},null,null,{"$f":"IF(Q53=\"\",\"\",Q53*'Analysis 103L'!$D$23)","v":""},null,null,null,null,{"$error":"#VALUE!"},{"$f":"IF(AND(U53=\"\",AK53=\"Custom\"),MIN(K53*Incent_Cost_Controls_Cust,Q53/J53*0.2),IF(AH53=\"LLLC\",MIN(AI53,((K53+'Analysis 103L'!R74)*Incent_Cost_LLLC)-'Analysis 103L'!X74),IF(AD53>=VLOOKUP(H53,Incent_Controls,3,FALSE),MIN(K53,VLOOKUP(H53,Incent_Controls,2,FALSE)),\"\")))","v":{"$error":"#VALUE!"}},"",null,"","",null,"","PASS/PASS","",{"$error":"#VALUE!"},{"$error":"#VALUE!"},{"$error":"#VALUE!"},"",null,10,{"$f":"VLOOKUP('Analysis 103L'!BE74, avoided_costs, ROUND($AS53, 0)+2, FALSE)","v":{"$error":"#N/A"}},{"$error":"#N/A"},{"$error":"#VALUE!"},{"$error":"#N/A"},{"$error":"#N/A"},{"$error":"#VALUE!"},{"$error":"#N/A"},{"$error":"#N/A"},{"$error":"#N/A"},null,null,null,null,null,null,null,null,null,null,null,null,null,null,null,{"$f":"'Analysis 103L'!CF74","v":""},"","","","","",""]
[48,{"$f":"'Analysis 103L'!C75","v":0},{"$f":"'Analysis 103L'!I75","v":""},{"$f":"'Analysis 103L'!J75","v":""},{"$f":"'Analysis 103L'!P75","v":0},{"$f":"'Analysis 103L'!N75","v":""},{"$f":"'Analysis 103L'!Q75","v":""},null,null,null,null,"","",{"$f":"IF(RIGHT(C54, 4)=\"Case\", \"\",IF(J54=\"\",\"\",IF(AH54=\"LLLC\", 0.6, VLOOKUP('100L Information'!$G$19,Load_Profiles, 4, FALSE))))","v":""},"","","",0,"",null,"",{"$f":"'Analysis 103L'!$Y$232*(S54/('Analysis 103L'!$Y$230+'Analysis 103L'!$Y$231))","v":{"$error":"#VALUE!"}},null,null,{"$f":"IF(Q54=\"\",\"\",Q54*'Analysis 103L'!$D$23)","v":""},null,null,null,null,{"$error":"#VALUE!"},{"$f":"IF(AND(U54=\"\",AK54=\"Custom\"),MIN(K54*Incent_Cost_Controls_Cust,Q54/J54*0.2),IF(AH54=\"LLLC\",MIN(AI54,((K54+'Analysis 103L'!R75)*Incent_Cost_LLLC)-'Analysis 103L'!X75),IF(AD54>=VLOOKUP(H54,Incent_Controls,3,FALSE),MIN(K54,VLOOKUP(H54,Incent_Controls,2,FALSE)),\"\")))","v":{"$error":"#VALUE!"}},"",null,"","",null,"","PASS/PASS","",{"$error":"#VALUE!"},{"$error":"#VALUE!"},{"$error":"#VALUE!"},"",null,10,{"$f":"VLOOKUP('Analysis 103L'!BE75, avoided_costs, ROUND($AS54, 0)+2, FALSE)","v":{"$error":"#N/A"}},{"$error":"#N/A"},{"$error":"#VALUE!"},{"$error":"#N/A"},{"$error":"#N/A"},{"$error":"#VALUE!"},{"$error":"#N/A"},{"$error":"#N/A"},{"$error":"#N/A"},null,null,null,null,null,null,null,null,null,null,null,null,null,null,null,{"$f":"'Analysis 103L'!CF75","v":""},"","","","","",""]
[49,{"$f":"'Analysis 103L'!C76","v":0},{"$f":"'Analysis 103L'!I76","v":""},{"$f":"'Analysis 103L'!J76","v":""},{"$f":"'Analysis 103L'!P76","v":0},{"$f":"'Analysis 103L'!N76","v":""},{"$f":"'Analysis 103L'!Q76","v":""},null,null,null,null,"","",{"$f":"IF(RIGHT(C55, 4)=\"Case\", \"\",IF(J55=\"\",\"\",IF(AH55=\"LLLC\", 0.6, VLOOKUP('100L Information'!$G$19,Load_Profiles, 4, FALSE))))","v":""},"","","",0,"",null,"",{"$f":"'Analysis 103L'!$Y$232*(S55/('Analysis 103L'!$Y$230+'Analysis 103L'!$Y$231))","v":{"$error":"#VALUE!"}},null,null,{"$f":"IF(Q55=\"\",\"\",Q55*'Analysis 103L'!$D$23)","v":""},null,null,null,null,{"$error":"#VALUE!"},{"$f":"IF(AND(U55=\"\",AK55=\"Custom\"),MIN(K55*Incent_Cost_Controls_Cust,Q55/J55*0.2),IF(AH55=\"LLLC\",MIN(AI55,((K55+'Analysis 103L'!R76)*Incent_Cost_LLLC)-'Analysis 103L'!X76),IF(AD55>=VLOOKUP(H55,Incent_Controls,3,FALSE),MIN(K55,VLOOKUP(H55,Incent_Controls,2,FALSE)),\"\")))","v":{"$error":"#VALUE!"}},"",null,"","",null,"","PASS/PASS","",{"$error":"#VALUE!"},{"$error":"#VALUE!"},{"$error":"#VALUE!"},"",null,10,{"$f":"VLOOKUP('Analysis 103L'!BE76, avoided_costs, ROUND($AS55, 0)+2, FALSE)","v":{"$error":"#N/A"}},{"$error":"#N/A"},{"$error":"#VALUE!"},{"$error":"#N/A"},{"$error":"#N/A"},{"$error":"#VALUE!"},{"$error":"#N/A"},{"$error":"#N/A"},{"$error":"#N/A"},null,null,null,null,null,null,null,null,null,null,null,null,null,null,null,{"$f":"'Analysis 103L'!CF76","v":""},"","","","","",""]
[50,{"$f":"'Analysis 103L'!C77","v":0},{"$f":"'Analysis 103L'!I77","v":""},{"$f":"'Analysis 103L'!J77","v":""},{"$f":"'Analysis 103L'!P77","v":0},{"$f":"'Analysis 103L'!N77","v":""},{"$f":"'Analysis 103L'!Q77","v":""},null,null,null,null,"","",{"$f":"IF(RIGHT(C56, 4)=\"Case\", \"\",IF(J56=\"\",\"\",IF(AH56=\"LLLC\", 0.6, VLOOKUP('100L Information'!$G$19,Load_Profiles, 4, FALSE))))","v":""},"","","",0,"",null,"",{"$f":"'Analysis 103L'!$Y$232*(S56/('Analysis 103L'!$Y$230+'Analysis 103L'!$Y$231))","v":{"$error":"#VALUE!"}},null,null,{"$f":"IF(Q56=\"\",\"\",Q56*'Analysis 103L'!$D$23)","v":""},null,null,null,null,{"$error":"#VALUE!"},{"$f":"IF(AND(U56=\"\",AK56=\"Custom\"),MIN(K56*Incent_Cost_Controls_Cust,Q56/J56*0.2),IF(AH56=\"LLLC\",MIN(AI56,((K56+'Analysis 103L'!R77)*Incent_Cost_LLLC)-'Analysis 103L'!X77),IF(AD56>=VLOOKUP(H56,Incent_Controls,3,FALSE),MIN(K56,VLOOKUP(H56,Incent_Controls,2,FALSE)),\"\")))","v":{"$error":"#VALUE!"}},"",null,"","",null,"","PASS/PASS","",{"$error":"#VALUE!"},{"$error":"#VALUE!"},{"$error":"#VALUE!"},"",null,10,{"$f":"VLOOKUP('Analysis 103L'!BE77, avoided_costs, ROUND($AS56, 0)+2, FALSE)","v":{"$error":"#N/A"}},{"$error":"#N/A"},{"$error":"#VALUE!"},{"$error":"#N/A"},{"$error":"#N/A"},{"$error":"#VALUE!"},{"$error":"#N/A"},{"$error":"#N/A"},{"$error":"#N/A"},null,null,null,null,null,null,null,null,null,null,null,null,null,null,null,{"$f":"'Analysis 103L'!CF77","v":""},"","","","","",""]
[51,{"$f":"'Analysis 103L'!C78","v":0},{"$f":"'Analysis 103L'!I78","v":""},{"$f":"'Analysis 103L'!J78","v":""},{"$f":"'Analysis 103L'!P78","v":0},{"$f":"'Analysis 103L'!N78","v":""},{"$f":"'Analysis 103L'!Q78","v":""},null,null,null,null,"","",{"$f":"IF(RIGHT(C57, 4)=\"Case\", \"\",IF(J57=\"\",\"\",IF(AH57=\"LLLC\", 0.6, VLOOKUP('100L Information'!$G$19,Load_Profiles, 4, FALSE))))","v":""},"","","",0,"",null,"",{"$f":"'Analysis 103L'!$Y$232*(S57/('Analysis 103L'!$Y$230+'Analysis 103L'!$Y$231))","v":{"$error":"#VALUE!"}},null,null,{"$f":"IF(Q57=\"\",\"\",Q57*'Analysis 103L'!$D$23)","v":""},null,null,null,null,{"$error":"#VALUE!"},{"$f":"IF(AND(U57=\"\",AK57=\"Custom\"),MIN(K57*Incent_Cost_Controls_Cust,Q57/J57*0.2),IF(AH57=\"LLLC\",MIN(AI57,((K57+'Analysis 103L'!R78)*Incent_Cost_LLLC)-'Analysis 103L'!X78),IF(AD57>=VLOOKUP(H57,Incent_Controls,3,FALSE),MIN(K57,VLOOKUP(H57,Incent_Controls,2,FALSE)),\"\")))","v":{"$error":"#VALUE!"}},"",null,"","",null,"","PASS/PASS","",{"$error":"#VALUE!"},{"$error":"#VALUE!"},{"$error":"#VALUE!"},"",null,10,{"$f":"VLOOKUP('Analysis 103L'!BE78, avoided_costs, ROUND($AS57, 0)+2, FALSE)","v":{"$error":"#N/A"}},{"$error":"#N/A"},{"$error":"#VALUE!"},{"$error":"#N/A"},{"$error":"#N/A"},{"$error":"#VALUE!"},{"$error":"#N/A"},{"$error":"#N/A"},{"$error":"#N/A"},null,null,null,null,null,null,null,null,null,null,null,null,null,null,null,{"$f":"'Analysis 103L'!CF78","v":""},"","","","","",""]
[52,{"$f":"'Analysis 103L'!C79","v":0},{"$f":"'Analysis 103L'!I79","v":""},{"$f":"'Analysis 103L'!J79","v":""},{"$f":"'Analysis 103L'!P79","v":0},{"$f":"'Analysis 103L'!N79","v":""},{"$f":"'Analysis 103L'!Q79","v":""},null,null,null,null,"","",{"$f":"IF(RIGHT(C58, 4)=\"Case\", \"\",IF(J58=\"\",\"\",IF(AH58=\"LLLC\", 0.6, VLOOKUP('100L Information'!$G$19,Load_Profiles, 4, FALSE))))","v":""},"","","",0,"",null,"",{"$f":"'Analysis 103L'!$Y$232*(S58/('Analysis 103L'!$Y$230+'Analysis 103L'!$Y$231))","v":{"$error":"#VALUE!"}},null,null,{"$f":"IF(Q58=\"\",\"\",Q58*'Analysis 103L'!$D$23)","v":""},null,null,null,null,{"$error":"#VALUE!"},{"$f":"IF(AND(U58=\"\",AK58=\"Custom\"),MIN(K58*Incent_Cost_Controls_Cust,Q58/J58*0.2),IF(AH58=\"LLLC\",MIN(AI58,((K58+'Analysis 103L'!R79)*Incent_Cost_LLLC)-'Analysis 103L'!X79),IF(AD58>=VLOOKUP(H58,Incent_Controls,3,FALSE),MIN(K58,VLOOKUP(H58,Incent_Controls,2,FALSE)),\"\")))","v":{"$error":"#VALUE!"}},"",null,"","",null,"","PASS/PASS","",{"$error":"#VALUE!"},{"$error":"#VALUE!"},{"$error":"#VALUE!"},"",null,10,{"$f":"VLOOKUP('Analysis 103L'!BE79, avoided_costs, ROUND($AS58, 0)+2, FALSE)","v":{"$error":"#N/A"}},{"$error":"#N/A"},{"$error":"#VALUE!"},{"$error":"#N/A"},{"$error":"#N/A"},{"$error":"#VALUE!"},{"$error":"#N/A"},{"$error":"#N/A"},{"$error":"#N/A"},null,null,null,null,null,null,null,null,null,null,null,null,null,null,null,{"$f":"'Analysis 103L'!CF79","v":""},"","","","","",""]
[53,{"$f":"'Analysis 103L'!C80","v":0},{"$f":"'Analysis 103L'!I80","v":""},{"$f":"'Analysis 103L'!J80","v":""},{"$f":"'Analysis 103L'!P80","v":0},{"$f":"'Analysis 103L'!N80","v":""},{"$f":"'Analysis 103L'!Q80","v":""},null,null,null,null,"","",{"$f":"IF(RIGHT(C59, 4)=\"Case\", \"\",IF(J59=\"\",\"\",IF(AH59=\"LLLC\", 0.6, VLOOKUP('100L Information'!$G$19,Load_Profiles, 4, FALSE))))","v":""},"","","",0,"",null,"",{"$f":"'Analysis 103L'!$Y$232*(S59/('Analysis 103L'!$Y$230+'Analysis 103L'!$Y$231))","v":{"$error":"#VALUE!"}},null,null,{"$f":"IF(Q59=\"\",\"\",Q59*'Analysis 103L'!$D$23)","v":""},null,null,null,null,{"$error":"#VALUE!"},{"$f":"IF(AND(U59=\"\",AK59=\"Custom\"),MIN(K59*Incent_Cost_Controls_Cust,Q59/J59*0.2),IF(AH59=\"LLLC\",MIN(AI59,((K59+'Analysis 103L'!R80)*Incent_Cost_LLLC)-'Analysis 103L'!X80),IF(AD59>=VLOOKUP(H59,Incent_Controls,3,FALSE),MIN(K59,VLOOKUP(H59,Incent_Controls,2,FALSE)),\"\")))","v":{"$error":"#VALUE!"}},"",null,"","",null,"","PASS/PASS","",{"$error":"#VALUE!"},{"$error":"#VALUE!"},{"$error":"#VALUE!"},"",null,10,{"$f":"VLOOKUP('Analysis 103L'!BE80, avoided_costs, ROUND($AS59, 0)+2, FALSE)","v":{"$error":"#N/A"}},{"$error":"#N/A"},{"$error":"#VALUE!"},{"$error":"#N/A"},{"$error":"#N/A"},{"$error":"#VALUE!"},{"$error":"#N/A"},{"$error":"#N/A"},{"$error":"#N/A"},null,null,null,null,null,null,null,null,null,null,null,null,null,null,null,{"$f":"'Analysis 103L'!CF80","v":""},"","","","","",""]
[54,{"$f":"'Analysis 103L'!C81","v":0},{"$f":"'Analysis 103L'!I81","v":""},{"$f":"'Analysis 103L'!J81","v":""},{"$f":"'Analysis 103L'!P81","v":0},{"$f":"'Analysis 103L'!N81","v":""},{"$f":"'Analysis 103L'!Q81","v":""},null,null,null,null,"","",{"$f":"IF(RIGHT(C60, 4)=\"Case\", \"\",IF(J60=\"\",\"\",IF(AH60=\"LLLC\", 0.6, VLOOKUP('100L Information'!$G$19,Load_Profiles, 4, FALSE))))","v":""},"","","",0,"",null,"",{"$f":"'Analysis 103L'!$Y$232*(S60/('Analysis 103L'!$Y$230+'Analysis 103L'!$Y$231))","v":{"$error":"#VALUE!"}},null,null,{"$f":"IF(Q60=\"\",\"\",Q60*'Analysis 103L'!$D$23)","v":""},null,null,null,null,{"$error":"#VALUE!"},{"$f":"IF(AND(U60=\"\",AK60=\"Custom\"),MIN(K60*Incent_Cost_Controls_Cust,Q60/J60*0.2),IF(AH60=\"LLLC\",MIN(AI60,((K60+'Analysis 103L'!R81)*Incent_Cost_LLLC)-'Analysis 103L'!X81),IF(AD60>=VLOOKUP(H60,Incent_Controls,3,FALSE),MIN(K60,VLOOKUP(H60,Incent_Controls,2,FALSE)),\"\")))","v":{"$error":"#VALUE!"}},"",null,"","",null,"","PASS/PASS","",{"$error":"#VALUE!"},{"$error":"#VALUE!"},{"$error":"#VALUE!"},"",null,10,{"$f":"VLOOKUP('Analysis 103L'!BE81, avoided_costs, ROUND($AS60, 0)+2, FALSE)","v":{"$error":"#N/A"}},{"$error":"#N/A"},{"$error":"#VALUE!"},{"$error":"#N/A"},{"$error":"#N/A"},{"$error":"#VALUE!"},{"$error":"#N/A"},{"$error":"#N/A"},{"$error":"#N/A"},null,null,null,null,null,null,null,null,null,null,null,null,null,null,null,{"$f":"'Analysis 103L'!CF81","v":""},"","","","","",""]
[55,{"$f":"'Analysis 103L'!C82","v":0},{"$f":"'Analysis 103L'!I82","v":""},{"$f":"'Analysis 103L'!J82","v":""},{"$f":"'Analysis 103L'!P82","v":0},{"$f":"'Analysis 103L'!N82","v":""},{"$f":"'Analysis 103L'!Q82","v":""},null,null,null,null,"","",{"$f":"IF(RIGHT(C61, 4)=\"Case\", \"\",IF(J61=\"\",\"\",IF(AH61=\"LLLC\", 0.6, VLOOKUP('100L Information'!$G$19,Load_Profiles, 4, FALSE))))","v":""},"","","",0,"",null,"",{"$f":"'Analysis 103L'!$Y$232*(S61/('Analysis 103L'!$Y$230+'Analysis 103L'!$Y$231))","v":{"$error":"#VALUE!"}},null,null,{"$f":"IF(Q61=\"\",\"\",Q61*'Analysis 103L'!$D$23)","v":""},null,null,null,null,{"$error":"#VALUE!"},{"$f":"IF(AND(U61=\"\",AK61=\"Custom\"),MIN(K61*Incent_Cost_Controls_Cust,Q61/J61*0.2),IF(AH61=\"LLLC\",MIN(AI61,((K61+'Analysis 103L'!R82)*Incent_Cost_LLLC)-'Analysis 103L'!X82),IF(AD61>=VLOOKUP(H61,Incent_Controls,3,FALSE),MIN(K61,VLOOKUP(H61,Incent_Controls,2,FALSE)),\"\")))","v":{"$error":"#VALUE!"}},"",null,"","",null,"","PASS/PASS","",{"$error":"#VALUE!"},{"$error":"#VALUE!"},{"$error":"#VALUE!"},"",null,10,{"$f":"VLOOKUP('Analysis 103L'!BE82, avoided_costs, ROUND($AS61, 0)+2, FALSE)","v":{"$error":"#N/A"}},{"$error":"#N/A"},{"$error":"#VALUE!"},{"$error":"#N/A"},{"$error":"#N/A"},{"$error":"#VALUE!"},{"$error":"#N/A"},{"$error":"#N/A"},{"$error":"#N/A"},null,null,null,null,null,null,null,null,null,null,null,null,null,null,null,{"$f":"'Analysis 103L'!CF82","v":""},"","","","","",""]
[56,{"$f":"'Analysis 103L'!C83","v":0},{"$f":"'Analysis 103L'!I83","v":""},{"$f":"'Analysis 103L'!J83","v":""},{"$f":"'Analysis 103L'!P83","v":0},{"$f":"'Analysis 103L'!N83","v":""},{"$f":"'Analysis 103L'!Q83","v":""},null,null,null,null,"","",{"$f":"IF(RIGHT(C62, 4)=\"Case\", \"\",IF(J62=\"\",\"\",IF(AH62=\"LLLC\", 0.6, VLOOKUP('100L Information'!$G$19,Load_Profiles, 4, FALSE))))","v":""},"","","",0,"",null,"",{"$f":"'Analysis 103L'!$Y$232*(S62/('Analysis 103L'!$Y$230+'Analysis 103L'!$Y$231))","v":{"$error":"#VALUE!"}},null,null,{"$f":"IF(Q62=\"\",\"\",Q62*'Analysis 103L'!$D$23)","v":""},null,null,null,null,{"$error":"#VALUE!"},{"$f":"IF(AND(U62=\"\",AK62=\"Custom\"),MIN(K62*Incent_Cost_Controls_Cust,Q62/J62*0.2),IF(AH62=\"LLLC\",MIN(AI62,((K62+'Analysis 103L'!R83)*Incent_Cost_LLLC)-'Analysis 103L'!X83),IF(AD62>=VLOOKUP(H62,Incent_Controls,3,FALSE),MIN(K62,VLOOKUP(H62,Incent_Controls,2,FALSE)),\"\")))","v":{"$error":"#VALUE!"}},"",null,"","",null,"","PASS/PASS","",{"$error":"#VALUE!"},{"$error":"#VALUE!"},{"$error":"#VALUE!"},"",null,10,{"$f":"VLOOKUP('Analysis 103L'!BE83, avoided_costs, ROUND($AS62, 0)+2, FALSE)","v":{"$error":"#N/A"}},{"$error":"#N/A"},{"$error":"#VALUE!"},{"$error":"#N/A"},{"$error":"#N/A"},{"$error":"#VALUE!"},{"$error":"#N/A"},{"$error":"#N/A"},{"$error":"#N/A"},null,null,null,null,null,null,null,null,null,null,null,null,null,null,null,{"$f":"'Analysis 103L'!CF83","v":""},"","","","","",""]
[57,{"$f":"'Analysis 103L'!C84","v":0},{"$f":"'Analysis 103L'!I84","v":""},{"$f":"'Analysis 103L'!J84","v":""},{"$f":"'Analysis 103L'!P84","v":0},{"$f":"'Analysis 103L'!N84","v":""},{"$f":"'Analysis 103L'!Q84","v":""},null,null,null,null,"","",{"$f":"IF(RIGHT(C63, 4)=\"Case\", \"\",IF(J63=\"\",\"\",IF(AH63=\"LLLC\", 0.6, VLOOKUP('100L Information'!$G$19,Load_Profiles, 4, FALSE))))","v":""},"","","",0,"",null,"",{"$f":"'Analysis 103L'!$Y$232*(S63/('Analysis 103L'!$Y$230+'Analysis 103L'!$Y$231))","v":{"$error":"#VALUE!"}},null,null,{"$f":"IF(Q63=\"\",\"\",Q63*'Analysis 103L'!$D$23)","v":""},null,null,null,null,{"$error":"#VALUE!"},{"$f":"IF(AND(U63=\"\",AK63=\"Custom\"),MIN(K63*Incent_Cost_Controls_Cust,Q63/J63*0.2),IF(AH63=\"LLLC\",MIN(AI63,((K63+'Analysis 103L'!R84)*Incent_Cost_LLLC)-'Analysis 103L'!X84),IF(AD63>=VLOOKUP(H63,Incent_Controls,3,FALSE),MIN(K63,VLOOKUP(H63,Incent_Controls,2,FALSE)),\"\")))","v":{"$error":"#VALUE!"}},"",null,"","",null,"","PASS/PASS","",{"$error":"#VALUE!"},{"$error":"#VALUE!"},{"$error":"#VALUE!"},"",null,10,{"$f":"VLOOKUP('Analysis 103L'!BE84, avoided_costs, ROUND($AS63, 0)+2, FALSE)","v":{"$error":"#N/A"}},{"$error":"#N/A"},{"$error":"#VALUE!"},{"$error":"#N/A"},{"$error":"#N/A"},{"$error":"#VALUE!"},{"$error":"#N/A"},{"$error":"#N/A"},{"$error":"#N/A"},null,null,null,null,null,null,null,null,null,null,null,null,null,null,null,{"$f":"'Analysis 103L'!CF84","v":""},"","","","","",""]
[58,{"$f":"'Analysis 103L'!C85","v":0},{"$f":"'Analysis 103L'!I85","v":""},{"$f":"'Analysis 103L'!J85","v":""},{"$f":"'Analysis 103L'!P85","v":0},{"$f":"'Analysis 103L'!N85","v":""},{"$f":"'Analysis 103L'!Q85","v":""},null,null,null,null,"","",{"$f":"IF(RIGHT(C64, 4)=\"Case\", \"\",IF(J64=\"\",\"\",IF(AH64=\"LLLC\", 0.6, VLOOKUP('100L Information'!$G$19,Load_Profiles, 4, FALSE))))","v":""},"","","",0,"",null,"",{"$f":"'Analysis 103L'!$Y$232*(S64/('Analysis 103L'!$Y$230+'Analysis 103L'!$Y$231))","v":{"$error":"#VALUE!"}},null,null,{"$f":"IF(Q64=\"\",\"\",Q64*'Analysis 103L'!$D$23)","v":""},null,null,null,null,{"$error":"#VALUE!"},{"$f":"IF(AND(U64=\"\",AK64=\"Custom\"),MIN(K64*Incent_Cost_Controls_Cust,Q64/J64*0.2),IF(AH64=\"LLLC\",MIN(AI64,((K64+'Analysis 103L'!R85)*Incent_Cost_LLLC)-'Analysis 103L'!X85),IF(AD64>=VLOOKUP(H64,Incent_Controls,3,FALSE),MIN(K64,VLOOKUP(H64,Incent_Controls,2,FALSE)),\"\")))","v":{"$error":"#VALUE!"}},"",null,"","",null,"","PASS/PASS","",{"$error":"#VALUE!"},{"$error":"#VALUE!"},{"$error":"#VALUE!"},"",null,10,{"$f":"VLOOKUP('Analysis 103L'!BE85, avoided_costs, ROUND($AS64, 0)+2, FALSE)","v":{"$error":"#N/A"}},{"$error":"#N/A"},{"$error":"#VALUE!"},{"$error":"#N/A"},{"$error":"#N/A"},{"$error":"#VALUE!"},{"$error":"#N/A"},{"$error":"#N/A"},{"$error":"#N/A"},null,null,null,null,null,null,null,null,null,null,null,null,null,null,null,{"$f":"'Analysis 103L'!CF85","v":""},"","","","","",""]
[59,{"$f":"'Analysis 103L'!C86","v":0},{"$f":"'Analysis 103L'!I86","v":""},{"$f":"'Analysis 103L'!J86","v":""},{"$f":"'Analysis 103L'!P86","v":0},{"$f":"'Analysis 103L'!N86","v":""},{"$f":"'Analysis 103L'!Q86","v":""},null,null,null,null,"","",{"$f":"IF(RIGHT(C65, 4)=\"Case\", \"\",IF(J65=\"\",\"\",IF(AH65=\"LLLC\", 0.6, VLOOKUP('100L Information'!$G$19,Load_Profiles, 4, FALSE))))","v":""},"","","",0,"",null,"",{"$f":"'Analysis 103L'!$Y$232*(S65/('Analysis 103L'!$Y$230+'Analysis 103L'!$Y$231))","v":{"$error":"#VALUE!"}},null,null,{"$f":"IF(Q65=\"\",\"\",Q65*'Analysis 103L'!$D$23)","v":""},null,null,null,null,{"$error":"#VALUE!"},{"$f":"IF(AND(U65=\"\",AK65=\"Custom\"),MIN(K65*Incent_Cost_Controls_Cust,Q65/J65*0.2),IF(AH65=\"LLLC\",MIN(AI65,((K65+'Analysis 103L'!R86)*Incent_Cost_LLLC)-'Analysis 103L'!X86),IF(AD65>=VLOOKUP(H65,Incent_Controls,3,FALSE),MIN(K65,VLOOKUP(H65,Incent_Controls,2,FALSE)),\"\")))","v":{"$error":"#VALUE!"}},"",null,"","",null,"","PASS/PASS","",{"$error":"#VALUE!"},{"$error":"#VALUE!"},{"$error":"#VALUE!"},"",null,10,{"$f":"VLOOKUP('Analysis 103L'!BE86, avoided_costs, ROUND($AS65, 0)+2, FALSE)","v":{"$error":"#N/A"}},{"$error":"#N/A"},{"$error":"#VALUE!"},{"$error":"#N/A"},{"$error":"#N/A"},{"$error":"#VALUE!"},{"$error":"#N/A"},{"$error":"#N/A"},{"$error":"#N/A"},null,null,null,null,null,null,null,null,null,null,null,null,null,null,null,{"$f":"'Analysis 103L'!CF86","v":""},"","","","","",""]
[60,{"$f":"'Analysis 103L'!C87","v":0},{"$f":"'Analysis 103L'!I87","v":""},{"$f":"'Analysis 103L'!J87","v":""},{"$f":"'Analysis 103L'!P87","v":0},{"$f":"'Analysis 103L'!N87","v":""},{"$f":"'Analysis 103L'!Q87","v":""},null,null,null,null,"","",{"$f":"IF(RIGHT(C66, 4)=\"Case\", \"\",IF(J66=\"\",\"\",IF(AH66=\"LLLC\", 0.6, VLOOKUP('100L Information'!$G$19,Load_Profiles, 4, FALSE))))","v":""},"","","",0,"",null,"",{"$f":"'Analysis 103L'!$Y$232*(S66/('Analysis 103L'!$Y$230+'Analysis 103L'!$Y$231))","v":{"$error":"#VALUE!"}},null,null,{"$f":"IF(Q66=\"\",\"\",Q66*'Analysis 103L'!$D$23)","v":""},null,null,null,null,{"$error":"#VALUE!"},{"$f":"IF(AND(U66=\"\",AK66=\"Custom\"),MIN(K66*Incent_Cost_Controls_Cust,Q66/J66*0.2),IF(AH66=\"LLLC\",MIN(AI66,((K66+'Analysis 103L'!R87)*Incent_Cost_LLLC)-'Analysis 103L'!X87),IF(AD66>=VLOOKUP(H66,Incent_Controls,3,FALSE),MIN(K66,VLOOKUP(H66,Incent_Controls,2,FALSE)),\"\")))","v":{"$error":"#VALUE!"}},"",null,"","",null,"","PASS/PASS","",{"$error":"#VALUE!"},{"$error":"#VALUE!"},{"$error":"#VALUE!"},"",null,10,{"$f":"VLOOKUP('Analysis 103L'!BE87, avoided_costs, ROUND($AS66, 0)+2, FALSE)","v":{"$error":"#N/A"}},{"$error":"#N/A"},{"$error":"#VALUE!"},{"$error":"#N/A"},{"$error":"#N/A"},{"$error":"#VALUE!"},{"$error":"#N/A"},{"$error":"#N/A"},{"$error":"#N/A"},null,null,null,null,null,null,null,null,null,null,null,null,null,null,null,{"$f":"'Analysis 103L'!CF87","v":""},"","","","","",""]
[61,{"$f":"'Analysis 103L'!C88","v":0},{"$f":"'Analysis 103L'!I88","v":""},{"$f":"'Analysis 103L'!J88","v":""},{"$f":"'Analysis 103L'!P88","v":0},{"$f":"'Analysis 103L'!N88","v":""},{"$f":"'Analysis 103L'!Q88","v":""},null,null,null,null,"","",{"$f":"IF(RIGHT(C67, 4)=\"Case\", \"\",IF(J67=\"\",\"\",IF(AH67=\"LLLC\", 0.6, VLOOKUP('100L Information'!$G$19,Load_Profiles, 4, FALSE))))","v":""},"","","",0,"",null,"",{"$f":"'Analysis 103L'!$Y$232*(S67/('Analysis 103L'!$Y$230+'Analysis 103L'!$Y$231))","v":{"$error":"#VALUE!"}},null,null,{"$f":"IF(Q67=\"\",\"\",Q67*'Analysis 103L'!$D$23)","v":""},null,null,null,null,{"$error":"#VALUE!"},{"$f":"IF(AND(U67=\"\",AK67=\"Custom\"),MIN(K67*Incent_Cost_Controls_Cust,Q67/J67*0.2),IF(AH67=\"LLLC\",MIN(AI67,((K67+'Analysis 103L'!R88)*Incent_Cost_LLLC)-'Analysis 103L'!X88),IF(AD67>=VLOOKUP(H67,Incent_Controls,3,FALSE),MIN(K67,VLOOKUP(H67,Incent_Controls,2,FALSE)),\"\")))","v":{"$error":"#VALUE!"}},"",null,"","",null,"","PASS/PASS","",{"$error":"#VALUE!"},{"$error":"#VALUE!"},{"$error":"#VALUE!"},"",null,10,{"$f":"VLOOKUP('Analysis 103L'!BE88, avoided_costs, ROUND($AS67, 0)+2, FALSE)","v":{"$error":"#N/A"}},{"$error":"#N/A"},{"$error":"#VALUE!"},{"$error":"#N/A"},{"$error":"#N/A"},{"$error":"#VALUE!"},{"$error":"#N/A"},{"$error":"#N/A"},{"$error":"#N/A"},null,null,null,null,null,null,null,null,null,null,null,null,null,null,null,{"$f":"'Analysis 103L'!CF88","v":""},"","","","","",""]
[62,{"$f":"'Analysis 103L'!C89","v":0},{"$f":"'Analysis 103L'!I89","v":""},{"$f":"'Analysis 103L'!J89","v":""},{"$f":"'Analysis 103L'!P89","v":0},{"$f":"'Analysis 103L'!N89","v":""},{"$f":"'Analysis 103L'!Q89","v":""},null,null,null,null,"","",{"$f":"IF(RIGHT(C68, 4)=\"Case\", \"\",IF(J68=\"\",\"\",IF(AH68=\"LLLC\", 0.6, VLOOKUP('100L Information'!$G$19,Load_Profiles, 4, FALSE))))","v":""},"","","",0,"",null,"",{"$f":"'Analysis 103L'!$Y$232*(S68/('Analysis 103L'!$Y$230+'Analysis 103L'!$Y$231))","v":{"$error":"#VALUE!"}},null,null,{"$f":"IF(Q68=\"\",\"\",Q68*'Analysis 103L'!$D$23)","v":""},null,null,null,null,{"$error":"#VALUE!"},{"$f":"IF(AND(U68=\"\",AK68=\"Custom\"),MIN(K68*Incent_Cost_Controls_Cust,Q68/J68*0.2),IF(AH68=\"LLLC\",MIN(AI68,((K68+'Analysis 103L'!R89)*Incent_Cost_LLLC)-'Analysis 103L'!X89),IF(AD68>=VLOOKUP(H68,Incent_Controls,3,FALSE),MIN(K68,VLOOKUP(H68,Incent_Controls,2,FALSE)),\"\")))","v":{"$error":"#VALUE!"}},"",null,"","",null,"","PASS/PASS","",{"$error":"#VALUE!"},{"$error":"#VALUE!"},{"$error":"#VALUE!"},"",null,10,{"$f":"VLOOKUP('Analysis 103L'!BE89, avoided_costs, ROUND($AS68, 0)+2, FALSE)","v":{"$error":"#N/A"}},{"$error":"#N/A"},{"$error":"#VALUE!"},{"$error":"#N/A"},{"$error":"#N/A"},{"$error":"#VALUE!"},{"$error":"#N/A"},{"$error":"#N/A"},{"$error":"#N/A"},null,null,null,null,null,null,null,null,null,null,null,null,null,null,null,{"$f":"'Analysis 103L'!CF89","v":""},"","","","","",""]
[63,{"$f":"'Analysis 103L'!C90","v":0},{"$f":"'Analysis 103L'!I90","v":""},{"$f":"'Analysis 103L'!J90","v":""},{"$f":"'Analysis 103L'!P90","v":0},{"$f":"'Analysis 103L'!N90","v":""},{"$f":"'Analysis 103L'!Q90","v":""},null,null,null,null,"","",{"$f":"IF(RIGHT(C69, 4)=\"Case\", \"\",IF(J69=\"\",\"\",IF(AH69=\"LLLC\", 0.6, VLOOKUP('100L Information'!$G$19,Load_Profiles, 4, FALSE))))","v":""},"","","",0,"",null,"",{"$f":"'Analysis 103L'!$Y$232*(S69/('Analysis 103L'!$Y$230+'Analysis 103L'!$Y$231))","v":{"$error":"#VALUE!"}},null,null,{"$f":"IF(Q69=\"\",\"\",Q69*'Analysis 103L'!$D$23)","v":""},null,null,null,null,{"$error":"#VALUE!"},{"$f":"IF(AND(U69=\"\",AK69=\"Custom\"),MIN(K69*Incent_Cost_Controls_Cust,Q69/J69*0.2),IF(AH69=\"LLLC\",MIN(AI69,((K69+'Analysis 103L'!R90)*Incent_Cost_LLLC)-'Analysis 103L'!X90),IF(AD69>=VLOOKUP(H69,Incent_Controls,3,FALSE),MIN(K69,VLOOKUP(H69,Incent_Controls,2,FALSE)),\"\")))","v":{"$error":"#VALUE!"}},"",null,"","",null,"","PASS/PASS","",{"$error":"#VALUE!"},{"$error":"#VALUE!"},{"$error":"#VALUE!"},"",null,10,{"$f":"VLOOKUP('Analysis 103L'!BE90, avoided_costs, ROUND($AS69, 0)+2, FALSE)","v":{"$error":"#N/A"}},{"$error":"#N/A"},{"$error":"#VALUE!"},{"$error":"#N/A"},{"$error":"#N/A"},{"$error":"#VALUE!"},{"$error":"#N/A"},{"$error":"#N/A"},{"$error":"#N/A"},null,null,null,null,null,null,null,null,null,null,null,null,null,null,null,{"$f":"'Analysis 103L'!CF90","v":""},"","","","","",""]
[64,{"$f":"'Analysis 103L'!C91","v":0},{"$f":"'Analysis 103L'!I91","v":""},{"$f":"'Analysis 103L'!J91","v":""},{"$f":"'Analysis 103L'!P91","v":0},{"$f":"'Analysis 103L'!N91","v":""},{"$f":"'Analysis 103L'!Q91","v":""},null,null,null,null,"","",{"$f":"IF(RIGHT(C70, 4)=\"Case\", \"\",IF(J70=\"\",\"\",IF(AH70=\"LLLC\", 0.6, VLOOKUP('100L Information'!$G$19,Load_Profiles, 4, FALSE))))","v":""},"","","",0,"",null,"",{"$f":"'Analysis 103L'!$Y$232*(S70/('Analysis 103L'!$Y$230+'Analysis 103L'!$Y$231))","v":{"$error":"#VALUE!"}},null,null,{"$f":"IF(Q70=\"\",\"\",Q70*'Analysis 103L'!$D$23)","v":""},null,null,null,null,{"$error":"#VALUE!"},{"$f":"IF(AND(U70=\"\",AK70=\"Custom\"),MIN(K70*Incent_Cost_Controls_Cust,Q70/J70*0.2),IF(AH70=\"LLLC\",MIN(AI70,((K70+'Analysis 103L'!R91)*Incent_Cost_LLLC)-'Analysis 103L'!X91),IF(AD70>=VLOOKUP(H70,Incent_Controls,3,FALSE),MIN(K70,VLOOKUP(H70,Incent_Controls,2,FALSE)),\"\")))","v":{"$error":"#VALUE!"}},"",null,"","",null,"","PASS/PASS","",{"$error":"#VALUE!"},{"$error":"#VALUE!"},{"$error":"#VALUE!"},"",null,10,{"$f":"VLOOKUP('Analysis 103L'!BE91, avoided_costs, ROUND($AS70, 0)+2, FALSE)","v":{"$error":"#N/A"}},{"$error":"#N/A"},{"$error":"#VALUE!"},{"$error":"#N/A"},{"$error":"#N/A"},{"$error":"#VALUE!"},{"$error":"#N/A"},{"$error":"#N/A"},{"$error":"#N/A"},null,null,null,null,null,null,null,null,null,null,null,null,null,null,null,{"$f":"'Analysis 103L'!CF91","v":""},"","","","","",""]
[65,{"$f":"'Analysis 103L'!C92","v":0},{"$f":"'Analysis 103L'!I92","v":""},{"$f":"'Analysis 103L'!J92","v":""},{"$f":"'Analysis 103L'!P92","v":0},{"$f":"'Analysis 103L'!N92","v":""},{"$f":"'Analysis 103L'!Q92","v":""},null,null,null,null,{"$f":"IF(RIGHT(H71, 4)=\"Case\", \"<-- Enter Total Cost.\", IF(J71=\"\",\"\",J71*K71))","v":""},"",{"$f":"IF(RIGHT(C71, 4)=\"Case\", \"\",IF(J71=\"\",\"\",IF(AH71=\"LLLC\", 0.6, VLOOKUP('100L Information'!$G$19,Load_Profiles, 4, FALSE))))","v":""},"","","",0,"",null,"",{"$f":"'Analysis 103L'!$Y$232*(S71/('Analysis 103L'!$Y$230+'Analysis 103L'!$Y$231))","v":{"$error":"#VALUE!"}},null,null,{"$f":"IF(Q71=\"\",\"\",Q71*'Analysis 103L'!$D$23)","v":""},null,null,null,null,{"$error":"#VALUE!"},{"$f":"IF(AND(U71=\"\",AK71=\"Custom\"),MIN(K71*Incent_Cost_Controls_Cust,Q71/J71*0.2),IF(AH71=\"LLLC\",MIN(AI71,((K71+'Analysis 103L'!R92)*Incent_Cost_LLLC)-'Analysis 103L'!X92),IF(AD71>=VLOOKUP(H71,Incent_Controls,3,FALSE),MIN(K71,VLOOKUP(H71,Incent_Controls,2,FALSE)),\"\")))","v":{"$error":"#VALUE!"}},{"$f":"IF(OR(AH71=\"LLLC\",J71=\"\"),\"\",IF(AD71>=VLOOKUP(H71,Incent_Controls,3,FALSE),\"Y\",\"N\"))","v":""},null,"","",null,"",{"$f":"IF(AK71=\"\",\"PASS/PASS\",IF(BB71=\"PASS/PASS\",\"PASS/PASS\",\"FAIL\"))","v":"PASS/PASS"},{"$f":"IF(AL71=\"PASS/PASS\",L71,\"0\")","v":""},{"$f":"E71*F71*G71/1000","v":{"$error":"#VALUE!"}},{"$f":"AN71*(1-N71)","v":{"$error":"#VALUE!"}},{"$error":"#VALUE!"},{"$f":"IF(AK71=\"Custom\",0.35*L71,S71)","v":""},null,10,{"$f":"VLOOKUP('Analysis 103L'!BE92, avoided_costs, ROUND($AS71, 0)+2, FALSE)","v":{"$error":"#N/A"}},{"$error":"#N/A"},{"$f":"0.5*L71/AP71","v":{"$error":"#VALUE!"}},{"$error":"#N/A"},{"$error":"#N/A"},{"$f":"L71/AP71","v":{"$error":"#VALUE!"}},{"$f":"AU71/AY71","v":{"$error":"#N/A"}},{"$error":"#N/A"},{"$f":"AX71&\"/\"&BA71","v":{"$error":"#N/A"}},null,null,null,null,null,null,null,null,null,null,null,null,null,null,null,{"$f":"'Analysis 103L'!CF92","v":""},"","",{"$f":"IF(BS71=\"\", \"\", INDEX($BP$32:$BP$33, MATCH($BS71, $BM$32:$BM$33, 0))*$BT71)","v":""},{"$f":"IF(BT71=\"\", \"\", INDEX($BN$32:$BN$33, MATCH($BS71, $BM$32:$BM$33, 0)))","v":""},"",""]
[66,{"$f":"'Analysis 103L'!C93","v":0},{"$f":"'Analysis 103L'!I93","v":""},{"$f":"'Analysis 103L'!J93","v":""},{"$f":"'Analysis 103L'!P93","v":0},{"$f":"'Analysis 103L'!N93","v":""},{"$f":"'Analysis 103L'!Q93","v":""},null,null,null,null,"","",{"$f":"IF(RIGHT(C72, 4)=\"Case\", \"\",IF(J72=\"\",\"\",IF(AH72=\"LLLC\", 0.6, VLOOKUP('100L Information'!$G$19,Load_Profiles, 4, FALSE))))","v":""},"","","",0,"",null,{"$f":"IF(AL72=\"FAIL\",\"Control System Not Cost Effective\",IF(AF72=\"N\",\"Does not meet requirement\",\"\"))","v":""},{"$f":"'Analysis 103L'!$Y$232*(S72/('Analysis 103L'!$Y$230+'Analysis 103L'!$Y$231))","v":{"$error":"#VALUE!"}},null,null,{"$f":"IF(Q72=\"\",\"\",Q72*'Analysis 103L'!$D$23)","v":""},null,null,null,null,{"$f":"E72*F72/J72","v":{"$error":"#VALUE!"}},{"$f":"IF(AND(U72=\"\",AK72=\"Custom\"),MIN(K72*Incent_Cost_Controls_Cust,Q72/J72*0.2),IF(AH72=\"LLLC\",MIN(AI72,((K72+'Analysis 103L'!R93)*Incent_Cost_LLLC)-'Analysis 103L'!X93),IF(AD72>=VLOOKUP(H72,Incent_Controls,3,FALSE),MIN(K72,VLOOKUP(H72,Incent_Controls,2,FALSE)),\"\")))","v":{"$error":"#VALUE!"}},"",null,"","",null,{"$f":"IF(OR(H72=\"Custom Control System\",LEFT(H72,4)=\"Hard\"),\"Custom\",\"\")","v":""},"PASS/PASS","",{"$error":"#VALUE!"},{"$error":"#VALUE!"},{"$f":"AN72-AO72","v":{"$error":"#VALUE!"}},"",null,10,{"$f":"VLOOKUP('Analysis 103L'!BE93, avoided_costs, ROUND($AS72, 0)+2, FALSE)","v":{"$error":"#N/A"}},{"$f":"AT72","v":{"$error":"#N/A"}},{"$error":"#VALUE!"},{"$f":"AT72/AV72","v":{"$error":"#N/A"}},{"$error":"#N/A"},{"$error":"#VALUE!"},{"$error":"#N/A"},{"$error":"#N/A"},{"$error":"#N/A"},null,null,null,null,null,null,null,null,null,null,null,null,null,null,null,{"$f":"'Analysis 103L'!CF93","v":""},"","","","","",""]
[67,{"$f":"'Analysis 103L'!C94","v":0},{"$f":"'Analysis 103L'!I94","v":""},{"$f":"'Analysis 103L'!J94","v":""},{"$f":"'Analysis 103L'!P94","v":0},{"$f":"'Analysis 103L'!N94","v":""},{"$f":"'Analysis 103L'!Q94","v":""},null,null,null,null,"","",{"$f":"IF(RIGHT(C73, 4)=\"Case\", \"\",IF(J73=\"\",\"\",IF(AH73=\"LLLC\", 0.6, VLOOKUP('100L Information'!$G$19,Load_Profiles, 4, FALSE))))","v":""},"","","",0,"",null,"",{"$f":"'Analysis 103L'!$Y$232*(S73/('Analysis 103L'!$Y$230+'Analysis 103L'!$Y$231))","v":{"$error":"#VALUE!"}},null,null,{"$f":"IF(Q73=\"\",\"\",Q73*'Analysis 103L'!$D$23)","v":""},null,null,null,null,{"$error":"#VALUE!"},{"$f":"IF(AND(U73=\"\",AK73=\"Custom\"),MIN(K73*Incent_Cost_Controls_Cust,Q73/J73*0.2),IF(AH73=\"LLLC\",MIN(AI73,((K73+'Analysis 103L'!R94)*Incent_Cost_LLLC)-'Analysis 103L'!X94),IF(AD73>=VLOOKUP(H73,Incent_Controls,3,FALSE),MIN(K73,VLOOKUP(H73,Incent_Controls,2,FALSE)),\"\")))","v":{"$error":"#VALUE!"}},"",null,"","",null,"","PASS/PASS","",{"$error":"#VALUE!"},{"$error":"#VALUE!"},{"$error":"#VALUE!"},"",null,10,{"$f":"VLOOKUP('Analysis 103L'!BE94, avoided_costs, ROUND($AS73, 0)+2, FALSE)","v":{"$error":"#N/A"}},{"$error":"#N/A"},{"$error":"#VALUE!"},{"$error":"#N/A"},{"$error":"#N/A"},{"$error":"#VALUE!"},{"$error":"#N/A"},{"$error":"#N/A"},{"$error":"#N/A"},null,null,null,null,null,null,null,null,null,null,null,null,null,null,null,{"$f":"'Analysis 103L'!CF94","v":""},"","","","","",""]
[68,{"$f":"'Analysis 103L'!C95","v":0},{"$f":"'Analysis 103L'!I95","v":""},{"$f":"'Analysis 103L'!J95","v":""},{"$f":"'Analysis 103L'!P95","v":0},{"$f":"'Analysis 103L'!N95","v":""},{"$f":"'Analysis 103L'!Q95","v":""},null,null,null,null,"",{"$f":"IFERROR(IF(J74=\"\",\"\",IF(LEFT(H74,8) =\"Exterior\", (F74*E74/J74*0.5), F74*E74/J74)),\"\")","v":""},{"$f":"IF(RIGHT(C74, 4)=\"Case\", \"\",IF(J74=\"\",\"\",IF(AH74=\"LLLC\", 0.6, VLOOKUP('100L Information'!$G$19,Load_Profiles, 4, FALSE))))","v":""},"","","",{"$f":"IF(AND(ISNUMBER(AE74),ISNUMBER(K74)),AE74,)","v":0},"",null,"",{"$f":"'Analysis 103L'!$Y$232*(S74/('Analysis 103L'!$Y$230+'Analysis 103L'!$Y$231))","v":{"$error":"#VALUE!"}},null,null,{"$f":"IF(Q74=\"\",\"\",Q74*'Analysis 103L'!$D$23)","v":""},null,null,null,null,{"$error":"#VALUE!"},{"$f":"IF(AND(U74=\"\",AK74=\"Custom\"),MIN(K74*Incent_Cost_Controls_Cust,Q74/J74*0.2),IF(AH74=\"LLLC\",MIN(AI74,((K74+'Analysis 103L'!R95)*Incent_Cost_LLLC)-'Analysis 103L'!X95),IF(AD74>=VLOOKUP(H74,Incent_Controls,3,FALSE),MIN(K74,VLOOKUP(H74,Incent_Controls,2,FALSE)),\"\")))","v":{"$error":"#VALUE!"}},"",null,"","",null,"","PASS/PASS","",{"$error":"#VALUE!"},{"$error":"#VALUE!"},{"$error":"#VALUE!"},"",null,10,{"$f":"VLOOKUP('Analysis 103L'!BE95, avoided_costs, ROUND($AS74, 0)+2, FALSE)","v":{"$error":"#N/A"}},{"$error":"#N/A"},{"$error":"#VALUE!"},{"$error":"#N/A"},{"$error":"#N/A"},{"$error":"#VALUE!"},{"$error":"#N/A"},{"$error":"#N/A"},{"$error":"#N/A"},null,null,null,null,null,null,null,null,null,null,null,null,null,null,null,{"$f":"'Analysis 103L'!CF95","v":""},"","","","","",""]
[69,{"$f":"'Analysis 103L'!C96","v":0},{"$f":"'Analysis 103L'!I96","v":""},{"$f":"'Analysis 103L'!J96","v":""},{"$f":"'Analysis 103L'!P96","v":0},{"$f":"'Analysis 103L'!N96","v":""},{"$f":"'Analysis 103L'!Q96","v":""},null,null,null,null,"","",{"$f":"IF(RIGHT(C75, 4)=\"Case\", \"\",IF(J75=\"\",\"\",IF(AH75=\"LLLC\", 0.6, VLOOKUP('100L Information'!$G$19,Load_Profiles, 4, FALSE))))","v":""},"","","",0,"",null,"",{"$f":"'Analysis 103L'!$Y$232*(S75/('Analysis 103L'!$Y$230+'Analysis 103L'!$Y$231))","v":{"$error":"#VALUE!"}},null,null,{"$f":"IF(Q75=\"\",\"\",Q75*'Analysis 103L'!$D$23)","v":""},null,null,null,null,{"$error":"#VALUE!"},{"$f":"IF(AND(U75=\"\",AK75=\"Custom\"),MIN(K75*Incent_Cost_Controls_Cust,Q75/J75*0.2),IF(AH75=\"LLLC\",MIN(AI75,((K75+'Analysis 103L'!R96)*Incent_Cost_LLLC)-'Analysis 103L'!X96),IF(AD75>=VLOOKUP(H75,Incent_Controls,3,FALSE),MIN(K75,VLOOKUP(H75,Incent_Controls,2,FALSE)),\"\")))","v":{"$error":"#VALUE!"}},"",null,"","",null,"","PASS/PASS","",{"$error":"#VALUE!"},{"$error":"#VALUE!"},{"$error":"#VALUE!"},"",null,10,{"$f":"VLOOKUP('Analysis 103L'!BE96, avoided_costs, ROUND($AS75, 0)+2, FALSE)","v":{"$error":"#N/A"}},{"$error":"#N/A"},{"$error":"#VALUE!"},{"$error":"#N/A"},{"$error":"#N/A"},{"$error":"#VALUE!"},{"$error":"#N/A"},{"$error":"#N/A"},{"$error":"#N/A"},null,null,null,null,null,null,null,null,null,null,null,null,null,null,null,{"$f":"'Analysis 103L'!CF96","v":""},"","","","","",""]
[70,{"$f":"'Analysis 103L'!C97","v":0},{"$f":"'Analysis 103L'!I97","v":""},{"$f":"'Analysis 103L'!J97","v":""},{"$f":"'Analysis 103L'!P97","v":0},{"$f":"'Analysis 103L'!N97","v":""},{"$f":"'Analysis 103L'!Q97","v":""},null,null,null,null,"","",{"$f":"IF(RIGHT(C76, 4)=\"Case\", \"\",IF(J76=\"\",\"\",IF(AH76=\"LLLC\", 0.6, VLOOKUP('100L Information'!$G$19,Load_Profiles, 4, FALSE))))","v":""},"","","",0,"",null,"",{"$f":"'Analysis 103L'!$Y$232*(S76/('Analysis 103L'!$Y$230+'Analysis 103L'!$Y$231))","v":{"$error":"#VALUE!"}},null,null,{"$f":"IF(Q76=\"\",\"\",Q76*'Analysis 103L'!$D$23)","v":""},null,null,null,null,{"$error":"#VALUE!"},{"$f":"IF(AND(U76=\"\",AK76=\"Custom\"),MIN(K76*Incent_Cost_Controls_Cust,Q76/J76*0.2),IF(AH76=\"LLLC\",MIN(AI76,((K76+'Analysis 103L'!R97)*Incent_Cost_LLLC)-'Analysis 103L'!X97),IF(AD76>=VLOOKUP(H76,Incent_Controls,3,FALSE),MIN(K76,VLOOKUP(H76,Incent_Controls,2,FALSE)),\"\")))","v":{"$error":"#VALUE!"}},"",null,"","",null,"","PASS/PASS","",{"$error":"#VALUE!"},{"$error":"#VALUE!"},{"$error":"#VALUE!"},"",null,10,{"$f":"VLOOKUP('Analysis 103L'!BE97, avoided_costs, ROUND($AS76, 0)+2, FALSE)","v":{"$error":"#N/A"}},{"$error":"#N/A"},{"$error":"#VALUE!"},{"$error":"#N/A"},{"$error":"#N/A"},{"$error":"#VALUE!"},{"$error":"#N/A"},{"$error":"#N/A"},{"$error":"#N/A"},null,null,null,null,null,null,null,null,null,null,null,null,null,null,null,{"$f":"'Analysis 103L'!CF97","v":""},"","","","","",""]
[71,{"$f":"'Analysis 103L'!C98","v":0},{"$f":"'Analysis 103L'!I98","v":""},{"$f":"'Analysis 103L'!J98","v":""},{"$f":"'Analysis 103L'!P98","v":0},{"$f":"'Analysis 103L'!N98","v":""},{"$f":"'Analysis 103L'!Q98","v":""},null,null,null,null,"","",{"$f":"IF(RIGHT(C77, 4)=\"Case\", \"\",IF(J77=\"\",\"\",IF(AH77=\"LLLC\", 0.6, VLOOKUP('100L Information'!$G$19,Load_Profiles, 4, FALSE))))","v":""},"","","",0,"",null,"",{"$f":"'Analysis 103L'!$Y$232*(S77/('Analysis 103L'!$Y$230+'Analysis 103L'!$Y$231))","v":{"$error":"#VALUE!"}},null,null,{"$f":"IF(Q77=\"\",\"\",Q77*'Analysis 103L'!$D$23)","v":""},null,null,null,null,{"$error":"#VALUE!"},{"$f":"IF(AND(U77=\"\",AK77=\"Custom\"),MIN(K77*Incent_Cost_Controls_Cust,Q77/J77*0.2),IF(AH77=\"LLLC\",MIN(AI77,((K77+'Analysis 103L'!R98)*Incent_Cost_LLLC)-'Analysis 103L'!X98),IF(AD77>=VLOOKUP(H77,Incent_Controls,3,FALSE),MIN(K77,VLOOKUP(H77,Incent_Controls,2,FALSE)),\"\")))","v":{"$error":"#VALUE!"}},"",null,"","",null,"","PASS/PASS","",{"$error":"#VALUE!"},{"$error":"#VALUE!"},{"$error":"#VALUE!"},"",null,10,{"$f":"VLOOKUP('Analysis 103L'!BE98, avoided_costs, ROUND($AS77, 0)+2, FALSE)","v":{"$error":"#N/A"}},{"$error":"#N/A"},{"$error":"#VALUE!"},{"$error":"#N/A"},{"$error":"#N/A"},{"$error":"#VALUE!"},{"$error":"#N/A"},{"$error":"#N/A"},{"$error":"#N/A"},null,null,null,null,null,null,null,null,null,null,null,null,null,null,null,{"$f":"'Analysis 103L'!CF98","v":""},"","","","",{"$f":"IF(BV77=\"\",\"\",MIN(K77*Incent_Cost_Case,(E77*BV77)))","v":""},""]
[72,{"$f":"'Analysis 103L'!C99","v":0},{"$f":"'Analysis 103L'!I99","v":""},{"$f":"'Analysis 103L'!J99","v":""},{"$f":"'Analysis 103L'!P99","v":0},{"$f":"'Analysis 103L'!N99","v":""},{"$f":"'Analysis 103L'!Q99","v":""},null,null,null,null,"","",{"$f":"IF(RIGHT(C78, 4)=\"Case\", \"\",IF(J78=\"\",\"\",IF(AH78=\"LLLC\", 0.6, VLOOKUP('100L Information'!$G$19,Load_Profiles, 4, FALSE))))","v":""},"","","",0,"",null,"",{"$f":"'Analysis 103L'!$Y$232*(S78/('Analysis 103L'!$Y$230+'Analysis 103L'!$Y$231))","v":{"$error":"#VALUE!"}},null,null,{"$f":"IF(Q78=\"\",\"\",Q78*'Analysis 103L'!$D$23)","v":""},null,null,null,null,{"$error":"#VALUE!"},{"$f":"IF(AND(U78=\"\",AK78=\"Custom\"),MIN(K78*Incent_Cost_Controls_Cust,Q78/J78*0.2),IF(AH78=\"LLLC\",MIN(AI78,((K78+'Analysis 103L'!R99)*Incent_Cost_LLLC)-'Analysis 103L'!X99),IF(AD78>=VLOOKUP(H78,Incent_Controls,3,FALSE),MIN(K78,VLOOKUP(H78,Incent_Controls,2,FALSE)),\"\")))","v":{"$error":"#VALUE!"}},"",null,"","",null,"","PASS/PASS","",{"$error":"#VALUE!"},{"$error":"#VALUE!"},{"$error":"#VALUE!"},"",null,10,{"$f":"VLOOKUP('Analysis 103L'!BE99, avoided_costs, ROUND($AS78, 0)+2, FALSE)","v":{"$error":"#N/A"}},{"$error":"#N/A"},{"$error":"#VALUE!"},{"$error":"#N/A"},{"$error":"#N/A"},{"$error":"#VALUE!"},{"$error":"#N/A"},{"$error":"#N/A"},{"$error":"#N/A"},null,null,null,null,null,null,null,null,null,null,null,null,null,null,null,{"$f":"'Analysis 103L'!CF99","v":""},"","","","","",""]
[73,{"$f":"'Analysis 103L'!C100","v":0},{"$f":"'Analysis 103L'!I100","v":""},{"$f":"'Analysis 103L'!J100","v":""},{"$f":"'Analysis 103L'!P100","v":0},{"$f":"'Analysis 103L'!N100","v":""},{"$f":"'Analysis 103L'!Q100","v":""},null,null,null,null,"","",{"$f":"IF(RIGHT(C79, 4)=\"Case\", \"\",IF(J79=\"\",\"\",IF(AH79=\"LLLC\", 0.6, VLOOKUP('100L Information'!$G$19,Load_Profiles, 4, FALSE))))","v":""},"","","",0,"",null,"",{"$f":"'Analysis 103L'!$Y$232*(S79/('Analysis 103L'!$Y$230+'Analysis 103L'!$Y$231))","v":{"$error":"#VALUE!"}},null,null,{"$f":"IF(Q79=\"\",\"\",Q79*'Analysis 103L'!$D$23)","v":""},null,null,null,null,{"$error":"#VALUE!"},{"$f":"IF(AND(U79=\"\",AK79=\"Custom\"),MIN(K79*Incent_Cost_Controls_Cust,Q79/J79*0.2),IF(AH79=\"LLLC\",MIN(AI79,((K79+'Analysis 103L'!R100)*Incent_Cost_LLLC)-'Analysis 103L'!X100),IF(AD79>=VLOOKUP(H79,Incent_Controls,3,FALSE),MIN(K79,VLOOKUP(H79,Incent_Controls,2,FALSE)),\"\")))","v":{"$error":"#VALUE!"}},"",null,"","",null,"","PASS/PASS","",{"$error":"#VALUE!"},{"$error":"#VALUE!"},{"$error":"#VALUE!"},"",null,10,{"$f":"VLOOKUP('Analysis 103L'!BE100, avoided_costs, ROUND($AS79, 0)+2, FALSE)","v":{"$error":"#N/A"}},{"$error":"#N/A"},{"$error":"#VALUE!"},{"$error":"#N/A"},{"$error":"#N/A"},{"$error":"#VALUE!"},{"$error":"#N/A"},{"$error":"#N/A"},{"$error":"#N/A"},null,null,null,null,null,null,null,null,null,null,null,null,null,null,null,{"$f":"'Analysis 103L'!CF100","v":""},"","","","","",""]
[74,{"$f":"'Analysis 103L'!C101","v":0},{"$f":"'Analysis 103L'!I101","v":""},{"$f":"'Analysis 103L'!J101","v":""},{"$f":"'Analysis 103L'!P101","v":0},{"$f":"'Analysis 103L'!N101","v":""},{"$f":"'Analysis 103L'!Q101","v":""},null,null,null,null,"","",{"$f":"IF(RIGHT(C80, 4)=\"Case\", \"\",IF(J80=\"\",\"\",IF(AH80=\"LLLC\", 0.6, VLOOKUP('100L Information'!$G$19,Load_Profiles, 4, FALSE))))","v":""},"","","",0,"",null,"",{"$f":"'Analysis 103L'!$Y$232*(S80/('Analysis 103L'!$Y$230+'Analysis 103L'!$Y$231))","v":{"$error":"#VALUE!"}},null,null,{"$f":"IF(Q80=\"\",\"\",Q80*'Analysis 103L'!$D$23)","v":""},null,null,null,null,{"$error":"#VALUE!"},{"$f":"IF(AND(U80=\"\",AK80=\"Custom\"),MIN(K80*Incent_Cost_Controls_Cust,Q80/J80*0.2),IF(AH80=\"LLLC\",MIN(AI80,((K80+'Analysis 103L'!R101)*Incent_Cost_LLLC)-'Analysis 103L'!X101),IF(AD80>=VLOOKUP(H80,Incent_Controls,3,FALSE),MIN(K80,VLOOKUP(H80,Incent_Controls,2,FALSE)),\"\")))","v":{"$error":"#VALUE!"}},"",null,"","",null,"","PASS/PASS","",{"$error":"#VALUE!"},{"$error":"#VALUE!"},{"$error":"#VALUE!"},"",null,10,{"$f":"VLOOKUP('Analysis 103L'!BE101, avoided_costs, ROUND($AS80, 0)+2, FALSE)","v":{"$error":"#N/A"}},{"$error":"#N/A"},{"$error":"#VALUE!"},{"$error":"#N/A"},{"$error":"#N/A"},{"$error":"#VALUE!"},{"$error":"#N/A"},{"$error":"#N/A"},{"$error":"#N/A"},null,null,null,null,null,null,null,null,null,null,null,null,null,null,null,{"$f":"'Analysis 103L'!CF101","v":""},"","","","","",""]
[75,{"$f":"'Analysis 103L'!C102","v":0},{"$f":"'Analysis 103L'!I102","v":""},{"$f":"'Analysis 103L'!J102","v":""},{"$f":"'Analysis 103L'!P102","v":0},{"$f":"'Analysis 103L'!N102","v":""},{"$f":"'Analysis 103L'!Q102","v":""},null,null,null,null,"","",{"$f":"IF(RIGHT(C81, 4)=\"Case\", \"\",IF(J81=\"\",\"\",IF(AH81=\"LLLC\", 0.6, VLOOKUP('100L Information'!$G$19,Load_Profiles, 4, FALSE))))","v":""},"","","",0,"",null,"",{"$f":"'Analysis 103L'!$Y$232*(S81/('Analysis 103L'!$Y$230+'Analysis 103L'!$Y$231))","v":{"$error":"#VALUE!"}},null,null,{"$f":"IF(Q81=\"\",\"\",Q81*'Analysis 103L'!$D$23)","v":""},null,null,null,null,{"$error":"#VALUE!"},{"$f":"IF(AND(U81=\"\",AK81=\"Custom\"),MIN(K81*Incent_Cost_Controls_Cust,Q81/J81*0.2),IF(AH81=\"LLLC\",MIN(AI81,((K81+'Analysis 103L'!R102)*Incent_Cost_LLLC)-'Analysis 103L'!X102),IF(AD81>=VLOOKUP(H81,Incent_Controls,3,FALSE),MIN(K81,VLOOKUP(H81,Incent_Controls,2,FALSE)),\"\")))","v":{"$error":"#VALUE!"}},"",null,"","",null,"","PASS/PASS","",{"$error":"#VALUE!"},{"$error":"#VALUE!"},{"$error":"#VALUE!"},"",null,10,{"$f":"VLOOKUP('Analysis 103L'!BE102, avoided_costs, ROUND($AS81, 0)+2, FALSE)","v":{"$error":"#N/A"}},{"$error":"#N/A"},{"$error":"#VALUE!"},{"$error":"#N/A"},{"$error":"#N/A"},{"$error":"#VALUE!"},{"$error":"#N/A"},{"$error":"#N/A"},{"$error":"#N/A"},null,null,null,null,null,null,null,null,null,null,null,null,null,null,null,{"$f":"'Analysis 103L'!CF102","v":""},"","","","","",""]
[76,{"$f":"'Analysis 103L'!C103","v":0},{"$f":"'Analysis 103L'!I103","v":""},{"$f":"'Analysis 103L'!J103","v":""},{"$f":"'Analysis 103L'!P103","v":0},{"$f":"'Analysis 103L'!N103","v":""},{"$f":"'Analysis 103L'!Q103","v":""},null,null,null,null,"","",{"$f":"IF(RIGHT(C82, 4)=\"Case\", \"\",IF(J82=\"\",\"\",IF(AH82=\"LLLC\", 0.6, VLOOKUP('100L Information'!$G$19,Load_Profiles, 4, FALSE))))","v":""},"","","",0,"",null,"",{"$f":"'Analysis 103L'!$Y$232*(S82/('Analysis 103L'!$Y$230+'Analysis 103L'!$Y$231))","v":{"$error":"#VALUE!"}},null,null,{"$f":"IF(Q82=\"\",\"\",Q82*'Analysis 103L'!$D$23)","v":""},null,null,null,null,{"$error":"#VALUE!"},{"$f":"IF(AND(U82=\"\",AK82=\"Custom\"),MIN(K82*Incent_Cost_Controls_Cust,Q82/J82*0.2),IF(AH82=\"LLLC\",MIN(AI82,((K82+'Analysis 103L'!R103)*Incent_Cost_LLLC)-'Analysis 103L'!X103),IF(AD82>=VLOOKUP(H82,Incent_Controls,3,FALSE),MIN(K82,VLOOKUP(H82,Incent_Controls,2,FALSE)),\"\")))","v":{"$error":"#VALUE!"}},"",null,"","",null,"","PASS/PASS","",{"$error":"#VALUE!"},{"$error":"#VALUE!"},{"$error":"#VALUE!"},"",null,10,{"$f":"VLOOKUP('Analysis 103L'!BE103, avoided_costs, ROUND($AS82, 0)+2, FALSE)","v":{"$error":"#N/A"}},{"$error":"#N/A"},{"$error":"#VALUE!"},{"$error":"#N/A"},{"$error":"#N/A"},{"$error":"#VALUE!"},{"$error":"#N/A"},{"$error":"#N/A"},{"$error":"#N/A"},null,null,null,null,null,null,null,null,null,null,null,null,null,null,null,{"$f":"'Analysis 103L'!CF103","v":""},"","","","","",""]
[77,{"$f":"'Analysis 103L'!C104","v":0},{"$f":"'Analysis 103L'!I104","v":""},{"$f":"'Analysis 103L'!J104","v":""},{"$f":"'Analysis 103L'!P104","v":0},{"$f":"'Analysis 103L'!N104","v":""},{"$f":"'Analysis 103L'!Q104","v":""},null,null,null,null,"","",{"$f":"IF(RIGHT(C83, 4)=\"Case\", \"\",IF(J83=\"\",\"\",IF(AH83=\"LLLC\", 0.6, VLOOKUP('100L Information'!$G$19,Load_Profiles, 4, FALSE))))","v":""},"","","",0,"",null,"",{"$f":"'Analysis 103L'!$Y$232*(S83/('Analysis 103L'!$Y$230+'Analysis 103L'!$Y$231))","v":{"$error":"#VALUE!"}},null,null,{"$f":"IF(Q83=\"\",\"\",Q83*'Analysis 103L'!$D$23)","v":""},null,null,null,null,{"$error":"#VALUE!"},{"$f":"IF(AND(U83=\"\",AK83=\"Custom\"),MIN(K83*Incent_Cost_Controls_Cust,Q83/J83*0.2),IF(AH83=\"LLLC\",MIN(AI83,((K83+'Analysis 103L'!R104)*Incent_Cost_LLLC)-'Analysis 103L'!X104),IF(AD83>=VLOOKUP(H83,Incent_Controls,3,FALSE),MIN(K83,VLOOKUP(H83,Incent_Controls,2,FALSE)),\"\")))","v":{"$error":"#VALUE!"}},"",null,"","",null,"","PASS/PASS","",{"$error":"#VALUE!"},{"$error":"#VALUE!"},{"$error":"#VALUE!"},"",null,10,{"$f":"VLOOKUP('Analysis 103L'!BE104, avoided_costs, ROUND($AS83, 0)+2, FALSE)","v":{"$error":"#N/A"}},{"$error":"#N/A"},{"$error":"#VALUE!"},{"$error":"#N/A"},{"$error":"#N/A"},{"$error":"#VALUE!"},{"$error":"#N/A"},{"$error":"#N/A"},{"$error":"#N/A"},null,null,null,null,null,null,null,null,null,null,null,null,null,null,null,{"$f":"'Analysis 103L'!CF104","v":""},"","","","","",""]
[78,{"$f":"'Analysis 103L'!C105","v":0},{"$f":"'Analysis 103L'!I105","v":""},{"$f":"'Analysis 103L'!J105","v":""},{"$f":"'Analysis 103L'!P105","v":0},{"$f":"'Analysis 103L'!N105","v":""},{"$f":"'Analysis 103L'!Q105","v":""},null,null,null,null,"","",{"$f":"IF(RIGHT(C84, 4)=\"Case\", \"\",IF(J84=\"\",\"\",IF(AH84=\"LLLC\", 0.6, VLOOKUP('100L Information'!$G$19,Load_Profiles, 4, FALSE))))","v":""},"","","",0,"",null,"",{"$f":"'Analysis 103L'!$Y$232*(S84/('Analysis 103L'!$Y$230+'Analysis 103L'!$Y$231))","v":{"$error":"#VALUE!"}},null,null,{"$f":"IF(Q84=\"\",\"\",Q84*'Analysis 103L'!$D$23)","v":""},null,null,null,null,{"$error":"#VALUE!"},{"$f":"IF(AND(U84=\"\",AK84=\"Custom\"),MIN(K84*Incent_Cost_Controls_Cust,Q84/J84*0.2),IF(AH84=\"LLLC\",MIN(AI84,((K84+'Analysis 103L'!R105)*Incent_Cost_LLLC)-'Analysis 103L'!X105),IF(AD84>=VLOOKUP(H84,Incent_Controls,3,FALSE),MIN(K84,VLOOKUP(H84,Incent_Controls,2,FALSE)),\"\")))","v":{"$error":"#VALUE!"}},"",null,"","",null,"","PASS/PASS","",{"$error":"#VALUE!"},{"$error":"#VALUE!"},{"$error":"#VALUE!"},"",null,10,{"$f":"VLOOKUP('Analysis 103L'!BE105, avoided_costs, ROUND($AS84, 0)+2, FALSE)","v":{"$error":"#N/A"}},{"$error":"#N/A"},{"$error":"#VALUE!"},{"$error":"#N/A"},{"$error":"#N/A"},{"$error":"#VALUE!"},{"$error":"#N/A"},{"$error":"#N/A"},{"$error":"#N/A"},null,null,null,null,null,null,null,null,null,null,null,null,null,null,null,{"$f":"'Analysis 103L'!CF105","v":""},"","","","","",""]
[79,{"$f":"'Analysis 103L'!C106","v":0},{"$f":"'Analysis 103L'!I106","v":""},{"$f":"'Analysis 103L'!J106","v":""},{"$f":"'Analysis 103L'!P106","v":0},{"$f":"'Analysis 103L'!N106","v":""},{"$f":"'Analysis 103L'!Q106","v":""},null,null,null,null,"","",{"$f":"IF(RIGHT(C85, 4)=\"Case\", \"\",IF(J85=\"\",\"\",IF(AH85=\"LLLC\", 0.6, VLOOKUP('100L Information'!$G$19,Load_Profiles, 4, FALSE))))","v":""},"","","",0,"",null,"",{"$f":"'Analysis 103L'!$Y$232*(S85/('Analysis 103L'!$Y$230+'Analysis 103L'!$Y$231))","v":{"$error":"#VALUE!"}},null,null,{"$f":"IF(Q85=\"\",\"\",Q85*'Analysis 103L'!$D$23)","v":""},null,null,null,null,{"$error":"#VALUE!"},{"$f":"IF(AND(U85=\"\",AK85=\"Custom\"),MIN(K85*Incent_Cost_Controls_Cust,Q85/J85*0.2),IF(AH85=\"LLLC\",MIN(AI85,((K85+'Analysis 103L'!R106)*Incent_Cost_LLLC)-'Analysis 103L'!X106),IF(AD85>=VLOOKUP(H85,Incent_Controls,3,FALSE),MIN(K85,VLOOKUP(H85,Incent_Controls,2,FALSE)),\"\")))","v":{"$error":"#VALUE!"}},"",null,"","",null,"","PASS/PASS","",{"$error":"#VALUE!"},{"$error":"#VALUE!"},{"$error":"#VALUE!"},"",null,10,{"$f":"VLOOKUP('Analysis 103L'!BE106, avoided_costs, ROUND($AS85, 0)+2, FALSE)","v":{"$error":"#N/A"}},{"$error":"#N/A"},{"$error":"#VALUE!"},{"$error":"#N/A"},{"$error":"#N/A"},{"$error":"#VALUE!"},{"$error":"#N/A"},{"$error":"#N/A"},{"$error":"#N/A"},null,null,null,null,null,null,null,null,null,null,null,null,null,null,null,{"$f":"'Analysis 103L'!CF106","v":""},"","","","","",""]
[80,{"$f":"'Analysis 103L'!C107","v":0},{"$f":"'Analysis 103L'!I107","v":""},{"$f":"'Analysis 103L'!J107","v":""},{"$f":"'Analysis 103L'!P107","v":0},{"$f":"'Analysis 103L'!N107","v":""},{"$f":"'Analysis 103L'!Q107","v":""},null,null,null,null,"","",{"$f":"IF(RIGHT(C86, 4)=\"Case\", \"\",IF(J86=\"\",\"\",IF(AH86=\"LLLC\", 0.6, VLOOKUP('100L Information'!$G$19,Load_Profiles, 4, FALSE))))","v":""},"","","",0,"",null,"",{"$f":"'Analysis 103L'!$Y$232*(S86/('Analysis 103L'!$Y$230+'Analysis 103L'!$Y$231))","v":{"$error":"#VALUE!"}},null,null,{"$f":"IF(Q86=\"\",\"\",Q86*'Analysis 103L'!$D$23)","v":""},null,null,null,null,{"$error":"#VALUE!"},{"$f":"IF(AND(U86=\"\",AK86=\"Custom\"),MIN(K86*Incent_Cost_Controls_Cust,Q86/J86*0.2),IF(AH86=\"LLLC\",MIN(AI86,((K86+'Analysis 103L'!R107)*Incent_Cost_LLLC)-'Analysis 103L'!X107),IF(AD86>=VLOOKUP(H86,Incent_Controls,3,FALSE),MIN(K86,VLOOKUP(H86,Incent_Controls,2,FALSE)),\"\")))","v":{"$error":"#VALUE!"}},"",null,"","",null,"","PASS/PASS","",{"$error":"#VALUE!"},{"$error":"#VALUE!"},{"$error":"#VALUE!"},"",null,10,{"$f":"VLOOKUP('Analysis 103L'!BE107, avoided_costs, ROUND($AS86, 0)+2, FALSE)","v":{"$error":"#N/A"}},{"$error":"#N/A"},{"$error":"#VALUE!"},{"$error":"#N/A"},{"$f":"IF(ROUND(AW86,1)>=1, \"PASS\", \"FAIL\")","v":{"$error":"#N/A"}},{"$error":"#VALUE!"},{"$error":"#N/A"},{"$f":"IF(OR(ROUND(AZ86,1)>=1,AZ86<0), \"PASS\", \"FAIL\")","v":{"$error":"#N/A"}},{"$error":"#N/A"},null,null,null,null,null,null,null,null,null,null,null,null,null,null,null,{"$f":"'Analysis 103L'!CF107","v":""},"","","","","",""]
[81,{"$f":"'Analysis 103L'!C108","v":0},{"$f":"'Analysis 103L'!I108","v":""},{"$f":"'Analysis 103L'!J108","v":""},{"$f":"'Analysis 103L'!P108","v":0},{"$f":"'Analysis 103L'!N108","v":""},{"$f":"'Analysis 103L'!Q108","v":""},null,null,null,null,"","",{"$f":"IF(RIGHT(C87, 4)=\"Case\", \"\",IF(J87=\"\",\"\",IF(AH87=\"LLLC\", 0.6, VLOOKUP('100L Information'!$G$19,Load_Profiles, 4, FALSE))))","v":""},{"$f":"IF(RIGHT(C87, 4)=\"Case\", \"\",IF(J87=\"\",\"\",(J87*M87*G87)/1000))","v":""},{"$f":"IF(RIGHT(C87, 4)=\"Case\", \"\",IF(J87=\"\",\"\",O87*(1-N87)))","v":""},{"$f":"IF(RIGHT(C87, 4)=\"Case\", BU87, IF(J87=\"\",\"\",O87-P87))","v":""},0,{"$f":"IF(RIGHT(C87,4)=\"Case\",BW87,IF(H87=\"\",\"\",J87*R87))","v":""},null,"",{"$f":"'Analysis 103L'!$Y$232*(S87/('Analysis 103L'!$Y$230+'Analysis 103L'!$Y$231))","v":{"$error":"#VALUE!"}},null,null,{"$f":"IF(Q87=\"\",\"\",Q87*'Analysis 103L'!$D$23)","v":""},null,null,null,null,{"$error":"#VALUE!"},{"$f":"IF(AND(U87=\"\",AK87=\"Custom\"),MIN(K87*Incent_Cost_Controls_Cust,Q87/J87*0.2),IF(AH87=\"LLLC\",MIN(AI87,((K87+'Analysis 103L'!R108)*Incent_Cost_LLLC)-'Analysis 103L'!X108),IF(AD87>=VLOOKUP(H87,Incent_Controls,3,FALSE),MIN(K87,VLOOKUP(H87,Incent_Controls,2,FALSE)),\"\")))","v":{"$error":"#VALUE!"}},"",null,"","",null,"","PASS/PASS","",{"$error":"#VALUE!"},{"$error":"#VALUE!"},{"$error":"#VALUE!"},"",null,10,{"$f":"VLOOKUP('Analysis 103L'!BE108, avoided_costs, ROUND($AS87, 0)+2, FALSE)","v":{"$error":"#N/A"}},{"$error":"#N/A"},{"$error":"#VALUE!"},{"$error":"#N/A"},{"$error":"#N/A"},{"$error":"#VALUE!"},{"$error":"#N/A"},{"$error":"#N/A"},{"$error":"#N/A"},null,null,null,null,null,null,null,null,null,null,null,null,null,null,null,{"$f":"'Analysis 103L'!CF108","v":""},"","","","","",""]
[82,{"$f":"'Analysis 103L'!C109","v":0},{"$f":"'Analysis 103L'!I109","v":""},{"$f":"'Analysis 103L'!J109","v":""},{"$f":"'Analysis 103L'!P109","v":0},{"$f":"'Analysis 103L'!N109","v":""},{"$f":"'Analysis 103L'!Q109","v":""},null,null,null,null,"","",{"$f":"IF(RIGHT(C88, 4)=\"Case\", \"\",IF(J88=\"\",\"\",IF(AH88=\"LLLC\", 0.6, VLOOKUP('100L Information'!$G$19,Load_Profiles, 4, FALSE))))","v":""},"","","",0,"",null,"",{"$f":"'Analysis 103L'!$Y$232*(S88/('Analysis 103L'!$Y$230+'Analysis 103L'!$Y$231))","v":{"$error":"#VALUE!"}},null,null,{"$f":"IF(Q88=\"\",\"\",Q88*'Analysis 103L'!$D$23)","v":""},null,null,null,null,{"$error":"#VALUE!"},{"$f":"IF(AND(U88=\"\",AK88=\"Custom\"),MIN(K88*Incent_Cost_Controls_Cust,Q88/J88*0.2),IF(AH88=\"LLLC\",MIN(AI88,((K88+'Analysis 103L'!R109)*Incent_Cost_LLLC)-'Analysis 103L'!X109),IF(AD88>=VLOOKUP(H88,Incent_Controls,3,FALSE),MIN(K88,VLOOKUP(H88,Incent_Controls,2,FALSE)),\"\")))","v":{"$error":"#VALUE!"}},"",null,"","",null,"","PASS/PASS","",{"$error":"#VALUE!"},{"$error":"#VALUE!"},{"$error":"#VALUE!"},"",null,10,{"$f":"VLOOKUP('Analysis 103L'!BE109, avoided_costs, ROUND($AS88, 0)+2, FALSE)","v":{"$error":"#N/A"}},{"$error":"#N/A"},{"$error":"#VALUE!"},{"$error":"#N/A"},{"$error":"#N/A"},{"$error":"#VALUE!"},{"$error":"#N/A"},{"$error":"#N/A"},{"$error":"#N/A"},null,null,null,null,null,null,null,null,null,null,null,null,null,null,null,{"$f":"'Analysis 103L'!CF109","v":""},{"$f":"IF(H88=$AB$18, IF(BR88=\"DR\", $AB$20, IF(BR88=\"SR\", $AB$19, \"\")), \"\")","v":""},{"$f":"IF(BS88=\"\", \"\", $E88)","v":""},"","","",{"$f":"IF(BU88=\"\", \"\", INDEX($AC$19:$AC$20, MATCH($BS88, $AB$19:$AB$20, 0))*$BT88)","v":""}]
[83,{"$f":"'Analysis 103L'!C110","v":0},{"$f":"'Analysis 103L'!I110","v":""},{"$f":"'Analysis 103L'!J110","v":""},{"$f":"'Analysis 103L'!P110","v":0},{"$f":"'Analysis 103L'!N110","v":""},{"$f":"'Analysis 103L'!Q110","v":""},null,null,null,null,"","",{"$f":"IF(RIGHT(C89, 4)=\"Case\", \"\",IF(J89=\"\",\"\",IF(AH89=\"LLLC\", 0.6, VLOOKUP('100L Information'!$G$19,Load_Profiles, 4, FALSE))))","v":""},"","","",0,"",null,"",{"$f":"'Analysis 103L'!$Y$232*(S89/('Analysis 103L'!$Y$230+'Analysis 103L'!$Y$231))","v":{"$error":"#VALUE!"}},null,null,{"$f":"IF(Q89=\"\",\"\",Q89*'Analysis 103L'!$D$23)","v":""},null,null,null,null,{"$error":"#VALUE!"},{"$f":"IF(AND(U89=\"\",AK89=\"Custom\"),MIN(K89*Incent_Cost_Controls_Cust,Q89/J89*0.2),IF(AH89=\"LLLC\",MIN(AI89,((K89+'Analysis 103L'!R110)*Incent_Cost_LLLC)-'Analysis 103L'!X110),IF(AD89>=VLOOKUP(H89,Incent_Controls,3,FALSE),MIN(K89,VLOOKUP(H89,Incent_Controls,2,FALSE)),\"\")))","v":{"$error":"#VALUE!"}},"",null,"","",null,"","PASS/PASS","",{"$error":"#VALUE!"},{"$error":"#VALUE!"},{"$error":"#VALUE!"},"",null,10,{"$f":"VLOOKUP('Analysis 103L'!BE110, avoided_costs, ROUND($AS89, 0)+2, FALSE)","v":{"$error":"#N/A"}},{"$error":"#N/A"},{"$error":"#VALUE!"},{"$error":"#N/A"},{"$error":"#N/A"},{"$error":"#VALUE!"},{"$error":"#N/A"},{"$error":"#N/A"},{"$error":"#N/A"},null,null,null,null,null,null,null,null,null,null,null,null,null,null,null,{"$f":"'Analysis 103L'!CF110","v":""},"","","","","",""]
[84,{"$f":"'Analysis 103L'!C111","v":0},{"$f":"'Analysis 103L'!I111","v":""},{"$f":"'Analysis 103L'!J111","v":""},{"$f":"'Analysis 103L'!P111","v":0},{"$f":"'Analysis 103L'!N111","v":""},{"$f":"'Analysis 103L'!Q111","v":""},null,null,null,null,"","",{"$f":"IF(RIGHT(C90, 4)=\"Case\", \"\",IF(J90=\"\",\"\",IF(AH90=\"LLLC\", 0.6, VLOOKUP('100L Information'!$G$19,Load_Profiles, 4, FALSE))))","v":""},"","","",0,"",null,"",{"$f":"'Analysis 103L'!$Y$232*(S90/('Analysis 103L'!$Y$230+'Analysis 103L'!$Y$231))","v":{"$error":"#VALUE!"}},null,null,{"$f":"IF(Q90=\"\",\"\",Q90*'Analysis 103L'!$D$23)","v":""},null,null,null,null,{"$error":"#VALUE!"},{"$f":"IF(AND(U90=\"\",AK90=\"Custom\"),MIN(K90*Incent_Cost_Controls_Cust,Q90/J90*0.2),IF(AH90=\"LLLC\",MIN(AI90,((K90+'Analysis 103L'!R111)*Incent_Cost_LLLC)-'Analysis 103L'!X111),IF(AD90>=VLOOKUP(H90,Incent_Controls,3,FALSE),MIN(K90,VLOOKUP(H90,Incent_Controls,2,FALSE)),\"\")))","v":{"$error":"#VALUE!"}},"",null,"","",null,"","PASS/PASS","",{"$error":"#VALUE!"},{"$error":"#VALUE!"},{"$error":"#VALUE!"},"",null,10,{"$f":"VLOOKUP('Analysis 103L'!BE111, avoided_costs, ROUND($AS90, 0)+2, FALSE)","v":{"$error":"#N/A"}},{"$error":"#N/A"},{"$error":"#VALUE!"},{"$error":"#N/A"},{"$error":"#N/A"},{"$error":"#VALUE!"},{"$error":"#N/A"},{"$error":"#N/A"},{"$error":"#N/A"},null,null,null,null,null,null,null,null,null,null,null,null,null,null,null,{"$f":"'Analysis 103L'!CF111","v":""},"","","","","",""]
[85,{"$f":"'Analysis 103L'!C112","v":0},{"$f":"'Analysis 103L'!I112","v":""},{"$f":"'Analysis 103L'!J112","v":""},{"$f":"'Analysis 103L'!P112","v":0},{"$f":"'Analysis 103L'!N112","v":""},{"$f":"'Analysis 103L'!Q112","v":""},null,null,null,null,"","",{"$f":"IF(RIGHT(C91, 4)=\"Case\", \"\",IF(J91=\"\",\"\",IF(AH91=\"LLLC\", 0.6, VLOOKUP('100L Information'!$G$19,Load_Profiles, 4, FALSE))))","v":""},"","","",0,"",null,"",{"$f":"'Analysis 103L'!$Y$232*(S91/('Analysis 103L'!$Y$230+'Analysis 103L'!$Y$231))","v":{"$error":"#VALUE!"}},null,null,{"$f":"IF(Q91=\"\",\"\",Q91*'Analysis 103L'!$D$23)","v":""},null,null,null,null,{"$error":"#VALUE!"},{"$f":"IF(AND(U91=\"\",AK91=\"Custom\"),MIN(K91*Incent_Cost_Controls_Cust,Q91/J91*0.2),IF(AH91=\"LLLC\",MIN(AI91,((K91+'Analysis 103L'!R112)*Incent_Cost_LLLC)-'Analysis 103L'!X112),IF(AD91>=VLOOKUP(H91,Incent_Controls,3,FALSE),MIN(K91,VLOOKUP(H91,Incent_Controls,2,FALSE)),\"\")))","v":{"$error":"#VALUE!"}},"",null,"","",null,"","PASS/PASS","",{"$error":"#VALUE!"},{"$error":"#VALUE!"},{"$error":"#VALUE!"},"",null,10,{"$f":"VLOOKUP('Analysis 103L'!BE112, avoided_costs, ROUND($AS91, 0)+2, FALSE)","v":{"$error":"#N/A"}},{"$error":"#N/A"},{"$error":"#VALUE!"},{"$error":"#N/A"},{"$error":"#N/A"},{"$error":"#VALUE!"},{"$error":"#N/A"},{"$error":"#N/A"},{"$error":"#N/A"},null,null,null,null,null,null,null,null,null,null,null,null,null,null,null,{"$f":"'Analysis 103L'!CF112","v":""},"","","","","",""]
[86,{"$f":"'Analysis 103L'!C113","v":0},{"$f":"'Analysis 103L'!I113","v":""},{"$f":"'Analysis 103L'!J113","v":""},{"$f":"'Analysis 103L'!P113","v":0},{"$f":"'Analysis 103L'!N113","v":""},{"$f":"'Analysis 103L'!Q113","v":""},null,null,null,null,"","",{"$f":"IF(RIGHT(C92, 4)=\"Case\", \"\",IF(J92=\"\",\"\",IF(AH92=\"LLLC\", 0.6, VLOOKUP('100L Information'!$G$19,Load_Profiles, 4, FALSE))))","v":""},"","","",0,"",null,"",{"$f":"'Analysis 103L'!$Y$232*(S92/('Analysis 103L'!$Y$230+'Analysis 103L'!$Y$231))","v":{"$error":"#VALUE!"}},null,null,{"$f":"IF(Q92=\"\",\"\",Q92*'Analysis 103L'!$D$23)","v":""},null,null,null,null,{"$error":"#VALUE!"},{"$f":"IF(AND(U92=\"\",AK92=\"Custom\"),MIN(K92*Incent_Cost_Controls_Cust,Q92/J92*0.2),IF(AH92=\"LLLC\",MIN(AI92,((K92+'Analysis 103L'!R113)*Incent_Cost_LLLC)-'Analysis 103L'!X113),IF(AD92>=VLOOKUP(H92,Incent_Controls,3,FALSE),MIN(K92,VLOOKUP(H92,Incent_Controls,2,FALSE)),\"\")))","v":{"$error":"#VALUE!"}},"",null,"","",null,"","PASS/PASS","",{"$error":"#VALUE!"},{"$error":"#VALUE!"},{"$error":"#VALUE!"},"",null,10,{"$f":"VLOOKUP('Analysis 103L'!BE113, avoided_costs, ROUND($AS92, 0)+2, FALSE)","v":{"$error":"#N/A"}},{"$error":"#N/A"},{"$error":"#VALUE!"},{"$error":"#N/A"},{"$error":"#N/A"},{"$error":"#VALUE!"},{"$error":"#N/A"},{"$error":"#N/A"},{"$error":"#N/A"},null,null,null,null,null,null,null,null,null,null,null,null,null,null,null,{"$f":"'Analysis 103L'!CF113","v":""},"","","","","",""]
[87,{"$f":"'Analysis 103L'!C114","v":0},{"$f":"'Analysis 103L'!I114","v":""},{"$f":"'Analysis 103L'!J114","v":""},{"$f":"'Analysis 103L'!P114","v":0},{"$f":"'Analysis 103L'!N114","v":""},{"$f":"'Analysis 103L'!Q114","v":""},null,null,null,null,"","",{"$f":"IF(RIGHT(C93, 4)=\"Case\", \"\",IF(J93=\"\",\"\",IF(AH93=\"LLLC\", 0.6, VLOOKUP('100L Information'!$G$19,Load_Profiles, 4, FALSE))))","v":""},"","","",0,"",null,"",{"$f":"'Analysis 103L'!$Y$232*(S93/('Analysis 103L'!$Y$230+'Analysis 103L'!$Y$231))","v":{"$error":"#VALUE!"}},null,null,{"$f":"IF(Q93=\"\",\"\",Q93*'Analysis 103L'!$D$23)","v":""},null,null,null,null,{"$error":"#VALUE!"},{"$f":"IF(AND(U93=\"\",AK93=\"Custom\"),MIN(K93*Incent_Cost_Controls_Cust,Q93/J93*0.2),IF(AH93=\"LLLC\",MIN(AI93,((K93+'Analysis 103L'!R114)*Incent_Cost_LLLC)-'Analysis 103L'!X114),IF(AD93>=VLOOKUP(H93,Incent_Controls,3,FALSE),MIN(K93,VLOOKUP(H93,Incent_Controls,2,FALSE)),\"\")))","v":{"$error":"#VALUE!"}},"",null,"","",null,"","PASS/PASS","",{"$error":"#VALUE!"},{"$error":"#VALUE!"},{"$error":"#VALUE!"},"",null,10,{"$f":"VLOOKUP('Analysis 103L'!BE114, avoided_costs, ROUND($AS93, 0)+2, FALSE)","v":{"$error":"#N/A"}},{"$error":"#N/A"},{"$error":"#VALUE!"},{"$error":"#N/A"},{"$error":"#N/A"},{"$error":"#VALUE!"},{"$error":"#N/A"},{"$error":"#N/A"},{"$error":"#N/A"},null,null,null,null,null,null,null,null,null,null,null,null,null,null,null,{"$f":"'Analysis 103L'!CF114","v":""},"","","","","",""]
[88,{"$f":"'Analysis 103L'!C115","v":0},{"$f":"'Analysis 103L'!I115","v":""},{"$f":"'Analysis 103L'!J115","v":""},{"$f":"'Analysis 103L'!P115","v":0},{"$f":"'Analysis 103L'!N115","v":""},{"$f":"'Analysis 103L'!Q115","v":""},null,null,null,null,"","",{"$f":"IF(RIGHT(C94, 4)=\"Case\", \"\",IF(J94=\"\",\"\",IF(AH94=\"LLLC\", 0.6, VLOOKUP('100L Information'!$G$19,Load_Profiles, 4, FALSE))))","v":""},"","","",0,"",null,"",{"$f":"'Analysis 103L'!$Y$232*(S94/('Analysis 103L'!$Y$230+'Analysis 103L'!$Y$231))","v":{"$error":"#VALUE!"}},null,null,{"$f":"IF(Q94=\"\",\"\",Q94*'Analysis 103L'!$D$23)","v":""},null,null,null,null,{"$error":"#VALUE!"},{"$f":"IF(AND(U94=\"\",AK94=\"Custom\"),MIN(K94*Incent_Cost_Controls_Cust,Q94/J94*0.2),IF(AH94=\"LLLC\",MIN(AI94,((K94+'Analysis 103L'!R115)*Incent_Cost_LLLC)-'Analysis 103L'!X115),IF(AD94>=VLOOKUP(H94,Incent_Controls,3,FALSE),MIN(K94,VLOOKUP(H94,Incent_Controls,2,FALSE)),\"\")))","v":{"$error":"#VALUE!"}},"",null,"","",null,"","PASS/PASS","",{"$error":"#VALUE!"},{"$error":"#VALUE!"},{"$error":"#VALUE!"},"",null,10,{"$f":"VLOOKUP('Analysis 103L'!BE115, avoided_costs, ROUND($AS94, 0)+2, FALSE)","v":{"$error":"#N/A"}},{"$error":"#N/A"},{"$error":"#VALUE!"},{"$error":"#N/A"},{"$error":"#N/A"},{"$error":"#VALUE!"},{"$error":"#N/A"},{"$error":"#N/A"},{"$error":"#N/A"},null,null,null,null,null,null,null,null,null,null,null,null,null,null,null,{"$f":"'Analysis 103L'!CF115","v":""},"","","","","",""]
[89,{"$f":"'Analysis 103L'!C116","v":0},{"$f":"'Analysis 103L'!I116","v":""},{"$f":"'Analysis 103L'!J116","v":""},{"$f":"'Analysis 103L'!P116","v":0},{"$f":"'Analysis 103L'!N116","v":""},{"$f":"'Analysis 103L'!Q116","v":""},null,null,null,null,"","",{"$f":"IF(RIGHT(C95, 4)=\"Case\", \"\",IF(J95=\"\",\"\",IF(AH95=\"LLLC\", 0.6, VLOOKUP('100L Information'!$G$19,Load_Profiles, 4, FALSE))))","v":""},"","","",0,"",null,"",{"$f":"'Analysis 103L'!$Y$232*(S95/('Analysis 103L'!$Y$230+'Analysis 103L'!$Y$231))","v":{"$error":"#VALUE!"}},null,null,{"$f":"IF(Q95=\"\",\"\",Q95*'Analysis 103L'!$D$23)","v":""},null,null,null,null,{"$error":"#VALUE!"},{"$f":"IF(AND(U95=\"\",AK95=\"Custom\"),MIN(K95*Incent_Cost_Controls_Cust,Q95/J95*0.2),IF(AH95=\"LLLC\",MIN(AI95,((K95+'Analysis 103L'!R116)*Incent_Cost_LLLC)-'Analysis 103L'!X116),IF(AD95>=VLOOKUP(H95,Incent_Controls,3,FALSE),MIN(K95,VLOOKUP(H95,Incent_Controls,2,FALSE)),\"\")))","v":{"$error":"#VALUE!"}},"",null,"","",null,"","PASS/PASS","",{"$error":"#VALUE!"},{"$error":"#VALUE!"},{"$error":"#VALUE!"},"",null,10,{"$f":"VLOOKUP('Analysis 103L'!BE116, avoided_costs, ROUND($AS95, 0)+2, FALSE)","v":{"$error":"#N/A"}},{"$error":"#N/A"},{"$error":"#VALUE!"},{"$error":"#N/A"},{"$error":"#N/A"},{"$error":"#VALUE!"},{"$error":"#N/A"},{"$error":"#N/A"},{"$error":"#N/A"},null,null,null,null,null,null,null,null,null,null,null,null,null,null,null,{"$f":"'Analysis 103L'!CF116","v":""},"","","","","",""]
[90,{"$f":"'Analysis 103L'!C117","v":0},{"$f":"'Analysis 103L'!I117","v":""},{"$f":"'Analysis 103L'!J117","v":""},{"$f":"'Analysis 103L'!P117","v":0},{"$f":"'Analysis 103L'!N117","v":""},{"$f":"'Analysis 103L'!Q117","v":""},null,null,null,null,"","",{"$f":"IF(RIGHT(C96, 4)=\"Case\", \"\",IF(J96=\"\",\"\",IF(AH96=\"LLLC\", 0.6, VLOOKUP('100L Information'!$G$19,Load_Profiles, 4, FALSE))))","v":""},"","","",0,"",null,"",{"$f":"'Analysis 103L'!$Y$232*(S96/('Analysis 103L'!$Y$230+'Analysis 103L'!$Y$231))","v":{"$error":"#VALUE!"}},null,null,{"$f":"IF(Q96=\"\",\"\",Q96*'Analysis 103L'!$D$23)","v":""},null,null,null,null,{"$error":"#VALUE!"},{"$f":"IF(AND(U96=\"\",AK96=\"Custom\"),MIN(K96*Incent_Cost_Controls_Cust,Q96/J96*0.2),IF(AH96=\"LLLC\",MIN(AI96,((K96+'Analysis 103L'!R117)*Incent_Cost_LLLC)-'Analysis 103L'!X117),IF(AD96>=VLOOKUP(H96,Incent_Controls,3,FALSE),MIN(K96,VLOOKUP(H96,Incent_Controls,2,FALSE)),\"\")))","v":{"$error":"#VALUE!"}},"",null,"","",null,"","PASS/PASS","",{"$error":"#VALUE!"},{"$error":"#VALUE!"},{"$error":"#VALUE!"},"",null,10,{"$f":"VLOOKUP('Analysis 103L'!BE117, avoided_costs, ROUND($AS96, 0)+2, FALSE)","v":{"$error":"#N/A"}},{"$error":"#N/A"},{"$error":"#VALUE!"},{"$error":"#N/A"},{"$error":"#N/A"},{"$error":"#VALUE!"},{"$error":"#N/A"},{"$error":"#N/A"},{"$error":"#N/A"},null,null,null,null,null,null,null,null,null,null,null,null,null,null,null,{"$f":"'Analysis 103L'!CF117","v":""},"","","","","",""]
[91,{"$f":"'Analysis 103L'!C118","v":0},{"$f":"'Analysis 103L'!I118","v":""},{"$f":"'Analysis 103L'!J118","v":""},{"$f":"'Analysis 103L'!P118","v":0},{"$f":"'Analysis 103L'!N118","v":""},{"$f":"'Analysis 103L'!Q118","v":""},null,null,null,null,"","",{"$f":"IF(RIGHT(C97, 4)=\"Case\", \"\",IF(J97=\"\",\"\",IF(AH97=\"LLLC\", 0.6, VLOOKUP('100L Information'!$G$19,Load_Profiles, 4, FALSE))))","v":""},"","","",0,"",null,"",{"$f":"'Analysis 103L'!$Y$232*(S97/('Analysis 103L'!$Y$230+'Analysis 103L'!$Y$231))","v":{"$error":"#VALUE!"}},null,null,{"$f":"IF(Q97=\"\",\"\",Q97*'Analysis 103L'!$D$23)","v":""},null,null,null,null,{"$error":"#VALUE!"},{"$f":"IF(AND(U97=\"\",AK97=\"Custom\"),MIN(K97*Incent_Cost_Controls_Cust,Q97/J97*0.2),IF(AH97=\"LLLC\",MIN(AI97,((K97+'Analysis 103L'!R118)*Incent_Cost_LLLC)-'Analysis 103L'!X118),IF(AD97>=VLOOKUP(H97,Incent_Controls,3,FALSE),MIN(K97,VLOOKUP(H97,Incent_Controls,2,FALSE)),\"\")))","v":{"$error":"#VALUE!"}},"",null,"","",null,"","PASS/PASS","",{"$error":"#VALUE!"},{"$error":"#VALUE!"},{"$error":"#VALUE!"},"",null,10,{"$f":"VLOOKUP('Analysis 103L'!BE118, avoided_costs, ROUND($AS97, 0)+2, FALSE)","v":{"$error":"#N/A"}},{"$error":"#N/A"},{"$error":"#VALUE!"},{"$error":"#N/A"},{"$error":"#N/A"},{"$error":"#VALUE!"},{"$error":"#N/A"},{"$error":"#N/A"},{"$error":"#N/A"},null,null,null,null,null,null,null,null,null,null,null,null,null,null,null,{"$f":"'Analysis 103L'!CF118","v":""},"","","","","",""]
[92,{"$f":"'Analysis 103L'!C119","v":0},{"$f":"'Analysis 103L'!I119","v":""},{"$f":"'Analysis 103L'!J119","v":""},{"$f":"'Analysis 103L'!P119","v":0},{"$f":"'Analysis 103L'!N119","v":""},{"$f":"'Analysis 103L'!Q119","v":""},null,null,null,null,"","",{"$f":"IF(RIGHT(C98, 4)=\"Case\", \"\",IF(J98=\"\",\"\",IF(AH98=\"LLLC\", 0.6, VLOOKUP('100L Information'!$G$19,Load_Profiles, 4, FALSE))))","v":""},"","","",0,"",null,"",{"$f":"'Analysis 103L'!$Y$232*(S98/('Analysis 103L'!$Y$230+'Analysis 103L'!$Y$231))","v":{"$error":"#VALUE!"}},null,null,{"$f":"IF(Q98=\"\",\"\",Q98*'Analysis 103L'!$D$23)","v":""},null,null,null,null,{"$error":"#VALUE!"},{"$f":"IF(AND(U98=\"\",AK98=\"Custom\"),MIN(K98*Incent_Cost_Controls_Cust,Q98/J98*0.2),IF(AH98=\"LLLC\",MIN(AI98,((K98+'Analysis 103L'!R119)*Incent_Cost_LLLC)-'Analysis 103L'!X119),IF(AD98>=VLOOKUP(H98,Incent_Controls,3,FALSE),MIN(K98,VLOOKUP(H98,Incent_Controls,2,FALSE)),\"\")))","v":{"$error":"#VALUE!"}},"",null,"","",null,"","PASS/PASS","",{"$error":"#VALUE!"},{"$error":"#VALUE!"},{"$error":"#VALUE!"},"",null,10,{"$f":"VLOOKUP('Analysis 103L'!BE119, avoided_costs, ROUND($AS98, 0)+2, FALSE)","v":{"$error":"#N/A"}},{"$error":"#N/A"},{"$error":"#VALUE!"},{"$error":"#N/A"},{"$error":"#N/A"},{"$error":"#VALUE!"},{"$error":"#N/A"},{"$error":"#N/A"},{"$error":"#N/A"},null,null,null,null,null,null,null,null,null,null,null,null,null,null,null,{"$f":"'Analysis 103L'!CF119","v":""},"","","","","",""]
[93,{"$f":"'Analysis 103L'!C120","v":0},{"$f":"'Analysis 103L'!I120","v":""},{"$f":"'Analysis 103L'!J120","v":""},{"$f":"'Analysis 103L'!P120","v":0},{"$f":"'Analysis 103L'!N120","v":""},{"$f":"'Analysis 103L'!Q120","v":""},null,null,null,null,"","",{"$f":"IF(RIGHT(C99, 4)=\"Case\", \"\",IF(J99=\"\",\"\",IF(AH99=\"LLLC\", 0.6, VLOOKUP('100L Information'!$G$19,Load_Profiles, 4, FALSE))))","v":""},"","","",0,"",null,"",{"$f":"'Analysis 103L'!$Y$232*(S99/('Analysis 103L'!$Y$230+'Analysis 103L'!$Y$231))","v":{"$error":"#VALUE!"}},null,null,{"$f":"IF(Q99=\"\",\"\",Q99*'Analysis 103L'!$D$23)","v":""},null,null,null,null,{"$error":"#VALUE!"},{"$f":"IF(AND(U99=\"\",AK99=\"Custom\"),MIN(K99*Incent_Cost_Controls_Cust,Q99/J99*0.2),IF(AH99=\"LLLC\",MIN(AI99,((K99+'Analysis 103L'!R120)*Incent_Cost_LLLC)-'Analysis 103L'!X120),IF(AD99>=VLOOKUP(H99,Incent_Controls,3,FALSE),MIN(K99,VLOOKUP(H99,Incent_Controls,2,FALSE)),\"\")))","v":{"$error":"#VALUE!"}},"",null,{"$f":"IF(RIGHT(H99,4)=\"LLLC\", \"LLLC\",\"\")","v":""},{"$f":"IF(AH99=\"LLLC\",VLOOKUP(D99,Incent_LLLC,2,FALSE),\"\")","v":""},null,"","PASS/PASS","",{"$error":"#VALUE!"},{"$error":"#VALUE!"},{"$error":"#VALUE!"},"",null,10,{"$f":"VLOOKUP('Analysis 103L'!BE120, avoided_costs, ROUND($AS99, 0)+2, FALSE)","v":{"$error":"#N/A"}},{"$error":"#N/A"},{"$error":"#VALUE!"},{"$error":"#N/A"},{"$error":"#N/A"},{"$error":"#VALUE!"},{"$error":"#N/A"},{"$error":"#N/A"},{"$error":"#N/A"},null,null,null,null,null,null,null,null,null,null,null,null,null,null,null,{"$f":"'Analysis 103L'!CF120","v":""},"","","","","",""]
[94,{"$f":"'Analysis 103L'!C121","v":0},{"$f":"'Analysis 103L'!I121","v":""},{"$f":"'Analysis 103L'!J121","v":""},{"$f":"'Analysis 103L'!P121","v":0},{"$f":"'Analysis 103L'!N121","v":""},{"$f":"'Analysis 103L'!Q121","v":""},null,null,null,null,"","",{"$f":"IF(RIGHT(C100, 4)=\"Case\", \"\",IF(J100=\"\",\"\",IF(AH100=\"LLLC\", 0.6, VLOOKUP('100L Information'!$G$19,Load_Profiles, 4, FALSE))))","v":""},"","","",0,"",null,"",{"$f":"'Analysis 103L'!$Y$232*(S100/('Analysis 103L'!$Y$230+'Analysis 103L'!$Y$231))","v":{"$error":"#VALUE!"}},null,null,{"$f":"IF(Q100=\"\",\"\",Q100*'Analysis 103L'!$D$23)","v":""},null,null,null,null,{"$error":"#VALUE!"},{"$f":"IF(AND(U100=\"\",AK100=\"Custom\"),MIN(K100*Incent_Cost_Controls_Cust,Q100/J100*0.2),IF(AH100=\"LLLC\",MIN(AI100,((K100+'Analysis 103L'!R121)*Incent_Cost_LLLC)-'Analysis 103L'!X121),IF(AD100>=VLOOKUP(H100,Incent_Controls,3,FALSE),MIN(K100,VLOOKUP(H100,Incent_Controls,2,FALSE)),\"\")))","v":{"$error":"#VALUE!"}},"",null,"","",null,"","PASS/PASS","",{"$error":"#VALUE!"},{"$error":"#VALUE!"},{"$error":"#VALUE!"},"",null,10,{"$f":"VLOOKUP('Analysis 103L'!BE121, avoided_costs, ROUND($AS100, 0)+2, FALSE)","v":{"$error":"#N/A"}},{"$error":"#N/A"},{"$error":"#VALUE!"},{"$error":"#N/A"},{"$error":"#N/A"},{"$error":"#VALUE!"},{"$error":"#N/A"},{"$error":"#N/A"},{"$error":"#N/A"},null,null,null,null,null,null,null,null,null,null,null,null,null,null,null,{"$f":"'Analysis 103L'!CF121","v":""},"","","","","",""]
[95,{"$f":"'Analysis 103L'!C122","v":0},{"$f":"'Analysis 103L'!I122","v":""},{"$f":"'Analysis 103L'!J122","v":""},{"$f":"'Analysis 103L'!P122","v":0},{"$f":"'Analysis 103L'!N122","v":""},{"$f":"'Analysis 103L'!Q122","v":""},null,null,null,null,"","",{"$f":"IF(RIGHT(C101, 4)=\"Case\", \"\",IF(J101=\"\",\"\",IF(AH101=\"LLLC\", 0.6, VLOOKUP('100L Information'!$G$19,Load_Profiles, 4, FALSE))))","v":""},"","","",0,"",null,"",{"$f":"'Analysis 103L'!$Y$232*(S101/('Analysis 103L'!$Y$230+'Analysis 103L'!$Y$231))","v":{"$error":"#VALUE!"}},null,null,{"$f":"IF(Q101=\"\",\"\",Q101*'Analysis 103L'!$D$23)","v":""},null,null,null,null,{"$error":"#VALUE!"},{"$f":"IF(AND(U101=\"\",AK101=\"Custom\"),MIN(K101*Incent_Cost_Controls_Cust,Q101/J101*0.2),IF(AH101=\"LLLC\",MIN(AI101,((K101+'Analysis 103L'!R122)*Incent_Cost_LLLC)-'Analysis 103L'!X122),IF(AD101>=VLOOKUP(H101,Incent_Controls,3,FALSE),MIN(K101,VLOOKUP(H101,Incent_Controls,2,FALSE)),\"\")))","v":{"$error":"#VALUE!"}},"",null,"","",null,"","PASS/PASS","",{"$error":"#VALUE!"},{"$error":"#VALUE!"},{"$error":"#VALUE!"},"",null,10,{"$f":"VLOOKUP('Analysis 103L'!BE122, avoided_costs, ROUND($AS101, 0)+2, FALSE)","v":{"$error":"#N/A"}},{"$error":"#N/A"},{"$error":"#VALUE!"},{"$error":"#N/A"},{"$error":"#N/A"},{"$error":"#VALUE!"},{"$error":"#N/A"},{"$error":"#N/A"},{"$error":"#N/A"},null,null,null,null,null,null,null,null,null,null,null,null,null,null,null,{"$f":"'Analysis 103L'!CF122","v":""},"","","","","",""]
[96,{"$f":"'Analysis 103L'!C123","v":0},{"$f":"'Analysis 103L'!I123","v":""},{"$f":"'Analysis 103L'!J123","v":""},{"$f":"'Analysis 103L'!P123","v":0},{"$f":"'Analysis 103L'!N123","v":""},{"$f":"'Analysis 103L'!Q123","v":""},null,null,null,null,"","",{"$f":"IF(RIGHT(C102, 4)=\"Case\", \"\",IF(J102=\"\",\"\",IF(AH102=\"LLLC\", 0.6, VLOOKUP('100L Information'!$G$19,Load_Profiles, 4, FALSE))))","v":""},"","","",0,"",null,"",{"$f":"'Analysis 103L'!$Y$232*(S102/('Analysis 103L'!$Y$230+'Analysis 103L'!$Y$231))","v":{"$error":"#VALUE!"}},null,null,{"$f":"IF(Q102=\"\",\"\",Q102*'Analysis 103L'!$D$23)","v":""},null,null,null,null,{"$error":"#VALUE!"},{"$f":"IF(AND(U102=\"\",AK102=\"Custom\"),MIN(K102*Incent_Cost_Controls_Cust,Q102/J102*0.2),IF(AH102=\"LLLC\",MIN(AI102,((K102+'Analysis 103L'!R123)*Incent_Cost_LLLC)-'Analysis 103L'!X123),IF(AD102>=VLOOKUP(H102,Incent_Controls,3,FALSE),MIN(K102,VLOOKUP(H102,Incent_Controls,2,FALSE)),\"\")))","v":{"$error":"#VALUE!"}},"",null,"","",null,"","PASS/PASS","",{"$error":"#VALUE!"},{"$error":"#VALUE!"},{"$error":"#VALUE!"},"",null,10,{"$f":"VLOOKUP('Analysis 103L'!BE123, avoided_costs, ROUND($AS102, 0)+2, FALSE)","v":{"$error":"#N/A"}},{"$error":"#N/A"},{"$error":"#VALUE!"},{"$error":"#N/A"},{"$error":"#N/A"},{"$error":"#VALUE!"},{"$error":"#N/A"},{"$error":"#N/A"},{"$error":"#N/A"},null,null,null,null,null,null,null,null,null,null,null,null,null,null,null,{"$f":"'Analysis 103L'!CF123","v":""},"","","","","",""]
[97,{"$f":"'Analysis 103L'!C124","v":0},{"$f":"'Analysis 103L'!I124","v":""},{"$f":"'Analysis 103L'!J124","v":""},{"$f":"'Analysis 103L'!P124","v":0},{"$f":"'Analysis 103L'!N124","v":""},{"$f":"'Analysis 103L'!Q124","v":""},null,null,null,null,"","",{"$f":"IF(RIGHT(C103, 4)=\"Case\", \"\",IF(J103=\"\",\"\",IF(AH103=\"LLLC\", 0.6, VLOOKUP('100L Information'!$G$19,Load_Profiles, 4, FALSE))))","v":""},"","","",0,"",null,"",{"$f":"'Analysis 103L'!$Y$232*(S103/('Analysis 103L'!$Y$230+'Analysis 103L'!$Y$231))","v":{"$error":"#VALUE!"}},null,null,{"$f":"IF(Q103=\"\",\"\",Q103*'Analysis 103L'!$D$23)","v":""},null,null,null,null,{"$error":"#VALUE!"},{"$f":"IF(AND(U103=\"\",AK103=\"Custom\"),MIN(K103*Incent_Cost_Controls_Cust,Q103/J103*0.2),IF(AH103=\"LLLC\",MIN(AI103,((K103+'Analysis 103L'!R124)*Incent_Cost_LLLC)-'Analysis 103L'!X124),IF(AD103>=VLOOKUP(H103,Incent_Controls,3,FALSE),MIN(K103,VLOOKUP(H103,Incent_Controls,2,FALSE)),\"\")))","v":{"$error":"#VALUE!"}},"",null,"","",null,"","PASS/PASS",{"$f":"IF(AL103=\"PASS/PASS\",L103,\"0\")","v":""},{"$f":"E103*F103*G103/1000","v":{"$error":"#VALUE!"}},{"$f":"AN103*(1-N103)","v":{"$error":"#VALUE!"}},{"$error":"#VALUE!"},{"$f":"IF(AK103=\"Custom\",0.35*L103,S103)","v":""},null,10,{"$f":"VLOOKUP('Analysis 103L'!BE124, avoided_costs, ROUND($AS103, 0)+2, FALSE)","v":{"$error":"#N/A"}},{"$error":"#N/A"},{"$f":"0.5*L103/AP103","v":{"$error":"#VALUE!"}},{"$error":"#N/A"},{"$error":"#N/A"},{"$f":"L103/AP103","v":{"$error":"#VALUE!"}},{"$error":"#N/A"},{"$error":"#N/A"},{"$error":"#N/A"},null,null,null,null,null,null,null,null,null,null,null,null,null,null,null,{"$f":"'Analysis 103L'!CF124","v":""},"","",{"$f":"IF(BS103=\"\", \"\", INDEX($BP$32:$BP$33, MATCH($BS103, $BM$32:$BM$33, 0))*$BT103)","v":""},"","",""]
[98,{"$f":"'Analysis 103L'!C125","v":0},{"$f":"'Analysis 103L'!I125","v":""},{"$f":"'Analysis 103L'!J125","v":""},{"$f":"'Analysis 103L'!P125","v":0},{"$f":"'Analysis 103L'!N125","v":""},{"$f":"'Analysis 103L'!Q125","v":""},null,null,null,null,"","",{"$f":"IF(RIGHT(C104, 4)=\"Case\", \"\",IF(J104=\"\",\"\",IF(AH104=\"LLLC\", 0.6, VLOOKUP('100L Information'!$G$19,Load_Profiles, 4, FALSE))))","v":""},"","","",0,"",null,"",{"$f":"'Analysis 103L'!$Y$232*(S104/('Analysis 103L'!$Y$230+'Analysis 103L'!$Y$231))","v":{"$error":"#VALUE!"}},null,null,{"$f":"IF(Q104=\"\",\"\",Q104*'Analysis 103L'!$D$23)","v":""},null,null,null,null,{"$error":"#VALUE!"},{"$f":"IF(AND(U104=\"\",AK104=\"Custom\"),MIN(K104*Incent_Cost_Controls_Cust,Q104/J104*0.2),IF(AH104=\"LLLC\",MIN(AI104,((K104+'Analysis 103L'!R125)*Incent_Cost_LLLC)-'Analysis 103L'!X125),IF(AD104>=VLOOKUP(H104,Incent_Controls,3,FALSE),MIN(K104,VLOOKUP(H104,Incent_Controls,2,FALSE)),\"\")))","v":{"$error":"#VALUE!"}},"",null,"","",null,"","PASS/PASS","",{"$error":"#VALUE!"},{"$error":"#VALUE!"},{"$error":"#VALUE!"},"",null,10,{"$f":"VLOOKUP('Analysis 103L'!BE125, avoided_costs, ROUND($AS104, 0)+2, FALSE)","v":{"$error":"#N/A"}},{"$error":"#N/A"},{"$error":"#VALUE!"},{"$error":"#N/A"},{"$error":"#N/A"},{"$error":"#VALUE!"},{"$error":"#N/A"},{"$error":"#N/A"},{"$error":"#N/A"},null,null,null,null,null,null,null,null,null,null,null,null,null,null,null,{"$f":"'Analysis 103L'!CF125","v":""},"","","","","",""]
[99,{"$f":"'Analysis 103L'!C126","v":0},{"$f":"'Analysis 103L'!I126","v":""},{"$f":"'Analysis 103L'!J126","v":""},{"$f":"'Analysis 103L'!P126","v":0},{"$f":"'Analysis 103L'!N126","v":""},{"$f":"'Analysis 103L'!Q126","v":""},null,null,null,null,"","",{"$f":"IF(RIGHT(C105, 4)=\"Case\", \"\",IF(J105=\"\",\"\",IF(AH105=\"LLLC\", 0.6, VLOOKUP('100L Information'!$G$19,Load_Profiles, 4, FALSE))))","v":""},"","","",0,"",null,"",{"$f":"'Analysis 103L'!$Y$232*(S105/('Analysis 103L'!$Y$230+'Analysis 103L'!$Y$231))","v":{"$error":"#VALUE!"}},null,null,{"$f":"IF(Q105=\"\",\"\",Q105*'Analysis 103L'!$D$23)","v":""},null,null,null,null,{"$error":"#VALUE!"},{"$f":"IF(AND(U105=\"\",AK105=\"Custom\"),MIN(K105*Incent_Cost_Controls_Cust,Q105/J105*0.2),IF(AH105=\"LLLC\",MIN(AI105,((K105+'Analysis 103L'!R126)*Incent_Cost_LLLC)-'Analysis 103L'!X126),IF(AD105>=VLOOKUP(H105,Incent_Controls,3,FALSE),MIN(K105,VLOOKUP(H105,Incent_Controls,2,FALSE)),\"\")))","v":{"$error":"#VALUE!"}},"",null,"","",null,"","PASS/PASS","",{"$error":"#VALUE!"},{"$error":"#VALUE!"},{"$error":"#VALUE!"},"",null,10,{"$f":"VLOOKUP('Analysis 103L'!BE126, avoided_costs, ROUND($AS105, 0)+2, FALSE)","v":{"$error":"#N/A"}},{"$error":"#N/A"},{"$error":"#VALUE!"},{"$error":"#N/A"},{"$error":"#N/A"},{"$error":"#VALUE!"},{"$error":"#N/A"},{"$error":"#N/A"},{"$error":"#N/A"},null,null,null,null,null,null,null,null,null,null,null,null,null,null,null,{"$f":"'Analysis 103L'!CF126","v":""},"","","","","",""]
[100,{"$f":"'Analysis 103L'!C127","v":0},{"$f":"'Analysis 103L'!I127","v":""},{"$f":"'Analysis 103L'!J127","v":""},{"$f":"'Analysis 103L'!P127","v":0},{"$f":"'Analysis 103L'!N127","v":""},{"$f":"'Analysis 103L'!Q127","v":""},null,null,null,null,"","",{"$f":"IF(RIGHT(C106, 4)=\"Case\", \"\",IF(J106=\"\",\"\",IF(AH106=\"LLLC\", 0.6, VLOOKUP('100L Information'!$G$19,Load_Profiles, 4, FALSE))))","v":""},"","","",0,"",null,"",{"$f":"'Analysis 103L'!$Y$232*(S106/('Analysis 103L'!$Y$230+'Analysis 103L'!$Y$231))","v":{"$error":"#VALUE!"}},null,null,{"$f":"IF(Q106=\"\",\"\",Q106*'Analysis 103L'!$D$23)","v":""},null,null,null,null,{"$error":"#VALUE!"},{"$f":"IF(AND(U106=\"\",AK106=\"Custom\"),MIN(K106*Incent_Cost_Controls_Cust,Q106/J106*0.2),IF(AH106=\"LLLC\",MIN(AI106,((K106+'Analysis 103L'!R127)*Incent_Cost_LLLC)-'Analysis 103L'!X127),IF(AD106>=VLOOKUP(H106,Incent_Controls,3,FALSE),MIN(K106,VLOOKUP(H106,Incent_Controls,2,FALSE)),\"\")))","v":{"$error":"#VALUE!"}},"",null,{"$f":"IF(RIGHT(H106,4)=\"LLLC\", \"LLLC\",\"\")","v":""},{"$f":"IF(AH106=\"LLLC\",VLOOKUP(D106,Incent_LLLC,2,FALSE),\"\")","v":""},null,"","PASS/PASS","",{"$error":"#VALUE!"},{"$error":"#VALUE!"},{"$error":"#VALUE!"},"",null,10,{"$f":"VLOOKUP('Analysis 103L'!BE127, avoided_costs, ROUND($AS106, 0)+2, FALSE)","v":{"$error":"#N/A"}},{"$error":"#N/A"},{"$error":"#VALUE!"},{"$error":"#N/A"},{"$error":"#N/A"},{"$error":"#VALUE!"},{"$error":"#N/A"},{"$error":"#N/A"},{"$error":"#N/A"},null,null,null,null,null,null,null,null,null,null,null,null,null,null,null,{"$f":"'Analysis 103L'!CF127","v":""},"","","","","",""]
[101,{"$f":"'Analysis 103L'!C128","v":0},{"$f":"'Analysis 103L'!I128","v":""},{"$f":"'Analysis 103L'!J128","v":""},{"$f":"'Analysis 103L'!P128","v":0},{"$f":"'Analysis 103L'!N128","v":""},{"$f":"'Analysis 103L'!Q128","v":""},null,null,null,null,"","",{"$f":"IF(RIGHT(C107, 4)=\"Case\", \"\",IF(J107=\"\",\"\",IF(AH107=\"LLLC\", 0.6, VLOOKUP('100L Information'!$G$19,Load_Profiles, 4, FALSE))))","v":""},"","","",0,"",null,"",{"$f":"'Analysis 103L'!$Y$232*(S107/('Analysis 103L'!$Y$230+'Analysis 103L'!$Y$231))","v":{"$error":"#VALUE!"}},null,null,{"$f":"IF(Q107=\"\",\"\",Q107*'Analysis 103L'!$D$23)","v":""},null,null,null,null,{"$error":"#VALUE!"},{"$f":"IF(AND(U107=\"\",AK107=\"Custom\"),MIN(K107*Incent_Cost_Controls_Cust,Q107/J107*0.2),IF(AH107=\"LLLC\",MIN(AI107,((K107+'Analysis 103L'!R128)*Incent_Cost_LLLC)-'Analysis 103L'!X128),IF(AD107>=VLOOKUP(H107,Incent_Controls,3,FALSE),MIN(K107,VLOOKUP(H107,Incent_Controls,2,FALSE)),\"\")))","v":{"$error":"#VALUE!"}},"",null,"","",null,"","PASS/PASS","",{"$error":"#VALUE!"},{"$error":"#VALUE!"},{"$error":"#VALUE!"},"",null,10,{"$f":"VLOOKUP('Analysis 103L'!BE128, avoided_costs, ROUND($AS107, 0)+2, FALSE)","v":{"$error":"#N/A"}},{"$error":"#N/A"},{"$error":"#VALUE!"},{"$error":"#N/A"},{"$error":"#N/A"},{"$error":"#VALUE!"},{"$error":"#N/A"},{"$error":"#N/A"},{"$error":"#N/A"},null,null,null,null,null,null,null,null,null,null,null,null,null,null,null,{"$f":"'Analysis 103L'!CF128","v":""},"","","","","",""]
[102,{"$f":"'Analysis 103L'!C129","v":0},{"$f":"'Analysis 103L'!I129","v":""},{"$f":"'Analysis 103L'!J129","v":""},{"$f":"'Analysis 103L'!P129","v":0},{"$f":"'Analysis 103L'!N129","v":""},{"$f":"'Analysis 103L'!Q129","v":""},null,null,null,null,"","",{"$f":"IF(RIGHT(C108, 4)=\"Case\", \"\",IF(J108=\"\",\"\",IF(AH108=\"LLLC\", 0.6, VLOOKUP('100L Information'!$G$19,Load_Profiles, 4, FALSE))))","v":""},"","","",0,"",null,"",{"$f":"'Analysis 103L'!$Y$232*(S108/('Analysis 103L'!$Y$230+'Analysis 103L'!$Y$231))","v":{"$error":"#VALUE!"}},null,null,{"$f":"IF(Q108=\"\",\"\",Q108*'Analysis 103L'!$D$23)","v":""},null,null,null,null,{"$error":"#VALUE!"},{"$f":"IF(AND(U108=\"\",AK108=\"Custom\"),MIN(K108*Incent_Cost_Controls_Cust,Q108/J108*0.2),IF(AH108=\"LLLC\",MIN(AI108,((K108+'Analysis 103L'!R129)*Incent_Cost_LLLC)-'Analysis 103L'!X129),IF(AD108>=VLOOKUP(H108,Incent_Controls,3,FALSE),MIN(K108,VLOOKUP(H108,Incent_Controls,2,FALSE)),\"\")))","v":{"$error":"#VALUE!"}},"",null,"","",null,"","PASS/PASS","",{"$error":"#VALUE!"},{"$error":"#VALUE!"},{"$error":"#VALUE!"},"",null,10,{"$f":"VLOOKUP('Analysis 103L'!BE129, avoided_costs, ROUND($AS108, 0)+2, FALSE)","v":{"$error":"#N/A"}},{"$error":"#N/A"},{"$error":"#VALUE!"},{"$error":"#N/A"},{"$error":"#N/A"},{"$error":"#VALUE!"},{"$error":"#N/A"},{"$error":"#N/A"},{"$error":"#N/A"},null,null,null,null,null,null,null,null,null,null,null,null,null,null,null,{"$f":"'Analysis 103L'!CF129","v":""},"","","","","",""]
[103,{"$f":"'Analysis 103L'!C130","v":0},{"$f":"'Analysis 103L'!I130","v":""},{"$f":"'Analysis 103L'!J130","v":""},{"$f":"'Analysis 103L'!P130","v":0},{"$f":"'Analysis 103L'!N130","v":""},{"$f":"'Analysis 103L'!Q130","v":""},null,null,null,null,"","",{"$f":"IF(RIGHT(C109, 4)=\"Case\", \"\",IF(J109=\"\",\"\",IF(AH109=\"LLLC\", 0.6, VLOOKUP('100L Information'!$G$19,Load_Profiles, 4, FALSE))))","v":""},"","","",0,"",null,"",{"$f":"'Analysis 103L'!$Y$232*(S109/('Analysis 103L'!$Y$230+'Analysis 103L'!$Y$231))","v":{"$error":"#VALUE!"}},null,null,{"$f":"IF(Q109=\"\",\"\",Q109*'Analysis 103L'!$D$23)","v":""},null,null,null,null,{"$error":"#VALUE!"},{"$f":"IF(AND(U109=\"\",AK109=\"Custom\"),MIN(K109*Incent_Cost_Controls_Cust,Q109/J109*0.2),IF(AH109=\"LLLC\",MIN(AI109,((K109+'Analysis 103L'!R130)*Incent_Cost_LLLC)-'Analysis 103L'!X130),IF(AD109>=VLOOKUP(H109,Incent_Controls,3,FALSE),MIN(K109,VLOOKUP(H109,Incent_Controls,2,FALSE)),\"\")))","v":{"$error":"#VALUE!"}},"",null,"","",null,"","PASS/PASS","",{"$error":"#VALUE!"},{"$error":"#VALUE!"},{"$error":"#VALUE!"},"",null,10,{"$f":"VLOOKUP('Analysis 103L'!BE130, avoided_costs, ROUND($AS109, 0)+2, FALSE)","v":{"$error":"#N/A"}},{"$error":"#N/A"},{"$error":"#VALUE!"},{"$error":"#N/A"},{"$error":"#N/A"},{"$error":"#VALUE!"},{"$error":"#N/A"},{"$error":"#N/A"},{"$error":"#N/A"},null,null,null,null,null,null,null,null,null,null,null,null,null,null,null,{"$f":"'Analysis 103L'!CF130","v":""},"","","","","",""]
[104,{"$f":"'Analysis 103L'!C131","v":0},{"$f":"'Analysis 103L'!I131","v":""},{"$f":"'Analysis 103L'!J131","v":""},{"$f":"'Analysis 103L'!P131","v":0},{"$f":"'Analysis 103L'!N131","v":""},{"$f":"'Analysis 103L'!Q131","v":""},null,null,null,null,"","",{"$f":"IF(RIGHT(C110, 4)=\"Case\", \"\",IF(J110=\"\",\"\",IF(AH110=\"LLLC\", 0.6, VLOOKUP('100L Information'!$G$19,Load_Profiles, 4, FALSE))))","v":""},"","","",0,"",null,"",{"$f":"'Analysis 103L'!$Y$232*(S110/('Analysis 103L'!$Y$230+'Analysis 103L'!$Y$231))","v":{"$error":"#VALUE!"}},null,null,{"$f":"IF(Q110=\"\",\"\",Q110*'Analysis 103L'!$D$23)","v":""},null,null,null,null,{"$error":"#VALUE!"},{"$f":"IF(AND(U110=\"\",AK110=\"Custom\"),MIN(K110*Incent_Cost_Controls_Cust,Q110/J110*0.2),IF(AH110=\"LLLC\",MIN(AI110,((K110+'Analysis 103L'!R131)*Incent_Cost_LLLC)-'Analysis 103L'!X131),IF(AD110>=VLOOKUP(H110,Incent_Controls,3,FALSE),MIN(K110,VLOOKUP(H110,Incent_Controls,2,FALSE)),\"\")))","v":{"$error":"#VALUE!"}},"",null,"","",null,"","PASS/PASS","",{"$error":"#VALUE!"},{"$error":"#VALUE!"},{"$error":"#VALUE!"},"",null,10,{"$f":"VLOOKUP('Analysis 103L'!BE131, avoided_costs, ROUND($AS110, 0)+2, FALSE)","v":{"$error":"#N/A"}},{"$error":"#N/A"},{"$error":"#VALUE!"},{"$error":"#N/A"},{"$error":"#N/A"},{"$error":"#VALUE!"},{"$error":"#N/A"},{"$error":"#N/A"},{"$error":"#N/A"},null,null,null,null,null,null,null,null,null,null,null,null,null,null,null,{"$f":"'Analysis 103L'!CF131","v":""},"","","","","",""]
[105,{"$f":"'Analysis 103L'!C132","v":0},{"$f":"'Analysis 103L'!I132","v":""},{"$f":"'Analysis 103L'!J132","v":""},{"$f":"'Analysis 103L'!P132","v":0},{"$f":"'Analysis 103L'!N132","v":""},{"$f":"'Analysis 103L'!Q132","v":""},null,null,null,null,"","",{"$f":"IF(RIGHT(C111, 4)=\"Case\", \"\",IF(J111=\"\",\"\",IF(AH111=\"LLLC\", 0.6, VLOOKUP('100L Information'!$G$19,Load_Profiles, 4, FALSE))))","v":""},"","","",0,"",null,"",{"$f":"'Analysis 103L'!$Y$232*(S111/('Analysis 103L'!$Y$230+'Analysis 103L'!$Y$231))","v":{"$error":"#VALUE!"}},null,null,{"$f":"IF(Q111=\"\",\"\",Q111*'Analysis 103L'!$D$23)","v":""},null,null,null,null,{"$error":"#VALUE!"},{"$f":"IF(AND(U111=\"\",AK111=\"Custom\"),MIN(K111*Incent_Cost_Controls_Cust,Q111/J111*0.2),IF(AH111=\"LLLC\",MIN(AI111,((K111+'Analysis 103L'!R132)*Incent_Cost_LLLC)-'Analysis 103L'!X132),IF(AD111>=VLOOKUP(H111,Incent_Controls,3,FALSE),MIN(K111,VLOOKUP(H111,Incent_Controls,2,FALSE)),\"\")))","v":{"$error":"#VALUE!"}},"",null,"","",null,"","PASS/PASS","",{"$error":"#VALUE!"},{"$error":"#VALUE!"},{"$error":"#VALUE!"},"",null,10,{"$f":"VLOOKUP('Analysis 103L'!BE132, avoided_costs, ROUND($AS111, 0)+2, FALSE)","v":{"$error":"#N/A"}},{"$error":"#N/A"},{"$error":"#VALUE!"},{"$error":"#N/A"},{"$error":"#N/A"},{"$error":"#VALUE!"},{"$error":"#N/A"},{"$error":"#N/A"},{"$error":"#N/A"},null,null,null,null,null,null,null,null,null,null,null,null,null,null,null,{"$f":"'Analysis 103L'!CF132","v":""},"","","","","",""]
[106,{"$f":"'Analysis 103L'!C133","v":0},{"$f":"'Analysis 103L'!I133","v":""},{"$f":"'Analysis 103L'!J133","v":""},{"$f":"'Analysis 103L'!P133","v":0},{"$f":"'Analysis 103L'!N133","v":""},{"$f":"'Analysis 103L'!Q133","v":""},null,null,null,null,"","",{"$f":"IF(RIGHT(C112, 4)=\"Case\", \"\",IF(J112=\"\",\"\",IF(AH112=\"LLLC\", 0.6, VLOOKUP('100L Information'!$G$19,Load_Profiles, 4, FALSE))))","v":""},"","","",0,"",null,"",{"$f":"'Analysis 103L'!$Y$232*(S112/('Analysis 103L'!$Y$230+'Analysis 103L'!$Y$231))","v":{"$error":"#VALUE!"}},null,null,{"$f":"IF(Q112=\"\",\"\",Q112*'Analysis 103L'!$D$23)","v":""},null,null,null,null,{"$error":"#VALUE!"},{"$f":"IF(AND(U112=\"\",AK112=\"Custom\"),MIN(K112*Incent_Cost_Controls_Cust,Q112/J112*0.2),IF(AH112=\"LLLC\",MIN(AI112,((K112+'Analysis 103L'!R133)*Incent_Cost_LLLC)-'Analysis 103L'!X133),IF(AD112>=VLOOKUP(H112,Incent_Controls,3,FALSE),MIN(K112,VLOOKUP(H112,Incent_Controls,2,FALSE)),\"\")))","v":{"$error":"#VALUE!"}},"",null,"","",null,"","PASS/PASS","",{"$error":"#VALUE!"},{"$error":"#VALUE!"},{"$error":"#VALUE!"},"",null,10,{"$f":"VLOOKUP('Analysis 103L'!BE133, avoided_costs, ROUND($AS112, 0)+2, FALSE)","v":{"$error":"#N/A"}},{"$error":"#N/A"},{"$error":"#VALUE!"},{"$error":"#N/A"},{"$error":"#N/A"},{"$error":"#VALUE!"},{"$error":"#N/A"},{"$error":"#N/A"},{"$error":"#N/A"},null,null,null,null,null,null,null,null,null,null,null,null,null,null,null,{"$f":"'Analysis 103L'!CF133","v":""},"","","","","",""]
[107,{"$f":"'Analysis 103L'!C134","v":0},{"$f":"'Analysis 103L'!I134","v":""},{"$f":"'Analysis 103L'!J134","v":""},{"$f":"'Analysis 103L'!P134","v":0},{"$f":"'Analysis 103L'!N134","v":""},{"$f":"'Analysis 103L'!Q134","v":""},null,null,null,null,"","",{"$f":"IF(RIGHT(C113, 4)=\"Case\", \"\",IF(J113=\"\",\"\",IF(AH113=\"LLLC\", 0.6, VLOOKUP('100L Information'!$G$19,Load_Profiles, 4, FALSE))))","v":""},"","","",0,"",null,"",{"$f":"'Analysis 103L'!$Y$232*(S113/('Analysis 103L'!$Y$230+'Analysis 103L'!$Y$231))","v":{"$error":"#VALUE!"}},null,null,{"$f":"IF(Q113=\"\",\"\",Q113*'Analysis 103L'!$D$23)","v":""},null,null,null,null,{"$error":"#VALUE!"},{"$f":"IF(AND(U113=\"\",AK113=\"Custom\"),MIN(K113*Incent_Cost_Controls_Cust,Q113/J113*0.2),IF(AH113=\"LLLC\",MIN(AI113,((K113+'Analysis 103L'!R134)*Incent_Cost_LLLC)-'Analysis 103L'!X134),IF(AD113>=VLOOKUP(H113,Incent_Controls,3,FALSE),MIN(K113,VLOOKUP(H113,Incent_Controls,2,FALSE)),\"\")))","v":{"$error":"#VALUE!"}},"",null,"","",null,"","PASS/PASS","",{"$error":"#VALUE!"},{"$error":"#VALUE!"},{"$error":"#VALUE!"},"",null,10,{"$f":"VLOOKUP('Analysis 103L'!BE134, avoided_costs, ROUND($AS113, 0)+2, FALSE)","v":{"$error":"#N/A"}},{"$error":"#N/A"},{"$error":"#VALUE!"},{"$error":"#N/A"},{"$error":"#N/A"},{"$error":"#VALUE!"},{"$error":"#N/A"},{"$error":"#N/A"},{"$error":"#N/A"},null,null,null,null,null,null,null,null,null,null,null,null,null,null,null,{"$f":"'Analysis 103L'!CF134","v":""},"","","","","",""]
[108,{"$f":"'Analysis 103L'!C135","v":0},{"$f":"'Analysis 103L'!I135","v":""},{"$f":"'Analysis 103L'!J135","v":""},{"$f":"'Analysis 103L'!P135","v":0},{"$f":"'Analysis 103L'!N135","v":""},{"$f":"'Analysis 103L'!Q135","v":""},null,null,null,null,"","",{"$f":"IF(RIGHT(C114, 4)=\"Case\", \"\",IF(J114=\"\",\"\",IF(AH114=\"LLLC\", 0.6, VLOOKUP('100L Information'!$G$19,Load_Profiles, 4, FALSE))))","v":""},"","","",0,"",null,"",{"$f":"'Analysis 103L'!$Y$232*(S114/('Analysis 103L'!$Y$230+'Analysis 103L'!$Y$231))","v":{"$error":"#VALUE!"}},null,null,{"$f":"IF(Q114=\"\",\"\",Q114*'Analysis 103L'!$D$23)","v":""},null,null,null,null,{"$error":"#VALUE!"},{"$f":"IF(AND(U114=\"\",AK114=\"Custom\"),MIN(K114*Incent_Cost_Controls_Cust,Q114/J114*0.2),IF(AH114=\"LLLC\",MIN(AI114,((K114+'Analysis 103L'!R135)*Incent_Cost_LLLC)-'Analysis 103L'!X135),IF(AD114>=VLOOKUP(H114,Incent_Controls,3,FALSE),MIN(K114,VLOOKUP(H114,Incent_Controls,2,FALSE)),\"\")))","v":{"$error":"#VALUE!"}},"",null,"","",null,"","PASS/PASS","",{"$error":"#VALUE!"},{"$error":"#VALUE!"},{"$error":"#VALUE!"},"",null,10,{"$f":"VLOOKUP('Analysis 103L'!BE135, avoided_costs, ROUND($AS114, 0)+2, FALSE)","v":{"$error":"#N/A"}},{"$error":"#N/A"},{"$error":"#VALUE!"},{"$error":"#N/A"},{"$error":"#N/A"},{"$error":"#VALUE!"},{"$error":"#N/A"},{"$error":"#N/A"},{"$error":"#N/A"},null,null,null,null,null,null,null,null,null,null,null,null,null,null,null,{"$f":"'Analysis 103L'!CF135","v":""},"","","","","",""]
[109,{"$f":"'Analysis 103L'!C136","v":0},{"$f":"'Analysis 103L'!I136","v":""},{"$f":"'Analysis 103L'!J136","v":""},{"$f":"'Analysis 103L'!P136","v":0},{"$f":"'Analysis 103L'!N136","v":""},{"$f":"'Analysis 103L'!Q136","v":""},null,null,null,null,"","",{"$f":"IF(RIGHT(C115, 4)=\"Case\", \"\",IF(J115=\"\",\"\",IF(AH115=\"LLLC\", 0.6, VLOOKUP('100L Information'!$G$19,Load_Profiles, 4, FALSE))))","v":""},"","","",0,"",null,"",{"$f":"'Analysis 103L'!$Y$232*(S115/('Analysis 103L'!$Y$230+'Analysis 103L'!$Y$231))","v":{"$error":"#VALUE!"}},null,null,{"$f":"IF(Q115=\"\",\"\",Q115*'Analysis 103L'!$D$23)","v":""},null,null,null,null,{"$error":"#VALUE!"},{"$f":"IF(AND(U115=\"\",AK115=\"Custom\"),MIN(K115*Incent_Cost_Controls_Cust,Q115/J115*0.2),IF(AH115=\"LLLC\",MIN(AI115,((K115+'Analysis 103L'!R136)*Incent_Cost_LLLC)-'Analysis 103L'!X136),IF(AD115>=VLOOKUP(H115,Incent_Controls,3,FALSE),MIN(K115,VLOOKUP(H115,Incent_Controls,2,FALSE)),\"\")))","v":{"$error":"#VALUE!"}},"",null,{"$f":"IF(RIGHT(H115,4)=\"LLLC\", \"LLLC\",\"\")","v":""},{"$f":"IF(AH115=\"LLLC\",VLOOKUP(D115,Incent_LLLC,2,FALSE),\"\")","v":""},null,"","PASS/PASS","",{"$error":"#VALUE!"},{"$error":"#VALUE!"},{"$error":"#VALUE!"},"",null,10,{"$f":"VLOOKUP('Analysis 103L'!BE136, avoided_costs, ROUND($AS115, 0)+2, FALSE)","v":{"$error":"#N/A"}},{"$error":"#N/A"},{"$error":"#VALUE!"},{"$error":"#N/A"},{"$error":"#N/A"},{"$error":"#VALUE!"},{"$error":"#N/A"},{"$error":"#N/A"},{"$error":"#N/A"},null,null,null,null,null,null,null,null,null,null,null,null,null,null,null,{"$f":"'Analysis 103L'!CF136","v":""},"","","","","",""]
[110,{"$f":"'Analysis 103L'!C137","v":0},{"$f":"'Analysis 103L'!I137","v":""},{"$f":"'Analysis 103L'!J137","v":""},{"$f":"'Analysis 103L'!P137","v":0},{"$f":"'Analysis 103L'!N137","v":""},{"$f":"'Analysis 103L'!Q137","v":""},null,null,null,null,"","",{"$f":"IF(RIGHT(C116, 4)=\"Case\", \"\",IF(J116=\"\",\"\",IF(AH116=\"LLLC\", 0.6, VLOOKUP('100L Information'!$G$19,Load_Profiles, 4, FALSE))))","v":""},"","","",0,"",null,"",{"$f":"'Analysis 103L'!$Y$232*(S116/('Analysis 103L'!$Y$230+'Analysis 103L'!$Y$231))","v":{"$error":"#VALUE!"}},null,null,{"$f":"IF(Q116=\"\",\"\",Q116*'Analysis 103L'!$D$23)","v":""},null,null,null,null,{"$error":"#VALUE!"},{"$f":"IF(AND(U116=\"\",AK116=\"Custom\"),MIN(K116*Incent_Cost_Controls_Cust,Q116/J116*0.2),IF(AH116=\"LLLC\",MIN(AI116,((K116+'Analysis 103L'!R137)*Incent_Cost_LLLC)-'Analysis 103L'!X137),IF(AD116>=VLOOKUP(H116,Incent_Controls,3,FALSE),MIN(K116,VLOOKUP(H116,Incent_Controls,2,FALSE)),\"\")))","v":{"$error":"#VALUE!"}},"",null,"","",null,"","PASS/PASS","",{"$error":"#VALUE!"},{"$error":"#VALUE!"},{"$error":"#VALUE!"},"",null,10,{"$f":"VLOOKUP('Analysis 103L'!BE137, avoided_costs, ROUND($AS116, 0)+2, FALSE)","v":{"$error":"#N/A"}},{"$error":"#N/A"},{"$error":"#VALUE!"},{"$error":"#N/A"},{"$error":"#N/A"},{"$error":"#VALUE!"},{"$error":"#N/A"},{"$error":"#N/A"},{"$error":"#N/A"},null,null,null,null,null,null,null,null,null,null,null,null,null,null,null,{"$f":"'Analysis 103L'!CF137","v":""},"","","","","",""]
[111,{"$f":"'Analysis 103L'!C138","v":0},{"$f":"'Analysis 103L'!I138","v":""},{"$f":"'Analysis 103L'!J138","v":""},{"$f":"'Analysis 103L'!P138","v":0},{"$f":"'Analysis 103L'!N138","v":""},{"$f":"'Analysis 103L'!Q138","v":""},null,null,null,null,"","",{"$f":"IF(RIGHT(C117, 4)=\"Case\", \"\",IF(J117=\"\",\"\",IF(AH117=\"LLLC\", 0.6, VLOOKUP('100L Information'!$G$19,Load_Profiles, 4, FALSE))))","v":""},"","","",0,"",null,"",{"$f":"'Analysis 103L'!$Y$232*(S117/('Analysis 103L'!$Y$230+'Analysis 103L'!$Y$231))","v":{"$error":"#VALUE!"}},null,null,{"$f":"IF(Q117=\"\",\"\",Q117*'Analysis 103L'!$D$23)","v":""},null,null,null,null,{"$error":"#VALUE!"},{"$f":"IF(AND(U117=\"\",AK117=\"Custom\"),MIN(K117*Incent_Cost_Controls_Cust,Q117/J117*0.2),IF(AH117=\"LLLC\",MIN(AI117,((K117+'Analysis 103L'!R138)*Incent_Cost_LLLC)-'Analysis 103L'!X138),IF(AD117>=VLOOKUP(H117,Incent_Controls,3,FALSE),MIN(K117,VLOOKUP(H117,Incent_Controls,2,FALSE)),\"\")))","v":{"$error":"#VALUE!"}},"",null,"","",null,"","PASS/PASS","",{"$error":"#VALUE!"},{"$error":"#VALUE!"},{"$error":"#VALUE!"},"",null,10,{"$f":"VLOOKUP('Analysis 103L'!BE138, avoided_costs, ROUND($AS117, 0)+2, FALSE)","v":{"$error":"#N/A"}},{"$error":"#N/A"},{"$error":"#VALUE!"},{"$error":"#N/A"},{"$error":"#N/A"},{"$error":"#VALUE!"},{"$error":"#N/A"},{"$error":"#N/A"},{"$error":"#N/A"},null,null,null,null,null,null,null,null,null,null,null,null,null,null,null,{"$f":"'Analysis 103L'!CF138","v":""},"","","","","",""]
[112,{"$f":"'Analysis 103L'!C139","v":0},{"$f":"'Analysis 103L'!I139","v":""},{"$f":"'Analysis 103L'!J139","v":""},{"$f":"'Analysis 103L'!P139","v":0},{"$f":"'Analysis 103L'!N139","v":""},{"$f":"'Analysis 103L'!Q139","v":""},null,null,null,null,"","",{"$f":"IF(RIGHT(C118, 4)=\"Case\", \"\",IF(J118=\"\",\"\",IF(AH118=\"LLLC\", 0.6, VLOOKUP('100L Information'!$G$19,Load_Profiles, 4, FALSE))))","v":""},"","","",0,"",null,"",{"$f":"'Analysis 103L'!$Y$232*(S118/('Analysis 103L'!$Y$230+'Analysis 103L'!$Y$231))","v":{"$error":"#VALUE!"}},null,null,{"$f":"IF(Q118=\"\",\"\",Q118*'Analysis 103L'!$D$23)","v":""},null,null,null,null,{"$error":"#VALUE!"},{"$f":"IF(AND(U118=\"\",AK118=\"Custom\"),MIN(K118*Incent_Cost_Controls_Cust,Q118/J118*0.2),IF(AH118=\"LLLC\",MIN(AI118,((K118+'Analysis 103L'!R139)*Incent_Cost_LLLC)-'Analysis 103L'!X139),IF(AD118>=VLOOKUP(H118,Incent_Controls,3,FALSE),MIN(K118,VLOOKUP(H118,Incent_Controls,2,FALSE)),\"\")))","v":{"$error":"#VALUE!"}},"",null,"","",null,"","PASS/PASS","",{"$error":"#VALUE!"},{"$error":"#VALUE!"},{"$error":"#VALUE!"},"",null,10,{"$f":"VLOOKUP('Analysis 103L'!BE139, avoided_costs, ROUND($AS118, 0)+2, FALSE)","v":{"$error":"#N/A"}},{"$error":"#N/A"},{"$error":"#VALUE!"},{"$error":"#N/A"},{"$error":"#N/A"},{"$error":"#VALUE!"},{"$error":"#N/A"},{"$error":"#N/A"},{"$error":"#N/A"},null,null,null,null,null,null,null,null,null,null,null,null,null,null,null,{"$f":"'Analysis 103L'!CF139","v":""},"","","","","",""]
[113,{"$f":"'Analysis 103L'!C140","v":0},{"$f":"'Analysis 103L'!I140","v":""},{"$f":"'Analysis 103L'!J140","v":""},{"$f":"'Analysis 103L'!P140","v":0},{"$f":"'Analysis 103L'!N140","v":""},{"$f":"'Analysis 103L'!Q140","v":""},null,null,null,null,"","",{"$f":"IF(RIGHT(C119, 4)=\"Case\", \"\",IF(J119=\"\",\"\",IF(AH119=\"LLLC\", 0.6, VLOOKUP('100L Information'!$G$19,Load_Profiles, 4, FALSE))))","v":""},"","","",0,"",null,"",{"$f":"'Analysis 103L'!$Y$232*(S119/('Analysis 103L'!$Y$230+'Analysis 103L'!$Y$231))","v":{"$error":"#VALUE!"}},null,null,{"$f":"IF(Q119=\"\",\"\",Q119*'Analysis 103L'!$D$23)","v":""},null,null,null,null,{"$error":"#VALUE!"},{"$f":"IF(AND(U119=\"\",AK119=\"Custom\"),MIN(K119*Incent_Cost_Controls_Cust,Q119/J119*0.2),IF(AH119=\"LLLC\",MIN(AI119,((K119+'Analysis 103L'!R140)*Incent_Cost_LLLC)-'Analysis 103L'!X140),IF(AD119>=VLOOKUP(H119,Incent_Controls,3,FALSE),MIN(K119,VLOOKUP(H119,Incent_Controls,2,FALSE)),\"\")))","v":{"$error":"#VALUE!"}},"",null,"","",null,"","PASS/PASS","",{"$error":"#VALUE!"},{"$error":"#VALUE!"},{"$error":"#VALUE!"},"",null,10,{"$f":"VLOOKUP('Analysis 103L'!BE140, avoided_costs, ROUND($AS119, 0)+2, FALSE)","v":{"$error":"#N/A"}},{"$error":"#N/A"},{"$error":"#VALUE!"},{"$error":"#N/A"},{"$error":"#N/A"},{"$error":"#VALUE!"},{"$error":"#N/A"},{"$error":"#N/A"},{"$error":"#N/A"},null,null,null,null,null,null,null,null,null,null,null,null,null,null,null,{"$f":"'Analysis 103L'!CF140","v":""},"","","","","",""]
[114,{"$f":"'Analysis 103L'!C141","v":0},{"$f":"'Analysis 103L'!I141","v":""},{"$f":"'Analysis 103L'!J141","v":""},{"$f":"'Analysis 103L'!P141","v":0},{"$f":"'Analysis 103L'!N141","v":""},{"$f":"'Analysis 103L'!Q141","v":""},null,null,null,null,"","",{"$f":"IF(RIGHT(C120, 4)=\"Case\", \"\",IF(J120=\"\",\"\",IF(AH120=\"LLLC\", 0.6, VLOOKUP('100L Information'!$G$19,Load_Profiles, 4, FALSE))))","v":""},"","","",0,"",null,"",{"$f":"'Analysis 103L'!$Y$232*(S120/('Analysis 103L'!$Y$230+'Analysis 103L'!$Y$231))","v":{"$error":"#VALUE!"}},null,null,{"$f":"IF(Q120=\"\",\"\",Q120*'Analysis 103L'!$D$23)","v":""},null,null,null,null,{"$error":"#VALUE!"},{"$f":"IF(AND(U120=\"\",AK120=\"Custom\"),MIN(K120*Incent_Cost_Controls_Cust,Q120/J120*0.2),IF(AH120=\"LLLC\",MIN(AI120,((K120+'Analysis 103L'!R141)*Incent_Cost_LLLC)-'Analysis 103L'!X141),IF(AD120>=VLOOKUP(H120,Incent_Controls,3,FALSE),MIN(K120,VLOOKUP(H120,Incent_Controls,2,FALSE)),\"\")))","v":{"$error":"#VALUE!"}},"",null,"","",null,"","PASS/PASS","",{"$error":"#VALUE!"},{"$error":"#VALUE!"},{"$error":"#VALUE!"},"",null,10,{"$f":"VLOOKUP('Analysis 103L'!BE141, avoided_costs, ROUND($AS120, 0)+2, FALSE)","v":{"$error":"#N/A"}},{"$error":"#N/A"},{"$error":"#VALUE!"},{"$error":"#N/A"},{"$error":"#N/A"},{"$error":"#VALUE!"},{"$error":"#N/A"},{"$error":"#N/A"},{"$error":"#N/A"},null,null,null,null,null,null,null,null,null,null,null,null,null,null,null,{"$f":"'Analysis 103L'!CF141","v":""},"","","","","",""]
[115,{"$f":"'Analysis 103L'!C142","v":0},{"$f":"'Analysis 103L'!I142","v":""},{"$f":"'Analysis 103L'!J142","v":""},{"$f":"'Analysis 103L'!P142","v":0},{"$f":"'Analysis 103L'!N142","v":""},{"$f":"'Analysis 103L'!Q142","v":""},null,null,null,null,"","",{"$f":"IF(RIGHT(C121, 4)=\"Case\", \"\",IF(J121=\"\",\"\",IF(AH121=\"LLLC\", 0.6, VLOOKUP('100L Information'!$G$19,Load_Profiles, 4, FALSE))))","v":""},"","","",0,"",null,"",{"$f":"'Analysis 103L'!$Y$232*(S121/('Analysis 103L'!$Y$230+'Analysis 103L'!$Y$231))","v":{"$error":"#VALUE!"}},null,null,{"$f":"IF(Q121=\"\",\"\",Q121*'Analysis 103L'!$D$23)","v":""},null,null,null,null,{"$error":"#VALUE!"},{"$f":"IF(AND(U121=\"\",AK121=\"Custom\"),MIN(K121*Incent_Cost_Controls_Cust,Q121/J121*0.2),IF(AH121=\"LLLC\",MIN(AI121,((K121+'Analysis 103L'!R142)*Incent_Cost_LLLC)-'Analysis 103L'!X142),IF(AD121>=VLOOKUP(H121,Incent_Controls,3,FALSE),MIN(K121,VLOOKUP(H121,Incent_Controls,2,FALSE)),\"\")))","v":{"$error":"#VALUE!"}},"",null,"","",null,"","PASS/PASS","",{"$error":"#VALUE!"},{"$error":"#VALUE!"},{"$error":"#VALUE!"},"",null,10,{"$f":"VLOOKUP('Analysis 103L'!BE142, avoided_costs, ROUND($AS121, 0)+2, FALSE)","v":{"$error":"#N/A"}},{"$error":"#N/A"},{"$error":"#VALUE!"},{"$error":"#N/A"},{"$error":"#N/A"},{"$error":"#VALUE!"},{"$error":"#N/A"},{"$error":"#N/A"},{"$error":"#N/A"},null,null,null,null,null,null,null,null,null,null,null,null,null,null,null,{"$f":"'Analysis 103L'!CF142","v":""},"","","","","",""]
[116,{"$f":"'Analysis 103L'!C143","v":0},{"$f":"'Analysis 103L'!I143","v":""},{"$f":"'Analysis 103L'!J143","v":""},{"$f":"'Analysis 103L'!P143","v":0},{"$f":"'Analysis 103L'!N143","v":""},{"$f":"'Analysis 103L'!Q143","v":""},null,null,null,null,"","",{"$f":"IF(RIGHT(C122, 4)=\"Case\", \"\",IF(J122=\"\",\"\",IF(AH122=\"LLLC\", 0.6, VLOOKUP('100L Information'!$G$19,Load_Profiles, 4, FALSE))))","v":""},"","","",0,"",null,"",{"$f":"'Analysis 103L'!$Y$232*(S122/('Analysis 103L'!$Y$230+'Analysis 103L'!$Y$231))","v":{"$error":"#VALUE!"}},null,null,{"$f":"IF(Q122=\"\",\"\",Q122*'Analysis 103L'!$D$23)","v":""},null,null,null,null,{"$error":"#VALUE!"},{"$f":"IF(AND(U122=\"\",AK122=\"Custom\"),MIN(K122*Incent_Cost_Controls_Cust,Q122/J122*0.2),IF(AH122=\"LLLC\",MIN(AI122,((K122+'Analysis 103L'!R143)*Incent_Cost_LLLC)-'Analysis 103L'!X143),IF(AD122>=VLOOKUP(H122,Incent_Controls,3,FALSE),MIN(K122,VLOOKUP(H122,Incent_Controls,2,FALSE)),\"\")))","v":{"$error":"#VALUE!"}},"",null,"","",null,"","PASS/PASS","",{"$error":"#VALUE!"},{"$error":"#VALUE!"},{"$error":"#VALUE!"},"",null,10,{"$f":"VLOOKUP('Analysis 103L'!BE143, avoided_costs, ROUND($AS122, 0)+2, FALSE)","v":{"$error":"#N/A"}},{"$error":"#N/A"},{"$error":"#VALUE!"},{"$error":"#N/A"},{"$error":"#N/A"},{"$error":"#VALUE!"},{"$error":"#N/A"},{"$error":"#N/A"},{"$error":"#N/A"},null,null,null,null,null,null,null,null,null,null,null,null,null,null,null,{"$f":"'Analysis 103L'!CF143","v":""},"","","","","",""]
[117,{"$f":"'Analysis 103L'!C144","v":0},{"$f":"'Analysis 103L'!I144","v":""},{"$f":"'Analysis 103L'!J144","v":""},{"$f":"'Analysis 103L'!P144","v":0},{"$f":"'Analysis 103L'!N144","v":""},{"$f":"'Analysis 103L'!Q144","v":""},null,null,null,null,"","",{"$f":"IF(RIGHT(C123, 4)=\"Case\", \"\",IF(J123=\"\",\"\",IF(AH123=\"LLLC\", 0.6, VLOOKUP('100L Information'!$G$19,Load_Profiles, 4, FALSE))))","v":""},"","","",0,"",null,"",{"$f":"'Analysis 103L'!$Y$232*(S123/('Analysis 103L'!$Y$230+'Analysis 103L'!$Y$231))","v":{"$error":"#VALUE!"}},null,null,{"$f":"IF(Q123=\"\",\"\",Q123*'Analysis 103L'!$D$23)","v":""},null,null,null,null,{"$error":"#VALUE!"},{"$f":"IF(AND(U123=\"\",AK123=\"Custom\"),MIN(K123*Incent_Cost_Controls_Cust,Q123/J123*0.2),IF(AH123=\"LLLC\",MIN(AI123,((K123+'Analysis 103L'!R144)*Incent_Cost_LLLC)-'Analysis 103L'!X144),IF(AD123>=VLOOKUP(H123,Incent_Controls,3,FALSE),MIN(K123,VLOOKUP(H123,Incent_Controls,2,FALSE)),\"\")))","v":{"$error":"#VALUE!"}},"",null,"","",null,"","PASS/PASS","",{"$error":"#VALUE!"},{"$error":"#VALUE!"},{"$error":"#VALUE!"},"",null,10,{"$f":"VLOOKUP('Analysis 103L'!BE144, avoided_costs, ROUND($AS123, 0)+2, FALSE)","v":{"$error":"#N/A"}},{"$error":"#N/A"},{"$error":"#VALUE!"},{"$error":"#N/A"},{"$error":"#N/A"},{"$error":"#VALUE!"},{"$error":"#N/A"},{"$error":"#N/A"},{"$error":"#N/A"},null,null,null,null,null,null,null,null,null,null,null,null,null,null,null,{"$f":"'Analysis 103L'!CF144","v":""},"","","","","",""]
[118,{"$f":"'Analysis 103L'!C145","v":0},{"$f":"'Analysis 103L'!I145","v":""},{"$f":"'Analysis 103L'!J145","v":""},{"$f":"'Analysis 103L'!P145","v":0},{"$f":"'Analysis 103L'!N145","v":""},{"$f":"'Analysis 103L'!Q145","v":""},null,null,null,null,"","",{"$f":"IF(RIGHT(C124, 4)=\"Case\", \"\",IF(J124=\"\",\"\",IF(AH124=\"LLLC\", 0.6, VLOOKUP('100L Information'!$G$19,Load_Profiles, 4, FALSE))))","v":""},"","","",0,"",null,"",{"$f":"'Analysis 103L'!$Y$232*(S124/('Analysis 103L'!$Y$230+'Analysis 103L'!$Y$231))","v":{"$error":"#VALUE!"}},null,null,{"$f":"IF(Q124=\"\",\"\",Q124*'Analysis 103L'!$D$23)","v":""},null,null,null,null,{"$error":"#VALUE!"},{"$f":"IF(AND(U124=\"\",AK124=\"Custom\"),MIN(K124*Incent_Cost_Controls_Cust,Q124/J124*0.2),IF(AH124=\"LLLC\",MIN(AI124,((K124+'Analysis 103L'!R145)*Incent_Cost_LLLC)-'Analysis 103L'!X145),IF(AD124>=VLOOKUP(H124,Incent_Controls,3,FALSE),MIN(K124,VLOOKUP(H124,Incent_Controls,2,FALSE)),\"\")))","v":{"$error":"#VALUE!"}},"",null,"","",null,"","PASS/PASS","",{"$error":"#VALUE!"},{"$error":"#VALUE!"},{"$error":"#VALUE!"},"",null,10,{"$f":"VLOOKUP('Analysis 103L'!BE145, avoided_costs, ROUND($AS124, 0)+2, FALSE)","v":{"$error":"#N/A"}},{"$error":"#N/A"},{"$error":"#VALUE!"},{"$error":"#N/A"},{"$error":"#N/A"},{"$error":"#VALUE!"},{"$error":"#N/A"},{"$error":"#N/A"},{"$error":"#N/A"},null,null,null,null,null,null,null,null,null,null,null,null,null,null,null,{"$f":"'Analysis 103L'!CF145","v":""},"","","","","",""]
[119,{"$f":"'Analysis 103L'!C146","v":0},{"$f":"'Analysis 103L'!I146","v":""},{"$f":"'Analysis 103L'!J146","v":""},{"$f":"'Analysis 103L'!P146","v":0},{"$f":"'Analysis 103L'!N146","v":""},{"$f":"'Analysis 103L'!Q146","v":""},null,null,null,null,"","",{"$f":"IF(RIGHT(C125, 4)=\"Case\", \"\",IF(J125=\"\",\"\",IF(AH125=\"LLLC\", 0.6, VLOOKUP('100L Information'!$G$19,Load_Profiles, 4, FALSE))))","v":""},"","","",0,"",null,"",{"$f":"'Analysis 103L'!$Y$232*(S125/('Analysis 103L'!$Y$230+'Analysis 103L'!$Y$231))","v":{"$error":"#VALUE!"}},null,null,{"$f":"IF(Q125=\"\",\"\",Q125*'Analysis 103L'!$D$23)","v":""},null,null,null,null,{"$error":"#VALUE!"},{"$f":"IF(AND(U125=\"\",AK125=\"Custom\"),MIN(K125*Incent_Cost_Controls_Cust,Q125/J125*0.2),IF(AH125=\"LLLC\",MIN(AI125,((K125+'Analysis 103L'!R146)*Incent_Cost_LLLC)-'Analysis 103L'!X146),IF(AD125>=VLOOKUP(H125,Incent_Controls,3,FALSE),MIN(K125,VLOOKUP(H125,Incent_Controls,2,FALSE)),\"\")))","v":{"$error":"#VALUE!"}},"",null,"","",null,"","PASS/PASS","",{"$error":"#VALUE!"},{"$error":"#VALUE!"},{"$error":"#VALUE!"},"",null,10,{"$f":"VLOOKUP('Analysis 103L'!BE146, avoided_costs, ROUND($AS125, 0)+2, FALSE)","v":{"$error":"#N/A"}},{"$error":"#N/A"},{"$error":"#VALUE!"},{"$error":"#N/A"},{"$error":"#N/A"},{"$error":"#VALUE!"},{"$error":"#N/A"},{"$error":"#N/A"},{"$error":"#N/A"},null,null,null,null,null,null,null,null,null,null,null,null,null,null,null,{"$f":"'Analysis 103L'!CF146","v":""},"","","","","",""]
[120,{"$f":"'Analysis 103L'!C147","v":0},{"$f":"'Analysis 103L'!I147","v":""},{"$f":"'Analysis 103L'!J147","v":""},{"$f":"'Analysis 103L'!P147","v":0},{"$f":"'Analysis 103L'!N147","v":""},{"$f":"'Analysis 103L'!Q147","v":""},null,null,null,null,"","",{"$f":"IF(RIGHT(C126, 4)=\"Case\", \"\",IF(J126=\"\",\"\",IF(AH126=\"LLLC\", 0.6, VLOOKUP('100L Information'!$G$19,Load_Profiles, 4, FALSE))))","v":""},"","","",0,"",null,"",{"$f":"'Analysis 103L'!$Y$232*(S126/('Analysis 103L'!$Y$230+'Analysis 103L'!$Y$231))","v":{"$error":"#VALUE!"}},null,null,{"$f":"IF(Q126=\"\",\"\",Q126*'Analysis 103L'!$D$23)","v":""},null,null,null,null,{"$error":"#VALUE!"},{"$f":"IF(AND(U126=\"\",AK126=\"Custom\"),MIN(K126*Incent_Cost_Controls_Cust,Q126/J126*0.2),IF(AH126=\"LLLC\",MIN(AI126,((K126+'Analysis 103L'!R147)*Incent_Cost_LLLC)-'Analysis 103L'!X147),IF(AD126>=VLOOKUP(H126,Incent_Controls,3,FALSE),MIN(K126,VLOOKUP(H126,Incent_Controls,2,FALSE)),\"\")))","v":{"$error":"#VALUE!"}},"",null,"","",null,"","PASS/PASS","",{"$error":"#VALUE!"},{"$error":"#VALUE!"},{"$error":"#VALUE!"},"",null,10,{"$f":"VLOOKUP('Analysis 103L'!BE147, avoided_costs, ROUND($AS126, 0)+2, FALSE)","v":{"$error":"#N/A"}},{"$error":"#N/A"},{"$error":"#VALUE!"},{"$error":"#N/A"},{"$error":"#N/A"},{"$error":"#VALUE!"},{"$error":"#N/A"},{"$error":"#N/A"},{"$error":"#N/A"},null,null,null,null,null,null,null,null,null,null,null,null,null,null,null,{"$f":"'Analysis 103L'!CF147","v":""},"","","","","",""]
[121,{"$f":"'Analysis 103L'!C148","v":0},{"$f":"'Analysis 103L'!I148","v":""},{"$f":"'Analysis 103L'!J148","v":""},{"$f":"'Analysis 103L'!P148","v":0},{"$f":"'Analysis 103L'!N148","v":""},{"$f":"'Analysis 103L'!Q148","v":""},null,null,null,null,"","",{"$f":"IF(RIGHT(C127, 4)=\"Case\", \"\",IF(J127=\"\",\"\",IF(AH127=\"LLLC\", 0.6, VLOOKUP('100L Information'!$G$19,Load_Profiles, 4, FALSE))))","v":""},"","","",0,"",null,"",{"$f":"'Analysis 103L'!$Y$232*(S127/('Analysis 103L'!$Y$230+'Analysis 103L'!$Y$231))","v":{"$error":"#VALUE!"}},null,null,{"$f":"IF(Q127=\"\",\"\",Q127*'Analysis 103L'!$D$23)","v":""},null,null,null,null,{"$error":"#VALUE!"},{"$f":"IF(AND(U127=\"\",AK127=\"Custom\"),MIN(K127*Incent_Cost_Controls_Cust,Q127/J127*0.2),IF(AH127=\"LLLC\",MIN(AI127,((K127+'Analysis 103L'!R148)*Incent_Cost_LLLC)-'Analysis 103L'!X148),IF(AD127>=VLOOKUP(H127,Incent_Controls,3,FALSE),MIN(K127,VLOOKUP(H127,Incent_Controls,2,FALSE)),\"\")))","v":{"$error":"#VALUE!"}},"",null,"","",null,"","PASS/PASS","",{"$error":"#VALUE!"},{"$error":"#VALUE!"},{"$error":"#VALUE!"},"",null,10,{"$f":"VLOOKUP('Analysis 103L'!BE148, avoided_costs, ROUND($AS127, 0)+2, FALSE)","v":{"$error":"#N/A"}},{"$error":"#N/A"},{"$error":"#VALUE!"},{"$error":"#N/A"},{"$error":"#N/A"},{"$error":"#VALUE!"},{"$error":"#N/A"},{"$error":"#N/A"},{"$error":"#N/A"},null,null,null,null,null,null,null,null,null,null,null,null,null,null,null,{"$f":"'Analysis 103L'!CF148","v":""},"","","","","",""]
[122,{"$f":"'Analysis 103L'!C149","v":0},{"$f":"'Analysis 103L'!I149","v":""},{"$f":"'Analysis 103L'!J149","v":""},{"$f":"'Analysis 103L'!P149","v":0},{"$f":"'Analysis 103L'!N149","v":""},{"$f":"'Analysis 103L'!Q149","v":""},null,null,null,null,"","",{"$f":"IF(RIGHT(C128, 4)=\"Case\", \"\",IF(J128=\"\",\"\",IF(AH128=\"LLLC\", 0.6, VLOOKUP('100L Information'!$G$19,Load_Profiles, 4, FALSE))))","v":""},"","","",0,"",null,"",{"$f":"'Analysis 103L'!$Y$232*(S128/('Analysis 103L'!$Y$230+'Analysis 103L'!$Y$231))","v":{"$error":"#VALUE!"}},null,null,{"$f":"IF(Q128=\"\",\"\",Q128*'Analysis 103L'!$D$23)","v":""},null,null,null,null,{"$error":"#VALUE!"},{"$f":"IF(AND(U128=\"\",AK128=\"Custom\"),MIN(K128*Incent_Cost_Controls_Cust,Q128/J128*0.2),IF(AH128=\"LLLC\",MIN(AI128,((K128+'Analysis 103L'!R149)*Incent_Cost_LLLC)-'Analysis 103L'!X149),IF(AD128>=VLOOKUP(H128,Incent_Controls,3,FALSE),MIN(K128,VLOOKUP(H128,Incent_Controls,2,FALSE)),\"\")))","v":{"$error":"#VALUE!"}},"",null,"","",null,"","PASS/PASS","",{"$error":"#VALUE!"},{"$error":"#VALUE!"},{"$error":"#VALUE!"},"",null,10,{"$f":"VLOOKUP('Analysis 103L'!BE149, avoided_costs, ROUND($AS128, 0)+2, FALSE)","v":{"$error":"#N/A"}},{"$error":"#N/A"},{"$error":"#VALUE!"},{"$error":"#N/A"},{"$error":"#N/A"},{"$error":"#VALUE!"},{"$error":"#N/A"},{"$error":"#N/A"},{"$error":"#N/A"},null,null,null,null,null,null,null,null,null,null,null,null,null,null,null,{"$f":"'Analysis 103L'!CF149","v":""},"","","","","",""]
[123,{"$f":"'Analysis 103L'!C150","v":0},{"$f":"'Analysis 103L'!I150","v":""},{"$f":"'Analysis 103L'!J150","v":""},{"$f":"'Analysis 103L'!P150","v":0},{"$f":"'Analysis 103L'!N150","v":""},{"$f":"'Analysis 103L'!Q150","v":""},null,null,null,null,"","",{"$f":"IF(RIGHT(C129, 4)=\"Case\", \"\",IF(J129=\"\",\"\",IF(AH129=\"LLLC\", 0.6, VLOOKUP('100L Information'!$G$19,Load_Profiles, 4, FALSE))))","v":""},"","","",0,"",null,"",{"$f":"'Analysis 103L'!$Y$232*(S129/('Analysis 103L'!$Y$230+'Analysis 103L'!$Y$231))","v":{"$error":"#VALUE!"}},null,null,{"$f":"IF(Q129=\"\",\"\",Q129*'Analysis 103L'!$D$23)","v":""},null,null,null,null,{"$error":"#VALUE!"},{"$f":"IF(AND(U129=\"\",AK129=\"Custom\"),MIN(K129*Incent_Cost_Controls_Cust,Q129/J129*0.2),IF(AH129=\"LLLC\",MIN(AI129,((K129+'Analysis 103L'!R150)*Incent_Cost_LLLC)-'Analysis 103L'!X150),IF(AD129>=VLOOKUP(H129,Incent_Controls,3,FALSE),MIN(K129,VLOOKUP(H129,Incent_Controls,2,FALSE)),\"\")))","v":{"$error":"#VALUE!"}},"",null,"","",null,"","PASS/PASS","",{"$error":"#VALUE!"},{"$error":"#VALUE!"},{"$error":"#VALUE!"},"",null,10,{"$f":"VLOOKUP('Analysis 103L'!BE150, avoided_costs, ROUND($AS129, 0)+2, FALSE)","v":{"$error":"#N/A"}},{"$error":"#N/A"},{"$error":"#VALUE!"},{"$error":"#N/A"},{"$error":"#N/A"},{"$error":"#VALUE!"},{"$error":"#N/A"},{"$error":"#N/A"},{"$error":"#N/A"},null,null,null,null,null,null,null,null,null,null,null,null,null,null,null,{"$f":"'Analysis 103L'!CF150","v":""},"","","","","",""]
[124,{"$f":"'Analysis 103L'!C151","v":0},{"$f":"'Analysis 103L'!I151","v":""},{"$f":"'Analysis 103L'!J151","v":""},{"$f":"'Analysis 103L'!P151","v":0},{"$f":"'Analysis 103L'!N151","v":""},{"$f":"'Analysis 103L'!Q151","v":""},null,null,null,null,"","",{"$f":"IF(RIGHT(C130, 4)=\"Case\", \"\",IF(J130=\"\",\"\",IF(AH130=\"LLLC\", 0.6, VLOOKUP('100L Information'!$G$19,Load_Profiles, 4, FALSE))))","v":""},"","","",0,"",null,"",{"$f":"'Analysis 103L'!$Y$232*(S130/('Analysis 103L'!$Y$230+'Analysis 103L'!$Y$231))","v":{"$error":"#VALUE!"}},null,null,{"$f":"IF(Q130=\"\",\"\",Q130*'Analysis 103L'!$D$23)","v":""},null,null,null,null,{"$error":"#VALUE!"},{"$f":"IF(AND(U130=\"\",AK130=\"Custom\"),MIN(K130*Incent_Cost_Controls_Cust,Q130/J130*0.2),IF(AH130=\"LLLC\",MIN(AI130,((K130+'Analysis 103L'!R151)*Incent_Cost_LLLC)-'Analysis 103L'!X151),IF(AD130>=VLOOKUP(H130,Incent_Controls,3,FALSE),MIN(K130,VLOOKUP(H130,Incent_Controls,2,FALSE)),\"\")))","v":{"$error":"#VALUE!"}},"",null,"","",null,"","PASS/PASS","",{"$error":"#VALUE!"},{"$error":"#VALUE!"},{"$error":"#VALUE!"},"",null,10,{"$f":"VLOOKUP('Analysis 103L'!BE151, avoided_costs, ROUND($AS130, 0)+2, FALSE)","v":{"$error":"#N/A"}},{"$error":"#N/A"},{"$error":"#VALUE!"},{"$error":"#N/A"},{"$error":"#N/A"},{"$error":"#VALUE!"},{"$error":"#N/A"},{"$error":"#N/A"},{"$error":"#N/A"},null,null,null,null,null,null,null,null,null,null,null,null,null,null,null,{"$f":"'Analysis 103L'!CF151","v":""},"","","","","",""]
[125,{"$f":"'Analysis 103L'!C152","v":0},{"$f":"'Analysis 103L'!I152","v":""},{"$f":"'Analysis 103L'!J152","v":""},{"$f":"'Analysis 103L'!P152","v":0},{"$f":"'Analysis 103L'!N152","v":""},{"$f":"'Analysis 103L'!Q152","v":""},null,null,null,null,"","",{"$f":"IF(RIGHT(C131, 4)=\"Case\", \"\",IF(J131=\"\",\"\",IF(AH131=\"LLLC\", 0.6, VLOOKUP('100L Information'!$G$19,Load_Profiles, 4, FALSE))))","v":""},"","","",0,"",null,"",{"$f":"'Analysis 103L'!$Y$232*(S131/('Analysis 103L'!$Y$230+'Analysis 103L'!$Y$231))","v":{"$error":"#VALUE!"}},null,null,{"$f":"IF(Q131=\"\",\"\",Q131*'Analysis 103L'!$D$23)","v":""},null,null,null,null,{"$error":"#VALUE!"},{"$f":"IF(AND(U131=\"\",AK131=\"Custom\"),MIN(K131*Incent_Cost_Controls_Cust,Q131/J131*0.2),IF(AH131=\"LLLC\",MIN(AI131,((K131+'Analysis 103L'!R152)*Incent_Cost_LLLC)-'Analysis 103L'!X152),IF(AD131>=VLOOKUP(H131,Incent_Controls,3,FALSE),MIN(K131,VLOOKUP(H131,Incent_Controls,2,FALSE)),\"\")))","v":{"$error":"#VALUE!"}},"",null,"","",null,"","PASS/PASS","",{"$error":"#VALUE!"},{"$error":"#VALUE!"},{"$error":"#VALUE!"},"",null,10,{"$f":"VLOOKUP('Analysis 103L'!BE152, avoided_costs, ROUND($AS131, 0)+2, FALSE)","v":{"$error":"#N/A"}},{"$error":"#N/A"},{"$error":"#VALUE!"},{"$error":"#N/A"},{"$error":"#N/A"},{"$error":"#VALUE!"},{"$error":"#N/A"},{"$error":"#N/A"},{"$error":"#N/A"},null,null,null,null,null,null,null,null,null,null,null,null,null,null,null,{"$f":"'Analysis 103L'!CF152","v":""},"","","","","",""]
[126,{"$f":"'Analysis 103L'!C153","v":0},{"$f":"'Analysis 103L'!I153","v":""},{"$f":"'Analysis 103L'!J153","v":""},{"$f":"'Analysis 103L'!P153","v":0},{"$f":"'Analysis 103L'!N153","v":""},{"$f":"'Analysis 103L'!Q153","v":""},null,null,null,null,"","",{"$f":"IF(RIGHT(C132, 4)=\"Case\", \"\",IF(J132=\"\",\"\",IF(AH132=\"LLLC\", 0.6, VLOOKUP('100L Information'!$G$19,Load_Profiles, 4, FALSE))))","v":""},"","","",0,"",null,"",{"$f":"'Analysis 103L'!$Y$232*(S132/('Analysis 103L'!$Y$230+'Analysis 103L'!$Y$231))","v":{"$error":"#VALUE!"}},null,null,{"$f":"IF(Q132=\"\",\"\",Q132*'Analysis 103L'!$D$23)","v":""},null,null,null,null,{"$error":"#VALUE!"},{"$f":"IF(AND(U132=\"\",AK132=\"Custom\"),MIN(K132*Incent_Cost_Controls_Cust,Q132/J132*0.2),IF(AH132=\"LLLC\",MIN(AI132,((K132+'Analysis 103L'!R153)*Incent_Cost_LLLC)-'Analysis 103L'!X153),IF(AD132>=VLOOKUP(H132,Incent_Controls,3,FALSE),MIN(K132,VLOOKUP(H132,Incent_Controls,2,FALSE)),\"\")))","v":{"$error":"#VALUE!"}},"",null,"","",null,"","PASS/PASS","",{"$error":"#VALUE!"},{"$error":"#VALUE!"},{"$error":"#VALUE!"},"",null,10,{"$f":"VLOOKUP('Analysis 103L'!BE153, avoided_costs, ROUND($AS132, 0)+2, FALSE)","v":{"$error":"#N/A"}},{"$error":"#N/A"},{"$error":"#VALUE!"},{"$error":"#N/A"},{"$error":"#N/A"},{"$error":"#VALUE!"},{"$error":"#N/A"},{"$error":"#N/A"},{"$error":"#N/A"},null,null,null,null,null,null,null,null,null,null,null,null,null,null,null,{"$f":"'Analysis 103L'!CF153","v":""},"","","","","",""]
[127,{"$f":"'Analysis 103L'!C154","v":0},{"$f":"'Analysis 103L'!I154","v":""},{"$f":"'Analysis 103L'!J154","v":""},{"$f":"'Analysis 103L'!P154","v":0},{"$f":"'Analysis 103L'!N154","v":""},{"$f":"'Analysis 103L'!Q154","v":""},null,null,null,null,"","",{"$f":"IF(RIGHT(C133, 4)=\"Case\", \"\",IF(J133=\"\",\"\",IF(AH133=\"LLLC\", 0.6, VLOOKUP('100L Information'!$G$19,Load_Profiles, 4, FALSE))))","v":""},"","","",0,"",null,"",{"$f":"'Analysis 103L'!$Y$232*(S133/('Analysis 103L'!$Y$230+'Analysis 103L'!$Y$231))","v":{"$error":"#VALUE!"}},null,null,{"$f":"IF(Q133=\"\",\"\",Q133*'Analysis 103L'!$D$23)","v":""},null,null,null,null,{"$error":"#VALUE!"},{"$f":"IF(AND(U133=\"\",AK133=\"Custom\"),MIN(K133*Incent_Cost_Controls_Cust,Q133/J133*0.2),IF(AH133=\"LLLC\",MIN(AI133,((K133+'Analysis 103L'!R154)*Incent_Cost_LLLC)-'Analysis 103L'!X154),IF(AD133>=VLOOKUP(H133,Incent_Controls,3,FALSE),MIN(K133,VLOOKUP(H133,Incent_Controls,2,FALSE)),\"\")))","v":{"$error":"#VALUE!"}},"",null,"","",null,"","PASS/PASS","",{"$error":"#VALUE!"},{"$error":"#VALUE!"},{"$error":"#VALUE!"},"",null,10,{"$f":"VLOOKUP('Analysis 103L'!BE154, avoided_costs, ROUND($AS133, 0)+2, FALSE)","v":{"$error":"#N/A"}},{"$error":"#N/A"},{"$error":"#VALUE!"},{"$error":"#N/A"},{"$error":"#N/A"},{"$error":"#VALUE!"},{"$error":"#N/A"},{"$error":"#N/A"},{"$error":"#N/A"},null,null,null,null,null,null,null,null,null,null,null,null,null,null,null,{"$f":"'Analysis 103L'!CF154","v":""},"","","","","",""]
[128,{"$f":"'Analysis 103L'!C155","v":0},{"$f":"'Analysis 103L'!I155","v":""},{"$f":"'Analysis 103L'!J155","v":""},{"$f":"'Analysis 103L'!P155","v":0},{"$f":"'Analysis 103L'!N155","v":""},{"$f":"'Analysis 103L'!Q155","v":""},null,null,null,null,"","",{"$f":"IF(RIGHT(C134, 4)=\"Case\", \"\",IF(J134=\"\",\"\",IF(AH134=\"LLLC\", 0.6, VLOOKUP('100L Information'!$G$19,Load_Profiles, 4, FALSE))))","v":""},"","","",0,"",null,"",{"$f":"'Analysis 103L'!$Y$232*(S134/('Analysis 103L'!$Y$230+'Analysis 103L'!$Y$231))","v":{"$error":"#VALUE!"}},null,null,{"$f":"IF(Q134=\"\",\"\",Q134*'Analysis 103L'!$D$23)","v":""},null,null,null,null,{"$error":"#VALUE!"},{"$f":"IF(AND(U134=\"\",AK134=\"Custom\"),MIN(K134*Incent_Cost_Controls_Cust,Q134/J134*0.2),IF(AH134=\"LLLC\",MIN(AI134,((K134+'Analysis 103L'!R155)*Incent_Cost_LLLC)-'Analysis 103L'!X155),IF(AD134>=VLOOKUP(H134,Incent_Controls,3,FALSE),MIN(K134,VLOOKUP(H134,Incent_Controls,2,FALSE)),\"\")))","v":{"$error":"#VALUE!"}},"",null,"","",null,"","PASS/PASS","",{"$error":"#VALUE!"},{"$error":"#VALUE!"},{"$error":"#VALUE!"},"",null,10,{"$f":"VLOOKUP('Analysis 103L'!BE155, avoided_costs, ROUND($AS134, 0)+2, FALSE)","v":{"$error":"#N/A"}},{"$error":"#N/A"},{"$error":"#VALUE!"},{"$error":"#N/A"},{"$error":"#N/A"},{"$error":"#VALUE!"},{"$error":"#N/A"},{"$error":"#N/A"},{"$error":"#N/A"},null,null,null,null,null,null,null,null,null,null,null,null,null,null,null,{"$f":"'Analysis 103L'!CF155","v":""},"","","","","",""]
[129,{"$f":"'Analysis 103L'!C156","v":0},{"$f":"'Analysis 103L'!I156","v":""},{"$f":"'Analysis 103L'!J156","v":""},{"$f":"'Analysis 103L'!P156","v":0},{"$f":"'Analysis 103L'!N156","v":""},{"$f":"'Analysis 103L'!Q156","v":""},null,null,null,null,{"$f":"IF(RIGHT(H135, 4)=\"Case\", \"<-- Enter Total Cost.\", IF(J135=\"\",\"\",J135*K135))","v":""},"",{"$f":"IF(RIGHT(C135, 4)=\"Case\", \"\",IF(J135=\"\",\"\",IF(AH135=\"LLLC\", 0.6, VLOOKUP('100L Information'!$G$19,Load_Profiles, 4, FALSE))))","v":""},"","","",0,"",null,"",{"$f":"'Analysis 103L'!$Y$232*(S135/('Analysis 103L'!$Y$230+'Analysis 103L'!$Y$231))","v":{"$error":"#VALUE!"}},null,null,{"$f":"IF(Q135=\"\",\"\",Q135*'Analysis 103L'!$D$23)","v":""},null,null,null,null,{"$error":"#VALUE!"},{"$f":"IF(AND(U135=\"\",AK135=\"Custom\"),MIN(K135*Incent_Cost_Controls_Cust,Q135/J135*0.2),IF(AH135=\"LLLC\",MIN(AI135,((K135+'Analysis 103L'!R156)*Incent_Cost_LLLC)-'Analysis 103L'!X156),IF(AD135>=VLOOKUP(H135,Incent_Controls,3,FALSE),MIN(K135,VLOOKUP(H135,Incent_Controls,2,FALSE)),\"\")))","v":{"$error":"#VALUE!"}},{"$f":"IF(OR(AH135=\"LLLC\",J135=\"\"),\"\",IF(AD135>=VLOOKUP(H135,Incent_Controls,3,FALSE),\"Y\",\"N\"))","v":""},null,"","",null,"",{"$f":"IF(AK135=\"\",\"PASS/PASS\",IF(BB135=\"PASS/PASS\",\"PASS/PASS\",\"FAIL\"))","v":"PASS/PASS"},{"$f":"IF(AL135=\"PASS/PASS\",L135,\"0\")","v":""},{"$f":"E135*F135*G135/1000","v":{"$error":"#VALUE!"}},{"$f":"AN135*(1-N135)","v":{"$error":"#VALUE!"}},{"$error":"#VALUE!"},{"$f":"IF(AK135=\"Custom\",0.35*L135,S135)","v":""},null,10,{"$f":"VLOOKUP('Analysis 103L'!BE156, avoided_costs, ROUND($AS135, 0)+2, FALSE)","v":{"$error":"#N/A"}},{"$error":"#N/A"},{"$f":"0.5*L135/AP135","v":{"$error":"#VALUE!"}},{"$error":"#N/A"},{"$error":"#N/A"},{"$f":"L135/AP135","v":{"$error":"#VALUE!"}},{"$f":"AU135/AY135","v":{"$error":"#N/A"}},{"$error":"#N/A"},{"$f":"AX135&\"/\"&BA135","v":{"$error":"#N/A"}},null,null,null,null,null,null,null,null,null,null,null,null,null,null,null,{"$f":"'Analysis 103L'!CF156","v":""},"","",{"$f":"IF(BS135=\"\", \"\", INDEX($BP$32:$BP$33, MATCH($BS135, $BM$32:$BM$33, 0))*$BT135)","v":""},{"$f":"IF(BT135=\"\", \"\", INDEX($BN$32:$BN$33, MATCH($BS135, $BM$32:$BM$33, 0)))","v":""},"",""]
[130,{"$f":"'Analysis 103L'!C157","v":0},{"$f":"'Analysis 103L'!I157","v":""},{"$f":"'Analysis 103L'!J157","v":""},{"$f":"'Analysis 103L'!P157","v":0},{"$f":"'Analysis 103L'!N157","v":""},{"$f":"'Analysis 103L'!Q157","v":""},null,null,null,null,"","",{"$f":"IF(RIGHT(C136, 4)=\"Case\", \"\",IF(J136=\"\",\"\",IF(AH136=\"LLLC\", 0.6, VLOOKUP('100L Information'!$G$19,Load_Profiles, 4, FALSE))))","v":""},"","","",0,"",null,{"$f":"IF(AL136=\"FAIL\",\"Control System Not Cost Effective\",IF(AF136=\"N\",\"Does not meet requirement\",\"\"))","v":""},{"$f":"'Analysis 103L'!$Y$232*(S136/('Analysis 103L'!$Y$230+'Analysis 103L'!$Y$231))","v":{"$error":"#VALUE!"}},null,null,{"$f":"IF(Q136=\"\",\"\",Q136*'Analysis 103L'!$D$23)","v":""},null,null,null,null,{"$f":"E136*F136/J136","v":{"$error":"#VALUE!"}},{"$f":"IF(AND(U136=\"\",AK136=\"Custom\"),MIN(K136*Incent_Cost_Controls_Cust,Q136/J136*0.2),IF(AH136=\"LLLC\",MIN(AI136,((K136+'Analysis 103L'!R157)*Incent_Cost_LLLC)-'Analysis 103L'!X157),IF(AD136>=VLOOKUP(H136,Incent_Controls,3,FALSE),MIN(K136,VLOOKUP(H136,Incent_Controls,2,FALSE)),\"\")))","v":{"$error":"#VALUE!"}},"",null,"","",null,{"$f":"IF(OR(H136=\"Custom Control System\",LEFT(H136,4)=\"Hard\"),\"Custom\",\"\")","v":""},"PASS/PASS","",{"$error":"#VALUE!"},{"$error":"#VALUE!"},{"$f":"AN136-AO136","v":{"$error":"#VALUE!"}},"",null,10,{"$f":"VLOOKUP('Analysis 103L'!BE157, avoided_costs, ROUND($AS136, 0)+2, FALSE)","v":{"$error":"#N/A"}},{"$f":"AT136","v":{"$error":"#N/A"}},{"$error":"#VALUE!"},{"$f":"AT136/AV136","v":{"$error":"#N/A"}},{"$error":"#N/A"},{"$error":"#VALUE!"},{"$error":"#N/A"},{"$error":"#N/A"},{"$error":"#N/A"},null,null,null,null,null,null,null,null,null,null,null,null,null,null,null,{"$f":"'Analysis 103L'!CF157","v":""},"","","","","",""]
[131,{"$f":"'Analysis 103L'!C158","v":0},{"$f":"'Analysis 103L'!I158","v":""},{"$f":"'Analysis 103L'!J158","v":""},{"$f":"'Analysis 103L'!P158","v":0},{"$f":"'Analysis 103L'!N158","v":""},{"$f":"'Analysis 103L'!Q158","v":""},null,null,null,null,"","",{"$f":"IF(RIGHT(C137, 4)=\"Case\", \"\",IF(J137=\"\",\"\",IF(AH137=\"LLLC\", 0.6, VLOOKUP('100L Information'!$G$19,Load_Profiles, 4, FALSE))))","v":""},"","","",0,"",null,"",{"$f":"'Analysis 103L'!$Y$232*(S137/('Analysis 103L'!$Y$230+'Analysis 103L'!$Y$231))","v":{"$error":"#VALUE!"}},null,null,{"$f":"IF(Q137=\"\",\"\",Q137*'Analysis 103L'!$D$23)","v":""},null,null,null,null,{"$error":"#VALUE!"},{"$f":"IF(AND(U137=\"\",AK137=\"Custom\"),MIN(K137*Incent_Cost_Controls_Cust,Q137/J137*0.2),IF(AH137=\"LLLC\",MIN(AI137,((K137+'Analysis 103L'!R158)*Incent_Cost_LLLC)-'Analysis 103L'!X158),IF(AD137>=VLOOKUP(H137,Incent_Controls,3,FALSE),MIN(K137,VLOOKUP(H137,Incent_Controls,2,FALSE)),\"\")))","v":{"$error":"#VALUE!"}},"",null,"","",null,"","PASS/PASS","",{"$error":"#VALUE!"},{"$error":"#VALUE!"},{"$error":"#VALUE!"},"",null,10,{"$f":"VLOOKUP('Analysis 103L'!BE158, avoided_costs, ROUND($AS137, 0)+2, FALSE)","v":{"$error":"#N/A"}},{"$error":"#N/A"},{"$error":"#VALUE!"},{"$error":"#N/A"},{"$error":"#N/A"},{"$error":"#VALUE!"},{"$error":"#N/A"},{"$error":"#N/A"},{"$error":"#N/A"},null,null,null,null,null,null,null,null,null,null,null,null,null,null,null,{"$f":"'Analysis 103L'!CF158","v":""},"","","","","",""]
[132,{"$f":"'Analysis 103L'!C159","v":0},{"$f":"'Analysis 103L'!I159","v":""},{"$f":"'Analysis 103L'!J159","v":""},{"$f":"'Analysis 103L'!P159","v":0},{"$f":"'Analysis 103L'!N159","v":""},{"$f":"'Analysis 103L'!Q159","v":""},null,null,null,null,"",{"$f":"IFERROR(IF(J138=\"\",\"\",IF(LEFT(H138,8) =\"Exterior\", (F138*E138/J138*0.5), F138*E138/J138)),\"\")","v":""},{"$f":"IF(RIGHT(C138, 4)=\"Case\", \"\",IF(J138=\"\",\"\",IF(AH138=\"LLLC\", 0.6, VLOOKUP('100L Information'!$G$19,Load_Profiles, 4, FALSE))))","v":""},"","","",{"$f":"IF(AND(ISNUMBER(AE138),ISNUMBER(K138)),AE138,)","v":0},"",null,"",{"$f":"'Analysis 103L'!$Y$232*(S138/('Analysis 103L'!$Y$230+'Analysis 103L'!$Y$231))","v":{"$error":"#VALUE!"}},null,null,{"$f":"IF(Q138=\"\",\"\",Q138*'Analysis 103L'!$D$23)","v":""},null,null,null,null,{"$error":"#VALUE!"},{"$f":"IF(AND(U138=\"\",AK138=\"Custom\"),MIN(K138*Incent_Cost_Controls_Cust,Q138/J138*0.2),IF(AH138=\"LLLC\",MIN(AI138,((K138+'Analysis 103L'!R159)*Incent_Cost_LLLC)-'Analysis 103L'!X159),IF(AD138>=VLOOKUP(H138,Incent_Controls,3,FALSE),MIN(K138,VLOOKUP(H138,Incent_Controls,2,FALSE)),\"\")))","v":{"$error":"#VALUE!"}},"",null,"","",null,"","PASS/PASS","",{"$error":"#VALUE!"},{"$error":"#VALUE!"},{"$error":"#VALUE!"},"",null,10,{"$f":"VLOOKUP('Analysis 103L'!BE159, avoided_costs, ROUND($AS138, 0)+2, FALSE)","v":{"$error":"#N/A"}},{"$error":"#N/A"},{"$error":"#VALUE!"},{"$error":"#N/A"},{"$error":"#N/A"},{"$error":"#VALUE!"},{"$error":"#N/A"},{"$error":"#N/A"},{"$error":"#N/A"},null,null,null,null,null,null,null,null,null,null,null,null,null,null,null,{"$f":"'Analysis 103L'!CF159","v":""},"","","","","",""]
[133,{"$f":"'Analysis 103L'!C160","v":0},{"$f":"'Analysis 103L'!I160","v":""},{"$f":"'Analysis 103L'!J160","v":""},{"$f":"'Analysis 103L'!P160","v":0},{"$f":"'Analysis 103L'!N160","v":""},{"$f":"'Analysis 103L'!Q160","v":""},null,null,null,null,"","",{"$f":"IF(RIGHT(C139, 4)=\"Case\", \"\",IF(J139=\"\",\"\",IF(AH139=\"LLLC\", 0.6, VLOOKUP('100L Information'!$G$19,Load_Profiles, 4, FALSE))))","v":""},"","","",0,"",null,"",{"$f":"'Analysis 103L'!$Y$232*(S139/('Analysis 103L'!$Y$230+'Analysis 103L'!$Y$231))","v":{"$error":"#VALUE!"}},null,null,{"$f":"IF(Q139=\"\",\"\",Q139*'Analysis 103L'!$D$23)","v":""},null,null,null,null,{"$error":"#VALUE!"},{"$f":"IF(AND(U139=\"\",AK139=\"Custom\"),MIN(K139*Incent_Cost_Controls_Cust,Q139/J139*0.2),IF(AH139=\"LLLC\",MIN(AI139,((K139+'Analysis 103L'!R160)*Incent_Cost_LLLC)-'Analysis 103L'!X160),IF(AD139>=VLOOKUP(H139,Incent_Controls,3,FALSE),MIN(K139,VLOOKUP(H139,Incent_Controls,2,FALSE)),\"\")))","v":{"$error":"#VALUE!"}},"",null,"","",null,"","PASS/PASS","",{"$error":"#VALUE!"},{"$error":"#VALUE!"},{"$error":"#VALUE!"},"",null,10,{"$f":"VLOOKUP('Analysis 103L'!BE160, avoided_costs, ROUND($AS139, 0)+2, FALSE)","v":{"$error":"#N/A"}},{"$error":"#N/A"},{"$error":"#VALUE!"},{"$error":"#N/A"},{"$error":"#N/A"},{"$error":"#VALUE!"},{"$error":"#N/A"},{"$error":"#N/A"},{"$error":"#N/A"},null,null,null,null,null,null,null,null,null,null,null,null,null,null,null,{"$f":"'Analysis 103L'!CF160","v":""},"","","","","",""]
[134,{"$f":"'Analysis 103L'!C161","v":0},{"$f":"'Analysis 103L'!I161","v":""},{"$f":"'Analysis 103L'!J161","v":""},{"$f":"'Analysis 103L'!P161","v":0},{"$f":"'Analysis 103L'!N161","v":""},{"$f":"'Analysis 103L'!Q161","v":""},null,null,null,null,"","",{"$f":"IF(RIGHT(C140, 4)=\"Case\", \"\",IF(J140=\"\",\"\",IF(AH140=\"LLLC\", 0.6, VLOOKUP('100L Information'!$G$19,Load_Profiles, 4, FALSE))))","v":""},"","","",0,"",null,"",{"$f":"'Analysis 103L'!$Y$232*(S140/('Analysis 103L'!$Y$230+'Analysis 103L'!$Y$231))","v":{"$error":"#VALUE!"}},null,null,{"$f":"IF(Q140=\"\",\"\",Q140*'Analysis 103L'!$D$23)","v":""},null,null,null,null,{"$error":"#VALUE!"},{"$f":"IF(AND(U140=\"\",AK140=\"Custom\"),MIN(K140*Incent_Cost_Controls_Cust,Q140/J140*0.2),IF(AH140=\"LLLC\",MIN(AI140,((K140+'Analysis 103L'!R161)*Incent_Cost_LLLC)-'Analysis 103L'!X161),IF(AD140>=VLOOKUP(H140,Incent_Controls,3,FALSE),MIN(K140,VLOOKUP(H140,Incent_Controls,2,FALSE)),\"\")))","v":{"$error":"#VALUE!"}},"",null,"","",null,"","PASS/PASS","",{"$error":"#VALUE!"},{"$error":"#VALUE!"},{"$error":"#VALUE!"},"",null,10,{"$f":"VLOOKUP('Analysis 103L'!BE161, avoided_costs, ROUND($AS140, 0)+2, FALSE)","v":{"$error":"#N/A"}},{"$error":"#N/A"},{"$error":"#VALUE!"},{"$error":"#N/A"},{"$error":"#N/A"},{"$error":"#VALUE!"},{"$error":"#N/A"},{"$error":"#N/A"},{"$error":"#N/A"},null,null,null,null,null,null,null,null,null,null,null,null,null,null,null,{"$f":"'Analysis 103L'!CF161","v":""},"","","","","",""]
[135,{"$f":"'Analysis 103L'!C162","v":0},{"$f":"'Analysis 103L'!I162","v":""},{"$f":"'Analysis 103L'!J162","v":""},{"$f":"'Analysis 103L'!P162","v":0},{"$f":"'Analysis 103L'!N162","v":""},{"$f":"'Analysis 103L'!Q162","v":""},null,null,null,null,"","",{"$f":"IF(RIGHT(C141, 4)=\"Case\", \"\",IF(J141=\"\",\"\",IF(AH141=\"LLLC\", 0.6, VLOOKUP('100L Information'!$G$19,Load_Profiles, 4, FALSE))))","v":""},"","","",0,"",null,"",{"$f":"'Analysis 103L'!$Y$232*(S141/('Analysis 103L'!$Y$230+'Analysis 103L'!$Y$231))","v":{"$error":"#VALUE!"}},null,null,{"$f":"IF(Q141=\"\",\"\",Q141*'Analysis 103L'!$D$23)","v":""},null,null,null,null,{"$error":"#VALUE!"},{"$f":"IF(AND(U141=\"\",AK141=\"Custom\"),MIN(K141*Incent_Cost_Controls_Cust,Q141/J141*0.2),IF(AH141=\"LLLC\",MIN(AI141,((K141+'Analysis 103L'!R162)*Incent_Cost_LLLC)-'Analysis 103L'!X162),IF(AD141>=VLOOKUP(H141,Incent_Controls,3,FALSE),MIN(K141,VLOOKUP(H141,Incent_Controls,2,FALSE)),\"\")))","v":{"$error":"#VALUE!"}},"",null,"","",null,"","PASS/PASS","",{"$error":"#VALUE!"},{"$error":"#VALUE!"},{"$error":"#VALUE!"},"",null,10,{"$f":"VLOOKUP('Analysis 103L'!BE162, avoided_costs, ROUND($AS141, 0)+2, FALSE)","v":{"$error":"#N/A"}},{"$error":"#N/A"},{"$error":"#VALUE!"},{"$error":"#N/A"},{"$error":"#N/A"},{"$error":"#VALUE!"},{"$error":"#N/A"},{"$error":"#N/A"},{"$error":"#N/A"},null,null,null,null,null,null,null,null,null,null,null,null,null,null,null,{"$f":"'Analysis 103L'!CF162","v":""},"","","","",{"$f":"IF(BV141=\"\",\"\",MIN(K141*Incent_Cost_Case,(E141*BV141)))","v":""},""]
[136,{"$f":"'Analysis 103L'!C163","v":0},{"$f":"'Analysis 103L'!I163","v":""},{"$f":"'Analysis 103L'!J163","v":""},{"$f":"'Analysis 103L'!P163","v":0},{"$f":"'Analysis 103L'!N163","v":""},{"$f":"'Analysis 103L'!Q163","v":""},null,null,null,null,"","",{"$f":"IF(RIGHT(C142, 4)=\"Case\", \"\",IF(J142=\"\",\"\",IF(AH142=\"LLLC\", 0.6, VLOOKUP('100L Information'!$G$19,Load_Profiles, 4, FALSE))))","v":""},"","","",0,"",null,"",{"$f":"'Analysis 103L'!$Y$232*(S142/('Analysis 103L'!$Y$230+'Analysis 103L'!$Y$231))","v":{"$error":"#VALUE!"}},null,null,{"$f":"IF(Q142=\"\",\"\",Q142*'Analysis 103L'!$D$23)","v":""},null,null,null,null,{"$error":"#VALUE!"},{"$f":"IF(AND(U142=\"\",AK142=\"Custom\"),MIN(K142*Incent_Cost_Controls_Cust,Q142/J142*0.2),IF(AH142=\"LLLC\",MIN(AI142,((K142+'Analysis 103L'!R163)*Incent_Cost_LLLC)-'Analysis 103L'!X163),IF(AD142>=VLOOKUP(H142,Incent_Controls,3,FALSE),MIN(K142,VLOOKUP(H142,Incent_Controls,2,FALSE)),\"\")))","v":{"$error":"#VALUE!"}},"",null,"","",null,"","PASS/PASS","",{"$error":"#VALUE!"},{"$error":"#VALUE!"},{"$error":"#VALUE!"},"",null,10,{"$f":"VLOOKUP('Analysis 103L'!BE163, avoided_costs, ROUND($AS142, 0)+2, FALSE)","v":{"$error":"#N/A"}},{"$error":"#N/A"},{"$error":"#VALUE!"},{"$error":"#N/A"},{"$error":"#N/A"},{"$error":"#VALUE!"},{"$error":"#N/A"},{"$error":"#N/A"},{"$error":"#N/A"},null,null,null,null,null,null,null,null,null,null,null,null,null,null,null,{"$f":"'Analysis 103L'!CF163","v":""},"","","","","",""]
[137,{"$f":"'Analysis 103L'!C164","v":0},{"$f":"'Analysis 103L'!I164","v":""},{"$f":"'Analysis 103L'!J164","v":""},{"$f":"'Analysis 103L'!P164","v":0},{"$f":"'Analysis 103L'!N164","v":""},{"$f":"'Analysis 103L'!Q164","v":""},null,null,null,null,"","",{"$f":"IF(RIGHT(C143, 4)=\"Case\", \"\",IF(J143=\"\",\"\",IF(AH143=\"LLLC\", 0.6, VLOOKUP('100L Information'!$G$19,Load_Profiles, 4, FALSE))))","v":""},"","","",0,"",null,"",{"$f":"'Analysis 103L'!$Y$232*(S143/('Analysis 103L'!$Y$230+'Analysis 103L'!$Y$231))","v":{"$error":"#VALUE!"}},null,null,{"$f":"IF(Q143=\"\",\"\",Q143*'Analysis 103L'!$D$23)","v":""},null,null,null,null,{"$error":"#VALUE!"},{"$f":"IF(AND(U143=\"\",AK143=\"Custom\"),MIN(K143*Incent_Cost_Controls_Cust,Q143/J143*0.2),IF(AH143=\"LLLC\",MIN(AI143,((K143+'Analysis 103L'!R164)*Incent_Cost_LLLC)-'Analysis 103L'!X164),IF(AD143>=VLOOKUP(H143,Incent_Controls,3,FALSE),MIN(K143,VLOOKUP(H143,Incent_Controls,2,FALSE)),\"\")))","v":{"$error":"#VALUE!"}},"",null,"","",null,"","PASS/PASS","",{"$error":"#VALUE!"},{"$error":"#VALUE!"},{"$error":"#VALUE!"},"",null,10,{"$f":"VLOOKUP('Analysis 103L'!BE164, avoided_costs, ROUND($AS143, 0)+2, FALSE)","v":{"$error":"#N/A"}},{"$error":"#N/A"},{"$error":"#VALUE!"},{"$error":"#N/A"},{"$error":"#N/A"},{"$error":"#VALUE!"},{"$error":"#N/A"},{"$error":"#N/A"},{"$error":"#N/A"},null,null,null,null,null,null,null,null,null,null,null,null,null,null,null,{"$f":"'Analysis 103L'!CF164","v":""},"","","","","",""]
[138,{"$f":"'Analysis 103L'!C165","v":0},{"$f":"'Analysis 103L'!I165","v":""},{"$f":"'Analysis 103L'!J165","v":""},{"$f":"'Analysis 103L'!P165","v":0},{"$f":"'Analysis 103L'!N165","v":""},{"$f":"'Analysis 103L'!Q165","v":""},null,null,null,null,"","",{"$f":"IF(RIGHT(C144, 4)=\"Case\", \"\",IF(J144=\"\",\"\",IF(AH144=\"LLLC\", 0.6, VLOOKUP('100L Information'!$G$19,Load_Profiles, 4, FALSE))))","v":""},"","","",0,"",null,"",{"$f":"'Analysis 103L'!$Y$232*(S144/('Analysis 103L'!$Y$230+'Analysis 103L'!$Y$231))","v":{"$error":"#VALUE!"}},null,null,{"$f":"IF(Q144=\"\",\"\",Q144*'Analysis 103L'!$D$23)","v":""},null,null,null,null,{"$error":"#VALUE!"},{"$f":"IF(AND(U144=\"\",AK144=\"Custom\"),MIN(K144*Incent_Cost_Controls_Cust,Q144/J144*0.2),IF(AH144=\"LLLC\",MIN(AI144,((K144+'Analysis 103L'!R165)*Incent_Cost_LLLC)-'Analysis 103L'!X165),IF(AD144>=VLOOKUP(H144,Incent_Controls,3,FALSE),MIN(K144,VLOOKUP(H144,Incent_Controls,2,FALSE)),\"\")))","v":{"$error":"#VALUE!"}},"",null,"","",null,"","PASS/PASS","",{"$error":"#VALUE!"},{"$error":"#VALUE!"},{"$error":"#VALUE!"},"",null,10,{"$f":"VLOOKUP('Analysis 103L'!BE165, avoided_costs, ROUND($AS144, 0)+2, FALSE)","v":{"$error":"#N/A"}},{"$error":"#N/A"},{"$error":"#VALUE!"},{"$error":"#N/A"},{"$error":"#N/A"},{"$error":"#VALUE!"},{"$error":"#N/A"},{"$error":"#N/A"},{"$error":"#N/A"},null,null,null,null,null,null,null,null,null,null,null,null,null,null,null,{"$f":"'Analysis 103L'!CF165","v":""},"","","","","",""]
[139,{"$f":"'Analysis 103L'!C166","v":0},{"$f":"'Analysis 103L'!I166","v":""},{"$f":"'Analysis 103L'!J166","v":""},{"$f":"'Analysis 103L'!P166","v":0},{"$f":"'Analysis 103L'!N166","v":""},{"$f":"'Analysis 103L'!Q166","v":""},null,null,null,null,"","",{"$f":"IF(RIGHT(C145, 4)=\"Case\", \"\",IF(J145=\"\",\"\",IF(AH145=\"LLLC\", 0.6, VLOOKUP('100L Information'!$G$19,Load_Profiles, 4, FALSE))))","v":""},"","","",0,"",null,"",{"$f":"'Analysis 103L'!$Y$232*(S145/('Analysis 103L'!$Y$230+'Analysis 103L'!$Y$231))","v":{"$error":"#VALUE!"}},null,null,{"$f":"IF(Q145=\"\",\"\",Q145*'Analysis 103L'!$D$23)","v":""},null,null,null,null,{"$error":"#VALUE!"},{"$f":"IF(AND(U145=\"\",AK145=\"Custom\"),MIN(K145*Incent_Cost_Controls_Cust,Q145/J145*0.2),IF(AH145=\"LLLC\",MIN(AI145,((K145+'Analysis 103L'!R166)*Incent_Cost_LLLC)-'Analysis 103L'!X166),IF(AD145>=VLOOKUP(H145,Incent_Controls,3,FALSE),MIN(K145,VLOOKUP(H145,Incent_Controls,2,FALSE)),\"\")))","v":{"$error":"#VALUE!"}},"",null,"","",null,"","PASS/PASS","",{"$error":"#VALUE!"},{"$error":"#VALUE!"},{"$error":"#VALUE!"},"",null,10,{"$f":"VLOOKUP('Analysis 103L'!BE166, avoided_costs, ROUND($AS145, 0)+2, FALSE)","v":{"$error":"#N/A"}},{"$error":"#N/A"},{"$error":"#VALUE!"},{"$error":"#N/A"},{"$error":"#N/A"},{"$error":"#VALUE!"},{"$error":"#N/A"},{"$error":"#N/A"},{"$error":"#N/A"},null,null,null,null,null,null,null,null,null,null,null,null,null,null,null,{"$f":"'Analysis 103L'!CF166","v":""},"","","","","",""]
[140,{"$f":"'Analysis 103L'!C167","v":0},{"$f":"'Analysis 103L'!I167","v":""},{"$f":"'Analysis 103L'!J167","v":""},{"$f":"'Analysis 103L'!P167","v":0},{"$f":"'Analysis 103L'!N167","v":""},{"$f":"'Analysis 103L'!Q167","v":""},null,null,null,null,"","",{"$f":"IF(RIGHT(C146, 4)=\"Case\", \"\",IF(J146=\"\",\"\",IF(AH146=\"LLLC\", 0.6, VLOOKUP('100L Information'!$G$19,Load_Profiles, 4, FALSE))))","v":""},"","","",0,"",null,"",{"$f":"'Analysis 103L'!$Y$232*(S146/('Analysis 103L'!$Y$230+'Analysis 103L'!$Y$231))","v":{"$error":"#VALUE!"}},null,null,{"$f":"IF(Q146=\"\",\"\",Q146*'Analysis 103L'!$D$23)","v":""},null,null,null,null,{"$error":"#VALUE!"},{"$f":"IF(AND(U146=\"\",AK146=\"Custom\"),MIN(K146*Incent_Cost_Controls_Cust,Q146/J146*0.2),IF(AH146=\"LLLC\",MIN(AI146,((K146+'Analysis 103L'!R167)*Incent_Cost_LLLC)-'Analysis 103L'!X167),IF(AD146>=VLOOKUP(H146,Incent_Controls,3,FALSE),MIN(K146,VLOOKUP(H146,Incent_Controls,2,FALSE)),\"\")))","v":{"$error":"#VALUE!"}},"",null,"","",null,"","PASS/PASS","",{"$error":"#VALUE!"},{"$error":"#VALUE!"},{"$error":"#VALUE!"},"",null,10,{"$f":"VLOOKUP('Analysis 103L'!BE167, avoided_costs, ROUND($AS146, 0)+2, FALSE)","v":{"$error":"#N/A"}},{"$error":"#N/A"},{"$error":"#VALUE!"},{"$error":"#N/A"},{"$error":"#N/A"},{"$error":"#VALUE!"},{"$error":"#N/A"},{"$error":"#N/A"},{"$error":"#N/A"},null,null,null,null,null,null,null,null,null,null,null,null,null,null,null,{"$f":"'Analysis 103L'!CF167","v":""},"","","","","",""]
[141,{"$f":"'Analysis 103L'!C168","v":0},{"$f":"'Analysis 103L'!I168","v":""},{"$f":"'Analysis 103L'!J168","v":""},{"$f":"'Analysis 103L'!P168","v":0},{"$f":"'Analysis 103L'!N168","v":""},{"$f":"'Analysis 103L'!Q168","v":""},null,null,null,null,"","",{"$f":"IF(RIGHT(C147, 4)=\"Case\", \"\",IF(J147=\"\",\"\",IF(AH147=\"LLLC\", 0.6, VLOOKUP('100L Information'!$G$19,Load_Profiles, 4, FALSE))))","v":""},"","","",0,"",null,"",{"$f":"'Analysis 103L'!$Y$232*(S147/('Analysis 103L'!$Y$230+'Analysis 103L'!$Y$231))","v":{"$error":"#VALUE!"}},null,null,{"$f":"IF(Q147=\"\",\"\",Q147*'Analysis 103L'!$D$23)","v":""},null,null,null,null,{"$error":"#VALUE!"},{"$f":"IF(AND(U147=\"\",AK147=\"Custom\"),MIN(K147*Incent_Cost_Controls_Cust,Q147/J147*0.2),IF(AH147=\"LLLC\",MIN(AI147,((K147+'Analysis 103L'!R168)*Incent_Cost_LLLC)-'Analysis 103L'!X168),IF(AD147>=VLOOKUP(H147,Incent_Controls,3,FALSE),MIN(K147,VLOOKUP(H147,Incent_Controls,2,FALSE)),\"\")))","v":{"$error":"#VALUE!"}},"",null,"","",null,"","PASS/PASS","",{"$error":"#VALUE!"},{"$error":"#VALUE!"},{"$error":"#VALUE!"},"",null,10,{"$f":"VLOOKUP('Analysis 103L'!BE168, avoided_costs, ROUND($AS147, 0)+2, FALSE)","v":{"$error":"#N/A"}},{"$error":"#N/A"},{"$error":"#VALUE!"},{"$error":"#N/A"},{"$error":"#N/A"},{"$error":"#VALUE!"},{"$error":"#N/A"},{"$error":"#N/A"},{"$error":"#N/A"},null,null,null,null,null,null,null,null,null,null,null,null,null,null,null,{"$f":"'Analysis 103L'!CF168","v":""},"","","","","",""]
[142,{"$f":"'Analysis 103L'!C169","v":0},{"$f":"'Analysis 103L'!I169","v":""},{"$f":"'Analysis 103L'!J169","v":""},{"$f":"'Analysis 103L'!P169","v":0},{"$f":"'Analysis 103L'!N169","v":""},{"$f":"'Analysis 103L'!Q169","v":""},null,null,null,null,"","",{"$f":"IF(RIGHT(C148, 4)=\"Case\", \"\",IF(J148=\"\",\"\",IF(AH148=\"LLLC\", 0.6, VLOOKUP('100L Information'!$G$19,Load_Profiles, 4, FALSE))))","v":""},"","","",0,"",null,"",{"$f":"'Analysis 103L'!$Y$232*(S148/('Analysis 103L'!$Y$230+'Analysis 103L'!$Y$231))","v":{"$error":"#VALUE!"}},null,null,{"$f":"IF(Q148=\"\",\"\",Q148*'Analysis 103L'!$D$23)","v":""},null,null,null,null,{"$error":"#VALUE!"},{"$f":"IF(AND(U148=\"\",AK148=\"Custom\"),MIN(K148*Incent_Cost_Controls_Cust,Q148/J148*0.2),IF(AH148=\"LLLC\",MIN(AI148,((K148+'Analysis 103L'!R169)*Incent_Cost_LLLC)-'Analysis 103L'!X169),IF(AD148>=VLOOKUP(H148,Incent_Controls,3,FALSE),MIN(K148,VLOOKUP(H148,Incent_Controls,2,FALSE)),\"\")))","v":{"$error":"#VALUE!"}},"",null,"","",null,"","PASS/PASS","",{"$error":"#VALUE!"},{"$error":"#VALUE!"},{"$error":"#VALUE!"},"",null,10,{"$f":"VLOOKUP('Analysis 103L'!BE169, avoided_costs, ROUND($AS148, 0)+2, FALSE)","v":{"$error":"#N/A"}},{"$error":"#N/A"},{"$error":"#VALUE!"},{"$error":"#N/A"},{"$error":"#N/A"},{"$error":"#VALUE!"},{"$error":"#N/A"},{"$error":"#N/A"},{"$error":"#N/A"},null,null,null,null,null,null,null,null,null,null,null,null,null,null,null,{"$f":"'Analysis 103L'!CF169","v":""},"","","","","",""]
[143,{"$f":"'Analysis 103L'!C170","v":0},{"$f":"'Analysis 103L'!I170","v":""},{"$f":"'Analysis 103L'!J170","v":""},{"$f":"'Analysis 103L'!P170","v":0},{"$f":"'Analysis 103L'!N170","v":""},{"$f":"'Analysis 103L'!Q170","v":""},null,null,null,null,"","",{"$f":"IF(RIGHT(C149, 4)=\"Case\", \"\",IF(J149=\"\",\"\",IF(AH149=\"LLLC\", 0.6, VLOOKUP('100L Information'!$G$19,Load_Profiles, 4, FALSE))))","v":""},"","","",0,"",null,"",{"$f":"'Analysis 103L'!$Y$232*(S149/('Analysis 103L'!$Y$230+'Analysis 103L'!$Y$231))","v":{"$error":"#VALUE!"}},null,null,{"$f":"IF(Q149=\"\",\"\",Q149*'Analysis 103L'!$D$23)","v":""},null,null,null,null,{"$error":"#VALUE!"},{"$f":"IF(AND(U149=\"\",AK149=\"Custom\"),MIN(K149*Incent_Cost_Controls_Cust,Q149/J149*0.2),IF(AH149=\"LLLC\",MIN(AI149,((K149+'Analysis 103L'!R170)*Incent_Cost_LLLC)-'Analysis 103L'!X170),IF(AD149>=VLOOKUP(H149,Incent_Controls,3,FALSE),MIN(K149,VLOOKUP(H149,Incent_Controls,2,FALSE)),\"\")))","v":{"$error":"#VALUE!"}},"",null,"","",null,"","PASS/PASS","",{"$error":"#VALUE!"},{"$error":"#VALUE!"},{"$error":"#VALUE!"},"",null,10,{"$f":"VLOOKUP('Analysis 103L'!BE170, avoided_costs, ROUND($AS149, 0)+2, FALSE)","v":{"$error":"#N/A"}},{"$error":"#N/A"},{"$error":"#VALUE!"},{"$error":"#N/A"},{"$error":"#N/A"},{"$error":"#VALUE!"},{"$error":"#N/A"},{"$error":"#N/A"},{"$error":"#N/A"},null,null,null,null,null,null,null,null,null,null,null,null,null,null,null,{"$f":"'Analysis 103L'!CF170","v":""},"","","","","",""]
[144,{"$f":"'Analysis 103L'!C171","v":0},{"$f":"'Analysis 103L'!I171","v":""},{"$f":"'Analysis 103L'!J171","v":""},{"$f":"'Analysis 103L'!P171","v":0},{"$f":"'Analysis 103L'!N171","v":""},{"$f":"'Analysis 103L'!Q171","v":""},null,null,null,null,"","",{"$f":"IF(RIGHT(C150, 4)=\"Case\", \"\",IF(J150=\"\",\"\",IF(AH150=\"LLLC\", 0.6, VLOOKUP('100L Information'!$G$19,Load_Profiles, 4, FALSE))))","v":""},"","","",0,"",null,"",{"$f":"'Analysis 103L'!$Y$232*(S150/('Analysis 103L'!$Y$230+'Analysis 103L'!$Y$231))","v":{"$error":"#VALUE!"}},null,null,{"$f":"IF(Q150=\"\",\"\",Q150*'Analysis 103L'!$D$23)","v":""},null,null,null,null,{"$error":"#VALUE!"},{"$f":"IF(AND(U150=\"\",AK150=\"Custom\"),MIN(K150*Incent_Cost_Controls_Cust,Q150/J150*0.2),IF(AH150=\"LLLC\",MIN(AI150,((K150+'Analysis 103L'!R171)*Incent_Cost_LLLC)-'Analysis 103L'!X171),IF(AD150>=VLOOKUP(H150,Incent_Controls,3,FALSE),MIN(K150,VLOOKUP(H150,Incent_Controls,2,FALSE)),\"\")))","v":{"$error":"#VALUE!"}},"",null,"","",null,"","PASS/PASS","",{"$error":"#VALUE!"},{"$error":"#VALUE!"},{"$error":"#VALUE!"},"",null,10,{"$f":"VLOOKUP('Analysis 103L'!BE171, avoided_costs, ROUND($AS150, 0)+2, FALSE)","v":{"$error":"#N/A"}},{"$error":"#N/A"},{"$error":"#VALUE!"},{"$error":"#N/A"},{"$f":"IF(ROUND(AW150,1)>=1, \"PASS\", \"FAIL\")","v":{"$error":"#N/A"}},{"$error":"#VALUE!"},{"$error":"#N/A"},{"$f":"IF(OR(ROUND(AZ150,1)>=1,AZ150<0), \"PASS\", \"FAIL\")","v":{"$error":"#N/A"}},{"$error":"#N/A"},null,null,null,null,null,null,null,null,null,null,null,null,null,null,null,{"$f":"'Analysis 103L'!CF171","v":""},"","","","","",""]
[145,{"$f":"'Analysis 103L'!C172","v":0},{"$f":"'Analysis 103L'!I172","v":""},{"$f":"'Analysis 103L'!J172","v":""},{"$f":"'Analysis 103L'!P172","v":0},{"$f":"'Analysis 103L'!N172","v":""},{"$f":"'Analysis 103L'!Q172","v":""},null,null,null,null,"","",{"$f":"IF(RIGHT(C151, 4)=\"Case\", \"\",IF(J151=\"\",\"\",IF(AH151=\"LLLC\", 0.6, VLOOKUP('100L Information'!$G$19,Load_Profiles, 4, FALSE))))","v":""},{"$f":"IF(RIGHT(C151, 4)=\"Case\", \"\",IF(J151=\"\",\"\",(J151*M151*G151)/1000))","v":""},{"$f":"IF(RIGHT(C151, 4)=\"Case\", \"\",IF(J151=\"\",\"\",O151*(1-N151)))","v":""},{"$f":"IF(RIGHT(C151, 4)=\"Case\", BU151, IF(J151=\"\",\"\",O151-P151))","v":""},0,{"$f":"IF(RIGHT(C151,4)=\"Case\",BW151,IF(H151=\"\",\"\",J151*R151))","v":""},null,"",{"$f":"'Analysis 103L'!$Y$232*(S151/('Analysis 103L'!$Y$230+'Analysis 103L'!$Y$231))","v":{"$error":"#VALUE!"}},null,null,{"$f":"IF(Q151=\"\",\"\",Q151*'Analysis 103L'!$D$23)","v":""},null,null,null,null,{"$error":"#VALUE!"},{"$f":"IF(AND(U151=\"\",AK151=\"Custom\"),MIN(K151*Incent_Cost_Controls_Cust,Q151/J151*0.2),IF(AH151=\"LLLC\",MIN(AI151,((K151+'Analysis 103L'!R172)*Incent_Cost_LLLC)-'Analysis 103L'!X172),IF(AD151>=VLOOKUP(H151,Incent_Controls,3,FALSE),MIN(K151,VLOOKUP(H151,Incent_Controls,2,FALSE)),\"\")))","v":{"$error":"#VALUE!"}},"",null,"","",null,"","PASS/PASS","",{"$error":"#VALUE!"},{"$error":"#VALUE!"},{"$error":"#VALUE!"},"",null,10,{"$f":"VLOOKUP('Analysis 103L'!BE172, avoided_costs, ROUND($AS151, 0)+2, FALSE)","v":{"$error":"#N/A"}},{"$error":"#N/A"},{"$error":"#VALUE!"},{"$error":"#N/A"},{"$error":"#N/A"},{"$error":"#VALUE!"},{"$error":"#N/A"},{"$error":"#N/A"},{"$error":"#N/A"},null,null,null,null,null,null,null,null,null,null,null,null,null,null,null,{"$f":"'Analysis 103L'!CF172","v":""},"","","","","",""]
[146,{"$f":"'Analysis 103L'!C173","v":0},{"$f":"'Analysis 103L'!I173","v":""},{"$f":"'Analysis 103L'!J173","v":""},{"$f":"'Analysis 103L'!P173","v":0},{"$f":"'Analysis 103L'!N173","v":""},{"$f":"'Analysis 103L'!Q173","v":""},null,null,null,null,"","",{"$f":"IF(RIGHT(C152, 4)=\"Case\", \"\",IF(J152=\"\",\"\",IF(AH152=\"LLLC\", 0.6, VLOOKUP('100L Information'!$G$19,Load_Profiles, 4, FALSE))))","v":""},"","","",0,"",null,"",{"$f":"'Analysis 103L'!$Y$232*(S152/('Analysis 103L'!$Y$230+'Analysis 103L'!$Y$231))","v":{"$error":"#VALUE!"}},null,null,{"$f":"IF(Q152=\"\",\"\",Q152*'Analysis 103L'!$D$23)","v":""},null,null,null,null,{"$error":"#VALUE!"},{"$f":"IF(AND(U152=\"\",AK152=\"Custom\"),MIN(K152*Incent_Cost_Controls_Cust,Q152/J152*0.2),IF(AH152=\"LLLC\",MIN(AI152,((K152+'Analysis 103L'!R173)*Incent_Cost_LLLC)-'Analysis 103L'!X173),IF(AD152>=VLOOKUP(H152,Incent_Controls,3,FALSE),MIN(K152,VLOOKUP(H152,Incent_Controls,2,FALSE)),\"\")))","v":{"$error":"#VALUE!"}},"",null,"","",null,"","PASS/PASS","",{"$error":"#VALUE!"},{"$error":"#VALUE!"},{"$error":"#VALUE!"},"",null,10,{"$f":"VLOOKUP('Analysis 103L'!BE173, avoided_costs, ROUND($AS152, 0)+2, FALSE)","v":{"$error":"#N/A"}},{"$error":"#N/A"},{"$error":"#VALUE!"},{"$error":"#N/A"},{"$error":"#N/A"},{"$error":"#VALUE!"},{"$error":"#N/A"},{"$error":"#N/A"},{"$error":"#N/A"},null,null,null,null,null,null,null,null,null,null,null,null,null,null,null,{"$f":"'Analysis 103L'!CF173","v":""},{"$f":"IF(H152=$AB$18, IF(BR152=\"DR\", $AB$20, IF(BR152=\"SR\", $AB$19, \"\")), \"\")","v":""},{"$f":"IF(BS152=\"\", \"\", $E152)","v":""},"","","",{"$f":"IF(BU152=\"\", \"\", INDEX($AC$19:$AC$20, MATCH($BS152, $AB$19:$AB$20, 0))*$BT152)","v":""}]
[147,{"$f":"'Analysis 103L'!C174","v":0},{"$f":"'Analysis 103L'!I174","v":""},{"$f":"'Analysis 103L'!J174","v":""},{"$f":"'Analysis 103L'!P174","v":0},{"$f":"'Analysis 103L'!N174","v":""},{"$f":"'Analysis 103L'!Q174","v":""},null,null,null,null,"","",{"$f":"IF(RIGHT(C153, 4)=\"Case\", \"\",IF(J153=\"\",\"\",IF(AH153=\"LLLC\", 0.6, VLOOKUP('100L Information'!$G$19,Load_Profiles, 4, FALSE))))","v":""},"","","",0,"",null,"",{"$f":"'Analysis 103L'!$Y$232*(S153/('Analysis 103L'!$Y$230+'Analysis 103L'!$Y$231))","v":{"$error":"#VALUE!"}},null,null,{"$f":"IF(Q153=\"\",\"\",Q153*'Analysis 103L'!$D$23)","v":""},null,null,null,null,{"$error":"#VALUE!"},{"$f":"IF(AND(U153=\"\",AK153=\"Custom\"),MIN(K153*Incent_Cost_Controls_Cust,Q153/J153*0.2),IF(AH153=\"LLLC\",MIN(AI153,((K153+'Analysis 103L'!R174)*Incent_Cost_LLLC)-'Analysis 103L'!X174),IF(AD153>=VLOOKUP(H153,Incent_Controls,3,FALSE),MIN(K153,VLOOKUP(H153,Incent_Controls,2,FALSE)),\"\")))","v":{"$error":"#VALUE!"}},"",null,"","",null,"","PASS/PASS","",{"$error":"#VALUE!"},{"$error":"#VALUE!"},{"$error":"#VALUE!"},"",null,10,{"$f":"VLOOKUP('Analysis 103L'!BE174, avoided_costs, ROUND($AS153, 0)+2, FALSE)","v":{"$error":"#N/A"}},{"$error":"#N/A"},{"$error":"#VALUE!"},{"$error":"#N/A"},{"$error":"#N/A"},{"$error":"#VALUE!"},{"$error":"#N/A"},{"$error":"#N/A"},{"$error":"#N/A"},null,null,null,null,null,null,null,null,null,null,null,null,null,null,null,{"$f":"'Analysis 103L'!CF174","v":""},"","","","","",""]
[148,{"$f":"'Analysis 103L'!C175","v":0},{"$f":"'Analysis 103L'!I175","v":""},{"$f":"'Analysis 103L'!J175","v":""},{"$f":"'Analysis 103L'!P175","v":0},{"$f":"'Analysis 103L'!N175","v":""},{"$f":"'Analysis 103L'!Q175","v":""},null,null,null,null,"","",{"$f":"IF(RIGHT(C154, 4)=\"Case\", \"\",IF(J154=\"\",\"\",IF(AH154=\"LLLC\", 0.6, VLOOKUP('100L Information'!$G$19,Load_Profiles, 4, FALSE))))","v":""},"","","",0,"",null,"",{"$f":"'Analysis 103L'!$Y$232*(S154/('Analysis 103L'!$Y$230+'Analysis 103L'!$Y$231))","v":{"$error":"#VALUE!"}},null,null,{"$f":"IF(Q154=\"\",\"\",Q154*'Analysis 103L'!$D$23)","v":""},null,null,null,null,{"$error":"#VALUE!"},{"$f":"IF(AND(U154=\"\",AK154=\"Custom\"),MIN(K154*Incent_Cost_Controls_Cust,Q154/J154*0.2),IF(AH154=\"LLLC\",MIN(AI154,((K154+'Analysis 103L'!R175)*Incent_Cost_LLLC)-'Analysis 103L'!X175),IF(AD154>=VLOOKUP(H154,Incent_Controls,3,FALSE),MIN(K154,VLOOKUP(H154,Incent_Controls,2,FALSE)),\"\")))","v":{"$error":"#VALUE!"}},"",null,"","",null,"","PASS/PASS","",{"$error":"#VALUE!"},{"$error":"#VALUE!"},{"$error":"#VALUE!"},"",null,10,{"$f":"VLOOKUP('Analysis 103L'!BE175, avoided_costs, ROUND($AS154, 0)+2, FALSE)","v":{"$error":"#N/A"}},{"$error":"#N/A"},{"$error":"#VALUE!"},{"$error":"#N/A"},{"$error":"#N/A"},{"$error":"#VALUE!"},{"$error":"#N/A"},{"$error":"#N/A"},{"$error":"#N/A"},null,null,null,null,null,null,null,null,null,null,null,null,null,null,null,{"$f":"'Analysis 103L'!CF175","v":""},"","","","","",""]
[149,{"$f":"'Analysis 103L'!C176","v":0},{"$f":"'Analysis 103L'!I176","v":""},{"$f":"'Analysis 103L'!J176","v":""},{"$f":"'Analysis 103L'!P176","v":0},{"$f":"'Analysis 103L'!N176","v":""},{"$f":"'Analysis 103L'!Q176","v":""},null,null,null,null,"","",{"$f":"IF(RIGHT(C155, 4)=\"Case\", \"\",IF(J155=\"\",\"\",IF(AH155=\"LLLC\", 0.6, VLOOKUP('100L Information'!$G$19,Load_Profiles, 4, FALSE))))","v":""},"","","",0,"",null,"",{"$f":"'Analysis 103L'!$Y$232*(S155/('Analysis 103L'!$Y$230+'Analysis 103L'!$Y$231))","v":{"$error":"#VALUE!"}},null,null,{"$f":"IF(Q155=\"\",\"\",Q155*'Analysis 103L'!$D$23)","v":""},null,null,null,null,{"$error":"#VALUE!"},{"$f":"IF(AND(U155=\"\",AK155=\"Custom\"),MIN(K155*Incent_Cost_Controls_Cust,Q155/J155*0.2),IF(AH155=\"LLLC\",MIN(AI155,((K155+'Analysis 103L'!R176)*Incent_Cost_LLLC)-'Analysis 103L'!X176),IF(AD155>=VLOOKUP(H155,Incent_Controls,3,FALSE),MIN(K155,VLOOKUP(H155,Incent_Controls,2,FALSE)),\"\")))","v":{"$error":"#VALUE!"}},"",null,"","",null,"","PASS/PASS","",{"$error":"#VALUE!"},{"$error":"#VALUE!"},{"$error":"#VALUE!"},"",null,10,{"$f":"VLOOKUP('Analysis 103L'!BE176, avoided_costs, ROUND($AS155, 0)+2, FALSE)","v":{"$error":"#N/A"}},{"$error":"#N/A"},{"$error":"#VALUE!"},{"$error":"#N/A"},{"$error":"#N/A"},{"$error":"#VALUE!"},{"$error":"#N/A"},{"$error":"#N/A"},{"$error":"#N/A"},null,null,null,null,null,null,null,null,null,null,null,null,null,null,null,{"$f":"'Analysis 103L'!CF176","v":""},"","","","","",""]
[150,{"$f":"'Analysis 103L'!C177","v":0},{"$f":"'Analysis 103L'!I177","v":""},{"$f":"'Analysis 103L'!J177","v":""},{"$f":"'Analysis 103L'!P177","v":0},{"$f":"'Analysis 103L'!N177","v":""},{"$f":"'Analysis 103L'!Q177","v":""},null,null,null,null,"","",{"$f":"IF(RIGHT(C156, 4)=\"Case\", \"\",IF(J156=\"\",\"\",IF(AH156=\"LLLC\", 0.6, VLOOKUP('100L Information'!$G$19,Load_Profiles, 4, FALSE))))","v":""},"","","",0,"",null,"",{"$f":"'Analysis 103L'!$Y$232*(S156/('Analysis 103L'!$Y$230+'Analysis 103L'!$Y$231))","v":{"$error":"#VALUE!"}},null,null,{"$f":"IF(Q156=\"\",\"\",Q156*'Analysis 103L'!$D$23)","v":""},null,null,null,null,{"$error":"#VALUE!"},{"$f":"IF(AND(U156=\"\",AK156=\"Custom\"),MIN(K156*Incent_Cost_Controls_Cust,Q156/J156*0.2),IF(AH156=\"LLLC\",MIN(AI156,((K156+'Analysis 103L'!R177)*Incent_Cost_LLLC)-'Analysis 103L'!X177),IF(AD156>=VLOOKUP(H156,Incent_Controls,3,FALSE),MIN(K156,VLOOKUP(H156,Incent_Controls,2,FALSE)),\"\")))","v":{"$error":"#VALUE!"}},"",null,"","",null,"","PASS/PASS","",{"$error":"#VALUE!"},{"$error":"#VALUE!"},{"$error":"#VALUE!"},"",null,10,{"$f":"VLOOKUP('Analysis 103L'!BE177, avoided_costs, ROUND($AS156, 0)+2, FALSE)","v":{"$error":"#N/A"}},{"$error":"#N/A"},{"$error":"#VALUE!"},{"$error":"#N/A"},{"$error":"#N/A"},{"$error":"#VALUE!"},{"$error":"#N/A"},{"$error":"#N/A"},{"$error":"#N/A"},null,null,null,null,null,null,null,null,null,null,null,null,null,null,null,{"$f":"'Analysis 103L'!CF177","v":""},"","","","","",""]
[151,{"$f":"'Analysis 103L'!C178","v":0},{"$f":"'Analysis 103L'!I178","v":""},{"$f":"'Analysis 103L'!J178","v":""},{"$f":"'Analysis 103L'!P178","v":0},{"$f":"'Analysis 103L'!N178","v":""},{"$f":"'Analysis 103L'!Q178","v":""},null,null,null,null,"","",{"$f":"IF(RIGHT(C157, 4)=\"Case\", \"\",IF(J157=\"\",\"\",IF(AH157=\"LLLC\", 0.6, VLOOKUP('100L Information'!$G$19,Load_Profiles, 4, FALSE))))","v":""},"","","",0,"",null,"",{"$f":"'Analysis 103L'!$Y$232*(S157/('Analysis 103L'!$Y$230+'Analysis 103L'!$Y$231))","v":{"$error":"#VALUE!"}},null,null,{"$f":"IF(Q157=\"\",\"\",Q157*'Analysis 103L'!$D$23)","v":""},null,null,null,null,{"$error":"#VALUE!"},{"$f":"IF(AND(U157=\"\",AK157=\"Custom\"),MIN(K157*Incent_Cost_Controls_Cust,Q157/J157*0.2),IF(AH157=\"LLLC\",MIN(AI157,((K157+'Analysis 103L'!R178)*Incent_Cost_LLLC)-'Analysis 103L'!X178),IF(AD157>=VLOOKUP(H157,Incent_Controls,3,FALSE),MIN(K157,VLOOKUP(H157,Incent_Controls,2,FALSE)),\"\")))","v":{"$error":"#VALUE!"}},"",null,"","",null,"","PASS/PASS","",{"$error":"#VALUE!"},{"$error":"#VALUE!"},{"$error":"#VALUE!"},"",null,10,{"$f":"VLOOKUP('Analysis 103L'!BE178, avoided_costs, ROUND($AS157, 0)+2, FALSE)","v":{"$error":"#N/A"}},{"$error":"#N/A"},{"$error":"#VALUE!"},{"$error":"#N/A"},{"$error":"#N/A"},{"$error":"#VALUE!"},{"$error":"#N/A"},{"$error":"#N/A"},{"$error":"#N/A"},null,null,null,null,null,null,null,null,null,null,null,null,null,null,null,{"$f":"'Analysis 103L'!CF178","v":""},"","","","","",""]
[152,{"$f":"'Analysis 103L'!C179","v":0},{"$f":"'Analysis 103L'!I179","v":""},{"$f":"'Analysis 103L'!J179","v":""},{"$f":"'Analysis 103L'!P179","v":0},{"$f":"'Analysis 103L'!N179","v":""},{"$f":"'Analysis 103L'!Q179","v":""},null,null,null,null,"","",{"$f":"IF(RIGHT(C158, 4)=\"Case\", \"\",IF(J158=\"\",\"\",IF(AH158=\"LLLC\", 0.6, VLOOKUP('100L Information'!$G$19,Load_Profiles, 4, FALSE))))","v":""},"","","",0,"",null,"",{"$f":"'Analysis 103L'!$Y$232*(S158/('Analysis 103L'!$Y$230+'Analysis 103L'!$Y$231))","v":{"$error":"#VALUE!"}},null,null,{"$f":"IF(Q158=\"\",\"\",Q158*'Analysis 103L'!$D$23)","v":""},null,null,null,null,{"$error":"#VALUE!"},{"$f":"IF(AND(U158=\"\",AK158=\"Custom\"),MIN(K158*Incent_Cost_Controls_Cust,Q158/J158*0.2),IF(AH158=\"LLLC\",MIN(AI158,((K158+'Analysis 103L'!R179)*Incent_Cost_LLLC)-'Analysis 103L'!X179),IF(AD158>=VLOOKUP(H158,Incent_Controls,3,FALSE),MIN(K158,VLOOKUP(H158,Incent_Controls,2,FALSE)),\"\")))","v":{"$error":"#VALUE!"}},"",null,"","",null,"","PASS/PASS","",{"$error":"#VALUE!"},{"$error":"#VALUE!"},{"$error":"#VALUE!"},"",null,10,{"$f":"VLOOKUP('Analysis 103L'!BE179, avoided_costs, ROUND($AS158, 0)+2, FALSE)","v":{"$error":"#N/A"}},{"$error":"#N/A"},{"$error":"#VALUE!"},{"$error":"#N/A"},{"$error":"#N/A"},{"$error":"#VALUE!"},{"$error":"#N/A"},{"$error":"#N/A"},{"$error":"#N/A"},null,null,null,null,null,null,null,null,null,null,null,null,null,null,null,{"$f":"'Analysis 103L'!CF179","v":""},"","","","","",""]
[153,{"$f":"'Analysis 103L'!C180","v":0},{"$f":"'Analysis 103L'!I180","v":""},{"$f":"'Analysis 103L'!J180","v":""},{"$f":"'Analysis 103L'!P180","v":0},{"$f":"'Analysis 103L'!N180","v":""},{"$f":"'Analysis 103L'!Q180","v":""},null,null,null,null,"","",{"$f":"IF(RIGHT(C159, 4)=\"Case\", \"\",IF(J159=\"\",\"\",IF(AH159=\"LLLC\", 0.6, VLOOKUP('100L Information'!$G$19,Load_Profiles, 4, FALSE))))","v":""},"","","",0,"",null,"",{"$f":"'Analysis 103L'!$Y$232*(S159/('Analysis 103L'!$Y$230+'Analysis 103L'!$Y$231))","v":{"$error":"#VALUE!"}},null,null,{"$f":"IF(Q159=\"\",\"\",Q159*'Analysis 103L'!$D$23)","v":""},null,null,null,null,{"$error":"#VALUE!"},{"$f":"IF(AND(U159=\"\",AK159=\"Custom\"),MIN(K159*Incent_Cost_Controls_Cust,Q159/J159*0.2),IF(AH159=\"LLLC\",MIN(AI159,((K159+'Analysis 103L'!R180)*Incent_Cost_LLLC)-'Analysis 103L'!X180),IF(AD159>=VLOOKUP(H159,Incent_Controls,3,FALSE),MIN(K159,VLOOKUP(H159,Incent_Controls,2,FALSE)),\"\")))","v":{"$error":"#VALUE!"}},"",null,"","",null,"","PASS/PASS","",{"$error":"#VALUE!"},{"$error":"#VALUE!"},{"$error":"#VALUE!"},"",null,10,{"$f":"VLOOKUP('Analysis 103L'!BE180, avoided_costs, ROUND($AS159, 0)+2, FALSE)","v":{"$error":"#N/A"}},{"$error":"#N/A"},{"$error":"#VALUE!"},{"$error":"#N/A"},{"$error":"#N/A"},{"$error":"#VALUE!"},{"$error":"#N/A"},{"$error":"#N/A"},{"$error":"#N/A"},null,null,null,null,null,null,null,null,null,null,null,null,null,null,null,{"$f":"'Analysis 103L'!CF180","v":""},"","","","","",""]
[154,{"$f":"'Analysis 103L'!C181","v":0},{"$f":"'Analysis 103L'!I181","v":""},{"$f":"'Analysis 103L'!J181","v":""},{"$f":"'Analysis 103L'!P181","v":0},{"$f":"'Analysis 103L'!N181","v":""},{"$f":"'Analysis 103L'!Q181","v":""},null,null,null,null,"","",{"$f":"IF(RIGHT(C160, 4)=\"Case\", \"\",IF(J160=\"\",\"\",IF(AH160=\"LLLC\", 0.6, VLOOKUP('100L Information'!$G$19,Load_Profiles, 4, FALSE))))","v":""},"","","",0,"",null,"",{"$f":"'Analysis 103L'!$Y$232*(S160/('Analysis 103L'!$Y$230+'Analysis 103L'!$Y$231))","v":{"$error":"#VALUE!"}},null,null,{"$f":"IF(Q160=\"\",\"\",Q160*'Analysis 103L'!$D$23)","v":""},null,null,null,null,{"$error":"#VALUE!"},{"$f":"IF(AND(U160=\"\",AK160=\"Custom\"),MIN(K160*Incent_Cost_Controls_Cust,Q160/J160*0.2),IF(AH160=\"LLLC\",MIN(AI160,((K160+'Analysis 103L'!R181)*Incent_Cost_LLLC)-'Analysis 103L'!X181),IF(AD160>=VLOOKUP(H160,Incent_Controls,3,FALSE),MIN(K160,VLOOKUP(H160,Incent_Controls,2,FALSE)),\"\")))","v":{"$error":"#VALUE!"}},"",null,"","",null,"","PASS/PASS","",{"$error":"#VALUE!"},{"$error":"#VALUE!"},{"$error":"#VALUE!"},"",null,10,{"$f":"VLOOKUP('Analysis 103L'!BE181, avoided_costs, ROUND($AS160, 0)+2, FALSE)","v":{"$error":"#N/A"}},{"$error":"#N/A"},{"$error":"#VALUE!"},{"$error":"#N/A"},{"$error":"#N/A"},{"$error":"#VALUE!"},{"$error":"#N/A"},{"$error":"#N/A"},{"$error":"#N/A"},null,null,null,null,null,null,null,null,null,null,null,null,null,null,null,{"$f":"'Analysis 103L'!CF181","v":""},"","","","","",""]
[155,{"$f":"'Analysis 103L'!C182","v":0},{"$f":"'Analysis 103L'!I182","v":""},{"$f":"'Analysis 103L'!J182","v":""},{"$f":"'Analysis 103L'!P182","v":0},{"$f":"'Analysis 103L'!N182","v":""},{"$f":"'Analysis 103L'!Q182","v":""},null,null,null,null,"","",{"$f":"IF(RIGHT(C161, 4)=\"Case\", \"\",IF(J161=\"\",\"\",IF(AH161=\"LLLC\", 0.6, VLOOKUP('100L Information'!$G$19,Load_Profiles, 4, FALSE))))","v":""},"","","",0,"",null,"",{"$f":"'Analysis 103L'!$Y$232*(S161/('Analysis 103L'!$Y$230+'Analysis 103L'!$Y$231))","v":{"$error":"#VALUE!"}},null,null,{"$f":"IF(Q161=\"\",\"\",Q161*'Analysis 103L'!$D$23)","v":""},null,null,null,null,{"$error":"#VALUE!"},{"$f":"IF(AND(U161=\"\",AK161=\"Custom\"),MIN(K161*Incent_Cost_Controls_Cust,Q161/J161*0.2),IF(AH161=\"LLLC\",MIN(AI161,((K161+'Analysis 103L'!R182)*Incent_Cost_LLLC)-'Analysis 103L'!X182),IF(AD161>=VLOOKUP(H161,Incent_Controls,3,FALSE),MIN(K161,VLOOKUP(H161,Incent_Controls,2,FALSE)),\"\")))","v":{"$error":"#VALUE!"}},"",null,"","",null,"","PASS/PASS","",{"$error":"#VALUE!"},{"$error":"#VALUE!"},{"$error":"#VALUE!"},"",null,10,{"$f":"VLOOKUP('Analysis 103L'!BE182, avoided_costs, ROUND($AS161, 0)+2, FALSE)","v":{"$error":"#N/A"}},{"$error":"#N/A"},{"$error":"#VALUE!"},{"$error":"#N/A"},{"$error":"#N/A"},{"$error":"#VALUE!"},{"$error":"#N/A"},{"$error":"#N/A"},{"$error":"#N/A"},null,null,null,null,null,null,null,null,null,null,null,null,null,null,null,{"$f":"'Analysis 103L'!CF182","v":""},"","","","","",""]
[156,{"$f":"'Analysis 103L'!C183","v":0},{"$f":"'Analysis 103L'!I183","v":""},{"$f":"'Analysis 103L'!J183","v":""},{"$f":"'Analysis 103L'!P183","v":0},{"$f":"'Analysis 103L'!N183","v":""},{"$f":"'Analysis 103L'!Q183","v":""},null,null,null,null,"","",{"$f":"IF(RIGHT(C162, 4)=\"Case\", \"\",IF(J162=\"\",\"\",IF(AH162=\"LLLC\", 0.6, VLOOKUP('100L Information'!$G$19,Load_Profiles, 4, FALSE))))","v":""},"","","",0,"",null,"",{"$f":"'Analysis 103L'!$Y$232*(S162/('Analysis 103L'!$Y$230+'Analysis 103L'!$Y$231))","v":{"$error":"#VALUE!"}},null,null,{"$f":"IF(Q162=\"\",\"\",Q162*'Analysis 103L'!$D$23)","v":""},null,null,null,null,{"$error":"#VALUE!"},{"$f":"IF(AND(U162=\"\",AK162=\"Custom\"),MIN(K162*Incent_Cost_Controls_Cust,Q162/J162*0.2),IF(AH162=\"LLLC\",MIN(AI162,((K162+'Analysis 103L'!R183)*Incent_Cost_LLLC)-'Analysis 103L'!X183),IF(AD162>=VLOOKUP(H162,Incent_Controls,3,FALSE),MIN(K162,VLOOKUP(H162,Incent_Controls,2,FALSE)),\"\")))","v":{"$error":"#VALUE!"}},"",null,"","",null,"","PASS/PASS","",{"$error":"#VALUE!"},{"$error":"#VALUE!"},{"$error":"#VALUE!"},"",null,10,{"$f":"VLOOKUP('Analysis 103L'!BE183, avoided_costs, ROUND($AS162, 0)+2, FALSE)","v":{"$error":"#N/A"}},{"$error":"#N/A"},{"$error":"#VALUE!"},{"$error":"#N/A"},{"$error":"#N/A"},{"$error":"#VALUE!"},{"$error":"#N/A"},{"$error":"#N/A"},{"$error":"#N/A"},null,null,null,null,null,null,null,null,null,null,null,null,null,null,null,{"$f":"'Analysis 103L'!CF183","v":""},"","","","","",""]
[157,{"$f":"'Analysis 103L'!C184","v":0},{"$f":"'Analysis 103L'!I184","v":""},{"$f":"'Analysis 103L'!J184","v":""},{"$f":"'Analysis 103L'!P184","v":0},{"$f":"'Analysis 103L'!N184","v":""},{"$f":"'Analysis 103L'!Q184","v":""},null,null,null,null,"","",{"$f":"IF(RIGHT(C163, 4)=\"Case\", \"\",IF(J163=\"\",\"\",IF(AH163=\"LLLC\", 0.6, VLOOKUP('100L Information'!$G$19,Load_Profiles, 4, FALSE))))","v":""},"","","",0,"",null,"",{"$f":"'Analysis 103L'!$Y$232*(S163/('Analysis 103L'!$Y$230+'Analysis 103L'!$Y$231))","v":{"$error":"#VALUE!"}},null,null,{"$f":"IF(Q163=\"\",\"\",Q163*'Analysis 103L'!$D$23)","v":""},null,null,null,null,{"$error":"#VALUE!"},{"$f":"IF(AND(U163=\"\",AK163=\"Custom\"),MIN(K163*Incent_Cost_Controls_Cust,Q163/J163*0.2),IF(AH163=\"LLLC\",MIN(AI163,((K163+'Analysis 103L'!R184)*Incent_Cost_LLLC)-'Analysis 103L'!X184),IF(AD163>=VLOOKUP(H163,Incent_Controls,3,FALSE),MIN(K163,VLOOKUP(H163,Incent_Controls,2,FALSE)),\"\")))","v":{"$error":"#VALUE!"}},"",null,"","",null,"","PASS/PASS","",{"$error":"#VALUE!"},{"$error":"#VALUE!"},{"$error":"#VALUE!"},"",null,10,{"$f":"VLOOKUP('Analysis 103L'!BE184, avoided_costs, ROUND($AS163, 0)+2, FALSE)","v":{"$error":"#N/A"}},{"$error":"#N/A"},{"$error":"#VALUE!"},{"$error":"#N/A"},{"$error":"#N/A"},{"$error":"#VALUE!"},{"$error":"#N/A"},{"$error":"#N/A"},{"$error":"#N/A"},null,null,null,null,null,null,null,null,null,null,null,null,null,null,null,{"$f":"'Analysis 103L'!CF184","v":""},"","","","","",""]
[158,{"$f":"'Analysis 103L'!C185","v":0},{"$f":"'Analysis 103L'!I185","v":""},{"$f":"'Analysis 103L'!J185","v":""},{"$f":"'Analysis 103L'!P185","v":0},{"$f":"'Analysis 103L'!N185","v":""},{"$f":"'Analysis 103L'!Q185","v":""},null,null,null,null,"","",{"$f":"IF(RIGHT(C164, 4)=\"Case\", \"\",IF(J164=\"\",\"\",IF(AH164=\"LLLC\", 0.6, VLOOKUP('100L Information'!$G$19,Load_Profiles, 4, FALSE))))","v":""},"","","",0,"",null,"",{"$f":"'Analysis 103L'!$Y$232*(S164/('Analysis 103L'!$Y$230+'Analysis 103L'!$Y$231))","v":{"$error":"#VALUE!"}},null,null,{"$f":"IF(Q164=\"\",\"\",Q164*'Analysis 103L'!$D$23)","v":""},null,null,null,null,{"$error":"#VALUE!"},{"$f":"IF(AND(U164=\"\",AK164=\"Custom\"),MIN(K164*Incent_Cost_Controls_Cust,Q164/J164*0.2),IF(AH164=\"LLLC\",MIN(AI164,((K164+'Analysis 103L'!R185)*Incent_Cost_LLLC)-'Analysis 103L'!X185),IF(AD164>=VLOOKUP(H164,Incent_Controls,3,FALSE),MIN(K164,VLOOKUP(H164,Incent_Controls,2,FALSE)),\"\")))","v":{"$error":"#VALUE!"}},"",null,"","",null,"","PASS/PASS","",{"$error":"#VALUE!"},{"$error":"#VALUE!"},{"$error":"#VALUE!"},"",null,10,{"$f":"VLOOKUP('Analysis 103L'!BE185, avoided_costs, ROUND($AS164, 0)+2, FALSE)","v":{"$error":"#N/A"}},{"$error":"#N/A"},{"$error":"#VALUE!"},{"$error":"#N/A"},{"$error":"#N/A"},{"$error":"#VALUE!"},{"$error":"#N/A"},{"$error":"#N/A"},{"$error":"#N/A"},null,null,null,null,null,null,null,null,null,null,null,null,null,null,null,{"$f":"'Analysis 103L'!CF185","v":""},"","","","","",""]
[159,{"$f":"'Analysis 103L'!C186","v":0},{"$f":"'Analysis 103L'!I186","v":""},{"$f":"'Analysis 103L'!J186","v":""},{"$f":"'Analysis 103L'!P186","v":0},{"$f":"'Analysis 103L'!N186","v":""},{"$f":"'Analysis 103L'!Q186","v":""},null,null,null,null,"","",{"$f":"IF(RIGHT(C165, 4)=\"Case\", \"\",IF(J165=\"\",\"\",IF(AH165=\"LLLC\", 0.6, VLOOKUP('100L Information'!$G$19,Load_Profiles, 4, FALSE))))","v":""},"","","",0,"",null,"",{"$f":"'Analysis 103L'!$Y$232*(S165/('Analysis 103L'!$Y$230+'Analysis 103L'!$Y$231))","v":{"$error":"#VALUE!"}},null,null,{"$f":"IF(Q165=\"\",\"\",Q165*'Analysis 103L'!$D$23)","v":""},null,null,null,null,{"$error":"#VALUE!"},{"$f":"IF(AND(U165=\"\",AK165=\"Custom\"),MIN(K165*Incent_Cost_Controls_Cust,Q165/J165*0.2),IF(AH165=\"LLLC\",MIN(AI165,((K165+'Analysis 103L'!R186)*Incent_Cost_LLLC)-'Analysis 103L'!X186),IF(AD165>=VLOOKUP(H165,Incent_Controls,3,FALSE),MIN(K165,VLOOKUP(H165,Incent_Controls,2,FALSE)),\"\")))","v":{"$error":"#VALUE!"}},"",null,"","",null,"","PASS/PASS","",{"$error":"#VALUE!"},{"$error":"#VALUE!"},{"$error":"#VALUE!"},"",null,10,{"$f":"VLOOKUP('Analysis 103L'!BE186, avoided_costs, ROUND($AS165, 0)+2, FALSE)","v":{"$error":"#N/A"}},{"$error":"#N/A"},{"$error":"#VALUE!"},{"$error":"#N/A"},{"$error":"#N/A"},{"$error":"#VALUE!"},{"$error":"#N/A"},{"$error":"#N/A"},{"$error":"#N/A"},null,null,null,null,null,null,null,null,null,null,null,null,null,null,null,{"$f":"'Analysis 103L'!CF186","v":""},"","","","","",""]
[160,{"$f":"'Analysis 103L'!C187","v":0},{"$f":"'Analysis 103L'!I187","v":""},{"$f":"'Analysis 103L'!J187","v":""},{"$f":"'Analysis 103L'!P187","v":0},{"$f":"'Analysis 103L'!N187","v":""},{"$f":"'Analysis 103L'!Q187","v":""},null,null,null,null,"","",{"$f":"IF(RIGHT(C166, 4)=\"Case\", \"\",IF(J166=\"\",\"\",IF(AH166=\"LLLC\", 0.6, VLOOKUP('100L Information'!$G$19,Load_Profiles, 4, FALSE))))","v":""},"","","",0,"",null,"",{"$f":"'Analysis 103L'!$Y$232*(S166/('Analysis 103L'!$Y$230+'Analysis 103L'!$Y$231))","v":{"$error":"#VALUE!"}},null,null,{"$f":"IF(Q166=\"\",\"\",Q166*'Analysis 103L'!$D$23)","v":""},null,null,null,null,{"$error":"#VALUE!"},{"$f":"IF(AND(U166=\"\",AK166=\"Custom\"),MIN(K166*Incent_Cost_Controls_Cust,Q166/J166*0.2),IF(AH166=\"LLLC\",MIN(AI166,((K166+'Analysis 103L'!R187)*Incent_Cost_LLLC)-'Analysis 103L'!X187),IF(AD166>=VLOOKUP(H166,Incent_Controls,3,FALSE),MIN(K166,VLOOKUP(H166,Incent_Controls,2,FALSE)),\"\")))","v":{"$error":"#VALUE!"}},"",null,"","",null,"","PASS/PASS","",{"$error":"#VALUE!"},{"$error":"#VALUE!"},{"$error":"#VALUE!"},"",null,10,{"$f":"VLOOKUP('Analysis 103L'!BE187, avoided_costs, ROUND($AS166, 0)+2, FALSE)","v":{"$error":"#N/A"}},{"$error":"#N/A"},{"$error":"#VALUE!"},{"$error":"#N/A"},{"$error":"#N/A"},{"$error":"#VALUE!"},{"$error":"#N/A"},{"$error":"#N/A"},{"$error":"#N/A"},null,null,null,null,null,null,null,null,null,null,null,null,null,null,null,{"$f":"'Analysis 103L'!CF187","v":""},"","","","","",""]
[161,{"$f":"'Analysis 103L'!C188","v":0},{"$f":"'Analysis 103L'!I188","v":""},{"$f":"'Analysis 103L'!J188","v":""},{"$f":"'Analysis 103L'!P188","v":0},{"$f":"'Analysis 103L'!N188","v":""},{"$f":"'Analysis 103L'!Q188","v":""},null,null,null,null,"","",{"$f":"IF(RIGHT(C167, 4)=\"Case\", \"\",IF(J167=\"\",\"\",IF(AH167=\"LLLC\", 0.6, VLOOKUP('100L Information'!$G$19,Load_Profiles, 4, FALSE))))","v":""},"","","",0,"",null,"",{"$f":"'Analysis 103L'!$Y$232*(S167/('Analysis 103L'!$Y$230+'Analysis 103L'!$Y$231))","v":{"$error":"#VALUE!"}},null,null,{"$f":"IF(Q167=\"\",\"\",Q167*'Analysis 103L'!$D$23)","v":""},null,null,null,null,{"$error":"#VALUE!"},{"$f":"IF(AND(U167=\"\",AK167=\"Custom\"),MIN(K167*Incent_Cost_Controls_Cust,Q167/J167*0.2),IF(AH167=\"LLLC\",MIN(AI167,((K167+'Analysis 103L'!R188)*Incent_Cost_LLLC)-'Analysis 103L'!X188),IF(AD167>=VLOOKUP(H167,Incent_Controls,3,FALSE),MIN(K167,VLOOKUP(H167,Incent_Controls,2,FALSE)),\"\")))","v":{"$error":"#VALUE!"}},"",null,"","",null,"","PASS/PASS",{"$f":"IF(AL167=\"PASS/PASS\",L167,\"0\")","v":""},{"$f":"E167*F167*G167/1000","v":{"$error":"#VALUE!"}},{"$f":"AN167*(1-N167)","v":{"$error":"#VALUE!"}},{"$error":"#VALUE!"},{"$f":"IF(AK167=\"Custom\",0.35*L167,S167)","v":""},null,10,{"$f":"VLOOKUP('Analysis 103L'!BE188, avoided_costs, ROUND($AS167, 0)+2, FALSE)","v":{"$error":"#N/A"}},{"$error":"#N/A"},{"$f":"0.5*L167/AP167","v":{"$error":"#VALUE!"}},{"$error":"#N/A"},{"$error":"#N/A"},{"$f":"L167/AP167","v":{"$error":"#VALUE!"}},{"$error":"#N/A"},{"$error":"#N/A"},{"$error":"#N/A"},null,null,null,null,null,null,null,null,null,null,null,null,null,null,null,{"$f":"'Analysis 103L'!CF188","v":""},"","",{"$f":"IF(BS167=\"\", \"\", INDEX($BP$32:$BP$33, MATCH($BS167, $BM$32:$BM$33, 0))*$BT167)","v":""},"","",""]
[162,{"$f":"'Analysis 103L'!C189","v":0},{"$f":"'Analysis 103L'!I189","v":""},{"$f":"'Analysis 103L'!J189","v":""},{"$f":"'Analysis 103L'!P189","v":0},{"$f":"'Analysis 103L'!N189","v":""},{"$f":"'Analysis 103L'!Q189","v":""},null,null,null,null,"","",{"$f":"IF(RIGHT(C168, 4)=\"Case\", \"\",IF(J168=\"\",\"\",IF(AH168=\"LLLC\", 0.6, VLOOKUP('100L Information'!$G$19,Load_Profiles, 4, FALSE))))","v":""},"","","",0,"",null,"",{"$f":"'Analysis 103L'!$Y$232*(S168/('Analysis 103L'!$Y$230+'Analysis 103L'!$Y$231))","v":{"$error":"#VALUE!"}},null,null,{"$f":"IF(Q168=\"\",\"\",Q168*'Analysis 103L'!$D$23)","v":""},null,null,null,null,{"$error":"#VALUE!"},{"$f":"IF(AND(U168=\"\",AK168=\"Custom\"),MIN(K168*Incent_Cost_Controls_Cust,Q168/J168*0.2),IF(AH168=\"LLLC\",MIN(AI168,((K168+'Analysis 103L'!R189)*Incent_Cost_LLLC)-'Analysis 103L'!X189),IF(AD168>=VLOOKUP(H168,Incent_Controls,3,FALSE),MIN(K168,VLOOKUP(H168,Incent_Controls,2,FALSE)),\"\")))","v":{"$error":"#VALUE!"}},"",null,"","",null,"","PASS/PASS","",{"$error":"#VALUE!"},{"$error":"#VALUE!"},{"$error":"#VALUE!"},"",null,10,{"$f":"VLOOKUP('Analysis 103L'!BE189, avoided_costs, ROUND($AS168, 0)+2, FALSE)","v":{"$error":"#N/A"}},{"$error":"#N/A"},{"$error":"#VALUE!"},{"$error":"#N/A"},{"$error":"#N/A"},{"$error":"#VALUE!"},{"$error":"#N/A"},{"$error":"#N/A"},{"$error":"#N/A"},null,null,null,null,null,null,null,null,null,null,null,null,null,null,null,{"$f":"'Analysis 103L'!CF189","v":""},"","","","","",""]
[163,{"$f":"'Analysis 103L'!C190","v":0},{"$f":"'Analysis 103L'!I190","v":""},{"$f":"'Analysis 103L'!J190","v":""},{"$f":"'Analysis 103L'!P190","v":0},{"$f":"'Analysis 103L'!N190","v":""},{"$f":"'Analysis 103L'!Q190","v":""},null,null,null,null,"","",{"$f":"IF(RIGHT(C169, 4)=\"Case\", \"\",IF(J169=\"\",\"\",IF(AH169=\"LLLC\", 0.6, VLOOKUP('100L Information'!$G$19,Load_Profiles, 4, FALSE))))","v":""},"","","",0,"",null,"",{"$f":"'Analysis 103L'!$Y$232*(S169/('Analysis 103L'!$Y$230+'Analysis 103L'!$Y$231))","v":{"$error":"#VALUE!"}},null,null,{"$f":"IF(Q169=\"\",\"\",Q169*'Analysis 103L'!$D$23)","v":""},null,null,null,null,{"$error":"#VALUE!"},{"$f":"IF(AND(U169=\"\",AK169=\"Custom\"),MIN(K169*Incent_Cost_Controls_Cust,Q169/J169*0.2),IF(AH169=\"LLLC\",MIN(AI169,((K169+'Analysis 103L'!R190)*Incent_Cost_LLLC)-'Analysis 103L'!X190),IF(AD169>=VLOOKUP(H169,Incent_Controls,3,FALSE),MIN(K169,VLOOKUP(H169,Incent_Controls,2,FALSE)),\"\")))","v":{"$error":"#VALUE!"}},"",null,"","",null,"","PASS/PASS","",{"$error":"#VALUE!"},{"$error":"#VALUE!"},{"$error":"#VALUE!"},"",null,10,{"$f":"VLOOKUP('Analysis 103L'!BE190, avoided_costs, ROUND($AS169, 0)+2, FALSE)","v":{"$error":"#N/A"}},{"$error":"#N/A"},{"$error":"#VALUE!"},{"$error":"#N/A"},{"$error":"#N/A"},{"$error":"#VALUE!"},{"$error":"#N/A"},{"$error":"#N/A"},{"$error":"#N/A"},null,null,null,null,null,null,null,null,null,null,null,null,null,null,null,{"$f":"'Analysis 103L'!CF190","v":""},"","","","","",""]
[164,{"$f":"'Analysis 103L'!C191","v":0},{"$f":"'Analysis 103L'!I191","v":""},{"$f":"'Analysis 103L'!J191","v":""},{"$f":"'Analysis 103L'!P191","v":0},{"$f":"'Analysis 103L'!N191","v":""},{"$f":"'Analysis 103L'!Q191","v":""},null,null,null,null,"","",{"$f":"IF(RIGHT(C170, 4)=\"Case\", \"\",IF(J170=\"\",\"\",IF(AH170=\"LLLC\", 0.6, VLOOKUP('100L Information'!$G$19,Load_Profiles, 4, FALSE))))","v":""},"","","",0,"",null,"",{"$f":"'Analysis 103L'!$Y$232*(S170/('Analysis 103L'!$Y$230+'Analysis 103L'!$Y$231))","v":{"$error":"#VALUE!"}},null,null,{"$f":"IF(Q170=\"\",\"\",Q170*'Analysis 103L'!$D$23)","v":""},null,null,null,null,{"$error":"#VALUE!"},{"$f":"IF(AND(U170=\"\",AK170=\"Custom\"),MIN(K170*Incent_Cost_Controls_Cust,Q170/J170*0.2),IF(AH170=\"LLLC\",MIN(AI170,((K170+'Analysis 103L'!R191)*Incent_Cost_LLLC)-'Analysis 103L'!X191),IF(AD170>=VLOOKUP(H170,Incent_Controls,3,FALSE),MIN(K170,VLOOKUP(H170,Incent_Controls,2,FALSE)),\"\")))","v":{"$error":"#VALUE!"}},"",null,"","",null,"","PASS/PASS","",{"$error":"#VALUE!"},{"$error":"#VALUE!"},{"$error":"#VALUE!"},"",null,10,{"$f":"VLOOKUP('Analysis 103L'!BE191, avoided_costs, ROUND($AS170, 0)+2, FALSE)","v":{"$error":"#N/A"}},{"$error":"#N/A"},{"$error":"#VALUE!"},{"$error":"#N/A"},{"$error":"#N/A"},{"$error":"#VALUE!"},{"$error":"#N/A"},{"$error":"#N/A"},{"$error":"#N/A"},null,null,null,null,null,null,null,null,null,null,null,null,null,null,null,{"$f":"'Analysis 103L'!CF191","v":""},"","","","","",""]
[165,{"$f":"'Analysis 103L'!C192","v":0},{"$f":"'Analysis 103L'!I192","v":""},{"$f":"'Analysis 103L'!J192","v":""},{"$f":"'Analysis 103L'!P192","v":0},{"$f":"'Analysis 103L'!N192","v":""},{"$f":"'Analysis 103L'!Q192","v":""},null,null,null,null,"","",{"$f":"IF(RIGHT(C171, 4)=\"Case\", \"\",IF(J171=\"\",\"\",IF(AH171=\"LLLC\", 0.6, VLOOKUP('100L Information'!$G$19,Load_Profiles, 4, FALSE))))","v":""},"","","",0,"",null,"",{"$f":"'Analysis 103L'!$Y$232*(S171/('Analysis 103L'!$Y$230+'Analysis 103L'!$Y$231))","v":{"$error":"#VALUE!"}},null,null,{"$f":"IF(Q171=\"\",\"\",Q171*'Analysis 103L'!$D$23)","v":""},null,null,null,null,{"$error":"#VALUE!"},{"$f":"IF(AND(U171=\"\",AK171=\"Custom\"),MIN(K171*Incent_Cost_Controls_Cust,Q171/J171*0.2),IF(AH171=\"LLLC\",MIN(AI171,((K171+'Analysis 103L'!R192)*Incent_Cost_LLLC)-'Analysis 103L'!X192),IF(AD171>=VLOOKUP(H171,Incent_Controls,3,FALSE),MIN(K171,VLOOKUP(H171,Incent_Controls,2,FALSE)),\"\")))","v":{"$error":"#VALUE!"}},"",null,"","",null,"","PASS/PASS","",{"$error":"#VALUE!"},{"$error":"#VALUE!"},{"$error":"#VALUE!"},"",null,10,{"$f":"VLOOKUP('Analysis 103L'!BE192, avoided_costs, ROUND($AS171, 0)+2, FALSE)","v":{"$error":"#N/A"}},{"$error":"#N/A"},{"$error":"#VALUE!"},{"$error":"#N/A"},{"$error":"#N/A"},{"$error":"#VALUE!"},{"$error":"#N/A"},{"$error":"#N/A"},{"$error":"#N/A"},null,null,null,null,null,null,null,null,null,null,null,null,null,null,null,{"$f":"'Analysis 103L'!CF192","v":""},"","","","","",""]
[166,{"$f":"'Analysis 103L'!C193","v":0},{"$f":"'Analysis 103L'!I193","v":""},{"$f":"'Analysis 103L'!J193","v":""},{"$f":"'Analysis 103L'!P193","v":0},{"$f":"'Analysis 103L'!N193","v":""},{"$f":"'Analysis 103L'!Q193","v":""},null,null,null,null,"","",{"$f":"IF(RIGHT(C172, 4)=\"Case\", \"\",IF(J172=\"\",\"\",IF(AH172=\"LLLC\", 0.6, VLOOKUP('100L Information'!$G$19,Load_Profiles, 4, FALSE))))","v":""},"","","",0,"",null,"",{"$f":"'Analysis 103L'!$Y$232*(S172/('Analysis 103L'!$Y$230+'Analysis 103L'!$Y$231))","v":{"$error":"#VALUE!"}},null,null,{"$f":"IF(Q172=\"\",\"\",Q172*'Analysis 103L'!$D$23)","v":""},null,null,null,null,{"$error":"#VALUE!"},{"$f":"IF(AND(U172=\"\",AK172=\"Custom\"),MIN(K172*Incent_Cost_Controls_Cust,Q172/J172*0.2),IF(AH172=\"LLLC\",MIN(AI172,((K172+'Analysis 103L'!R193)*Incent_Cost_LLLC)-'Analysis 103L'!X193),IF(AD172>=VLOOKUP(H172,Incent_Controls,3,FALSE),MIN(K172,VLOOKUP(H172,Incent_Controls,2,FALSE)),\"\")))","v":{"$error":"#VALUE!"}},"",null,"","",null,"","PASS/PASS","",{"$error":"#VALUE!"},{"$error":"#VALUE!"},{"$error":"#VALUE!"},"",null,10,{"$f":"VLOOKUP('Analysis 103L'!BE193, avoided_costs, ROUND($AS172, 0)+2, FALSE)","v":{"$error":"#N/A"}},{"$error":"#N/A"},{"$error":"#VALUE!"},{"$error":"#N/A"},{"$error":"#N/A"},{"$error":"#VALUE!"},{"$error":"#N/A"},{"$error":"#N/A"},{"$error":"#N/A"},null,null,null,null,null,null,null,null,null,null,null,null,null,null,null,{"$f":"'Analysis 103L'!CF193","v":""},"","","","","",""]
[167,{"$f":"'Analysis 103L'!C194","v":0},{"$f":"'Analysis 103L'!I194","v":""},{"$f":"'Analysis 103L'!J194","v":""},{"$f":"'Analysis 103L'!P194","v":0},{"$f":"'Analysis 103L'!N194","v":""},{"$f":"'Analysis 103L'!Q194","v":""},null,null,null,null,"","",{"$f":"IF(RIGHT(C173, 4)=\"Case\", \"\",IF(J173=\"\",\"\",IF(AH173=\"LLLC\", 0.6, VLOOKUP('100L Information'!$G$19,Load_Profiles, 4, FALSE))))","v":""},"","","",0,"",null,"",{"$f":"'Analysis 103L'!$Y$232*(S173/('Analysis 103L'!$Y$230+'Analysis 103L'!$Y$231))","v":{"$error":"#VALUE!"}},null,null,{"$f":"IF(Q173=\"\",\"\",Q173*'Analysis 103L'!$D$23)","v":""},null,null,null,null,{"$error":"#VALUE!"},{"$f":"IF(AND(U173=\"\",AK173=\"Custom\"),MIN(K173*Incent_Cost_Controls_Cust,Q173/J173*0.2),IF(AH173=\"LLLC\",MIN(AI173,((K173+'Analysis 103L'!R194)*Incent_Cost_LLLC)-'Analysis 103L'!X194),IF(AD173>=VLOOKUP(H173,Incent_Controls,3,FALSE),MIN(K173,VLOOKUP(H173,Incent_Controls,2,FALSE)),\"\")))","v":{"$error":"#VALUE!"}},"",null,"","",null,"","PASS/PASS","",{"$error":"#VALUE!"},{"$error":"#VALUE!"},{"$error":"#VALUE!"},"",null,10,{"$f":"VLOOKUP('Analysis 103L'!BE194, avoided_costs, ROUND($AS173, 0)+2, FALSE)","v":{"$error":"#N/A"}},{"$error":"#N/A"},{"$error":"#VALUE!"},{"$error":"#N/A"},{"$error":"#N/A"},{"$error":"#VALUE!"},{"$error":"#N/A"},{"$error":"#N/A"},{"$error":"#N/A"},null,null,null,null,null,null,null,null,null,null,null,null,null,null,null,{"$f":"'Analysis 103L'!CF194","v":""},"","","","","",""]
[168,{"$f":"'Analysis 103L'!C195","v":0},{"$f":"'Analysis 103L'!I195","v":""},{"$f":"'Analysis 103L'!J195","v":""},{"$f":"'Analysis 103L'!P195","v":0},{"$f":"'Analysis 103L'!N195","v":""},{"$f":"'Analysis 103L'!Q195","v":""},null,null,null,null,"","",{"$f":"IF(RIGHT(C174, 4)=\"Case\", \"\",IF(J174=\"\",\"\",IF(AH174=\"LLLC\", 0.6, VLOOKUP('100L Information'!$G$19,Load_Profiles, 4, FALSE))))","v":""},"","","",0,"",null,"",{"$f":"'Analysis 103L'!$Y$232*(S174/('Analysis 103L'!$Y$230+'Analysis 103L'!$Y$231))","v":{"$error":"#VALUE!"}},null,null,{"$f":"IF(Q174=\"\",\"\",Q174*'Analysis 103L'!$D$23)","v":""},null,null,null,null,{"$error":"#VALUE!"},{"$f":"IF(AND(U174=\"\",AK174=\"Custom\"),MIN(K174*Incent_Cost_Controls_Cust,Q174/J174*0.2),IF(AH174=\"LLLC\",MIN(AI174,((K174+'Analysis 103L'!R195)*Incent_Cost_LLLC)-'Analysis 103L'!X195),IF(AD174>=VLOOKUP(H174,Incent_Controls,3,FALSE),MIN(K174,VLOOKUP(H174,Incent_Controls,2,FALSE)),\"\")))","v":{"$error":"#VALUE!"}},"",null,"","",null,"","PASS/PASS","",{"$error":"#VALUE!"},{"$error":"#VALUE!"},{"$error":"#VALUE!"},"",null,10,{"$f":"VLOOKUP('Analysis 103L'!BE195, avoided_costs, ROUND($AS174, 0)+2, FALSE)","v":{"$error":"#N/A"}},{"$error":"#N/A"},{"$error":"#VALUE!"},{"$error":"#N/A"},{"$error":"#N/A"},{"$error":"#VALUE!"},{"$error":"#N/A"},{"$error":"#N/A"},{"$error":"#N/A"},null,null,null,null,null,null,null,null,null,null,null,null,null,null,null,{"$f":"'Analysis 103L'!CF195","v":""},"","","","","",""]
[169,{"$f":"'Analysis 103L'!C196","v":0},{"$f":"'Analysis 103L'!I196","v":""},{"$f":"'Analysis 103L'!J196","v":""},{"$f":"'Analysis 103L'!P196","v":0},{"$f":"'Analysis 103L'!N196","v":""},{"$f":"'Analysis 103L'!Q196","v":""},null,null,null,null,"","",{"$f":"IF(RIGHT(C175, 4)=\"Case\", \"\",IF(J175=\"\",\"\",IF(AH175=\"LLLC\", 0.6, VLOOKUP('100L Information'!$G$19,Load_Profiles, 4, FALSE))))","v":""},"","","",0,"",null,"",{"$f":"'Analysis 103L'!$Y$232*(S175/('Analysis 103L'!$Y$230+'Analysis 103L'!$Y$231))","v":{"$error":"#VALUE!"}},null,null,{"$f":"IF(Q175=\"\",\"\",Q175*'Analysis 103L'!$D$23)","v":""},null,null,null,null,{"$error":"#VALUE!"},{"$f":"IF(AND(U175=\"\",AK175=\"Custom\"),MIN(K175*Incent_Cost_Controls_Cust,Q175/J175*0.2),IF(AH175=\"LLLC\",MIN(AI175,((K175+'Analysis 103L'!R196)*Incent_Cost_LLLC)-'Analysis 103L'!X196),IF(AD175>=VLOOKUP(H175,Incent_Controls,3,FALSE),MIN(K175,VLOOKUP(H175,Incent_Controls,2,FALSE)),\"\")))","v":{"$error":"#VALUE!"}},"",null,"","",null,"","PASS/PASS","",{"$error":"#VALUE!"},{"$error":"#VALUE!"},{"$error":"#VALUE!"},"",null,10,{"$f":"VLOOKUP('Analysis 103L'!BE196, avoided_costs, ROUND($AS175, 0)+2, FALSE)","v":{"$error":"#N/A"}},{"$error":"#N/A"},{"$error":"#VALUE!"},{"$error":"#N/A"},{"$error":"#N/A"},{"$error":"#VALUE!"},{"$error":"#N/A"},{"$error":"#N/A"},{"$error":"#N/A"},null,null,null,null,null,null,null,null,null,null,null,null,null,null,null,{"$f":"'Analysis 103L'!CF196","v":""},"","","","","",""]
[170,{"$f":"'Analysis 103L'!C197","v":0},{"$f":"'Analysis 103L'!I197","v":""},{"$f":"'Analysis 103L'!J197","v":""},{"$f":"'Analysis 103L'!P197","v":0},{"$f":"'Analysis 103L'!N197","v":""},{"$f":"'Analysis 103L'!Q197","v":""},null,null,null,null,"","",{"$f":"IF(RIGHT(C176, 4)=\"Case\", \"\",IF(J176=\"\",\"\",IF(AH176=\"LLLC\", 0.6, VLOOKUP('100L Information'!$G$19,Load_Profiles, 4, FALSE))))","v":""},"","","",0,"",null,"",{"$f":"'Analysis 103L'!$Y$232*(S176/('Analysis 103L'!$Y$230+'Analysis 103L'!$Y$231))","v":{"$error":"#VALUE!"}},null,null,{"$f":"IF(Q176=\"\",\"\",Q176*'Analysis 103L'!$D$23)","v":""},null,null,null,null,{"$error":"#VALUE!"},{"$f":"IF(AND(U176=\"\",AK176=\"Custom\"),MIN(K176*Incent_Cost_Controls_Cust,Q176/J176*0.2),IF(AH176=\"LLLC\",MIN(AI176,((K176+'Analysis 103L'!R197)*Incent_Cost_LLLC)-'Analysis 103L'!X197),IF(AD176>=VLOOKUP(H176,Incent_Controls,3,FALSE),MIN(K176,VLOOKUP(H176,Incent_Controls,2,FALSE)),\"\")))","v":{"$error":"#VALUE!"}},"",null,"","",null,"","PASS/PASS","",{"$error":"#VALUE!"},{"$error":"#VALUE!"},{"$error":"#VALUE!"},"",null,10,{"$f":"VLOOKUP('Analysis 103L'!BE197, avoided_costs, ROUND($AS176, 0)+2, FALSE)","v":{"$error":"#N/A"}},{"$error":"#N/A"},{"$error":"#VALUE!"},{"$error":"#N/A"},{"$error":"#N/A"},{"$error":"#VALUE!"},{"$error":"#N/A"},{"$error":"#N/A"},{"$error":"#N/A"},null,null,null,null,null,null,null,null,null,null,null,null,null,null,null,{"$f":"'Analysis 103L'!CF197","v":""},"","","","","",""]
[171,{"$f":"'Analysis 103L'!C198","v":0},{"$f":"'Analysis 103L'!I198","v":""},{"$f":"'Analysis 103L'!J198","v":""},{"$f":"'Analysis 103L'!P198","v":0},{"$f":"'Analysis 103L'!N198","v":""},{"$f":"'Analysis 103L'!Q198","v":""},null,null,null,null,"","",{"$f":"IF(RIGHT(C177, 4)=\"Case\", \"\",IF(J177=\"\",\"\",IF(AH177=\"LLLC\", 0.6, VLOOKUP('100L Information'!$G$19,Load_Profiles, 4, FALSE))))","v":""},"","","",0,"",null,"",{"$f":"'Analysis 103L'!$Y$232*(S177/('Analysis 103L'!$Y$230+'Analysis 103L'!$Y$231))","v":{"$error":"#VALUE!"}},null,null,{"$f":"IF(Q177=\"\",\"\",Q177*'Analysis 103L'!$D$23)","v":""},null,null,null,null,{"$error":"#VALUE!"},{"$f":"IF(AND(U177=\"\",AK177=\"Custom\"),MIN(K177*Incent_Cost_Controls_Cust,Q177/J177*0.2),IF(AH177=\"LLLC\",MIN(AI177,((K177+'Analysis 103L'!R198)*Incent_Cost_LLLC)-'Analysis 103L'!X198),IF(AD177>=VLOOKUP(H177,Incent_Controls,3,FALSE),MIN(K177,VLOOKUP(H177,Incent_Controls,2,FALSE)),\"\")))","v":{"$error":"#VALUE!"}},"",null,"","",null,"","PASS/PASS","",{"$error":"#VALUE!"},{"$error":"#VALUE!"},{"$error":"#VALUE!"},"",null,10,{"$f":"VLOOKUP('Analysis 103L'!BE198, avoided_costs, ROUND($AS177, 0)+2, FALSE)","v":{"$error":"#N/A"}},{"$error":"#N/A"},{"$error":"#VALUE!"},{"$error":"#N/A"},{"$error":"#N/A"},{"$error":"#VALUE!"},{"$error":"#N/A"},{"$error":"#N/A"},{"$error":"#N/A"},null,null,null,null,null,null,null,null,null,null,null,null,null,null,null,{"$f":"'Analysis 103L'!CF198","v":""},"","","","","",""]
[172,{"$f":"'Analysis 103L'!C199","v":0},{"$f":"'Analysis 103L'!I199","v":""},{"$f":"'Analysis 103L'!J199","v":""},{"$f":"'Analysis 103L'!P199","v":0},{"$f":"'Analysis 103L'!N199","v":""},{"$f":"'Analysis 103L'!Q199","v":""},null,null,null,null,"","",{"$f":"IF(RIGHT(C178, 4)=\"Case\", \"\",IF(J178=\"\",\"\",IF(AH178=\"LLLC\", 0.6, VLOOKUP('100L Information'!$G$19,Load_Profiles, 4, FALSE))))","v":""},"","","",0,"",null,"",{"$f":"'Analysis 103L'!$Y$232*(S178/('Analysis 103L'!$Y$230+'Analysis 103L'!$Y$231))","v":{"$error":"#VALUE!"}},null,null,{"$f":"IF(Q178=\"\",\"\",Q178*'Analysis 103L'!$D$23)","v":""},null,null,null,null,{"$error":"#VALUE!"},{"$f":"IF(AND(U178=\"\",AK178=\"Custom\"),MIN(K178*Incent_Cost_Controls_Cust,Q178/J178*0.2),IF(AH178=\"LLLC\",MIN(AI178,((K178+'Analysis 103L'!R199)*Incent_Cost_LLLC)-'Analysis 103L'!X199),IF(AD178>=VLOOKUP(H178,Incent_Controls,3,FALSE),MIN(K178,VLOOKUP(H178,Incent_Controls,2,FALSE)),\"\")))","v":{"$error":"#VALUE!"}},"",null,"","",null,"","PASS/PASS","",{"$error":"#VALUE!"},{"$error":"#VALUE!"},{"$error":"#VALUE!"},"",null,10,{"$f":"VLOOKUP('Analysis 103L'!BE199, avoided_costs, ROUND($AS178, 0)+2, FALSE)","v":{"$error":"#N/A"}},{"$error":"#N/A"},{"$error":"#VALUE!"},{"$error":"#N/A"},{"$error":"#N/A"},{"$error":"#VALUE!"},{"$error":"#N/A"},{"$error":"#N/A"},{"$error":"#N/A"},null,null,null,null,null,null,null,null,null,null,null,null,null,null,null,{"$f":"'Analysis 103L'!CF199","v":""},"","","","","",""]
[173,{"$f":"'Analysis 103L'!C200","v":0},{"$f":"'Analysis 103L'!I200","v":""},{"$f":"'Analysis 103L'!J200","v":""},{"$f":"'Analysis 103L'!P200","v":0},{"$f":"'Analysis 103L'!N200","v":""},{"$f":"'Analysis 103L'!Q200","v":""},null,null,null,null,"","",{"$f":"IF(RIGHT(C179, 4)=\"Case\", \"\",IF(J179=\"\",\"\",IF(AH179=\"LLLC\", 0.6, VLOOKUP('100L Information'!$G$19,Load_Profiles, 4, FALSE))))","v":""},"","","",0,"",null,"",{"$f":"'Analysis 103L'!$Y$232*(S179/('Analysis 103L'!$Y$230+'Analysis 103L'!$Y$231))","v":{"$error":"#VALUE!"}},null,null,{"$f":"IF(Q179=\"\",\"\",Q179*'Analysis 103L'!$D$23)","v":""},null,null,null,null,{"$error":"#VALUE!"},{"$f":"IF(AND(U179=\"\",AK179=\"Custom\"),MIN(K179*Incent_Cost_Controls_Cust,Q179/J179*0.2),IF(AH179=\"LLLC\",MIN(AI179,((K179+'Analysis 103L'!R200)*Incent_Cost_LLLC)-'Analysis 103L'!X200),IF(AD179>=VLOOKUP(H179,Incent_Controls,3,FALSE),MIN(K179,VLOOKUP(H179,Incent_Controls,2,FALSE)),\"\")))","v":{"$error":"#VALUE!"}},"",null,{"$f":"IF(RIGHT(H179,4)=\"LLLC\", \"LLLC\",\"\")","v":""},{"$f":"IF(AH179=\"LLLC\",VLOOKUP(D179,Incent_LLLC,2,FALSE),\"\")","v":""},null,"","PASS/PASS","",{"$error":"#VALUE!"},{"$error":"#VALUE!"},{"$error":"#VALUE!"},"",null,10,{"$f":"VLOOKUP('Analysis 103L'!BE200, avoided_costs, ROUND($AS179, 0)+2, FALSE)","v":{"$error":"#N/A"}},{"$error":"#N/A"},{"$error":"#VALUE!"},{"$error":"#N/A"},{"$error":"#N/A"},{"$error":"#VALUE!"},{"$error":"#N/A"},{"$error":"#N/A"},{"$error":"#N/A"},null,null,null,null,null,null,null,null,null,null,null,null,null,null,null,{"$f":"'Analysis 103L'!CF200","v":""},"","","","","",""]
[174,{"$f":"'Analysis 103L'!C201","v":0},{"$f":"'Analysis 103L'!I201","v":""},{"$f":"'Analysis 103L'!J201","v":""},{"$f":"'Analysis 103L'!P201","v":0},{"$f":"'Analysis 103L'!N201","v":""},{"$f":"'Analysis 103L'!Q201","v":""},null,null,null,null,"","",{"$f":"IF(RIGHT(C180, 4)=\"Case\", \"\",IF(J180=\"\",\"\",IF(AH180=\"LLLC\", 0.6, VLOOKUP('100L Information'!$G$19,Load_Profiles, 4, FALSE))))","v":""},"","","",0,"",null,"",{"$f":"'Analysis 103L'!$Y$232*(S180/('Analysis 103L'!$Y$230+'Analysis 103L'!$Y$231))","v":{"$error":"#VALUE!"}},null,null,{"$f":"IF(Q180=\"\",\"\",Q180*'Analysis 103L'!$D$23)","v":""},null,null,null,null,{"$error":"#VALUE!"},{"$f":"IF(AND(U180=\"\",AK180=\"Custom\"),MIN(K180*Incent_Cost_Controls_Cust,Q180/J180*0.2),IF(AH180=\"LLLC\",MIN(AI180,((K180+'Analysis 103L'!R201)*Incent_Cost_LLLC)-'Analysis 103L'!X201),IF(AD180>=VLOOKUP(H180,Incent_Controls,3,FALSE),MIN(K180,VLOOKUP(H180,Incent_Controls,2,FALSE)),\"\")))","v":{"$error":"#VALUE!"}},"",null,"","",null,"","PASS/PASS","",{"$error":"#VALUE!"},{"$error":"#VALUE!"},{"$error":"#VALUE!"},"",null,10,{"$f":"VLOOKUP('Analysis 103L'!BE201, avoided_costs, ROUND($AS180, 0)+2, FALSE)","v":{"$error":"#N/A"}},{"$error":"#N/A"},{"$error":"#VALUE!"},{"$error":"#N/A"},{"$error":"#N/A"},{"$error":"#VALUE!"},{"$error":"#N/A"},{"$error":"#N/A"},{"$error":"#N/A"},null,null,null,null,null,null,null,null,null,null,null,null,null,null,null,{"$f":"'Analysis 103L'!CF201","v":""},"","","","","",""]
[175,{"$f":"'Analysis 103L'!C202","v":0},{"$f":"'Analysis 103L'!I202","v":""},{"$f":"'Analysis 103L'!J202","v":""},{"$f":"'Analysis 103L'!P202","v":0},{"$f":"'Analysis 103L'!N202","v":""},{"$f":"'Analysis 103L'!Q202","v":""},null,null,null,null,"","",{"$f":"IF(RIGHT(C181, 4)=\"Case\", \"\",IF(J181=\"\",\"\",IF(AH181=\"LLLC\", 0.6, VLOOKUP('100L Information'!$G$19,Load_Profiles, 4, FALSE))))","v":""},"","","",0,"",null,"",{"$f":"'Analysis 103L'!$Y$232*(S181/('Analysis 103L'!$Y$230+'Analysis 103L'!$Y$231))","v":{"$error":"#VALUE!"}},null,null,{"$f":"IF(Q181=\"\",\"\",Q181*'Analysis 103L'!$D$23)","v":""},null,null,null,null,{"$error":"#VALUE!"},{"$f":"IF(AND(U181=\"\",AK181=\"Custom\"),MIN(K181*Incent_Cost_Controls_Cust,Q181/J181*0.2),IF(AH181=\"LLLC\",MIN(AI181,((K181+'Analysis 103L'!R202)*Incent_Cost_LLLC)-'Analysis 103L'!X202),IF(AD181>=VLOOKUP(H181,Incent_Controls,3,FALSE),MIN(K181,VLOOKUP(H181,Incent_Controls,2,FALSE)),\"\")))","v":{"$error":"#VALUE!"}},"",null,"","",null,"","PASS/PASS","",{"$error":"#VALUE!"},{"$error":"#VALUE!"},{"$error":"#VALUE!"},"",null,10,{"$f":"VLOOKUP('Analysis 103L'!BE202, avoided_costs, ROUND($AS181, 0)+2, FALSE)","v":{"$error":"#N/A"}},{"$error":"#N/A"},{"$error":"#VALUE!"},{"$error":"#N/A"},{"$error":"#N/A"},{"$error":"#VALUE!"},{"$error":"#N/A"},{"$error":"#N/A"},{"$error":"#N/A"},null,null,null,null,null,null,null,null,null,null,null,null,null,null,null,{"$f":"'Analysis 103L'!CF202","v":""},"","","","","",""]
[176,{"$f":"'Analysis 103L'!C203","v":0},{"$f":"'Analysis 103L'!I203","v":""},{"$f":"'Analysis 103L'!J203","v":""},{"$f":"'Analysis 103L'!P203","v":0},{"$f":"'Analysis 103L'!N203","v":""},{"$f":"'Analysis 103L'!Q203","v":""},null,null,null,null,"","",{"$f":"IF(RIGHT(C182, 4)=\"Case\", \"\",IF(J182=\"\",\"\",IF(AH182=\"LLLC\", 0.6, VLOOKUP('100L Information'!$G$19,Load_Profiles, 4, FALSE))))","v":""},"","","",0,"",null,"",{"$f":"'Analysis 103L'!$Y$232*(S182/('Analysis 103L'!$Y$230+'Analysis 103L'!$Y$231))","v":{"$error":"#VALUE!"}},null,null,{"$f":"IF(Q182=\"\",\"\",Q182*'Analysis 103L'!$D$23)","v":""},null,null,null,null,{"$error":"#VALUE!"},{"$f":"IF(AND(U182=\"\",AK182=\"Custom\"),MIN(K182*Incent_Cost_Controls_Cust,Q182/J182*0.2),IF(AH182=\"LLLC\",MIN(AI182,((K182+'Analysis 103L'!R203)*Incent_Cost_LLLC)-'Analysis 103L'!X203),IF(AD182>=VLOOKUP(H182,Incent_Controls,3,FALSE),MIN(K182,VLOOKUP(H182,Incent_Controls,2,FALSE)),\"\")))","v":{"$error":"#VALUE!"}},"",null,"","",null,"","PASS/PASS","",{"$error":"#VALUE!"},{"$error":"#VALUE!"},{"$error":"#VALUE!"},"",null,10,{"$f":"VLOOKUP('Analysis 103L'!BE203, avoided_costs, ROUND($AS182, 0)+2, FALSE)","v":{"$error":"#N/A"}},{"$error":"#N/A"},{"$error":"#VALUE!"},{"$error":"#N/A"},{"$error":"#N/A"},{"$error":"#VALUE!"},{"$error":"#N/A"},{"$error":"#N/A"},{"$error":"#N/A"},null,null,null,null,null,null,null,null,null,null,null,null,null,null,null,{"$f":"'Analysis 103L'!CF203","v":""},"","","","","",""]
[177,{"$f":"'Analysis 103L'!C204","v":0},{"$f":"'Analysis 103L'!I204","v":""},{"$f":"'Analysis 103L'!J204","v":""},{"$f":"'Analysis 103L'!P204","v":0},{"$f":"'Analysis 103L'!N204","v":""},{"$f":"'Analysis 103L'!Q204","v":""},null,null,null,null,"","",{"$f":"IF(RIGHT(C183, 4)=\"Case\", \"\",IF(J183=\"\",\"\",IF(AH183=\"LLLC\", 0.6, VLOOKUP('100L Information'!$G$19,Load_Profiles, 4, FALSE))))","v":""},"","","",0,"",null,"",{"$f":"'Analysis 103L'!$Y$232*(S183/('Analysis 103L'!$Y$230+'Analysis 103L'!$Y$231))","v":{"$error":"#VALUE!"}},null,null,{"$f":"IF(Q183=\"\",\"\",Q183*'Analysis 103L'!$D$23)","v":""},null,null,null,null,{"$error":"#VALUE!"},{"$f":"IF(AND(U183=\"\",AK183=\"Custom\"),MIN(K183*Incent_Cost_Controls_Cust,Q183/J183*0.2),IF(AH183=\"LLLC\",MIN(AI183,((K183+'Analysis 103L'!R204)*Incent_Cost_LLLC)-'Analysis 103L'!X204),IF(AD183>=VLOOKUP(H183,Incent_Controls,3,FALSE),MIN(K183,VLOOKUP(H183,Incent_Controls,2,FALSE)),\"\")))","v":{"$error":"#VALUE!"}},"",null,"","",null,"","PASS/PASS","",{"$error":"#VALUE!"},{"$error":"#VALUE!"},{"$error":"#VALUE!"},"",null,10,{"$f":"VLOOKUP('Analysis 103L'!BE204, avoided_costs, ROUND($AS183, 0)+2, FALSE)","v":{"$error":"#N/A"}},{"$error":"#N/A"},{"$error":"#VALUE!"},{"$error":"#N/A"},{"$error":"#N/A"},{"$error":"#VALUE!"},{"$error":"#N/A"},{"$error":"#N/A"},{"$error":"#N/A"},null,null,null,null,null,null,null,null,null,null,null,null,null,null,null,{"$f":"'Analysis 103L'!CF204","v":""},"","","","","",""]
[178,{"$f":"'Analysis 103L'!C205","v":0},{"$f":"'Analysis 103L'!I205","v":""},{"$f":"'Analysis 103L'!J205","v":""},{"$f":"'Analysis 103L'!P205","v":0},{"$f":"'Analysis 103L'!N205","v":""},{"$f":"'Analysis 103L'!Q205","v":""},null,null,null,null,"","",{"$f":"IF(RIGHT(C184, 4)=\"Case\", \"\",IF(J184=\"\",\"\",IF(AH184=\"LLLC\", 0.6, VLOOKUP('100L Information'!$G$19,Load_Profiles, 4, FALSE))))","v":""},"","","",0,"",null,"",{"$f":"'Analysis 103L'!$Y$232*(S184/('Analysis 103L'!$Y$230+'Analysis 103L'!$Y$231))","v":{"$error":"#VALUE!"}},null,null,{"$f":"IF(Q184=\"\",\"\",Q184*'Analysis 103L'!$D$23)","v":""},null,null,null,null,{"$error":"#VALUE!"},{"$f":"IF(AND(U184=\"\",AK184=\"Custom\"),MIN(K184*Incent_Cost_Controls_Cust,Q184/J184*0.2),IF(AH184=\"LLLC\",MIN(AI184,((K184+'Analysis 103L'!R205)*Incent_Cost_LLLC)-'Analysis 103L'!X205),IF(AD184>=VLOOKUP(H184,Incent_Controls,3,FALSE),MIN(K184,VLOOKUP(H184,Incent_Controls,2,FALSE)),\"\")))","v":{"$error":"#VALUE!"}},"",null,"","",null,"","PASS/PASS","",{"$error":"#VALUE!"},{"$error":"#VALUE!"},{"$error":"#VALUE!"},"",null,10,{"$f":"VLOOKUP('Analysis 103L'!BE205, avoided_costs, ROUND($AS184, 0)+2, FALSE)","v":{"$error":"#N/A"}},{"$error":"#N/A"},{"$error":"#VALUE!"},{"$error":"#N/A"},{"$error":"#N/A"},{"$error":"#VALUE!"},{"$error":"#N/A"},{"$error":"#N/A"},{"$error":"#N/A"},null,null,null,null,null,null,null,null,null,null,null,null,null,null,null,{"$f":"'Analysis 103L'!CF205","v":""},"","","","","",""]
[179,{"$f":"'Analysis 103L'!C206","v":0},{"$f":"'Analysis 103L'!I206","v":""},{"$f":"'Analysis 103L'!J206","v":""},{"$f":"'Analysis 103L'!P206","v":0},{"$f":"'Analysis 103L'!N206","v":""},{"$f":"'Analysis 103L'!Q206","v":""},null,null,null,null,"","",{"$f":"IF(RIGHT(C185, 4)=\"Case\", \"\",IF(J185=\"\",\"\",IF(AH185=\"LLLC\", 0.6, VLOOKUP('100L Information'!$G$19,Load_Profiles, 4, FALSE))))","v":""},"","","",0,"",null,"",{"$f":"'Analysis 103L'!$Y$232*(S185/('Analysis 103L'!$Y$230+'Analysis 103L'!$Y$231))","v":{"$error":"#VALUE!"}},null,null,{"$f":"IF(Q185=\"\",\"\",Q185*'Analysis 103L'!$D$23)","v":""},null,null,null,null,{"$error":"#VALUE!"},{"$f":"IF(AND(U185=\"\",AK185=\"Custom\"),MIN(K185*Incent_Cost_Controls_Cust,Q185/J185*0.2),IF(AH185=\"LLLC\",MIN(AI185,((K185+'Analysis 103L'!R206)*Incent_Cost_LLLC)-'Analysis 103L'!X206),IF(AD185>=VLOOKUP(H185,Incent_Controls,3,FALSE),MIN(K185,VLOOKUP(H185,Incent_Controls,2,FALSE)),\"\")))","v":{"$error":"#VALUE!"}},"",null,"","",null,"","PASS/PASS","",{"$error":"#VALUE!"},{"$error":"#VALUE!"},{"$error":"#VALUE!"},"",null,10,{"$f":"VLOOKUP('Analysis 103L'!BE206, avoided_costs, ROUND($AS185, 0)+2, FALSE)","v":{"$error":"#N/A"}},{"$error":"#N/A"},{"$error":"#VALUE!"},{"$error":"#N/A"},{"$error":"#N/A"},{"$error":"#VALUE!"},{"$error":"#N/A"},{"$error":"#N/A"},{"$error":"#N/A"},null,null,null,null,null,null,null,null,null,null,null,null,null,null,null,{"$f":"'Analysis 103L'!CF206","v":""},"","","","","",""]
[180,{"$f":"'Analysis 103L'!C207","v":0},{"$f":"'Analysis 103L'!I207","v":""},{"$f":"'Analysis 103L'!J207","v":""},{"$f":"'Analysis 103L'!P207","v":0},{"$f":"'Analysis 103L'!N207","v":""},{"$f":"'Analysis 103L'!Q207","v":""},null,null,null,null,"","",{"$f":"IF(RIGHT(C186, 4)=\"Case\", \"\",IF(J186=\"\",\"\",IF(AH186=\"LLLC\", 0.6, VLOOKUP('100L Information'!$G$19,Load_Profiles, 4, FALSE))))","v":""},"","","",0,"",null,"",{"$f":"'Analysis 103L'!$Y$232*(S186/('Analysis 103L'!$Y$230+'Analysis 103L'!$Y$231))","v":{"$error":"#VALUE!"}},null,null,{"$f":"IF(Q186=\"\",\"\",Q186*'Analysis 103L'!$D$23)","v":""},null,null,null,null,{"$error":"#VALUE!"},{"$f":"IF(AND(U186=\"\",AK186=\"Custom\"),MIN(K186*Incent_Cost_Controls_Cust,Q186/J186*0.2),IF(AH186=\"LLLC\",MIN(AI186,((K186+'Analysis 103L'!R207)*Incent_Cost_LLLC)-'Analysis 103L'!X207),IF(AD186>=VLOOKUP(H186,Incent_Controls,3,FALSE),MIN(K186,VLOOKUP(H186,Incent_Controls,2,FALSE)),\"\")))","v":{"$error":"#VALUE!"}},"",null,"","",null,"","PASS/PASS","",{"$error":"#VALUE!"},{"$error":"#VALUE!"},{"$error":"#VALUE!"},"",null,10,{"$f":"VLOOKUP('Analysis 103L'!BE207, avoided_costs, ROUND($AS186, 0)+2, FALSE)","v":{"$error":"#N/A"}},{"$error":"#N/A"},{"$error":"#VALUE!"},{"$error":"#N/A"},{"$error":"#N/A"},{"$error":"#VALUE!"},{"$error":"#N/A"},{"$error":"#N/A"},{"$error":"#N/A"},null,null,null,null,null,null,null,null,null,null,null,null,null,null,null,{"$f":"'Analysis 103L'!CF207","v":""},"","","","","",""]
[181,{"$f":"'Analysis 103L'!C208","v":0},{"$f":"'Analysis 103L'!I208","v":""},{"$f":"'Analysis 103L'!J208","v":""},{"$f":"'Analysis 103L'!P208","v":0},{"$f":"'Analysis 103L'!N208","v":""},{"$f":"'Analysis 103L'!Q208","v":""},null,null,null,null,"","",{"$f":"IF(RIGHT(C187, 4)=\"Case\", \"\",IF(J187=\"\",\"\",IF(AH187=\"LLLC\", 0.6, VLOOKUP('100L Information'!$G$19,Load_Profiles, 4, FALSE))))","v":""},"","","",0,"",null,"",{"$f":"'Analysis 103L'!$Y$232*(S187/('Analysis 103L'!$Y$230+'Analysis 103L'!$Y$231))","v":{"$error":"#VALUE!"}},null,null,{"$f":"IF(Q187=\"\",\"\",Q187*'Analysis 103L'!$D$23)","v":""},null,null,null,null,{"$error":"#VALUE!"},{"$f":"IF(AND(U187=\"\",AK187=\"Custom\"),MIN(K187*Incent_Cost_Controls_Cust,Q187/J187*0.2),IF(AH187=\"LLLC\",MIN(AI187,((K187+'Analysis 103L'!R208)*Incent_Cost_LLLC)-'Analysis 103L'!X208),IF(AD187>=VLOOKUP(H187,Incent_Controls,3,FALSE),MIN(K187,VLOOKUP(H187,Incent_Controls,2,FALSE)),\"\")))","v":{"$error":"#VALUE!"}},"",null,"","",null,"","PASS/PASS","",{"$error":"#VALUE!"},{"$error":"#VALUE!"},{"$error":"#VALUE!"},"",null,10,{"$f":"VLOOKUP('Analysis 103L'!BE208, avoided_costs, ROUND($AS187, 0)+2, FALSE)","v":{"$error":"#N/A"}},{"$error":"#N/A"},{"$error":"#VALUE!"},{"$error":"#N/A"},{"$error":"#N/A"},{"$error":"#VALUE!"},{"$error":"#N/A"},{"$error":"#N/A"},{"$error":"#N/A"},null,null,null,null,null,null,null,null,null,null,null,null,null,null,null,{"$f":"'Analysis 103L'!CF208","v":""},"","","","","",""]
[182,{"$f":"'Analysis 103L'!C209","v":0},{"$f":"'Analysis 103L'!I209","v":""},{"$f":"'Analysis 103L'!J209","v":""},{"$f":"'Analysis 103L'!P209","v":0},{"$f":"'Analysis 103L'!N209","v":""},{"$f":"'Analysis 103L'!Q209","v":""},null,null,null,null,"","",{"$f":"IF(RIGHT(C188, 4)=\"Case\", \"\",IF(J188=\"\",\"\",IF(AH188=\"LLLC\", 0.6, VLOOKUP('100L Information'!$G$19,Load_Profiles, 4, FALSE))))","v":""},"","","",0,"",null,"",{"$f":"'Analysis 103L'!$Y$232*(S188/('Analysis 103L'!$Y$230+'Analysis 103L'!$Y$231))","v":{"$error":"#VALUE!"}},null,null,{"$f":"IF(Q188=\"\",\"\",Q188*'Analysis 103L'!$D$23)","v":""},null,null,null,null,{"$error":"#VALUE!"},{"$f":"IF(AND(U188=\"\",AK188=\"Custom\"),MIN(K188*Incent_Cost_Controls_Cust,Q188/J188*0.2),IF(AH188=\"LLLC\",MIN(AI188,((K188+'Analysis 103L'!R209)*Incent_Cost_LLLC)-'Analysis 103L'!X209),IF(AD188>=VLOOKUP(H188,Incent_Controls,3,FALSE),MIN(K188,VLOOKUP(H188,Incent_Controls,2,FALSE)),\"\")))","v":{"$error":"#VALUE!"}},"",null,"","",null,"","PASS/PASS","",{"$error":"#VALUE!"},{"$error":"#VALUE!"},{"$error":"#VALUE!"},"",null,10,{"$f":"VLOOKUP('Analysis 103L'!BE209, avoided_costs, ROUND($AS188, 0)+2, FALSE)","v":{"$error":"#N/A"}},{"$error":"#N/A"},{"$error":"#VALUE!"},{"$error":"#N/A"},{"$error":"#N/A"},{"$error":"#VALUE!"},{"$error":"#N/A"},{"$error":"#N/A"},{"$error":"#N/A"},null,null,null,null,null,null,null,null,null,null,null,null,null,null,null,{"$f":"'Analysis 103L'!CF209","v":""},"","","","","",""]
[183,{"$f":"'Analysis 103L'!C210","v":0},{"$f":"'Analysis 103L'!I210","v":""},{"$f":"'Analysis 103L'!J210","v":""},{"$f":"'Analysis 103L'!P210","v":0},{"$f":"'Analysis 103L'!N210","v":""},{"$f":"'Analysis 103L'!Q210","v":""},null,null,null,null,"","",{"$f":"IF(RIGHT(C189, 4)=\"Case\", \"\",IF(J189=\"\",\"\",IF(AH189=\"LLLC\", 0.6, VLOOKUP('100L Information'!$G$19,Load_Profiles, 4, FALSE))))","v":""},"","","",0,"",null,"",{"$f":"'Analysis 103L'!$Y$232*(S189/('Analysis 103L'!$Y$230+'Analysis 103L'!$Y$231))","v":{"$error":"#VALUE!"}},null,null,{"$f":"IF(Q189=\"\",\"\",Q189*'Analysis 103L'!$D$23)","v":""},null,null,null,null,{"$error":"#VALUE!"},{"$f":"IF(AND(U189=\"\",AK189=\"Custom\"),MIN(K189*Incent_Cost_Controls_Cust,Q189/J189*0.2),IF(AH189=\"LLLC\",MIN(AI189,((K189+'Analysis 103L'!R210)*Incent_Cost_LLLC)-'Analysis 103L'!X210),IF(AD189>=VLOOKUP(H189,Incent_Controls,3,FALSE),MIN(K189,VLOOKUP(H189,Incent_Controls,2,FALSE)),\"\")))","v":{"$error":"#VALUE!"}},"",null,"","",null,"","PASS/PASS","",{"$error":"#VALUE!"},{"$error":"#VALUE!"},{"$error":"#VALUE!"},"",null,10,{"$f":"VLOOKUP('Analysis 103L'!BE210, avoided_costs, ROUND($AS189, 0)+2, FALSE)","v":{"$error":"#N/A"}},{"$error":"#N/A"},{"$error":"#VALUE!"},{"$error":"#N/A"},{"$error":"#N/A"},{"$error":"#VALUE!"},{"$error":"#N/A"},{"$error":"#N/A"},{"$error":"#N/A"},null,null,null,null,null,null,null,null,null,null,null,null,null,null,null,{"$f":"'Analysis 103L'!CF210","v":""},"","","","","",""]
[184,{"$f":"'Analysis 103L'!C211","v":0},{"$f":"'Analysis 103L'!I211","v":""},{"$f":"'Analysis 103L'!J211","v":""},{"$f":"'Analysis 103L'!P211","v":0},{"$f":"'Analysis 103L'!N211","v":""},{"$f":"'Analysis 103L'!Q211","v":""},null,null,null,null,"","",{"$f":"IF(RIGHT(C190, 4)=\"Case\", \"\",IF(J190=\"\",\"\",IF(AH190=\"LLLC\", 0.6, VLOOKUP('100L Information'!$G$19,Load_Profiles, 4, FALSE))))","v":""},"","","",0,"",null,"",{"$f":"'Analysis 103L'!$Y$232*(S190/('Analysis 103L'!$Y$230+'Analysis 103L'!$Y$231))","v":{"$error":"#VALUE!"}},null,null,{"$f":"IF(Q190=\"\",\"\",Q190*'Analysis 103L'!$D$23)","v":""},null,null,null,null,{"$error":"#VALUE!"},{"$f":"IF(AND(U190=\"\",AK190=\"Custom\"),MIN(K190*Incent_Cost_Controls_Cust,Q190/J190*0.2),IF(AH190=\"LLLC\",MIN(AI190,((K190+'Analysis 103L'!R211)*Incent_Cost_LLLC)-'Analysis 103L'!X211),IF(AD190>=VLOOKUP(H190,Incent_Controls,3,FALSE),MIN(K190,VLOOKUP(H190,Incent_Controls,2,FALSE)),\"\")))","v":{"$error":"#VALUE!"}},"",null,"","",null,"","PASS/PASS","",{"$error":"#VALUE!"},{"$error":"#VALUE!"},{"$error":"#VALUE!"},"",null,10,{"$f":"VLOOKUP('Analysis 103L'!BE211, avoided_costs, ROUND($AS190, 0)+2, FALSE)","v":{"$error":"#N/A"}},{"$error":"#N/A"},{"$error":"#VALUE!"},{"$error":"#N/A"},{"$error":"#N/A"},{"$error":"#VALUE!"},{"$error":"#N/A"},{"$error":"#N/A"},{"$error":"#N/A"},null,null,null,null,null,null,null,null,null,null,null,null,null,null,null,{"$f":"'Analysis 103L'!CF211","v":""},"","","","","",""]
[185,{"$f":"'Analysis 103L'!C212","v":0},{"$f":"'Analysis 103L'!I212","v":""},{"$f":"'Analysis 103L'!J212","v":""},{"$f":"'Analysis 103L'!P212","v":0},{"$f":"'Analysis 103L'!N212","v":""},{"$f":"'Analysis 103L'!Q212","v":""},null,null,null,null,"","",{"$f":"IF(RIGHT(C191, 4)=\"Case\", \"\",IF(J191=\"\",\"\",IF(AH191=\"LLLC\", 0.6, VLOOKUP('100L Information'!$G$19,Load_Profiles, 4, FALSE))))","v":""},"","","",0,"",null,"",{"$f":"'Analysis 103L'!$Y$232*(S191/('Analysis 103L'!$Y$230+'Analysis 103L'!$Y$231))","v":{"$error":"#VALUE!"}},null,null,{"$f":"IF(Q191=\"\",\"\",Q191*'Analysis 103L'!$D$23)","v":""},null,null,null,null,{"$error":"#VALUE!"},{"$f":"IF(AND(U191=\"\",AK191=\"Custom\"),MIN(K191*Incent_Cost_Controls_Cust,Q191/J191*0.2),IF(AH191=\"LLLC\",MIN(AI191,((K191+'Analysis 103L'!R212)*Incent_Cost_LLLC)-'Analysis 103L'!X212),IF(AD191>=VLOOKUP(H191,Incent_Controls,3,FALSE),MIN(K191,VLOOKUP(H191,Incent_Controls,2,FALSE)),\"\")))","v":{"$error":"#VALUE!"}},"",null,"","",null,"","PASS/PASS","",{"$error":"#VALUE!"},{"$error":"#VALUE!"},{"$error":"#VALUE!"},"",null,10,{"$f":"VLOOKUP('Analysis 103L'!BE212, avoided_costs, ROUND($AS191, 0)+2, FALSE)","v":{"$error":"#N/A"}},{"$error":"#N/A"},{"$error":"#VALUE!"},{"$error":"#N/A"},{"$error":"#N/A"},{"$error":"#VALUE!"},{"$error":"#N/A"},{"$error":"#N/A"},{"$error":"#N/A"},null,null,null,null,null,null,null,null,null,null,null,null,null,null,null,{"$f":"'Analysis 103L'!CF212","v":""},"","","","","",""]
[186,{"$f":"'Analysis 103L'!C213","v":0},{"$f":"'Analysis 103L'!I213","v":""},{"$f":"'Analysis 103L'!J213","v":""},{"$f":"'Analysis 103L'!P213","v":0},{"$f":"'Analysis 103L'!N213","v":""},{"$f":"'Analysis 103L'!Q213","v":""},null,null,null,null,"","",{"$f":"IF(RIGHT(C192, 4)=\"Case\", \"\",IF(J192=\"\",\"\",IF(AH192=\"LLLC\", 0.6, VLOOKUP('100L Information'!$G$19,Load_Profiles, 4, FALSE))))","v":""},"","","",0,"",null,"",{"$f":"'Analysis 103L'!$Y$232*(S192/('Analysis 103L'!$Y$230+'Analysis 103L'!$Y$231))","v":{"$error":"#VALUE!"}},null,null,{"$f":"IF(Q192=\"\",\"\",Q192*'Analysis 103L'!$D$23)","v":""},null,null,null,null,{"$error":"#VALUE!"},{"$f":"IF(AND(U192=\"\",AK192=\"Custom\"),MIN(K192*Incent_Cost_Controls_Cust,Q192/J192*0.2),IF(AH192=\"LLLC\",MIN(AI192,((K192+'Analysis 103L'!R213)*Incent_Cost_LLLC)-'Analysis 103L'!X213),IF(AD192>=VLOOKUP(H192,Incent_Controls,3,FALSE),MIN(K192,VLOOKUP(H192,Incent_Controls,2,FALSE)),\"\")))","v":{"$error":"#VALUE!"}},"",null,"","",null,"","PASS/PASS","",{"$error":"#VALUE!"},{"$error":"#VALUE!"},{"$error":"#VALUE!"},"",null,10,{"$f":"VLOOKUP('Analysis 103L'!BE213, avoided_costs, ROUND($AS192, 0)+2, FALSE)","v":{"$error":"#N/A"}},{"$error":"#N/A"},{"$error":"#VALUE!"},{"$error":"#N/A"},{"$error":"#N/A"},{"$error":"#VALUE!"},{"$error":"#N/A"},{"$error":"#N/A"},{"$error":"#N/A"},null,null,null,null,null,null,null,null,null,null,null,null,null,null,null,{"$f":"'Analysis 103L'!CF213","v":""},"","","","","",""]
[187,{"$f":"'Analysis 103L'!C214","v":0},{"$f":"'Analysis 103L'!I214","v":""},{"$f":"'Analysis 103L'!J214","v":""},{"$f":"'Analysis 103L'!P214","v":0},{"$f":"'Analysis 103L'!N214","v":""},{"$f":"'Analysis 103L'!Q214","v":""},null,null,null,null,"","",{"$f":"IF(RIGHT(C193, 4)=\"Case\", \"\",IF(J193=\"\",\"\",IF(AH193=\"LLLC\", 0.6, VLOOKUP('100L Information'!$G$19,Load_Profiles, 4, FALSE))))","v":""},"","","",0,"",null,"",{"$f":"'Analysis 103L'!$Y$232*(S193/('Analysis 103L'!$Y$230+'Analysis 103L'!$Y$231))","v":{"$error":"#VALUE!"}},null,null,{"$f":"IF(Q193=\"\",\"\",Q193*'Analysis 103L'!$D$23)","v":""},null,null,null,null,{"$error":"#VALUE!"},{"$f":"IF(AND(U193=\"\",AK193=\"Custom\"),MIN(K193*Incent_Cost_Controls_Cust,Q193/J193*0.2),IF(AH193=\"LLLC\",MIN(AI193,((K193+'Analysis 103L'!R214)*Incent_Cost_LLLC)-'Analysis 103L'!X214),IF(AD193>=VLOOKUP(H193,Incent_Controls,3,FALSE),MIN(K193,VLOOKUP(H193,Incent_Controls,2,FALSE)),\"\")))","v":{"$error":"#VALUE!"}},"",null,"","",null,"","PASS/PASS","",{"$error":"#VALUE!"},{"$error":"#VALUE!"},{"$error":"#VALUE!"},"",null,10,{"$f":"VLOOKUP('Analysis 103L'!BE214, avoided_costs, ROUND($AS193, 0)+2, FALSE)","v":{"$error":"#N/A"}},{"$error":"#N/A"},{"$error":"#VALUE!"},{"$error":"#N/A"},{"$error":"#N/A"},{"$error":"#VALUE!"},{"$error":"#N/A"},{"$error":"#N/A"},{"$error":"#N/A"},null,null,null,null,null,null,null,null,null,null,null,null,null,null,null,{"$f":"'Analysis 103L'!CF214","v":""},"","","","","",""]
[188,{"$f":"'Analysis 103L'!C215","v":0},{"$f":"'Analysis 103L'!I215","v":""},{"$f":"'Analysis 103L'!J215","v":""},{"$f":"'Analysis 103L'!P215","v":0},{"$f":"'Analysis 103L'!N215","v":""},{"$f":"'Analysis 103L'!Q215","v":""},null,null,null,null,"","",{"$f":"IF(RIGHT(C194, 4)=\"Case\", \"\",IF(J194=\"\",\"\",IF(AH194=\"LLLC\", 0.6, VLOOKUP('100L Information'!$G$19,Load_Profiles, 4, FALSE))))","v":""},"","","",0,"",null,"",{"$f":"'Analysis 103L'!$Y$232*(S194/('Analysis 103L'!$Y$230+'Analysis 103L'!$Y$231))","v":{"$error":"#VALUE!"}},null,null,{"$f":"IF(Q194=\"\",\"\",Q194*'Analysis 103L'!$D$23)","v":""},null,null,null,null,{"$error":"#VALUE!"},{"$f":"IF(AND(U194=\"\",AK194=\"Custom\"),MIN(K194*Incent_Cost_Controls_Cust,Q194/J194*0.2),IF(AH194=\"LLLC\",MIN(AI194,((K194+'Analysis 103L'!R215)*Incent_Cost_LLLC)-'Analysis 103L'!X215),IF(AD194>=VLOOKUP(H194,Incent_Controls,3,FALSE),MIN(K194,VLOOKUP(H194,Incent_Controls,2,FALSE)),\"\")))","v":{"$error":"#VALUE!"}},"",null,"","",null,"","PASS/PASS","",{"$error":"#VALUE!"},{"$error":"#VALUE!"},{"$error":"#VALUE!"},"",null,10,{"$f":"VLOOKUP('Analysis 103L'!BE215, avoided_costs, ROUND($AS194, 0)+2, FALSE)","v":{"$error":"#N/A"}},{"$error":"#N/A"},{"$error":"#VALUE!"},{"$error":"#N/A"},{"$error":"#N/A"},{"$error":"#VALUE!"},{"$error":"#N/A"},{"$error":"#N/A"},{"$error":"#N/A"},null,null,null,null,null,null,null,null,null,null,null,null,null,null,null,{"$f":"'Analysis 103L'!CF215","v":""},"","","","","",""]
[189,{"$f":"'Analysis 103L'!C216","v":0},{"$f":"'Analysis 103L'!I216","v":""},{"$f":"'Analysis 103L'!J216","v":""},{"$f":"'Analysis 103L'!P216","v":0},{"$f":"'Analysis 103L'!N216","v":""},{"$f":"'Analysis 103L'!Q216","v":""},null,null,null,null,"","",{"$f":"IF(RIGHT(C195, 4)=\"Case\", \"\",IF(J195=\"\",\"\",IF(AH195=\"LLLC\", 0.6, VLOOKUP('100L Information'!$G$19,Load_Profiles, 4, FALSE))))","v":""},"","","",0,"",null,"",{"$f":"'Analysis 103L'!$Y$232*(S195/('Analysis 103L'!$Y$230+'Analysis 103L'!$Y$231))","v":{"$error":"#VALUE!"}},null,null,{"$f":"IF(Q195=\"\",\"\",Q195*'Analysis 103L'!$D$23)","v":""},null,null,null,null,{"$error":"#VALUE!"},{"$f":"IF(AND(U195=\"\",AK195=\"Custom\"),MIN(K195*Incent_Cost_Controls_Cust,Q195/J195*0.2),IF(AH195=\"LLLC\",MIN(AI195,((K195+'Analysis 103L'!R216)*Incent_Cost_LLLC)-'Analysis 103L'!X216),IF(AD195>=VLOOKUP(H195,Incent_Controls,3,FALSE),MIN(K195,VLOOKUP(H195,Incent_Controls,2,FALSE)),\"\")))","v":{"$error":"#VALUE!"}},"",null,"","",null,"","PASS/PASS","",{"$error":"#VALUE!"},{"$error":"#VALUE!"},{"$error":"#VALUE!"},"",null,10,{"$f":"VLOOKUP('Analysis 103L'!BE216, avoided_costs, ROUND($AS195, 0)+2, FALSE)","v":{"$error":"#N/A"}},{"$error":"#N/A"},{"$error":"#VALUE!"},{"$error":"#N/A"},{"$error":"#N/A"},{"$error":"#VALUE!"},{"$error":"#N/A"},{"$error":"#N/A"},{"$error":"#N/A"},null,null,null,null,null,null,null,null,null,null,null,null,null,null,null,{"$f":"'Analysis 103L'!CF216","v":""},"","","","","",""]
[190,{"$f":"'Analysis 103L'!C217","v":0},{"$f":"'Analysis 103L'!I217","v":""},{"$f":"'Analysis 103L'!J217","v":""},{"$f":"'Analysis 103L'!P217","v":0},{"$f":"'Analysis 103L'!N217","v":""},{"$f":"'Analysis 103L'!Q217","v":""},null,null,null,null,"","",{"$f":"IF(RIGHT(C196, 4)=\"Case\", \"\",IF(J196=\"\",\"\",IF(AH196=\"LLLC\", 0.6, VLOOKUP('100L Information'!$G$19,Load_Profiles, 4, FALSE))))","v":""},"","","",0,"",null,"",{"$f":"'Analysis 103L'!$Y$232*(S196/('Analysis 103L'!$Y$230+'Analysis 103L'!$Y$231))","v":{"$error":"#VALUE!"}},null,null,{"$f":"IF(Q196=\"\",\"\",Q196*'Analysis 103L'!$D$23)","v":""},null,null,null,null,{"$error":"#VALUE!"},{"$f":"IF(AND(U196=\"\",AK196=\"Custom\"),MIN(K196*Incent_Cost_Controls_Cust,Q196/J196*0.2),IF(AH196=\"LLLC\",MIN(AI196,((K196+'Analysis 103L'!R217)*Incent_Cost_LLLC)-'Analysis 103L'!X217),IF(AD196>=VLOOKUP(H196,Incent_Controls,3,FALSE),MIN(K196,VLOOKUP(H196,Incent_Controls,2,FALSE)),\"\")))","v":{"$error":"#VALUE!"}},"",null,"","",null,"","PASS/PASS","",{"$error":"#VALUE!"},{"$error":"#VALUE!"},{"$error":"#VALUE!"},"",null,10,{"$f":"VLOOKUP('Analysis 103L'!BE217, avoided_costs, ROUND($AS196, 0)+2, FALSE)","v":{"$error":"#N/A"}},{"$error":"#N/A"},{"$error":"#VALUE!"},{"$error":"#N/A"},{"$error":"#N/A"},{"$error":"#VALUE!"},{"$error":"#N/A"},{"$error":"#N/A"},{"$error":"#N/A"},null,null,null,null,null,null,null,null,null,null,null,null,null,null,null,{"$f":"'Analysis 103L'!CF217","v":""},"","","","","",""]
[191,{"$f":"'Analysis 103L'!C218","v":0},{"$f":"'Analysis 103L'!I218","v":""},{"$f":"'Analysis 103L'!J218","v":""},{"$f":"'Analysis 103L'!P218","v":0},{"$f":"'Analysis 103L'!N218","v":""},{"$f":"'Analysis 103L'!Q218","v":""},null,null,null,null,"","",{"$f":"IF(RIGHT(C197, 4)=\"Case\", \"\",IF(J197=\"\",\"\",IF(AH197=\"LLLC\", 0.6, VLOOKUP('100L Information'!$G$19,Load_Profiles, 4, FALSE))))","v":""},"","","",0,"",null,"",{"$f":"'Analysis 103L'!$Y$232*(S197/('Analysis 103L'!$Y$230+'Analysis 103L'!$Y$231))","v":{"$error":"#VALUE!"}},null,null,{"$f":"IF(Q197=\"\",\"\",Q197*'Analysis 103L'!$D$23)","v":""},null,null,null,null,{"$error":"#VALUE!"},{"$f":"IF(AND(U197=\"\",AK197=\"Custom\"),MIN(K197*Incent_Cost_Controls_Cust,Q197/J197*0.2),IF(AH197=\"LLLC\",MIN(AI197,((K197+'Analysis 103L'!R218)*Incent_Cost_LLLC)-'Analysis 103L'!X218),IF(AD197>=VLOOKUP(H197,Incent_Controls,3,FALSE),MIN(K197,VLOOKUP(H197,Incent_Controls,2,FALSE)),\"\")))","v":{"$error":"#VALUE!"}},"",null,"","",null,"","PASS/PASS","",{"$error":"#VALUE!"},{"$error":"#VALUE!"},{"$error":"#VALUE!"},"",null,10,{"$f":"VLOOKUP('Analysis 103L'!BE218, avoided_costs, ROUND($AS197, 0)+2, FALSE)","v":{"$error":"#N/A"}},{"$error":"#N/A"},{"$error":"#VALUE!"},{"$error":"#N/A"},{"$error":"#N/A"},{"$error":"#VALUE!"},{"$error":"#N/A"},{"$error":"#N/A"},{"$error":"#N/A"},null,null,null,null,null,null,null,null,null,null,null,null,null,null,null,{"$f":"'Analysis 103L'!CF218","v":""},"","","","","",""]
[192,{"$f":"'Analysis 103L'!C219","v":0},{"$f":"'Analysis 103L'!I219","v":""},{"$f":"'Analysis 103L'!J219","v":""},{"$f":"'Analysis 103L'!P219","v":0},{"$f":"'Analysis 103L'!N219","v":""},{"$f":"'Analysis 103L'!Q219","v":""},null,null,null,null,"","",{"$f":"IF(RIGHT(C198, 4)=\"Case\", \"\",IF(J198=\"\",\"\",IF(AH198=\"LLLC\", 0.6, VLOOKUP('100L Information'!$G$19,Load_Profiles, 4, FALSE))))","v":""},"","","",0,"",null,"",{"$f":"'Analysis 103L'!$Y$232*(S198/('Analysis 103L'!$Y$230+'Analysis 103L'!$Y$231))","v":{"$error":"#VALUE!"}},null,null,{"$f":"IF(Q198=\"\",\"\",Q198*'Analysis 103L'!$D$23)","v":""},null,null,null,null,{"$error":"#VALUE!"},{"$f":"IF(AND(U198=\"\",AK198=\"Custom\"),MIN(K198*Incent_Cost_Controls_Cust,Q198/J198*0.2),IF(AH198=\"LLLC\",MIN(AI198,((K198+'Analysis 103L'!R219)*Incent_Cost_LLLC)-'Analysis 103L'!X219),IF(AD198>=VLOOKUP(H198,Incent_Controls,3,FALSE),MIN(K198,VLOOKUP(H198,Incent_Controls,2,FALSE)),\"\")))","v":{"$error":"#VALUE!"}},"",null,"","",null,"","PASS/PASS","",{"$error":"#VALUE!"},{"$error":"#VALUE!"},{"$error":"#VALUE!"},"",null,10,{"$f":"VLOOKUP('Analysis 103L'!BE219, avoided_costs, ROUND($AS198, 0)+2, FALSE)","v":{"$error":"#N/A"}},{"$error":"#N/A"},{"$error":"#VALUE!"},{"$error":"#N/A"},{"$error":"#N/A"},{"$error":"#VALUE!"},{"$error":"#N/A"},{"$error":"#N/A"},{"$error":"#N/A"},null,null,null,null,null,null,null,null,null,null,null,null,null,null,null,{"$f":"'Analysis 103L'!CF219","v":""},"","","","","",""]
[193,{"$f":"'Analysis 103L'!C220","v":0},{"$f":"'Analysis 103L'!I220","v":""},{"$f":"'Analysis 103L'!J220","v":""},{"$f":"'Analysis 103L'!P220","v":0},{"$f":"'Analysis 103L'!N220","v":""},{"$f":"'Analysis 103L'!Q220","v":""},null,null,null,null,{"$f":"IF(RIGHT(H199, 4)=\"Case\", \"<-- Enter Total Cost.\", IF(J199=\"\",\"\",J199*K199))","v":""},"",{"$f":"IF(RIGHT(C199, 4)=\"Case\", \"\",IF(J199=\"\",\"\",IF(AH199=\"LLLC\", 0.6, VLOOKUP('100L Information'!$G$19,Load_Profiles, 4, FALSE))))","v":""},"","","",0,"",null,"",{"$f":"'Analysis 103L'!$Y$232*(S199/('Analysis 103L'!$Y$230+'Analysis 103L'!$Y$231))","v":{"$error":"#VALUE!"}},null,null,{"$f":"IF(Q199=\"\",\"\",Q199*'Analysis 103L'!$D$23)","v":""},null,null,null,null,{"$error":"#VALUE!"},{"$f":"IF(AND(U199=\"\",AK199=\"Custom\"),MIN(K199*Incent_Cost_Controls_Cust,Q199/J199*0.2),IF(AH199=\"LLLC\",MIN(AI199,((K199+'Analysis 103L'!R220)*Incent_Cost_LLLC)-'Analysis 103L'!X220),IF(AD199>=VLOOKUP(H199,Incent_Controls,3,FALSE),MIN(K199,VLOOKUP(H199,Incent_Controls,2,FALSE)),\"\")))","v":{"$error":"#VALUE!"}},{"$f":"IF(OR(AH199=\"LLLC\",J199=\"\"),\"\",IF(AD199>=VLOOKUP(H199,Incent_Controls,3,FALSE),\"Y\",\"N\"))","v":""},null,"","",null,"",{"$f":"IF(AK199=\"\",\"PASS/PASS\",IF(BB199=\"PASS/PASS\",\"PASS/PASS\",\"FAIL\"))","v":"PASS/PASS"},{"$f":"IF(AL199=\"PASS/PASS\",L199,\"0\")","v":""},{"$f":"E199*F199*G199/1000","v":{"$error":"#VALUE!"}},{"$f":"AN199*(1-N199)","v":{"$error":"#VALUE!"}},{"$error":"#VALUE!"},{"$f":"IF(AK199=\"Custom\",0.35*L199,S199)","v":""},null,10,{"$f":"VLOOKUP('Analysis 103L'!BE220, avoided_costs, ROUND($AS199, 0)+2, FALSE)","v":{"$error":"#N/A"}},{"$error":"#N/A"},{"$f":"0.5*L199/AP199","v":{"$error":"#VALUE!"}},{"$error":"#N/A"},{"$error":"#N/A"},{"$f":"L199/AP199","v":{"$error":"#VALUE!"}},{"$f":"AU199/AY199","v":{"$error":"#N/A"}},{"$error":"#N/A"},{"$f":"AX199&\"/\"&BA199","v":{"$error":"#N/A"}},null,null,null,null,null,null,null,null,null,null,null,null,null,null,null,{"$f":"'Analysis 103L'!CF220","v":""},"","",{"$f":"IF(BS199=\"\", \"\", INDEX($BP$32:$BP$33, MATCH($BS199, $BM$32:$BM$33, 0))*$BT199)","v":""},{"$f":"IF(BT199=\"\", \"\", INDEX($BN$32:$BN$33, MATCH($BS199, $BM$32:$BM$33, 0)))","v":""},"",""]
[194,{"$f":"'Analysis 103L'!C221","v":0},{"$f":"'Analysis 103L'!I221","v":""},{"$f":"'Analysis 103L'!J221","v":""},{"$f":"'Analysis 103L'!P221","v":0},{"$f":"'Analysis 103L'!N221","v":""},{"$f":"'Analysis 103L'!Q221","v":""},null,null,null,null,"","",{"$f":"IF(RIGHT(C200, 4)=\"Case\", \"\",IF(J200=\"\",\"\",IF(AH200=\"LLLC\", 0.6, VLOOKUP('100L Information'!$G$19,Load_Profiles, 4, FALSE))))","v":""},"","","",0,"",null,{"$f":"IF(AL200=\"FAIL\",\"Control System Not Cost Effective\",IF(AF200=\"N\",\"Does not meet requirement\",\"\"))","v":""},{"$f":"'Analysis 103L'!$Y$232*(S200/('Analysis 103L'!$Y$230+'Analysis 103L'!$Y$231))","v":{"$error":"#VALUE!"}},null,null,{"$f":"IF(Q200=\"\",\"\",Q200*'Analysis 103L'!$D$23)","v":""},null,null,null,null,{"$f":"E200*F200/J200","v":{"$error":"#VALUE!"}},{"$f":"IF(AND(U200=\"\",AK200=\"Custom\"),MIN(K200*Incent_Cost_Controls_Cust,Q200/J200*0.2),IF(AH200=\"LLLC\",MIN(AI200,((K200+'Analysis 103L'!R221)*Incent_Cost_LLLC)-'Analysis 103L'!X221),IF(AD200>=VLOOKUP(H200,Incent_Controls,3,FALSE),MIN(K200,VLOOKUP(H200,Incent_Controls,2,FALSE)),\"\")))","v":{"$error":"#VALUE!"}},"",null,"","",null,{"$f":"IF(OR(H200=\"Custom Control System\",LEFT(H200,4)=\"Hard\"),\"Custom\",\"\")","v":""},"PASS/PASS","",{"$error":"#VALUE!"},{"$error":"#VALUE!"},{"$f":"AN200-AO200","v":{"$error":"#VALUE!"}},"",null,10,{"$f":"VLOOKUP('Analysis 103L'!BE221, avoided_costs, ROUND($AS200, 0)+2, FALSE)","v":{"$error":"#N/A"}},{"$f":"AT200","v":{"$error":"#N/A"}},{"$error":"#VALUE!"},{"$f":"AT200/AV200","v":{"$error":"#N/A"}},{"$error":"#N/A"},{"$error":"#VALUE!"},{"$error":"#N/A"},{"$error":"#N/A"},{"$error":"#N/A"},null,null,null,null,null,null,null,null,null,null,null,null,null,null,null,{"$f":"'Analysis 103L'!CF221","v":""},"","","","","",""]
[195,{"$f":"'Analysis 103L'!C222","v":0},{"$f":"'Analysis 103L'!I222","v":""},{"$f":"'Analysis 103L'!J222","v":""},{"$f":"'Analysis 103L'!P222","v":0},{"$f":"'Analysis 103L'!N222","v":""},{"$f":"'Analysis 103L'!Q222","v":""},null,null,null,null,"","",{"$f":"IF(RIGHT(C201, 4)=\"Case\", \"\",IF(J201=\"\",\"\",IF(AH201=\"LLLC\", 0.6, VLOOKUP('100L Information'!$G$19,Load_Profiles, 4, FALSE))))","v":""},"","","",0,"",null,"",{"$f":"'Analysis 103L'!$Y$232*(S201/('Analysis 103L'!$Y$230+'Analysis 103L'!$Y$231))","v":{"$error":"#VALUE!"}},null,null,{"$f":"IF(Q201=\"\",\"\",Q201*'Analysis 103L'!$D$23)","v":""},null,null,null,null,{"$error":"#VALUE!"},{"$f":"IF(AND(U201=\"\",AK201=\"Custom\"),MIN(K201*Incent_Cost_Controls_Cust,Q201/J201*0.2),IF(AH201=\"LLLC\",MIN(AI201,((K201+'Analysis 103L'!R222)*Incent_Cost_LLLC)-'Analysis 103L'!X222),IF(AD201>=VLOOKUP(H201,Incent_Controls,3,FALSE),MIN(K201,VLOOKUP(H201,Incent_Controls,2,FALSE)),\"\")))","v":{"$error":"#VALUE!"}},"",null,"","",null,"","PASS/PASS","",{"$error":"#VALUE!"},{"$error":"#VALUE!"},{"$error":"#VALUE!"},"",null,10,{"$f":"VLOOKUP('Analysis 103L'!BE222, avoided_costs, ROUND($AS201, 0)+2, FALSE)","v":{"$error":"#N/A"}},{"$error":"#N/A"},{"$error":"#VALUE!"},{"$error":"#N/A"},{"$error":"#N/A"},{"$error":"#VALUE!"},{"$error":"#N/A"},{"$error":"#N/A"},{"$error":"#N/A"},null,null,null,null,null,null,null,null,null,null,null,null,null,null,null,{"$f":"'Analysis 103L'!CF222","v":""},"","","","","",""]
[196,{"$f":"'Analysis 103L'!C223","v":0},{"$f":"'Analysis 103L'!I223","v":""},{"$f":"'Analysis 103L'!J223","v":""},{"$f":"'Analysis 103L'!P223","v":0},{"$f":"'Analysis 103L'!N223","v":""},{"$f":"'Analysis 103L'!Q223","v":""},null,null,null,null,"",{"$f":"IFERROR(IF(J202=\"\",\"\",IF(LEFT(H202,8) =\"Exterior\", (F202*E202/J202*0.5), F202*E202/J202)),\"\")","v":""},{"$f":"IF(RIGHT(C202, 4)=\"Case\", \"\",IF(J202=\"\",\"\",IF(AH202=\"LLLC\", 0.6, VLOOKUP('100L Information'!$G$19,Load_Profiles, 4, FALSE))))","v":""},"","","",{"$f":"IF(AND(ISNUMBER(AE202),ISNUMBER(K202)),AE202,)","v":0},"",null,"",{"$f":"'Analysis 103L'!$Y$232*(S202/('Analysis 103L'!$Y$230+'Analysis 103L'!$Y$231))","v":{"$error":"#VALUE!"}},null,null,{"$f":"IF(Q202=\"\",\"\",Q202*'Analysis 103L'!$D$23)","v":""},null,null,null,null,{"$error":"#VALUE!"},{"$f":"IF(AND(U202=\"\",AK202=\"Custom\"),MIN(K202*Incent_Cost_Controls_Cust,Q202/J202*0.2),IF(AH202=\"LLLC\",MIN(AI202,((K202+'Analysis 103L'!R223)*Incent_Cost_LLLC)-'Analysis 103L'!X223),IF(AD202>=VLOOKUP(H202,Incent_Controls,3,FALSE),MIN(K202,VLOOKUP(H202,Incent_Controls,2,FALSE)),\"\")))","v":{"$error":"#VALUE!"}},"",null,"","",null,"","PASS/PASS","",{"$error":"#VALUE!"},{"$error":"#VALUE!"},{"$error":"#VALUE!"},"",null,10,{"$f":"VLOOKUP('Analysis 103L'!BE223, avoided_costs, ROUND($AS202, 0)+2, FALSE)","v":{"$error":"#N/A"}},{"$error":"#N/A"},{"$error":"#VALUE!"},{"$error":"#N/A"},{"$error":"#N/A"},{"$error":"#VALUE!"},{"$error":"#N/A"},{"$error":"#N/A"},{"$error":"#N/A"},null,null,null,null,null,null,null,null,null,null,null,null,null,null,null,{"$f":"'Analysis 103L'!CF223","v":""},"","","","","",""]
[197,{"$f":"'Analysis 103L'!C224","v":0},{"$f":"'Analysis 103L'!I224","v":""},{"$f":"'Analysis 103L'!J224","v":""},{"$f":"'Analysis 103L'!P224","v":0},{"$f":"'Analysis 103L'!N224","v":""},{"$f":"'Analysis 103L'!Q224","v":""},null,null,null,null,"",{"$f":"IFERROR(IF(J203=\"\",\"\",IF(LEFT(H203,8) =\"Exterior\", (F203*E203/J203*0.5), F203*E203/J203)),\"\")","v":""},{"$f":"IF(RIGHT(C203, 4)=\"Case\", \"\",IF(J203=\"\",\"\",IF(AH203=\"LLLC\", 0.6, VLOOKUP('100L Information'!$G$19,Load_Profiles, 4, FALSE))))","v":""},"","","",{"$f":"IF(AND(ISNUMBER(AE203),ISNUMBER(K203)),AE203,)","v":0},"",null,"",{"$f":"'Analysis 103L'!$Y$232*(S203/('Analysis 103L'!$Y$230+'Analysis 103L'!$Y$231))","v":{"$error":"#VALUE!"}},null,null,{"$f":"IF(Q203=\"\",\"\",Q203*'Analysis 103L'!$D$23)","v":""},null,null,null,null,{"$error":"#VALUE!"},{"$f":"IF(AND(U203=\"\",AK203=\"Custom\"),MIN(K203*Incent_Cost_Controls_Cust,Q203/J203*0.2),IF(AH203=\"LLLC\",MIN(AI203,((K203+'Analysis 103L'!R224)*Incent_Cost_LLLC)-'Analysis 103L'!X224),IF(AD203>=VLOOKUP(H203,Incent_Controls,3,FALSE),MIN(K203,VLOOKUP(H203,Incent_Controls,2,FALSE)),\"\")))","v":{"$error":"#VALUE!"}},"",null,"","",null,"","PASS/PASS","",{"$error":"#VALUE!"},{"$error":"#VALUE!"},{"$error":"#VALUE!"},"",null,10,{"$f":"VLOOKUP('Analysis 103L'!BE224, avoided_costs, ROUND($AS203, 0)+2, FALSE)","v":{"$error":"#N/A"}},{"$error":"#N/A"},{"$error":"#VALUE!"},{"$error":"#N/A"},{"$error":"#N/A"},{"$error":"#VALUE!"},{"$error":"#N/A"},{"$error":"#N/A"},{"$error":"#N/A"},null,null,null,null,null,null,null,null,null,null,null,null,null,null,null,{"$f":"'Analysis 103L'!CF224","v":""},"","","","","",""]
[198,{"$f":"'Analysis 103L'!C225","v":0},{"$f":"'Analysis 103L'!I225","v":""},{"$f":"'Analysis 103L'!J225","v":""},{"$f":"'Analysis 103L'!P225","v":0},{"$f":"'Analysis 103L'!N225","v":""},{"$f":"'Analysis 103L'!Q225","v":""},null,null,null,null,"",{"$f":"IFERROR(IF(J204=\"\",\"\",IF(LEFT(H204,8) =\"Exterior\", (F204*E204/J204*0.5), F204*E204/J204)),\"\")","v":""},{"$f":"IF(RIGHT(C204, 4)=\"Case\", \"\",IF(J204=\"\",\"\",IF(AH204=\"LLLC\", 0.6, VLOOKUP('100L Information'!$G$19,Load_Profiles, 4, FALSE))))","v":""},"","","",{"$f":"IF(AND(ISNUMBER(AE204),ISNUMBER(K204)),AE204,)","v":0},"",null,"",{"$f":"'Analysis 103L'!$Y$232*(S204/('Analysis 103L'!$Y$230+'Analysis 103L'!$Y$231))","v":{"$error":"#VALUE!"}},null,null,{"$f":"IF(Q204=\"\",\"\",Q204*'Analysis 103L'!$D$23)","v":""},null,null,null,null,{"$error":"#VALUE!"},{"$f":"IF(AND(U204=\"\",AK204=\"Custom\"),MIN(K204*Incent_Cost_Controls_Cust,Q204/J204*0.2),IF(AH204=\"LLLC\",MIN(AI204,((K204+'Analysis 103L'!R225)*Incent_Cost_LLLC)-'Analysis 103L'!X225),IF(AD204>=VLOOKUP(H204,Incent_Controls,3,FALSE),MIN(K204,VLOOKUP(H204,Incent_Controls,2,FALSE)),\"\")))","v":{"$error":"#VALUE!"}},"",null,"","",null,"","PASS/PASS","",{"$error":"#VALUE!"},{"$error":"#VALUE!"},{"$error":"#VALUE!"},"",null,10,{"$f":"VLOOKUP('Analysis 103L'!BE225, avoided_costs, ROUND($AS204, 0)+2, FALSE)","v":{"$error":"#N/A"}},{"$error":"#N/A"},{"$error":"#VALUE!"},{"$error":"#N/A"},{"$error":"#N/A"},{"$error":"#VALUE!"},{"$error":"#N/A"},{"$error":"#N/A"},{"$error":"#N/A"},null,null,null,null,null,null,null,null,null,null,null,null,null,null,null,{"$f":"'Analysis 103L'!CF225","v":""},"","","","","",""]
[199,{"$f":"'Analysis 103L'!C226","v":0},{"$f":"'Analysis 103L'!I226","v":""},{"$f":"'Analysis 103L'!J226","v":""},{"$f":"'Analysis 103L'!P226","v":0},{"$f":"'Analysis 103L'!N226","v":""},{"$f":"'Analysis 103L'!Q226","v":""},null,null,null,null,"",{"$f":"IFERROR(IF(J205=\"\",\"\",IF(LEFT(H205,8) =\"Exterior\", (F205*E205/J205*0.5), F205*E205/J205)),\"\")","v":""},{"$f":"IF(RIGHT(C205, 4)=\"Case\", \"\",IF(J205=\"\",\"\",IF(AH205=\"LLLC\", 0.6, VLOOKUP('100L Information'!$G$19,Load_Profiles, 4, FALSE))))","v":""},"","","",{"$f":"IF(AND(ISNUMBER(AE205),ISNUMBER(K205)),AE205,)","v":0},"",null,"",{"$f":"'Analysis 103L'!$Y$232*(S205/('Analysis 103L'!$Y$230+'Analysis 103L'!$Y$231))","v":{"$error":"#VALUE!"}},null,null,{"$f":"IF(Q205=\"\",\"\",Q205*'Analysis 103L'!$D$23)","v":""},null,null,null,null,{"$error":"#VALUE!"},{"$f":"IF(AND(U205=\"\",AK205=\"Custom\"),MIN(K205*Incent_Cost_Controls_Cust,Q205/J205*0.2),IF(AH205=\"LLLC\",MIN(AI205,((K205+'Analysis 103L'!R226)*Incent_Cost_LLLC)-'Analysis 103L'!X226),IF(AD205>=VLOOKUP(H205,Incent_Controls,3,FALSE),MIN(K205,VLOOKUP(H205,Incent_Controls,2,FALSE)),\"\")))","v":{"$error":"#VALUE!"}},"",null,"","",null,"","PASS/PASS","",{"$error":"#VALUE!"},{"$error":"#VALUE!"},{"$error":"#VALUE!"},"",null,10,{"$f":"VLOOKUP('Analysis 103L'!BE226, avoided_costs, ROUND($AS205, 0)+2, FALSE)","v":{"$error":"#N/A"}},{"$error":"#N/A"},{"$error":"#VALUE!"},{"$error":"#N/A"},{"$error":"#N/A"},{"$error":"#VALUE!"},{"$error":"#N/A"},{"$error":"#N/A"},{"$error":"#N/A"},null,null,null,null,null,null,null,null,null,null,null,null,null,null,null,{"$f":"'Analysis 103L'!CF226","v":""},"","","","",{"$f":"IF(BV205=\"\",\"\",MIN(K205*Incent_Cost_Case,(E205*BV205)))","v":""},""]
[200,{"$f":"'Analysis 103L'!C227","v":0},null,{"$f":"'Analysis 103L'!J227","v":"Incentive Cap"},{"$f":"'Analysis 103L'!P227","v":""},{"$f":"'Analysis 103L'!N227","v":0},{"$f":"'Analysis 103L'!Q227","v":0},null,null,null,null,{"$f":"IF(J206=\"\",\"\",J206*K206)","v":""},{"$f":"IFERROR(IF(J206=\"\",\"\",IF(LEFT(H206,8) =\"Exterior\", (F206*E206/J206*0.5), F206*E206/J206)),\"\")","v":""},{"$f":"IF(RIGHT(C206, 4)=\"Case\", \"\",IF(J206=\"\",\"\",IF(AH206=\"LLLC\", 0.6, VLOOKUP('100L Information'!$G$19,Load_Profiles, 4, FALSE))))","v":""},"","","",{"$f":"IF(AND(ISNUMBER(AE206),ISNUMBER(K206)),AE206,)","v":0},"",null,{"$f":"IF(AL206=\"FAIL\",\"Control System Not Cost Effective\",\"\")","v":""},{"$f":"'Analysis 103L'!$Y$232*(S206/('Analysis 103L'!$Y$230+'Analysis 103L'!$Y$231))","v":{"$error":"#VALUE!"}},null,null,{"$f":"IF(Q206=\"\",\"\",Q206*'Analysis 103L'!$D$23)","v":""},null,null,null,null,{"$error":"#VALUE!"},{"$f":"IF(AND(U206=\"\",AK206=\"Custom\"),MIN(K206*Incent_Cost_Controls_Cust,Q206/J206*0.2),IF(AH206=\"LLLC\",MIN(AI206,((K206+'Analysis 103L'!R227)*Incent_Cost_LLLC)-'Analysis 103L'!X227),IF(AD206>=VLOOKUP(H206,Incent_Controls,3,FALSE),MIN(K206,VLOOKUP(H206,Incent_Controls,2,FALSE)),\"\")))","v":{"$error":"#VALUE!"}},null,null,{"$f":"IF(ISNUMBER(S206),S206*IF(OR(LEFT('Analysis 103L'!I227,8)=\"Exterior\",'Analysis 103L'!I227=\"Other_Exterior\",'Analysis 103L'!I227=\"LED_Exterior_Fixtures\"),0,IF('Performance+'!$C$16<=-10,IF('Performance+'!$C$16<=-30,0.2,0.15),0)),0)","v":0},null,null,{"$f":"IF(H206=\"Custom Control System\",\"Custom\",\"\")","v":""},"PASS/PASS","",{"$error":"#VALUE!"},{"$error":"#VALUE!"},{"$error":"#VALUE!"},"",null,10,{"$f":"VLOOKUP('Analysis 103L'!BE227, avoided_costs, ROUND($AS206, 0)+2, FALSE)","v":{"$error":"#N/A"}},{"$error":"#N/A"},{"$error":"#VALUE!"},{"$error":"#N/A"},{"$error":"#N/A"},{"$error":"#VALUE!"},{"$error":"#N/A"},{"$error":"#N/A"},{"$error":"#N/A"},null,null,null,null,null,null,null,null,null,null,null,null,null,null,null,{"$f":"'Analysis 103L'!CF227","v":0}]
[null,null,null,null,null,null,null,"Totals:",null,{"$f":"SUM(J7:J206)","v":0},null,{"$f":"SUM(L7:L206)+SUMIFS(K7:K205, H7:H205, \"Motion Sensor on Refrigerated Case\")","v":0},null,null,{"$f":"SUM(O7:O206)","v":0},{"$f":"SUM(P7:P206)","v":0},{"$f":"SUM(Q7:Q206)","v":0},null,{"$f":"SUMIF(S7:S206,\"<>#Value!\")","v":0},null,null,{"$f":"SUMIF(V7:V206,\"<>#Value!\")","v":0},null,null,{"$f":"SUMIF(Y7:Y206,\"<>#Value!\")","v":0},null,null,null,null,null,null,null,"total",{"$f":"SUM(AH7:AH206)","v":0},null,null,null,null,null,null,null,{"$f":"SUMIF(AP7:AP206,\"<>#Value!\")","v":0}]
[]
[null,null,null,null,null,null,null,null,null,null,null,null,null,null,null,null,null,"% Savings:",{"$f":"(O207-P207)/(O207+0.00000000000001)","v":0}]

{"sheet":"LED Case Lighting","index":7,"n_rows":24,"n_cols":70,"rows_kept":24,"cut":false,"hidden":true,"merged":[[16,2,16,29],[1,21,1,24],[2,22,2,24],[3,22,3,24],[4,22,4,24],[5,22,5,24],[6,22,6,24],[7,22,7,24],[8,22,8,24],[10,1,10,4],[10,5,10,13],[10,14,10,17],[10,18,10,20],[7,1,7,4],[7,5,7,13],[8,5,8,13],[8,18,8,20],[8,25,8,28],[7,14,7,17],[8,14,8,17],[9,14,9,17],[9,22,9,24],[10,22,10,24],[5,5,5,13],[6,5,6,13],[6,18,6,20],[6,25,6,28],[15,25,15,28],[12,18,12,20],[12,25,12,28],[15,35,15,38],[15,31,15,34],[14,18,14,20],[14,25,14,28],[9,35,9,38],[12,31,12,34],[14,35,14,38],[10,35,10,38],[11,35,11,38],[12,35,12,38],[13,35,13,38],[11,31,11,34],[9,31,9,34],[10,25,10,28],[10,31,10,34],[12,22,12,24],[13,31,13,34],[11,25,11,28],[3,1,3,4],[3,5,3,13],[9,1,9,4],[9,5,9,13],[9,18,9,20],[9,25,9,28],[4,31,4,34],[5,1,5,4],[6,1,6,4],[5,18,5,20],[5,25,5,28],[6,31,6,34],[3,18,3,20],[3,25,3,28],[4,1,4,4],[4,5,4,13],[4,18,4,20],[4,25,4,28],[3,14,3,17],[4,14,4,17],[7,31,7,34],[8,31,8,34],[5,14,5,17],[6,14,6,17],[12,1,12,4],[12,5,12,13],[12,14,12,17],[13,22,13,24],[14,22,14,24],[11,22,11,24],[11,1,11,4],[11,5,11,13],[11,14,11,17],[11,18,11,20],[1,35,1,38],[2,35,2,38],[3,35,3,38],[4,35,4,38],[5,35,5,38],[6,35,6,38],[7,35,7,38],[8,35,8,38],[1,31,1,34],[3,31,3,34],[5,31,5,34],[18,2,18,28],[2,1,2,4],[2,5,2,13],[2,18,2,20],[2,25,2,28],[2,31,2,34],[1,1,1,4],[1,5,1,13],[1,14,1,17],[1,18,1,20],[1,25,1,28],[2,14,2,17],[14,1,14,4],[14,31,14,34],[7,18,7,20],[7,25,7,28],[8,1,8,4],[14,5,14,13],[14,14,14,17],[13,1,13,4],[13,5,13,13],[13,14,13,17],[13,18,13,20],[13,25,13,28]]}
[null,null,null,null,null,null,null,null,null,null,null,null,null,null,null,null,null,null,null,null,null,null,null,null,null,null,null,null,null,null,null,null,null,null,null,null,null,null,null,null,null,null,null,null,null,null,null,null,null,null,{"$f":"AY3","v":7}]
[null,"LED Display Case Lighting",null,null,null,"Description/\nRequirements",null,null,null,null,null,null,null,null,"Estimated Average \nSavings \n(kWh/linear ft of fixture)",null,null,null,"Incentive \n(per linear ft of fixture)",null,null,"Quantity",null,null,null,"Total Installed Cost",null,null,null,"Equipment  Type","Model #","Estimated Savings",null,null,null,"Estimated Incentive",null,null,null,null,null,null,null,"Measure Name","ProductCode","Installation Location","High/Low","Existing Equipment"," Energy (kWh) Savings per Ft","Incentive per Ft","Measure Life (years)","Total NEB (Annual $)",null,{"$f":"IF(AS2=BD2, 0, 1)","v":0},"New Product Request ID","ProductCode","ProductDescription","2023 Start Date","2023 End Date","Recommended 2023 Incentives (FINAL APPROVED 10/17/22) ","2023 kWH Savings (FINAL APPROVED 10/17/22)","Savings (therms)","Total NEB (Annual $)","2023 Draft CEC Max Incentive (FINAL APPROVED 10/17/2022","Measure Life (years)","2022 Incentive","2022 Maximum Incentive","Sector Code","Program Code","ProgramDescription"]
[null,"Motion Sensor, on Low Power LED",null,null,null,"• On LED cases, side bar (single) \n• Reach-in or open display cases¹",null,null,null,null,null,null,null,null,9,null,null,null,1.6,null,null,null,"linear ft of fixture",null,null,null,null,null,null,null,{"$f":"IF(AD3=\"\",\"\",VLOOKUP(AD3,'Equipment Type'!$A$1:$F$53,4,FALSE))","v":""},{"$f":"O3*V3","v":0},null,null,null,{"$f":"IF(ISNUMBER(Z3),MIN(Z3*Incent_Cost_Case,(S3*V3)),0)","v":0},null,null,null,null,null,null,null,"Single Row T8 Low Power LED Inside Refrigerated Space Medium Temperature Case","LEDCLSRT8MED","Refrigerated Case: Medium Temp","Low","T8",36.76,9,7,0.92,null,{"$f":"IF(AS3=BD3, 0, 1)","v":0},5830,"LEDCLSRT8MED","Single Row T8 Low LED Case Lighting - Med Temp Case","2023-01-01","2024-03-31",9,36.76,-0.3,0.92,12.8,7,8,15.05,"COM","BE","Existing Buildings"]
[null,"Motion Sensor, on High Power LED",null,null,null,"• On LED cases, mullion bar (double) \n• Reach-in or open display cases¹",null,null,null,null,null,null,null,null,14,null,null,null,2.4,null,null,null,"linear ft of fixture",null,null,null,null,null,null,null,{"$f":"IF(AD4=\"\",\"\",VLOOKUP(AD4,'Equipment Type'!$A$1:$F$53,4,FALSE))","v":""},{"$f":"O4*V4","v":0},null,null,null,0,null,null,null,null,null,null,null,"Single Row T12 Low Power LED Inside Refrigerated Space Medium Temperature Case","LEDCLSRT12MED","Refrigerated Case: Medium Temp","Low","T12",46.83,9,7,1.28,null,{"$f":"IF(AS4=BD4, 0, 1)","v":0},5824,"LEDCLSRT12MED","Single Row T12 Low LED Case Lighting - Med Temp Case","2023-01-01","2024-03-31",9,46.83,-0.39,1.28,16.29,7,8,18.84,"COM","BE","Existing Buildings"]
[null,"Single Row T8 Low Power LED (Medium Temp⁯ Case)",null,null,null,"• Replace T8 with LED side bar (single) \n• Inside reach-in or open display cases²",null,null,null,null,null,null,null,null,41,null,null,null,8,null,null,null,"linear ft of fixture",null,null,null,null,null,null,null,{"$f":"IF(AD5=\"\",\"\",VLOOKUP(AD5,'Equipment Type'!$A$1:$F$53,4,FALSE))","v":""},0,null,null,null,0,null,null,null,null,null,null,null,"Double Row T8 High Power LED Inside Refrigerated Space Medium Temperature Case","LEDCLDRT8MED","Refrigerated Case: Medium Temp","High","T8",83.71,17,7,1.84,null,{"$f":"IF(AS5=BD5, 0, 1)","v":0},5814,"LEDCLDRT8MED","Double Row T8 High LED Case Lighting - Med Temp Case","2023-01-01","2024-03-31",17,83.71,-0.69,1.84,22.63,7,16,23.91,"COM","BE","Existing Buildings"]
[null,"Single Row T12 Low Power LED (Medium Temp⁯ Case)",null,null,null,"• Replace T12 with LED side bar (single) \n• Inside reach-in or open display cases²",null,null,null,null,null,null,null,null,51,null,null,null,8,null,null,null,"linear ft of fixture",null,null,null,null,null,null,null,{"$f":"IF(AD6=\"\",\"\",VLOOKUP(AD6,'Equipment Type'!$A$1:$F$53,4,FALSE))","v":""},0,null,null,null,0,null,null,null,null,null,null,null,"Double Row T12 High Power LED Inside Refrigerated Space Medium Temperature Case","LEDCLDRT12MED","Refrigerated Case: Medium Temp","High","T12",103.84,17,7,2.56,null,{"$f":"IF(AS6=BD6, 0, 1)","v":0},5807,"LEDCLDRT12MED","Double Row T12 High LED Case Lighting - Med Temp Case","2023-01-01","2024-03-31",17,103.84,-0.86,2.56,22.63,7,16,23.91,"COM","BE","Existing Buildings"]
[null,"Double Row T8 High Power LED (Medium Temp⁯ Case)",null,null,null,"• Replace T8 with LED mullion (double) \n• Inside reach-in or open display cases² ",null,null,null,null,null,null,null,null,93,null,null,null,16,null,null,null,"linear ft of fixture",null,null,null,null,null,null,null,{"$f":"IF(AD7=\"\",\"\",VLOOKUP(AD7,'Equipment Type'!$A$1:$F$53,4,FALSE))","v":""},0,null,null,null,0,null,null,null,null,null,null,null,"Single Row T8 Low Power LED Inside Refrigerated Space Low Temperature Case","LEDCLSRT8LOW","Refrigerated Case: Low Temp","Low","T8",45.74,9,7,0.92,null,{"$f":"IF(AS7=BD7, 0, 1)","v":0},5828,"LEDCLSRT8LOW","Single Row T8 Low LED Case Lighting - Low Temp Case","2023-01-01","2024-03-31",9,45.74,-0.3,0.92,16.55,7,8,18.61,"COM","BE","Existing Buildings"]
[null,"Double Row T12 High Power LED (Medium Temp⁯ Case)",null,null,null,"• Replace T12 with LED mullion (double) \n• Inside reach-in or open display cases² ",null,null,null,null,null,null,null,null,113,null,null,null,16,null,null,null,"linear ft of fixture",null,null,null,null,null,null,null,{"$f":"IF(AD8=\"\",\"\",VLOOKUP(AD8,'Equipment Type'!$A$1:$F$53,4,FALSE))","v":""},0,null,null,null,0,null,null,null,null,null,null,null,"Single Row T12 Low Power LED Inside Refrigerated Space Low Temperature Case","LEDCLSRT12LOW","Refrigerated Case: Low Temp","Low","T12",58.03,9,7,1.28,null,0,5822,"LEDCLSRT12LOW","Single Row T12 Low LED Case Lighting - Low Temp Case","2023-01-01","2024-03-31",9,58.03,-0.39,1.28,17.489999999999998,7,8,20,"COM","BE","Existing Buildings"]
[null,"Single Row T12 Low Power LED (Medium Temp Case or Low Temp Case)",null,null,null,"• Replace T12 with LED side bar (single) \n• On the canopy or lip of open display cases² ",null,null,null,null,null,null,null,null,44,null,null,null,8,null,null,null,"linear ft of fixture",null,null,null,null,null,null,null,{"$f":"IF(AD9=\"\",\"\",VLOOKUP(AD9,'Equipment Type'!$A$1:$F$53,4,FALSE))","v":""},0,null,null,null,{"$f":"IF(ISNUMBER(Z9),MIN(Z9*Incent_Cost_Case,(S9*V9)),0)","v":0},null,null,null,null,null,null,null,"Double Row T8 High Power LED Inside Refrigerated Space Low Temperature Case","LEDCLDRT8LOW","Refrigerated Case: Low Temp","High","T8",104.06,17,7,1.84,null,0,5812,"LEDCLDRT8LOW","Double Row T8 High LED Case Lighting - Low Temp Case","2023-01-01","2024-03-31",17,104.06,-0.69,1.84,22.63,7,16,23.91,"COM","BE","Existing Buildings"]
[null,"Double Row T8 High Power LED (Medium Temp Case or Low Temp Case)",null,null,null,"• Replace T8 with LED mullion (double) \n• On the canopy or lip of open display cases² ",null,null,null,null,null,null,null,null,79,null,null,null,16,null,null,null,"linear ft of fixture",null,null,null,null,null,null,null,{"$f":"IF(AD10=\"\",\"\",VLOOKUP(AD10,'Equipment Type'!$A$1:$F$53,4,FALSE))","v":""},0,null,null,null,{"$f":"IF(ISNUMBER(Z10),MIN(Z10*Incent_Cost_Case,(S10*V10)),0)","v":0},null,null,null,null,null,null,null,"Double Row T12 High Power LED Inside Refrigerated Space Low Temperature Case","LEDCLDRT12LOW","Refrigerated Case: Low Temp","High","T12",128.63,17,7,2.56,null,0,5805,"LEDCLDRT12LOW","Double Row T12 High LED Case Lighting - Low Temp Case","2023-01-01","2024-03-31",17,128.63,-0.86,2.56,22.36,7,16,23.91,"COM","BE","Existing Buildings"]
[null,"Double Row T12 High Power LED (Medium Temp Case or Low Temp Case)",null,null,null,"• Replace T12 with LED mullion (double) \n• On the canopy or lip of open display cases² ",null,null,null,null,null,null,null,null,97,null,null,null,16,null,null,null,"linear ft of fixture",null,null,null,null,null,null,null,{"$f":"IF(AD11=\"\",\"\",VLOOKUP(AD11,'Equipment Type'!$A$1:$F$53,4,FALSE))","v":""},0,null,null,null,0,null,null,null,null,null,null,null,"Single Row T8 Low Power LED Outside Refrigerated Space HVAC Interaction",null,"Refrigerated Case: Canopy / Lip","Low","T8",null,null,null,null,null,0]
[null,"Single Row T8 Low Power LED (Low Temp Case)",null,null,null,"• Replace T8 with LED side bar (single) \n• Inside reach-in or open display cases² ",null,null,null,null,null,null,null,null,50,null,null,null,8,null,null,null,"linear ft of fixture",null,null,null,null,null,null,null,{"$f":"IF(AD12=\"\",\"\",VLOOKUP(AD12,'Equipment Type'!$A$1:$F$53,4,FALSE))","v":""},0,null,null,null,0,null,null,null,null,null,null,null,"Single Row T12 Low Power LED Outside Refrigerated Space HVAC Interaction","LEDCLSRT12OUT","Refrigerated Case: Canopy / Lip","Low","T12",39.47,9,7,1.28,null,0,5826,"LEDCLSRT12OUT","Single Row T12 Low LED Case Lighting - Outside of Case","2023-01-01","2024-03-31",9,39.47,-0.78,1.28,9.98,7,8,14.45,"COM","BE","Existing Buildings"]
[null,"Single Row T12 Low Power LED (Low Temp Case)",null,null,null,"• Replace T12 with LED side bar (single) \n• Inside reach-in or open display cases² ",null,null,null,null,null,null,null,null,62,null,null,null,8,null,null,null,"linear ft of fixture",null,null,null,null,null,null,null,{"$f":"IF(AD13=\"\",\"\",VLOOKUP(AD13,'Equipment Type'!$A$1:$F$53,4,FALSE))","v":""},0,null,null,null,0,null,null,null,null,null,null,null,"Double Row T8 High Power LED Outside Refrigerated Space HVAC Interaction","LEDCLDRT8OUT","Refrigerated Case: Canopy / Lip","High","T8",70.34,17,7,1.84,null,0,5816,"LEDCLDRT8OUT","Double Row T8 High LED Case Lighting - Outside of Case","2023-01-01","2024-03-31",17,70.34,-1.38,1.84,17.78,7,16,23.91,"COM","BE","Existing Buildings"]
[null,"Double Row T8 High Power LED (Low Temp Case)",null,null,null,"• Replace T8 with LED mullion (double) \n• Inside reach-in or open display cases² ",null,null,null,null,null,null,null,null,113,null,null,null,16,null,null,null,"linear ft of fixture",null,null,null,null,null,null,null,{"$f":"IF(AD14=\"\",\"\",VLOOKUP(AD14,'Equipment Type'!$A$1:$F$53,4,FALSE))","v":""},0,null,null,null,0,null,null,null,null,null,null,null,"Double Row T12 High Power LED Outside Refrigerated Space HVAC Interaction","LEDCLDRT12OUT","Refrigerated Case: Canopy / Lip","High","T12",87.55,17,7,2.56,null,0,5809,"LEDCLDRT12OUT","Double Row T12 High LED Case Lighting - Outside of Case","2023-01-01","2024-03-31",17,87.55,-1.72,2.56,22.16,7,16,23.91,"COM","BE","Existing Buildings"]
[null,"Double Row T12 High Power LED (Low Temp Case)",null,null,null,"• Replace T12 with LED mullion (double)\n• Inside reach-in or open display cases²",null,null,null,null,null,null,null,null,138,null,null,null,16,null,null,null,"linear ft of fixture",null,null,null,null,null,null,null,{"$f":"IF(AD15=\"\",\"\",VLOOKUP(AD15,'Equipment Type'!$A$1:$F$53,4,FALSE))","v":""},0,null,null,null,0,null,null,null,null,null,null,null,"Motion Sensor Low Power LED ","MSLEDCL4W",null,"Low",null,7.52,2.5,8,0.56999999999999995,null,0,5820,"MSLEDCL4W","Motion Sensor On LED cases (single) Low Power","2023-01-01","2024-03-31",2.5,7.52,-0.1,0.56999999999999995,2.62,8,1.6,3.52,"COM","BE","Existing Buildings"]
[null,null,null,null,null,null,null,null,null,null,null,null,null,null,null,null,null,null,null,null,"Totals:",{"$f":"SUM(V3:V15)","v":0},null,null,null,{"$f":"SUM(Z3:AC15)","v":0},null,null,null,null,null,{"$f":"SUM(AF3:AI15)","v":0},null,null,null,{"$f":"SUM(AJ3:AM15)","v":0},null,null,null,null,null,null,null,"Motion Sensor High Power LED ","MSLEDCL4W75W",null,"High",null,12.16,2.5,8,0.74,null,0,5818,"MSLEDCL4W75W","Motion Sensor On LED cases (Double) High Power","2023-01-01","2024-03-31",2.5,12.16,-0.06,0.74,4.38,8,2.4,3.65,"COM","BE","Existing Buildings"]
[null,null,"1 Motion Sensors – LED Case Lighting Requirements: \n     ᛫  Incentives are based on linear feet of LED fixture controlled by the motion sensor\n     ᛫  Install a motion sensor controlling permanently installed LED lighting in refrigerated reach-in case(s)\n     ᛫  Incentive and energy savings values vary based on the controlled LED luminaire power (low or high): \n          ◦  Low power luminaire is defined as one that uses < 4.5W/ft of fixture (single)\n          ◦  High power luminaire is defined as one using > 4.5W to < 8.5W/ft of fixture (double)\n"]
[null,null,"2 LED Case Lighting Requirements:"]
[null,null,"   ᛫  Incentives paid are based on linear feet of installed LED fixture.\n   ᛫  Only LED fixtures on the Design Lights Consortium product list for case lighting, under indoor luminaires, are eligible."]
[]
[]
[]
[]
[null,null,null,null,null,null,null,null,null,null," "]

{"sheet":"Incentives","index":8,"n_rows":832,"n_cols":11,"rows_kept":832,"cut":false,"hidden":true,"merged":[]}
["PROPOSED EQUIPMENT",null,null,"SORT BY CONCATENATION COLUMN FOR VLOOKUP",null,"delamping and reduced watt"]
["DESCRIPTION FROM LIGHTING TOOL","LAMP COST","OPERATIONAL LIFE","RQRMT CODE","CONCATENATION","INCENTIVE","NEB","INCENTIVE DESCRIPTION","MAD",null,"2023 Updates in Yellow"]
["2' TLED lamp with new fluorescent ballast",35,50000,"T8_2ft",{"$f":"CONCATENATE(A3, \" from \", D3)","v":"2' TLED lamp with new fluorescent ballast from T8_2ft"},3,1.83,"TLED",8]
["2' TLED lamp with new fluorescent ballast",35,50000,"T8_U_bent","2' TLED lamp with new fluorescent ballast from T8_U_bent",3,1.83,"TLED",8]
["2' TLED lamp with new fluorescent ballast",35,50000,"T8_3ft","2' TLED lamp with new fluorescent ballast from T8_3ft",3,1.83,"TLED",8]
["2' TLED lamp with new fluorescent ballast",35,50000,"T8_4ft","2' TLED lamp with new fluorescent ballast from T8_4ft",3,1.83,"TLED",8]
["2' TLED lamp with new fluorescent ballast",35,50000,"T8_5ft","2' TLED lamp with new fluorescent ballast from T8_5ft",3,1.83,"TLED",8]
["2' TLED lamp with new fluorescent ballast",35,50000,"T8_6ft","2' TLED lamp with new fluorescent ballast from T8_6ft",3,1.83,"TLED",8]
["2' TLED lamp with new fluorescent ballast",35,50000,"T8_8ft","2' TLED lamp with new fluorescent ballast from T8_8ft",3,1.83,"TLED",8]
["2' TLED lamp with new fluorescent ballast",35,50000,"T12_U_bent","2' TLED lamp with new fluorescent ballast from T12_U_bent",3,1.86,"TLED",8]
["2' TLED lamp with new fluorescent ballast",35,50000,"T12_2or3ft","2' TLED lamp with new fluorescent ballast from T12_2or3ft",3,1.86,"TLED",8]
["2' TLED lamp with new fluorescent ballast",35,50000,"T12_4ft","2' TLED lamp with new fluorescent ballast from T12_4ft",3,1.86,"TLED",8]
["2' TLED lamp with new fluorescent ballast",35,50000,"T12_5ft","2' TLED lamp with new fluorescent ballast from T12_5ft",3,1.86,"TLED",8]
["2' TLED lamp with new fluorescent ballast",35,50000,"T12_6ft","2' TLED lamp with new fluorescent ballast from T12_6ft",3,1.86,"TLED",8]
["2' TLED lamp with new fluorescent ballast",35,50000,"T12_8ft","2' TLED lamp with new fluorescent ballast from T12_8ft",3,1.86,"TLED",8]
["2' TLED lamp with new fluorescent ballast",35,50000,"T5_2ft","2' TLED lamp with new fluorescent ballast from T5_2ft",3,null,"TLED",8]
["2' TLED lamp with new fluorescent ballast",35,50000,"HID","2' TLED lamp with new fluorescent ballast from HID",3,null,"TLED",8]
["2' TLED lamp with new fluorescent ballast",35,50000,"INCAN","2' TLED lamp with new fluorescent ballast from INCAN",3,null,"TLED",8]
["2' TLED lamp with new fluorescent ballast",35,50000,"CFL","2' TLED lamp with new fluorescent ballast from CFL",3,null,"TLED",8]
["2' TLED lamp with new fluorescent ballast",35,50000,"SIGN","2' TLED lamp with new fluorescent ballast from SIGN",3,null,"TLED",8]
["2' TLED lamp with new fluorescent ballast",35,50000,"OTHER","2' TLED lamp with new fluorescent ballast from OTHER",3,null,"TLED",8]
["2' TLED lamp with remote driver",35,50000,"T8_2ft","2' TLED lamp with remote driver from T8_2ft",3,1.83,"TLED",8]
["2' TLED lamp with remote driver",35,50000,"T8_U_bent","2' TLED lamp with remote driver from T8_U_bent",3,1.83,"TLED",8]
["2' TLED lamp with remote driver",35,50000,"T8_3ft","2' TLED lamp with remote driver from T8_3ft",3,1.83,"TLED",8]
["2' TLED lamp with remote driver",35,50000,"T8_4ft","2' TLED lamp with remote driver from T8_4ft",3,1.83,"TLED",8]
["2' TLED lamp with remote driver",35,50000,"T8_5ft","2' TLED lamp with remote driver from T8_5ft",3,1.83,"TLED",8]
["2' TLED lamp with remote driver",35,50000,"T8_6ft","2' TLED lamp with remote driver from T8_6ft",3,1.83,"TLED",8]
["2' TLED lamp with remote driver",35,50000,"T8_8ft","2' TLED lamp with remote driver from T8_8ft",3,1.83,"TLED",8]
["2' TLED lamp with remote driver",35,50000,"T12_U_bent","2' TLED lamp with remote driver from T12_U_bent",3,1.86,"TLED",8]
["2' TLED lamp with remote driver",35,50000,"T12_2or3ft","2' TLED lamp with remote driver from T12_2or3ft",3,1.86,"TLED",8]
["2' TLED lamp with remote driver",35,50000,"T12_4ft","2' TLED lamp with remote driver from T12_4ft",3,1.86,"TLED",8]
["2' TLED lamp with remote driver",35,50000,"T12_5ft","2' TLED lamp with remote driver from T12_5ft",3,1.86,"TLED",8]
["2' TLED lamp with remote driver",35,50000,"T12_6ft","2' TLED lamp with remote driver from T12_6ft",3,1.86,"TLED",8]
["2' TLED lamp with remote driver",35,50000,"T12_8ft","2' TLED lamp with remote driver from T12_8ft",3,1.86,"TLED",8]
["2' TLED lamp with remote driver",35,50000,"T5_2ft","2' TLED lamp with remote driver from T5_2ft",3,1.86,"TLED",8]
["2' TLED lamp with remote driver",35,50000,"HID","2' TLED lamp with remote driver from HID",3,null,"TLED",8]
["2' TLED lamp with remote driver",35,50000,"INCAN","2' TLED lamp with remote driver from INCAN",3,null,"TLED",8]
["2' TLED lamp with remote driver",35,50000,"CFL","2' TLED lamp with remote driver from CFL",3,null,"TLED",8]
["2' TLED lamp with remote driver",35,50000,"SIGN","2' TLED lamp with remote driver from SIGN",3,null,"TLED",8]
["2' TLED lamp with remote driver",35,50000,"OTHER","2' TLED lamp with remote driver from OTHER",3,null,"TLED",8]
["2' TLED lamp at line voltage",35,50000,"T8_2ft","2' TLED lamp at line voltage from T8_2ft",3,1.83,"TLED",8]
["2' TLED lamp at line voltage",35,50000,"T8_U_bent","2' TLED lamp at line voltage from T8_U_bent",3,1.83,"TLED",8]
["2' TLED lamp at line voltage",35,50000,"T8_3ft","2' TLED lamp at line voltage from T8_3ft",3,1.83,"TLED",8]
["2' TLED lamp at line voltage",35,50000,"T8_4ft","2' TLED lamp at line voltage from T8_4ft",3,1.83,"TLED",8]
["2' TLED lamp at line voltage",35,50000,"T8_5ft","2' TLED lamp at line voltage from T8_5ft",3,1.83,"TLED",8]
["2' TLED lamp at line voltage",35,50000,"T8_6ft","2' TLED lamp at line voltage from T8_6ft",3,1.83,"TLED",8]
["2' TLED lamp at line voltage",35,50000,"T8_8ft","2' TLED lamp at line voltage from T8_8ft",3,1.83,"TLED",8]
["2' TLED lamp at line voltage",35,50000,"T12_U_bent","2' TLED lamp at line voltage from T12_U_bent",3,1.86,"TLED",8]
["2' TLED lamp at line voltage",35,50000,"T12_2or3ft","2' TLED lamp at line voltage from T12_2or3ft",3,1.86,"TLED",8]
["2' TLED lamp at line voltage",35,50000,"T12_4ft","2' TLED lamp at line voltage from T12_4ft",3,1.86,"TLED",8]
["2' TLED lamp at line voltage",35,50000,"T12_5ft","2' TLED lamp at line voltage from T12_5ft",3,1.86,"TLED",8]
["2' TLED lamp at line voltage",35,50000,"T12_6ft","2' TLED lamp at line voltage from T12_6ft",3,1.86,"TLED",8]
["2' TLED lamp at line voltage",35,50000,"T12_8ft","2' TLED lamp at line voltage from T12_8ft",3,1.86,"TLED",8]
["2' TLED lamp at line voltage",35,50000,"T5_2ft","2' TLED lamp at line voltage from T5_2ft",3,1.86,"TLED",8]
["2' TLED lamp at line voltage",35,50000,"HID","2' TLED lamp at line voltage from HID",3,null,"TLED",8]
["2' TLED lamp at line voltage",35,50000,"INCAN","2' TLED lamp at line voltage from INCAN",3,null,"TLED",8]
["2' TLED lamp at line voltage",35,50000,"CFL","2' TLED lamp at line voltage from CFL",3,null,"TLED",8]
["2' TLED lamp at line voltage",35,50000,"SIGN","2' TLED lamp at line voltage from SIGN",3,null,"TLED",8]
["2' TLED lamp at line voltage",35,50000,"OTHER","2' TLED lamp at line voltage from OTHER",3,null,"TLED",8]
["2' TLED lamp using existing fluorescent ballast",35,50000,"RL-2817","2' TLED lamp using existing fluorescent ballast from RL-2817",3,1.83,"TLED",8]
["2' TLED lamp using existing fluorescent ballast",35,50000,"RL-2514","2' TLED lamp using existing fluorescent ballast from RL-2514",3,1.83,"TLED",8]
["3' TLED lamp with new fluorescent ballast",35,50000,"T8_2ft","3' TLED lamp with new fluorescent ballast from T8_2ft",4.5,null,"TLED",8]
["3' TLED lamp with new fluorescent ballast",35,50000,"T8_U_bent","3' TLED lamp with new fluorescent ballast from T8_U_bent",4.5,null,"TLED",8]
["3' TLED lamp with new fluorescent ballast",35,50000,"T8_3ft","3' TLED lamp with new fluorescent ballast from T8_3ft",4.5,1.83,"TLED",8]
["3' TLED lamp with new fluorescent ballast",35,50000,"T8_4ft","3' TLED lamp with new fluorescent ballast from T8_4ft",4.5,1.83,"TLED",8]
["3' TLED lamp with new fluorescent ballast",35,50000,"T8_5ft","3' TLED lamp with new fluorescent ballast from T8_5ft",4.5,1.83,"TLED",8]
["3' TLED lamp with new fluorescent ballast",35,50000,"T8_6ft","3' TLED lamp with new fluorescent ballast from T8_6ft",4.5,1.83,"TLED",8]
["3' TLED lamp with new fluorescent ballast",35,50000,"T8_8ft","3' TLED lamp with new fluorescent ballast from T8_8ft",4.5,1.83,"TLED",8]
["3' TLED lamp with new fluorescent ballast",35,50000,"T12_U_bent","3' TLED lamp with new fluorescent ballast from T12_U_bent",4.5,1.86,"TLED",8]
["3' TLED lamp with new fluorescent ballast",35,50000,"T12_2or3ft","3' TLED lamp with new fluorescent ballast from T12_2or3ft",4.5,1.86,"TLED",8]
["3' TLED lamp with new fluorescent ballast",35,50000,"T12_4ft","3' TLED lamp with new fluorescent ballast from T12_4ft",4.5,1.86,"TLED",8]
["3' TLED lamp with new fluorescent ballast",35,50000,"T12_5ft","3' TLED lamp with new fluorescent ballast from T12_5ft",4.5,1.86,"TLED",8]
["3' TLED lamp with new fluorescent ballast",35,50000,"T12_6ft",{"$f":"CONCATENATE(A73, \" from \", D73)","v":"3' TLED lamp with new fluorescent ballast from T12_6ft"},4.5,1.86,"TLED",8]
["3' TLED lamp with new fluorescent ballast",35,50000,"T12_8ft","3' TLED lamp with new fluorescent ballast from T12_8ft",4.5,1.86,"TLED",8]
["3' TLED lamp with new fluorescent ballast",35,50000,"T5_4ft","3' TLED lamp with new fluorescent ballast from T5_4ft",4.5,1.86,"TLED",8]
["3' TLED lamp with new fluorescent ballast",35,50000,"T5_3ft","3' TLED lamp with new fluorescent ballast from T5_3ft",4.5,1.31,"TLED",8]
["3' TLED lamp with new fluorescent ballast",35,50000,"T5_2ft","3' TLED lamp with new fluorescent ballast from T5_2ft",4.5,null,"TLED",8]
["3' TLED lamp with new fluorescent ballast",35,50000,"HID","3' TLED lamp with new fluorescent ballast from HID",4.5,1.31,"TLED",8]
["3' TLED lamp with new fluorescent ballast",35,50000,"INCAN","3' TLED lamp with new fluorescent ballast from INCAN",4.5,null,"TLED",8]
["3' TLED lamp with new fluorescent ballast",35,50000,"CFL","3' TLED lamp with new fluorescent ballast from CFL",4.5,null,"TLED",8]
["3' TLED lamp with new fluorescent ballast",35,50000,"SIGN","3' TLED lamp with new fluorescent ballast from SIGN",4.5,null,"TLED",8]
["3' TLED lamp with new fluorescent ballast",35,50000,"OTHER","3' TLED lamp with new fluorescent ballast from OTHER",4.5,null,"TLED",8]
["3' TLED lamp with remote driver",35,50000,"T8_2ft","3' TLED lamp with remote driver from T8_2ft",4.5,1.83,"TLED",8]
["3' TLED lamp with remote driver",35,50000,"T8_U_bent","3' TLED lamp with remote driver from T8_U_bent",4.5,1.83,"TLED",8]
["3' TLED lamp with remote driver",35,50000,"T8_3ft","3' TLED lamp with remote driver from T8_3ft",4.5,1.83,"TLED",8]
["3' TLED lamp with remote driver",35,50000,"T8_4ft","3' TLED lamp with remote driver from T8_4ft",4.5,1.83,"TLED",8]
["3' TLED lamp with remote driver",35,50000,"T8_5ft","3' TLED lamp with remote driver from T8_5ft",4.5,1.83,"TLED",8]
["3' TLED lamp with remote driver",35,50000,"T8_6ft","3' TLED lamp with remote driver from T8_6ft",4.5,1.83,"TLED",8]
["3' TLED lamp with remote driver",35,50000,"T8_8ft","3' TLED lamp with remote driver from T8_8ft",4.5,1.83,"TLED",8]
["3' TLED lamp with remote driver",35,50000,"T12_U_bent","3' TLED lamp with remote driver from T12_U_bent",4.5,1.86,"TLED",8]
["3' TLED lamp with remote driver",35,50000,"T12_2or3ft","3' TLED lamp with remote driver from T12_2or3ft",4.5,1.86,"TLED",8]
["3' TLED lamp with remote driver",35,50000,"T12_4ft","3' TLED lamp with remote driver from T12_4ft",4.5,1.86,"TLED",8]
["3' TLED lamp with remote driver",35,50000,"T12_5ft","3' TLED lamp with remote driver from T12_5ft",4.5,1.86,"TLED",8]
["3' TLED lamp with remote driver",35,50000,"T12_6ft","3' TLED lamp with remote driver from T12_6ft",4.5,1.86,"TLED",8]
["3' TLED lamp with remote driver",35,50000,"T12_8ft","3' TLED lamp with remote driver from T12_8ft",4.5,1.86,"TLED",8]
["3' TLED lamp with remote driver",35,50000,"T5_4ft","3' TLED lamp with remote driver from T5_4ft",4.5,1.86,"TLED",8]
["3' TLED lamp with remote driver",35,50000,"T5_3ft","3' TLED lamp with remote driver from T5_3ft",4.5,1.31,"TLED",8]
["3' TLED lamp with remote driver",35,50000,"T5_2ft","3' TLED lamp with remote driver from T5_2ft",4.5,null,"TLED",8]
["3' TLED lamp with remote driver",35,50000,"HID","3' TLED lamp with remote driver from HID",4.5,1.31,"TLED",8]
["3' TLED lamp with remote driver",35,50000,"INCAN","3' TLED lamp with remote driver from INCAN",4.5,null,"TLED",8]
["3' TLED lamp with remote driver",35,50000,"CFL","3' TLED lamp with remote driver from CFL",4.5,null,"TLED",8]
["3' TLED lamp with remote driver",35,50000,"SIGN","3' TLED lamp with remote driver from SIGN",4.5,null,"TLED",8]
["3' TLED lamp with remote driver",35,50000,"OTHER","3' TLED lamp with remote driver from OTHER",4.5,null,"TLED",8]
["3' TLED lamp at line voltage",35,50000,"T8_2ft","3' TLED lamp at line voltage from T8_2ft",4.5,1.83,"TLED",8]
["3' TLED lamp at line voltage",35,50000,"T8_U_bent","3' TLED lamp at line voltage from T8_U_bent",4.5,1.83,"TLED",8]
["3' TLED lamp at line voltage",35,50000,"T8_3ft","3' TLED lamp at line voltage from T8_3ft",4.5,1.83,"TLED",8]
["3' TLED lamp at line voltage",35,50000,"T8_4ft","3' TLED lamp at line voltage from T8_4ft",4.5,1.83,"TLED",8]
["3' TLED lamp at line voltage",35,50000,"T8_5ft","3' TLED lamp at line voltage from T8_5ft",4.5,1.83,"TLED",8]
["3' TLED lamp at line voltage",35,50000,"T8_6ft","3' TLED lamp at line voltage from T8_6ft",4.5,1.83,"TLED",8]
["3' TLED lamp at line voltage",35,50000,"T8_8ft","3' TLED lamp at line voltage from T8_8ft",4.5,1.83,"TLED",8]
["3' TLED lamp at line voltage",35,50000,"T12_U_bent","3' TLED lamp at line voltage from T12_U_bent",4.5,1.86,"TLED",8]
["3' TLED lamp at line voltage",35,50000,"T12_2or3ft","3' TLED lamp at line voltage from T12_2or3ft",4.5,1.86,"TLED",8]
["3' TLED lamp at line voltage",35,50000,"T12_4ft","3' TLED lamp at line voltage from T12_4ft",4.5,1.86,"TLED",8]
["3' TLED lamp at line voltage",35,50000,"T12_5ft","3' TLED lamp at line voltage from T12_5ft",4.5,1.86,"TLED",8]
["3' TLED lamp at line voltage",35,50000,"T12_6ft","3' TLED lamp at line voltage from T12_6ft",4.5,1.86,"TLED",8]
["3' TLED lamp at line voltage",35,50000,"T12_8ft","3' TLED lamp at line voltage from T12_8ft",4.5,1.86,"TLED",8]
["3' TLED lamp at line voltage",35,50000,"T5_4ft","3' TLED lamp at line voltage from T5_4ft",4.5,1.86,"TLED",8]
["3' TLED lamp at line voltage",35,50000,"T5_3ft","3' TLED lamp at line voltage from T5_3ft",4.5,1.31,"TLED",8]
["3' TLED lamp at line voltage",35,50000,"T5_2ft","3' TLED lamp at line voltage from T5_2ft",4.5,null,"TLED",8]
["3' TLED lamp at line voltage",35,50000,"HID","3' TLED lamp at line voltage from HID",4.5,1.31,"TLED",8]
["3' TLED lamp at line voltage",35,50000,"INCAN","3' TLED lamp at line voltage from INCAN",4.5,null,"TLED",8]
["3' TLED lamp at line voltage",35,50000,"CFL","3' TLED lamp at line voltage from CFL",4.5,null,"TLED",8]
["3' TLED lamp at line voltage",35,50000,"SIGN","3' TLED lamp at line voltage from SIGN",4.5,null,"TLED",8]
["3' TLED lamp at line voltage",35,50000,"OTHER","3' TLED lamp at line voltage from OTHER",4.5,null,"TLED",8]
["3' TLED lamp using existing fluorescent ballast",35,50000,"RL-3825","3' TLED lamp using existing fluorescent ballast from RL-3825",4.5,1.83,"TLED",8]
["3' TLED lamp using existing fluorescent ballast",35,50000,"RL-3521","3' TLED lamp using existing fluorescent ballast from RL-3521",4.5,1.3109999999999999,"TLED",8]
["3' TLED lamp using existing fluorescent ballast",35,50000,"RL-3539","3' TLED lamp using existing fluorescent ballast from RL-3539",4.5,1.31,"TLED",8]
["U-Bent TLED lamp (4' bent to fit 2') with new ballast",35,50000,"T8_U_bent","U-Bent TLED lamp (4' bent to fit 2') with new ballast from T8_U_bent",6,1.55,"TLED",8]
["U-Bent TLED lamp (4' bent to fit 2') with new ballast",35,50000,"T8_2ft","U-Bent TLED lamp (4' bent to fit 2') with new ballast from T8_2ft",6,1.55,"TLED",8]
["U-Bent TLED lamp (4' bent to fit 2') with new ballast",35,50000,"T8_3ft","U-Bent TLED lamp (4' bent to fit 2') with new ballast from T8_3ft",6,1.55,"TLED",8]
["U-Bent TLED lamp (4' bent to fit 2') with new ballast",35,50000,"T8_4ft","U-Bent TLED lamp (4' bent to fit 2') with new ballast from T8_4ft",6,1.55,"TLED",8]
["U-Bent TLED lamp (4' bent to fit 2') with new ballast",35,50000,"T8_5ft","U-Bent TLED lamp (4' bent to fit 2') with new ballast from T8_5ft",6,1.55,"TLED",8]
["U-Bent TLED lamp (4' bent to fit 2') with new ballast",35,50000,"T8_6ft","U-Bent TLED lamp (4' bent to fit 2') with new ballast from T8_6ft",6,1.55,"TLED",8]
["U-Bent TLED lamp (4' bent to fit 2') with new ballast",35,50000,"T8_8ft","U-Bent TLED lamp (4' bent to fit 2') with new ballast from T8_8ft",6,1.55,"TLED",8]
["U-Bent TLED lamp (4' bent to fit 2') with new ballast",35,50000,"T12_U_bent","U-Bent TLED lamp (4' bent to fit 2') with new ballast from T12_U_bent",6,1.52,"TLED",8]
["U-Bent TLED lamp (4' bent to fit 2') with new ballast",35,50000,"T12_2or3ft","U-Bent TLED lamp (4' bent to fit 2') with new ballast from T12_2or3ft",6,1.52,"TLED",8]
["U-Bent TLED lamp (4' bent to fit 2') with new ballast",35,50000,"T12_4ft",{"$f":"CONCATENATE(A137, \" from \", D137)","v":"U-Bent TLED lamp (4' bent to fit 2') with new ballast from T12_4ft"},6,1.52,"TLED",8]
["U-Bent TLED lamp (4' bent to fit 2') with new ballast",35,50000,"T12_5ft","U-Bent TLED lamp (4' bent to fit 2') with new ballast from T12_5ft",6,1.52,"TLED",8]
["U-Bent TLED lamp (4' bent to fit 2') with new ballast",35,50000,"T12_6ft","U-Bent TLED lamp (4' bent to fit 2') with new ballast from T12_6ft",6,1.52,"TLED",8]
["U-Bent TLED lamp (4' bent to fit 2') with new ballast",35,50000,"T12_8ft","U-Bent TLED lamp (4' bent to fit 2') with new ballast from T12_8ft",6,1.52,"TLED",8]
["U-Bent TLED lamp (4' bent to fit 2') with new ballast",35,50000,"T5_4ft","U-Bent TLED lamp (4' bent to fit 2') with new ballast from T5_4ft",6,1.46,"TLED",8]
["U-Bent TLED lamp (4' bent to fit 2') with new ballast",35,50000,"T5_3ft","U-Bent TLED lamp (4' bent to fit 2') with new ballast from T5_3ft",6,1.46,"TLED",8]
["U-Bent TLED lamp (4' bent to fit 2') with new ballast",35,50000,"T5_2ft","U-Bent TLED lamp (4' bent to fit 2') with new ballast from T5_2ft",6,null,"TLED",8]
["U-Bent TLED lamp (4' bent to fit 2') with new ballast",35,50000,"HID","U-Bent TLED lamp (4' bent to fit 2') with new ballast from HID",6,null,"TLED",8]
["U-Bent TLED lamp (4' bent to fit 2') with new ballast",35,50000,"INCAN","U-Bent TLED lamp (4' bent to fit 2') with new ballast from INCAN",6,null,"TLED",8]
["U-Bent TLED lamp (4' bent to fit 2') with new ballast",35,50000,"CFL","U-Bent TLED lamp (4' bent to fit 2') with new ballast from CFL",6,null,"TLED",8]
["U-Bent TLED lamp (4' bent to fit 2') with new ballast",35,50000,"SIGN","U-Bent TLED lamp (4' bent to fit 2') with new ballast from SIGN",6,null,"TLED",8]
["U-Bent TLED lamp (4' bent to fit 2') with new ballast",35,50000,"OTHER","U-Bent TLED lamp (4' bent to fit 2') with new ballast from OTHER",6,null,"TLED",8]
["U-Bent TLED lamp (4' bent to fit 2') with remote driver",35,50000,"T8_U_bent","U-Bent TLED lamp (4' bent to fit 2') with remote driver from T8_U_bent",6,1.55,"TLED",8]
["U-Bent TLED lamp (4' bent to fit 2') with remote driver",35,50000,"T8_2ft","U-Bent TLED lamp (4' bent to fit 2') with remote driver from T8_2ft",6,1.55,"TLED",8]
["U-Bent TLED lamp (4' bent to fit 2') with remote driver",35,50000,"T8_3ft","U-Bent TLED lamp (4' bent to fit 2') with remote driver from T8_3ft",6,1.55,"TLED",8]
["U-Bent TLED lamp (4' bent to fit 2') with remote driver",35,50000,"T8_4ft","U-Bent TLED lamp (4' bent to fit 2') with remote driver from T8_4ft",6,1.55,"TLED",8]
["U-Bent TLED lamp (4' bent to fit 2') with remote driver",35,50000,"T8_5ft","U-Bent TLED lamp (4' bent to fit 2') with remote driver from T8_5ft",6,1.55,"TLED",8]
["U-Bent TLED lamp (4' bent to fit 2') with remote driver",35,50000,"T8_6ft","U-Bent TLED lamp (4' bent to fit 2') with remote driver from T8_6ft",6,1.55,"TLED",8]
["U-Bent TLED lamp (4' bent to fit 2') with remote driver",35,50000,"T8_8ft","U-Bent TLED lamp (4' bent to fit 2') with remote driver from T8_8ft",6,1.55,"TLED",8]
["U-Bent TLED lamp (4' bent to fit 2') with remote driver",35,50000,"T12_U_bent","U-Bent TLED lamp (4' bent to fit 2') with remote driver from T12_U_bent",6,1.52,"TLED",8]
["U-Bent TLED lamp (4' bent to fit 2') with remote driver",35,50000,"T12_2or3ft","U-Bent TLED lamp (4' bent to fit 2') with remote driver from T12_2or3ft",6,1.52,"TLED",8]
["U-Bent TLED lamp (4' bent to fit 2') with remote driver",35,50000,"T12_4ft","U-Bent TLED lamp (4' bent to fit 2') with remote driver from T12_4ft",6,1.52,"TLED",8]
["U-Bent TLED lamp (4' bent to fit 2') with remote driver",35,50000,"T12_5ft","U-Bent TLED lamp (4' bent to fit 2') with remote driver from T12_5ft",6,1.52,"TLED",8]
["U-Bent TLED lamp (4' bent to fit 2') with remote driver",35,50000,"T12_6ft","U-Bent TLED lamp (4' bent to fit 2') with remote driver from T12_6ft",6,1.52,"TLED",8]
["U-Bent TLED lamp (4' bent to fit 2') with remote driver",35,50000,"T12_8ft","U-Bent TLED lamp (4' bent to fit 2') with remote driver from T12_8ft",6,1.52,"TLED",8]
["U-Bent TLED lamp (4' bent to fit 2') with remote driver",35,50000,"T5_4ft","U-Bent TLED lamp (4' bent to fit 2') with remote driver from T5_4ft",6,1.46,"TLED",8]
["U-Bent TLED lamp (4' bent to fit 2') with remote driver",35,50000,"T5_3ft","U-Bent TLED lamp (4' bent to fit 2') with remote driver from T5_3ft",6,1.46,"TLED",8]
["U-Bent TLED lamp (4' bent to fit 2') with remote driver",35,50000,"T5_2ft","U-Bent TLED lamp (4' bent to fit 2') with remote driver from T5_2ft",6,null,"TLED",8]
["U-Bent TLED lamp (4' bent to fit 2') with remote driver",35,50000,"HID","U-Bent TLED lamp (4' bent to fit 2') with remote driver from HID",6,null,"TLED",8]
["U-Bent TLED lamp (4' bent to fit 2') with remote driver",35,50000,"INCAN","U-Bent TLED lamp (4' bent to fit 2') with remote driver from INCAN",6,null,"TLED",8]
["U-Bent TLED lamp (4' bent to fit 2') with remote driver",35,50000,"CFL","U-Bent TLED lamp (4' bent to fit 2') with remote driver from CFL",6,null,"TLED",8]
["U-Bent TLED lamp (4' bent to fit 2') with remote driver",35,50000,"SIGN","U-Bent TLED lamp (4' bent to fit 2') with remote driver from SIGN",6,null,"TLED",8]
["U-Bent TLED lamp (4' bent to fit 2') with remote driver",35,50000,"OTHER","U-Bent TLED lamp (4' bent to fit 2') with remote driver from OTHER",6,null,"TLED",8]
["U-Bent TLED lamp (4' bent to fit 2') at line voltage",35,50000,"T8_U_bent","U-Bent TLED lamp (4' bent to fit 2') at line voltage from T8_U_bent",6,1.55,"TLED",8]
["U-Bent TLED lamp (4' bent to fit 2') at line voltage",35,50000,"T8_2ft","U-Bent TLED lamp (4' bent to fit 2') at line voltage from T8_2ft",6,1.55,"TLED",8]
["U-Bent TLED lamp (4' bent to fit 2') at line voltage",35,50000,"T8_3ft","U-Bent TLED lamp (4' bent to fit 2') at line voltage from T8_3ft",6,1.55,"TLED",8]
["U-Bent TLED lamp (4' bent to fit 2') at line voltage",35,50000,"T8_4ft","U-Bent TLED lamp (4' bent to fit 2') at line voltage from T8_4ft",6,1.55,"TLED",8]
["U-Bent TLED lamp (4' bent to fit 2') at line voltage",35,50000,"T8_5ft","U-Bent TLED lamp (4' bent to fit 2') at line voltage from T8_5ft",6,1.55,"TLED",8]
["U-Bent TLED lamp (4' bent to fit 2') at line voltage",35,50000,"T8_6ft","U-Bent TLED lamp (4' bent to fit 2') at line voltage from T8_6ft",6,1.55,"TLED",8]
["U-Bent TLED lamp (4' bent to fit 2') at line voltage",35,50000,"T8_8ft","U-Bent TLED lamp (4' bent to fit 2') at line voltage from T8_8ft",6,1.55,"TLED",8]
["U-Bent TLED lamp (4' bent to fit 2') at line voltage",35,50000,"T12_U_bent","U-Bent TLED lamp (4' bent to fit 2') at line voltage from T12_U_bent",6,1.52,"TLED",8]
["U-Bent TLED lamp (4' bent to fit 2') at line voltage",35,50000,"T12_2or3ft","U-Bent TLED lamp (4' bent to fit 2') at line voltage from T12_2or3ft",6,1.52,"TLED",8]
["U-Bent TLED lamp (4' bent to fit 2') at line voltage",35,50000,"T12_4ft","U-Bent TLED lamp (4' bent to fit 2') at line voltage from T12_4ft",6,1.52,"TLED",8]
["U-Bent TLED lamp (4' bent to fit 2') at line voltage",35,50000,"T12_5ft","U-Bent TLED lamp (4' bent to fit 2') at line voltage from T12_5ft",6,1.52,"TLED",8]
["U-Bent TLED lamp (4' bent to fit 2') at line voltage",35,50000,"T12_6ft","U-Bent TLED lamp (4' bent to fit 2') at line voltage from T12_6ft",6,1.52,"TLED",8]
["U-Bent TLED lamp (4' bent to fit 2') at line voltage",35,50000,"T12_8ft","U-Bent TLED lamp (4' bent to fit 2') at line voltage from T12_8ft",6,1.52,"TLED",8]
["U-Bent TLED lamp (4' bent to fit 2') at line voltage",35,50000,"T5_4ft","U-Bent TLED lamp (4' bent to fit 2') at line voltage from T5_4ft",6,1.46,"TLED",8]
["U-Bent TLED lamp (4' bent to fit 2') at line voltage",35,50000,"T5_3ft","U-Bent TLED lamp (4' bent to fit 2') at line voltage from T5_3ft",6,1.46,"TLED",8]
["U-Bent TLED lamp (4' bent to fit 2') at line voltage",35,50000,"T5_2ft","U-Bent TLED lamp (4' bent to fit 2') at line voltage from T5_2ft",6,null,"TLED",8]
["U-Bent TLED lamp (4' bent to fit 2') at line voltage",35,50000,"HID","U-Bent TLED lamp (4' bent to fit 2') at line voltage from HID",6,null,"TLED",8]
["U-Bent TLED lamp (4' bent to fit 2') at line voltage",35,50000,"INCAN","U-Bent TLED lamp (4' bent to fit 2') at line voltage from INCAN",6,null,"TLED",8]
["U-Bent TLED lamp (4' bent to fit 2') at line voltage",35,50000,"CFL","U-Bent TLED lamp (4' bent to fit 2') at line voltage from CFL",6,null,"TLED",8]
["U-Bent TLED lamp (4' bent to fit 2') at line voltage",35,50000,"SIGN","U-Bent TLED lamp (4' bent to fit 2') at line voltage from SIGN",6,null,"TLED",8]
["U-Bent TLED lamp (4' bent to fit 2') at line voltage",35,50000,"OTHER","U-Bent TLED lamp (4' bent to fit 2') at line voltage from OTHER",6,null,"TLED",8]
["U-Bent TLED lamp (4' to fit 2') using exist. fluorescent ballast",35,50000,"RL-U832","U-Bent TLED lamp (4' to fit 2') using exist. fluorescent ballast from RL-U832",6,1.55,"TLED",8]
["U-Bent TLED lamp (4' to fit 2') using exist. fluorescent ballast",35,50000,"RL-U831","U-Bent TLED lamp (4' to fit 2') using exist. fluorescent ballast from RL-U831",6,1.55,"TLED",8]
["5' TLED lamp with new fluorescent ballast",35,50000,"T8_2ft","5' TLED lamp with new fluorescent ballast from T8_2ft",7.5,null,"TLED",8]
["5' TLED lamp with new fluorescent ballast",35,50000,"T8_U_bent","5' TLED lamp with new fluorescent ballast from T8_U_bent",7.5,null,"TLED"]
["5' TLED lamp with new fluorescent ballast",35,50000,"T8_3ft","5' TLED lamp with new fluorescent ballast from T8_3ft",7.5,null,"TLED",8]
["5' TLED lamp with new fluorescent ballast",35,50000,"T8_4ft","5' TLED lamp with new fluorescent ballast from T8_4ft",7.5,null,"TLED",8]
["5' TLED lamp with new fluorescent ballast",35,50000,"T8_5ft","5' TLED lamp with new fluorescent ballast from T8_5ft",7.5,null,"TLED",8]
["5' TLED lamp with new fluorescent ballast",35,50000,"T8_6ft","5' TLED lamp with new fluorescent ballast from T8_6ft",7.5,null,"TLED",8]
["5' TLED lamp with new fluorescent ballast",35,50000,"T8_8ft","5' TLED lamp with new fluorescent ballast from T8_8ft",7.5,null,"TLED",8]
["5' TLED lamp with new fluorescent ballast",35,50000,"T12_U_bent","5' TLED lamp with new fluorescent ballast from T12_U_bent",7.5,null,"TLED",8]
["5' TLED lamp with new fluorescent ballast",35,50000,"T12_2or3ft","5' TLED lamp with new fluorescent ballast from T12_2or3ft",7.5,null,"TLED",8]
["5' TLED lamp with new fluorescent ballast",35,50000,"T12_4ft","5' TLED lamp with new fluorescent ballast from T12_4ft",7.5,null,"TLED",8]
["5' TLED lamp with new fluorescent ballast",35,50000,"T12_8ft","5' TLED lamp with new fluorescent ballast from T12_8ft",7.5,null,"TLED",8]
["5' TLED lamp with new fluorescent ballast",35,50000,"T12_5ft","5' TLED lamp with new fluorescent ballast from T12_5ft",7.5,null,"TLED",8]
["5' TLED lamp with new fluorescent ballast",35,50000,"T12_6ft","5' TLED lamp with new fluorescent ballast from T12_6ft",7.5,null,"TLED",8]
["5' TLED lamp with new fluorescent ballast",35,50000,"T5_4ft","5' TLED lamp with new fluorescent ballast from T5_4ft",7.5,null,"TLED",8]
["5' TLED lamp with new fluorescent ballast",35,50000,"T5_3ft","5' TLED lamp with new fluorescent ballast from T5_3ft",7.5,null,"TLED",8]
["5' TLED lamp with new fluorescent ballast",35,50000,"T5_2ft",{"$f":"CONCATENATE(A208, \" from \", D208)","v":"5' TLED lamp with new fluorescent ballast from T5_2ft"},7.5,null,"TLED",8]
["5' TLED lamp with new fluorescent ballast",35,50000,"HID","5' TLED lamp with new fluorescent ballast from HID",7.5,null,"TLED",8]
["5' TLED lamp with new fluorescent ballast",35,50000,"INCAN","5' TLED lamp with new fluorescent ballast from INCAN",7.5,null,"TLED",8]
["5' TLED lamp with new fluorescent ballast",35,50000,"CFL","5' TLED lamp with new fluorescent ballast from CFL",7.5,null,"TLED",8]
["5' TLED lamp with new fluorescent ballast",35,50000,"SIGN","5' TLED lamp with new fluorescent ballast from SIGN",7.5,null,"TLED",8]
["5' TLED lamp with new fluorescent ballast",35,50000,"OTHER","5' TLED lamp with new fluorescent ballast from OTHER",7.5,null,"TLED",8]
["5' TLED lamp with remote driver",35,50000,"T8_2ft","5' TLED lamp with remote driver from T8_2ft",7.5,4.2,"TLED",8]
["5' TLED lamp with remote driver",35,50000,"T8_U_bent","5' TLED lamp with remote driver from T8_U_bent",7.5,4.2,"TLED"]
["5' TLED lamp with remote driver",35,50000,"T8_3ft","5' TLED lamp with remote driver from T8_3ft",7.5,4.2,"TLED",8]
["5' TLED lamp with remote driver",35,50000,"T8_4ft","5' TLED lamp with remote driver from T8_4ft",7.5,4.2,"TLED",8]
["5' TLED lamp with remote driver",35,50000,"T8_5ft","5' TLED lamp with remote driver from T8_5ft",7.5,4.2,"TLED",8]
["5' TLED lamp with remote driver",35,50000,"T8_6ft","5' TLED lamp with remote driver from T8_6ft",7.5,4.2,"TLED",8]
["5' TLED lamp with remote driver",35,50000,"T8_8ft","5' TLED lamp with remote driver from T8_8ft",7.5,4.2,"TLED",8]
["5' TLED lamp with remote driver",35,50000,"T12_U_bent","5' TLED lamp with remote driver from T12_U_bent",7.5,2.2999999999999998,"TLED",8]
["5' TLED lamp with remote driver",35,50000,"T12_2or3ft","5' TLED lamp with remote driver from T12_2or3ft",7.5,2.2999999999999998,"TLED",8]
["5' TLED lamp with remote driver",35,50000,"T12_4ft","5' TLED lamp with remote driver from T12_4ft",7.5,2.2999999999999998,"TLED",8]
["5' TLED lamp with remote driver",35,50000,"T12_8ft","5' TLED lamp with remote driver from T12_8ft",7.5,2.2999999999999998,"TLED",8]
["5' TLED lamp with remote driver",35,50000,"T12_5ft","5' TLED lamp with remote driver from T12_5ft",7.5,2.2999999999999998,"TLED",8]
["5' TLED lamp with remote driver",35,50000,"T12_6ft","5' TLED lamp with remote driver from T12_6ft",7.5,2.2999999999999998,"TLED",8]
["5' TLED lamp with remote driver",35,50000,"T5_4ft","5' TLED lamp with remote driver from T5_4ft",7.5,1.74,"TLED",8]
["5' TLED lamp with remote driver",35,50000,"T5_3ft","5' TLED lamp with remote driver from T5_3ft",7.5,1.74,"TLED",8]
["5' TLED lamp with remote driver",35,50000,"T5_2ft","5' TLED lamp with remote driver from T5_2ft",7.5,null,"TLED",8]
["5' TLED lamp with remote driver",35,50000,"HID","5' TLED lamp with remote driver from HID",7.5,null,"TLED",8]
["5' TLED lamp with remote driver",35,50000,"INCAN","5' TLED lamp with remote driver from INCAN",7.5,null,"TLED",8]
["5' TLED lamp with remote driver",35,50000,"CFL","5' TLED lamp with remote driver from CFL",7.5,null,"TLED",8]
["5' TLED lamp with remote driver",35,50000,"SIGN","5' TLED lamp with remote driver from SIGN",7.5,null,"TLED",8]
["5' TLED lamp with remote driver",35,50000,"OTHER","5' TLED lamp with remote driver from OTHER",7.5,null,"TLED",8]
["5' TLED lamp at line voltage",35,50000,"T8_2ft","5' TLED lamp at line voltage from T8_2ft",7.5,4.2,"TLED",8]
["5' TLED lamp at line voltage",35,50000,"T8_U_bent",{"$f":"CONCATENATE(A236, \" from \", D236)","v":"5' TLED lamp at line voltage from T8_U_bent"},7.5,4.2,"TLED",8]
["5' TLED lamp at line voltage",35,50000,"T8_3ft",{"$f":"CONCATENATE(A237, \" from \", D237)","v":"5' TLED lamp at line voltage from T8_3ft"},7.5,4.2,"TLED",8]
["5' TLED lamp at line voltage",35,50000,"T8_4ft","5' TLED lamp at line voltage from T8_4ft",7.5,4.2,"TLED",8]
["5' TLED lamp at line voltage",35,50000,"T8_5ft","5' TLED lamp at line voltage from T8_5ft",7.5,4.2,"TLED",8]
["5' TLED lamp at line voltage",35,50000,"T8_6ft","5' TLED lamp at line voltage from T8_6ft",7.5,4.2,"TLED",8]
["5' TLED lamp at line voltage",35,50000,"T8_8ft","5' TLED lamp at line voltage from T8_8ft",7.5,4.2,"TLED",8]
["5' TLED lamp at line voltage",35,50000,"T12_U_bent","5' TLED lamp at line voltage from T12_U_bent",7.5,2.2999999999999998,"TLED",8]
["5' TLED lamp at line voltage",35,50000,"T12_2or3ft","5' TLED lamp at line voltage from T12_2or3ft",7.5,2.2999999999999998,"TLED",8]
["5' TLED lamp at line voltage",35,50000,"T12_4ft","5' TLED lamp at line voltage from T12_4ft",7.5,2.2999999999999998,"TLED",8]
["5' TLED lamp at line voltage",35,50000,"T12_8ft","5' TLED lamp at line voltage from T12_8ft",7.5,2.2999999999999998,"TLED",8]
["5' TLED lamp at line voltage",35,50000,"T12_5ft","5' TLED lamp at line voltage from T12_5ft",7.5,2.2999999999999998,"TLED",8]
["5' TLED lamp at line voltage",35,50000,"T12_6ft","5' TLED lamp at line voltage from T12_6ft",7.5,2.2999999999999998,"TLED",8]
["5' TLED lamp at line voltage",35,50000,"T5_4ft","5' TLED lamp at line voltage from T5_4ft",7.5,1.74,"TLED",8]
["5' TLED lamp at line voltage",35,50000,"T5_3ft","5' TLED lamp at line voltage from T5_3ft",7.5,1.74,"TLED",8]
["5' TLED lamp at line voltage",35,50000,"T5_2ft","5' TLED lamp at line voltage from T5_2ft",7.5,null,"TLED",9]
["5' TLED lamp at line voltage",35,50000,"HID","5' TLED lamp at line voltage from HID",7.5,null,"TLED",8]
["5' TLED lamp at line voltage",35,50000,"INCAN","5' TLED lamp at line voltage from INCAN",7.5,null,"TLED",8]
["5' TLED lamp at line voltage",35,50000,"CFL","5' TLED lamp at line voltage from CFL",7.5,null,"TLED",8]
["5' TLED lamp at line voltage",35,50000,"SIGN","5' TLED lamp at line voltage from SIGN",7.5,null,"TLED",8]
["5' TLED lamp at line voltage",35,50000,"OTHER","5' TLED lamp at line voltage from OTHER",7.5,null,"TLED",8]
["5' TLED lamp using existing fluorescent ballast",35,50000,"RL-5840","5' TLED lamp using existing fluorescent ballast from RL-5840",7.5,4.2,"TLED",8]
["6' TLED lamp with new fluorescent ballast",35,50000,"T8_2ft","6' TLED lamp with new fluorescent ballast from T8_2ft",9,4.2,"TLED",8]
["6' TLED lamp with new fluorescent ballast",35,50000,"T8_U_bent","6' TLED lamp with new fluorescent ballast from T8_U_bent",9,4.2,"TLED",8]
["6' TLED lamp with new fluorescent ballast",35,50000,"T8_3ft","6' TLED lamp with new fluorescent ballast from T8_3ft",9,4.2,"TLED",8]
["6' TLED lamp with new fluorescent ballast",35,50000,"T8_4ft","6' TLED lamp with new fluorescent ballast from T8_4ft",9,4.2,"TLED",8]
["6' TLED lamp with new fluorescent ballast",35,50000,"T8_5ft","6' TLED lamp with new fluorescent ballast from T8_5ft",9,4.2,"TLED",8]
["6' TLED lamp with new fluorescent ballast",35,50000,"T8_6ft","6' TLED lamp with new fluorescent ballast from T8_6ft",9,4.2,"TLED",8]
["6' TLED lamp with new fluorescent ballast",35,50000,"T8_8ft","6' TLED lamp with new fluorescent ballast from T8_8ft",9,4.2,"TLED",8]
["6' TLED lamp with new fluorescent ballast",35,50000,"T12_U_bent","6' TLED lamp with new fluorescent ballast from T12_U_bent",9,2.2999999999999998,"TLED",8]
["6' TLED lamp with new fluorescent ballast",35,50000,"T12_2or3ft","6' TLED lamp with new fluorescent ballast from T12_2or3ft",9,2.2999999999999998,"TLED",8]
["6' TLED lamp with new fluorescent ballast",35,50000,"T12_4ft","6' TLED lamp with new fluorescent ballast from T12_4ft",9,2.2999999999999998,"TLED",8]
["6' TLED lamp with new fluorescent ballast",35,50000,"T12_8ft","6' TLED lamp with new fluorescent ballast from T12_8ft",9,2.2999999999999998,"TLED",8]
["6' TLED lamp with new fluorescent ballast",35,50000,"T12_5ft","6' TLED lamp with new fluorescent ballast from T12_5ft",9,2.2999999999999998,"TLED",8]
["6' TLED lamp with new fluorescent ballast",35,50000,"T12_6ft","6' TLED lamp with new fluorescent ballast from T12_6ft",9,2.2999999999999998,"TLED",8]
["6' TLED lamp with new fluorescent ballast",35,50000,"T5_4ft","6' TLED lamp with new fluorescent ballast from T5_4ft",9,1.74,"TLED",8]
["6' TLED lamp with new fluorescent ballast",35,50000,"T5_3ft","6' TLED lamp with new fluorescent ballast from T5_3ft",9,1.74,"TLED",8]
["6' TLED lamp with new fluorescent ballast",35,50000,"T5_2ft","6' TLED lamp with new fluorescent ballast from T5_2ft",9,null,"TLED",9]
["6' TLED lamp with new fluorescent ballast",35,50000,"HID","6' TLED lamp with new fluorescent ballast from HID",9,null,"TLED",8]
["6' TLED lamp with new fluorescent ballast",35,50000,"INCAN","6' TLED lamp with new fluorescent ballast from INCAN",9,null,"TLED",8]
["6' TLED lamp with new fluorescent ballast",35,50000,"CFL","6' TLED lamp with new fluorescent ballast from CFL",9,null,"TLED",8]
["6' TLED lamp with new fluorescent ballast",35,50000,"SIGN","6' TLED lamp with new fluorescent ballast from SIGN",9,null,"TLED",8]
["6' TLED lamp with new fluorescent ballast",35,50000,"OTHER","6' TLED lamp with new fluorescent ballast from OTHER",9,null,"TLED",8]
["6' TLED lamp with remote driver",35,50000,"T8_2ft","6' TLED lamp with remote driver from T8_2ft",9,4.2,"TLED",8]
["6' TLED lamp with remote driver",35,50000,"T8_U_bent","6' TLED lamp with remote driver from T8_U_bent",9,4.2,"TLED",8]
["6' TLED lamp with remote driver",35,50000,"T8_3ft","6' TLED lamp with remote driver from T8_3ft",9,4.2,"TLED",8]
["6' TLED lamp with remote driver",35,50000,"T8_4ft","6' TLED lamp with remote driver from T8_4ft",9,4.2,"TLED",8]
["6' TLED lamp with remote driver",35,50000,"T8_5ft","6' TLED lamp with remote driver from T8_5ft",9,4.2,"TLED",8]
["6' TLED lamp with remote driver",35,50000,"T8_6ft","6' TLED lamp with remote driver from T8_6ft",9,4.2,"TLED",8]
["6' TLED lamp with remote driver",35,50000,"T8_8ft","6' TLED lamp with remote driver from T8_8ft",9,4.2,"TLED",8]
["6' TLED lamp with remote driver",35,50000,"T12_U_bent","6' TLED lamp with remote driver from T12_U_bent",9,2.2999999999999998,"TLED",8]
["6' TLED lamp with remote driver",35,50000,"T12_2or3ft","6' TLED lamp with remote driver from T12_2or3ft",9,2.2999999999999998,"TLED",8]
["6' TLED lamp with remote driver",35,50000,"T12_4ft","6' TLED lamp with remote driver from T12_4ft",9,2.2999999999999998,"TLED",8]
["6' TLED lamp with remote driver",35,50000,"T12_8ft","6' TLED lamp with remote driver from T12_8ft",9,2.2999999999999998,"TLED",8]
["6' TLED lamp with remote driver",35,50000,"T12_5ft","6' TLED lamp with remote driver from T12_5ft",9,2.2999999999999998,"TLED",8]
["6' TLED lamp with remote driver",35,50000,"T12_6ft","6' TLED lamp with remote driver from T12_6ft",9,2.2999999999999998,"TLED",8]
["6' TLED lamp with remote driver",35,50000,"T5_4ft","6' TLED lamp with remote driver from T5_4ft",9,1.74,"TLED",8]
["6' TLED lamp with remote driver",35,50000,"T5_3ft","6' TLED lamp with remote driver from T5_3ft",9,1.74,"TLED",8]
["6' TLED lamp with remote driver",35,50000,"T5_2ft","6' TLED lamp with remote driver from T5_2ft",9,null,"TLED",9]
["6' TLED lamp with remote driver",35,50000,"HID","6' TLED lamp with remote driver from HID",9,null,"TLED",8]
["6' TLED lamp with remote driver",35,50000,"INCAN","6' TLED lamp with remote driver from INCAN",9,null,"TLED",8]
["6' TLED lamp with remote driver",35,50000,"CFL","6' TLED lamp with remote driver from CFL",9,null,"TLED",8]
["6' TLED lamp with remote driver",35,50000,"SIGN","6' TLED lamp with remote driver from SIGN",9,null,"TLED",8]
["6' TLED lamp with remote driver",35,50000,"OTHER","6' TLED lamp with remote driver from OTHER",9,null,"TLED",8]
["6' TLED lamp at line voltage",35,50000,"T8_2ft","6' TLED lamp at line voltage from T8_2ft",9,4.2,"TLED",8]
["6' TLED lamp at line voltage",35,50000,"T8_U_bent",{"$f":"CONCATENATE(A300, \" from \", D300)","v":"6' TLED lamp at line voltage from T8_U_bent"},9,4.2,"TLED",8]
["6' TLED lamp at line voltage",35,50000,"T8_3ft",{"$f":"CONCATENATE(A301, \" from \", D301)","v":"6' TLED lamp at line voltage from T8_3ft"},9,4.2,"TLED",8]
["6' TLED lamp at line voltage",35,50000,"T8_4ft","6' TLED lamp at line voltage from T8_4ft",9,4.2,"TLED",8]
["6' TLED lamp at line voltage",35,50000,"T8_5ft","6' TLED lamp at line voltage from T8_5ft",9,4.2,"TLED",8]
["6' TLED lamp at line voltage",35,50000,"T8_6ft","6' TLED lamp at line voltage from T8_6ft",9,4.2,"TLED",8]
["6' TLED lamp at line voltage",35,50000,"T8_8ft","6' TLED lamp at line voltage from T8_8ft",9,4.2,"TLED",8]
["6' TLED lamp at line voltage",35,50000,"T12_U_bent","6' TLED lamp at line voltage from T12_U_bent",9,2.2999999999999998,"TLED",8]
["6' TLED lamp at line voltage",35,50000,"T12_2or3ft","6' TLED lamp at line voltage from T12_2or3ft",9,2.2999999999999998,"TLED",8]
["6' TLED lamp at line voltage",35,50000,"T12_4ft","6' TLED lamp at line voltage from T12_4ft",9,2.2999999999999998,"TLED",8]
["6' TLED lamp at line voltage",35,50000,"T12_8ft","6' TLED lamp at line voltage from T12_8ft",9,2.2999999999999998,"TLED",8]
["6' TLED lamp at line voltage",35,50000,"T12_5ft","6' TLED lamp at line voltage from T12_5ft",9,2.2999999999999998,"TLED",8]
["6' TLED lamp at line voltage",35,50000,"T12_6ft","6' TLED lamp at line voltage from T12_6ft",9,2.2999999999999998,"TLED",8]
["6' TLED lamp at line voltage",35,50000,"T5_4ft","6' TLED lamp at line voltage from T5_4ft",9,1.74,"TLED",8]
["6' TLED lamp at line voltage",35,50000,"T5_3ft","6' TLED lamp at line voltage from T5_3ft",9,1.74,"TLED",8]
["6' TLED lamp at line voltage",35,50000,"T5_2ft","6' TLED lamp at line voltage from T5_2ft",9,null,"TLED",8]
["6' TLED lamp at line voltage",35,50000,"HID","6' TLED lamp at line voltage from HID",9,null,"TLED",8]
["6' TLED lamp at line voltage",35,50000,"INCAN","6' TLED lamp at line voltage from INCAN",9,null,"TLED",8]
["6' TLED lamp at line voltage",35,50000,"CFL","6' TLED lamp at line voltage from CFL",9,null,"TLED",8]
["6' TLED lamp at line voltage",35,50000,"SIGN","6' TLED lamp at line voltage from SIGN",9,null,"TLED",8]
["6' TLED lamp at line voltage",35,50000,"OTHER","6' TLED lamp at line voltage from OTHER",9,null,"TLED",8]
["6' TLED lamp using existing fluorescent ballast",35,50000,"RL-6858","6' TLED lamp using existing fluorescent ballast from RL-6858",9,4.2,"TLED",8]
["8' TLED lamp with new fluorescent ballast",35,50000,"T8_2ft","8' TLED lamp with new fluorescent ballast from T8_2ft",12,4.2,"TLED",8]
["8' TLED lamp with new fluorescent ballast",35,50000,"T8_U_bent","8' TLED lamp with new fluorescent ballast from T8_U_bent",12,4.2,"TLED",8]
["8' TLED lamp with new fluorescent ballast",35,50000,"T8_3ft","8' TLED lamp with new fluorescent ballast from T8_3ft",12,4.2,"TLED",8]
["8' TLED lamp with new fluorescent ballast",35,50000,"T8_4ft","8' TLED lamp with new fluorescent ballast from T8_4ft",12,4.2,"TLED",8]
["8' TLED lamp with new fluorescent ballast",35,50000,"T8_5ft","8' TLED lamp with new fluorescent ballast from T8_5ft",12,4.2,"TLED",8]
["8' TLED lamp with new fluorescent ballast",35,50000,"T8_6ft","8' TLED lamp with new fluorescent ballast from T8_6ft",12,4.2,"TLED",8]
["8' TLED lamp with new fluorescent ballast",35,50000,"T8_8ft","8' TLED lamp with new fluorescent ballast from T8_8ft",12,4.2,"TLED",8]
["8' TLED lamp with new fluorescent ballast",35,50000,"T12_U_bent","8' TLED lamp with new fluorescent ballast from T12_U_bent",12,2.2999999999999998,"TLED",8]
["8' TLED lamp with new fluorescent ballast",35,50000,"T12_2or3ft","8' TLED lamp with new fluorescent ballast from T12_2or3ft",12,2.2999999999999998,"TLED",8]
["8' TLED lamp with new fluorescent ballast",35,50000,"T12_4ft","8' TLED lamp with new fluorescent ballast from T12_4ft",12,2.2999999999999998,"TLED",8]
["8' TLED lamp with new fluorescent ballast",35,50000,"T12_5ft","8' TLED lamp with new fluorescent ballast from T12_5ft",12,2.2999999999999998,"TLED",8]
["8' TLED lamp with new fluorescent ballast",35,50000,"T12_6ft","8' TLED lamp with new fluorescent ballast from T12_6ft",12,2.2999999999999998,"TLED",8]
["8' TLED lamp with new fluorescent ballast",35,50000,"T12_8ft","8' TLED lamp with new fluorescent ballast from T12_8ft",12,2.2999999999999998,"TLED",8]
["8' TLED lamp with new fluorescent ballast",35,50000,"T5_4ft","8' TLED lamp with new fluorescent ballast from T5_4ft",12,1.74,"TLED",8]
["8' TLED lamp with new fluorescent ballast",35,50000,"T5_3ft","8' TLED lamp with new fluorescent ballast from T5_3ft",12,1.74,"TLED",8]
["8' TLED lamp with new fluorescent ballast",35,50000,"T5_2ft","8' TLED lamp with new fluorescent ballast from T5_2ft",12,null,"TLED",8]
["8' TLED lamp with new fluorescent ballast",35,50000,"HID","8' TLED lamp with new fluorescent ballast from HID",12,null,"TLED",8]
["8' TLED lamp with new fluorescent ballast",35,50000,"INCAN","8' TLED lamp with new fluorescent ballast from INCAN",12,null,"TLED",8]
["8' TLED lamp with new fluorescent ballast",35,50000,"CFL","8' TLED lamp with new fluorescent ballast from CFL",12,null,"TLED",8]
["8' TLED lamp with new fluorescent ballast",35,50000,"SIGN","8' TLED lamp with new fluorescent ballast from SIGN",12,null,"TLED",8]
["8' TLED lamp with new fluorescent ballast",35,50000,"OTHER","8' TLED lamp with new fluorescent ballast from OTHER",12,null,"TLED",8]
["8' TLED lamp with remote driver",35,50000,"T8_2ft","8' TLED lamp with remote driver from T8_2ft",12,4.2,"TLED",8]
["8' TLED lamp with remote driver",35,50000,"T8_U_bent","8' TLED lamp with remote driver from T8_U_bent",12,4.2,"TLED"]
["8' TLED lamp with remote driver",35,50000,"T8_3ft","8' TLED lamp with remote driver from T8_3ft",12,4.2,"TLED",8]
["8' TLED lamp with remote driver",35,50000,"T8_4ft","8' TLED lamp with remote driver from T8_4ft",12,4.2,"TLED",8]
["8' TLED lamp with remote driver",35,50000,"T8_5ft","8' TLED lamp with remote driver from T8_5ft",12,4.2,"TLED",8]
["8' TLED lamp with remote driver",35,50000,"T8_6ft","8' TLED lamp with remote driver from T8_6ft",12,4.2,"TLED",8]
["8' TLED lamp with remote driver",35,50000,"T8_8ft","8' TLED lamp with remote driver from T8_8ft",12,4.2,"TLED",8]
["8' TLED lamp with remote driver",35,50000,"T12_U_bent","8' TLED lamp with remote driver from T12_U_bent",12,2.2999999999999998,"TLED",8]
["8' TLED lamp with remote driver",35,50000,"T12_2or3ft","8' TLED lamp with remote driver from T12_2or3ft",12,2.2999999999999998,"TLED",8]
["8' TLED lamp with remote driver",35,50000,"T12_4ft","8' TLED lamp with remote driver from T12_4ft",12,2.2999999999999998,"TLED",8]
["8' TLED lamp with remote driver",35,50000,"T12_5ft","8' TLED lamp with remote driver from T12_5ft",12,2.2999999999999998,"TLED",8]
["8' TLED lamp with remote driver",35,50000,"T12_6ft","8' TLED lamp with remote driver from T12_6ft",12,2.2999999999999998,"TLED",8]
["8' TLED lamp with remote driver",35,50000,"T12_8ft","8' TLED lamp with remote driver from T12_8ft",12,2.2999999999999998,"TLED",8]
["8' TLED lamp with remote driver",35,50000,"T5_4ft","8' TLED lamp with remote driver from T5_4ft",12,1.74,"TLED",8]
["8' TLED lamp with remote driver",35,50000,"T5_3ft","8' TLED lamp with remote driver from T5_3ft",12,1.74,"TLED",8]
["8' TLED lamp with remote driver",35,50000,"T5_2ft","8' TLED lamp with remote driver from T5_2ft",12,null,"TLED",8]
["8' TLED lamp with remote driver",35,50000,"HID","8' TLED lamp with remote driver from HID",12,null,"TLED",8]
["8' TLED lamp with remote driver",35,50000,"INCAN","8' TLED lamp with remote driver from INCAN",12,null,"TLED",8]
["8' TLED lamp with remote driver",35,50000,"CFL","8' TLED lamp with remote driver from CFL",12,null,"TLED",8]
["8' TLED lamp with remote driver",35,50000,"SIGN","8' TLED lamp with remote driver from SIGN",12,null,"TLED",8]
["8' TLED lamp with remote driver",35,50000,"OTHER","8' TLED lamp with remote driver from OTHER",12,null,"TLED",8]
["8' TLED lamp at line voltage",35,50000,"T8_2ft","8' TLED lamp at line voltage from T8_2ft",12,4.2,"TLED",8]
["8' TLED lamp at line voltage",35,50000,"T8_U_bent",{"$f":"CONCATENATE(A364, \" from \", D364)","v":"8' TLED lamp at line voltage from T8_U_bent"},12,4.2,"TLED",8]
["8' TLED lamp at line voltage",35,50000,"T8_3ft","8' TLED lamp at line voltage from T8_3ft",12,4.2,"TLED",8]
["8' TLED lamp at line voltage",35,50000,"T8_4ft","8' TLED lamp at line voltage from T8_4ft",12,4.2,"TLED",8]
["8' TLED lamp at line voltage",35,50000,"T8_5ft","8' TLED lamp at line voltage from T8_5ft",12,4.2,"TLED",8]
["8' TLED lamp at line voltage",35,50000,"T8_6ft","8' TLED lamp at line voltage from T8_6ft",12,4.2,"TLED",8]
["8' TLED lamp at line voltage",35,50000,"T8_8ft","8' TLED lamp at line voltage from T8_8ft",12,4.2,"TLED",8]
["8' TLED lamp at line voltage",35,50000,"T12_U_bent","8' TLED lamp at line voltage from T12_U_bent",12,2.2999999999999998,"TLED",8]
["8' TLED lamp at line voltage",35,50000,"T12_2or3ft","8' TLED lamp at line voltage from T12_2or3ft",12,2.2999999999999998,"TLED",8]
["8' TLED lamp at line voltage",35,50000,"T12_4ft","8' TLED lamp at line voltage from T12_4ft",12,2.2999999999999998,"TLED",8]
["8' TLED lamp at line voltage",35,50000,"T12_5ft","8' TLED lamp at line voltage from T12_5ft",12,2.2999999999999998,"TLED",8]
["8' TLED lamp at line voltage",35,50000,"T12_6ft","8' TLED lamp at line voltage from T12_6ft",12,2.2999999999999998,"TLED",8]
["8' TLED lamp at line voltage",35,50000,"T12_8ft","8' TLED lamp at line voltage from T12_8ft",12,2.2999999999999998,"TLED",8]
["8' TLED lamp at line voltage",35,50000,"T5_4ft","8' TLED lamp at line voltage from T5_4ft",12,1.74,"TLED",8]
["8' TLED lamp at line voltage",35,50000,"T5_3ft","8' TLED lamp at line voltage from T5_3ft",12,1.74,"TLED",8]
["8' TLED lamp at line voltage",35,50000,"T5_2ft","8' TLED lamp at line voltage from T5_2ft",12,null,"TLED",8]
["8' TLED lamp at line voltage",35,50000,"HID","8' TLED lamp at line voltage from HID",12,null,"TLED",8]
["8' TLED lamp at line voltage",35,50000,"INCAN","8' TLED lamp at line voltage from INCAN",12,null,"TLED",8]
["8' TLED lamp at line voltage",35,50000,"CFL","8' TLED lamp at line voltage from CFL",12,null,"TLED",8]
["8' TLED lamp at line voltage",35,50000,"SIGN","8' TLED lamp at line voltage from SIGN",12,null,"TLED",8]
["8' TLED lamp at line voltage",35,50000,"OTHER","8' TLED lamp at line voltage from OTHER",12,null,"TLED",8]
["8' TLED lamp using existing fluorescent ballast",35,50000,"RL-8859","8' TLED lamp using existing fluorescent ballast from RL-8859",12,4.2,"TLED",8]
["8' TLED lamp using existing fluorescent ballast",35,50000,"RL-8886","8' TLED lamp using existing fluorescent ballast from RL-8886",12,4.2,"TLED",8]
["4' TLED lamp with new fluorescent ballast",35,50000,"T8_2ft","4' TLED lamp with new fluorescent ballast from T8_2ft",6,1.55,"TLED",8]
["4' TLED lamp with new fluorescent ballast",35,50000,"T8_U_bent","4' TLED lamp with new fluorescent ballast from T8_U_bent",6,1.55,"TLED",8]
["4' TLED lamp with new fluorescent ballast",35,50000,"T8_3ft","4' TLED lamp with new fluorescent ballast from T8_3ft",6,1.55,"TLED",8]
["4' TLED lamp with new fluorescent ballast",35,50000,"T8_4ft","4' TLED lamp with new fluorescent ballast from T8_4ft",6,1.55,"TLED",8]
["4' TLED lamp with new fluorescent ballast",35,50000,"T8_5ft","4' TLED lamp with new fluorescent ballast from T8_5ft",6,1.55,"TLED",8]
["4' TLED lamp with new fluorescent ballast",35,50000,"T8_6ft","4' TLED lamp with new fluorescent ballast from T8_6ft",6,1.55,"TLED",8]
["4' TLED lamp with new fluorescent ballast",35,50000,"T8_8ft","4' TLED lamp with new fluorescent ballast from T8_8ft",6,1.55,"TLED",8]
["4' TLED lamp with new fluorescent ballast",35,50000,"T12_U_bent","4' TLED lamp with new fluorescent ballast from T12_U_bent",6,1.52,"TLED",8]
["4' TLED lamp with new fluorescent ballast",35,50000,"T12_2or3ft","4' TLED lamp with new fluorescent ballast from T12_2or3ft",6,1.52,"TLED",8]
["4' TLED lamp with new fluorescent ballast",35,50000,"T12_4ft","4' TLED lamp with new fluorescent ballast from T12_4ft",6,1.52,"TLED",8]
["4' TLED lamp with new fluorescent ballast",35,50000,"T12_5ft","4' TLED lamp with new fluorescent ballast from T12_5ft",6,1.52,"TLED",8]
["4' TLED lamp with new fluorescent ballast",35,50000,"T12_6ft","4' TLED lamp with new fluorescent ballast from T12_6ft",6,1.52,"TLED",8]
["4' TLED lamp with new fluorescent ballast",35,50000,"T12_8ft","4' TLED lamp with new fluorescent ballast from T12_8ft",6,1.52,"TLED",8]
["4' TLED lamp with new fluorescent ballast",35,50000,"T5_4ft","4' TLED lamp with new fluorescent ballast from T5_4ft",6,1.46,"TLED",8]
["4' TLED lamp with new fluorescent ballast",35,50000,"T5_3ft","4' TLED lamp with new fluorescent ballast from T5_3ft",6,1.46,"TLED",8]
["4' TLED lamp with new fluorescent ballast",35,50000,"T5_2ft","4' TLED lamp with new fluorescent ballast from T5_2ft",6,null,"TLED",8]
["4' TLED lamp with new fluorescent ballast",35,50000,"HID","4' TLED lamp with new fluorescent ballast from HID",6,null,"TLED",8]
["4' TLED lamp with new fluorescent ballast",35,50000,"INCAN",{"$f":"CONCATENATE(A403, \" from \", D403)","v":"4' TLED lamp with new fluorescent ballast from INCAN"},6,null,"TLED",8]
["4' TLED lamp with new fluorescent ballast",35,50000,"CFL","4' TLED lamp with new fluorescent ballast from CFL",6,null,"TLED",8]
["4' TLED lamp with new fluorescent ballast",35,50000,"SIGN","4' TLED lamp with new fluorescent ballast from SIGN",6,null,"TLED",8]
["4' TLED lamp with new fluorescent ballast",35,50000,"OTHER","4' TLED lamp with new fluorescent ballast from OTHER",6,null,"TLED",8]
["4' TLED lamp with remote driver",35,50000,"T8_2ft","4' TLED lamp with remote driver from T8_2ft",6,1.55,"TLED",8]
["4' TLED lamp with remote driver",35,50000,"T8_U_bent","4' TLED lamp with remote driver from T8_U_bent",6,1.55,"TLED",8]
["4' TLED lamp with remote driver",35,50000,"T8_3ft","4' TLED lamp with remote driver from T8_3ft",6,1.55,"TLED",8]
["4' TLED lamp with remote driver",35,50000,"T8_4ft","4' TLED lamp with remote driver from T8_4ft",6,1.55,"TLED",8]
["4' TLED lamp with remote driver",35,50000,"T8_5ft","4' TLED lamp with remote driver from T8_5ft",6,1.55,"TLED",8]
["4' TLED lamp with remote driver",35,50000,"T8_6ft","4' TLED lamp with remote driver from T8_6ft",6,1.55,"TLED",8]
["4' TLED lamp with remote driver",35,50000,"T8_8ft","4' TLED lamp with remote driver from T8_8ft",6,1.55,"TLED",8]
["4' TLED lamp with remote driver",35,50000,"T12_U_bent","4' TLED lamp with remote driver from T12_U_bent",6,1.52,"TLED",8]
["4' TLED lamp with remote driver",35,50000,"T12_2or3ft","4' TLED lamp with remote driver from T12_2or3ft",6,1.52,"TLED",8]
["4' TLED lamp with remote driver",35,50000,"T12_4ft","4' TLED lamp with remote driver from T12_4ft",6,1.52,"TLED",8]
["4' TLED lamp with remote driver",35,50000,"T12_5ft","4' TLED lamp with remote driver from T12_5ft",6,1.52,"TLED",8]
["4' TLED lamp with remote driver",35,50000,"T12_6ft","4' TLED lamp with remote driver from T12_6ft",6,1.52,"TLED",8]
["4' TLED lamp with remote driver",35,50000,"T12_8ft","4' TLED lamp with remote driver from T12_8ft",6,1.52,"TLED",8]
["4' TLED lamp with remote driver",35,50000,"T5_4ft","4' TLED lamp with remote driver from T5_4ft",6,1.46,"TLED",8]
["4' TLED lamp with remote driver",35,50000,"T5_3ft","4' TLED lamp with remote driver from T5_3ft",6,1.46,"TLED",8]
["4' TLED lamp with remote driver",35,50000,"T5_2ft","4' TLED lamp with remote driver from T5_2ft",6,null,"TLED",8]
["4' TLED lamp with remote driver",35,50000,"HID","4' TLED lamp with remote driver from HID",6,null,"TLED",8]
["4' TLED lamp with remote driver",35,50000,"INCAN","4' TLED lamp with remote driver from INCAN",6,null,"TLED",8]
["4' TLED lamp with remote driver",35,50000,"CFL","4' TLED lamp with remote driver from CFL",6,null,"TLED",8]
["4' TLED lamp with remote driver",35,50000,"SIGN","4' TLED lamp with remote driver from SIGN",6,null,"TLED",8]
["4' TLED lamp with remote driver",35,50000,"OTHER","4' TLED lamp with remote driver from OTHER",6,null,"TLED",8]
["4' TLED lamp using existing fluorescent ballast",35,50000,"RL-4832","4' TLED lamp using existing fluorescent ballast from RL-4832",6,1.55,"TLED",8]
["4' TLED lamp using existing fluorescent ballast",35,50000,"RL-4828","4' TLED lamp using existing fluorescent ballast from RL-4828",6,1.55,"TLED",8]
["4' TLED lamp using existing fluorescent ballast",35,50000,"RL-4825","4' TLED lamp using existing fluorescent ballast from RL-4825",6,1.55,"TLED",8]
["4' TLED lamp using existing fluorescent ballast",35,50000,"RL-4528","4' TLED lamp using existing fluorescent ballast from RL-4528",6,1.46,"TLED",8]
["4' TLED lamp using existing fluorescent ballast",35,50000,"RL-4554","4' TLED lamp using existing fluorescent ballast from RL-4554",6,1.46,"TLED",8]
["4' TLED lamp using existing fluorescent ballast",35,50000,"RL-4844","4' TLED lamp using existing fluorescent ballast from RL-4844",6,1.46,"TLED",8]
["4' TLED lamp at line voltage",35,50000,"T8_2ft","4' TLED lamp at line voltage from T8_2ft",6,1.55,"TLED",8]
["4' TLED lamp at line voltage",35,50000,"T8_U_bent","4' TLED lamp at line voltage from T8_U_bent",6,1.55,"TLED",8]
["4' TLED lamp at line voltage",35,50000,"T8_3ft","4' TLED lamp at line voltage from T8_3ft",6,1.55,"TLED",8]
["4' TLED lamp at line voltage",35,50000,"T8_4ft","4' TLED lamp at line voltage from T8_4ft",6,1.55,"TLED",8]
["4' TLED lamp at line voltage",35,50000,"T8_5ft","4' TLED lamp at line voltage from T8_5ft",6,1.55,"TLED",8]
["4' TLED lamp at line voltage",35,50000,"T8_6ft","4' TLED lamp at line voltage from T8_6ft",6,1.55,"TLED",8]
["4' TLED lamp at line voltage",35,50000,"T8_8ft","4' TLED lamp at line voltage from T8_8ft",6,1.55,"TLED",8]
["4' TLED lamp at line voltage",35,50000,"T12_U_bent","4' TLED lamp at line voltage from T12_U_bent",6,1.52,"TLED",8]
["4' TLED lamp at line voltage",35,50000,"T12_2or3ft","4' TLED lamp at line voltage from T12_2or3ft",6,1.52,"TLED",8]
["4' TLED lamp at line voltage",35,50000,"T12_4ft","4' TLED lamp at line voltage from T12_4ft",6,1.52,"TLED",8]
["4' TLED lamp at line voltage",35,50000,"T12_5ft","4' TLED lamp at line voltage from T12_5ft",6,1.52,"TLED",8]
["4' TLED lamp at line voltage",35,50000,"T12_6ft","4' TLED lamp at line voltage from T12_6ft",6,1.52,"TLED",8]
["4' TLED lamp at line voltage",35,50000,"T12_8ft","4' TLED lamp at line voltage from T12_8ft",6,1.52,"TLED",8]
["4' TLED lamp at line voltage",35,50000,"T5_4ft","4' TLED lamp at line voltage from T5_4ft",6,1.46,"TLED",8]
["4' TLED lamp at line voltage",35,50000,"T5_3ft","4' TLED lamp at line voltage from T5_3ft",6,1.46,"TLED",8]
["4' TLED lamp at line voltage",35,50000,"T5_2ft","4' TLED lamp at line voltage from T5_2ft",6,null,"TLED",8]
["4' TLED lamp at line voltage",35,50000,"HID","4' TLED lamp at line voltage from HID",6,null,"TLED",8]
["4' TLED lamp at line voltage",35,50000,"INCAN","4' TLED lamp at line voltage from INCAN",6,null,"TLED",8]
["4' TLED lamp at line voltage",35,50000,"CFL","4' TLED lamp at line voltage from CFL",6,null,"TLED",8]
["4' TLED lamp at line voltage",35,50000,"SIGN","4' TLED lamp at line voltage from SIGN",6,null,"TLED",8]
["4' TLED lamp at line voltage",35,50000,"OTHER","4' TLED lamp at line voltage from OTHER",6,null,"TLED",8]
["LED High-Bay or Low-Bay, 40-90W",35,56700,"T8_2ft",{"$f":"CONCATENATE(A455, \" from \", D455)","v":"LED High-Bay or Low-Bay, 40-90W from T8_2ft"},120,null,"LED fixture or kit",211]
["LED High-Bay or Low-Bay, 40-90W",35,56700,"T8_U_bent",{"$f":"CONCATENATE(A456, \" from \", D456)","v":"LED High-Bay or Low-Bay, 40-90W from T8_U_bent"},120,null,"LED fixture or kit",211]
["LED High-Bay or Low-Bay, 40-90W",35,56700,"T8_3ft","LED High-Bay or Low-Bay, 40-90W from T8_3ft",120,null,"LED fixture or kit",211]
["LED High-Bay or Low-Bay, 40-90W",35,56700,"T8_4ft","LED High-Bay or Low-Bay, 40-90W from T8_4ft",120,null,"LED fixture or kit",211]
["LED High-Bay or Low-Bay, 40-90W",35,56700,"T8_5ft","LED High-Bay or Low-Bay, 40-90W from T8_5ft",120,null,"LED fixture or kit",211]
["LED High-Bay or Low-Bay, 40-90W",35,56700,"T8_6ft","LED High-Bay or Low-Bay, 40-90W from T8_6ft",120,null,"LED fixture or kit",211]
["LED High-Bay or Low-Bay, 40-90W",35,56700,"T8_8ft","LED High-Bay or Low-Bay, 40-90W from T8_8ft",120,null,"LED fixture or kit",211]
["LED High-Bay or Low-Bay, 40-90W",35,56700,"T12_U_bent","LED High-Bay or Low-Bay, 40-90W from T12_U_bent",120,null,"LED fixture or kit",211]
["LED High-Bay or Low-Bay, 40-90W",35,56700,"T12_2or3ft","LED High-Bay or Low-Bay, 40-90W from T12_2or3ft",120,null,"LED fixture or kit",211]
["LED High-Bay or Low-Bay, 40-90W",35,56700,"T12_4ft","LED High-Bay or Low-Bay, 40-90W from T12_4ft",120,null,"LED fixture or kit",211]
["LED High-Bay or Low-Bay, 40-90W",35,56700,"T12_5ft","LED High-Bay or Low-Bay, 40-90W from T12_5ft",120,null,"LED fixture or kit",211]
["LED High-Bay or Low-Bay, 40-90W",35,56700,"T12_6ft","LED High-Bay or Low-Bay, 40-90W from T12_6ft",120,null,"LED fixture or kit",211]
["LED High-Bay or Low-Bay, 40-90W",35,56700,"T12_8ft","LED High-Bay or Low-Bay, 40-90W from T12_8ft",120,null,"LED fixture or kit",211]
["LED High-Bay or Low-Bay, 40-90W",35,56700,"T5_4ft","LED High-Bay or Low-Bay, 40-90W from T5_4ft",120,null,"LED fixture or kit",211]
["LED High-Bay or Low-Bay, 40-90W",35,56700,"T5_3ft","LED High-Bay or Low-Bay, 40-90W from T5_3ft",120,null,"LED fixture or kit",211]
["LED High-Bay or Low-Bay, 40-90W",35,56700,"T5_2ft","LED High-Bay or Low-Bay, 40-90W from T5_2ft",120,null,"LED fixture or kit",211]
["LED High-Bay or Low-Bay, 40-90W",35,56700,"HID","LED High-Bay or Low-Bay, 40-90W from HID",120,null,"LED fixture or kit",211]
["LED High-Bay or Low-Bay, 40-90W",35,56700,"INCAN","LED High-Bay or Low-Bay, 40-90W from INCAN",120,null,"LED fixture or kit",211]
["LED High-Bay or Low-Bay, 40-90W",35,56700,"CFL","LED High-Bay or Low-Bay, 40-90W from CFL",120,null,"LED fixture or kit",211]
["LED High-Bay or Low-Bay, 40-90W",35,56700,"SIGN","LED High-Bay or Low-Bay, 40-90W from SIGN",120,null,"LED fixture or kit",211]
["LED High-Bay or Low-Bay, 40-90W",35,56700,"OTHER","LED High-Bay or Low-Bay, 40-90W from OTHER",120,null,"LED fixture or kit",211]
["LED High-Bay or Low-Bay, 91-140W",50,56700,"T8_2ft",{"$f":"CONCATENATE(A476, \" from \", D476)","v":"LED High-Bay or Low-Bay, 91-140W from T8_2ft"},180,null,"LED fixture or kit",211]
["LED High-Bay or Low-Bay, 91-140W",50,56700,"T8_U_bent",{"$f":"CONCATENATE(A477, \" from \", D477)","v":"LED High-Bay or Low-Bay, 91-140W from T8_U_bent"},180,null,"LED fixture or kit",211]
["LED High-Bay or Low-Bay, 91-140W",50,56700,"T8_3ft","LED High-Bay or Low-Bay, 91-140W from T8_3ft",180,null,"LED fixture or kit",211]
["LED High-Bay or Low-Bay, 91-140W",50,56700,"T8_4ft","LED High-Bay or Low-Bay, 91-140W from T8_4ft",180,null,"LED fixture or kit",211]
["LED High-Bay or Low-Bay, 91-140W",50,56700,"T8_5ft","LED High-Bay or Low-Bay, 91-140W from T8_5ft",180,null,"LED fixture or kit",211]
["LED High-Bay or Low-Bay, 91-140W",50,56700,"T8_6ft","LED High-Bay or Low-Bay, 91-140W from T8_6ft",180,null,"LED fixture or kit",211]
["LED High-Bay or Low-Bay, 91-140W",50,56700,"T8_8ft","LED High-Bay or Low-Bay, 91-140W from T8_8ft",180,null,"LED fixture or kit",211]
["LED High-Bay or Low-Bay, 91-140W",50,56700,"T12_U_bent","LED High-Bay or Low-Bay, 91-140W from T12_U_bent",180,null,"LED fixture or kit",211]
["LED High-Bay or Low-Bay, 91-140W",50,56700,"T12_2or3ft","LED High-Bay or Low-Bay, 91-140W from T12_2or3ft",180,null,"LED fixture or kit",211]
["LED High-Bay or Low-Bay, 91-140W",50,56700,"T12_4ft","LED High-Bay or Low-Bay, 91-140W from T12_4ft",180,null,"LED fixture or kit",211]
["LED High-Bay or Low-Bay, 91-140W",50,56700,"T12_5ft","LED High-Bay or Low-Bay, 91-140W from T12_5ft",180,null,"LED fixture or kit",211]
["LED High-Bay or Low-Bay, 91-140W",50,56700,"T12_6ft","LED High-Bay or Low-Bay, 91-140W from T12_6ft",180,null,"LED fixture or kit",211]
["LED High-Bay or Low-Bay, 91-140W",50,56700,"T12_8ft","LED High-Bay or Low-Bay, 91-140W from T12_8ft",180,null,"LED fixture or kit",211]
["LED High-Bay or Low-Bay, 91-140W",50,56700,"T5_4ft","LED High-Bay or Low-Bay, 91-140W from T5_4ft",180,null,"LED fixture or kit",211]
["LED High-Bay or Low-Bay, 91-140W",50,56700,"T5_3ft","LED High-Bay or Low-Bay, 91-140W from T5_3ft",180,null,"LED fixture or kit",211]
["LED High-Bay or Low-Bay, 91-140W",50,56700,"T5_2ft","LED High-Bay or Low-Bay, 91-140W from T5_2ft",180,null,"LED fixture or kit",211]
["LED High-Bay or Low-Bay, 91-140W",50,56700,"HID","LED High-Bay or Low-Bay, 91-140W from HID",180,null,"LED fixture or kit",211]
["LED High-Bay or Low-Bay, 91-140W",50,56700,"INCAN","LED High-Bay or Low-Bay, 91-140W from INCAN",180,null,"LED fixture or kit",211]
["LED High-Bay or Low-Bay, 91-140W",50,56700,"CFL","LED High-Bay or Low-Bay, 91-140W from CFL",180,null,"LED fixture or kit",211]
["LED High-Bay or Low-Bay, 91-140W",50,56700,"SIGN","LED High-Bay or Low-Bay, 91-140W from SIGN",180,null,"LED fixture or kit",211]
["LED High-Bay or Low-Bay, 91-140W",50,56700,"OTHER","LED High-Bay or Low-Bay, 91-140W from OTHER",180,null,"LED fixture or kit",211]
["LED High-Bay or Low-Bay, 141-299W",60,56700,"T8_2ft",{"$f":"CONCATENATE(A497, \" from \", D497)","v":"LED High-Bay or Low-Bay, 141-299W from T8_2ft"},210,null,"LED fixture or kit",211]
["LED High-Bay or Low-Bay, 141-299W",60,56700,"T8_U_bent",{"$f":"CONCATENATE(A498, \" from \", D498)","v":"LED High-Bay or Low-Bay, 141-299W from T8_U_bent"},210,null,"LED fixture or kit",211]
["LED High-Bay or Low-Bay, 141-299W",60,56700,"T8_3ft","LED High-Bay or Low-Bay, 141-299W from T8_3ft",210,null,"LED fixture or kit",211]
["LED High-Bay or Low-Bay, 141-299W",60,56700,"T8_4ft","LED High-Bay or Low-Bay, 141-299W from T8_4ft",210,null,"LED fixture or kit",211]
["LED High-Bay or Low-Bay, 141-299W",60,56700,"T8_5ft","LED High-Bay or Low-Bay, 141-299W from T8_5ft",210,null,"LED fixture or kit",211]
["LED High-Bay or Low-Bay, 141-299W",60,56700,"T8_6ft","LED High-Bay or Low-Bay, 141-299W from T8_6ft",210,null,"LED fixture or kit",211]
["LED High-Bay or Low-Bay, 141-299W",60,56700,"T8_8ft","LED High-Bay or Low-Bay, 141-299W from T8_8ft",210,null,"LED fixture or kit",211]
["LED High-Bay or Low-Bay, 141-299W",60,56700,"T12_U_bent","LED High-Bay or Low-Bay, 141-299W from T12_U_bent",210,null,"LED fixture or kit",211]
["LED High-Bay or Low-Bay, 141-299W",60,56700,"T12_2or3ft","LED High-Bay or Low-Bay, 141-299W from T12_2or3ft",210,null,"LED fixture or kit",211]
["LED High-Bay or Low-Bay, 141-299W",60,56700,"T12_4ft","LED High-Bay or Low-Bay, 141-299W from T12_4ft",210,null,"LED fixture or kit",211]
["LED High-Bay or Low-Bay, 141-299W",60,56700,"T12_5ft","LED High-Bay or Low-Bay, 141-299W from T12_5ft",210,null,"LED fixture or kit",211]
["LED High-Bay or Low-Bay, 141-299W",60,56700,"T12_6ft","LED High-Bay or Low-Bay, 141-299W from T12_6ft",210,null,"LED fixture or kit",211]
["LED High-Bay or Low-Bay, 141-299W",60,56700,"T12_8ft","LED High-Bay or Low-Bay, 141-299W from T12_8ft",210,null,"LED fixture or kit",211]
["LED High-Bay or Low-Bay, 141-299W",60,56700,"T5_4ft","LED High-Bay or Low-Bay, 141-299W from T5_4ft",210,null,"LED fixture or kit",211]
["LED High-Bay or Low-Bay, 141-299W",60,56700,"T5_3ft","LED High-Bay or Low-Bay, 141-299W from T5_3ft",210,null,"LED fixture or kit",211]
["LED High-Bay or Low-Bay, 141-299W",60,56700,"HID","LED High-Bay or Low-Bay, 141-299W from HID",210,null,"LED fixture or kit",211]
["LED High-Bay or Low-Bay, 141-299W",60,56700,"INCAN","LED High-Bay or Low-Bay, 141-299W from INCAN",210,null,"LED fixture or kit",211]
["LED High-Bay or Low-Bay, 141-299W",60,56700,"CFL","LED High-Bay or Low-Bay, 141-299W from CFL",210,null,"LED fixture or kit",211]
["LED High-Bay or Low-Bay, 141-299W",60,56700,"SIGN","LED High-Bay or Low-Bay, 141-299W from SIGN",210,null,"LED fixture or kit",211]
["LED High-Bay or Low-Bay, 141-299W",60,56700,"OTHER","LED High-Bay or Low-Bay, 141-299W from OTHER",210,null,"LED fixture or kit",211]
["LED High-Bay or Low-Bay, 300W or greater",80,56700,"T8_2ft",{"$f":"CONCATENATE(A517, \" from \", D517)","v":"LED High-Bay or Low-Bay, 300W or greater from T8_2ft"},300,null,"LED fixture or kit",211]
["LED High-Bay or Low-Bay, 300W or greater",80,56700,"T8_U_bent",{"$f":"CONCATENATE(A518, \" from \", D518)","v":"LED High-Bay or Low-Bay, 300W or greater from T8_U_bent"},300,null,"LED fixture or kit",211]
["LED High-Bay or Low-Bay, 300W or greater",80,56700,"T8_3ft","LED High-Bay or Low-Bay, 300W or greater from T8_3ft",300,null,"LED fixture or kit",211]
["LED High-Bay or Low-Bay, 300W or greater",80,56700,"T8_4ft","LED High-Bay or Low-Bay, 300W or greater from T8_4ft",300,null,"LED fixture or kit",211]
["LED High-Bay or Low-Bay, 300W or greater",80,56700,"T8_5ft","LED High-Bay or Low-Bay, 300W or greater from T8_5ft",300,null,"LED fixture or kit",211]
["LED High-Bay or Low-Bay, 300W or greater",80,56700,"T8_6ft","LED High-Bay or Low-Bay, 300W or greater from T8_6ft",300,null,"LED fixture or kit",211]
["LED High-Bay or Low-Bay, 300W or greater",80,56700,"T8_8ft","LED High-Bay or Low-Bay, 300W or greater from T8_8ft",300,null,"LED fixture or kit",211]
["LED High-Bay or Low-Bay, 300W or greater",80,56700,"T12_U_bent","LED High-Bay or Low-Bay, 300W or greater from T12_U_bent",300,null,"LED fixture or kit",211]
["LED High-Bay or Low-Bay, 300W or greater",80,56700,"T12_2or3ft","LED High-Bay or Low-Bay, 300W or greater from T12_2or3ft",300,null,"LED fixture or kit",211]
["LED High-Bay or Low-Bay, 300W or greater",80,56700,"T12_4ft","LED High-Bay or Low-Bay, 300W or greater from T12_4ft",300,null,"LED fixture or kit",211]
["LED High-Bay or Low-Bay, 300W or greater",80,56700,"T12_5ft","LED High-Bay or Low-Bay, 300W or greater from T12_5ft",300,null,"LED fixture or kit",211]
["LED High-Bay or Low-Bay, 300W or greater",80,56700,"T12_6ft","LED High-Bay or Low-Bay, 300W or greater from T12_6ft",300,null,"LED fixture or kit",211]
["LED High-Bay or Low-Bay, 300W or greater",80,56700,"T12_8ft","LED High-Bay or Low-Bay, 300W or greater from T12_8ft",300,null,"LED fixture or kit",211]
["LED High-Bay or Low-Bay, 300W or greater",80,56700,"T5_4ft","LED High-Bay or Low-Bay, 300W or greater from T5_4ft",300,null,"LED fixture or kit",211]
["LED High-Bay or Low-Bay, 300W or greater",80,56700,"T5_3ft","LED High-Bay or Low-Bay, 300W or greater from T5_3ft",300,null,"LED fixture or kit",211]
["LED High-Bay or Low-Bay, 300W or greater",80,56700,"T5_2ft","LED High-Bay or Low-Bay, 300W or greater from T5_2ft",300,null,"LED fixture or kit",211]
["LED High-Bay or Low-Bay, 300W or greater",80,56700,"HID","LED High-Bay or Low-Bay, 300W or greater from HID",300,null,"LED fixture or kit",211]
["LED High-Bay or Low-Bay, 300W or greater",80,56700,"INCAN","LED High-Bay or Low-Bay, 300W or greater from INCAN",300,null,"LED fixture or kit",211]
["LED High-Bay or Low-Bay, 300W or greater",80,56700,"CFL","LED High-Bay or Low-Bay, 300W or greater from CFL",300,null,"LED fixture or kit",211]
["LED High-Bay or Low-Bay, 300W or greater",80,56700,"SIGN","LED High-Bay or Low-Bay, 300W or greater from SIGN",300,null,"LED fixture or kit",211]
["LED High-Bay or Low-Bay, 300W or greater",80,56700,"OTHER","LED High-Bay or Low-Bay, 300W or greater from OTHER",300,null,"LED fixture or kit",211]
["Interior Recessed Canister Downlight LED",50,25000,"T8_2ft","Interior Recessed Canister Downlight LED from T8_2ft",12,null,"LED fixture or kit"]
["Interior Recessed Canister Downlight LED",50,25000,"T8_U_bent","Interior Recessed Canister Downlight LED from T8_U_bent",12,null,"LED fixture or kit"]
["Interior Recessed Canister Downlight LED",50,25000,"T8_3ft","Interior Recessed Canister Downlight LED from T8_3ft",12,null,"LED fixture or kit"]
["Interior Recessed Canister Downlight LED",50,25000,"T8_4ft","Interior Recessed Canister Downlight LED from T8_4ft",12,null,"LED fixture or kit"]
["Interior Recessed Canister Downlight LED",50,25000,"T8_5ft","Interior Recessed Canister Downlight LED from T8_5ft",12,null,"LED fixture or kit"]
["Interior Recessed Canister Downlight LED",50,25000,"T8_6ft","Interior Recessed Canister Downlight LED from T8_6ft",12,null,"LED fixture or kit"]
["Interior Recessed Canister Downlight LED",50,25000,"T8_8ft","Interior Recessed Canister Downlight LED from T8_8ft",12,null,"LED fixture or kit"]
["Interior Recessed Canister Downlight LED",50,25000,"T12_U_bent","Interior Recessed Canister Downlight LED from T12_U_bent",12,null,"LED fixture or kit"]
["Interior Recessed Canister Downlight LED",50,25000,"T12_2or3ft","Interior Recessed Canister Downlight LED from T12_2or3ft",12,null,"LED fixture or kit"]
["Interior Recessed Canister Downlight LED",50,25000,"T12_4ft","Interior Recessed Canister Downlight LED from T12_4ft",12,null,"LED fixture or kit"]
["Interior Recessed Canister Downlight LED",50,25000,"T12_5ft","Interior Recessed Canister Downlight LED from T12_5ft",12,null,"LED fixture or kit"]
["Interior Recessed Canister Downlight LED",50,25000,"T12_6ft","Interior Recessed Canister Downlight LED from T12_6ft",12,null,"LED fixture or kit"]
["Interior Recessed Canister Downlight LED",50,25000,"T12_8ft","Interior Recessed Canister Downlight LED from T12_8ft",12,null,"LED fixture or kit"]
["Interior Recessed Canister Downlight LED",50,25000,"T5_4ft","Interior Recessed Canister Downlight LED from T5_4ft",12,null,"LED fixture or kit"]
["Interior Recessed Canister Downlight LED",50,25000,"T5_3ft","Interior Recessed Canister Downlight LED from T5_3ft",12,null,"LED fixture or kit"]
["Interior Recessed Canister Downlight LED",50,25000,"T5_2ft","Interior Recessed Canister Downlight LED from T5_2ft",12,null,"LED fixture or kit"]
["Interior Recessed Canister Downlight LED",50,25000,"HID","Interior Recessed Canister Downlight LED from HID",12,null,"LED fixture or kit"]
["Interior Recessed Canister Downlight LED",50,25000,"CFL","Interior Recessed Canister Downlight LED from CFL",12,null,"LED fixture or kit",49]
["Interior Recessed Canister Downlight LED",50,25000,"OTHER","Interior Recessed Canister Downlight LED from OTHER",12,null,"LED fixture or kit"]
["LED fixture or kit, 25W or less",35,55871,"T8_2ft",{"$f":"CONCATENATE(A557, \" from \", D557)","v":"LED fixture or kit, 25W or less from T8_2ft"},30,null,"LED fixture or kit",64]
["LED fixture or kit, 25W or less",35,55871,"T8_U_bent",{"$f":"CONCATENATE(A558, \" from \", D558)","v":"LED fixture or kit, 25W or less from T8_U_bent"},30,null,"LED fixture or kit",64]
["LED fixture or kit, 25W or less",35,55871,"T8_3ft","LED fixture or kit, 25W or less from T8_3ft",30,null,"LED fixture or kit",64]
["LED fixture or kit, 25W or less",35,55871,"T8_4ft","LED fixture or kit, 25W or less from T8_4ft",30,null,"LED fixture or kit",64]
["LED fixture or kit, 25W or less",35,55871,"T8_5ft","LED fixture or kit, 25W or less from T8_5ft",30,null,"LED fixture or kit",64]
["LED fixture or kit, 25W or less",35,55871,"T8_6ft","LED fixture or kit, 25W or less from T8_6ft",30,null,"LED fixture or kit",64]
["LED fixture or kit, 25W or less",35,55871,"T8_8ft","LED fixture or kit, 25W or less from T8_8ft",30,null,"LED fixture or kit",64]
["LED fixture or kit, 25W or less",35,55871,"T12_U_bent","LED fixture or kit, 25W or less from T12_U_bent",30,null,"LED fixture or kit",64]
["LED fixture or kit, 25W or less",35,55871,"T12_2or3ft","LED fixture or kit, 25W or less from T12_2or3ft",30,null,"LED fixture or kit",64]
["LED fixture or kit, 25W or less",35,55871,"T12_4ft","LED fixture or kit, 25W or less from T12_4ft",30,null,"LED fixture or kit",64]
["LED fixture or kit, 25W or less",35,55871,"T12_5ft","LED fixture or kit, 25W or less from T12_5ft",30,null,"LED fixture or kit",64]
["LED fixture or kit, 25W or less",35,55871,"T12_6ft","LED fixture or kit, 25W or less from T12_6ft",30,null,"LED fixture or kit",64]
["LED fixture or kit, 25W or less",35,55871,"T12_8ft","LED fixture or kit, 25W or less from T12_8ft",30,null,"LED fixture or kit",64]
["LED fixture or kit, 25W or less",35,55871,"T5_4ft","LED fixture or kit, 25W or less from T5_4ft",30,null,"LED fixture or kit",64]
["LED fixture or kit, 25W or less",35,55871,"T5_3ft","LED fixture or kit, 25W or less from T5_3ft",30,null,"LED fixture or kit",64]
["LED fixture or kit, 25W or less",35,55871,"T5_2ft","LED fixture or kit, 25W or less from T5_2ft",30,null,"LED fixture or kit",64]
["LED fixture or kit, 25W or less",35,55871,"HID","LED fixture or kit, 25W or less from HID",30,null,"LED fixture or kit",64]
["LED fixture or kit, 25W or less",35,55871,"INCAN","LED fixture or kit, 25W or less from INCAN",30,null,"LED fixture or kit",64]
["LED fixture or kit, 25W or less",35,55871,"CFL","LED fixture or kit, 25W or less from CFL",30,null,"LED fixture or kit",64]
["LED fixture or kit, 25W or less",35,55871,"SIGN","LED fixture or kit, 25W or less from SIGN",30,null,"LED fixture or kit",64]
["LED fixture or kit, 25W or less",35,55871,"OTHER","LED fixture or kit, 25W or less from OTHER",30,null,"LED fixture or kit",64]
["LED fixture or kit, 26-39W",35,55871,"T8_2ft",{"$f":"CONCATENATE(A578, \" from \", D578)","v":"LED fixture or kit, 26-39W from T8_2ft"},45,null,"LED fixture or kit",64]
["LED fixture or kit, 26-39W",35,55871,"T8_U_bent",{"$f":"CONCATENATE(A579, \" from \", D579)","v":"LED fixture or kit, 26-39W from T8_U_bent"},45,null,"LED fixture or kit",64]
["LED fixture or kit, 26-39W",35,55871,"T8_3ft","LED fixture or kit, 26-39W from T8_3ft",45,null,"LED fixture or kit",64]
["LED fixture or kit, 26-39W",35,55871,"T8_4ft","LED fixture or kit, 26-39W from T8_4ft",45,null,"LED fixture or kit",64]
["LED fixture or kit, 26-39W",35,55871,"T8_5ft","LED fixture or kit, 26-39W from T8_5ft",45,null,"LED fixture or kit",64]
["LED fixture or kit, 26-39W",35,55871,"T8_6ft","LED fixture or kit, 26-39W from T8_6ft",45,null,"LED fixture or kit",64]
["LED fixture or kit, 26-39W",35,55871,"T8_8ft","LED fixture or kit, 26-39W from T8_8ft",45,null,"LED fixture or kit",64]
["LED fixture or kit, 26-39W",35,55871,"T12_U_bent","LED fixture or kit, 26-39W from T12_U_bent",45,null,"LED fixture or kit",64]
["LED fixture or kit, 26-39W",35,55871,"T12_2or3ft","LED fixture or kit, 26-39W from T12_2or3ft",45,null,"LED fixture or kit",64]
["LED fixture or kit, 26-39W",35,55871,"T12_4ft","LED fixture or kit, 26-39W from T12_4ft",45,null,"LED fixture or kit",64]
["LED fixture or kit, 26-39W",35,55871,"T12_5ft","LED fixture or kit, 26-39W from T12_5ft",45,null,"LED fixture or kit",64]
["LED fixture or kit, 26-39W",35,55871,"T12_6ft","LED fixture or kit, 26-39W from T12_6ft",45,null,"LED fixture or kit",64]
["LED fixture or kit, 26-39W",35,55871,"T12_8ft","LED fixture or kit, 26-39W from T12_8ft",45,null,"LED fixture or kit",64]
["LED fixture or kit, 26-39W",35,55871,"T5_4ft","LED fixture or kit, 26-39W from T5_4ft",45,null,"LED fixture or kit",64]
["LED fixture or kit, 26-39W",35,55871,"T5_3ft","LED fixture or kit, 26-39W from T5_3ft",45,null,"LED fixture or kit",64]
["LED fixture or kit, 26-39W",35,55871,"T5_2ft","LED fixture or kit, 26-39W from T5_2ft",45,null,"LED fixture or kit",64]
["LED fixture or kit, 26-39W",35,55871,"HID","LED fixture or kit, 26-39W from HID",45,null,"LED fixture or kit",64]
["LED fixture or kit, 26-39W",35,55871,"INCAN","LED fixture or kit, 26-39W from INCAN",45,null,"LED fixture or kit",64]
["LED fixture or kit, 26-39W",35,55871,"CFL","LED fixture or kit, 26-39W from CFL",45,null,"LED fixture or kit",64]
["LED fixture or kit, 26-39W",35,55871,"SIGN","LED fixture or kit, 26-39W from SIGN",45,null,"LED fixture or kit",64]
["LED fixture or kit, 26-39W",35,55871,"OTHER","LED fixture or kit, 26-39W from OTHER",45,null,"LED fixture or kit",64]
["LED fixture or kit, 40-57W",45,55871,"T8_2ft",{"$f":"CONCATENATE(A599, \" from \", D599)","v":"LED fixture or kit, 40-57W from T8_2ft"},50,null,"LED fixture or kit",64]
["LED fixture or kit, 40-57W",45,55871,"T8_U_bent",{"$f":"CONCATENATE(A600, \" from \", D600)","v":"LED fixture or kit, 40-57W from T8_U_bent"},50,null,"LED fixture or kit",64]
["LED fixture or kit, 40-57W",45,55871,"T8_3ft","LED fixture or kit, 40-57W from T8_3ft",50,null,"LED fixture or kit",64]
["LED fixture or kit, 40-57W",45,55871,"T8_4ft","LED fixture or kit, 40-57W from T8_4ft",50,null,"LED fixture or kit",64]
["LED fixture or kit, 40-57W",45,55871,"T8_5ft","LED fixture or kit, 40-57W from T8_5ft",50,null,"LED fixture or kit",64]
["LED fixture or kit, 40-57W",45,55871,"T8_6ft","LED fixture or kit, 40-57W from T8_6ft",50,null,"LED fixture or kit",64]
["LED fixture or kit, 40-57W",45,55871,"T8_8ft","LED fixture or kit, 40-57W from T8_8ft",50,null,"LED fixture or kit",64]
["LED fixture or kit, 40-57W",45,55871,"T12_U_bent","LED fixture or kit, 40-57W from T12_U_bent",50,null,"LED fixture or kit",64]
["LED fixture or kit, 40-57W",45,55871,"T12_2or3ft","LED fixture or kit, 40-57W from T12_2or3ft",50,null,"LED fixture or kit",64]
["LED fixture or kit, 40-57W",45,55871,"T12_4ft","LED fixture or kit, 40-57W from T12_4ft",50,null,"LED fixture or kit",64]
["LED fixture or kit, 40-57W",45,55871,"T12_5ft","LED fixture or kit, 40-57W from T12_5ft",50,null,"LED fixture or kit",64]
["LED fixture or kit, 40-57W",45,55871,"T12_6ft","LED fixture or kit, 40-57W from T12_6ft",50,null,"LED fixture or kit",64]
["LED fixture or kit, 40-57W",45,55871,"T12_8ft","LED fixture or kit, 40-57W from T12_8ft",50,null,"LED fixture or kit",64]
["LED fixture or kit, 40-57W",45,55871,"T5_4ft","LED fixture or kit, 40-57W from T5_4ft",50,null,"LED fixture or kit",64]
["LED fixture or kit, 40-57W",45,55871,"T5_3ft","LED fixture or kit, 40-57W from T5_3ft",50,null,"LED fixture or kit",64]
["LED fixture or kit, 40-57W",45,55871,"T5_2ft","LED fixture or kit, 40-57W from T5_2ft",50,null,"LED fixture or kit",64]
["LED fixture or kit, 40-57W",45,55871,"HID","LED fixture or kit, 40-57W from HID",50,null,"LED fixture or kit",64]
["LED fixture or kit, 40-57W",45,55871,"INCAN","LED fixture or kit, 40-57W from INCAN",50,null,"LED fixture or kit",64]
["LED fixture or kit, 40-57W",45,55871,"CFL","LED fixture or kit, 40-57W from CFL",50,null,"LED fixture or kit",64]
["LED fixture or kit, 40-57W",45,55871,"SIGN","LED fixture or kit, 40-57W from SIGN",50,null,"LED fixture or kit",64]
["LED fixture or kit, 40-57W",45,55871,"OTHER","LED fixture or kit, 40-57W from OTHER",50,null,"LED fixture or kit",64]
["LED fixture or kit, 58-100W",50,55871,"T8_2ft",{"$f":"CONCATENATE(A620, \" from \", D620)","v":"LED fixture or kit, 58-100W from T8_2ft"},55,null,"LED fixture or kit",64]
["LED fixture or kit, 58-100W",50,55871,"T8_U_bent",{"$f":"CONCATENATE(A621, \" from \", D621)","v":"LED fixture or kit, 58-100W from T8_U_bent"},55,null,"LED fixture or kit",64]
["LED fixture or kit, 58-100W",50,55871,"T8_3ft","LED fixture or kit, 58-100W from T8_3ft",55,null,"LED fixture or kit",64]
["LED fixture or kit, 58-100W",50,55871,"T8_4ft","LED fixture or kit, 58-100W from T8_4ft",55,null,"LED fixture or kit",64]
["LED fixture or kit, 58-100W",50,55871,"T8_5ft","LED fixture or kit, 58-100W from T8_5ft",55,null,"LED fixture or kit",64]
["LED fixture or kit, 58-100W",50,55871,"T8_6ft","LED fixture or kit, 58-100W from T8_6ft",55,null,"LED fixture or kit",64]
["LED fixture or kit, 58-100W",50,55871,"T8_8ft","LED fixture or kit, 58-100W from T8_8ft",55,null,"LED fixture or kit",64]
["LED fixture or kit, 58-100W",50,55871,"T12_U_bent","LED fixture or kit, 58-100W from T12_U_bent",55,null,"LED fixture or kit",64]
["LED fixture or kit, 58-100W",50,55871,"T12_2or3ft","LED fixture or kit, 58-100W from T12_2or3ft",55,null,"LED fixture or kit",64]
["LED fixture or kit, 58-100W",50,55871,"T12_4ft","LED fixture or kit, 58-100W from T12_4ft",55,null,"LED fixture or kit",64]
["LED fixture or kit, 58-100W",50,55871,"T12_5ft","LED fixture or kit, 58-100W from T12_5ft",55,null,"LED fixture or kit",64]
["LED fixture or kit, 58-100W",50,55871,"T12_6ft","LED fixture or kit, 58-100W from T12_6ft",55,null,"LED fixture or kit",64]
["LED fixture or kit, 58-100W",50,55871,"T12_8ft","LED fixture or kit, 58-100W from T12_8ft",55,null,"LED fixture or kit",64]
["LED fixture or kit, 58-100W",50,55871,"T5_4ft","LED fixture or kit, 58-100W from T5_4ft",55,null,"LED fixture or kit",64]
["LED fixture or kit, 58-100W",50,55871,"T5_3ft","LED fixture or kit, 58-100W from T5_3ft",55,null,"LED fixture or kit",64]
["LED fixture or kit, 58-100W",50,55871,"T5_2ft","LED fixture or kit, 58-100W from T5_2ft",55,null,"LED fixture or kit",64]
["LED fixture or kit, 58-100W",50,55871,"HID","LED fixture or kit, 58-100W from HID",55,null,"LED fixture or kit",64]
["LED fixture or kit, 58-100W",50,55871,"INCAN","LED fixture or kit, 58-100W from INCAN",55,null,"LED fixture or kit",64]
["LED fixture or kit, 58-100W",50,55871,"CFL","LED fixture or kit, 58-100W from CFL",55,null,"LED fixture or kit",64]
["LED fixture or kit, 58-100W",50,55871,"SIGN","LED fixture or kit, 58-100W from SIGN",55,null,"LED fixture or kit",64]
["LED fixture or kit, 58-100W",50,55871,"OTHER","LED fixture or kit, 58-100W from OTHER",55,null,"LED fixture or kit",64]
["Exterior Recessed Canister Downlight LED",50,25000,"T8_2ft","Exterior Recessed Canister Downlight LED from T8_2ft",20,null,"Exterior LED fixture"]
["Exterior Recessed Canister Downlight LED",50,25000,"T8_U_bent","Exterior Recessed Canister Downlight LED from T8_U_bent",20,null,"Exterior LED fixture"]
["Exterior Recessed Canister Downlight LED",50,25000,"T8_3ft","Exterior Recessed Canister Downlight LED from T8_3ft",20,null,"Exterior LED fixture"]
["Exterior Recessed Canister Downlight LED",50,25000,"T8_4ft","Exterior Recessed Canister Downlight LED from T8_4ft",20,null,"Exterior LED fixture"]
["Exterior Recessed Canister Downlight LED",50,25000,"T8_5ft","Exterior Recessed Canister Downlight LED from T8_5ft",20,null,"Exterior LED fixture"]
["Exterior Recessed Canister Downlight LED",50,25000,"T8_6ft","Exterior Recessed Canister Downlight LED from T8_6ft",20,null,"Exterior LED fixture"]
["Exterior Recessed Canister Downlight LED",50,25000,"T8_8ft","Exterior Recessed Canister Downlight LED from T8_8ft",20,null,"Exterior LED fixture"]
["Exterior Recessed Canister Downlight LED",50,25000,"T12_U_bent","Exterior Recessed Canister Downlight LED from T12_U_bent",20,null,"Exterior LED fixture"]
["Exterior Recessed Canister Downlight LED",50,25000,"T12_2or3ft","Exterior Recessed Canister Downlight LED from T12_2or3ft",20,null,"Exterior LED fixture"]
["Exterior Recessed Canister Downlight LED",50,25000,"T12_4ft","Exterior Recessed Canister Downlight LED from T12_4ft",20,null,"Exterior LED fixture"]
["Exterior Recessed Canister Downlight LED",50,25000,"T12_5ft","Exterior Recessed Canister Downlight LED from T12_5ft",20,null,"Exterior LED fixture"]
["Exterior Recessed Canister Downlight LED",50,25000,"T12_6ft","Exterior Recessed Canister Downlight LED from T12_6ft",20,null,"Exterior LED fixture"]
["Exterior Recessed Canister Downlight LED",50,25000,"T12_8ft","Exterior Recessed Canister Downlight LED from T12_8ft",20,null,"Exterior LED fixture"]
["Exterior Recessed Canister Downlight LED",50,25000,"T5_4ft","Exterior Recessed Canister Downlight LED from T5_4ft",20,null,"Exterior LED fixture"]
["Exterior Recessed Canister Downlight LED",50,25000,"T5_3ft","Exterior Recessed Canister Downlight LED from T5_3ft",20,null,"Exterior LED fixture"]
["Exterior Recessed Canister Downlight LED",50,25000,"T5_2ft","Exterior Recessed Canister Downlight LED from T5_2ft",20,null,"Exterior LED fixture"]
["Exterior Recessed Canister Downlight LED",50,25000,"HID","Exterior Recessed Canister Downlight LED from HID",20,null,"Exterior LED fixture"]
["Exterior Recessed Canister Downlight LED",50,25000,"INCAN","Exterior Recessed Canister Downlight LED from INCAN",20,null,"Exterior LED fixture",49]
["Exterior Recessed Canister Downlight LED",50,25000,"CFL","Exterior Recessed Canister Downlight LED from CFL",20,null,"Exterior LED fixture",49]
["Exterior Recessed Canister Downlight LED",50,25000,"OTHER","Exterior Recessed Canister Downlight LED from OTHER",20,null,"Exterior LED fixture"]
["Exterior LED fixture, 20W or less",35,55186,"T8_2ft","Exterior LED fixture, 20W or less from T8_2ft",40,null,"Exterior LED fixture",62]
["Exterior LED fixture, 20W or less",35,55186,"T8_U_bent","Exterior LED fixture, 20W or less from T8_U_bent",40,null,"Exterior LED fixture",62]
["Exterior LED fixture, 20W or less",35,55186,"T8_3ft","Exterior LED fixture, 20W or less from T8_3ft",40,null,"Exterior LED fixture",62]
["Exterior LED fixture, 20W or less",35,55186,"T8_4ft","Exterior LED fixture, 20W or less from T8_4ft",40,null,"Exterior LED fixture",62]
["Exterior LED fixture, 20W or less",35,55186,"T8_5ft","Exterior LED fixture, 20W or less from T8_5ft",40,null,"Exterior LED fixture",62]
["Exterior LED fixture, 20W or less",35,55186,"T8_6ft","Exterior LED fixture, 20W or less from T8_6ft",40,null,"Exterior LED fixture",62]
["Exterior LED fixture, 20W or less",35,55186,"T8_8ft","Exterior LED fixture, 20W or less from T8_8ft",40,null,"Exterior LED fixture",62]
["Exterior LED fixture, 20W or less",35,55186,"T12_U_bent","Exterior LED fixture, 20W or less from T12_U_bent",40,null,"Exterior LED fixture",62]
["Exterior LED fixture, 20W or less",35,55186,"T12_2or3ft","Exterior LED fixture, 20W or less from T12_2or3ft",40,null,"Exterior LED fixture",62]
["Exterior LED fixture, 20W or less",35,55186,"T12_4ft","Exterior LED fixture, 20W or less from T12_4ft",40,null,"Exterior LED fixture",62]
["Exterior LED fixture, 20W or less",35,55186,"T12_5ft","Exterior LED fixture, 20W or less from T12_5ft",40,null,"Exterior LED fixture",62]
["Exterior LED fixture, 20W or less",35,55186,"T12_6ft","Exterior LED fixture, 20W or less from T12_6ft",40,null,"Exterior LED fixture",62]
["Exterior LED fixture, 20W or less",35,55186,"T12_8ft","Exterior LED fixture, 20W or less from T12_8ft",40,null,"Exterior LED fixture",62]
["Exterior LED fixture, 20W or less",35,55186,"T5_4ft","Exterior LED fixture, 20W or less from T5_4ft",40,null,"Exterior LED fixture",62]
["Exterior LED fixture, 20W or less",35,55186,"T5_3ft","Exterior LED fixture, 20W or less from T5_3ft",40,null,"Exterior LED fixture",62]
["Exterior LED fixture, 20W or less",35,55186,"T5_2ft","Exterior LED fixture, 20W or less from T5_2ft",40,null,"Exterior LED fixture",62]
["Exterior LED fixture, 20W or less",35,55186,"HID","Exterior LED fixture, 20W or less from HID",40,null,"Exterior LED fixture",62]
["Exterior LED fixture, 20W or less",35,55186,"INCAN","Exterior LED fixture, 20W or less from INCAN",40,null,"Exterior LED fixture",62]
["Exterior LED fixture, 20W or less",35,55186,"CFL","Exterior LED fixture, 20W or less from CFL",40,null,"Exterior LED fixture",62]
["Exterior LED fixture, 20W or less",35,55186,"SIGN","Exterior LED fixture, 20W or less from SIGN",40,null,"Exterior LED fixture",62]
["Exterior LED fixture, 20W or less",35,55186,"OTHER","Exterior LED fixture, 20W or less from OTHER",40,null,"Exterior LED fixture",62]
["Exterior LED fixture, 21-40W ",35,55186,"T8_2ft","Exterior LED fixture, 21-40W  from T8_2ft",60,null,"Exterior LED fixture",62]
["Exterior LED fixture, 21-40W ",35,55186,"T8_U_bent","Exterior LED fixture, 21-40W  from T8_U_bent",60,null,"Exterior LED fixture",62]
["Exterior LED fixture, 21-40W ",35,55186,"T8_3ft","Exterior LED fixture, 21-40W  from T8_3ft",60,null,"Exterior LED fixture",62]
["Exterior LED fixture, 21-40W ",35,55186,"T8_4ft","Exterior LED fixture, 21-40W  from T8_4ft",60,null,"Exterior LED fixture",62]
["Exterior LED fixture, 21-40W ",35,55186,"T8_5ft","Exterior LED fixture, 21-40W  from T8_5ft",60,null,"Exterior LED fixture",62]
["Exterior LED fixture, 21-40W ",35,55186,"T8_6ft","Exterior LED fixture, 21-40W  from T8_6ft",60,null,"Exterior LED fixture",62]
["Exterior LED fixture, 21-40W ",35,55186,"T8_8ft","Exterior LED fixture, 21-40W  from T8_8ft",60,null,"Exterior LED fixture",62]
["Exterior LED fixture, 21-40W ",35,55186,"T12_U_bent","Exterior LED fixture, 21-40W  from T12_U_bent",60,null,"Exterior LED fixture",62]
["Exterior LED fixture, 21-40W ",35,55186,"T12_2or3ft","Exterior LED fixture, 21-40W  from T12_2or3ft",60,null,"Exterior LED fixture",62]
["Exterior LED fixture, 21-40W ",35,55186,"T12_4ft","Exterior LED fixture, 21-40W  from T12_4ft",60,null,"Exterior LED fixture",62]
["Exterior LED fixture, 21-40W ",35,55186,"T12_5ft","Exterior LED fixture, 21-40W  from T12_5ft",60,null,"Exterior LED fixture",62]
["Exterior LED fixture, 21-40W ",35,55186,"T12_6ft","Exterior LED fixture, 21-40W  from T12_6ft",60,null,"Exterior LED fixture",62]
["Exterior LED fixture, 21-40W ",35,55186,"T12_8ft","Exterior LED fixture, 21-40W  from T12_8ft",60,null,"Exterior LED fixture",62]
["Exterior LED fixture, 21-40W ",35,55186,"T5_4ft","Exterior LED fixture, 21-40W  from T5_4ft",60,null,"Exterior LED fixture",62]
["Exterior LED fixture, 21-40W ",35,55186,"T5_3ft","Exterior LED fixture, 21-40W  from T5_3ft",60,null,"Exterior LED fixture",62]
["Exterior LED fixture, 21-40W ",35,55186,"T5_2ft","Exterior LED fixture, 21-40W  from T5_2ft",60,null,"Exterior LED fixture",62]
["Exterior LED fixture, 21-40W ",35,55186,"HID","Exterior LED fixture, 21-40W  from HID",60,null,"Exterior LED fixture",62]
["Exterior LED fixture, 21-40W ",35,55186,"INCAN","Exterior LED fixture, 21-40W  from INCAN",60,null,"Exterior LED fixture",62]
["Exterior LED fixture, 21-40W ",35,55186,"CFL","Exterior LED fixture, 21-40W  from CFL",60,null,"Exterior LED fixture",62]
["Exterior LED fixture, 21-40W ",35,55186,"SIGN","Exterior LED fixture, 21-40W  from SIGN",60,null,"Exterior LED fixture",62]
["Exterior LED fixture, 21-40W ",35,55186,"OTHER","Exterior LED fixture, 21-40W  from OTHER",60,null,"Exterior LED fixture",62]
["Exterior LED fixture, 41-90W ",45,55186,"T8_2ft","Exterior LED fixture, 41-90W  from T8_2ft",120,null,"Exterior LED fixture",62]
["Exterior LED fixture, 41-90W ",45,55186,"T8_U_bent","Exterior LED fixture, 41-90W  from T8_U_bent",120,null,"Exterior LED fixture",62]
["Exterior LED fixture, 41-90W ",45,55186,"T8_3ft","Exterior LED fixture, 41-90W  from T8_3ft",120,null,"Exterior LED fixture",62]
["Exterior LED fixture, 41-90W ",45,55186,"T8_4ft","Exterior LED fixture, 41-90W  from T8_4ft",120,null,"Exterior LED fixture",62]
["Exterior LED fixture, 41-90W ",45,55186,"T8_5ft","Exterior LED fixture, 41-90W  from T8_5ft",120,null,"Exterior LED fixture",62]
["Exterior LED fixture, 41-90W ",45,55186,"T8_6ft","Exterior LED fixture, 41-90W  from T8_6ft",120,null,"Exterior LED fixture",62]
["Exterior LED fixture, 41-90W ",45,55186,"T8_8ft","Exterior LED fixture, 41-90W  from T8_8ft",120,null,"Exterior LED fixture",62]
["Exterior LED fixture, 41-90W ",45,55186,"T12_U_bent","Exterior LED fixture, 41-90W  from T12_U_bent",120,null,"Exterior LED fixture",62]
["Exterior LED fixture, 41-90W ",45,55186,"T12_2or3ft",{"$f":"CONCATENATE(A711, \" from \", D711)","v":"Exterior LED fixture, 41-90W  from T12_2or3ft"},120,null,"Exterior LED fixture",62]
["Exterior LED fixture, 41-90W ",45,55186,"T12_4ft","Exterior LED fixture, 41-90W  from T12_4ft",120,null,"Exterior LED fixture",62]
["Exterior LED fixture, 41-90W ",45,55186,"T12_5ft","Exterior LED fixture, 41-90W  from T12_5ft",120,null,"Exterior LED fixture",62]
["Exterior LED fixture, 41-90W ",45,55186,"T12_6ft","Exterior LED fixture, 41-90W  from T12_6ft",120,null,"Exterior LED fixture",62]
["Exterior LED fixture, 41-90W ",45,55186,"T12_8ft","Exterior LED fixture, 41-90W  from T12_8ft",120,null,"Exterior LED fixture",62]
["Exterior LED fixture, 41-90W ",45,55186,"T5_4ft","Exterior LED fixture, 41-90W  from T5_4ft",120,null,"Exterior LED fixture",62]
["Exterior LED fixture, 41-90W ",45,55186,"T5_3ft","Exterior LED fixture, 41-90W  from T5_3ft",120,null,"Exterior LED fixture",62]
["Exterior LED fixture, 41-90W ",45,55186,"T5_2ft","Exterior LED fixture, 41-90W  from T5_2ft",120,null,"Exterior LED fixture",62]
["Exterior LED fixture, 41-90W ",45,55186,"HID","Exterior LED fixture, 41-90W  from HID",120,null,"Exterior LED fixture",62]
["Exterior LED fixture, 41-90W ",45,55186,"INCAN","Exterior LED fixture, 41-90W  from INCAN",120,null,"Exterior LED fixture",62]
["Exterior LED fixture, 41-90W ",45,55186,"CFL","Exterior LED fixture, 41-90W  from CFL",120,null,"Exterior LED fixture",62]
["Exterior LED fixture, 41-90W ",45,55186,"SIGN","Exterior LED fixture, 41-90W  from SIGN",120,null,"Exterior LED fixture",62]
["Exterior LED fixture, 41-90W ",45,55186,"OTHER","Exterior LED fixture, 41-90W  from OTHER",120,null,"Exterior LED fixture",62]
["Exterior LED fixture, 91-140W ",55,55186,"T8_2ft","Exterior LED fixture, 91-140W  from T8_2ft",180,null,"Exterior LED fixture",62]
["Exterior LED fixture, 91-140W ",55,55186,"T8_U_bent","Exterior LED fixture, 91-140W  from T8_U_bent",180,null,"Exterior LED fixture",62]
["Exterior LED fixture, 91-140W ",55,55186,"T8_3ft","Exterior LED fixture, 91-140W  from T8_3ft",180,null,"Exterior LED fixture",62]
["Exterior LED fixture, 91-140W ",55,55186,"T8_4ft","Exterior LED fixture, 91-140W  from T8_4ft",180,null,"Exterior LED fixture",62]
["Exterior LED fixture, 91-140W ",55,55186,"T8_5ft","Exterior LED fixture, 91-140W  from T8_5ft",180,null,"Exterior LED fixture",62]
["Exterior LED fixture, 91-140W ",55,55186,"T8_6ft","Exterior LED fixture, 91-140W  from T8_6ft",180,null,"Exterior LED fixture",62]
["Exterior LED fixture, 91-140W ",55,55186,"T8_8ft","Exterior LED fixture, 91-140W  from T8_8ft",180,null,"Exterior LED fixture",62]
["Exterior LED fixture, 91-140W ",55,55186,"T12_U_bent","Exterior LED fixture, 91-140W  from T12_U_bent",180,null,"Exterior LED fixture",62]
["Exterior LED fixture, 91-140W ",55,55186,"T12_2or3ft","Exterior LED fixture, 91-140W  from T12_2or3ft",180,null,"Exterior LED fixture",62]
["Exterior LED fixture, 91-140W ",55,55186,"T12_4ft","Exterior LED fixture, 91-140W  from T12_4ft",180,null,"Exterior LED fixture",62]
["Exterior LED fixture, 91-140W ",55,55186,"T12_5ft","Exterior LED fixture, 91-140W  from T12_5ft",180,null,"Exterior LED fixture",62]
["Exterior LED fixture, 91-140W ",55,55186,"T12_6ft","Exterior LED fixture, 91-140W  from T12_6ft",180,null,"Exterior LED fixture",62]
["Exterior LED fixture, 91-140W ",55,55186,"T12_8ft","Exterior LED fixture, 91-140W  from T12_8ft",180,null,"Exterior LED fixture",62]
["Exterior LED fixture, 91-140W ",55,55186,"T5_4ft","Exterior LED fixture, 91-140W  from T5_4ft",180,null,"Exterior LED fixture",62]
["Exterior LED fixture, 91-140W ",55,55186,"T5_3ft","Exterior LED fixture, 91-140W  from T5_3ft",180,null,"Exterior LED fixture",62]
["Exterior LED fixture, 91-140W ",55,55186,"T5_2ft","Exterior LED fixture, 91-140W  from T5_2ft",180,null,"Exterior LED fixture",62]
["Exterior LED fixture, 91-140W ",55,55186,"HID","Exterior LED fixture, 91-140W  from HID",180,null,"Exterior LED fixture",62]
["Exterior LED fixture, 91-140W ",55,55186,"INCAN","Exterior LED fixture, 91-140W  from INCAN",180,null,"Exterior LED fixture",62]
["Exterior LED fixture, 91-140W ",55,55186,"CFL","Exterior LED fixture, 91-140W  from CFL",180,null,"Exterior LED fixture",62]
["Exterior LED fixture, 91-140W ",55,55186,"SIGN","Exterior LED fixture, 91-140W  from SIGN",180,null,"Exterior LED fixture",62]
["Exterior LED fixture, 91-140W ",55,55186,"OTHER","Exterior LED fixture, 91-140W  from OTHER",180,null,"Exterior LED fixture",62]
["Exterior LED fixture, 141-299W ",75,59368,"T8_2ft","Exterior LED fixture, 141-299W  from T8_2ft",220,null,"Exterior LED fixture",62]
["Exterior LED fixture, 141-299W ",75,59368,"T8_U_bent","Exterior LED fixture, 141-299W  from T8_U_bent",220,null,"Exterior LED fixture",62]
["Exterior LED fixture, 141-299W ",75,59368,"T8_3ft","Exterior LED fixture, 141-299W  from T8_3ft",220,null,"Exterior LED fixture",62]
["Exterior LED fixture, 141-299W ",75,59368,"T8_4ft","Exterior LED fixture, 141-299W  from T8_4ft",220,null,"Exterior LED fixture",62]
["Exterior LED fixture, 141-299W ",75,59368,"T8_5ft","Exterior LED fixture, 141-299W  from T8_5ft",220,null,"Exterior LED fixture",62]
["Exterior LED fixture, 141-299W ",75,59368,"T8_6ft","Exterior LED fixture, 141-299W  from T8_6ft",220,null,"Exterior LED fixture",62]
["Exterior LED fixture, 141-299W ",75,59368,"T8_8ft","Exterior LED fixture, 141-299W  from T8_8ft",220,null,"Exterior LED fixture",62]
["Exterior LED fixture, 141-299W ",75,59368,"T12_U_bent","Exterior LED fixture, 141-299W  from T12_U_bent",220,null,"Exterior LED fixture",62]
["Exterior LED fixture, 141-299W ",75,59368,"T12_2or3ft","Exterior LED fixture, 141-299W  from T12_2or3ft",220,null,"Exterior LED fixture",62]
["Exterior LED fixture, 141-299W ",75,59368,"T12_4ft","Exterior LED fixture, 141-299W  from T12_4ft",220,null,"Exterior LED fixture",62]
["Exterior LED fixture, 141-299W ",75,59368,"T12_5ft","Exterior LED fixture, 141-299W  from T12_5ft",220,null,"Exterior LED fixture",62]
["Exterior LED fixture, 141-299W ",75,59368,"T12_6ft","Exterior LED fixture, 141-299W  from T12_6ft",220,null,"Exterior LED fixture",62]
["Exterior LED fixture, 141-299W ",75,59368,"T12_8ft","Exterior LED fixture, 141-299W  from T12_8ft",220,null,"Exterior LED fixture",62]
["Exterior LED fixture, 141-299W ",75,59368,"T5_4ft","Exterior LED fixture, 141-299W  from T5_4ft",220,null,"Exterior LED fixture",62]
["Exterior LED fixture, 141-299W ",75,59368,"T5_3ft","Exterior LED fixture, 141-299W  from T5_3ft",220,null,"Exterior LED fixture",62]
["Exterior LED fixture, 141-299W ",75,59368,"T5_2ft","Exterior LED fixture, 141-299W  from T5_2ft",220,null,"Exterior LED fixture",62]
["Exterior LED fixture, 141-299W ",75,59368,"HID","Exterior LED fixture, 141-299W  from HID",220,null,"Exterior LED fixture",62]
["Exterior LED fixture, 141-299W ",75,59368,"INCAN","Exterior LED fixture, 141-299W  from INCAN",220,null,"Exterior LED fixture",62]
["Exterior LED fixture, 141-299W ",75,59368,"CFL","Exterior LED fixture, 141-299W  from CFL",220,null,"Exterior LED fixture",62]
["Exterior LED fixture, 141-299W ",75,59368,"SIGN","Exterior LED fixture, 141-299W  from SIGN",220,null,"Exterior LED fixture",62]
["Exterior LED fixture, 141-299W ",75,59368,"OTHER","Exterior LED fixture, 141-299W  from OTHER",220,null,"Exterior LED fixture",62]
["Exterior LED fixture, 300W or greater",85,59368,"T8_2ft","Exterior LED fixture, 300W or greater from T8_2ft",325,null,"Exterior LED fixture",62]
["Exterior LED fixture, 300W or greater",85,59368,"T8_U_bent","Exterior LED fixture, 300W or greater from T8_U_bent",325,null,"Exterior LED fixture",62]
["Exterior LED fixture, 300W or greater",85,59368,"T8_3ft","Exterior LED fixture, 300W or greater from T8_3ft",325,null,"Exterior LED fixture",62]
["Exterior LED fixture, 300W or greater",85,59368,"T8_4ft","Exterior LED fixture, 300W or greater from T8_4ft",325,null,"Exterior LED fixture",62]
["Exterior LED fixture, 300W or greater",85,59368,"T8_5ft","Exterior LED fixture, 300W or greater from T8_5ft",325,null,"Exterior LED fixture",62]
["Exterior LED fixture, 300W or greater",85,59368,"T8_6ft","Exterior LED fixture, 300W or greater from T8_6ft",325,null,"Exterior LED fixture",62]
["Exterior LED fixture, 300W or greater",85,59368,"T8_8ft","Exterior LED fixture, 300W or greater from T8_8ft",325,null,"Exterior LED fixture",62]
["Exterior LED fixture, 300W or greater",85,59368,"T12_U_bent","Exterior LED fixture, 300W or greater from T12_U_bent",325,null,"Exterior LED fixture",62]
["Exterior LED fixture, 300W or greater",85,59368,"T12_2or3ft","Exterior LED fixture, 300W or greater from T12_2or3ft",325,null,"Exterior LED fixture",62]
["Exterior LED fixture, 300W or greater",85,59368,"T12_4ft","Exterior LED fixture, 300W or greater from T12_4ft",325,null,"Exterior LED fixture",62]
["Exterior LED fixture, 300W or greater",85,59368,"T12_5ft","Exterior LED fixture, 300W or greater from T12_5ft",325,null,"Exterior LED fixture",62]
["Exterior LED fixture, 300W or greater",85,59368,"T12_6ft","Exterior LED fixture, 300W or greater from T12_6ft",325,null,"Exterior LED fixture",62]
["Exterior LED fixture, 300W or greater",85,59368,"T12_8ft","Exterior LED fixture, 300W or greater from T12_8ft",325,null,"Exterior LED fixture",62]
["Exterior LED fixture, 300W or greater",85,59368,"T5_4ft","Exterior LED fixture, 300W or greater from T5_4ft",325,null,"Exterior LED fixture",62]
["Exterior LED fixture, 300W or greater",85,59368,"T5_3ft","Exterior LED fixture, 300W or greater from T5_3ft",325,null,"Exterior LED fixture",62]
["Exterior LED fixture, 300W or greater",85,59368,"T5_2ft","Exterior LED fixture, 300W or greater from T5_2ft",325,null,"Exterior LED fixture",62]
["Exterior LED fixture, 300W or greater",85,59368,"HID","Exterior LED fixture, 300W or greater from HID",325,null,"Exterior LED fixture",62]
["Exterior LED fixture, 300W or greater",85,59368,"INCAN","Exterior LED fixture, 300W or greater from INCAN",325,null,"Exterior LED fixture",62]
["Exterior LED fixture, 300W or greater",85,59368,"CFL",{"$f":"CONCATENATE(A784, \" from \", D784)","v":"Exterior LED fixture, 300W or greater from CFL"},325,null,"Exterior LED fixture",62]
["Exterior LED fixture, 300W or greater",85,59368,"SIGN",{"$f":"CONCATENATE(A785, \" from \", D785)","v":"Exterior LED fixture, 300W or greater from SIGN"},325,null,"Exterior LED fixture",62]
["Exterior LED fixture, 300W or greater",85,59368,"OTHER",{"$f":"CONCATENATE(A786, \" from \", D786)","v":"Exterior LED fixture, 300W or greater from OTHER"},325,null,"Exterior LED fixture",62]
["HID to LED Screw-in, 40W or less",40,50000,"HID",{"$f":"CONCATENATE(A787,\" from \",D787)","v":"HID to LED Screw-in, 40W or less from HID"},20,null,"HID replacement screw-in LED lamp",33]
["HID to LED Screw-in, 41-100W",60,50000,"HID",{"$f":"CONCATENATE(A788,\" from \",D788)","v":"HID to LED Screw-in, 41-100W from HID"},40,null,"HID replacement screw-in LED lamp",33]
["HID to LED Screw-in, 101-160W",70,50000,"HID",{"$f":"CONCATENATE(A789,\" from \",D789)","v":"HID to LED Screw-in, 101-160W from HID"},50,null,"HID replacement screw-in LED lamp",33]
["HID to LED Screw-in, 161W or greater",80,50000,"HID",{"$f":"CONCATENATE(A790,\" from \",D790)","v":"HID to LED Screw-in, 161W or greater from HID"},70,null,"HID replacement screw-in LED lamp",33]
["CFL to pin base LED",28,25000,"CFL",{"$f":"CONCATENATE(A791, \" from \", D791)","v":"CFL to pin base LED from CFL"},3,null,"Light Emitting Diode (LED) Lighting Products (Interior Fixtures - Ambient/Task lighting)",49]
["CFL to pin base LED",28,25000,"CFL","CFL to pin base LED from CFL",3,null,"Light Emitting Diode (LED) Lighting Products (Interior Fixtures - Ambient/Task lighting)",49]
["LED A-Lamp",28,15000,"INCAN","LED A-Lamp from INCAN",0,null,"Light Emitting Diode (LED) Lighting Products (Interior Fixtures - Ambient/Task lighting)",49]
["LED A-Lamp",28,15000,"CFL","LED A-Lamp from CFL",0,null,"Light Emitting Diode (LED) Lighting Products (Interior Fixtures - Ambient/Task lighting)",49]
["LED globe screw-in lamp",28,15000,"INCAN","LED globe screw-in lamp from INCAN",5,null,"Light Emitting Diode (LED) Lighting Products (Interior Fixtures - Ambient/Task lighting)",49]
["LED globe screw-in lamp",28,15000,"CFL","LED globe screw-in lamp from CFL",5,null,"Light Emitting Diode (LED) Lighting Products (Interior Fixtures - Ambient/Task lighting)",49]
["LED lamp <20W (PAR/R/MR)",68,25000,"INCAN","LED lamp <20W (PAR/R/MR) from INCAN",0,null,"Light Emitting Diode (LED) Lighting Products (Interior Fixtures - Ambient/Task lighting)",49]
["LED lamp <20W (PAR/R/MR)",68,25000,"CFL","LED lamp <20W (PAR/R/MR) from CFL",0,null,"Light Emitting Diode (LED) Lighting Products (Interior Fixtures - Ambient/Task lighting)",49]
["LED lamp 20W or greater (PAR/R/MR)",78,25000,"INCAN","LED lamp 20W or greater (PAR/R/MR) from INCAN",0,null,"Light Emitting Diode (LED) Lighting Products (Interior Fixtures - Ambient/Task lighting)",49]
["LED lamp 20W or greater (PAR/R/MR)",78,25000,"CFL","LED lamp 20W or greater (PAR/R/MR) from CFL",0,null,"Light Emitting Diode (LED) Lighting Products (Interior Fixtures - Ambient/Task lighting)",49]
["LED small screw-base candelabra lamp",10,15000,"INCAN","LED small screw-base candelabra lamp from INCAN",5,null,"Light Emitting Diode (LED) Lighting Products (Interior Fixtures - Ambient/Task lighting)",49]
["LED small screw-base candelabra lamp",10,15000,"CFL","LED small screw-base candelabra lamp from CFL",5,null,"Light Emitting Diode (LED) Lighting Products (Interior Fixtures - Ambient/Task lighting)",49]
["LED Street Lighting replacing 70W HID",null,null,"HPS70","LED Street Lighting replacing 70W HID from HPS70",45,null,"Street Lighting",38]
["LED Street Lighting replacing 70W HID",null,null,"MV75","LED Street Lighting replacing 70W HID from MV75",45,null,"Street Lighting",38]
["LED Street Lighting replacing 70W HID",null,null,"MH70","LED Street Lighting replacing 70W HID from MH70",45,null,"Street Lighting",38]
["LED Street Lighting replacing 100W HID",null,null,"HPS100","LED Street Lighting replacing 100W HID from HPS100",45,null,"Street Lighting",38]
["LED Street Lighting replacing 100W HID",null,null,"MV100",{"$f":"CONCATENATE(A807, \" from \", D807)","v":"LED Street Lighting replacing 100W HID from MV100"},45,null,"Street Lighting",38]
["LED Street Lighting replacing 100W HID",null,null,"MH100","LED Street Lighting replacing 100W HID from MH100",45,null,"Street Lighting",38]
["LED Street Lighting replacing 150W HID",null,null,"MH150",{"$f":"CONCATENATE(A809, \" from \", D809)","v":"LED Street Lighting replacing 150W HID from MH150"},55,null,"Street Lighting",38]
["LED Street Lighting replacing 150W HID",null,null,"HPS150","LED Street Lighting replacing 150W HID from HPS150",55,null,"Street Lighting",38]
["LED Street Lighting replacing 175W HID",null,null,"MV175","LED Street Lighting replacing 175W HID from MV175",55,null,"Street Lighting",38]
["LED Street Lighting replacing 175W HID",null,null,"MH150",{"$f":"CONCATENATE(A812, \" from \", D812)","v":"LED Street Lighting replacing 175W HID from MH150"},55,null,"Street Lighting",38]
["LED Street Lighting replacing 175W HID",null,null,"MH175","LED Street Lighting replacing 175W HID from MH175",55,null,"Street Lighting",38]
["LED Street Lighting replacing 200W HID",null,null,"HPS200","LED Street Lighting replacing 200W HID from HPS200",75,null,"Street Lighting",38]
["LED Street Lighting replacing 250W HID",null,null,"HPS250","LED Street Lighting replacing 250W HID from HPS250",120,null,"Street Lighting",38]
["LED Street Lighting replacing 250W HID",null,null,"MV250","LED Street Lighting replacing 250W HID from MV250",120,null,"Street Lighting",38]
["LED Street Lighting replacing 250W HID",null,null,"MH250","LED Street Lighting replacing 250W HID from MH250",120,null,"Street Lighting",38]
["LED Street Lighting replacing 310W HID",null,null,"HPS310","LED Street Lighting replacing 310W HID from HPS310",120,null,"Street Lighting",38]
["LED Street Lighting replacing 350W HID",null,null,"PSMH320","LED Street Lighting replacing 350W HID from PSMH320",120,null,"Street Lighting",38]
["LED Street Lighting replacing 350W HID",null,null,"PSMH350","LED Street Lighting replacing 350W HID from PSMH350",120,null,"Street Lighting",38]
["LED Street Lighting replacing 400W HID",null,null,"HPS400","LED Street Lighting replacing 400W HID from HPS400",120,null,"Street Lighting",38]
["LED Street Lighting replacing 400W HID",null,null,"MV400","LED Street Lighting replacing 400W HID from MV400",120,null,"Street Lighting",38]
["LED Street Lighting replacing 400W HID",null,null,"MH400","LED Street Lighting replacing 400W HID from MH400",120,null,"Street Lighting",38]
["LED Street Lighting replacing 750W HID",null,null,"HPS750","LED Street Lighting replacing 750W HID from HPS750",300,null,"Street Lighting",38]
["LED Street Lighting replacing 750W HID",null,null,"MV750","LED Street Lighting replacing 750W HID from MV750",300,null,"Street Lighting",38]
["LED Street Lighting replacing 750W HID",null,null,"MH750","LED Street Lighting replacing 750W HID from MH750",300,null,"Street Lighting",38]
["LED Street Lighting replacing 1000W HID",null,null,"HPS1000","LED Street Lighting replacing 1000W HID from HPS1000",300,null,"Street Lighting",38]
["LED Street Lighting replacing 1000W HID",null,null,"MV1000",{"$f":"CONCATENATE(A828, \" from \", D828)","v":"LED Street Lighting replacing 1000W HID from MV1000"},300,null,"Street Lighting",38]
["LED Street Lighting replacing 1000W HID",null,null,"MH1000",{"$f":"CONCATENATE(A829, \" from \", D829)","v":"LED Street Lighting replacing 1000W HID from MH1000"},300,null,"Street Lighting",38]
["LED Street Lighting replacing 1500W HID",null,null,"HPS1500",{"$f":"CONCATENATE(A830, \" from \", D830)","v":"LED Street Lighting replacing 1500W HID from HPS1500"},350,null,"Street Lighting",38]
["LED Street Lighting replacing 1500W HID",null,null,"MV1500",{"$f":"CONCATENATE(A831, \" from \", D831)","v":"LED Street Lighting replacing 1500W HID from MV1500"},350,null,"Street Lighting",38]
["LED Street Lighting replacing 1500W HID",null,null,"MH1500","LED Street Lighting replacing 1500W HID from MH1500",350,null,"Street Lighting",38]

{"sheet":"Incentive Existing","index":9,"n_rows":274,"n_cols":12,"rows_kept":274,"cut":false,"hidden":true,"merged":[]}
["Existing Equipment"]
["Note: All T12 Fluorescent fixtures assume energy efficient lamp and stand. mag ballasts",null,null,null,null,null,null,"** used to udpate the v2018.1 - referenced in MAD 8 "]
["DESCRIPTION FROM LIGHTING TOOL","LAMP COST","OPERATIONAL LIFE","RQRMT CODE",null,null,null,"Table 2: Incumbent Lamp and Ballast Costs - RTF 2017"]
["T8_U_bent",4.4000000000000004,24000,"T8_U_bent",null,null,null,"Commercial Sector Submarkets ",null,"Lamp Life (1,000 hr) ","Lamp Price ($) ","Ballast Price ($) "]
["T8_2ft",5.4,20000,"T8_2ft",null,null,null,"Linear Fixtures"]
["T8_3ft",5.4,20000,"T8_3ft",null,null,null,"T12 <4ft",null,15,3,17]
["T8_4ft",4.4000000000000004,20000,"T8_4ft",null,null,null,"T8 <4ft",null,20,5.4,18]
["T8_5ft",7,24000,"T8_5ft",null,null,null,"T5 <4ft",null,30,6.2,22]
["T8_6ft",7,24000,"T8_6ft",null,null,null,"T12 4ft",null,20,2.5,17]
["T8_8ft",7,24000,"T8_8ft",null,null,null,"T8 4ft",null,24,4.4000000000000004,18]
["T12_U_bent",2.5,20000,"T12_U_bent",null,null,null,"T5 4ft",null,30,6.2,22]
["T12_2or3ft",3,15000,"T12_2or3ft",null,null,null,"T12 >4ft",null,12,5.7,19]
["T12_4ft",2.5,20000,"T12_4ft",null,null,null,"T8 >4ft",null,24,7,22]
["T12_8ft",5.7,12000,"T12_8ft"]
["T12_5ft",5.7,12000,"T12_5ft"]
["T12_6ft",5.7,12000,"T12_6ft"]
["T5_4ft",6.2,30000,"T5_4ft"]
["T5_3ft",6.2,30000,"T5_3ft"]
["T5_2ft",6.2,30000,"T5_2ft"]
["HID",null,null,"HID"]
["INCAN",null,null,"INCAN"]
["CFL",null,null,"CFL"]
["SIGN",null,null,"SIGN"]
["OTHER",null,null,"OTHER"]
["CASE",null,null,"CASE"]
["2' T8 17W",3,15000,"RL-2817","For T8 and TLED","length_type_watt"]
["2' T5 14W",3,15000,"RL-2514"]
["2' T5HO 24W",3,15000,"RL-2524"]
["4' T8 32W",4.4000000000000004,24000,"RL-4832","For T8 and TLED"]
["4' T8 28W",4.4000000000000004,24000,"RL-4828","For T8 and TLED"]
["4' T8 25W",4.4000000000000004,24000,"RL-4825","For T8 and TLED"]
["8' T8 59W",7,24000,"RL-8859","TLED ONLY"]
["8' T8HO 86W",7,24000,"RL-8886","TLED ONLY"]
["3' T8 25W",5.4,20000,"RL-3825","TLED ONLY"]
["Ubent T8 32W",4.4000000000000004,24000,"RL-U832","TLED ONLY"]
["Ubent T8 31W",4.4000000000000004,24000,"RL-U831"]
["4' T5 28W",6.2,30000,"RL-4528","For T8 and TLED"]
["4' T5HO 54W",6.2,30000,"RL-4554","For T8 and TLED"]
["4' T8 HO 44W",4.4000000000000004,24000,"RL-4844"]
["3' T5 21W",6.2,30000,"RL-3521","TLED ONLY"]
["3' T5HO 39W",3.2,30000,"RL-3539","TLED ONLY"]
["6' T8 58W",7,24000,"RL-6858"]
["5' T8 40W",7,24000,"RL-5840"]
["Pin-Compact Fluorescent",null,null,"RL-CFL"]
["2', 1 lamp T12",3,20000,"FL-21"]
["2', 1 lamp T8",5.4,20000,"FL-821"]
["2', 2 lamp T12",3,20000,"FL-2212"]
["2', 2 lamp T8",5.4,20000,"FL-228"]
["2', 1 lamp HP T8 (0.85<BF≤1.0)",5.4,35000,"FL-31"]
["2', 1 lamp HP T8 (BF≤0.85)",5.4,35000,"FL-31"]
["2', 1 lamp T8",5.4,20000,"FL-11"]
["2', 2 lamp HP T8 (0.85<BF≤1.0)",5.4,35000,"FL-228"]
["2', 2 lamp HP T8 (BF≤0.85)",5.4,35000,"FL-228"]
["2', 2 lamp T8",5.4,20000,"FL-228"]
["3', 1 lamp T8",5.4,20000,"FL-3"]
["3', 2 lamp T8",5.4,20000,"FL-3"]
["3', 3 lamp T8",5.4,20000,"FL-3"]
["3', 1 lamp T5",5.4,20000,"FL-3"]
["3', 2 lamp T5",5.4,20000,"FL-3"]
["3', 3 lamp T5",5.4,20000,"FL-3"]
["3', 1 lamp T12",3,15000,"FL-3"]
["3', 2 lamp T12",3,15000,"FL-3212"]
["3', 1 lamp T8",5.4,20000,"FL-11"]
["3', 2 lamp HP T8 (0.85<BF≤1.0)",5.4,35000,"FL-328"]
["3', 2 lamp HP T8 (BF≤0.85)",5.4,35000,"FL-328"]
["4', 1 lamp HP T8 (25W, 0.85<BF≤1.0)",4.4000000000000004,35000,"FL-28"]
["4', 1 lamp HP T8 (25W, BF≤0.85)",4.4000000000000004,35000,"FL-28"]
["4', 1 lamp HP T8 (28W, 0.85<BF≤1.0)",4.4000000000000004,35000,"FL-28"]
["4', 1 lamp HP T8 (28W, BF≤0.85)",4.4000000000000004,35000,"FL-28"]
["4', 1 lamp T12",2.5,20000,"FL-4"]
["4', 1 lamp T8 32W",4.4000000000000004,15000,"FL-4T8"]
["4', 2 lamp HP T8 (25W, 0.85<BF≤1.0)",4.4000000000000004,35000,"FL-428"]
["4', 2 lamp HP T8 (25W, BF≤0.85)",4.4000000000000004,35000,"FL-428"]
["4', 2 lamp HP T8 (25W, BF≥1.01)",4.4000000000000004,35000,"FL-428"]
["4', 2 lamp HP T8 (28W, 0.85<BF≤1.0)",4.4000000000000004,35000,"FL-428"]
["4', 2 lamp HP T8 (28W, BF≤0.85)",4.4000000000000004,35000,"FL-428"]
["4', 2 lamp HP T8 (28W, BF≥1.01)",4.4000000000000004,35000,"FL-428"]
["4', 2 lamp T12",2.5,20000,"FL-4212"]
["4', 2 lamp T8 32W",4.4000000000000004,15000,"FL-4T8b"]
["4', 3 lamp HP T8 (25W, 0.85<BF≤1.0)",4.4000000000000004,35000,"FL-438"]
["4', 3 lamp HP T8 (25W, BF≤0.85)",4.4000000000000004,35000,"FL-438"]
["4', 3 lamp HP T8 (25W, BF≥1.01)",4.4000000000000004,35000,"FL-438"]
["4', 3 lamp HP T8 (28W, 0.85<BF≤1.0)",4.4000000000000004,35000,"FL-438"]
["4', 3 lamp HP T8 (28W, BF≤0.85)",4.4000000000000004,35000,"FL-438"]
["4', 3 lamp HP T8 (28W, BF≥1.01)",4.4000000000000004,35000,"FL-438"]
["4', 3 lamp T12",2.5,20000,"FL-4312"]
["4', 3 lamp T8 32W",4.4000000000000004,15000,"FL-4T8c"]
["4', 4 lamp HP T8 (25W, 0.85<BF≤1.0)",4.4000000000000004,35000,"FL-448"]
["4', 4 lamp HP T8 (25W, BF≤0.85)",4.4000000000000004,35000,"FL-448"]
["4', 4 lamp HP T8 (25W, BF≥1.01)",4.4000000000000004,35000,"FL-448"]
["4', 4 lamp HP T8 (28W, 0.85<BF≤1.0)",4.4000000000000004,35000,"FL-448"]
["4', 4 lamp HP T8 (28W, BF≤0.85)",4.4000000000000004,35000,"FL-448"]
["4', 4 lamp HP T8 (28W, BF≥1.01)",4.4000000000000004,35000,"FL-448"]
["4', 4 lamp T12",2.5,20000,"FL-4412"]
["4', 4 lamp T8 32W",4.4000000000000004,15000,"FL-4T8d"]
["4', 6 lamp T8 32W",7,24000,"FL-4T8e"]
["4', 6 lamp HP T8 (0.85<BF≤1.0)",7,24000,"FL-36"]
["4', 6 lamp HP T8 (BF≥1.01)",7,24000,"FL-36"]
["4', 1 lamp 28W T8 (continuous dimming ballast)",4.4000000000000004,24000,"FL-14"]
["4', 1 lamp HP T8 (0.85<BF≤1.0)",4.4000000000000004,24000,"FL-14"]
["4', 1 lamp HP T8 (25W, 0.85<BF≤1.0)",4.4000000000000004,24000,"FL-14"]
["4', 1 lamp HP T8 (25W, BF≤0.85)",4.4000000000000004,24000,"FL-14"]
["4', 1 lamp HP T8 (28W, 0.85<BF≤1.0)",4.4000000000000004,24000,"FL-14"]
["4', 1 lamp HP T8 (28W, BF≤0.85)",4.4000000000000004,24000,"FL-14"]
["4', 1 lamp HP T8 (BF≤0.85)",4.4000000000000004,24000,"FL-14"]
["4', 1 lamp HP T8 (continuous dimming ballast)",4.4000000000000004,24000,"FL-14"]
["4', 1 lamp T8",4.4000000000000004,24000,"FL-11"]
["4', 1 lamp T8 (BF ≤.78)",4.4000000000000004,24000,"FL-11"]
["4', 2 lamp T8",4.4000000000000004,24000,"FL-12"]
["4', 2 lamp T8 (BF ≤.78)",4.4000000000000004,24000,"FL-12"]
["4', 2 lamp T8 (BF ≥1.00)",4.4000000000000004,24000,"FL-12"]
["4', 3 lamp T8",4.4000000000000004,24000,"FL-13"]
["4', 3 lamp T8 (BF ≤.78)",4.4000000000000004,24000,"FL-13"]
["4', 3 lamp T8 (BF ≥1.00)",4.4000000000000004,24000,"FL-13"]
["4', 4 lamp T8",4.4000000000000004,24000,"FL-14"]
["4', 4 lamp T8 (BF ≤.78)",4.4000000000000004,24000,"FL-14"]
["5', 2 lamp T12",5.7,12000,"FL-5212"]
["5', 2 lamp T8",7,24000,"FL-528"]
["6', 2 lamp T12",5.7,12000,"FL-6212"]
["6, 2 lamp T8",7,24000,"FL-628"]
["8', 1 lamp T12",5.7,12000,"FL-8112"]
["8', 1 lamp T12 HO",5.7,12000,"FL-8112"]
["8', 1 lamp T12 VHO",5.7,12000,"FL-8112"]
["8', 1 lamp T8",7,24000,"FL-818"]
["8', 1 lamp T8 (24,000 + hrs)",7,24000,"FL-818"]
["8', 1 lamp T8 HO",7,24000,"FL-818"]
["8', 2 lamp T12",5.7,12000,"FL-8212"]
["8', 2 lamp T12 HO",5.7,12000,"FL-8212"]
["8', 2 lamp T12 VHO",5.7,12000,"FL-828"]
["8', 2 lamp T8",7,24000,"FL-828"]
["8', 2 lamp T8 (24,000 + hrs)",7,24000,"FL-828"]
["8', 2 lamp T8 HO",7,24000,"FL-828"]
["8', 3 lamp T12",5.7,12000,"FL-8312"]
["8', 3 lamp T12 HO",5.7,12000,"FL-8312"]
["8', 3 lamp T12 VHO",5.7,12000,"FL-8312"]
["8', 3 lamp T8",7,24000,"FL-838"]
["8', 3 lamp T8 (24,000 + hrs)",7,24000,"FL-838"]
["8', 3 lamp T8 HO",7,24000,"FL-838"]
["8', 4 lamp T12",5.7,12000,"FL-8412"]
["8', 4 lamp T12 HO",5.7,12000,"FL-8412"]
["8', 4 lamp T12 VHO",5.7,12000,"FL-8412"]
["8', 4 lamp T8",7,24000,"FL-848"]
["8', 4 lamp T8 (24,000 + hrs)",7,24000,"FL-848"]
["8', 4 lamp T8 HO",7,24000,"FL-848"]
["8', 1 lamp T8",7,24000,"FL-11"]
["8', 1 lamp T8 (24,000 + hrs)",7,24000,"FL-21"]
["8', 1 lamp T8 HO",7,24000,"FL-11"]
["8', 2 lamp T8",7,24000,"FL-12"]
["8', 2 lamp T8 (24,000 + hrs)",7,24000,"FL-22"]
["8', 2 lamp T8 HO",7,24000,"FL-12"]
["8', 3 lamp T8",7,24000,"FL-13"]
["8', 3 lamp T8 (24,000 + hrs)",7,24000,"FL-23"]
["8', 3 lamp T8 HO",7,24000,"FL-13"]
["8', 4 lamp T8",7,24000,"FL-14"]
["8', 4 lamp T8 (24,000 + hrs)",7,24000,"FL-24"]
["8', 4 lamp T8 HO",7,24000,"FL-14",null,null,null,"Updating for 2022 Street Lighting"]
["Compact Fluorescent",2,10000,"CFL"]
["High Pressure Sodium, 100 watts",6,10000,"HPS100",null,null,null,"High Pressure Sodium, 35 watts",null,"HID35",0]
["High Pressure Sodium, 1000 watts",23,10000,"HPS1000",null,null,null,"High Pressure Sodium, 50 watts",null,"HID50",0]
["High Pressure Sodium, 150 watts",6,10000,"HPS150",null,null,null,"High Pressure Sodium, 70 watts",null,"HPS70",40]
["High Pressure Sodium, 200 watts",6,10000,"HPS200",null,null,null,"High Pressure Sodium, 100 watts",null,"HPS100",40]
["High Pressure Sodium, 250 watts",7,10000,"HPS250",null,null,null,"High Pressure Sodium, 150 watts",null,"HPS150",50]
["High Pressure Sodium, 35 watts",5,10000,"HID35",null,null,null,"High Pressure Sodium, 200 watts",null,"HPS200",70]
["High Pressure Sodium, 400 watts",8,10000,"HPS400",null,null,null,"High Pressure Sodium, 250 watts",null,"HPS250",100]
["High Pressure Sodium, 50 watts",5,10000,"HID50",null,null,null,"High Pressure Sodium, 400 watts",null,"HPS400",100]
["High Pressure Sodium, 70 watts",5,10000,"HPS70",null,null,null,"High Pressure Sodium, 1000 watts",null,"HPS1000",250]
["High Pressure Sodium, 310 watts",null,null,"HPS310"]
["High Pressure Sodium, 750 watts",null,null,"HPS750"]
["High Pressure Sodium, 1500 watts",null,null,"HPS1500",null,null,null,"Mercury Vapor, 40 watts",null,"HID40",0]
["Incandescent",1,1000,"INCAN",null,null,null,"Mercury Vapor, 50 watts",null,"HID50",0]
["Marquee or Cabinet Sign, per foot",2,12000,"SIGN",null,null,null,"Mercury Vapor, 75 watts",null,"MV75",40]
["Mercury Vapor, 100 watts",6,10000,"MV100",null,null,null,"Mercury Vapor, 100 watts",null,"MV100",40]
["Mercury Vapor, 1000 watts",21,10000,"MV1000",null,null,null,"Mercury Vapor, 175 watts",null,"MV175",50]
["Mercury Vapor, 175 watts",3,10000,"MV175",null,null,null,"Mercury Vapor, 250 watts",null,"MV250",100]
["Mercury Vapor, 250 watts",7,10000,"MV250",null,null,null,"Mercury Vapor, 400 watts",null,"MV400",100]
["Mercury Vapor, 40 watts",17,10000,"HID40",null,null,null,"Mercury Vapor, 1000 watts",null,"MV1000",250]
["Mercury Vapor, 400 watts",10,10000,"MV400",null,null,null,"Metal Halide, 32 watts",null,"HID35",0]
["Mercury Vapor, 50 watts",17,10000,"HID50",null,null,null,"Metal Halide, 50 watts",null,"HID50",0]
["Mercury Vapor, 75 watts",6,10000,"MV75",null,null,null,"Metal Halide, 70 watts",null,"MH70",40]
["Mercury Vapor, 750 watts",null,null,"MV750",null,null,null,"Metal Halide, 100 watts",null,"MH100",40]
["Mercury Vapor, 1500 watts",null,null,"MV1500",null,null,null,"Metal Halide, 150 watts",null,"MH150",50]
["Metal Halide, 100 watts",10,15000,"MH100",null,null,null,"Metal Halide, 175 watts",null,"MH175",50]
["Metal Halide, 1000 watts",19,16000,"MH1000",null,null,null,"Metal Halide, 250 watts",null,"MH250",100]
["Metal Halide, 150 watts",10,15000,"MH150",null,null,null,"Metal Halide, 400 watts",null,"MH400",100]
["Metal Halide, 175 watts",13,15000,"MH175",null,null,null,"Metal Halide, 1000 watts",null,"MH1000",250]
["Metal Halide, 250 watts",18,15000,"MH250"]
["Metal Halide, 32 watts",30,15000,"HID35",null,null,null,"Added per SK (12/2/21)"]
["Metal Halide, 400 watts",15,20000,"MH400",null,null,null,"Metal Halide, 750 watts",null,"MH750",250]
["Metal Halide, 50 watts",10,15000,"HID50",null,null,null,"Metal Halide, 1500 watts",null,"MH1500",300]
["Metal Halide, 70 watts",10,15000,"MH70",null,null,null,"High Pressure Sodium, 310 watts",null,"HPS310",100]
["Metal Halide, 750 watts",null,null,"MH750",null,null,null,"High Pressure Sodium, 750 watts",null,"HPS750",250]
["Metal Halide, 1500 watts",null,null,"MH1500",null,null,null,"High Pressure Sodium, 1500 watts",null,"HPS1500",300]
["other refrigerated case light",null,null,"CASE",null,null,null,"Mercury Vapor, 750 watts",null,"MV750",250]
["Pulse Start Metal Halide, 320 watts",15,20000,"PSMH320",null,null,null,"Mercury Vapor, 1500 watts",null,"MV1500",300]
["Pulse Start Metal Halide, 350 watts",15,20000,"PSMH350"]
["Pulse Start Metal Halide, 750 watts",19,20000,"HID1000"]
["Relamp 4' T5 54W (only use for T5 relamp)",6,25000,"T5-4RL"]
["T5  1-lamp fixture (28W lamp)",6,25000,"T51"]
["T5  2-lamp fixture (28W lamp)",6,25000,"T52"]
["T5HO 2ft 2 Lamp Fixture",6,25000,"T522"]
["T5HO 2ft 3 Lamp Fixture",6,25000,"T523"]
["T5HO 2ft 4 Lamp Fixture",6,25000,"T524"]
["T5HO10-lamp fixture (54 watt)",6,25000,"T5"]
["T5HO10-lamp fixture (low watt)",6,25000,"T5LW"]
["T5HO12-lamp fixture (54 watt)",6,25000,"T5"]
["T5HO12-lamp fixture (low watt)",6,25000,"T5LW"]
["T5HO1-lamp fixture (54 watt)",6,25000,"T5"]
["T5HO1-lamp fixture (low watt)",6,25000,"T5LW"]
["T5HO2-lamp fixture (54 watt)",6,25000,"T5"]
["T5HO2-lamp fixture (low watt)",6,25000,"T5LW"]
["T5HO3-lamp fixture (54 watt)",6,25000,"T5"]
["T5HO3-lamp fixture (low watt)",6,25000,"T5LW"]
["T5HO4-lamp fixture (54 watt)",6,25000,"T5"]
["T5HO4-lamp fixture (low watt)",6,25000,"T5LW"]
["T5HO5-lamp fixture",6,25000,"T5"]
["T5HO6-lamp fixture (54 watt)",6,25000,"T5"]
["T5HO6-lamp fixture (low watt)",6,25000,"T5LW"]
["T5HO8-lamp fixture (54 watt)",6,25000,"T5"]
["T5HO8-lamp fixture (low watt)",6,25000,"T5LW"]
["U bent 1 lamp T12",6,20000,"FL-U1"]
["U bent 1 lamp T8",6,20000,"FL-8U1"]
["U bent 2 lamp T12",6,20000,"FL-U2"]
["U bent 2 lamp T8",6,20000,"FL-8U2"]
["Electronic Metal Halide, 150 watts",18,15000,"FL-1Metal"]
["Electronic Metal Halide, 200 watts",18,15000,"FL-1Metal"]
["Electronic Metal Halide, 250 watts",18,15000,"FL-1Metal"]
["Electronic Metal Halide, 300 watts",15,20000,"FL-2Metal"]
["Electronic Metal Halide, 320 watts",15,20000,"FL-2Metal"]
["Electronic Metal Halide, 350 watts",15,20000,"FL-2Metal"]
["Electronic Metal Halide, 400 watts",15,20000,"FL-2Metal"]
["Electronic Metal Halide, 450 watts",19,20000,"FL-2Metal"]
["Exterior LED fixture (need catalog # & cut sheet)",210,50000,"FL-5LED"]
["HID replacement screw-in LED lamp",150,50000,"FL-5replacement"]
["Induction lamp",150,70000,"FL-7lamp"]
["LED high-bay luminaire",210,50000,"FL-5LED"]
["Metal Halide, 100 watts",10,15000,"FL-1Halide"]
["Metal Halide, 150 watts",10,15000,"FL-1Halide"]
["Metal Halide, 32 watts",30,15000,"FL-1Halide"]
["Metal Halide, 50 watts",30,15000,"FL-1Halide"]
["Metal Halide, 70 watts",10,15000,"FL-1Halide"]
["Other Exterior LED fixture (need catalog # & cut sheet)",210,50000,"FL-5Exterior"]
["Other LED fixture (need catalog # & cut sheet)",210,50000,"FL-5LED"]
["Other LED replacement lamp (contact Project Coordinator)",50,25000,"FL-2LED"]
["Pulse Start Metal Halide, 150 watts",18,15000,"FL-1Start"]
["Pulse Start Metal Halide, 200 watts",18,15000,"FL-1Start"]
["Pulse Start Metal Halide, 250 watts",18,15000,"FL-1Start"]
["Pulse Start Metal Halide, 300 watts",15,20000,"FL-2Start"]
["Pulse Start Metal Halide, 320 watts",15,20000,"FL-2Start"]
["Pulse Start Metal Halide, 350 watts",15,20000,"FL-2Start"]
["Pulse Start Metal Halide, 400 watts",15,20000,"FL-2Start"]
["Pulse Start Metal Halide, 450 watts",19,20000,"FL-2Start"]
["Pulse Start Metal Halide, 750 watts",19,16000,"FL-1Start"]
["T5  1-lamp fixture (28W lamp)",6,25000,"FL-21"]
["T5  2-lamp fixture (28W lamp)",6,25000,"FL-22"]
["T5HO 2ft 2 Lamp Fixture",6,25000,"FL-22ft"]
["T5HO 2ft 3 Lamp Fixture",6,25000,"FL-22ft"]
["T5HO 2ft 4 Lamp Fixture",6,25000,"FL-22ft"]
["T5HO10-lamp fixture",6,25000,"FL-2lamp"]
["T5HO12-lamp fixture",6,25000,"FL-2lamp"]
["T5HO1-lamp fixture",6,25000,"FL-2lamp"]
["T5HO2-lamp fixture",6,25000,"FL-2lamp"]
["T5HO3-lamp fixture",6,25000,"FL-2lamp"]
["T5HO4-lamp fixture (54watt)",6,25000,"FL-2lamp"]
["T5HO4-lamp fixture (low watt)",6,25000,"FL-2lamp"]
["T5HO5-lamp fixture",6,25000,"FL-2lamp"]
["T5HO6-lamp fixture (54watt)",6,25000,"FL-2lamp"]
["T5HO6-lamp fixture (low watt)",6,25000,"FL-2lamp"]
["T5HO8-lamp fixture",6,25000,"FL-2lamp"]
["U Bent 1 lamp T8",4.4000000000000004,20000,"FL-1Bent"]
["U Bent 1 lamp T8 (BF ≤.78)",4.4000000000000004,20000,"FL-1Bent"]
["U bent 2 lamp HP T8 (0.85<BF≤1.0)",4.4000000000000004,20000,"FL-1bent"]
["U bent 2 lamp HP T8 (BF≤0.85)",4.4000000000000004,20000,"FL-1bent"]
["U Bent 2 lamp T8",4.4000000000000004,20000,"FL-1Bent"]
["U Bent 2 lamp T8 (BF ≤.78)",4.4000000000000004,20000,"FL-1Bent"]

{"sheet":"Lookups","index":10,"n_rows":152,"n_cols":13,"rows_kept":152,"cut":false,"hidden":true,"merged":[[27,1,27,2],[27,6,27,7],[27,8,27,9]]}
[null,"Code","Description","Code","Description",null,"Code",null,null,null,"Measure Code","Life"]
[null,"1FLOOR","First Floor","EXCOMLIT","ExCommLight",null,"N"]
[null,"2FLOOR","Second Floor","EXSCHGHT","ExSchoolGasHt",null,"Y",null,null,"Existing Buildings",3,4]
["Remove","3FLOOR","Third Floor","FLAT","FLAT",null,null,null,null,"Production Efficiency",7,8]
["Public Sector Only","BACK","Back of Structure","INDSHFT1","IndShift1",null,null,null,null,"Multifamily",9,10]
[null,"BASEMENT","Basement","INDSHFT2","IndShift2"]
[null,"BEDROOM","Bedroom","STLIGHT ","StreetLight",null,null,null,null,"Current Actual Value:",{"$f":"VLOOKUP('100L Information'!$AI$46, Lookups!$J$3:$K$6, 2, FALSE)","v":3},{"$f":"VLOOKUP('100L Information'!$AI$46, Lookups!$J$3:$L$6, 3, FALSE)","v":4}]
[null,"BOTTOM","Bottom"]
[null,"CEILING","Ceiling"]
[null,"COMMON","Common area"]
[null,"DINING","Dining room"]
[null,"EXTERIOR","Exterior"]
[null,"FAMILYRM","Family room"]
[null,"FLOOR","Floor"]
[null,"FRONT","Front of Structure"]
[null,"GARAGE","Garage"]
[null,"HALL","Hall"]
[null,"KITCHEN","Kitchen"]
[null,"LAUNDRY","Laundry"]
[null,"LIVINGRM","Living room"]
[null,"OFFICE","Office"]
[null,"OTHER","Other"]
[null,"PORCH","Porch"]
[null,"ROOF","Roof"]
[null,"TOP","Top"]
[null,"WALL","Wall"]
[]
[null,"Existing Buildings",null,null,null,null,"Production Efficiency",null,"Multifamily"]
["DESCRIPTION FROM LIGHTING TOOL","Category","PRODUCTCODE","Life","Therm","LP_Gas","PRODUCTCODE","Life","PRODUCTCODE","Life","MAD","Verision","Public Sector"]
["Additional Project Costs","ADDLPROJCOSTS","ADDLPROJCOSTS",0,0,"NONEG","ADDLPROJCOSTS",0,"ADDLPROJCOSTS",0,0]
["Incentive Cap",null,"INCAPE",0,0,"NONEG","INCAPE",0,"INCAPE",0,0]
["Controls only",null,null,10,0,"NONEG",null,0,null,10,73]
["LED street light (Utility Owned)","LIGHTING","LEDSTREETU",13,0,"NONEG",null,null,null,null,38,3]
["LED Street Lighting replacing 70W HID","LIGHTING","STREETHIDLED70W",13,0,"NONEG",null,null,null,null,38,3]
["LED Street Lighting replacing 100W HID","LIGHTING","STREETHIDLED100W",13,0,"NONEG",null,null,null,null,38,3]
["LED Street Lighting replacing 150W HID","LIGHTING","STREETHIDLED150W",13,0,"NONEG",null,null,null,null,38,3]
["LED Street Lighting replacing 175W HID","LIGHTING","STREETHIDLED175W",13,0,"NONEG",null,null,null,null,38,3]
["LED Street Lighting replacing 200W HID","LIGHTING","STREETHIDLED200W",13,0,"NONEG",null,null,null,null,38,3]
["LED Street Lighting replacing 250W HID","LIGHTING","STREETHIDLED250W",13,0,"NONEG",null,null,null,null,38,3]
["LED Street Lighting replacing 310W HID","LIGHTING","STREETHIDLED310W",13,0,"NONEG",null,null,null,null,38,3]
["LED Street Lighting replacing 350W HID","LIGHTING","STREETHIDLED350W",13,0,"NONEG",null,null,null,null,38,3]
["LED Street Lighting replacing 400W HID","LIGHTING","STREETHIDLED400W",13,0,"NONEG",null,null,null,null,38,3]
["LED Street Lighting replacing 750W HID","LIGHTING","STREETHIDLED750W",13,0,"NONEG",null,null,null,null,38,3]
["LED Street Lighting replacing 1000W HID","LIGHTING","STREETHIDLED1000W",13,0,"NONEG",null,null,null,null,38,3]
["LED Street Lighting replacing 1500W HID","LIGHTING","STREETHIDLED1500W",13,0,"NONEG",null,null,null,null,38,3]
["LED Grow Light","GROW","GROWLED",13,0,"NONEG","GROWLED",13,null,null,0]
["TLED Grow Light","GROW","GROWTLED",13,0,"NONEG","GROWTLED",13,null,null,0]
["Lighting in Refrigerated Spaces","LIGHTING","PELITREF",0,0,"NONEG","PELITREF",0,"PELITREF",0,0]
["Reduced HVAC in indoor grow spaces","PELITREF",null,null,0,"NONEG","RDCHVACINDOORGRW",10,null,null,0]
["2' TLED lamp at line voltage","TLED","2TLEDLV",11,0,"NONEG","2TLEDLV",11,"2TLEDLV",11,8,6,1.5]
["2' TLED lamp using existing fluorescent ballast","Relamp","2TLEDB",7,0,"NONEG","2TLEDB",7,"2TLEDB",11,8,6,1]
["2' TLED lamp with new fluorescent ballast","TLED","2TLEDREBALLAST",11,0,"NONEG","2TLEDREBALLAST",11,"2TLEDREBALLAST",11,8,6,1.5]
["2' TLED lamp with remote driver","TLED","2TLEDRD",11,0,"NONEG","2TLEDRD",11,"2TLEDRD",11,8,6,1.5]
["3' TLED lamp at line voltage","TLED","3TLEDLV",11,0,"NONEG","3TLEDLV",11,"3TLEDLV",11,8,6,2.25]
["3' TLED lamp using existing fluorescent ballast","Relamp","3TLEDB",7,0,"NONEG","3TLEDB",7,"3TLEDB",11,8,6,1.5]
["3' TLED lamp with new fluorescent ballast","TLED","3TLEDREBALLAST",11,0,"NONEG","3TLEDREBALLAST",11,"3TLEDREBALLAST",11,8,6,2.25]
["3' TLED lamp with remote driver","TLED","3TLEDRD",11,0,"NONEG","3TLEDRD",11,"3TLEDRD",11,8,6,2.25]
["4' TLED lamp at line voltage","TLED","4TLEDLV",11,0,"NONEG","4TLEDLV",11,"4TLEDLV",11,8,6,3]
["4' TLED lamp using existing fluorescent ballast","Relamp","4TLEDB",7,0,"NONEG","4TLEDB",7,"4TLEDB",11,8,6,2]
["4' TLED lamp with new fluorescent ballast","TLED","4TLEDREBALLAST",11,0,"NONEG","4TLEDREBALLAST",11,"4TLEDREBALLAST",11,8,6,3]
["4' TLED lamp with remote driver","TLED","4TLEDRD",11,0,"NONEG","4TLEDRD",11,"4TLEDRD",11,8,6,3]
["5' TLED lamp at line voltage","TLED","5TLEDLV",11,0,"NONEG","5TLEDLV",11,"5TLEDLV",11,8,6,3.75]
["5' TLED lamp using existing fluorescent ballast","Relamp","5TLEDB",7,0,"NONEG","5TLEDB",7,"5TLEDB",11,8,6,2.5]
["5' TLED lamp with new fluorescent ballast","TLED","5TLEDREBALLAST",11,0,"NONEG","5TLEDREBALLAST",11,"5TLEDREBALLAST",11,8,6]
["5' TLED lamp with remote driver","TLED","5TLEDRD",11,0,"NONEG","5TLEDRD",11,"5TLEDRD",11,8,6,3.75]
["6' TLED lamp at line voltage","TLED","6TLEDLV",11,0,"NONEG","6TLEDLV",11,"6TLEDLV",11,8,6,4.5]
["6' TLED lamp using existing fluorescent ballast","Relamp","6TLEDB",7,0,"NONEG","6TLEDB",7,"6TLEDB",11,8,6,3]
["6' TLED lamp with new fluorescent ballast","TLED","6TLEDREBALLAST",11,0,"NONEG","6TLEDREBALLAST",11,"6TLEDREBALLAST",11,8,6,4.5]
["6' TLED lamp with remote driver","TLED","6TLEDRD",11,0,"NONEG","6TLEDRD",11,"6TLEDRD",11,8,6,4.5]
["8' TLED lamp at line voltage","TLED","8TLEDLV",11,0,"NONEG","8TLEDLV",11,"8TLEDLV",11,8,6,6]
["8' TLED lamp using existing fluorescent ballast","Relamp","8TLEDB",7,0,"NONEG","8TLEDB",7,"8TLEDB",11,8,6,4]
["8' TLED lamp with new fluorescent ballast","TLED","8TLEDREBALLAST",11,0,"NONEG","8TLEDREBALLAST",11,"8TLEDREBALLAST",11,8,6,6]
["8' TLED lamp with remote driver","TLED","8TLEDRD",11,0,"NONEG","8TLEDRD",11,"8TLEDRD",11,8,6,6]
["U-Bent TLED lamp (4' to fit 2') using exist. fluorescent ballast","Relamp","TLEDUB",7,0,"NONEG","TLEDUB",7,"TLEDUB",11,8,6,2]
["U-Bent TLED lamp (4' bent to fit 2') at line voltage","TLED","TLEDUBLV",11,0,"NONEG","TLEDUBLV",11,"TLEDUBLV",11,8,6,3]
["U-Bent TLED lamp (4' bent to fit 2') with new ballast","TLED","TLEDUBREBALLAST",11,0,"NONEG","TLEDUBREBALLAST",11,"TLEDUBREBALLAST",11,8,6,3]
["U-Bent TLED lamp (4' bent to fit 2') with remote driver","TLED","TLEDUBRD",11,0,"NONEG","TLEDUBRD",11,"TLEDUBRD",11,8,6,3]
["CFL to pin base LED with new ballast","PINBASELED","PINBASELEDAPLUS",7,0,"NONEG","PINBASELEDAPLUS",7,"PINBASELEDAPLUS",7,8,6]
["CFL to pin base LED with existing ballast","Relamp","PINBASELEDRELAMP",7,0,"NONEG","PINBASELEDRELAMP",7,"PINBASELEDRELAMP",7,8,6]
["CFL to pin base LED at line voltage or with remote driver","PINBASELED","PINBASELEDBC",11,0,"NONEG","PINBASELEDBC",11,"PINBASELEDBC",11,8,6]
["HID to LED Screw-in, 40W or less","SCREWINLED40W","SCREWINLED40W",12,0,"NONEG","SCREWINLED40W",12,"SCREWINLED40W",12,33,4,15]
["HID to LED Screw-in, 41-100W","SCREWINLED41100","SCREWINLED41100",12,0,"NONEG","SCREWINLED41100",12,"SCREWINLED41100",12,33,4,25]
["HID to LED Screw-in, 101-160W","SCREWINLED101160","SCREWINLED101160",12,0,"NONEG","SCREWINLED101160",12,"SCREWINLED101160",12,33,4,35]
["HID to LED Screw-in, 161W or greater","SCREWINLED161W","SCREWINLED161W",12,0,"NONEG","SCREWINLED161W",12,"SCREWINLED161W",12,33,4,35]
["CFL to pin base LED","CFLPINBASE","CFLPINBASE",11,0,"NONEG","CFLPINBASE",11,"CFLPINBASE",11,49,6]
["LED lamp <20W (PAR/R/MR)","10TO19WLED","10TO19WLED",6,0,"NONEG","10TO19WLED",6,"10TO19WLED",6,49,6]
["LED lamp 20W or greater (PAR/R/MR)","20WMORELED","20WMORELED",6,0,"NONEG","20WMORELED",6,"20WMORELED",6,49,6]
["Interior Recessed Canister Downlight LED","LEDDOWN","INTLEDDOWN",11,0,"NONEG","INTLEDDOWN",11,"INTLEDDOWN",11,49,6]
["Exterior Recessed Canister Downlight LED","EXTERIOR","EXLEDDOWN",11,0,"NONEG","EXLEDDOWN",11,"EXLEDDOWN",11,62,4]
["LED A-Lamp","LEDALAMP","LEDALAMP",5,0,"NONEG","LEDALAMP",5,"LEDALAMP",5,49,6]
["LED globe screw-in lamp","LEDGLOBE","LEDGLOBE",4,0,"NONEG","LEDGLOBE",4,"LEDGLOBE",4,49,6]
["LED small screw-base candelabra lamp","LEDCANDLE","LEDCANDLE",4,0,"NONEG","LEDCANDLE",4,"LEDCANDLE",4,49,6]
["Exterior LED fixture, 20W or less","EXLED20W","EXLED20W",13,0,"NONEG","EXLED20W",13,"EXLED20W",13,62,4]
["Exterior LED fixture, 21-40W ","EXLED40W","EXLED40W",13,0,"NONEG","EXLED40W",13,"EXLED40W",13,62,4]
["Exterior LED fixture, 41-90W ","EXLED90W","EXLED90W",13,0,"NONEG","EXLED90W",13,"EXLED90W",13,62,4]
["Exterior LED fixture, 91-140W ","EXLED140W","EXLED140W",13,0,"NONEG","EXLED140W",13,"EXLED140W",13,62,4]
["Exterior LED fixture, 141-299W ","EXLED299W","EXLED299W",13,0,"NONEG","EXLED299W",13,"EXLED299W",13,62,4]
["Exterior LED fixture, 300W or greater","EXLED300W","EXLED300W",13,0,"NONEG","EXLED300W",13,"EXLED300W",13,62,4]
["LED fixture or kit, 25W or less","LEDTROFFER25W","LEDTROFFER25W",12,0,"NONEG","LEDTROFFER25W",12,"LEDTROFFER25W",12,64,6]
["LED fixture or kit, 26-39W","LEDTROFFER39W","LEDTROFFER39W",12,0,"NONEG","LEDTROFFER39W",12,"LEDTROFFER39W",12,64,6]
["LED fixture or kit, 40-57W","LEDTROFFER57W","LEDTROFFER57W",12,0,"NONEG","LEDTROFFER57W",12,"LEDTROFFER57W",12,64,6]
["LED fixture or kit, 58-100W","LEDTROFFER100W","LEDTROFFER100W",12,0,"NONEG","LEDTROFFER100W",12,"LEDTROFFER100W",12,64,6]
["Wall Switch Occupancy Sensor, 30W or greater","OCCWLSWITCH30W","OCCWLSWITCH30W",10,0,"NONEG","OCCWLSWITCH30W",10,"OCCWLSWITCH30W",10,73,5]
["Wall Switch Vacancy Sensor, 30W or greater","VACWLSWITCH30W","VACWLSWITCH30W",10,0,"NONEG","VACWLSWITCH30W",10,"VACWLSWITCH30W",10,73,5]
["Exterior Occupancy Sensor, fixture or pole mount, 20-39W","EXTOCC20-39W","EXTOCC20TO39W",10,0,"NONEG","EXTOCC20TO39W",10,"EXTOCC20TO39W",10,73,4]
["Exterior Occupancy Sensor, fixture or pole mount, 40W or greater","EXTOCC40W","EXTOCC40W",10,0,"NONEG","EXTOCC40W",10,"EXTOCC40W",10,73,5]
["Hard-Wired Occupancy Sensor, ceiling/corner/surface mount, 100W or greater","OCCOTH100W","OCCOTH100W",10,0,"NONEG","OCCOTH100W",10,"OCCOTH100W",10,73,5]
["Occupancy Sensor, fixture mount, 30W or greater","OCCFIX30W","OCCFIX30W",10,0,"NONEG","OCCFIX30W",10,"OCCFIX30W",10,73,5]
["Wireless Occ Sensor ceiling/corner/surface mount 100W or greater","WIRLESSOCCOTH100W","WIRLESSOCCOTH100W",10,0,"NONEG","WIRLESSOCCOTH100W",10,"WIRLESSOCCOTH100W",10,73,5]
["Interior Fixtures with LLLC","LLLC","INTFXTLLLC",10,0,"NONEG","INTFXTLLLC",10,null,null,73,5]
["High-Bay with LLLC","LLLC","HIBAYLLLC",10,0,"NONEG","HIBAYLLLC",10,null,null,73,5]
["Exterior with LLLC","LLLC","EXTFXTLLC",10,0,"NONEG","EXTFXTLLC",10,null,null,73,5]
["Fixture removal, Interior (no incentive)","FIXREMOVE","FIXREMOVEINT",7,0,"NONEG","FIXREMOVEINT",7,"FIXREMOVEINT",7,244,1]
["Fixture removal, Exterior (no incentive)","FIXREMOVE","FIXREMOVEEXT",8,0,"NONEG","FIXREMOVEEXT",8,"FIXREMOVEEXT",8,244,1]
["Motion Sensor, on Low Power LED","CASE LIGHTING","MSLEDCL4W",8,0,"NONEG","MSLEDCL4W",8,"MSLEDCL4W",8,78,2]
["Motion Sensor, on High Power LED","CASE LIGHTING","MSLEDCL4W75W",8,0,"NONEG","MSLEDCL4W75W",8,"MSLEDCL4W75W",8,78,2]
["Single Row T8 Low Power LED (Medium Temp⁯ Case)","CASE LIGHTING","LEDCLSRT8MED",8,0,"NONEG","LEDCLSRT8MED",8,"LEDCLSRT8MED",8,78,2]
["Single Row T12 Low Power LED (Medium Temp⁯ Case)","CASE LIGHTING","LEDCLSRT12MED",8,0,"NONEG","LEDCLSRT12MED",8,"LEDCLSRT12MED",8,78,2]
["Double Row T8 High Power LED (Medium Temp⁯ Case)","CASE LIGHTING","LEDCLDRT8MED",8,0,"NONEG","LEDCLDRT8MED",8,"LEDCLDRT8MED",8,78,2]
["Double Row T12 High Power LED (Medium Temp⁯ Case)","CASE LIGHTING","LEDCLDRT12MED",8,0,"NONEG","LEDCLDRT12MED",8,"LEDCLDRT12MED",8,78,2]
["Single Row T8 Low Power LED (Medium Temp Case or Low Temp Case)","CASE LIGHTING","LEDCLSRT8OUT",8,0,"NONEG","LEDCLSRT8OUT",8,"LEDCLSRT8OUT",8,78,2]
["Single Row T12 Low Power LED (Medium Temp Case or Low Temp Case)","CASE LIGHTING","LEDCLSRT12OUT",8,0,"NONEG","LEDCLSRT12OUT",8,"LEDCLSRT12OUT",8,78,2]
["Double Row T8 High Power LED (Medium Temp Case or Low Temp Case)","CASE LIGHTING","LEDCLDRT8OUT",8,0,"NONEG","LEDCLDRT8OUT",8,"LEDCLDRT8OUT",8,78,2]
["Double Row T12 High Power LED (Medium Temp Case or Low Temp Case)","CASE LIGHTING","LEDCLDRT12OUT",8,0,"NONEG","LEDCLDRT12OUT",8,"LEDCLDRT12OUT",8,78,2]
["Single Row T8 Low Power LED (Low Temp Case)","CASE LIGHTING","LEDCLSRT8LOW",8,0,"NONEG","LEDCLSRT8LOW",8,"LEDCLSRT8LOW",8,78,2]
["Single Row T12 Low Power LED (Low Temp Case)","CASE LIGHTING","LEDCLSRT12LOW",8,0,"NONEG","LEDCLSRT12LOW",8,"LEDCLSRT12LOW",8,78,2]
["Double Row T8 High Power LED (Low Temp Case)","CASE LIGHTING","LEDCLDRT8LOW",8,0,"NONEG","LEDCLDRT8LOW",8,"LEDCLDRT8LOW",8,78,2]
["Double Row T12 High Power LED (Low Temp Case)","CASE LIGHTING","LEDCLDRT12LOW",8,0,"NONEG","LEDCLDRT12LOW",8,"LEDCLDRT12LOW",8,78,2]
["LED High-Bay or Low-Bay, 91-140W","LEDHIBAY140","LEDHIBAY140",13,0,"NONEG","LEDHIBAY140",13,"LEDHIBAY140",13,211,4]
["LED High-Bay or Low-Bay, 141-299W","LEDHIBAY299","LEDHIBAY299",13,0,"NONEG","LEDHIBAY299",13,"LEDHIBAY299",13,211,4]
["LED High-Bay or Low-Bay, 300W or greater","LEDHIBAY300","LEDHIBAY300",13,0,"NONEG","LEDHIBAY300",13,"LEDHIBAY300",13,211,4]
["LED High-Bay or Low-Bay, 40-90W","LEDHIBAY90","LEDHIBAY90",13,0,"NONEG","LEDHIBAY90",13,"LEDHIBAY90",13,211,4]
["Custom control system","CUSTOMLIGHT","BECUSTLIGHTCONT",10,0,"NONEG","CUSTOMLIGHTCNTRL",10,"BECUSTLIGHTCONT",10,"Custom"]
["Fixture controlled by other sensor","CUSTOMLIGHT","BECUSTLIGHTCONT",10,0,"NONEG","CUSTOMLIGHTCNTRL",10,"BECUSTLIGHTCONT",10,"Custom"]
["Other","CUSTOMLIGHT","BECUSTLIGHT",13,0,"NONEG","BECUSTLIGHT",13,"BECUSTLIGHT",13,"Custom"]
["Other exterior LED fixture","CUSTOMLIGHT","BECUSLEDFIX",13,0,"NONEG","BECUSLEDFIX",13,"BECUSLEDFIX",13,"Custom"]
["Other LED fixture","CUSTOMLIGHT","BECUSLEDFIX",13,0,"NONEG","BECUSLEDFIX",13,"BECUSLEDFIX",13,"Custom"]
["Other LED replacement lamp (contact Project Coordinator)","CUSTOMLIGHT","CUSTLEDLAMP",7,0,"NONEG","CUSTLEDLAMP",7,"CUSTLEDLAMP",7,"Custom"]
["Single Row T8 Low Power LED Inside Refrigerated Space Medium Temperature Case","CASE LIGHTING","LEDCLSRT8MED",7,null,"NONEG","LEDCLSRT8MED",7,"LEDCLSRT8MED",7,78,2023]
["Single Row T12 Low Power LED Inside Refrigerated Space Medium Temperature Case","CASE LIGHTING","LEDCLSRT12MED",7,null,"NONEG","LEDCLSRT12MED",7,"LEDCLSRT12MED",7,78,2023]
["Double Row T8 High Power LED Inside Refrigerated Space Medium Temperature Case","CASE LIGHTING","LEDCLDRT8MED",7,null,"NONEG","LEDCLDRT8MED",7,"LEDCLDRT8MED",7,78,2023]
["Double Row T12 High Power LED Inside Refrigerated Space Medium Temperature Case","CASE LIGHTING","LEDCLDRT12MED",7,null,"NONEG","LEDCLDRT12MED",7,"LEDCLDRT12MED",7,78,2023]
["Single Row T8 Low Power LED Inside Refrigerated Space Low Temperature Case","CASE LIGHTING","LEDCLSRT8LOW",7,null,"NONEG","LEDCLSRT8LOW",7,"LEDCLSRT8LOW",7,78,2023]
["Single Row T12 Low Power LED Inside Refrigerated Space Low Temperature Case","CASE LIGHTING","LEDCLSRT12LOW",7,null,"NONEG","LEDCLSRT12LOW",7,"LEDCLSRT12LOW",7,78,2023]
["Double Row T8 High Power LED Inside Refrigerated Space Low Temperature Case","CASE LIGHTING","LEDCLDRT8LOW",7,null,"NONEG","LEDCLDRT8LOW",7,"LEDCLDRT8LOW",7,78,2023]
["Double Row T12 High Power LED Inside Refrigerated Space Low Temperature Case","CASE LIGHTING","LEDCLDRT12LOW",7,null,"NONEG","LEDCLDRT12LOW",7,"LEDCLDRT12LOW",7,78,2023]
["Single Row T8 Low Power LED Outside Refrigerated Space HVAC Interaction","CASE LIGHTING",null,7,null,"NONEG",null,7,null,7,78,2023]
["Single Row T12 Low Power LED Outside Refrigerated Space HVAC Interaction","CASE LIGHTING","LEDCLSRT12OUT",7,null,"NONEG","LEDCLSRT12OUT",7,"LEDCLSRT12OUT",7,78,2023]
["Double Row T8 High Power LED Outside Refrigerated Space HVAC Interaction","CASE LIGHTING","LEDCLDRT8OUT",7,null,"NONEG","LEDCLDRT8OUT",7,"LEDCLDRT8OUT",7,78,2023]
["Double Row T12 High Power LED Outside Refrigerated Space HVAC Interaction","CASE LIGHTING","LEDCLDRT12OUT",7,null,"NONEG","LEDCLDRT12OUT",7,"LEDCLDRT12OUT",7,78,2023]
["Motion Sensor on Refrigerated Case - Single Row","CASE LIGHTING","MSLEDCL4W",8,null,"NONEG","MSLEDCL4W",8,"MSLEDCL4W",8,78,2023]
["Motion Sensor on Refrigerated Case - Double Row","CASE LIGHTING","MSLEDCL4W75W",8,null,"NONEG","MSLEDCL4W75W",8,"MSLEDCL4W75W",8,78,2023]

{"sheet":"Summary Source","index":11,"n_rows":431,"n_cols":10,"rows_kept":431,"cut":false,"hidden":true,"merged":[[401,9,413,9],[1,9,200,9],[201,9,400,9]]}
["Measure","Install Qty","Total Install Cost","Proposed kWh Savings","Final Incentive Paid","Electric Load Profile","NEB","Location","Existing Condition","Source Worksheet"]
[{"$f":"IF('Analysis 103L'!J28=\"\",\"\",IF(AND(C2=0,D2=0),\"\",IF(RIGHT('Analysis 103L'!I28,4)=\"Case\",'Analysis 103L'!CJ28,'Analysis 103L'!J28)))","v":""},{"$f":"IF('Analysis 103L'!P28=\"\",\"\",IF(A2=\"\", \"\", 'Analysis 103L'!P28))","v":""},{"$f":"IF('Analysis 103L'!S28=\"\",\"\",IF(RIGHT('Analysis 103L'!I28,4)=\"Case\",'Analysis 103L'!R28, 'Analysis 103L'!S28))","v":""},{"$f":"IF(ISNUMBER('Analysis 103L'!AT28),'Analysis 103L'!AT28,\"\")","v":""},{"$f":"IF('Analysis 103L'!D28=\"\",\"\",'Analysis 103L'!AA28)","v":""},{"$f":"IF(E2=\"\",\"\",'Analysis 103L'!BE28)","v":""},{"$f":"IFERROR('Analysis 103L'!CD28*B2,\"\")","v":""},{"$f":"IF('Analysis 103L'!C28=\"\",\"\",'Analysis 103L'!C28)","v":""},{"$f":"IF('Analysis 103L'!E28=\"\",\"\",IF(AND(C2=0,D2=0),\"\",'Analysis 103L'!E28))","v":""},"Analysis 103L"]
[{"$f":"IF('Analysis 103L'!J29=\"\",\"\",IF(AND(C3=0,D3=0),\"\",IF(RIGHT('Analysis 103L'!I29,4)=\"Case\",'Analysis 103L'!CJ29,'Analysis 103L'!J29)))","v":""},{"$f":"IF('Analysis 103L'!P29=\"\",\"\",IF(A3=\"\", \"\", 'Analysis 103L'!P29))","v":""},{"$f":"IF('Analysis 103L'!S29=\"\",\"\",IF(RIGHT('Analysis 103L'!I29,4)=\"Case\",'Analysis 103L'!R29, 'Analysis 103L'!S29))","v":""},{"$f":"IF(ISNUMBER('Analysis 103L'!AT29),'Analysis 103L'!AT29,\"\")","v":""},{"$f":"IF('Analysis 103L'!D29=\"\",\"\",'Analysis 103L'!AA29)","v":""},{"$f":"IF(E3=\"\",\"\",'Analysis 103L'!BE29)","v":""},{"$f":"IFERROR('Analysis 103L'!CD29*B3,\"\")","v":""},{"$f":"IF('Analysis 103L'!C29=\"\",\"\",'Analysis 103L'!C29)","v":""},{"$f":"IF('Analysis 103L'!E29=\"\",\"\",IF(AND(C3=0,D3=0),\"\",'Analysis 103L'!E29))","v":""}]
[{"$f":"IF('Analysis 103L'!J30=\"\",\"\",IF(AND(C4=0,D4=0),\"\",IF(RIGHT('Analysis 103L'!I30,4)=\"Case\",'Analysis 103L'!CJ30,'Analysis 103L'!J30)))","v":""},{"$f":"IF('Analysis 103L'!P30=\"\",\"\",IF(A4=\"\", \"\", 'Analysis 103L'!P30))","v":""},{"$f":"IF('Analysis 103L'!S30=\"\",\"\",IF(RIGHT('Analysis 103L'!I30,4)=\"Case\",'Analysis 103L'!R30, 'Analysis 103L'!S30))","v":""},{"$f":"IF(ISNUMBER('Analysis 103L'!AT30),'Analysis 103L'!AT30,\"\")","v":""},{"$f":"IF('Analysis 103L'!D30=\"\",\"\",'Analysis 103L'!AA30)","v":""},{"$f":"IF(E4=\"\",\"\",'Analysis 103L'!BE30)","v":""},{"$f":"IFERROR('Analysis 103L'!CD30*B4,\"\")","v":""},{"$f":"IF('Analysis 103L'!C30=\"\",\"\",'Analysis 103L'!C30)","v":""},{"$f":"IF('Analysis 103L'!E30=\"\",\"\",IF(AND(C4=0,D4=0),\"\",'Analysis 103L'!E30))","v":""}]
[{"$f":"IF('Analysis 103L'!J31=\"\",\"\",IF(AND(C5=0,D5=0),\"\",IF(RIGHT('Analysis 103L'!I31,4)=\"Case\",'Analysis 103L'!CJ31,'Analysis 103L'!J31)))","v":""},{"$f":"IF('Analysis 103L'!P31=\"\",\"\",IF(A5=\"\", \"\", 'Analysis 103L'!P31))","v":""},{"$f":"IF('Analysis 103L'!S31=\"\",\"\",IF(RIGHT('Analysis 103L'!I31,4)=\"Case\",'Analysis 103L'!R31, 'Analysis 103L'!S31))","v":""},{"$f":"IF(ISNUMBER('Analysis 103L'!AT31),'Analysis 103L'!AT31,\"\")","v":""},{"$f":"IF('Analysis 103L'!D31=\"\",\"\",'Analysis 103L'!AA31)","v":""},{"$f":"IF(E5=\"\",\"\",'Analysis 103L'!BE31)","v":""},{"$f":"IFERROR('Analysis 103L'!CD31*B5,\"\")","v":""},{"$f":"IF('Analysis 103L'!C31=\"\",\"\",'Analysis 103L'!C31)","v":""},{"$f":"IF('Analysis 103L'!E31=\"\",\"\",IF(AND(C5=0,D5=0),\"\",'Analysis 103L'!E31))","v":""}]
[{"$f":"IF('Analysis 103L'!J32=\"\",\"\",IF(AND(C6=0,D6=0),\"\",IF(RIGHT('Analysis 103L'!I32,4)=\"Case\",'Analysis 103L'!CJ32,'Analysis 103L'!J32)))","v":""},{"$f":"IF('Analysis 103L'!P32=\"\",\"\",IF(A6=\"\", \"\", 'Analysis 103L'!P32))","v":""},{"$f":"IF('Analysis 103L'!S32=\"\",\"\",IF(RIGHT('Analysis 103L'!I32,4)=\"Case\",'Analysis 103L'!R32, 'Analysis 103L'!S32))","v":""},{"$f":"IF(ISNUMBER('Analysis 103L'!AT32),'Analysis 103L'!AT32,\"\")","v":""},{"$f":"IF('Analysis 103L'!D32=\"\",\"\",'Analysis 103L'!AA32)","v":""},{"$f":"IF(E6=\"\",\"\",'Analysis 103L'!BE32)","v":""},{"$f":"IFERROR('Analysis 103L'!CD32*B6,\"\")","v":""},{"$f":"IF('Analysis 103L'!C32=\"\",\"\",'Analysis 103L'!C32)","v":""},{"$f":"IF('Analysis 103L'!E32=\"\",\"\",IF(AND(C6=0,D6=0),\"\",'Analysis 103L'!E32))","v":""}]
[{"$f":"IF('Analysis 103L'!J33=\"\",\"\",IF(AND(C7=0,D7=0),\"\",IF(RIGHT('Analysis 103L'!I33,4)=\"Case\",'Analysis 103L'!CJ33,'Analysis 103L'!J33)))","v":""},{"$f":"IF('Analysis 103L'!P33=\"\",\"\",IF(A7=\"\", \"\", 'Analysis 103L'!P33))","v":""},{"$f":"IF('Analysis 103L'!S33=\"\",\"\", IF(LEFT('Analysis 103L'!J33,6)=\"Motion\", \"\", IF(RIGHT('Analysis 103L'!I33,4)=\"Case\",'Analysis 103L'!R33, 'Analysis 103L'!S33)))","v":""},{"$f":"IF(ISNUMBER('Analysis 103L'!AT33),'Analysis 103L'!AT33,\"\")","v":""},{"$f":"IF('Analysis 103L'!D33=\"\",\"\",'Analysis 103L'!AA33)","v":""},{"$f":"IF(E7=\"\",\"\",'Analysis 103L'!BE33)","v":""},{"$f":"IFERROR('Analysis 103L'!CD33*B7,\"\")","v":""},{"$f":"IF('Analysis 103L'!C33=\"\",\"\",'Analysis 103L'!C33)","v":""},{"$f":"IF('Analysis 103L'!E33=\"\",\"\",IF(AND(C7=0,D7=0),\"\",'Analysis 103L'!E33))","v":""}]
[{"$f":"IF('Analysis 103L'!J34=\"\",\"\",IF(AND(C8=0,D8=0),\"\",IF(RIGHT('Analysis 103L'!I34,4)=\"Case\",'Analysis 103L'!CJ34,'Analysis 103L'!J34)))","v":""},{"$f":"IF('Analysis 103L'!P34=\"\",\"\",IF(A8=\"\", \"\", 'Analysis 103L'!P34))","v":""},{"$f":"IF('Analysis 103L'!S34=\"\",\"\", IF(LEFT('Analysis 103L'!J34,6)=\"Motion\", \"\", IF(RIGHT('Analysis 103L'!I34,4)=\"Case\",'Analysis 103L'!R34, 'Analysis 103L'!S34)))","v":""},{"$f":"IF(ISNUMBER('Analysis 103L'!AT34),'Analysis 103L'!AT34,\"\")","v":""},{"$f":"IF('Analysis 103L'!D34=\"\",\"\",'Analysis 103L'!AA34)","v":""},{"$f":"IF(E8=\"\",\"\",'Analysis 103L'!BE34)","v":""},{"$f":"IFERROR('Analysis 103L'!CD34*B8,\"\")","v":""},{"$f":"IF('Analysis 103L'!C34=\"\",\"\",'Analysis 103L'!C34)","v":""},{"$f":"IF('Analysis 103L'!E34=\"\",\"\",IF(AND(C8=0,D8=0),\"\",'Analysis 103L'!E34))","v":""}]
[{"$f":"IF('Analysis 103L'!J35=\"\",\"\",IF(AND(C9=0,D9=0),\"\",IF(RIGHT('Analysis 103L'!I35,4)=\"Case\",'Analysis 103L'!CJ35,'Analysis 103L'!J35)))","v":""},{"$f":"IF('Analysis 103L'!P35=\"\",\"\",IF(A9=\"\", \"\", 'Analysis 103L'!P35))","v":""},{"$f":"IF('Analysis 103L'!S35=\"\",\"\", IF(LEFT('Analysis 103L'!J35,6)=\"Motion\", \"\", IF(RIGHT('Analysis 103L'!I35,4)=\"Case\",'Analysis 103L'!R35, 'Analysis 103L'!S35)))","v":""},{"$f":"IF(ISNUMBER('Analysis 103L'!AT35),'Analysis 103L'!AT35,\"\")","v":""},{"$f":"IF('Analysis 103L'!D35=\"\",\"\",'Analysis 103L'!AA35)","v":""},{"$f":"IF(E9=\"\",\"\",'Analysis 103L'!BE35)","v":""},{"$f":"IFERROR('Analysis 103L'!CD35*B9,\"\")","v":""},{"$f":"IF('Analysis 103L'!C35=\"\",\"\",'Analysis 103L'!C35)","v":""},{"$f":"IF('Analysis 103L'!E35=\"\",\"\",IF(AND(C9=0,D9=0),\"\",'Analysis 103L'!E35))","v":""}]
[{"$f":"IF('Analysis 103L'!J36=\"\",\"\",IF(AND(C10=0,D10=0),\"\",IF(RIGHT('Analysis 103L'!I36,4)=\"Case\",'Analysis 103L'!CJ36,'Analysis 103L'!J36)))","v":""},{"$f":"IF('Analysis 103L'!P36=\"\",\"\",IF(A10=\"\", \"\", 'Analysis 103L'!P36))","v":""},{"$f":"IF('Analysis 103L'!S36=\"\",\"\", IF(LEFT('Analysis 103L'!J36,6)=\"Motion\", \"\", IF(RIGHT('Analysis 103L'!I36,4)=\"Case\",'Analysis 103L'!R36, 'Analysis 103L'!S36)))","v":""},{"$f":"IF(ISNUMBER('Analysis 103L'!AT36),'Analysis 103L'!AT36,\"\")","v":""},{"$f":"IF('Analysis 103L'!D36=\"\",\"\",'Analysis 103L'!AA36)","v":""},{"$f":"IF(E10=\"\",\"\",'Analysis 103L'!BE36)","v":""},{"$f":"IFERROR('Analysis 103L'!CD36*B10,\"\")","v":""},{"$f":"IF('Analysis 103L'!C36=\"\",\"\",'Analysis 103L'!C36)","v":""},{"$f":"IF('Analysis 103L'!E36=\"\",\"\",IF(AND(C10=0,D10=0),\"\",'Analysis 103L'!E36))","v":""}]
[{"$f":"IF('Analysis 103L'!J37=\"\",\"\",IF(AND(C11=0,D11=0),\"\",IF(RIGHT('Analysis 103L'!I37,4)=\"Case\",'Analysis 103L'!CJ37,'Analysis 103L'!J37)))","v":""},{"$f":"IF('Analysis 103L'!P37=\"\",\"\",IF(A11=\"\", \"\", 'Analysis 103L'!P37))","v":""},{"$f":"IF('Analysis 103L'!S37=\"\",\"\", IF(LEFT('Analysis 103L'!J37,6)=\"Motion\", \"\", IF(RIGHT('Analysis 103L'!I37,4)=\"Case\",'Analysis 103L'!R37, 'Analysis 103L'!S37)))","v":""},{"$f":"IF(ISNUMBER('Analysis 103L'!AT37),'Analysis 103L'!AT37,\"\")","v":""},{"$f":"IF('Analysis 103L'!D37=\"\",\"\",'Analysis 103L'!AA37)","v":""},{"$f":"IF(E11=\"\",\"\",'Analysis 103L'!BE37)","v":""},{"$f":"IFERROR('Analysis 103L'!CD37*B11,\"\")","v":""},{"$f":"IF('Analysis 103L'!C37=\"\",\"\",'Analysis 103L'!C37)","v":""},{"$f":"IF('Analysis 103L'!E37=\"\",\"\",IF(AND(C11=0,D11=0),\"\",'Analysis 103L'!E37))","v":""}]
[{"$f":"IF('Analysis 103L'!J38=\"\",\"\",IF(AND(C12=0,D12=0),\"\",IF(RIGHT('Analysis 103L'!I38,4)=\"Case\",'Analysis 103L'!CJ38,'Analysis 103L'!J38)))","v":""},{"$f":"IF('Analysis 103L'!P38=\"\",\"\",IF(A12=\"\", \"\", 'Analysis 103L'!P38))","v":""},{"$f":"IF('Analysis 103L'!S38=\"\",\"\", IF(LEFT('Analysis 103L'!J38,6)=\"Motion\", \"\", IF(RIGHT('Analysis 103L'!I38,4)=\"Case\",'Analysis 103L'!R38, 'Analysis 103L'!S38)))","v":""},{"$f":"IF(ISNUMBER('Analysis 103L'!AT38),'Analysis 103L'!AT38,\"\")","v":""},{"$f":"IF('Analysis 103L'!D38=\"\",\"\",'Analysis 103L'!AA38)","v":""},{"$f":"IF(E12=\"\",\"\",'Analysis 103L'!BE38)","v":""},{"$f":"IFERROR('Analysis 103L'!CD38*B12,\"\")","v":""},{"$f":"IF('Analysis 103L'!C38=\"\",\"\",'Analysis 103L'!C38)","v":""},{"$f":"IF('Analysis 103L'!E38=\"\",\"\",IF(AND(C12=0,D12=0),\"\",'Analysis 103L'!E38))","v":""}]
[{"$f":"IF('Analysis 103L'!J39=\"\",\"\",IF(AND(C13=0,D13=0),\"\",IF(RIGHT('Analysis 103L'!I39,4)=\"Case\",'Analysis 103L'!CJ39,'Analysis 103L'!J39)))","v":""},{"$f":"IF('Analysis 103L'!P39=\"\",\"\",IF(A13=\"\", \"\", 'Analysis 103L'!P39))","v":""},{"$f":"IF('Analysis 103L'!S39=\"\",\"\", IF(LEFT('Analysis 103L'!J39,6)=\"Motion\", \"\", IF(RIGHT('Analysis 103L'!I39,4)=\"Case\",'Analysis 103L'!R39, 'Analysis 103L'!S39)))","v":""},{"$f":"IF(ISNUMBER('Analysis 103L'!AT39),'Analysis 103L'!AT39,\"\")","v":""},{"$f":"IF('Analysis 103L'!D39=\"\",\"\",'Analysis 103L'!AA39)","v":""},{"$f":"IF(E13=\"\",\"\",'Analysis 103L'!BE39)","v":""},{"$f":"IFERROR('Analysis 103L'!CD39*B13,\"\")","v":""},{"$f":"IF('Analysis 103L'!C39=\"\",\"\",'Analysis 103L'!C39)","v":""},{"$f":"IF('Analysis 103L'!E39=\"\",\"\",IF(AND(C13=0,D13=0),\"\",'Analysis 103L'!E39))","v":""}]
[{"$f":"IF('Analysis 103L'!J40=\"\",\"\",IF(AND(C14=0,D14=0),\"\",IF(RIGHT('Analysis 103L'!I40,4)=\"Case\",'Analysis 103L'!CJ40,'Analysis 103L'!J40)))","v":""},{"$f":"IF('Analysis 103L'!P40=\"\",\"\",IF(A14=\"\", \"\", 'Analysis 103L'!P40))","v":""},{"$f":"IF('Analysis 103L'!S40=\"\",\"\", IF(LEFT('Analysis 103L'!J40,6)=\"Motion\", \"\", IF(RIGHT('Analysis 103L'!I40,4)=\"Case\",'Analysis 103L'!R40, 'Analysis 103L'!S40)))","v":""},{"$f":"IF(ISNUMBER('Analysis 103L'!AT40),'Analysis 103L'!AT40,\"\")","v":""},{"$f":"IF('Analysis 103L'!D40=\"\",\"\",'Analysis 103L'!AA40)","v":""},{"$f":"IF(E14=\"\",\"\",'Analysis 103L'!BE40)","v":""},{"$f":"IFERROR('Analysis 103L'!CD40*B14,\"\")","v":""},{"$f":"IF('Analysis 103L'!C40=\"\",\"\",'Analysis 103L'!C40)","v":""},{"$f":"IF('Analysis 103L'!E40=\"\",\"\",IF(AND(C14=0,D14=0),\"\",'Analysis 103L'!E40))","v":""}]
[{"$f":"IF('Analysis 103L'!J41=\"\",\"\",IF(AND(C15=0,D15=0),\"\",IF(RIGHT('Analysis 103L'!I41,4)=\"Case\",'Analysis 103L'!CJ41,'Analysis 103L'!J41)))","v":""},{"$f":"IF('Analysis 103L'!P41=\"\",\"\",IF(A15=\"\", \"\", 'Analysis 103L'!P41))","v":""},{"$f":"IF('Analysis 103L'!S41=\"\",\"\", IF(LEFT('Analysis 103L'!J41,6)=\"Motion\", \"\", IF(RIGHT('Analysis 103L'!I41,4)=\"Case\",'Analysis 103L'!R41, 'Analysis 103L'!S41)))","v":""},{"$f":"IF(ISNUMBER('Analysis 103L'!AT41),'Analysis 103L'!AT41,\"\")","v":""},{"$f":"IF('Analysis 103L'!D41=\"\",\"\",'Analysis 103L'!AA41)","v":""},{"$f":"IF(E15=\"\",\"\",'Analysis 103L'!BE41)","v":""},{"$f":"IFERROR('Analysis 103L'!CD41*B15,\"\")","v":""},{"$f":"IF('Analysis 103L'!C41=\"\",\"\",'Analysis 103L'!C41)","v":""},{"$f":"IF('Analysis 103L'!E41=\"\",\"\",IF(AND(C15=0,D15=0),\"\",'Analysis 103L'!E41))","v":""}]
[{"$f":"IF('Analysis 103L'!J42=\"\",\"\",IF(AND(C16=0,D16=0),\"\",IF(RIGHT('Analysis 103L'!I42,4)=\"Case\", IF(LEFT('Analysis 103L'!J42,6)=\"Motion\", \"\", 'Analysis 103L'!CJ42),'Analysis 103L'!J42)))","v":""},{"$f":"IF('Analysis 103L'!P42=\"\",\"\",IF(A16=\"\", \"\", 'Analysis 103L'!P42))","v":""},{"$f":"IF('Analysis 103L'!S42=\"\",\"\", IF(LEFT('Analysis 103L'!J42,6)=\"Motion\", \"\", IF(RIGHT('Analysis 103L'!I42,4)=\"Case\",'Analysis 103L'!R42, 'Analysis 103L'!S42)))","v":""},{"$f":"IF(ISNUMBER('Analysis 103L'!AT42),'Analysis 103L'!AT42,\"\")","v":""},{"$f":"IF('Analysis 103L'!D42=\"\",\"\",'Analysis 103L'!AA42)","v":""},{"$f":"IF(E16=\"\",\"\",'Analysis 103L'!BE42)","v":""},{"$f":"IFERROR('Analysis 103L'!CD42*B16,\"\")","v":""},{"$f":"IF('Analysis 103L'!C42=\"\",\"\",'Analysis 103L'!C42)","v":""},{"$f":"IF('Analysis 103L'!E42=\"\",\"\",IF(AND(C16=0,D16=0),\"\",'Analysis 103L'!E42))","v":""}]
[{"$f":"IF('Analysis 103L'!J43=\"\",\"\",IF(AND(C17=0,D17=0),\"\",IF(RIGHT('Analysis 103L'!I43,4)=\"Case\", IF(LEFT('Analysis 103L'!J43,6)=\"Motion\", \"\", 'Analysis 103L'!CJ43),'Analysis 103L'!J43)))","v":""},{"$f":"IF('Analysis 103L'!P43=\"\",\"\",IF(A17=\"\", \"\", 'Analysis 103L'!P43))","v":""},{"$f":"IF('Analysis 103L'!S43=\"\",\"\", IF(LEFT('Analysis 103L'!J43,6)=\"Motion\", \"\", IF(RIGHT('Analysis 103L'!I43,4)=\"Case\",'Analysis 103L'!R43, 'Analysis 103L'!S43)))","v":""},{"$f":"IF(ISNUMBER('Analysis 103L'!AT43),'Analysis 103L'!AT43,\"\")","v":""},{"$f":"IF('Analysis 103L'!D43=\"\",\"\",'Analysis 103L'!AA43)","v":""},{"$f":"IF(E17=\"\",\"\",'Analysis 103L'!BE43)","v":""},{"$f":"IFERROR('Analysis 103L'!CD43*B17,\"\")","v":""},{"$f":"IF('Analysis 103L'!C43=\"\",\"\",'Analysis 103L'!C43)","v":""},{"$f":"IF('Analysis 103L'!E43=\"\",\"\",IF(AND(C17=0,D17=0),\"\",'Analysis 103L'!E43))","v":""}]
[{"$f":"IF('Analysis 103L'!J44=\"\",\"\",IF(AND(C18=0,D18=0),\"\",IF(RIGHT('Analysis 103L'!I44,4)=\"Case\", IF(LEFT('Analysis 103L'!J44,6)=\"Motion\", \"\", 'Analysis 103L'!CJ44),'Analysis 103L'!J44)))","v":""},{"$f":"IF('Analysis 103L'!P44=\"\",\"\",IF(A18=\"\", \"\", 'Analysis 103L'!P44))","v":""},{"$f":"IF('Analysis 103L'!S44=\"\",\"\", IF(LEFT('Analysis 103L'!J44,6)=\"Motion\", \"\", IF(RIGHT('Analysis 103L'!I44,4)=\"Case\",'Analysis 103L'!R44, 'Analysis 103L'!S44)))","v":""},{"$f":"IF(ISNUMBER('Analysis 103L'!AT44),'Analysis 103L'!AT44,\"\")","v":""},{"$f":"IF('Analysis 103L'!D44=\"\",\"\",'Analysis 103L'!AA44)","v":""},{"$f":"IF(E18=\"\",\"\",'Analysis 103L'!BE44)","v":""},{"$f":"IFERROR('Analysis 103L'!CD44*B18,\"\")","v":""},{"$f":"IF('Analysis 103L'!C44=\"\",\"\",'Analysis 103L'!C44)","v":""},{"$f":"IF('Analysis 103L'!E44=\"\",\"\",IF(AND(C18=0,D18=0),\"\",'Analysis 103L'!E44))","v":""}]
[{"$f":"IF('Analysis 103L'!J45=\"\",\"\",IF(AND(C19=0,D19=0),\"\",IF(RIGHT('Analysis 103L'!I45,4)=\"Case\", IF(LEFT('Analysis 103L'!J45,6)=\"Motion\", \"\", 'Analysis 103L'!CJ45),'Analysis 103L'!J45)))","v":""},{"$f":"IF('Analysis 103L'!P45=\"\",\"\",IF(A19=\"\", \"\", 'Analysis 103L'!P45))","v":""},{"$f":"IF('Analysis 103L'!S45=\"\",\"\", IF(LEFT('Analysis 103L'!J45,6)=\"Motion\", \"\", IF(RIGHT('Analysis 103L'!I45,4)=\"Case\",'Analysis 103L'!R45, 'Analysis 103L'!S45)))","v":""},{"$f":"IF(ISNUMBER('Analysis 103L'!AT45),'Analysis 103L'!AT45,\"\")","v":""},{"$f":"IF('Analysis 103L'!D45=\"\",\"\",'Analysis 103L'!AA45)","v":""},{"$f":"IF(E19=\"\",\"\",'Analysis 103L'!BE45)","v":""},{"$f":"IFERROR('Analysis 103L'!CD45*B19,\"\")","v":""},{"$f":"IF('Analysis 103L'!C45=\"\",\"\",'Analysis 103L'!C45)","v":""},{"$f":"IF('Analysis 103L'!E45=\"\",\"\",IF(AND(C19=0,D19=0),\"\",'Analysis 103L'!E45))","v":""}]
[{"$f":"IF('Analysis 103L'!J46=\"\",\"\",IF(AND(C20=0,D20=0),\"\",IF(RIGHT('Analysis 103L'!I46,4)=\"Case\", IF(LEFT('Analysis 103L'!J46,6)=\"Motion\", \"\", 'Analysis 103L'!CJ46),'Analysis 103L'!J46)))","v":""},{"$f":"IF('Analysis 103L'!P46=\"\",\"\",IF(A20=\"\", \"\", 'Analysis 103L'!P46))","v":""},{"$f":"IF('Analysis 103L'!S46=\"\",\"\", IF(LEFT('Analysis 103L'!J46,6)=\"Motion\", \"\", IF(RIGHT('Analysis 103L'!I46,4)=\"Case\",'Analysis 103L'!R46, 'Analysis 103L'!S46)))","v":""},{"$f":"IF(ISNUMBER('Analysis 103L'!AT46),'Analysis 103L'!AT46,\"\")","v":""},{"$f":"IF('Analysis 103L'!D46=\"\",\"\",'Analysis 103L'!AA46)","v":""},{"$f":"IF(E20=\"\",\"\",'Analysis 103L'!BE46)","v":""},{"$f":"IFERROR('Analysis 103L'!CD46*B20,\"\")","v":""},{"$f":"IF('Analysis 103L'!C46=\"\",\"\",'Analysis 103L'!C46)","v":""},{"$f":"IF('Analysis 103L'!E46=\"\",\"\",IF(AND(C20=0,D20=0),\"\",'Analysis 103L'!E46))","v":""}]
[{"$f":"IF('Analysis 103L'!J47=\"\",\"\",IF(AND(C21=0,D21=0),\"\",IF(RIGHT('Analysis 103L'!I47,4)=\"Case\", IF(LEFT('Analysis 103L'!J47,6)=\"Motion\", \"\", 'Analysis 103L'!CJ47),'Analysis 103L'!J47)))","v":""},{"$f":"IF('Analysis 103L'!P47=\"\",\"\",IF(A21=\"\", \"\", 'Analysis 103L'!P47))","v":""},{"$f":"IF('Analysis 103L'!S47=\"\",\"\", IF(LEFT('Analysis 103L'!J47,6)=\"Motion\", \"\", IF(RIGHT('Analysis 103L'!I47,4)=\"Case\",'Analysis 103L'!R47, 'Analysis 103L'!S47)))","v":""},{"$f":"IF(ISNUMBER('Analysis 103L'!AT47),'Analysis 103L'!AT47,\"\")","v":""},{"$f":"IF('Analysis 103L'!D47=\"\",\"\",'Analysis 103L'!AA47)","v":""},{"$f":"IF(E21=\"\",\"\",'Analysis 103L'!BE47)","v":""},{"$f":"IFERROR('Analysis 103L'!CD47*B21,\"\")","v":""},{"$f":"IF('Analysis 103L'!C47=\"\",\"\",'Analysis 103L'!C47)","v":""},{"$f":"IF('Analysis 103L'!E47=\"\",\"\",IF(AND(C21=0,D21=0),\"\",'Analysis 103L'!E47))","v":""}]
[{"$f":"IF('Analysis 103L'!J48=\"\",\"\",IF(AND(C22=0,D22=0),\"\",IF(RIGHT('Analysis 103L'!I48,4)=\"Case\", IF(LEFT('Analysis 103L'!J48,6)=\"Motion\", \"\", 'Analysis 103L'!CJ48),'Analysis 103L'!J48)))","v":""},{"$f":"IF('Analysis 103L'!P48=\"\",\"\",IF(A22=\"\", \"\", 'Analysis 103L'!P48))","v":""},{"$f":"IF('Analysis 103L'!S48=\"\",\"\", IF(LEFT('Analysis 103L'!J48,6)=\"Motion\", \"\", IF(RIGHT('Analysis 103L'!I48,4)=\"Case\",'Analysis 103L'!R48, 'Analysis 103L'!S48)))","v":""},{"$f":"IF(ISNUMBER('Analysis 103L'!AT48),'Analysis 103L'!AT48,\"\")","v":""},{"$f":"IF('Analysis 103L'!D48=\"\",\"\",'Analysis 103L'!AA48)","v":""},{"$f":"IF(E22=\"\",\"\",'Analysis 103L'!BE48)","v":""},{"$f":"IFERROR('Analysis 103L'!CD48*B22,\"\")","v":""},{"$f":"IF('Analysis 103L'!C48=\"\",\"\",'Analysis 103L'!C48)","v":""},{"$f":"IF('Analysis 103L'!E48=\"\",\"\",IF(AND(C22=0,D22=0),\"\",'Analysis 103L'!E48))","v":""}]
[{"$f":"IF('Analysis 103L'!J49=\"\",\"\",IF(AND(C23=0,D23=0),\"\",IF(RIGHT('Analysis 103L'!I49,4)=\"Case\", IF(LEFT('Analysis 103L'!J49,6)=\"Motion\", \"\", 'Analysis 103L'!CJ49),'Analysis 103L'!J49)))","v":""},{"$f":"IF('Analysis 103L'!P49=\"\",\"\",IF(A23=\"\", \"\", 'Analysis 103L'!P49))","v":""},{"$f":"IF('Analysis 103L'!S49=\"\",\"\", IF(LEFT('Analysis 103L'!J49,6)=\"Motion\", \"\", IF(RIGHT('Analysis 103L'!I49,4)=\"Case\",'Analysis 103L'!R49, 'Analysis 103L'!S49)))","v":""},{"$f":"IF(ISNUMBER('Analysis 103L'!AT49),'Analysis 103L'!AT49,\"\")","v":""},{"$f":"IF('Analysis 103L'!D49=\"\",\"\",'Analysis 103L'!AA49)","v":""},{"$f":"IF(E23=\"\",\"\",'Analysis 103L'!BE49)","v":""},{"$f":"IFERROR('Analysis 103L'!CD49*B23,\"\")","v":""},{"$f":"IF('Analysis 103L'!C49=\"\",\"\",'Analysis 103L'!C49)","v":""},{"$f":"IF('Analysis 103L'!E49=\"\",\"\",IF(AND(C23=0,D23=0),\"\",'Analysis 103L'!E49))","v":""}]
[{"$f":"IF('Analysis 103L'!J50=\"\",\"\",IF(AND(C24=0,D24=0),\"\",IF(RIGHT('Analysis 103L'!I50,4)=\"Case\", IF(LEFT('Analysis 103L'!J50,6)=\"Motion\", \"\", 'Analysis 103L'!CJ50),'Analysis 103L'!J50)))","v":""},{"$f":"IF('Analysis 103L'!P50=\"\",\"\",IF(A24=\"\", \"\", 'Analysis 103L'!P50))","v":""},{"$f":"IF('Analysis 103L'!S50=\"\",\"\", IF(LEFT('Analysis 103L'!J50,6)=\"Motion\", \"\", IF(RIGHT('Analysis 103L'!I50,4)=\"Case\",'Analysis 103L'!R50, 'Analysis 103L'!S50)))","v":""},{"$f":"IF(ISNUMBER('Analysis 103L'!AT50),'Analysis 103L'!AT50,\"\")","v":""},{"$f":"IF('Analysis 103L'!D50=\"\",\"\",'Analysis 103L'!AA50)","v":""},{"$f":"IF(E24=\"\",\"\",'Analysis 103L'!BE50)","v":""},{"$f":"IFERROR('Analysis 103L'!CD50*B24,\"\")","v":""},{"$f":"IF('Analysis 103L'!C50=\"\",\"\",'Analysis 103L'!C50)","v":""},{"$f":"IF('Analysis 103L'!E50=\"\",\"\",IF(AND(C24=0,D24=0),\"\",'Analysis 103L'!E50))","v":""}]
[{"$f":"IF('Analysis 103L'!J51=\"\",\"\",IF(AND(C25=0,D25=0),\"\",IF(RIGHT('Analysis 103L'!I51,4)=\"Case\", IF(LEFT('Analysis 103L'!J51,6)=\"Motion\", \"\", 'Analysis 103L'!CJ51),'Analysis 103L'!J51)))","v":""},{"$f":"IF('Analysis 103L'!P51=\"\",\"\",IF(A25=\"\", \"\", 'Analysis 103L'!P51))","v":""},{"$f":"IF('Analysis 103L'!S51=\"\",\"\", IF(LEFT('Analysis 103L'!J51,6)=\"Motion\", \"\", IF(RIGHT('Analysis 103L'!I51,4)=\"Case\",'Analysis 103L'!R51, 'Analysis 103L'!S51)))","v":""},{"$f":"IF(ISNUMBER('Analysis 103L'!AT51),'Analysis 103L'!AT51,\"\")","v":""},{"$f":"IF('Analysis 103L'!D51=\"\",\"\",'Analysis 103L'!AA51)","v":""},{"$f":"IF(E25=\"\",\"\",'Analysis 103L'!BE51)","v":""},{"$f":"IFERROR('Analysis 103L'!CD51*B25,\"\")","v":""},{"$f":"IF('Analysis 103L'!C51=\"\",\"\",'Analysis 103L'!C51)","v":""},{"$f":"IF('Analysis 103L'!E51=\"\",\"\",IF(AND(C25=0,D25=0),\"\",'Analysis 103L'!E51))","v":""}]
[{"$f":"IF('Analysis 103L'!J52=\"\",\"\",IF(AND(C26=0,D26=0),\"\",IF(RIGHT('Analysis 103L'!I52,4)=\"Case\", IF(LEFT('Analysis 103L'!J52,6)=\"Motion\", \"\", 'Analysis 103L'!CJ52),'Analysis 103L'!J52)))","v":""},{"$f":"IF('Analysis 103L'!P52=\"\",\"\",IF(A26=\"\", \"\", 'Analysis 103L'!P52))","v":""},{"$f":"IF('Analysis 103L'!S52=\"\",\"\", IF(LEFT('Analysis 103L'!J52,6)=\"Motion\", \"\", IF(RIGHT('Analysis 103L'!I52,4)=\"Case\",'Analysis 103L'!R52, 'Analysis 103L'!S52)))","v":""},{"$f":"IF(ISNUMBER('Analysis 103L'!AT52),'Analysis 103L'!AT52,\"\")","v":""},{"$f":"IF('Analysis 103L'!D52=\"\",\"\",'Analysis 103L'!AA52)","v":""},{"$f":"IF(E26=\"\",\"\",'Analysis 103L'!BE52)","v":""},{"$f":"IFERROR('Analysis 103L'!CD52*B26,\"\")","v":""},{"$f":"IF('Analysis 103L'!C52=\"\",\"\",'Analysis 103L'!C52)","v":""},{"$f":"IF('Analysis 103L'!E52=\"\",\"\",IF(AND(C26=0,D26=0),\"\",'Analysis 103L'!E52))","v":""}]
[{"$f":"IF('Analysis 103L'!J53=\"\",\"\",IF(AND(C27=0,D27=0),\"\",IF(RIGHT('Analysis 103L'!I53,4)=\"Case\", IF(LEFT('Analysis 103L'!J53,6)=\"Motion\", \"\", 'Analysis 103L'!CJ53),'Analysis 103L'!J53)))","v":""},{"$f":"IF('Analysis 103L'!P53=\"\",\"\",IF(A27=\"\", \"\", 'Analysis 103L'!P53))","v":""},{"$f":"IF('Analysis 103L'!S53=\"\",\"\", IF(LEFT('Analysis 103L'!J53,6)=\"Motion\", \"\", IF(RIGHT('Analysis 103L'!I53,4)=\"Case\",'Analysis 103L'!R53, 'Analysis 103L'!S53)))","v":""},{"$f":"IF(ISNUMBER('Analysis 103L'!AT53),'Analysis 103L'!AT53,\"\")","v":""},{"$f":"IF('Analysis 103L'!D53=\"\",\"\",'Analysis 103L'!AA53)","v":""},{"$f":"IF(E27=\"\",\"\",'Analysis 103L'!BE53)","v":""},{"$f":"IFERROR('Analysis 103L'!CD53*B27,\"\")","v":""},{"$f":"IF('Analysis 103L'!C53=\"\",\"\",'Analysis 103L'!C53)","v":""},{"$f":"IF('Analysis 103L'!E53=\"\",\"\",IF(AND(C27=0,D27=0),\"\",'Analysis 103L'!E53))","v":""}]
[{"$f":"IF('Analysis 103L'!J54=\"\",\"\",IF(AND(C28=0,D28=0),\"\",IF(RIGHT('Analysis 103L'!I54,4)=\"Case\", IF(LEFT('Analysis 103L'!J54,6)=\"Motion\", \"\", 'Analysis 103L'!CJ54),'Analysis 103L'!J54)))","v":""},{"$f":"IF('Analysis 103L'!P54=\"\",\"\",IF(A28=\"\", \"\", 'Analysis 103L'!P54))","v":""},{"$f":"IF('Analysis 103L'!S54=\"\",\"\", IF(LEFT('Analysis 103L'!J54,6)=\"Motion\", \"\", IF(RIGHT('Analysis 103L'!I54,4)=\"Case\",'Analysis 103L'!R54, 'Analysis 103L'!S54)))","v":""},{"$f":"IF(ISNUMBER('Analysis 103L'!AT54),'Analysis 103L'!AT54,\"\")","v":""},{"$f":"IF('Analysis 103L'!D54=\"\",\"\",'Analysis 103L'!AA54)","v":""},{"$f":"IF(E28=\"\",\"\",'Analysis 103L'!BE54)","v":""},{"$f":"IFERROR('Analysis 103L'!CD54*B28,\"\")","v":""},{"$f":"IF('Analysis 103L'!C54=\"\",\"\",'Analysis 103L'!C54)","v":""},{"$f":"IF('Analysis 103L'!E54=\"\",\"\",IF(AND(C28=0,D28=0),\"\",'Analysis 103L'!E54))","v":""}]
[{"$f":"IF('Analysis 103L'!J55=\"\",\"\",IF(AND(C29=0,D29=0),\"\",IF(RIGHT('Analysis 103L'!I55,4)=\"Case\", IF(LEFT('Analysis 103L'!J55,6)=\"Motion\", \"\", 'Analysis 103L'!CJ55),'Analysis 103L'!J55)))","v":""},{"$f":"IF('Analysis 103L'!P55=\"\",\"\",IF(A29=\"\", \"\", 'Analysis 103L'!P55))","v":""},{"$f":"IF('Analysis 103L'!S55=\"\",\"\", IF(LEFT('Analysis 103L'!J55,6)=\"Motion\", \"\", IF(RIGHT('Analysis 103L'!I55,4)=\"Case\",'Analysis 103L'!R55, 'Analysis 103L'!S55)))","v":""},{"$f":"IF(ISNUMBER('Analysis 103L'!AT55),'Analysis 103L'!AT55,\"\")","v":""},{"$f":"IF('Analysis 103L'!D55=\"\",\"\",'Analysis 103L'!AA55)","v":""},{"$f":"IF(E29=\"\",\"\",'Analysis 103L'!BE55)","v":""},{"$f":"IFERROR('Analysis 103L'!CD55*B29,\"\")","v":""},{"$f":"IF('Analysis 103L'!C55=\"\",\"\",'Analysis 103L'!C55)","v":""},{"$f":"IF('Analysis 103L'!E55=\"\",\"\",IF(AND(C29=0,D29=0),\"\",'Analysis 103L'!E55))","v":""}]
[{"$f":"IF('Analysis 103L'!J56=\"\",\"\",IF(AND(C30=0,D30=0),\"\",IF(RIGHT('Analysis 103L'!I56,4)=\"Case\", IF(LEFT('Analysis 103L'!J56,6)=\"Motion\", \"\", 'Analysis 103L'!CJ56),'Analysis 103L'!J56)))","v":""},{"$f":"IF('Analysis 103L'!P56=\"\",\"\",IF(A30=\"\", \"\", 'Analysis 103L'!P56))","v":""},{"$f":"IF('Analysis 103L'!S56=\"\",\"\", IF(LEFT('Analysis 103L'!J56,6)=\"Motion\", \"\", IF(RIGHT('Analysis 103L'!I56,4)=\"Case\",'Analysis 103L'!R56, 'Analysis 103L'!S56)))","v":""},{"$f":"IF(ISNUMBER('Analysis 103L'!AT56),'Analysis 103L'!AT56,\"\")","v":""},{"$f":"IF('Analysis 103L'!D56=\"\",\"\",'Analysis 103L'!AA56)","v":""},{"$f":"IF(E30=\"\",\"\",'Analysis 103L'!BE56)","v":""},{"$f":"IFERROR('Analysis 103L'!CD56*B30,\"\")","v":""},{"$f":"IF('Analysis 103L'!C56=\"\",\"\",'Analysis 103L'!C56)","v":""},{"$f":"IF('Analysis 103L'!E56=\"\",\"\",IF(AND(C30=0,D30=0),\"\",'Analysis 103L'!E56))","v":""}]
[{"$f":"IF('Analysis 103L'!J57=\"\",\"\",IF(AND(C31=0,D31=0),\"\",IF(RIGHT('Analysis 103L'!I57,4)=\"Case\", IF(LEFT('Analysis 103L'!J57,6)=\"Motion\", \"\", 'Analysis 103L'!CJ57),'Analysis 103L'!J57)))","v":""},{"$f":"IF('Analysis 103L'!P57=\"\",\"\",IF(A31=\"\", \"\", 'Analysis 103L'!P57))","v":""},{"$f":"IF('Analysis 103L'!S57=\"\",\"\", IF(LEFT('Analysis 103L'!J57,6)=\"Motion\", \"\", IF(RIGHT('Analysis 103L'!I57,4)=\"Case\",'Analysis 103L'!R57, 'Analysis 103L'!S57)))","v":""},{"$f":"IF(ISNUMBER('Analysis 103L'!AT57),'Analysis 103L'!AT57,\"\")","v":""},{"$f":"IF('Analysis 103L'!D57=\"\",\"\",'Analysis 103L'!AA57)","v":""},{"$f":"IF(E31=\"\",\"\",'Analysis 103L'!BE57)","v":""},{"$f":"IFERROR('Analysis 103L'!CD57*B31,\"\")","v":""},{"$f":"IF('Analysis 103L'!C57=\"\",\"\",'Analysis 103L'!C57)","v":""},{"$f":"IF('Analysis 103L'!E57=\"\",\"\",IF(AND(C31=0,D31=0),\"\",'Analysis 103L'!E57))","v":""}]
[{"$f":"IF('Analysis 103L'!J58=\"\",\"\",IF(AND(C32=0,D32=0),\"\",IF(RIGHT('Analysis 103L'!I58,4)=\"Case\", IF(LEFT('Analysis 103L'!J58,6)=\"Motion\", \"\", 'Analysis 103L'!CJ58),'Analysis 103L'!J58)))","v":""},{"$f":"IF('Analysis 103L'!P58=\"\",\"\",IF(A32=\"\", \"\", 'Analysis 103L'!P58))","v":""},{"$f":"IF('Analysis 103L'!S58=\"\",\"\", IF(LEFT('Analysis 103L'!J58,6)=\"Motion\", \"\", IF(RIGHT('Analysis 103L'!I58,4)=\"Case\",'Analysis 103L'!R58, 'Analysis 103L'!S58)))","v":""},{"$f":"IF(ISNUMBER('Analysis 103L'!AT58),'Analysis 103L'!AT58,\"\")","v":""},{"$f":"IF('Analysis 103L'!D58=\"\",\"\",'Analysis 103L'!AA58)","v":""},{"$f":"IF(E32=\"\",\"\",'Analysis 103L'!BE58)","v":""},{"$f":"IFERROR('Analysis 103L'!CD58*B32,\"\")","v":""},{"$f":"IF('Analysis 103L'!C58=\"\",\"\",'Analysis 103L'!C58)","v":""},{"$f":"IF('Analysis 103L'!E58=\"\",\"\",IF(AND(C32=0,D32=0),\"\",'Analysis 103L'!E58))","v":""}]
[{"$f":"IF('Analysis 103L'!J59=\"\",\"\",IF(AND(C33=0,D33=0),\"\",IF(RIGHT('Analysis 103L'!I59,4)=\"Case\", IF(LEFT('Analysis 103L'!J59,6)=\"Motion\", \"\", 'Analysis 103L'!CJ59),'Analysis 103L'!J59)))","v":""},{"$f":"IF('Analysis 103L'!P59=\"\",\"\",IF(A33=\"\", \"\", 'Analysis 103L'!P59))","v":""},{"$f":"IF('Analysis 103L'!S59=\"\",\"\", IF(LEFT('Analysis 103L'!J59,6)=\"Motion\", \"\", IF(RIGHT('Analysis 103L'!I59,4)=\"Case\",'Analysis 103L'!R59, 'Analysis 103L'!S59)))","v":""},{"$f":"IF(ISNUMBER('Analysis 103L'!AT59),'Analysis 103L'!AT59,\"\")","v":""},{"$f":"IF('Analysis 103L'!D59=\"\",\"\",'Analysis 103L'!AA59)","v":""},{"$f":"IF(E33=\"\",\"\",'Analysis 103L'!BE59)","v":""},{"$f":"IFERROR('Analysis 103L'!CD59*B33,\"\")","v":""},{"$f":"IF('Analysis 103L'!C59=\"\",\"\",'Analysis 103L'!C59)","v":""},{"$f":"IF('Analysis 103L'!E59=\"\",\"\",IF(AND(C33=0,D33=0),\"\",'Analysis 103L'!E59))","v":""}]
[{"$f":"IF('Analysis 103L'!J60=\"\",\"\",IF(AND(C34=0,D34=0),\"\",IF(RIGHT('Analysis 103L'!I60,4)=\"Case\", IF(LEFT('Analysis 103L'!J60,6)=\"Motion\", \"\", 'Analysis 103L'!CJ60),'Analysis 103L'!J60)))","v":""},{"$f":"IF('Analysis 103L'!P60=\"\",\"\",IF(A34=\"\", \"\", 'Analysis 103L'!P60))","v":""},{"$f":"IF('Analysis 103L'!S60=\"\",\"\", IF(LEFT('Analysis 103L'!J60,6)=\"Motion\", \"\", IF(RIGHT('Analysis 103L'!I60,4)=\"Case\",'Analysis 103L'!R60, 'Analysis 103L'!S60)))","v":""},{"$f":"IF(ISNUMBER('Analysis 103L'!AT60),'Analysis 103L'!AT60,\"\")","v":""},{"$f":"IF('Analysis 103L'!D60=\"\",\"\",'Analysis 103L'!AA60)","v":""},{"$f":"IF(E34=\"\",\"\",'Analysis 103L'!BE60)","v":""},{"$f":"IFERROR('Analysis 103L'!CD60*B34,\"\")","v":""},{"$f":"IF('Analysis 103L'!C60=\"\",\"\",'Analysis 103L'!C60)","v":""},{"$f":"IF('Analysis 103L'!E60=\"\",\"\",IF(AND(C34=0,D34=0),\"\",'Analysis 103L'!E60))","v":""}]
[{"$f":"IF('Analysis 103L'!J61=\"\",\"\",IF(AND(C35=0,D35=0),\"\",IF(RIGHT('Analysis 103L'!I61,4)=\"Case\", IF(LEFT('Analysis 103L'!J61,6)=\"Motion\", \"\", 'Analysis 103L'!CJ61),'Analysis 103L'!J61)))","v":""},{"$f":"IF('Analysis 103L'!P61=\"\",\"\",IF(A35=\"\", \"\", 'Analysis 103L'!P61))","v":""},{"$f":"IF('Analysis 103L'!S61=\"\",\"\", IF(LEFT('Analysis 103L'!J61,6)=\"Motion\", \"\", IF(RIGHT('Analysis 103L'!I61,4)=\"Case\",'Analysis 103L'!R61, 'Analysis 103L'!S61)))","v":""},{"$f":"IF(ISNUMBER('Analysis 103L'!AT61),'Analysis 103L'!AT61,\"\")","v":""},{"$f":"IF('Analysis 103L'!D61=\"\",\"\",'Analysis 103L'!AA61)","v":""},{"$f":"IF(E35=\"\",\"\",'Analysis 103L'!BE61)","v":""},{"$f":"IFERROR('Analysis 103L'!CD61*B35,\"\")","v":""},{"$f":"IF('Analysis 103L'!C61=\"\",\"\",'Analysis 103L'!C61)","v":""},{"$f":"IF('Analysis 103L'!E61=\"\",\"\",IF(AND(C35=0,D35=0),\"\",'Analysis 103L'!E61))","v":""}]
[{"$f":"IF('Analysis 103L'!J62=\"\",\"\",IF(AND(C36=0,D36=0),\"\",IF(RIGHT('Analysis 103L'!I62,4)=\"Case\", IF(LEFT('Analysis 103L'!J62,6)=\"Motion\", \"\", 'Analysis 103L'!CJ62),'Analysis 103L'!J62)))","v":""},{"$f":"IF('Analysis 103L'!P62=\"\",\"\",IF(A36=\"\", \"\", 'Analysis 103L'!P62))","v":""},{"$f":"IF('Analysis 103L'!S62=\"\",\"\", IF(LEFT('Analysis 103L'!J62,6)=\"Motion\", \"\", IF(RIGHT('Analysis 103L'!I62,4)=\"Case\",'Analysis 103L'!R62, 'Analysis 103L'!S62)))","v":""},{"$f":"IF(ISNUMBER('Analysis 103L'!AT62),'Analysis 103L'!AT62,\"\")","v":""},{"$f":"IF('Analysis 103L'!D62=\"\",\"\",'Analysis 103L'!AA62)","v":""},{"$f":"IF(E36=\"\",\"\",'Analysis 103L'!BE62)","v":""},{"$f":"IFERROR('Analysis 103L'!CD62*B36,\"\")","v":""},{"$f":"IF('Analysis 103L'!C62=\"\",\"\",'Analysis 103L'!C62)","v":""},{"$f":"IF('Analysis 103L'!E62=\"\",\"\",IF(AND(C36=0,D36=0),\"\",'Analysis 103L'!E62))","v":""}]
[{"$f":"IF('Analysis 103L'!J63=\"\",\"\",IF(AND(C37=0,D37=0),\"\",IF(RIGHT('Analysis 103L'!I63,4)=\"Case\", IF(LEFT('Analysis 103L'!J63,6)=\"Motion\", \"\", 'Analysis 103L'!CJ63),'Analysis 103L'!J63)))","v":""},{"$f":"IF('Analysis 103L'!P63=\"\",\"\",IF(A37=\"\", \"\", 'Analysis 103L'!P63))","v":""},{"$f":"IF('Analysis 103L'!S63=\"\",\"\", IF(LEFT('Analysis 103L'!J63,6)=\"Motion\", \"\", IF(RIGHT('Analysis 103L'!I63,4)=\"Case\",'Analysis 103L'!R63, 'Analysis 103L'!S63)))","v":""},{"$f":"IF(ISNUMBER('Analysis 103L'!AT63),'Analysis 103L'!AT63,\"\")","v":""},{"$f":"IF('Analysis 103L'!D63=\"\",\"\",'Analysis 103L'!AA63)","v":""},{"$f":"IF(E37=\"\",\"\",'Analysis 103L'!BE63)","v":""},{"$f":"IFERROR('Analysis 103L'!CD63*B37,\"\")","v":""},{"$f":"IF('Analysis 103L'!C63=\"\",\"\",'Analysis 103L'!C63)","v":""},{"$f":"IF('Analysis 103L'!E63=\"\",\"\",IF(AND(C37=0,D37=0),\"\",'Analysis 103L'!E63))","v":""}]
[{"$f":"IF('Analysis 103L'!J64=\"\",\"\",IF(AND(C38=0,D38=0),\"\",IF(RIGHT('Analysis 103L'!I64,4)=\"Case\", IF(LEFT('Analysis 103L'!J64,6)=\"Motion\", \"\", 'Analysis 103L'!CJ64),'Analysis 103L'!J64)))","v":""},{"$f":"IF('Analysis 103L'!P64=\"\",\"\",IF(A38=\"\", \"\", 'Analysis 103L'!P64))","v":""},{"$f":"IF('Analysis 103L'!S64=\"\",\"\", IF(LEFT('Analysis 103L'!J64,6)=\"Motion\", \"\", IF(RIGHT('Analysis 103L'!I64,4)=\"Case\",'Analysis 103L'!R64, 'Analysis 103L'!S64)))","v":""},{"$f":"IF(ISNUMBER('Analysis 103L'!AT64),'Analysis 103L'!AT64,\"\")","v":""},{"$f":"IF('Analysis 103L'!D64=\"\",\"\",'Analysis 103L'!AA64)","v":""},{"$f":"IF(E38=\"\",\"\",'Analysis 103L'!BE64)","v":""},{"$f":"IFERROR('Analysis 103L'!CD64*B38,\"\")","v":""},{"$f":"IF('Analysis 103L'!C64=\"\",\"\",'Analysis 103L'!C64)","v":""},{"$f":"IF('Analysis 103L'!E64=\"\",\"\",IF(AND(C38=0,D38=0),\"\",'Analysis 103L'!E64))","v":""}]
[{"$f":"IF('Analysis 103L'!J65=\"\",\"\",IF(AND(C39=0,D39=0),\"\",IF(RIGHT('Analysis 103L'!I65,4)=\"Case\", IF(LEFT('Analysis 103L'!J65,6)=\"Motion\", \"\", 'Analysis 103L'!CJ65),'Analysis 103L'!J65)))","v":""},{"$f":"IF('Analysis 103L'!P65=\"\",\"\",IF(A39=\"\", \"\", 'Analysis 103L'!P65))","v":""},{"$f":"IF('Analysis 103L'!S65=\"\",\"\", IF(LEFT('Analysis 103L'!J65,6)=\"Motion\", \"\", IF(RIGHT('Analysis 103L'!I65,4)=\"Case\",'Analysis 103L'!R65, 'Analysis 103L'!S65)))","v":""},{"$f":"IF(ISNUMBER('Analysis 103L'!AT65),'Analysis 103L'!AT65,\"\")","v":""},{"$f":"IF('Analysis 103L'!D65=\"\",\"\",'Analysis 103L'!AA65)","v":""},{"$f":"IF(E39=\"\",\"\",'Analysis 103L'!BE65)","v":""},{"$f":"IFERROR('Analysis 103L'!CD65*B39,\"\")","v":""},{"$f":"IF('Analysis 103L'!C65=\"\",\"\",'Analysis 103L'!C65)","v":""},{"$f":"IF('Analysis 103L'!E65=\"\",\"\",IF(AND(C39=0,D39=0),\"\",'Analysis 103L'!E65))","v":""}]
[{"$f":"IF('Analysis 103L'!J66=\"\",\"\",IF(AND(C40=0,D40=0),\"\",IF(RIGHT('Analysis 103L'!I66,4)=\"Case\", IF(LEFT('Analysis 103L'!J66,6)=\"Motion\", \"\", 'Analysis 103L'!CJ66),'Analysis 103L'!J66)))","v":""},{"$f":"IF('Analysis 103L'!P66=\"\",\"\",IF(A40=\"\", \"\", 'Analysis 103L'!P66))","v":""},{"$f":"IF('Analysis 103L'!S66=\"\",\"\", IF(LEFT('Analysis 103L'!J66,6)=\"Motion\", \"\", IF(RIGHT('Analysis 103L'!I66,4)=\"Case\",'Analysis 103L'!R66, 'Analysis 103L'!S66)))","v":""},{"$f":"IF(ISNUMBER('Analysis 103L'!AT66),'Analysis 103L'!AT66,\"\")","v":""},{"$f":"IF('Analysis 103L'!D66=\"\",\"\",'Analysis 103L'!AA66)","v":""},{"$f":"IF(E40=\"\",\"\",'Analysis 103L'!BE66)","v":""},{"$f":"IFERROR('Analysis 103L'!CD66*B40,\"\")","v":""},{"$f":"IF('Analysis 103L'!C66=\"\",\"\",'Analysis 103L'!C66)","v":""},{"$f":"IF('Analysis 103L'!E66=\"\",\"\",IF(AND(C40=0,D40=0),\"\",'Analysis 103L'!E66))","v":""}]
[{"$f":"IF('Analysis 103L'!J67=\"\",\"\",IF(AND(C41=0,D41=0),\"\",IF(RIGHT('Analysis 103L'!I67,4)=\"Case\", IF(LEFT('Analysis 103L'!J67,6)=\"Motion\", \"\", 'Analysis 103L'!CJ67),'Analysis 103L'!J67)))","v":""},{"$f":"IF('Analysis 103L'!P67=\"\",\"\",IF(A41=\"\", \"\", 'Analysis 103L'!P67))","v":""},{"$f":"IF('Analysis 103L'!S67=\"\",\"\", IF(LEFT('Analysis 103L'!J67,6)=\"Motion\", \"\", IF(RIGHT('Analysis 103L'!I67,4)=\"Case\",'Analysis 103L'!R67, 'Analysis 103L'!S67)))","v":""},{"$f":"IF(ISNUMBER('Analysis 103L'!AT67),'Analysis 103L'!AT67,\"\")","v":""},{"$f":"IF('Analysis 103L'!D67=\"\",\"\",'Analysis 103L'!AA67)","v":""},{"$f":"IF(E41=\"\",\"\",'Analysis 103L'!BE67)","v":""},{"$f":"IFERROR('Analysis 103L'!CD67*B41,\"\")","v":""},{"$f":"IF('Analysis 103L'!C67=\"\",\"\",'Analysis 103L'!C67)","v":""},{"$f":"IF('Analysis 103L'!E67=\"\",\"\",IF(AND(C41=0,D41=0),\"\",'Analysis 103L'!E67))","v":""}]
[{"$f":"IF('Analysis 103L'!J68=\"\",\"\",IF(AND(C42=0,D42=0),\"\",IF(RIGHT('Analysis 103L'!I68,4)=\"Case\", IF(LEFT('Analysis 103L'!J68,6)=\"Motion\", \"\", 'Analysis 103L'!CJ68),'Analysis 103L'!J68)))","v":""},{"$f":"IF('Analysis 103L'!P68=\"\",\"\",IF(A42=\"\", \"\", 'Analysis 103L'!P68))","v":""},{"$f":"IF('Analysis 103L'!S68=\"\",\"\", IF(LEFT('Analysis 103L'!J68,6)=\"Motion\", \"\", IF(RIGHT('Analysis 103L'!I68,4)=\"Case\",'Analysis 103L'!R68, 'Analysis 103L'!S68)))","v":""},{"$f":"IF(ISNUMBER('Analysis 103L'!AT68),'Analysis 103L'!AT68,\"\")","v":""},{"$f":"IF('Analysis 103L'!D68=\"\",\"\",'Analysis 103L'!AA68)","v":""},{"$f":"IF(E42=\"\",\"\",'Analysis 103L'!BE68)","v":""},{"$f":"IFERROR('Analysis 103L'!CD68*B42,\"\")","v":""},{"$f":"IF('Analysis 103L'!C68=\"\",\"\",'Analysis 103L'!C68)","v":""},{"$f":"IF('Analysis 103L'!E68=\"\",\"\",IF(AND(C42=0,D42=0),\"\",'Analysis 103L'!E68))","v":""}]
[{"$f":"IF('Analysis 103L'!J69=\"\",\"\",IF(AND(C43=0,D43=0),\"\",IF(RIGHT('Analysis 103L'!I69,4)=\"Case\", IF(LEFT('Analysis 103L'!J69,6)=\"Motion\", \"\", 'Analysis 103L'!CJ69),'Analysis 103L'!J69)))","v":""},{"$f":"IF('Analysis 103L'!P69=\"\",\"\",IF(A43=\"\", \"\", 'Analysis 103L'!P69))","v":""},{"$f":"IF('Analysis 103L'!S69=\"\",\"\", IF(LEFT('Analysis 103L'!J69,6)=\"Motion\", \"\", IF(RIGHT('Analysis 103L'!I69,4)=\"Case\",'Analysis 103L'!R69, 'Analysis 103L'!S69)))","v":""},{"$f":"IF(ISNUMBER('Analysis 103L'!AT69),'Analysis 103L'!AT69,\"\")","v":""},{"$f":"IF('Analysis 103L'!D69=\"\",\"\",'Analysis 103L'!AA69)","v":""},{"$f":"IF(E43=\"\",\"\",'Analysis 103L'!BE69)","v":""},{"$f":"IFERROR('Analysis 103L'!CD69*B43,\"\")","v":""},{"$f":"IF('Analysis 103L'!C69=\"\",\"\",'Analysis 103L'!C69)","v":""},{"$f":"IF('Analysis 103L'!E69=\"\",\"\",IF(AND(C43=0,D43=0),\"\",'Analysis 103L'!E69))","v":""}]
[{"$f":"IF('Analysis 103L'!J70=\"\",\"\",IF(AND(C44=0,D44=0),\"\",IF(RIGHT('Analysis 103L'!I70,4)=\"Case\", IF(LEFT('Analysis 103L'!J70,6)=\"Motion\", \"\", 'Analysis 103L'!CJ70),'Analysis 103L'!J70)))","v":""},{"$f":"IF('Analysis 103L'!P70=\"\",\"\",IF(A44=\"\", \"\", 'Analysis 103L'!P70))","v":""},{"$f":"IF('Analysis 103L'!S70=\"\",\"\", IF(LEFT('Analysis 103L'!J70,6)=\"Motion\", \"\", IF(RIGHT('Analysis 103L'!I70,4)=\"Case\",'Analysis 103L'!R70, 'Analysis 103L'!S70)))","v":""},{"$f":"IF(ISNUMBER('Analysis 103L'!AT70),'Analysis 103L'!AT70,\"\")","v":""},{"$f":"IF('Analysis 103L'!D70=\"\",\"\",'Analysis 103L'!AA70)","v":""},{"$f":"IF(E44=\"\",\"\",'Analysis 103L'!BE70)","v":""},{"$f":"IFERROR('Analysis 103L'!CD70*B44,\"\")","v":""},{"$f":"IF('Analysis 103L'!C70=\"\",\"\",'Analysis 103L'!C70)","v":""},{"$f":"IF('Analysis 103L'!E70=\"\",\"\",IF(AND(C44=0,D44=0),\"\",'Analysis 103L'!E70))","v":""}]
[{"$f":"IF('Analysis 103L'!J71=\"\",\"\",IF(AND(C45=0,D45=0),\"\",IF(RIGHT('Analysis 103L'!I71,4)=\"Case\", IF(LEFT('Analysis 103L'!J71,6)=\"Motion\", \"\", 'Analysis 103L'!CJ71),'Analysis 103L'!J71)))","v":""},{"$f":"IF('Analysis 103L'!P71=\"\",\"\",IF(A45=\"\", \"\", 'Analysis 103L'!P71))","v":""},{"$f":"IF('Analysis 103L'!S71=\"\",\"\", IF(LEFT('Analysis 103L'!J71,6)=\"Motion\", \"\", IF(RIGHT('Analysis 103L'!I71,4)=\"Case\",'Analysis 103L'!R71, 'Analysis 103L'!S71)))","v":""},{"$f":"IF(ISNUMBER('Analysis 103L'!AT71),'Analysis 103L'!AT71,\"\")","v":""},{"$f":"IF('Analysis 103L'!D71=\"\",\"\",'Analysis 103L'!AA71)","v":""},{"$f":"IF(E45=\"\",\"\",'Analysis 103L'!BE71)","v":""},{"$f":"IFERROR('Analysis 103L'!CD71*B45,\"\")","v":""},{"$f":"IF('Analysis 103L'!C71=\"\",\"\",'Analysis 103L'!C71)","v":""},{"$f":"IF('Analysis 103L'!E71=\"\",\"\",IF(AND(C45=0,D45=0),\"\",'Analysis 103L'!E71))","v":""}]
[{"$f":"IF('Analysis 103L'!J72=\"\",\"\",IF(AND(C46=0,D46=0),\"\",IF(RIGHT('Analysis 103L'!I72,4)=\"Case\", IF(LEFT('Analysis 103L'!J72,6)=\"Motion\", \"\", 'Analysis 103L'!CJ72),'Analysis 103L'!J72)))","v":""},{"$f":"IF('Analysis 103L'!P72=\"\",\"\",IF(A46=\"\", \"\", 'Analysis 103L'!P72))","v":""},{"$f":"IF('Analysis 103L'!S72=\"\",\"\", IF(LEFT('Analysis 103L'!J72,6)=\"Motion\", \"\", IF(RIGHT('Analysis 103L'!I72,4)=\"Case\",'Analysis 103L'!R72, 'Analysis 103L'!S72)))","v":""},{"$f":"IF(ISNUMBER('Analysis 103L'!AT72),'Analysis 103L'!AT72,\"\")","v":""},{"$f":"IF('Analysis 103L'!D72=\"\",\"\",'Analysis 103L'!AA72)","v":""},{"$f":"IF(E46=\"\",\"\",'Analysis 103L'!BE72)","v":""},{"$f":"IFERROR('Analysis 103L'!CD72*B46,\"\")","v":""},{"$f":"IF('Analysis 103L'!C72=\"\",\"\",'Analysis 103L'!C72)","v":""},{"$f":"IF('Analysis 103L'!E72=\"\",\"\",IF(AND(C46=0,D46=0),\"\",'Analysis 103L'!E72))","v":""}]
[{"$f":"IF('Analysis 103L'!J73=\"\",\"\",IF(AND(C47=0,D47=0),\"\",IF(RIGHT('Analysis 103L'!I73,4)=\"Case\", IF(LEFT('Analysis 103L'!J73,6)=\"Motion\", \"\", 'Analysis 103L'!CJ73),'Analysis 103L'!J73)))","v":""},{"$f":"IF('Analysis 103L'!P73=\"\",\"\",IF(A47=\"\", \"\", 'Analysis 103L'!P73))","v":""},{"$f":"IF('Analysis 103L'!S73=\"\",\"\", IF(LEFT('Analysis 103L'!J73,6)=\"Motion\", \"\", IF(RIGHT('Analysis 103L'!I73,4)=\"Case\",'Analysis 103L'!R73, 'Analysis 103L'!S73)))","v":""},{"$f":"IF(ISNUMBER('Analysis 103L'!AT73),'Analysis 103L'!AT73,\"\")","v":""},{"$f":"IF('Analysis 103L'!D73=\"\",\"\",'Analysis 103L'!AA73)","v":""},{"$f":"IF(E47=\"\",\"\",'Analysis 103L'!BE73)","v":""},{"$f":"IFERROR('Analysis 103L'!CD73*B47,\"\")","v":""},{"$f":"IF('Analysis 103L'!C73=\"\",\"\",'Analysis 103L'!C73)","v":""},{"$f":"IF('Analysis 103L'!E73=\"\",\"\",IF(AND(C47=0,D47=0),\"\",'Analysis 103L'!E73))","v":""}]
[{"$f":"IF('Analysis 103L'!J74=\"\",\"\",IF(AND(C48=0,D48=0),\"\",IF(RIGHT('Analysis 103L'!I74,4)=\"Case\", IF(LEFT('Analysis 103L'!J74,6)=\"Motion\", \"\", 'Analysis 103L'!CJ74),'Analysis 103L'!J74)))","v":""},{"$f":"IF('Analysis 103L'!P74=\"\",\"\",IF(A48=\"\", \"\", 'Analysis 103L'!P74))","v":""},{"$f":"IF('Analysis 103L'!S74=\"\",\"\", IF(LEFT('Analysis 103L'!J74,6)=\"Motion\", \"\", IF(RIGHT('Analysis 103L'!I74,4)=\"Case\",'Analysis 103L'!R74, 'Analysis 103L'!S74)))","v":""},{"$f":"IF(ISNUMBER('Analysis 103L'!AT74),'Analysis 103L'!AT74,\"\")","v":""},{"$f":"IF('Analysis 103L'!D74=\"\",\"\",'Analysis 103L'!AA74)","v":""},{"$f":"IF(E48=\"\",\"\",'Analysis 103L'!BE74)","v":""},{"$f":"IFERROR('Analysis 103L'!CD74*B48,\"\")","v":""},{"$f":"IF('Analysis 103L'!C74=\"\",\"\",'Analysis 103L'!C74)","v":""},{"$f":"IF('Analysis 103L'!E74=\"\",\"\",IF(AND(C48=0,D48=0),\"\",'Analysis 103L'!E74))","v":""}]
[{"$f":"IF('Analysis 103L'!J75=\"\",\"\",IF(AND(C49=0,D49=0),\"\",IF(RIGHT('Analysis 103L'!I75,4)=\"Case\", IF(LEFT('Analysis 103L'!J75,6)=\"Motion\", \"\", 'Analysis 103L'!CJ75),'Analysis 103L'!J75)))","v":""},{"$f":"IF('Analysis 103L'!P75=\"\",\"\",IF(A49=\"\", \"\", 'Analysis 103L'!P75))","v":""},{"$f":"IF('Analysis 103L'!S75=\"\",\"\", IF(LEFT('Analysis 103L'!J75,6)=\"Motion\", \"\", IF(RIGHT('Analysis 103L'!I75,4)=\"Case\",'Analysis 103L'!R75, 'Analysis 103L'!S75)))","v":""},{"$f":"IF(ISNUMBER('Analysis 103L'!AT75),'Analysis 103L'!AT75,\"\")","v":""},{"$f":"IF('Analysis 103L'!D75=\"\",\"\",'Analysis 103L'!AA75)","v":""},{"$f":"IF(E49=\"\",\"\",'Analysis 103L'!BE75)","v":""},{"$f":"IFERROR('Analysis 103L'!CD75*B49,\"\")","v":""},{"$f":"IF('Analysis 103L'!C75=\"\",\"\",'Analysis 103L'!C75)","v":""},{"$f":"IF('Analysis 103L'!E75=\"\",\"\",IF(AND(C49=0,D49=0),\"\",'Analysis 103L'!E75))","v":""}]
[{"$f":"IF('Analysis 103L'!J76=\"\",\"\",IF(AND(C50=0,D50=0),\"\",IF(RIGHT('Analysis 103L'!I76,4)=\"Case\", IF(LEFT('Analysis 103L'!J76,6)=\"Motion\", \"\", 'Analysis 103L'!CJ76),'Analysis 103L'!J76)))","v":""},{"$f":"IF('Analysis 103L'!P76=\"\",\"\",IF(A50=\"\", \"\", 'Analysis 103L'!P76))","v":""},{"$f":"IF('Analysis 103L'!S76=\"\",\"\", IF(LEFT('Analysis 103L'!J76,6)=\"Motion\", \"\", IF(RIGHT('Analysis 103L'!I76,4)=\"Case\",'Analysis 103L'!R76, 'Analysis 103L'!S76)))","v":""},{"$f":"IF(ISNUMBER('Analysis 103L'!AT76),'Analysis 103L'!AT76,\"\")","v":""},{"$f":"IF('Analysis 103L'!D76=\"\",\"\",'Analysis 103L'!AA76)","v":""},{"$f":"IF(E50=\"\",\"\",'Analysis 103L'!BE76)","v":""},{"$f":"IFERROR('Analysis 103L'!CD76*B50,\"\")","v":""},{"$f":"IF('Analysis 103L'!C76=\"\",\"\",'Analysis 103L'!C76)","v":""},{"$f":"IF('Analysis 103L'!E76=\"\",\"\",IF(AND(C50=0,D50=0),\"\",'Analysis 103L'!E76))","v":""}]
[{"$f":"IF('Analysis 103L'!J77=\"\",\"\",IF(AND(C51=0,D51=0),\"\",IF(RIGHT('Analysis 103L'!I77,4)=\"Case\", IF(LEFT('Analysis 103L'!J77,6)=\"Motion\", \"\", 'Analysis 103L'!CJ77),'Analysis 103L'!J77)))","v":""},{"$f":"IF('Analysis 103L'!P77=\"\",\"\",IF(A51=\"\", \"\", 'Analysis 103L'!P77))","v":""},{"$f":"IF('Analysis 103L'!S77=\"\",\"\", IF(LEFT('Analysis 103L'!J77,6)=\"Motion\", \"\", IF(RIGHT('Analysis 103L'!I77,4)=\"Case\",'Analysis 103L'!R77, 'Analysis 103L'!S77)))","v":""},{"$f":"IF(ISNUMBER('Analysis 103L'!AT77),'Analysis 103L'!AT77,\"\")","v":""},{"$f":"IF('Analysis 103L'!D77=\"\",\"\",'Analysis 103L'!AA77)","v":""},{"$f":"IF(E51=\"\",\"\",'Analysis 103L'!BE77)","v":""},{"$f":"IFERROR('Analysis 103L'!CD77*B51,\"\")","v":""},{"$f":"IF('Analysis 103L'!C77=\"\",\"\",'Analysis 103L'!C77)","v":""},{"$f":"IF('Analysis 103L'!E77=\"\",\"\",IF(AND(C51=0,D51=0),\"\",'Analysis 103L'!E77))","v":""}]
[{"$f":"IF('Analysis 103L'!J78=\"\",\"\",IF(AND(C52=0,D52=0),\"\",IF(RIGHT('Analysis 103L'!I78,4)=\"Case\", IF(LEFT('Analysis 103L'!J78,6)=\"Motion\", \"\", 'Analysis 103L'!CJ78),'Analysis 103L'!J78)))","v":""},{"$f":"IF('Analysis 103L'!P78=\"\",\"\",IF(A52=\"\", \"\", 'Analysis 103L'!P78))","v":""},{"$f":"IF('Analysis 103L'!S78=\"\",\"\", IF(LEFT('Analysis 103L'!J78,6)=\"Motion\", \"\", IF(RIGHT('Analysis 103L'!I78,4)=\"Case\",'Analysis 103L'!R78, 'Analysis 103L'!S78)))","v":""},{"$f":"IF(ISNUMBER('Analysis 103L'!AT78),'Analysis 103L'!AT78,\"\")","v":""},{"$f":"IF('Analysis 103L'!D78=\"\",\"\",'Analysis 103L'!AA78)","v":""},{"$f":"IF(E52=\"\",\"\",'Analysis 103L'!BE78)","v":""},{"$f":"IFERROR('Analysis 103L'!CD78*B52,\"\")","v":""},{"$f":"IF('Analysis 103L'!C78=\"\",\"\",'Analysis 103L'!C78)","v":""},{"$f":"IF('Analysis 103L'!E78=\"\",\"\",IF(AND(C52=0,D52=0),\"\",'Analysis 103L'!E78))","v":""}]
[{"$f":"IF('Analysis 103L'!J79=\"\",\"\",IF(AND(C53=0,D53=0),\"\",IF(RIGHT('Analysis 103L'!I79,4)=\"Case\", IF(LEFT('Analysis 103L'!J79,6)=\"Motion\", \"\", 'Analysis 103L'!CJ79),'Analysis 103L'!J79)))","v":""},{"$f":"IF('Analysis 103L'!P79=\"\",\"\",IF(A53=\"\", \"\", 'Analysis 103L'!P79))","v":""},{"$f":"IF('Analysis 103L'!S79=\"\",\"\", IF(LEFT('Analysis 103L'!J79,6)=\"Motion\", \"\", IF(RIGHT('Analysis 103L'!I79,4)=\"Case\",'Analysis 103L'!R79, 'Analysis 103L'!S79)))","v":""},{"$f":"IF(ISNUMBER('Analysis 103L'!AT79),'Analysis 103L'!AT79,\"\")","v":""},{"$f":"IF('Analysis 103L'!D79=\"\",\"\",'Analysis 103L'!AA79)","v":""},{"$f":"IF(E53=\"\",\"\",'Analysis 103L'!BE79)","v":""},{"$f":"IFERROR('Analysis 103L'!CD79*B53,\"\")","v":""},{"$f":"IF('Analysis 103L'!C79=\"\",\"\",'Analysis 103L'!C79)","v":""},{"$f":"IF('Analysis 103L'!E79=\"\",\"\",IF(AND(C53=0,D53=0),\"\",'Analysis 103L'!E79))","v":""}]
[{"$f":"IF('Analysis 103L'!J80=\"\",\"\",IF(AND(C54=0,D54=0),\"\",IF(RIGHT('Analysis 103L'!I80,4)=\"Case\", IF(LEFT('Analysis 103L'!J80,6)=\"Motion\", \"\", 'Analysis 103L'!CJ80),'Analysis 103L'!J80)))","v":""},{"$f":"IF('Analysis 103L'!P80=\"\",\"\",IF(A54=\"\", \"\", 'Analysis 103L'!P80))","v":""},{"$f":"IF('Analysis 103L'!S80=\"\",\"\", IF(LEFT('Analysis 103L'!J80,6)=\"Motion\", \"\", IF(RIGHT('Analysis 103L'!I80,4)=\"Case\",'Analysis 103L'!R80, 'Analysis 103L'!S80)))","v":""},{"$f":"IF(ISNUMBER('Analysis 103L'!AT80),'Analysis 103L'!AT80,\"\")","v":""},{"$f":"IF('Analysis 103L'!D80=\"\",\"\",'Analysis 103L'!AA80)","v":""},{"$f":"IF(E54=\"\",\"\",'Analysis 103L'!BE80)","v":""},{"$f":"IFERROR('Analysis 103L'!CD80*B54,\"\")","v":""},{"$f":"IF('Analysis 103L'!C80=\"\",\"\",'Analysis 103L'!C80)","v":""},{"$f":"IF('Analysis 103L'!E80=\"\",\"\",IF(AND(C54=0,D54=0),\"\",'Analysis 103L'!E80))","v":""}]
[{"$f":"IF('Analysis 103L'!J81=\"\",\"\",IF(AND(C55=0,D55=0),\"\",IF(RIGHT('Analysis 103L'!I81,4)=\"Case\", IF(LEFT('Analysis 103L'!J81,6)=\"Motion\", \"\", 'Analysis 103L'!CJ81),'Analysis 103L'!J81)))","v":""},{"$f":"IF('Analysis 103L'!P81=\"\",\"\",IF(A55=\"\", \"\", 'Analysis 103L'!P81))","v":""},{"$f":"IF('Analysis 103L'!S81=\"\",\"\", IF(LEFT('Analysis 103L'!J81,6)=\"Motion\", \"\", IF(RIGHT('Analysis 103L'!I81,4)=\"Case\",'Analysis 103L'!R81, 'Analysis 103L'!S81)))","v":""},{"$f":"IF(ISNUMBER('Analysis 103L'!AT81),'Analysis 103L'!AT81,\"\")","v":""},{"$f":"IF('Analysis 103L'!D81=\"\",\"\",'Analysis 103L'!AA81)","v":""},{"$f":"IF(E55=\"\",\"\",'Analysis 103L'!BE81)","v":""},{"$f":"IFERROR('Analysis 103L'!CD81*B55,\"\")","v":""},{"$f":"IF('Analysis 103L'!C81=\"\",\"\",'Analysis 103L'!C81)","v":""},{"$f":"IF('Analysis 103L'!E81=\"\",\"\",IF(AND(C55=0,D55=0),\"\",'Analysis 103L'!E81))","v":""}]
[{"$f":"IF('Analysis 103L'!J82=\"\",\"\",IF(AND(C56=0,D56=0),\"\",IF(RIGHT('Analysis 103L'!I82,4)=\"Case\", IF(LEFT('Analysis 103L'!J82,6)=\"Motion\", \"\", 'Analysis 103L'!CJ82),'Analysis 103L'!J82)))","v":""},{"$f":"IF('Analysis 103L'!P82=\"\",\"\",IF(A56=\"\", \"\", 'Analysis 103L'!P82))","v":""},{"$f":"IF('Analysis 103L'!S82=\"\",\"\", IF(LEFT('Analysis 103L'!J82,6)=\"Motion\", \"\", IF(RIGHT('Analysis 103L'!I82,4)=\"Case\",'Analysis 103L'!R82, 'Analysis 103L'!S82)))","v":""},{"$f":"IF(ISNUMBER('Analysis 103L'!AT82),'Analysis 103L'!AT82,\"\")","v":""},{"$f":"IF('Analysis 103L'!D82=\"\",\"\",'Analysis 103L'!AA82)","v":""},{"$f":"IF(E56=\"\",\"\",'Analysis 103L'!BE82)","v":""},{"$f":"IFERROR('Analysis 103L'!CD82*B56,\"\")","v":""},{"$f":"IF('Analysis 103L'!C82=\"\",\"\",'Analysis 103L'!C82)","v":""},{"$f":"IF('Analysis 103L'!E82=\"\",\"\",IF(AND(C56=0,D56=0),\"\",'Analysis 103L'!E82))","v":""}]
[{"$f":"IF('Analysis 103L'!J83=\"\",\"\",IF(AND(C57=0,D57=0),\"\",IF(RIGHT('Analysis 103L'!I83,4)=\"Case\", IF(LEFT('Analysis 103L'!J83,6)=\"Motion\", \"\", 'Analysis 103L'!CJ83),'Analysis 103L'!J83)))","v":""},{"$f":"IF('Analysis 103L'!P83=\"\",\"\",IF(A57=\"\", \"\", 'Analysis 103L'!P83))","v":""},{"$f":"IF('Analysis 103L'!S83=\"\",\"\", IF(LEFT('Analysis 103L'!J83,6)=\"Motion\", \"\", IF(RIGHT('Analysis 103L'!I83,4)=\"Case\",'Analysis 103L'!R83, 'Analysis 103L'!S83)))","v":""},{"$f":"IF(ISNUMBER('Analysis 103L'!AT83),'Analysis 103L'!AT83,\"\")","v":""},{"$f":"IF('Analysis 103L'!D83=\"\",\"\",'Analysis 103L'!AA83)","v":""},{"$f":"IF(E57=\"\",\"\",'Analysis 103L'!BE83)","v":""},{"$f":"IFERROR('Analysis 103L'!CD83*B57,\"\")","v":""},{"$f":"IF('Analysis 103L'!C83=\"\",\"\",'Analysis 103L'!C83)","v":""},{"$f":"IF('Analysis 103L'!E83=\"\",\"\",IF(AND(C57=0,D57=0),\"\",'Analysis 103L'!E83))","v":""}]
[{"$f":"IF('Analysis 103L'!J84=\"\",\"\",IF(AND(C58=0,D58=0),\"\",IF(RIGHT('Analysis 103L'!I84,4)=\"Case\", IF(LEFT('Analysis 103L'!J84,6)=\"Motion\", \"\", 'Analysis 103L'!CJ84),'Analysis 103L'!J84)))","v":""},{"$f":"IF('Analysis 103L'!P84=\"\",\"\",IF(A58=\"\", \"\", 'Analysis 103L'!P84))","v":""},{"$f":"IF('Analysis 103L'!S84=\"\",\"\", IF(LEFT('Analysis 103L'!J84,6)=\"Motion\", \"\", IF(RIGHT('Analysis 103L'!I84,4)=\"Case\",'Analysis 103L'!R84, 'Analysis 103L'!S84)))","v":""},{"$f":"IF(ISNUMBER('Analysis 103L'!AT84),'Analysis 103L'!AT84,\"\")","v":""},{"$f":"IF('Analysis 103L'!D84=\"\",\"\",'Analysis 103L'!AA84)","v":""},{"$f":"IF(E58=\"\",\"\",'Analysis 103L'!BE84)","v":""},{"$f":"IFERROR('Analysis 103L'!CD84*B58,\"\")","v":""},{"$f":"IF('Analysis 103L'!C84=\"\",\"\",'Analysis 103L'!C84)","v":""},{"$f":"IF('Analysis 103L'!E84=\"\",\"\",IF(AND(C58=0,D58=0),\"\",'Analysis 103L'!E84))","v":""}]
[{"$f":"IF('Analysis 103L'!J85=\"\",\"\",IF(AND(C59=0,D59=0),\"\",IF(RIGHT('Analysis 103L'!I85,4)=\"Case\", IF(LEFT('Analysis 103L'!J85,6)=\"Motion\", \"\", 'Analysis 103L'!CJ85),'Analysis 103L'!J85)))","v":""},{"$f":"IF('Analysis 103L'!P85=\"\",\"\",IF(A59=\"\", \"\", 'Analysis 103L'!P85))","v":""},{"$f":"IF('Analysis 103L'!S85=\"\",\"\", IF(LEFT('Analysis 103L'!J85,6)=\"Motion\", \"\", IF(RIGHT('Analysis 103L'!I85,4)=\"Case\",'Analysis 103L'!R85, 'Analysis 103L'!S85)))","v":""},{"$f":"IF(ISNUMBER('Analysis 103L'!AT85),'Analysis 103L'!AT85,\"\")","v":""},{"$f":"IF('Analysis 103L'!D85=\"\",\"\",'Analysis 103L'!AA85)","v":""},{"$f":"IF(E59=\"\",\"\",'Analysis 103L'!BE85)","v":""},{"$f":"IFERROR('Analysis 103L'!CD85*B59,\"\")","v":""},{"$f":"IF('Analysis 103L'!C85=\"\",\"\",'Analysis 103L'!C85)","v":""},{"$f":"IF('Analysis 103L'!E85=\"\",\"\",IF(AND(C59=0,D59=0),\"\",'Analysis 103L'!E85))","v":""}]
[{"$f":"IF('Analysis 103L'!J86=\"\",\"\",IF(AND(C60=0,D60=0),\"\",IF(RIGHT('Analysis 103L'!I86,4)=\"Case\", IF(LEFT('Analysis 103L'!J86,6)=\"Motion\", \"\", 'Analysis 103L'!CJ86),'Analysis 103L'!J86)))","v":""},{"$f":"IF('Analysis 103L'!P86=\"\",\"\",IF(A60=\"\", \"\", 'Analysis 103L'!P86))","v":""},{"$f":"IF('Analysis 103L'!S86=\"\",\"\", IF(LEFT('Analysis 103L'!J86,6)=\"Motion\", \"\", IF(RIGHT('Analysis 103L'!I86,4)=\"Case\",'Analysis 103L'!R86, 'Analysis 103L'!S86)))","v":""},{"$f":"IF(ISNUMBER('Analysis 103L'!AT86),'Analysis 103L'!AT86,\"\")","v":""},{"$f":"IF('Analysis 103L'!D86=\"\",\"\",'Analysis 103L'!AA86)","v":""},{"$f":"IF(E60=\"\",\"\",'Analysis 103L'!BE86)","v":""},{"$f":"IFERROR('Analysis 103L'!CD86*B60,\"\")","v":""},{"$f":"IF('Analysis 103L'!C86=\"\",\"\",'Analysis 103L'!C86)","v":""},{"$f":"IF('Analysis 103L'!E86=\"\",\"\",IF(AND(C60=0,D60=0),\"\",'Analysis 103L'!E86))","v":""}]
[{"$f":"IF('Analysis 103L'!J87=\"\",\"\",IF(AND(C61=0,D61=0),\"\",IF(RIGHT('Analysis 103L'!I87,4)=\"Case\", IF(LEFT('Analysis 103L'!J87,6)=\"Motion\", \"\", 'Analysis 103L'!CJ87),'Analysis 103L'!J87)))","v":""},{"$f":"IF('Analysis 103L'!P87=\"\",\"\",IF(A61=\"\", \"\", 'Analysis 103L'!P87))","v":""},{"$f":"IF('Analysis 103L'!S87=\"\",\"\", IF(LEFT('Analysis 103L'!J87,6)=\"Motion\", \"\", IF(RIGHT('Analysis 103L'!I87,4)=\"Case\",'Analysis 103L'!R87, 'Analysis 103L'!S87)))","v":""},{"$f":"IF(ISNUMBER('Analysis 103L'!AT87),'Analysis 103L'!AT87,\"\")","v":""},{"$f":"IF('Analysis 103L'!D87=\"\",\"\",'Analysis 103L'!AA87)","v":""},{"$f":"IF(E61=\"\",\"\",'Analysis 103L'!BE87)","v":""},{"$f":"IFERROR('Analysis 103L'!CD87*B61,\"\")","v":""},{"$f":"IF('Analysis 103L'!C87=\"\",\"\",'Analysis 103L'!C87)","v":""},{"$f":"IF('Analysis 103L'!E87=\"\",\"\",IF(AND(C61=0,D61=0),\"\",'Analysis 103L'!E87))","v":""}]
[{"$f":"IF('Analysis 103L'!J88=\"\",\"\",IF(AND(C62=0,D62=0),\"\",IF(RIGHT('Analysis 103L'!I88,4)=\"Case\", IF(LEFT('Analysis 103L'!J88,6)=\"Motion\", \"\", 'Analysis 103L'!CJ88),'Analysis 103L'!J88)))","v":""},{"$f":"IF('Analysis 103L'!P88=\"\",\"\",IF(A62=\"\", \"\", 'Analysis 103L'!P88))","v":""},{"$f":"IF('Analysis 103L'!S88=\"\",\"\", IF(LEFT('Analysis 103L'!J88,6)=\"Motion\", \"\", IF(RIGHT('Analysis 103L'!I88,4)=\"Case\",'Analysis 103L'!R88, 'Analysis 103L'!S88)))","v":""},{"$f":"IF(ISNUMBER('Analysis 103L'!AT88),'Analysis 103L'!AT88,\"\")","v":""},{"$f":"IF('Analysis 103L'!D88=\"\",\"\",'Analysis 103L'!AA88)","v":""},{"$f":"IF(E62=\"\",\"\",'Analysis 103L'!BE88)","v":""},{"$f":"IFERROR('Analysis 103L'!CD88*B62,\"\")","v":""},{"$f":"IF('Analysis 103L'!C88=\"\",\"\",'Analysis 103L'!C88)","v":""},{"$f":"IF('Analysis 103L'!E88=\"\",\"\",IF(AND(C62=0,D62=0),\"\",'Analysis 103L'!E88))","v":""}]
[{"$f":"IF('Analysis 103L'!J89=\"\",\"\",IF(AND(C63=0,D63=0),\"\",IF(RIGHT('Analysis 103L'!I89,4)=\"Case\", IF(LEFT('Analysis 103L'!J89,6)=\"Motion\", \"\", 'Analysis 103L'!CJ89),'Analysis 103L'!J89)))","v":""},{"$f":"IF('Analysis 103L'!P89=\"\",\"\",IF(A63=\"\", \"\", 'Analysis 103L'!P89))","v":""},{"$f":"IF('Analysis 103L'!S89=\"\",\"\", IF(LEFT('Analysis 103L'!J89,6)=\"Motion\", \"\", IF(RIGHT('Analysis 103L'!I89,4)=\"Case\",'Analysis 103L'!R89, 'Analysis 103L'!S89)))","v":""},{"$f":"IF(ISNUMBER('Analysis 103L'!AT89),'Analysis 103L'!AT89,\"\")","v":""},{"$f":"IF('Analysis 103L'!D89=\"\",\"\",'Analysis 103L'!AA89)","v":""},{"$f":"IF(E63=\"\",\"\",'Analysis 103L'!BE89)","v":""},{"$f":"IFERROR('Analysis 103L'!CD89*B63,\"\")","v":""},{"$f":"IF('Analysis 103L'!C89=\"\",\"\",'Analysis 103L'!C89)","v":""},{"$f":"IF('Analysis 103L'!E89=\"\",\"\",IF(AND(C63=0,D63=0),\"\",'Analysis 103L'!E89))","v":""}]
[{"$f":"IF('Analysis 103L'!J90=\"\",\"\",IF(AND(C64=0,D64=0),\"\",IF(RIGHT('Analysis 103L'!I90,4)=\"Case\", IF(LEFT('Analysis 103L'!J90,6)=\"Motion\", \"\", 'Analysis 103L'!CJ90),'Analysis 103L'!J90)))","v":""},{"$f":"IF('Analysis 103L'!P90=\"\",\"\",IF(A64=\"\", \"\", 'Analysis 103L'!P90))","v":""},{"$f":"IF('Analysis 103L'!S90=\"\",\"\", IF(LEFT('Analysis 103L'!J90,6)=\"Motion\", \"\", IF(RIGHT('Analysis 103L'!I90,4)=\"Case\",'Analysis 103L'!R90, 'Analysis 103L'!S90)))","v":""},{"$f":"IF(ISNUMBER('Analysis 103L'!AT90),'Analysis 103L'!AT90,\"\")","v":""},{"$f":"IF('Analysis 103L'!D90=\"\",\"\",'Analysis 103L'!AA90)","v":""},{"$f":"IF(E64=\"\",\"\",'Analysis 103L'!BE90)","v":""},{"$f":"IFERROR('Analysis 103L'!CD90*B64,\"\")","v":""},{"$f":"IF('Analysis 103L'!C90=\"\",\"\",'Analysis 103L'!C90)","v":""},{"$f":"IF('Analysis 103L'!E90=\"\",\"\",IF(AND(C64=0,D64=0),\"\",'Analysis 103L'!E90))","v":""}]
[{"$f":"IF('Analysis 103L'!J91=\"\",\"\",IF(AND(C65=0,D65=0),\"\",IF(RIGHT('Analysis 103L'!I91,4)=\"Case\", IF(LEFT('Analysis 103L'!J91,6)=\"Motion\", \"\", 'Analysis 103L'!CJ91),'Analysis 103L'!J91)))","v":""},{"$f":"IF('Analysis 103L'!P91=\"\",\"\",IF(A65=\"\", \"\", 'Analysis 103L'!P91))","v":""},{"$f":"IF('Analysis 103L'!S91=\"\",\"\", IF(LEFT('Analysis 103L'!J91,6)=\"Motion\", \"\", IF(RIGHT('Analysis 103L'!I91,4)=\"Case\",'Analysis 103L'!R91, 'Analysis 103L'!S91)))","v":""},{"$f":"IF(ISNUMBER('Analysis 103L'!AT91),'Analysis 103L'!AT91,\"\")","v":""},{"$f":"IF('Analysis 103L'!D91=\"\",\"\",'Analysis 103L'!AA91)","v":""},{"$f":"IF(E65=\"\",\"\",'Analysis 103L'!BE91)","v":""},{"$f":"IFERROR('Analysis 103L'!CD91*B65,\"\")","v":""},{"$f":"IF('Analysis 103L'!C91=\"\",\"\",'Analysis 103L'!C91)","v":""},{"$f":"IF('Analysis 103L'!E91=\"\",\"\",IF(AND(C65=0,D65=0),\"\",'Analysis 103L'!E91))","v":""}]
[{"$f":"IF('Analysis 103L'!J92=\"\",\"\",IF(AND(C66=0,D66=0),\"\",IF(RIGHT('Analysis 103L'!I92,4)=\"Case\", IF(LEFT('Analysis 103L'!J92,6)=\"Motion\", \"\", 'Analysis 103L'!CJ92),'Analysis 103L'!J92)))","v":""},{"$f":"IF('Analysis 103L'!P92=\"\",\"\",IF(A66=\"\", \"\", 'Analysis 103L'!P92))","v":""},{"$f":"IF('Analysis 103L'!S92=\"\",\"\", IF(LEFT('Analysis 103L'!J92,6)=\"Motion\", \"\", IF(RIGHT('Analysis 103L'!I92,4)=\"Case\",'Analysis 103L'!R92, 'Analysis 103L'!S92)))","v":""},{"$f":"IF(ISNUMBER('Analysis 103L'!AT92),'Analysis 103L'!AT92,\"\")","v":""},{"$f":"IF('Analysis 103L'!D92=\"\",\"\",'Analysis 103L'!AA92)","v":""},{"$f":"IF(E66=\"\",\"\",'Analysis 103L'!BE92)","v":""},{"$f":"IFERROR('Analysis 103L'!CD92*B66,\"\")","v":""},{"$f":"IF('Analysis 103L'!C92=\"\",\"\",'Analysis 103L'!C92)","v":""},{"$f":"IF('Analysis 103L'!E92=\"\",\"\",IF(AND(C66=0,D66=0),\"\",'Analysis 103L'!E92))","v":""}]
[{"$f":"IF('Analysis 103L'!J93=\"\",\"\",IF(AND(C67=0,D67=0),\"\",IF(RIGHT('Analysis 103L'!I93,4)=\"Case\", IF(LEFT('Analysis 103L'!J93,6)=\"Motion\", \"\", 'Analysis 103L'!CJ93),'Analysis 103L'!J93)))","v":""},{"$f":"IF('Analysis 103L'!P93=\"\",\"\",IF(A67=\"\", \"\", 'Analysis 103L'!P93))","v":""},{"$f":"IF('Analysis 103L'!S93=\"\",\"\", IF(LEFT('Analysis 103L'!J93,6)=\"Motion\", \"\", IF(RIGHT('Analysis 103L'!I93,4)=\"Case\",'Analysis 103L'!R93, 'Analysis 103L'!S93)))","v":""},{"$f":"IF(ISNUMBER('Analysis 103L'!AT93),'Analysis 103L'!AT93,\"\")","v":""},{"$f":"IF('Analysis 103L'!D93=\"\",\"\",'Analysis 103L'!AA93)","v":""},{"$f":"IF(E67=\"\",\"\",'Analysis 103L'!BE93)","v":""},{"$f":"IFERROR('Analysis 103L'!CD93*B67,\"\")","v":""},{"$f":"IF('Analysis 103L'!C93=\"\",\"\",'Analysis 103L'!C93)","v":""},{"$f":"IF('Analysis 103L'!E93=\"\",\"\",IF(AND(C67=0,D67=0),\"\",'Analysis 103L'!E93))","v":""}]
[{"$f":"IF('Analysis 103L'!J94=\"\",\"\",IF(AND(C68=0,D68=0),\"\",IF(RIGHT('Analysis 103L'!I94,4)=\"Case\", IF(LEFT('Analysis 103L'!J94,6)=\"Motion\", \"\", 'Analysis 103L'!CJ94),'Analysis 103L'!J94)))","v":""},{"$f":"IF('Analysis 103L'!P94=\"\",\"\",IF(A68=\"\", \"\", 'Analysis 103L'!P94))","v":""},{"$f":"IF('Analysis 103L'!S94=\"\",\"\", IF(LEFT('Analysis 103L'!J94,6)=\"Motion\", \"\", IF(RIGHT('Analysis 103L'!I94,4)=\"Case\",'Analysis 103L'!R94, 'Analysis 103L'!S94)))","v":""},{"$f":"IF(ISNUMBER('Analysis 103L'!AT94),'Analysis 103L'!AT94,\"\")","v":""},{"$f":"IF('Analysis 103L'!D94=\"\",\"\",'Analysis 103L'!AA94)","v":""},{"$f":"IF(E68=\"\",\"\",'Analysis 103L'!BE94)","v":""},{"$f":"IFERROR('Analysis 103L'!CD94*B68,\"\")","v":""},{"$f":"IF('Analysis 103L'!C94=\"\",\"\",'Analysis 103L'!C94)","v":""},{"$f":"IF('Analysis 103L'!E94=\"\",\"\",IF(AND(C68=0,D68=0),\"\",'Analysis 103L'!E94))","v":""}]
[{"$f":"IF('Analysis 103L'!J95=\"\",\"\",IF(AND(C69=0,D69=0),\"\",IF(RIGHT('Analysis 103L'!I95,4)=\"Case\", IF(LEFT('Analysis 103L'!J95,6)=\"Motion\", \"\", 'Analysis 103L'!CJ95),'Analysis 103L'!J95)))","v":""},{"$f":"IF('Analysis 103L'!P95=\"\",\"\",IF(A69=\"\", \"\", 'Analysis 103L'!P95))","v":""},{"$f":"IF('Analysis 103L'!S95=\"\",\"\", IF(LEFT('Analysis 103L'!J95,6)=\"Motion\", \"\", IF(RIGHT('Analysis 103L'!I95,4)=\"Case\",'Analysis 103L'!R95, 'Analysis 103L'!S95)))","v":""},{"$f":"IF(ISNUMBER('Analysis 103L'!AT95),'Analysis 103L'!AT95,\"\")","v":""},{"$f":"IF('Analysis 103L'!D95=\"\",\"\",'Analysis 103L'!AA95)","v":""},{"$f":"IF(E69=\"\",\"\",'Analysis 103L'!BE95)","v":""},{"$f":"IFERROR('Analysis 103L'!CD95*B69,\"\")","v":""},{"$f":"IF('Analysis 103L'!C95=\"\",\"\",'Analysis 103L'!C95)","v":""},{"$f":"IF('Analysis 103L'!E95=\"\",\"\",IF(AND(C69=0,D69=0),\"\",'Analysis 103L'!E95))","v":""}]
[{"$f":"IF('Analysis 103L'!J96=\"\",\"\",IF(AND(C70=0,D70=0),\"\",IF(RIGHT('Analysis 103L'!I96,4)=\"Case\", IF(LEFT('Analysis 103L'!J96,6)=\"Motion\", \"\", 'Analysis 103L'!CJ96),'Analysis 103L'!J96)))","v":""},{"$f":"IF('Analysis 103L'!P96=\"\",\"\",IF(A70=\"\", \"\", 'Analysis 103L'!P96))","v":""},{"$f":"IF('Analysis 103L'!S96=\"\",\"\", IF(LEFT('Analysis 103L'!J96,6)=\"Motion\", \"\", IF(RIGHT('Analysis 103L'!I96,4)=\"Case\",'Analysis 103L'!R96, 'Analysis 103L'!S96)))","v":""},{"$f":"IF(ISNUMBER('Analysis 103L'!AT96),'Analysis 103L'!AT96,\"\")","v":""},{"$f":"IF('Analysis 103L'!D96=\"\",\"\",'Analysis 103L'!AA96)","v":""},{"$f":"IF(E70=\"\",\"\",'Analysis 103L'!BE96)","v":""},{"$f":"IFERROR('Analysis 103L'!CD96*B70,\"\")","v":""},{"$f":"IF('Analysis 103L'!C96=\"\",\"\",'Analysis 103L'!C96)","v":""},{"$f":"IF('Analysis 103L'!E96=\"\",\"\",IF(AND(C70=0,D70=0),\"\",'Analysis 103L'!E96))","v":""}]
[{"$f":"IF('Analysis 103L'!J97=\"\",\"\",IF(AND(C71=0,D71=0),\"\",IF(RIGHT('Analysis 103L'!I97,4)=\"Case\", IF(LEFT('Analysis 103L'!J97,6)=\"Motion\", \"\", 'Analysis 103L'!CJ97),'Analysis 103L'!J97)))","v":""},{"$f":"IF('Analysis 103L'!P97=\"\",\"\",IF(A71=\"\", \"\", 'Analysis 103L'!P97))","v":""},{"$f":"IF('Analysis 103L'!S97=\"\",\"\", IF(LEFT('Analysis 103L'!J97,6)=\"Motion\", \"\", IF(RIGHT('Analysis 103L'!I97,4)=\"Case\",'Analysis 103L'!R97, 'Analysis 103L'!S97)))","v":""},{"$f":"IF(ISNUMBER('Analysis 103L'!AT97),'Analysis 103L'!AT97,\"\")","v":""},{"$f":"IF('Analysis 103L'!D97=\"\",\"\",'Analysis 103L'!AA97)","v":""},{"$f":"IF(E71=\"\",\"\",'Analysis 103L'!BE97)","v":""},{"$f":"IFERROR('Analysis 103L'!CD97*B71,\"\")","v":""},{"$f":"IF('Analysis 103L'!C97=\"\",\"\",'Analysis 103L'!C97)","v":""},{"$f":"IF('Analysis 103L'!E97=\"\",\"\",IF(AND(C71=0,D71=0),\"\",'Analysis 103L'!E97))","v":""}]
[{"$f":"IF('Analysis 103L'!J98=\"\",\"\",IF(AND(C72=0,D72=0),\"\",IF(RIGHT('Analysis 103L'!I98,4)=\"Case\", IF(LEFT('Analysis 103L'!J98,6)=\"Motion\", \"\", 'Analysis 103L'!CJ98),'Analysis 103L'!J98)))","v":""},{"$f":"IF('Analysis 103L'!P98=\"\",\"\",IF(A72=\"\", \"\", 'Analysis 103L'!P98))","v":""},{"$f":"IF('Analysis 103L'!S98=\"\",\"\", IF(LEFT('Analysis 103L'!J98,6)=\"Motion\", \"\", IF(RIGHT('Analysis 103L'!I98,4)=\"Case\",'Analysis 103L'!R98, 'Analysis 103L'!S98)))","v":""},{"$f":"IF(ISNUMBER('Analysis 103L'!AT98),'Analysis 103L'!AT98,\"\")","v":""},{"$f":"IF('Analysis 103L'!D98=\"\",\"\",'Analysis 103L'!AA98)","v":""},{"$f":"IF(E72=\"\",\"\",'Analysis 103L'!BE98)","v":""},{"$f":"IFERROR('Analysis 103L'!CD98*B72,\"\")","v":""},{"$f":"IF('Analysis 103L'!C98=\"\",\"\",'Analysis 103L'!C98)","v":""},{"$f":"IF('Analysis 103L'!E98=\"\",\"\",IF(AND(C72=0,D72=0),\"\",'Analysis 103L'!E98))","v":""}]
[{"$f":"IF('Analysis 103L'!J99=\"\",\"\",IF(AND(C73=0,D73=0),\"\",IF(RIGHT('Analysis 103L'!I99,4)=\"Case\", IF(LEFT('Analysis 103L'!J99,6)=\"Motion\", \"\", 'Analysis 103L'!CJ99),'Analysis 103L'!J99)))","v":""},{"$f":"IF('Analysis 103L'!P99=\"\",\"\",IF(A73=\"\", \"\", 'Analysis 103L'!P99))","v":""},{"$f":"IF('Analysis 103L'!S99=\"\",\"\", IF(LEFT('Analysis 103L'!J99,6)=\"Motion\", \"\", IF(RIGHT('Analysis 103L'!I99,4)=\"Case\",'Analysis 103L'!R99, 'Analysis 103L'!S99)))","v":""},{"$f":"IF(ISNUMBER('Analysis 103L'!AT99),'Analysis 103L'!AT99,\"\")","v":""},{"$f":"IF('Analysis 103L'!D99=\"\",\"\",'Analysis 103L'!AA99)","v":""},{"$f":"IF(E73=\"\",\"\",'Analysis 103L'!BE99)","v":""},{"$f":"IFERROR('Analysis 103L'!CD99*B73,\"\")","v":""},{"$f":"IF('Analysis 103L'!C99=\"\",\"\",'Analysis 103L'!C99)","v":""},{"$f":"IF('Analysis 103L'!E99=\"\",\"\",IF(AND(C73=0,D73=0),\"\",'Analysis 103L'!E99))","v":""}]
[{"$f":"IF('Analysis 103L'!J100=\"\",\"\",IF(AND(C74=0,D74=0),\"\",IF(RIGHT('Analysis 103L'!I100,4)=\"Case\", IF(LEFT('Analysis 103L'!J100,6)=\"Motion\", \"\", 'Analysis 103L'!CJ100),'Analysis 103L'!J100)))","v":""},{"$f":"IF('Analysis 103L'!P100=\"\",\"\",IF(A74=\"\", \"\", 'Analysis 103L'!P100))","v":""},{"$f":"IF('Analysis 103L'!S100=\"\",\"\", IF(LEFT('Analysis 103L'!J100,6)=\"Motion\", \"\", IF(RIGHT('Analysis 103L'!I100,4)=\"Case\",'Analysis 103L'!R100, 'Analysis 103L'!S100)))","v":""},{"$f":"IF(ISNUMBER('Analysis 103L'!AT100),'Analysis 103L'!AT100,\"\")","v":""},{"$f":"IF('Analysis 103L'!D100=\"\",\"\",'Analysis 103L'!AA100)","v":""},{"$f":"IF(E74=\"\",\"\",'Analysis 103L'!BE100)","v":""},{"$f":"IFERROR('Analysis 103L'!CD100*B74,\"\")","v":""},{"$f":"IF('Analysis 103L'!C100=\"\",\"\",'Analysis 103L'!C100)","v":""},{"$f":"IF('Analysis 103L'!E100=\"\",\"\",IF(AND(C74=0,D74=0),\"\",'Analysis 103L'!E100))","v":""}]
[{"$f":"IF('Analysis 103L'!J101=\"\",\"\",IF(AND(C75=0,D75=0),\"\",IF(RIGHT('Analysis 103L'!I101,4)=\"Case\", IF(LEFT('Analysis 103L'!J101,6)=\"Motion\", \"\", 'Analysis 103L'!CJ101),'Analysis 103L'!J101)))","v":""},{"$f":"IF('Analysis 103L'!P101=\"\",\"\",IF(A75=\"\", \"\", 'Analysis 103L'!P101))","v":""},{"$f":"IF('Analysis 103L'!S101=\"\",\"\", IF(LEFT('Analysis 103L'!J101,6)=\"Motion\", \"\", IF(RIGHT('Analysis 103L'!I101,4)=\"Case\",'Analysis 103L'!R101, 'Analysis 103L'!S101)))","v":""},{"$f":"IF(ISNUMBER('Analysis 103L'!AT101),'Analysis 103L'!AT101,\"\")","v":""},{"$f":"IF('Analysis 103L'!D101=\"\",\"\",'Analysis 103L'!AA101)","v":""},{"$f":"IF(E75=\"\",\"\",'Analysis 103L'!BE101)","v":""},{"$f":"IFERROR('Analysis 103L'!CD101*B75,\"\")","v":""},{"$f":"IF('Analysis 103L'!C101=\"\",\"\",'Analysis 103L'!C101)","v":""},{"$f":"IF('Analysis 103L'!E101=\"\",\"\",IF(AND(C75=0,D75=0),\"\",'Analysis 103L'!E101))","v":""}]
[{"$f":"IF('Analysis 103L'!J102=\"\",\"\",IF(AND(C76=0,D76=0),\"\",IF(RIGHT('Analysis 103L'!I102,4)=\"Case\", IF(LEFT('Analysis 103L'!J102,6)=\"Motion\", \"\", 'Analysis 103L'!CJ102),'Analysis 103L'!J102)))","v":""},{"$f":"IF('Analysis 103L'!P102=\"\",\"\",IF(A76=\"\", \"\", 'Analysis 103L'!P102))","v":""},{"$f":"IF('Analysis 103L'!S102=\"\",\"\", IF(LEFT('Analysis 103L'!J102,6)=\"Motion\", \"\", IF(RIGHT('Analysis 103L'!I102,4)=\"Case\",'Analysis 103L'!R102, 'Analysis 103L'!S102)))","v":""},{"$f":"IF(ISNUMBER('Analysis 103L'!AT102),'Analysis 103L'!AT102,\"\")","v":""},{"$f":"IF('Analysis 103L'!D102=\"\",\"\",'Analysis 103L'!AA102)","v":""},{"$f":"IF(E76=\"\",\"\",'Analysis 103L'!BE102)","v":""},{"$f":"IFERROR('Analysis 103L'!CD102*B76,\"\")","v":""},{"$f":"IF('Analysis 103L'!C102=\"\",\"\",'Analysis 103L'!C102)","v":""},{"$f":"IF('Analysis 103L'!E102=\"\",\"\",IF(AND(C76=0,D76=0),\"\",'Analysis 103L'!E102))","v":""}]
[{"$f":"IF('Analysis 103L'!J103=\"\",\"\",IF(AND(C77=0,D77=0),\"\",IF(RIGHT('Analysis 103L'!I103,4)=\"Case\", IF(LEFT('Analysis 103L'!J103,6)=\"Motion\", \"\", 'Analysis 103L'!CJ103),'Analysis 103L'!J103)))","v":""},{"$f":"IF('Analysis 103L'!P103=\"\",\"\",IF(A77=\"\", \"\", 'Analysis 103L'!P103))","v":""},{"$f":"IF('Analysis 103L'!S103=\"\",\"\", IF(LEFT('Analysis 103L'!J103,6)=\"Motion\", \"\", IF(RIGHT('Analysis 103L'!I103,4)=\"Case\",'Analysis 103L'!R103, 'Analysis 103L'!S103)))","v":""},{"$f":"IF(ISNUMBER('Analysis 103L'!AT103),'Analysis 103L'!AT103,\"\")","v":""},{"$f":"IF('Analysis 103L'!D103=\"\",\"\",'Analysis 103L'!AA103)","v":""},{"$f":"IF(E77=\"\",\"\",'Analysis 103L'!BE103)","v":""},{"$f":"IFERROR('Analysis 103L'!CD103*B77,\"\")","v":""},{"$f":"IF('Analysis 103L'!C103=\"\",\"\",'Analysis 103L'!C103)","v":""},{"$f":"IF('Analysis 103L'!E103=\"\",\"\",IF(AND(C77=0,D77=0),\"\",'Analysis 103L'!E103))","v":""}]
[{"$f":"IF('Analysis 103L'!J104=\"\",\"\",IF(AND(C78=0,D78=0),\"\",IF(RIGHT('Analysis 103L'!I104,4)=\"Case\", IF(LEFT('Analysis 103L'!J104,6)=\"Motion\", \"\", 'Analysis 103L'!CJ104),'Analysis 103L'!J104)))","v":""},{"$f":"IF('Analysis 103L'!P104=\"\",\"\",IF(A78=\"\", \"\", 'Analysis 103L'!P104))","v":""},{"$f":"IF('Analysis 103L'!S104=\"\",\"\", IF(LEFT('Analysis 103L'!J104,6)=\"Motion\", \"\", IF(RIGHT('Analysis 103L'!I104,4)=\"Case\",'Analysis 103L'!R104, 'Analysis 103L'!S104)))","v":""},{"$f":"IF(ISNUMBER('Analysis 103L'!AT104),'Analysis 103L'!AT104,\"\")","v":""},{"$f":"IF('Analysis 103L'!D104=\"\",\"\",'Analysis 103L'!AA104)","v":""},{"$f":"IF(E78=\"\",\"\",'Analysis 103L'!BE104)","v":""},{"$f":"IFERROR('Analysis 103L'!CD104*B78,\"\")","v":""},{"$f":"IF('Analysis 103L'!C104=\"\",\"\",'Analysis 103L'!C104)","v":""},{"$f":"IF('Analysis 103L'!E104=\"\",\"\",IF(AND(C78=0,D78=0),\"\",'Analysis 103L'!E104))","v":""}]
[{"$f":"IF('Analysis 103L'!J105=\"\",\"\",IF(AND(C79=0,D79=0),\"\",IF(RIGHT('Analysis 103L'!I105,4)=\"Case\", IF(LEFT('Analysis 103L'!J105,6)=\"Motion\", \"\", 'Analysis 103L'!CJ105),'Analysis 103L'!J105)))","v":""},{"$f":"IF('Analysis 103L'!P105=\"\",\"\",IF(A79=\"\", \"\", 'Analysis 103L'!P105))","v":""},{"$f":"IF('Analysis 103L'!S105=\"\",\"\", IF(LEFT('Analysis 103L'!J105,6)=\"Motion\", \"\", IF(RIGHT('Analysis 103L'!I105,4)=\"Case\",'Analysis 103L'!R105, 'Analysis 103L'!S105)))","v":""},{"$f":"IF(ISNUMBER('Analysis 103L'!AT105),'Analysis 103L'!AT105,\"\")","v":""},{"$f":"IF('Analysis 103L'!D105=\"\",\"\",'Analysis 103L'!AA105)","v":""},{"$f":"IF(E79=\"\",\"\",'Analysis 103L'!BE105)","v":""},{"$f":"IFERROR('Analysis 103L'!CD105*B79,\"\")","v":""},{"$f":"IF('Analysis 103L'!C105=\"\",\"\",'Analysis 103L'!C105)","v":""},{"$f":"IF('Analysis 103L'!E105=\"\",\"\",IF(AND(C79=0,D79=0),\"\",'Analysis 103L'!E105))","v":""}]
[{"$f":"IF('Analysis 103L'!J106=\"\",\"\",IF(AND(C80=0,D80=0),\"\",IF(RIGHT('Analysis 103L'!I106,4)=\"Case\", IF(LEFT('Analysis 103L'!J106,6)=\"Motion\", \"\", 'Analysis 103L'!CJ106),'Analysis 103L'!J106)))","v":""},{"$f":"IF('Analysis 103L'!P106=\"\",\"\",IF(A80=\"\", \"\", 'Analysis 103L'!P106))","v":""},{"$f":"IF('Analysis 103L'!S106=\"\",\"\", IF(LEFT('Analysis 103L'!J106,6)=\"Motion\", \"\", IF(RIGHT('Analysis 103L'!I106,4)=\"Case\",'Analysis 103L'!R106, 'Analysis 103L'!S106)))","v":""},{"$f":"IF(ISNUMBER('Analysis 103L'!AT106),'Analysis 103L'!AT106,\"\")","v":""},{"$f":"IF('Analysis 103L'!D106=\"\",\"\",'Analysis 103L'!AA106)","v":""},{"$f":"IF(E80=\"\",\"\",'Analysis 103L'!BE106)","v":""},{"$f":"IFERROR('Analysis 103L'!CD106*B80,\"\")","v":""},{"$f":"IF('Analysis 103L'!C106=\"\",\"\",'Analysis 103L'!C106)","v":""},{"$f":"IF('Analysis 103L'!E106=\"\",\"\",IF(AND(C80=0,D80=0),\"\",'Analysis 103L'!E106))","v":""}]
[{"$f":"IF('Analysis 103L'!J107=\"\",\"\",IF(AND(C81=0,D81=0),\"\",IF(RIGHT('Analysis 103L'!I107,4)=\"Case\", IF(LEFT('Analysis 103L'!J107,6)=\"Motion\", \"\", 'Analysis 103L'!CJ107),'Analysis 103L'!J107)))","v":""},{"$f":"IF('Analysis 103L'!P107=\"\",\"\",IF(A81=\"\", \"\", 'Analysis 103L'!P107))","v":""},{"$f":"IF('Analysis 103L'!S107=\"\",\"\", IF(LEFT('Analysis 103L'!J107,6)=\"Motion\", \"\", IF(RIGHT('Analysis 103L'!I107,4)=\"Case\",'Analysis 103L'!R107, 'Analysis 103L'!S107)))","v":""},{"$f":"IF(ISNUMBER('Analysis 103L'!AT107),'Analysis 103L'!AT107,\"\")","v":""},{"$f":"IF('Analysis 103L'!D107=\"\",\"\",'Analysis 103L'!AA107)","v":""},{"$f":"IF(E81=\"\",\"\",'Analysis 103L'!BE107)","v":""},{"$f":"IFERROR('Analysis 103L'!CD107*B81,\"\")","v":""},{"$f":"IF('Analysis 103L'!C107=\"\",\"\",'Analysis 103L'!C107)","v":""},{"$f":"IF('Analysis 103L'!E107=\"\",\"\",IF(AND(C81=0,D81=0),\"\",'Analysis 103L'!E107))","v":""}]
[{"$f":"IF('Analysis 103L'!J108=\"\",\"\",IF(AND(C82=0,D82=0),\"\",IF(RIGHT('Analysis 103L'!I108,4)=\"Case\", IF(LEFT('Analysis 103L'!J108,6)=\"Motion\", \"\", 'Analysis 103L'!CJ108),'Analysis 103L'!J108)))","v":""},{"$f":"IF('Analysis 103L'!P108=\"\",\"\",IF(A82=\"\", \"\", 'Analysis 103L'!P108))","v":""},{"$f":"IF('Analysis 103L'!S108=\"\",\"\", IF(LEFT('Analysis 103L'!J108,6)=\"Motion\", \"\", IF(RIGHT('Analysis 103L'!I108,4)=\"Case\",'Analysis 103L'!R108, 'Analysis 103L'!S108)))","v":""},{"$f":"IF(ISNUMBER('Analysis 103L'!AT108),'Analysis 103L'!AT108,\"\")","v":""},{"$f":"IF('Analysis 103L'!D108=\"\",\"\",'Analysis 103L'!AA108)","v":""},{"$f":"IF(E82=\"\",\"\",'Analysis 103L'!BE108)","v":""},{"$f":"IFERROR('Analysis 103L'!CD108*B82,\"\")","v":""},{"$f":"IF('Analysis 103L'!C108=\"\",\"\",'Analysis 103L'!C108)","v":""},{"$f":"IF('Analysis 103L'!E108=\"\",\"\",IF(AND(C82=0,D82=0),\"\",'Analysis 103L'!E108))","v":""}]
[{"$f":"IF('Analysis 103L'!J109=\"\",\"\",IF(AND(C83=0,D83=0),\"\",IF(RIGHT('Analysis 103L'!I109,4)=\"Case\", IF(LEFT('Analysis 103L'!J109,6)=\"Motion\", \"\", 'Analysis 103L'!CJ109),'Analysis 103L'!J109)))","v":""},{"$f":"IF('Analysis 103L'!P109=\"\",\"\",IF(A83=\"\", \"\", 'Analysis 103L'!P109))","v":""},{"$f":"IF('Analysis 103L'!S109=\"\",\"\", IF(LEFT('Analysis 103L'!J109,6)=\"Motion\", \"\", IF(RIGHT('Analysis 103L'!I109,4)=\"Case\",'Analysis 103L'!R109, 'Analysis 103L'!S109)))","v":""},{"$f":"IF(ISNUMBER('Analysis 103L'!AT109),'Analysis 103L'!AT109,\"\")","v":""},{"$f":"IF('Analysis 103L'!D109=\"\",\"\",'Analysis 103L'!AA109)","v":""},{"$f":"IF(E83=\"\",\"\",'Analysis 103L'!BE109)","v":""},{"$f":"IFERROR('Analysis 103L'!CD109*B83,\"\")","v":""},{"$f":"IF('Analysis 103L'!C109=\"\",\"\",'Analysis 103L'!C109)","v":""},{"$f":"IF('Analysis 103L'!E109=\"\",\"\",IF(AND(C83=0,D83=0),\"\",'Analysis 103L'!E109))","v":""}]
[{"$f":"IF('Analysis 103L'!J110=\"\",\"\",IF(AND(C84=0,D84=0),\"\",IF(RIGHT('Analysis 103L'!I110,4)=\"Case\", IF(LEFT('Analysis 103L'!J110,6)=\"Motion\", \"\", 'Analysis 103L'!CJ110),'Analysis 103L'!J110)))","v":""},{"$f":"IF('Analysis 103L'!P110=\"\",\"\",IF(A84=\"\", \"\", 'Analysis 103L'!P110))","v":""},{"$f":"IF('Analysis 103L'!S110=\"\",\"\", IF(LEFT('Analysis 103L'!J110,6)=\"Motion\", \"\", IF(RIGHT('Analysis 103L'!I110,4)=\"Case\",'Analysis 103L'!R110, 'Analysis 103L'!S110)))","v":""},{"$f":"IF(ISNUMBER('Analysis 103L'!AT110),'Analysis 103L'!AT110,\"\")","v":""},{"$f":"IF('Analysis 103L'!D110=\"\",\"\",'Analysis 103L'!AA110)","v":""},{"$f":"IF(E84=\"\",\"\",'Analysis 103L'!BE110)","v":""},{"$f":"IFERROR('Analysis 103L'!CD110*B84,\"\")","v":""},{"$f":"IF('Analysis 103L'!C110=\"\",\"\",'Analysis 103L'!C110)","v":""},{"$f":"IF('Analysis 103L'!E110=\"\",\"\",IF(AND(C84=0,D84=0),\"\",'Analysis 103L'!E110))","v":""}]
[{"$f":"IF('Analysis 103L'!J111=\"\",\"\",IF(AND(C85=0,D85=0),\"\",IF(RIGHT('Analysis 103L'!I111,4)=\"Case\", IF(LEFT('Analysis 103L'!J111,6)=\"Motion\", \"\", 'Analysis 103L'!CJ111),'Analysis 103L'!J111)))","v":""},{"$f":"IF('Analysis 103L'!P111=\"\",\"\",IF(A85=\"\", \"\", 'Analysis 103L'!P111))","v":""},{"$f":"IF('Analysis 103L'!S111=\"\",\"\", IF(LEFT('Analysis 103L'!J111,6)=\"Motion\", \"\", IF(RIGHT('Analysis 103L'!I111,4)=\"Case\",'Analysis 103L'!R111, 'Analysis 103L'!S111)))","v":""},{"$f":"IF(ISNUMBER('Analysis 103L'!AT111),'Analysis 103L'!AT111,\"\")","v":""},{"$f":"IF('Analysis 103L'!D111=\"\",\"\",'Analysis 103L'!AA111)","v":""},{"$f":"IF(E85=\"\",\"\",'Analysis 103L'!BE111)","v":""},{"$f":"IFERROR('Analysis 103L'!CD111*B85,\"\")","v":""},{"$f":"IF('Analysis 103L'!C111=\"\",\"\",'Analysis 103L'!C111)","v":""},{"$f":"IF('Analysis 103L'!E111=\"\",\"\",IF(AND(C85=0,D85=0),\"\",'Analysis 103L'!E111))","v":""}]
[{"$f":"IF('Analysis 103L'!J112=\"\",\"\",IF(AND(C86=0,D86=0),\"\",IF(RIGHT('Analysis 103L'!I112,4)=\"Case\", IF(LEFT('Analysis 103L'!J112,6)=\"Motion\", \"\", 'Analysis 103L'!CJ112),'Analysis 103L'!J112)))","v":""},{"$f":"IF('Analysis 103L'!P112=\"\",\"\",IF(A86=\"\", \"\", 'Analysis 103L'!P112))","v":""},{"$f":"IF('Analysis 103L'!S112=\"\",\"\", IF(LEFT('Analysis 103L'!J112,6)=\"Motion\", \"\", IF(RIGHT('Analysis 103L'!I112,4)=\"Case\",'Analysis 103L'!R112, 'Analysis 103L'!S112)))","v":""},{"$f":"IF(ISNUMBER('Analysis 103L'!AT112),'Analysis 103L'!AT112,\"\")","v":""},{"$f":"IF('Analysis 103L'!D112=\"\",\"\",'Analysis 103L'!AA112)","v":""},{"$f":"IF(E86=\"\",\"\",'Analysis 103L'!BE112)","v":""},{"$f":"IFERROR('Analysis 103L'!CD112*B86,\"\")","v":""},{"$f":"IF('Analysis 103L'!C112=\"\",\"\",'Analysis 103L'!C112)","v":""},{"$f":"IF('Analysis 103L'!E112=\"\",\"\",IF(AND(C86=0,D86=0),\"\",'Analysis 103L'!E112))","v":""}]
[{"$f":"IF('Analysis 103L'!J113=\"\",\"\",IF(AND(C87=0,D87=0),\"\",IF(RIGHT('Analysis 103L'!I113,4)=\"Case\", IF(LEFT('Analysis 103L'!J113,6)=\"Motion\", \"\", 'Analysis 103L'!CJ113),'Analysis 103L'!J113)))","v":""},{"$f":"IF('Analysis 103L'!P113=\"\",\"\",IF(A87=\"\", \"\", 'Analysis 103L'!P113))","v":""},{"$f":"IF('Analysis 103L'!S113=\"\",\"\", IF(LEFT('Analysis 103L'!J113,6)=\"Motion\", \"\", IF(RIGHT('Analysis 103L'!I113,4)=\"Case\",'Analysis 103L'!R113, 'Analysis 103L'!S113)))","v":""},{"$f":"IF(ISNUMBER('Analysis 103L'!AT113),'Analysis 103L'!AT113,\"\")","v":""},{"$f":"IF('Analysis 103L'!D113=\"\",\"\",'Analysis 103L'!AA113)","v":""},{"$f":"IF(E87=\"\",\"\",'Analysis 103L'!BE113)","v":""},{"$f":"IFERROR('Analysis 103L'!CD113*B87,\"\")","v":""},{"$f":"IF('Analysis 103L'!C113=\"\",\"\",'Analysis 103L'!C113)","v":""},{"$f":"IF('Analysis 103L'!E113=\"\",\"\",IF(AND(C87=0,D87=0),\"\",'Analysis 103L'!E113))","v":""}]
[{"$f":"IF('Analysis 103L'!J114=\"\",\"\",IF(AND(C88=0,D88=0),\"\",IF(RIGHT('Analysis 103L'!I114,4)=\"Case\", IF(LEFT('Analysis 103L'!J114,6)=\"Motion\", \"\", 'Analysis 103L'!CJ114),'Analysis 103L'!J114)))","v":""},{"$f":"IF('Analysis 103L'!P114=\"\",\"\",IF(A88=\"\", \"\", 'Analysis 103L'!P114))","v":""},{"$f":"IF('Analysis 103L'!S114=\"\",\"\", IF(LEFT('Analysis 103L'!J114,6)=\"Motion\", \"\", IF(RIGHT('Analysis 103L'!I114,4)=\"Case\",'Analysis 103L'!R114, 'Analysis 103L'!S114)))","v":""},{"$f":"IF(ISNUMBER('Analysis 103L'!AT114),'Analysis 103L'!AT114,\"\")","v":""},{"$f":"IF('Analysis 103L'!D114=\"\",\"\",'Analysis 103L'!AA114)","v":""},{"$f":"IF(E88=\"\",\"\",'Analysis 103L'!BE114)","v":""},{"$f":"IFERROR('Analysis 103L'!CD114*B88,\"\")","v":""},{"$f":"IF('Analysis 103L'!C114=\"\",\"\",'Analysis 103L'!C114)","v":""},{"$f":"IF('Analysis 103L'!E114=\"\",\"\",IF(AND(C88=0,D88=0),\"\",'Analysis 103L'!E114))","v":""}]
[{"$f":"IF('Analysis 103L'!J115=\"\",\"\",IF(AND(C89=0,D89=0),\"\",IF(RIGHT('Analysis 103L'!I115,4)=\"Case\", IF(LEFT('Analysis 103L'!J115,6)=\"Motion\", \"\", 'Analysis 103L'!CJ115),'Analysis 103L'!J115)))","v":""},{"$f":"IF('Analysis 103L'!P115=\"\",\"\",IF(A89=\"\", \"\", 'Analysis 103L'!P115))","v":""},{"$f":"IF('Analysis 103L'!S115=\"\",\"\", IF(LEFT('Analysis 103L'!J115,6)=\"Motion\", \"\", IF(RIGHT('Analysis 103L'!I115,4)=\"Case\",'Analysis 103L'!R115, 'Analysis 103L'!S115)))","v":""},{"$f":"IF(ISNUMBER('Analysis 103L'!AT115),'Analysis 103L'!AT115,\"\")","v":""},{"$f":"IF('Analysis 103L'!D115=\"\",\"\",'Analysis 103L'!AA115)","v":""},{"$f":"IF(E89=\"\",\"\",'Analysis 103L'!BE115)","v":""},{"$f":"IFERROR('Analysis 103L'!CD115*B89,\"\")","v":""},{"$f":"IF('Analysis 103L'!C115=\"\",\"\",'Analysis 103L'!C115)","v":""},{"$f":"IF('Analysis 103L'!E115=\"\",\"\",IF(AND(C89=0,D89=0),\"\",'Analysis 103L'!E115))","v":""}]
[{"$f":"IF('Analysis 103L'!J116=\"\",\"\",IF(AND(C90=0,D90=0),\"\",IF(RIGHT('Analysis 103L'!I116,4)=\"Case\", IF(LEFT('Analysis 103L'!J116,6)=\"Motion\", \"\", 'Analysis 103L'!CJ116),'Analysis 103L'!J116)))","v":""},{"$f":"IF('Analysis 103L'!P116=\"\",\"\",IF(A90=\"\", \"\", 'Analysis 103L'!P116))","v":""},{"$f":"IF('Analysis 103L'!S116=\"\",\"\", IF(LEFT('Analysis 103L'!J116,6)=\"Motion\", \"\", IF(RIGHT('Analysis 103L'!I116,4)=\"Case\",'Analysis 103L'!R116, 'Analysis 103L'!S116)))","v":""},{"$f":"IF(ISNUMBER('Analysis 103L'!AT116),'Analysis 103L'!AT116,\"\")","v":""},{"$f":"IF('Analysis 103L'!D116=\"\",\"\",'Analysis 103L'!AA116)","v":""},{"$f":"IF(E90=\"\",\"\",'Analysis 103L'!BE116)","v":""},{"$f":"IFERROR('Analysis 103L'!CD116*B90,\"\")","v":""},{"$f":"IF('Analysis 103L'!C116=\"\",\"\",'Analysis 103L'!C116)","v":""},{"$f":"IF('Analysis 103L'!E116=\"\",\"\",IF(AND(C90=0,D90=0),\"\",'Analysis 103L'!E116))","v":""}]
[{"$f":"IF('Analysis 103L'!J117=\"\",\"\",IF(AND(C91=0,D91=0),\"\",IF(RIGHT('Analysis 103L'!I117,4)=\"Case\", IF(LEFT('Analysis 103L'!J117,6)=\"Motion\", \"\", 'Analysis 103L'!CJ117),'Analysis 103L'!J117)))","v":""},{"$f":"IF('Analysis 103L'!P117=\"\",\"\",IF(A91=\"\", \"\", 'Analysis 103L'!P117))","v":""},{"$f":"IF('Analysis 103L'!S117=\"\",\"\", IF(LEFT('Analysis 103L'!J117,6)=\"Motion\", \"\", IF(RIGHT('Analysis 103L'!I117,4)=\"Case\",'Analysis 103L'!R117, 'Analysis 103L'!S117)))","v":""},{"$f":"IF(ISNUMBER('Analysis 103L'!AT117),'Analysis 103L'!AT117,\"\")","v":""},{"$f":"IF('Analysis 103L'!D117=\"\",\"\",'Analysis 103L'!AA117)","v":""},{"$f":"IF(E91=\"\",\"\",'Analysis 103L'!BE117)","v":""},{"$f":"IFERROR('Analysis 103L'!CD117*B91,\"\")","v":""},{"$f":"IF('Analysis 103L'!C117=\"\",\"\",'Analysis 103L'!C117)","v":""},{"$f":"IF('Analysis 103L'!E117=\"\",\"\",IF(AND(C91=0,D91=0),\"\",'Analysis 103L'!E117))","v":""}]
[{"$f":"IF('Analysis 103L'!J118=\"\",\"\",IF(AND(C92=0,D92=0),\"\",IF(RIGHT('Analysis 103L'!I118,4)=\"Case\", IF(LEFT('Analysis 103L'!J118,6)=\"Motion\", \"\", 'Analysis 103L'!CJ118),'Analysis 103L'!J118)))","v":""},{"$f":"IF('Analysis 103L'!P118=\"\",\"\",IF(A92=\"\", \"\", 'Analysis 103L'!P118))","v":""},{"$f":"IF('Analysis 103L'!S118=\"\",\"\", IF(LEFT('Analysis 103L'!J118,6)=\"Motion\", \"\", IF(RIGHT('Analysis 103L'!I118,4)=\"Case\",'Analysis 103L'!R118, 'Analysis 103L'!S118)))","v":""},{"$f":"IF(ISNUMBER('Analysis 103L'!AT118),'Analysis 103L'!AT118,\"\")","v":""},{"$f":"IF('Analysis 103L'!D118=\"\",\"\",'Analysis 103L'!AA118)","v":""},{"$f":"IF(E92=\"\",\"\",'Analysis 103L'!BE118)","v":""},{"$f":"IFERROR('Analysis 103L'!CD118*B92,\"\")","v":""},{"$f":"IF('Analysis 103L'!C118=\"\",\"\",'Analysis 103L'!C118)","v":""},{"$f":"IF('Analysis 103L'!E118=\"\",\"\",IF(AND(C92=0,D92=0),\"\",'Analysis 103L'!E118))","v":""}]
[{"$f":"IF('Analysis 103L'!J119=\"\",\"\",IF(AND(C93=0,D93=0),\"\",IF(RIGHT('Analysis 103L'!I119,4)=\"Case\", IF(LEFT('Analysis 103L'!J119,6)=\"Motion\", \"\", 'Analysis 103L'!CJ119),'Analysis 103L'!J119)))","v":""},{"$f":"IF('Analysis 103L'!P119=\"\",\"\",IF(A93=\"\", \"\", 'Analysis 103L'!P119))","v":""},{"$f":"IF('Analysis 103L'!S119=\"\",\"\", IF(LEFT('Analysis 103L'!J119,6)=\"Motion\", \"\", IF(RIGHT('Analysis 103L'!I119,4)=\"Case\",'Analysis 103L'!R119, 'Analysis 103L'!S119)))","v":""},{"$f":"IF(ISNUMBER('Analysis 103L'!AT119),'Analysis 103L'!AT119,\"\")","v":""},{"$f":"IF('Analysis 103L'!D119=\"\",\"\",'Analysis 103L'!AA119)","v":""},{"$f":"IF(E93=\"\",\"\",'Analysis 103L'!BE119)","v":""},{"$f":"IFERROR('Analysis 103L'!CD119*B93,\"\")","v":""},{"$f":"IF('Analysis 103L'!C119=\"\",\"\",'Analysis 103L'!C119)","v":""},{"$f":"IF('Analysis 103L'!E119=\"\",\"\",IF(AND(C93=0,D93=0),\"\",'Analysis 103L'!E119))","v":""}]
[{"$f":"IF('Analysis 103L'!J120=\"\",\"\",IF(AND(C94=0,D94=0),\"\",IF(RIGHT('Analysis 103L'!I120,4)=\"Case\", IF(LEFT('Analysis 103L'!J120,6)=\"Motion\", \"\", 'Analysis 103L'!CJ120),'Analysis 103L'!J120)))","v":""},{"$f":"IF('Analysis 103L'!P120=\"\",\"\",IF(A94=\"\", \"\", 'Analysis 103L'!P120))","v":""},{"$f":"IF('Analysis 103L'!S120=\"\",\"\", IF(LEFT('Analysis 103L'!J120,6)=\"Motion\", \"\", IF(RIGHT('Analysis 103L'!I120,4)=\"Case\",'Analysis 103L'!R120, 'Analysis 103L'!S120)))","v":""},{"$f":"IF(ISNUMBER('Analysis 103L'!AT120),'Analysis 103L'!AT120,\"\")","v":""},{"$f":"IF('Analysis 103L'!D120=\"\",\"\",'Analysis 103L'!AA120)","v":""},{"$f":"IF(E94=\"\",\"\",'Analysis 103L'!BE120)","v":""},{"$f":"IFERROR('Analysis 103L'!CD120*B94,\"\")","v":""},{"$f":"IF('Analysis 103L'!C120=\"\",\"\",'Analysis 103L'!C120)","v":""},{"$f":"IF('Analysis 103L'!E120=\"\",\"\",IF(AND(C94=0,D94=0),\"\",'Analysis 103L'!E120))","v":""}]
[{"$f":"IF('Analysis 103L'!J121=\"\",\"\",IF(AND(C95=0,D95=0),\"\",IF(RIGHT('Analysis 103L'!I121,4)=\"Case\", IF(LEFT('Analysis 103L'!J121,6)=\"Motion\", \"\", 'Analysis 103L'!CJ121),'Analysis 103L'!J121)))","v":""},{"$f":"IF('Analysis 103L'!P121=\"\",\"\",IF(A95=\"\", \"\", 'Analysis 103L'!P121))","v":""},{"$f":"IF('Analysis 103L'!S121=\"\",\"\", IF(LEFT('Analysis 103L'!J121,6)=\"Motion\", \"\", IF(RIGHT('Analysis 103L'!I121,4)=\"Case\",'Analysis 103L'!R121, 'Analysis 103L'!S121)))","v":""},{"$f":"IF(ISNUMBER('Analysis 103L'!AT121),'Analysis 103L'!AT121,\"\")","v":""},{"$f":"IF('Analysis 103L'!D121=\"\",\"\",'Analysis 103L'!AA121)","v":""},{"$f":"IF(E95=\"\",\"\",'Analysis 103L'!BE121)","v":""},{"$f":"IFERROR('Analysis 103L'!CD121*B95,\"\")","v":""},{"$f":"IF('Analysis 103L'!C121=\"\",\"\",'Analysis 103L'!C121)","v":""},{"$f":"IF('Analysis 103L'!E121=\"\",\"\",IF(AND(C95=0,D95=0),\"\",'Analysis 103L'!E121))","v":""}]
[{"$f":"IF('Analysis 103L'!J122=\"\",\"\",IF(AND(C96=0,D96=0),\"\",IF(RIGHT('Analysis 103L'!I122,4)=\"Case\", IF(LEFT('Analysis 103L'!J122,6)=\"Motion\", \"\", 'Analysis 103L'!CJ122),'Analysis 103L'!J122)))","v":""},{"$f":"IF('Analysis 103L'!P122=\"\",\"\",IF(A96=\"\", \"\", 'Analysis 103L'!P122))","v":""},{"$f":"IF('Analysis 103L'!S122=\"\",\"\", IF(LEFT('Analysis 103L'!J122,6)=\"Motion\", \"\", IF(RIGHT('Analysis 103L'!I122,4)=\"Case\",'Analysis 103L'!R122, 'Analysis 103L'!S122)))","v":""},{"$f":"IF(ISNUMBER('Analysis 103L'!AT122),'Analysis 103L'!AT122,\"\")","v":""},{"$f":"IF('Analysis 103L'!D122=\"\",\"\",'Analysis 103L'!AA122)","v":""},{"$f":"IF(E96=\"\",\"\",'Analysis 103L'!BE122)","v":""},{"$f":"IFERROR('Analysis 103L'!CD122*B96,\"\")","v":""},{"$f":"IF('Analysis 103L'!C122=\"\",\"\",'Analysis 103L'!C122)","v":""},{"$f":"IF('Analysis 103L'!E122=\"\",\"\",IF(AND(C96=0,D96=0),\"\",'Analysis 103L'!E122))","v":""}]
[{"$f":"IF('Analysis 103L'!J123=\"\",\"\",IF(AND(C97=0,D97=0),\"\",IF(RIGHT('Analysis 103L'!I123,4)=\"Case\", IF(LEFT('Analysis 103L'!J123,6)=\"Motion\", \"\", 'Analysis 103L'!CJ123),'Analysis 103L'!J123)))","v":""},{"$f":"IF('Analysis 103L'!P123=\"\",\"\",IF(A97=\"\", \"\", 'Analysis 103L'!P123))","v":""},{"$f":"IF('Analysis 103L'!S123=\"\",\"\", IF(LEFT('Analysis 103L'!J123,6)=\"Motion\", \"\", IF(RIGHT('Analysis 103L'!I123,4)=\"Case\",'Analysis 103L'!R123, 'Analysis 103L'!S123)))","v":""},{"$f":"IF(ISNUMBER('Analysis 103L'!AT123),'Analysis 103L'!AT123,\"\")","v":""},{"$f":"IF('Analysis 103L'!D123=\"\",\"\",'Analysis 103L'!AA123)","v":""},{"$f":"IF(E97=\"\",\"\",'Analysis 103L'!BE123)","v":""},{"$f":"IFERROR('Analysis 103L'!CD123*B97,\"\")","v":""},{"$f":"IF('Analysis 103L'!C123=\"\",\"\",'Analysis 103L'!C123)","v":""},{"$f":"IF('Analysis 103L'!E123=\"\",\"\",IF(AND(C97=0,D97=0),\"\",'Analysis 103L'!E123))","v":""}]
[{"$f":"IF('Analysis 103L'!J124=\"\",\"\",IF(AND(C98=0,D98=0),\"\",IF(RIGHT('Analysis 103L'!I124,4)=\"Case\", IF(LEFT('Analysis 103L'!J124,6)=\"Motion\", \"\", 'Analysis 103L'!CJ124),'Analysis 103L'!J124)))","v":""},{"$f":"IF('Analysis 103L'!P124=\"\",\"\",IF(A98=\"\", \"\", 'Analysis 103L'!P124))","v":""},{"$f":"IF('Analysis 103L'!S124=\"\",\"\", IF(LEFT('Analysis 103L'!J124,6)=\"Motion\", \"\", IF(RIGHT('Analysis 103L'!I124,4)=\"Case\",'Analysis 103L'!R124, 'Analysis 103L'!S124)))","v":""},{"$f":"IF(ISNUMBER('Analysis 103L'!AT124),'Analysis 103L'!AT124,\"\")","v":""},{"$f":"IF('Analysis 103L'!D124=\"\",\"\",'Analysis 103L'!AA124)","v":""},{"$f":"IF(E98=\"\",\"\",'Analysis 103L'!BE124)","v":""},{"$f":"IFERROR('Analysis 103L'!CD124*B98,\"\")","v":""},{"$f":"IF('Analysis 103L'!C124=\"\",\"\",'Analysis 103L'!C124)","v":""},{"$f":"IF('Analysis 103L'!E124=\"\",\"\",IF(AND(C98=0,D98=0),\"\",'Analysis 103L'!E124))","v":""}]
[{"$f":"IF('Analysis 103L'!J125=\"\",\"\",IF(AND(C99=0,D99=0),\"\",IF(RIGHT('Analysis 103L'!I125,4)=\"Case\", IF(LEFT('Analysis 103L'!J125,6)=\"Motion\", \"\", 'Analysis 103L'!CJ125),'Analysis 103L'!J125)))","v":""},{"$f":"IF('Analysis 103L'!P125=\"\",\"\",IF(A99=\"\", \"\", 'Analysis 103L'!P125))","v":""},{"$f":"IF('Analysis 103L'!S125=\"\",\"\", IF(LEFT('Analysis 103L'!J125,6)=\"Motion\", \"\", IF(RIGHT('Analysis 103L'!I125,4)=\"Case\",'Analysis 103L'!R125, 'Analysis 103L'!S125)))","v":""},{"$f":"IF(ISNUMBER('Analysis 103L'!AT125),'Analysis 103L'!AT125,\"\")","v":""},{"$f":"IF('Analysis 103L'!D125=\"\",\"\",'Analysis 103L'!AA125)","v":""},{"$f":"IF(E99=\"\",\"\",'Analysis 103L'!BE125)","v":""},{"$f":"IFERROR('Analysis 103L'!CD125*B99,\"\")","v":""},{"$f":"IF('Analysis 103L'!C125=\"\",\"\",'Analysis 103L'!C125)","v":""},{"$f":"IF('Analysis 103L'!E125=\"\",\"\",IF(AND(C99=0,D99=0),\"\",'Analysis 103L'!E125))","v":""}]
[{"$f":"IF('Analysis 103L'!J126=\"\",\"\",IF(AND(C100=0,D100=0),\"\",IF(RIGHT('Analysis 103L'!I126,4)=\"Case\", IF(LEFT('Analysis 103L'!J126,6)=\"Motion\", \"\", 'Analysis 103L'!CJ126),'Analysis 103L'!J126)))","v":""},{"$f":"IF('Analysis 103L'!P126=\"\",\"\",IF(A100=\"\", \"\", 'Analysis 103L'!P126))","v":""},{"$f":"IF('Analysis 103L'!S126=\"\",\"\", IF(LEFT('Analysis 103L'!J126,6)=\"Motion\", \"\", IF(RIGHT('Analysis 103L'!I126,4)=\"Case\",'Analysis 103L'!R126, 'Analysis 103L'!S126)))","v":""},{"$f":"IF(ISNUMBER('Analysis 103L'!AT126),'Analysis 103L'!AT126,\"\")","v":""},{"$f":"IF('Analysis 103L'!D126=\"\",\"\",'Analysis 103L'!AA126)","v":""},{"$f":"IF(E100=\"\",\"\",'Analysis 103L'!BE126)","v":""},{"$f":"IFERROR('Analysis 103L'!CD126*B100,\"\")","v":""},{"$f":"IF('Analysis 103L'!C126=\"\",\"\",'Analysis 103L'!C126)","v":""},{"$f":"IF('Analysis 103L'!E126=\"\",\"\",IF(AND(C100=0,D100=0),\"\",'Analysis 103L'!E126))","v":""}]
[{"$f":"IF('Analysis 103L'!J127=\"\",\"\",IF(AND(C101=0,D101=0),\"\",IF(RIGHT('Analysis 103L'!I127,4)=\"Case\", IF(LEFT('Analysis 103L'!J127,6)=\"Motion\", \"\", 'Analysis 103L'!CJ127),'Analysis 103L'!J127)))","v":""},{"$f":"IF('Analysis 103L'!P127=\"\",\"\",IF(A101=\"\", \"\", 'Analysis 103L'!P127))","v":""},{"$f":"IF('Analysis 103L'!S127=\"\",\"\", IF(LEFT('Analysis 103L'!J127,6)=\"Motion\", \"\", IF(RIGHT('Analysis 103L'!I127,4)=\"Case\",'Analysis 103L'!R127, 'Analysis 103L'!S127)))","v":""},{"$f":"IF(ISNUMBER('Analysis 103L'!AT127),'Analysis 103L'!AT127,\"\")","v":""},{"$f":"IF('Analysis 103L'!D127=\"\",\"\",'Analysis 103L'!AA127)","v":""},{"$f":"IF(E101=\"\",\"\",'Analysis 103L'!BE127)","v":""},{"$f":"IFERROR('Analysis 103L'!CD127*B101,\"\")","v":""},{"$f":"IF('Analysis 103L'!C127=\"\",\"\",'Analysis 103L'!C127)","v":""},{"$f":"IF('Analysis 103L'!E127=\"\",\"\",IF(AND(C101=0,D101=0),\"\",'Analysis 103L'!E127))","v":""}]
[{"$f":"IF('Analysis 103L'!J128=\"\",\"\",IF(AND(C102=0,D102=0),\"\",IF(RIGHT('Analysis 103L'!I128,4)=\"Case\", IF(LEFT('Analysis 103L'!J128,6)=\"Motion\", \"\", 'Analysis 103L'!CJ128),'Analysis 103L'!J128)))","v":""},{"$f":"IF('Analysis 103L'!P128=\"\",\"\",IF(A102=\"\", \"\", 'Analysis 103L'!P128))","v":""},{"$f":"IF('Analysis 103L'!S128=\"\",\"\", IF(LEFT('Analysis 103L'!J128,6)=\"Motion\", \"\", IF(RIGHT('Analysis 103L'!I128,4)=\"Case\",'Analysis 103L'!R128, 'Analysis 103L'!S128)))","v":""},{"$f":"IF(ISNUMBER('Analysis 103L'!AT128),'Analysis 103L'!AT128,\"\")","v":""},{"$f":"IF('Analysis 103L'!D128=\"\",\"\",'Analysis 103L'!AA128)","v":""},{"$f":"IF(E102=\"\",\"\",'Analysis 103L'!BE128)","v":""},{"$f":"IFERROR('Analysis 103L'!CD128*B102,\"\")","v":""},{"$f":"IF('Analysis 103L'!C128=\"\",\"\",'Analysis 103L'!C128)","v":""},{"$f":"IF('Analysis 103L'!E128=\"\",\"\",IF(AND(C102=0,D102=0),\"\",'Analysis 103L'!E128))","v":""}]
[{"$f":"IF('Analysis 103L'!J129=\"\",\"\",IF(AND(C103=0,D103=0),\"\",IF(RIGHT('Analysis 103L'!I129,4)=\"Case\", IF(LEFT('Analysis 103L'!J129,6)=\"Motion\", \"\", 'Analysis 103L'!CJ129),'Analysis 103L'!J129)))","v":""},{"$f":"IF('Analysis 103L'!P129=\"\",\"\",IF(A103=\"\", \"\", 'Analysis 103L'!P129))","v":""},{"$f":"IF('Analysis 103L'!S129=\"\",\"\", IF(LEFT('Analysis 103L'!J129,6)=\"Motion\", \"\", IF(RIGHT('Analysis 103L'!I129,4)=\"Case\",'Analysis 103L'!R129, 'Analysis 103L'!S129)))","v":""},{"$f":"IF(ISNUMBER('Analysis 103L'!AT129),'Analysis 103L'!AT129,\"\")","v":""},{"$f":"IF('Analysis 103L'!D129=\"\",\"\",'Analysis 103L'!AA129)","v":""},{"$f":"IF(E103=\"\",\"\",'Analysis 103L'!BE129)","v":""},{"$f":"IFERROR('Analysis 103L'!CD129*B103,\"\")","v":""},{"$f":"IF('Analysis 103L'!C129=\"\",\"\",'Analysis 103L'!C129)","v":""},{"$f":"IF('Analysis 103L'!E129=\"\",\"\",IF(AND(C103=0,D103=0),\"\",'Analysis 103L'!E129))","v":""}]
[{"$f":"IF('Analysis 103L'!J130=\"\",\"\",IF(AND(C104=0,D104=0),\"\",IF(RIGHT('Analysis 103L'!I130,4)=\"Case\", IF(LEFT('Analysis 103L'!J130,6)=\"Motion\", \"\", 'Analysis 103L'!CJ130),'Analysis 103L'!J130)))","v":""},{"$f":"IF('Analysis 103L'!P130=\"\",\"\",IF(A104=\"\", \"\", 'Analysis 103L'!P130))","v":""},{"$f":"IF('Analysis 103L'!S130=\"\",\"\", IF(LEFT('Analysis 103L'!J130,6)=\"Motion\", \"\", IF(RIGHT('Analysis 103L'!I130,4)=\"Case\",'Analysis 103L'!R130, 'Analysis 103L'!S130)))","v":""},{"$f":"IF(ISNUMBER('Analysis 103L'!AT130),'Analysis 103L'!AT130,\"\")","v":""},{"$f":"IF('Analysis 103L'!D130=\"\",\"\",'Analysis 103L'!AA130)","v":""},{"$f":"IF(E104=\"\",\"\",'Analysis 103L'!BE130)","v":""},{"$f":"IFERROR('Analysis 103L'!CD130*B104,\"\")","v":""},{"$f":"IF('Analysis 103L'!C130=\"\",\"\",'Analysis 103L'!C130)","v":""},{"$f":"IF('Analysis 103L'!E130=\"\",\"\",IF(AND(C104=0,D104=0),\"\",'Analysis 103L'!E130))","v":""}]
[{"$f":"IF('Analysis 103L'!J131=\"\",\"\",IF(AND(C105=0,D105=0),\"\",IF(RIGHT('Analysis 103L'!I131,4)=\"Case\", IF(LEFT('Analysis 103L'!J131,6)=\"Motion\", \"\", 'Analysis 103L'!CJ131),'Analysis 103L'!J131)))","v":""},{"$f":"IF('Analysis 103L'!P131=\"\",\"\",IF(A105=\"\", \"\", 'Analysis 103L'!P131))","v":""},{"$f":"IF('Analysis 103L'!S131=\"\",\"\", IF(LEFT('Analysis 103L'!J131,6)=\"Motion\", \"\", IF(RIGHT('Analysis 103L'!I131,4)=\"Case\",'Analysis 103L'!R131, 'Analysis 103L'!S131)))","v":""},{"$f":"IF(ISNUMBER('Analysis 103L'!AT131),'Analysis 103L'!AT131,\"\")","v":""},{"$f":"IF('Analysis 103L'!D131=\"\",\"\",'Analysis 103L'!AA131)","v":""},{"$f":"IF(E105=\"\",\"\",'Analysis 103L'!BE131)","v":""},{"$f":"IFERROR('Analysis 103L'!CD131*B105,\"\")","v":""},{"$f":"IF('Analysis 103L'!C131=\"\",\"\",'Analysis 103L'!C131)","v":""},{"$f":"IF('Analysis 103L'!E131=\"\",\"\",IF(AND(C105=0,D105=0),\"\",'Analysis 103L'!E131))","v":""}]
[{"$f":"IF('Analysis 103L'!J132=\"\",\"\",IF(AND(C106=0,D106=0),\"\",IF(RIGHT('Analysis 103L'!I132,4)=\"Case\", IF(LEFT('Analysis 103L'!J132,6)=\"Motion\", \"\", 'Analysis 103L'!CJ132),'Analysis 103L'!J132)))","v":""},{"$f":"IF('Analysis 103L'!P132=\"\",\"\",IF(A106=\"\", \"\", 'Analysis 103L'!P132))","v":""},{"$f":"IF('Analysis 103L'!S132=\"\",\"\", IF(LEFT('Analysis 103L'!J132,6)=\"Motion\", \"\", IF(RIGHT('Analysis 103L'!I132,4)=\"Case\",'Analysis 103L'!R132, 'Analysis 103L'!S132)))","v":""},{"$f":"IF(ISNUMBER('Analysis 103L'!AT132),'Analysis 103L'!AT132,\"\")","v":""},{"$f":"IF('Analysis 103L'!D132=\"\",\"\",'Analysis 103L'!AA132)","v":""},{"$f":"IF(E106=\"\",\"\",'Analysis 103L'!BE132)","v":""},{"$f":"IFERROR('Analysis 103L'!CD132*B106,\"\")","v":""},{"$f":"IF('Analysis 103L'!C132=\"\",\"\",'Analysis 103L'!C132)","v":""},{"$f":"IF('Analysis 103L'!E132=\"\",\"\",IF(AND(C106=0,D106=0),\"\",'Analysis 103L'!E132))","v":""}]
[{"$f":"IF('Analysis 103L'!J133=\"\",\"\",IF(AND(C107=0,D107=0),\"\",IF(RIGHT('Analysis 103L'!I133,4)=\"Case\", IF(LEFT('Analysis 103L'!J133,6)=\"Motion\", \"\", 'Analysis 103L'!CJ133),'Analysis 103L'!J133)))","v":""},{"$f":"IF('Analysis 103L'!P133=\"\",\"\",IF(A107=\"\", \"\", 'Analysis 103L'!P133))","v":""},{"$f":"IF('Analysis 103L'!S133=\"\",\"\", IF(LEFT('Analysis 103L'!J133,6)=\"Motion\", \"\", IF(RIGHT('Analysis 103L'!I133,4)=\"Case\",'Analysis 103L'!R133, 'Analysis 103L'!S133)))","v":""},{"$f":"IF(ISNUMBER('Analysis 103L'!AT133),'Analysis 103L'!AT133,\"\")","v":""},{"$f":"IF('Analysis 103L'!D133=\"\",\"\",'Analysis 103L'!AA133)","v":""},{"$f":"IF(E107=\"\",\"\",'Analysis 103L'!BE133)","v":""},{"$f":"IFERROR('Analysis 103L'!CD133*B107,\"\")","v":""},{"$f":"IF('Analysis 103L'!C133=\"\",\"\",'Analysis 103L'!C133)","v":""},{"$f":"IF('Analysis 103L'!E133=\"\",\"\",IF(AND(C107=0,D107=0),\"\",'Analysis 103L'!E133))","v":""}]
[{"$f":"IF('Analysis 103L'!J134=\"\",\"\",IF(AND(C108=0,D108=0),\"\",IF(RIGHT('Analysis 103L'!I134,4)=\"Case\", IF(LEFT('Analysis 103L'!J134,6)=\"Motion\", \"\", 'Analysis 103L'!CJ134),'Analysis 103L'!J134)))","v":""},{"$f":"IF('Analysis 103L'!P134=\"\",\"\",IF(A108=\"\", \"\", 'Analysis 103L'!P134))","v":""},{"$f":"IF('Analysis 103L'!S134=\"\",\"\", IF(LEFT('Analysis 103L'!J134,6)=\"Motion\", \"\", IF(RIGHT('Analysis 103L'!I134,4)=\"Case\",'Analysis 103L'!R134, 'Analysis 103L'!S134)))","v":""},{"$f":"IF(ISNUMBER('Analysis 103L'!AT134),'Analysis 103L'!AT134,\"\")","v":""},{"$f":"IF('Analysis 103L'!D134=\"\",\"\",'Analysis 103L'!AA134)","v":""},{"$f":"IF(E108=\"\",\"\",'Analysis 103L'!BE134)","v":""},{"$f":"IFERROR('Analysis 103L'!CD134*B108,\"\")","v":""},{"$f":"IF('Analysis 103L'!C134=\"\",\"\",'Analysis 103L'!C134)","v":""},{"$f":"IF('Analysis 103L'!E134=\"\",\"\",IF(AND(C108=0,D108=0),\"\",'Analysis 103L'!E134))","v":""}]
[{"$f":"IF('Analysis 103L'!J135=\"\",\"\",IF(AND(C109=0,D109=0),\"\",IF(RIGHT('Analysis 103L'!I135,4)=\"Case\", IF(LEFT('Analysis 103L'!J135,6)=\"Motion\", \"\", 'Analysis 103L'!CJ135),'Analysis 103L'!J135)))","v":""},{"$f":"IF('Analysis 103L'!P135=\"\",\"\",IF(A109=\"\", \"\", 'Analysis 103L'!P135))","v":""},{"$f":"IF('Analysis 103L'!S135=\"\",\"\", IF(LEFT('Analysis 103L'!J135,6)=\"Motion\", \"\", IF(RIGHT('Analysis 103L'!I135,4)=\"Case\",'Analysis 103L'!R135, 'Analysis 103L'!S135)))","v":""},{"$f":"IF(ISNUMBER('Analysis 103L'!AT135),'Analysis 103L'!AT135,\"\")","v":""},{"$f":"IF('Analysis 103L'!D135=\"\",\"\",'Analysis 103L'!AA135)","v":""},{"$f":"IF(E109=\"\",\"\",'Analysis 103L'!BE135)","v":""},{"$f":"IFERROR('Analysis 103L'!CD135*B109,\"\")","v":""},{"$f":"IF('Analysis 103L'!C135=\"\",\"\",'Analysis 103L'!C135)","v":""},{"$f":"IF('Analysis 103L'!E135=\"\",\"\",IF(AND(C109=0,D109=0),\"\",'Analysis 103L'!E135))","v":""}]
[{"$f":"IF('Analysis 103L'!J136=\"\",\"\",IF(AND(C110=0,D110=0),\"\",IF(RIGHT('Analysis 103L'!I136,4)=\"Case\", IF(LEFT('Analysis 103L'!J136,6)=\"Motion\", \"\", 'Analysis 103L'!CJ136),'Analysis 103L'!J136)))","v":""},{"$f":"IF('Analysis 103L'!P136=\"\",\"\",IF(A110=\"\", \"\", 'Analysis 103L'!P136))","v":""},{"$f":"IF('Analysis 103L'!S136=\"\",\"\", IF(LEFT('Analysis 103L'!J136,6)=\"Motion\", \"\", IF(RIGHT('Analysis 103L'!I136,4)=\"Case\",'Analysis 103L'!R136, 'Analysis 103L'!S136)))","v":""},{"$f":"IF(ISNUMBER('Analysis 103L'!AT136),'Analysis 103L'!AT136,\"\")","v":""},{"$f":"IF('Analysis 103L'!D136=\"\",\"\",'Analysis 103L'!AA136)","v":""},{"$f":"IF(E110=\"\",\"\",'Analysis 103L'!BE136)","v":""},{"$f":"IFERROR('Analysis 103L'!CD136*B110,\"\")","v":""},{"$f":"IF('Analysis 103L'!C136=\"\",\"\",'Analysis 103L'!C136)","v":""},{"$f":"IF('Analysis 103L'!E136=\"\",\"\",IF(AND(C110=0,D110=0),\"\",'Analysis 103L'!E136))","v":""}]
[{"$f":"IF('Analysis 103L'!J137=\"\",\"\",IF(AND(C111=0,D111=0),\"\",IF(RIGHT('Analysis 103L'!I137,4)=\"Case\", IF(LEFT('Analysis 103L'!J137,6)=\"Motion\", \"\", 'Analysis 103L'!CJ137),'Analysis 103L'!J137)))","v":""},{"$f":"IF('Analysis 103L'!P137=\"\",\"\",IF(A111=\"\", \"\", 'Analysis 103L'!P137))","v":""},{"$f":"IF('Analysis 103L'!S137=\"\",\"\", IF(LEFT('Analysis 103L'!J137,6)=\"Motion\", \"\", IF(RIGHT('Analysis 103L'!I137,4)=\"Case\",'Analysis 103L'!R137, 'Analysis 103L'!S137)))","v":""},{"$f":"IF(ISNUMBER('Analysis 103L'!AT137),'Analysis 103L'!AT137,\"\")","v":""},{"$f":"IF('Analysis 103L'!D137=\"\",\"\",'Analysis 103L'!AA137)","v":""},{"$f":"IF(E111=\"\",\"\",'Analysis 103L'!BE137)","v":""},{"$f":"IFERROR('Analysis 103L'!CD137*B111,\"\")","v":""},{"$f":"IF('Analysis 103L'!C137=\"\",\"\",'Analysis 103L'!C137)","v":""},{"$f":"IF('Analysis 103L'!E137=\"\",\"\",IF(AND(C111=0,D111=0),\"\",'Analysis 103L'!E137))","v":""}]
[{"$f":"IF('Analysis 103L'!J138=\"\",\"\",IF(AND(C112=0,D112=0),\"\",IF(RIGHT('Analysis 103L'!I138,4)=\"Case\", IF(LEFT('Analysis 103L'!J138,6)=\"Motion\", \"\", 'Analysis 103L'!CJ138),'Analysis 103L'!J138)))","v":""},{"$f":"IF('Analysis 103L'!P138=\"\",\"\",IF(A112=\"\", \"\", 'Analysis 103L'!P138))","v":""},{"$f":"IF('Analysis 103L'!S138=\"\",\"\", IF(LEFT('Analysis 103L'!J138,6)=\"Motion\", \"\", IF(RIGHT('Analysis 103L'!I138,4)=\"Case\",'Analysis 103L'!R138, 'Analysis 103L'!S138)))","v":""},{"$f":"IF(ISNUMBER('Analysis 103L'!AT138),'Analysis 103L'!AT138,\"\")","v":""},{"$f":"IF('Analysis 103L'!D138=\"\",\"\",'Analysis 103L'!AA138)","v":""},{"$f":"IF(E112=\"\",\"\",'Analysis 103L'!BE138)","v":""},{"$f":"IFERROR('Analysis 103L'!CD138*B112,\"\")","v":""},{"$f":"IF('Analysis 103L'!C138=\"\",\"\",'Analysis 103L'!C138)","v":""},{"$f":"IF('Analysis 103L'!E138=\"\",\"\",IF(AND(C112=0,D112=0),\"\",'Analysis 103L'!E138))","v":""}]
[{"$f":"IF('Analysis 103L'!J139=\"\",\"\",IF(AND(C113=0,D113=0),\"\",IF(RIGHT('Analysis 103L'!I139,4)=\"Case\", IF(LEFT('Analysis 103L'!J139,6)=\"Motion\", \"\", 'Analysis 103L'!CJ139),'Analysis 103L'!J139)))","v":""},{"$f":"IF('Analysis 103L'!P139=\"\",\"\",IF(A113=\"\", \"\", 'Analysis 103L'!P139))","v":""},{"$f":"IF('Analysis 103L'!S139=\"\",\"\", IF(LEFT('Analysis 103L'!J139,6)=\"Motion\", \"\", IF(RIGHT('Analysis 103L'!I139,4)=\"Case\",'Analysis 103L'!R139, 'Analysis 103L'!S139)))","v":""},{"$f":"IF(ISNUMBER('Analysis 103L'!AT139),'Analysis 103L'!AT139,\"\")","v":""},{"$f":"IF('Analysis 103L'!D139=\"\",\"\",'Analysis 103L'!AA139)","v":""},{"$f":"IF(E113=\"\",\"\",'Analysis 103L'!BE139)","v":""},{"$f":"IFERROR('Analysis 103L'!CD139*B113,\"\")","v":""},{"$f":"IF('Analysis 103L'!C139=\"\",\"\",'Analysis 103L'!C139)","v":""},{"$f":"IF('Analysis 103L'!E139=\"\",\"\",IF(AND(C113=0,D113=0),\"\",'Analysis 103L'!E139))","v":""}]
[{"$f":"IF('Analysis 103L'!J140=\"\",\"\",IF(AND(C114=0,D114=0),\"\",IF(RIGHT('Analysis 103L'!I140,4)=\"Case\", IF(LEFT('Analysis 103L'!J140,6)=\"Motion\", \"\", 'Analysis 103L'!CJ140),'Analysis 103L'!J140)))","v":""},{"$f":"IF('Analysis 103L'!P140=\"\",\"\",IF(A114=\"\", \"\", 'Analysis 103L'!P140))","v":""},{"$f":"IF('Analysis 103L'!S140=\"\",\"\", IF(LEFT('Analysis 103L'!J140,6)=\"Motion\", \"\", IF(RIGHT('Analysis 103L'!I140,4)=\"Case\",'Analysis 103L'!R140, 'Analysis 103L'!S140)))","v":""},{"$f":"IF(ISNUMBER('Analysis 103L'!AT140),'Analysis 103L'!AT140,\"\")","v":""},{"$f":"IF('Analysis 103L'!D140=\"\",\"\",'Analysis 103L'!AA140)","v":""},{"$f":"IF(E114=\"\",\"\",'Analysis 103L'!BE140)","v":""},{"$f":"IFERROR('Analysis 103L'!CD140*B114,\"\")","v":""},{"$f":"IF('Analysis 103L'!C140=\"\",\"\",'Analysis 103L'!C140)","v":""},{"$f":"IF('Analysis 103L'!E140=\"\",\"\",IF(AND(C114=0,D114=0),\"\",'Analysis 103L'!E140))","v":""}]
[{"$f":"IF('Analysis 103L'!J141=\"\",\"\",IF(AND(C115=0,D115=0),\"\",IF(RIGHT('Analysis 103L'!I141,4)=\"Case\", IF(LEFT('Analysis 103L'!J141,6)=\"Motion\", \"\", 'Analysis 103L'!CJ141),'Analysis 103L'!J141)))","v":""},{"$f":"IF('Analysis 103L'!P141=\"\",\"\",IF(A115=\"\", \"\", 'Analysis 103L'!P141))","v":""},{"$f":"IF('Analysis 103L'!S141=\"\",\"\", IF(LEFT('Analysis 103L'!J141,6)=\"Motion\", \"\", IF(RIGHT('Analysis 103L'!I141,4)=\"Case\",'Analysis 103L'!R141, 'Analysis 103L'!S141)))","v":""},{"$f":"IF(ISNUMBER('Analysis 103L'!AT141),'Analysis 103L'!AT141,\"\")","v":""},{"$f":"IF('Analysis 103L'!D141=\"\",\"\",'Analysis 103L'!AA141)","v":""},{"$f":"IF(E115=\"\",\"\",'Analysis 103L'!BE141)","v":""},{"$f":"IFERROR('Analysis 103L'!CD141*B115,\"\")","v":""},{"$f":"IF('Analysis 103L'!C141=\"\",\"\",'Analysis 103L'!C141)","v":""},{"$f":"IF('Analysis 103L'!E141=\"\",\"\",IF(AND(C115=0,D115=0),\"\",'Analysis 103L'!E141))","v":""}]
[{"$f":"IF('Analysis 103L'!J142=\"\",\"\",IF(AND(C116=0,D116=0),\"\",IF(RIGHT('Analysis 103L'!I142,4)=\"Case\", IF(LEFT('Analysis 103L'!J142,6)=\"Motion\", \"\", 'Analysis 103L'!CJ142),'Analysis 103L'!J142)))","v":""},{"$f":"IF('Analysis 103L'!P142=\"\",\"\",IF(A116=\"\", \"\", 'Analysis 103L'!P142))","v":""},{"$f":"IF('Analysis 103L'!S142=\"\",\"\", IF(LEFT('Analysis 103L'!J142,6)=\"Motion\", \"\", IF(RIGHT('Analysis 103L'!I142,4)=\"Case\",'Analysis 103L'!R142, 'Analysis 103L'!S142)))","v":""},{"$f":"IF(ISNUMBER('Analysis 103L'!AT142),'Analysis 103L'!AT142,\"\")","v":""},{"$f":"IF('Analysis 103L'!D142=\"\",\"\",'Analysis 103L'!AA142)","v":""},{"$f":"IF(E116=\"\",\"\",'Analysis 103L'!BE142)","v":""},{"$f":"IFERROR('Analysis 103L'!CD142*B116,\"\")","v":""},{"$f":"IF('Analysis 103L'!C142=\"\",\"\",'Analysis 103L'!C142)","v":""},{"$f":"IF('Analysis 103L'!E142=\"\",\"\",IF(AND(C116=0,D116=0),\"\",'Analysis 103L'!E142))","v":""}]
[{"$f":"IF('Analysis 103L'!J143=\"\",\"\",IF(AND(C117=0,D117=0),\"\",IF(RIGHT('Analysis 103L'!I143,4)=\"Case\", IF(LEFT('Analysis 103L'!J143,6)=\"Motion\", \"\", 'Analysis 103L'!CJ143),'Analysis 103L'!J143)))","v":""},{"$f":"IF('Analysis 103L'!P143=\"\",\"\",IF(A117=\"\", \"\", 'Analysis 103L'!P143))","v":""},{"$f":"IF('Analysis 103L'!S143=\"\",\"\", IF(LEFT('Analysis 103L'!J143,6)=\"Motion\", \"\", IF(RIGHT('Analysis 103L'!I143,4)=\"Case\",'Analysis 103L'!R143, 'Analysis 103L'!S143)))","v":""},{"$f":"IF(ISNUMBER('Analysis 103L'!AT143),'Analysis 103L'!AT143,\"\")","v":""},{"$f":"IF('Analysis 103L'!D143=\"\",\"\",'Analysis 103L'!AA143)","v":""},{"$f":"IF(E117=\"\",\"\",'Analysis 103L'!BE143)","v":""},{"$f":"IFERROR('Analysis 103L'!CD143*B117,\"\")","v":""},{"$f":"IF('Analysis 103L'!C143=\"\",\"\",'Analysis 103L'!C143)","v":""},{"$f":"IF('Analysis 103L'!E143=\"\",\"\",IF(AND(C117=0,D117=0),\"\",'Analysis 103L'!E143))","v":""}]
[{"$f":"IF('Analysis 103L'!J144=\"\",\"\",IF(AND(C118=0,D118=0),\"\",IF(RIGHT('Analysis 103L'!I144,4)=\"Case\", IF(LEFT('Analysis 103L'!J144,6)=\"Motion\", \"\", 'Analysis 103L'!CJ144),'Analysis 103L'!J144)))","v":""},{"$f":"IF('Analysis 103L'!P144=\"\",\"\",IF(A118=\"\", \"\", 'Analysis 103L'!P144))","v":""},{"$f":"IF('Analysis 103L'!S144=\"\",\"\", IF(LEFT('Analysis 103L'!J144,6)=\"Motion\", \"\", IF(RIGHT('Analysis 103L'!I144,4)=\"Case\",'Analysis 103L'!R144, 'Analysis 103L'!S144)))","v":""},{"$f":"IF(ISNUMBER('Analysis 103L'!AT144),'Analysis 103L'!AT144,\"\")","v":""},{"$f":"IF('Analysis 103L'!D144=\"\",\"\",'Analysis 103L'!AA144)","v":""},{"$f":"IF(E118=\"\",\"\",'Analysis 103L'!BE144)","v":""},{"$f":"IFERROR('Analysis 103L'!CD144*B118,\"\")","v":""},{"$f":"IF('Analysis 103L'!C144=\"\",\"\",'Analysis 103L'!C144)","v":""},{"$f":"IF('Analysis 103L'!E144=\"\",\"\",IF(AND(C118=0,D118=0),\"\",'Analysis 103L'!E144))","v":""}]
[{"$f":"IF('Analysis 103L'!J145=\"\",\"\",IF(AND(C119=0,D119=0),\"\",IF(RIGHT('Analysis 103L'!I145,4)=\"Case\", IF(LEFT('Analysis 103L'!J145,6)=\"Motion\", \"\", 'Analysis 103L'!CJ145),'Analysis 103L'!J145)))","v":""},{"$f":"IF('Analysis 103L'!P145=\"\",\"\",IF(A119=\"\", \"\", 'Analysis 103L'!P145))","v":""},{"$f":"IF('Analysis 103L'!S145=\"\",\"\", IF(LEFT('Analysis 103L'!J145,6)=\"Motion\", \"\", IF(RIGHT('Analysis 103L'!I145,4)=\"Case\",'Analysis 103L'!R145, 'Analysis 103L'!S145)))","v":""},{"$f":"IF(ISNUMBER('Analysis 103L'!AT145),'Analysis 103L'!AT145,\"\")","v":""},{"$f":"IF('Analysis 103L'!D145=\"\",\"\",'Analysis 103L'!AA145)","v":""},{"$f":"IF(E119=\"\",\"\",'Analysis 103L'!BE145)","v":""},{"$f":"IFERROR('Analysis 103L'!CD145*B119,\"\")","v":""},{"$f":"IF('Analysis 103L'!C145=\"\",\"\",'Analysis 103L'!C145)","v":""},{"$f":"IF('Analysis 103L'!E145=\"\",\"\",IF(AND(C119=0,D119=0),\"\",'Analysis 103L'!E145))","v":""}]
[{"$f":"IF('Analysis 103L'!J146=\"\",\"\",IF(AND(C120=0,D120=0),\"\",IF(RIGHT('Analysis 103L'!I146,4)=\"Case\", IF(LEFT('Analysis 103L'!J146,6)=\"Motion\", \"\", 'Analysis 103L'!CJ146),'Analysis 103L'!J146)))","v":""},{"$f":"IF('Analysis 103L'!P146=\"\",\"\",IF(A120=\"\", \"\", 'Analysis 103L'!P146))","v":""},{"$f":"IF('Analysis 103L'!S146=\"\",\"\", IF(LEFT('Analysis 103L'!J146,6)=\"Motion\", \"\", IF(RIGHT('Analysis 103L'!I146,4)=\"Case\",'Analysis 103L'!R146, 'Analysis 103L'!S146)))","v":""},{"$f":"IF(ISNUMBER('Analysis 103L'!AT146),'Analysis 103L'!AT146,\"\")","v":""},{"$f":"IF('Analysis 103L'!D146=\"\",\"\",'Analysis 103L'!AA146)","v":""},{"$f":"IF(E120=\"\",\"\",'Analysis 103L'!BE146)","v":""},{"$f":"IFERROR('Analysis 103L'!CD146*B120,\"\")","v":""},{"$f":"IF('Analysis 103L'!C146=\"\",\"\",'Analysis 103L'!C146)","v":""},{"$f":"IF('Analysis 103L'!E146=\"\",\"\",IF(AND(C120=0,D120=0),\"\",'Analysis 103L'!E146))","v":""}]
[{"$f":"IF('Analysis 103L'!J147=\"\",\"\",IF(AND(C121=0,D121=0),\"\",IF(RIGHT('Analysis 103L'!I147,4)=\"Case\", IF(LEFT('Analysis 103L'!J147,6)=\"Motion\", \"\", 'Analysis 103L'!CJ147),'Analysis 103L'!J147)))","v":""},{"$f":"IF('Analysis 103L'!P147=\"\",\"\",IF(A121=\"\", \"\", 'Analysis 103L'!P147))","v":""},{"$f":"IF('Analysis 103L'!S147=\"\",\"\", IF(LEFT('Analysis 103L'!J147,6)=\"Motion\", \"\", IF(RIGHT('Analysis 103L'!I147,4)=\"Case\",'Analysis 103L'!R147, 'Analysis 103L'!S147)))","v":""},{"$f":"IF(ISNUMBER('Analysis 103L'!AT147),'Analysis 103L'!AT147,\"\")","v":""},{"$f":"IF('Analysis 103L'!D147=\"\",\"\",'Analysis 103L'!AA147)","v":""},{"$f":"IF(E121=\"\",\"\",'Analysis 103L'!BE147)","v":""},{"$f":"IFERROR('Analysis 103L'!CD147*B121,\"\")","v":""},{"$f":"IF('Analysis 103L'!C147=\"\",\"\",'Analysis 103L'!C147)","v":""},{"$f":"IF('Analysis 103L'!E147=\"\",\"\",IF(AND(C121=0,D121=0),\"\",'Analysis 103L'!E147))","v":""}]
[{"$f":"IF('Analysis 103L'!J148=\"\",\"\",IF(AND(C122=0,D122=0),\"\",IF(RIGHT('Analysis 103L'!I148,4)=\"Case\", IF(LEFT('Analysis 103L'!J148,6)=\"Motion\", \"\", 'Analysis 103L'!CJ148),'Analysis 103L'!J148)))","v":""},{"$f":"IF('Analysis 103L'!P148=\"\",\"\",IF(A122=\"\", \"\", 'Analysis 103L'!P148))","v":""},{"$f":"IF('Analysis 103L'!S148=\"\",\"\", IF(LEFT('Analysis 103L'!J148,6)=\"Motion\", \"\", IF(RIGHT('Analysis 103L'!I148,4)=\"Case\",'Analysis 103L'!R148, 'Analysis 103L'!S148)))","v":""},{"$f":"IF(ISNUMBER('Analysis 103L'!AT148),'Analysis 103L'!AT148,\"\")","v":""},{"$f":"IF('Analysis 103L'!D148=\"\",\"\",'Analysis 103L'!AA148)","v":""},{"$f":"IF(E122=\"\",\"\",'Analysis 103L'!BE148)","v":""},{"$f":"IFERROR('Analysis 103L'!CD148*B122,\"\")","v":""},{"$f":"IF('Analysis 103L'!C148=\"\",\"\",'Analysis 103L'!C148)","v":""},{"$f":"IF('Analysis 103L'!E148=\"\",\"\",IF(AND(C122=0,D122=0),\"\",'Analysis 103L'!E148))","v":""}]
[{"$f":"IF('Analysis 103L'!J149=\"\",\"\",IF(AND(C123=0,D123=0),\"\",IF(RIGHT('Analysis 103L'!I149,4)=\"Case\", IF(LEFT('Analysis 103L'!J149,6)=\"Motion\", \"\", 'Analysis 103L'!CJ149),'Analysis 103L'!J149)))","v":""},{"$f":"IF('Analysis 103L'!P149=\"\",\"\",IF(A123=\"\", \"\", 'Analysis 103L'!P149))","v":""},{"$f":"IF('Analysis 103L'!S149=\"\",\"\", IF(LEFT('Analysis 103L'!J149,6)=\"Motion\", \"\", IF(RIGHT('Analysis 103L'!I149,4)=\"Case\",'Analysis 103L'!R149, 'Analysis 103L'!S149)))","v":""},{"$f":"IF(ISNUMBER('Analysis 103L'!AT149),'Analysis 103L'!AT149,\"\")","v":""},{"$f":"IF('Analysis 103L'!D149=\"\",\"\",'Analysis 103L'!AA149)","v":""},{"$f":"IF(E123=\"\",\"\",'Analysis 103L'!BE149)","v":""},{"$f":"IFERROR('Analysis 103L'!CD149*B123,\"\")","v":""},{"$f":"IF('Analysis 103L'!C149=\"\",\"\",'Analysis 103L'!C149)","v":""},{"$f":"IF('Analysis 103L'!E149=\"\",\"\",IF(AND(C123=0,D123=0),\"\",'Analysis 103L'!E149))","v":""}]
[{"$f":"IF('Analysis 103L'!J150=\"\",\"\",IF(AND(C124=0,D124=0),\"\",IF(RIGHT('Analysis 103L'!I150,4)=\"Case\", IF(LEFT('Analysis 103L'!J150,6)=\"Motion\", \"\", 'Analysis 103L'!CJ150),'Analysis 103L'!J150)))","v":""},{"$f":"IF('Analysis 103L'!P150=\"\",\"\",IF(A124=\"\", \"\", 'Analysis 103L'!P150))","v":""},{"$f":"IF('Analysis 103L'!S150=\"\",\"\", IF(LEFT('Analysis 103L'!J150,6)=\"Motion\", \"\", IF(RIGHT('Analysis 103L'!I150,4)=\"Case\",'Analysis 103L'!R150, 'Analysis 103L'!S150)))","v":""},{"$f":"IF(ISNUMBER('Analysis 103L'!AT150),'Analysis 103L'!AT150,\"\")","v":""},{"$f":"IF('Analysis 103L'!D150=\"\",\"\",'Analysis 103L'!AA150)","v":""},{"$f":"IF(E124=\"\",\"\",'Analysis 103L'!BE150)","v":""},{"$f":"IFERROR('Analysis 103L'!CD150*B124,\"\")","v":""},{"$f":"IF('Analysis 103L'!C150=\"\",\"\",'Analysis 103L'!C150)","v":""},{"$f":"IF('Analysis 103L'!E150=\"\",\"\",IF(AND(C124=0,D124=0),\"\",'Analysis 103L'!E150))","v":""}]
[{"$f":"IF('Analysis 103L'!J151=\"\",\"\",IF(AND(C125=0,D125=0),\"\",IF(RIGHT('Analysis 103L'!I151,4)=\"Case\", IF(LEFT('Analysis 103L'!J151,6)=\"Motion\", \"\", 'Analysis 103L'!CJ151),'Analysis 103L'!J151)))","v":""},{"$f":"IF('Analysis 103L'!P151=\"\",\"\",IF(A125=\"\", \"\", 'Analysis 103L'!P151))","v":""},{"$f":"IF('Analysis 103L'!S151=\"\",\"\", IF(LEFT('Analysis 103L'!J151,6)=\"Motion\", \"\", IF(RIGHT('Analysis 103L'!I151,4)=\"Case\",'Analysis 103L'!R151, 'Analysis 103L'!S151)))","v":""},{"$f":"IF(ISNUMBER('Analysis 103L'!AT151),'Analysis 103L'!AT151,\"\")","v":""},{"$f":"IF('Analysis 103L'!D151=\"\",\"\",'Analysis 103L'!AA151)","v":""},{"$f":"IF(E125=\"\",\"\",'Analysis 103L'!BE151)","v":""},{"$f":"IFERROR('Analysis 103L'!CD151*B125,\"\")","v":""},{"$f":"IF('Analysis 103L'!C151=\"\",\"\",'Analysis 103L'!C151)","v":""},{"$f":"IF('Analysis 103L'!E151=\"\",\"\",IF(AND(C125=0,D125=0),\"\",'Analysis 103L'!E151))","v":""}]
[{"$f":"IF('Analysis 103L'!J152=\"\",\"\",IF(AND(C126=0,D126=0),\"\",IF(RIGHT('Analysis 103L'!I152,4)=\"Case\", IF(LEFT('Analysis 103L'!J152,6)=\"Motion\", \"\", 'Analysis 103L'!CJ152),'Analysis 103L'!J152)))","v":""},{"$f":"IF('Analysis 103L'!P152=\"\",\"\",IF(A126=\"\", \"\", 'Analysis 103L'!P152))","v":""},{"$f":"IF('Analysis 103L'!S152=\"\",\"\", IF(LEFT('Analysis 103L'!J152,6)=\"Motion\", \"\", IF(RIGHT('Analysis 103L'!I152,4)=\"Case\",'Analysis 103L'!R152, 'Analysis 103L'!S152)))","v":""},{"$f":"IF(ISNUMBER('Analysis 103L'!AT152),'Analysis 103L'!AT152,\"\")","v":""},{"$f":"IF('Analysis 103L'!D152=\"\",\"\",'Analysis 103L'!AA152)","v":""},{"$f":"IF(E126=\"\",\"\",'Analysis 103L'!BE152)","v":""},{"$f":"IFERROR('Analysis 103L'!CD152*B126,\"\")","v":""},{"$f":"IF('Analysis 103L'!C152=\"\",\"\",'Analysis 103L'!C152)","v":""},{"$f":"IF('Analysis 103L'!E152=\"\",\"\",IF(AND(C126=0,D126=0),\"\",'Analysis 103L'!E152))","v":""}]
[{"$f":"IF('Analysis 103L'!J153=\"\",\"\",IF(AND(C127=0,D127=0),\"\",IF(RIGHT('Analysis 103L'!I153,4)=\"Case\", IF(LEFT('Analysis 103L'!J153,6)=\"Motion\", \"\", 'Analysis 103L'!CJ153),'Analysis 103L'!J153)))","v":""},{"$f":"IF('Analysis 103L'!P153=\"\",\"\",IF(A127=\"\", \"\", 'Analysis 103L'!P153))","v":""},{"$f":"IF('Analysis 103L'!S153=\"\",\"\", IF(LEFT('Analysis 103L'!J153,6)=\"Motion\", \"\", IF(RIGHT('Analysis 103L'!I153,4)=\"Case\",'Analysis 103L'!R153, 'Analysis 103L'!S153)))","v":""},{"$f":"IF(ISNUMBER('Analysis 103L'!AT153),'Analysis 103L'!AT153,\"\")","v":""},{"$f":"IF('Analysis 103L'!D153=\"\",\"\",'Analysis 103L'!AA153)","v":""},{"$f":"IF(E127=\"\",\"\",'Analysis 103L'!BE153)","v":""},{"$f":"IFERROR('Analysis 103L'!CD153*B127,\"\")","v":""},{"$f":"IF('Analysis 103L'!C153=\"\",\"\",'Analysis 103L'!C153)","v":""},{"$f":"IF('Analysis 103L'!E153=\"\",\"\",IF(AND(C127=0,D127=0),\"\",'Analysis 103L'!E153))","v":""}]
[{"$f":"IF('Analysis 103L'!J154=\"\",\"\",IF(AND(C128=0,D128=0),\"\",IF(RIGHT('Analysis 103L'!I154,4)=\"Case\", IF(LEFT('Analysis 103L'!J154,6)=\"Motion\", \"\", 'Analysis 103L'!CJ154),'Analysis 103L'!J154)))","v":""},{"$f":"IF('Analysis 103L'!P154=\"\",\"\",IF(A128=\"\", \"\", 'Analysis 103L'!P154))","v":""},{"$f":"IF('Analysis 103L'!S154=\"\",\"\", IF(LEFT('Analysis 103L'!J154,6)=\"Motion\", \"\", IF(RIGHT('Analysis 103L'!I154,4)=\"Case\",'Analysis 103L'!R154, 'Analysis 103L'!S154)))","v":""},{"$f":"IF(ISNUMBER('Analysis 103L'!AT154),'Analysis 103L'!AT154,\"\")","v":""},{"$f":"IF('Analysis 103L'!D154=\"\",\"\",'Analysis 103L'!AA154)","v":""},{"$f":"IF(E128=\"\",\"\",'Analysis 103L'!BE154)","v":""},{"$f":"IFERROR('Analysis 103L'!CD154*B128,\"\")","v":""},{"$f":"IF('Analysis 103L'!C154=\"\",\"\",'Analysis 103L'!C154)","v":""},{"$f":"IF('Analysis 103L'!E154=\"\",\"\",IF(AND(C128=0,D128=0),\"\",'Analysis 103L'!E154))","v":""}]
[{"$f":"IF('Analysis 103L'!J155=\"\",\"\",IF(AND(C129=0,D129=0),\"\",IF(RIGHT('Analysis 103L'!I155,4)=\"Case\", IF(LEFT('Analysis 103L'!J155,6)=\"Motion\", \"\", 'Analysis 103L'!CJ155),'Analysis 103L'!J155)))","v":""},{"$f":"IF('Analysis 103L'!P155=\"\",\"\",IF(A129=\"\", \"\", 'Analysis 103L'!P155))","v":""},{"$f":"IF('Analysis 103L'!S155=\"\",\"\", IF(LEFT('Analysis 103L'!J155,6)=\"Motion\", \"\", IF(RIGHT('Analysis 103L'!I155,4)=\"Case\",'Analysis 103L'!R155, 'Analysis 103L'!S155)))","v":""},{"$f":"IF(ISNUMBER('Analysis 103L'!AT155),'Analysis 103L'!AT155,\"\")","v":""},{"$f":"IF('Analysis 103L'!D155=\"\",\"\",'Analysis 103L'!AA155)","v":""},{"$f":"IF(E129=\"\",\"\",'Analysis 103L'!BE155)","v":""},{"$f":"IFERROR('Analysis 103L'!CD155*B129,\"\")","v":""},{"$f":"IF('Analysis 103L'!C155=\"\",\"\",'Analysis 103L'!C155)","v":""},{"$f":"IF('Analysis 103L'!E155=\"\",\"\",IF(AND(C129=0,D129=0),\"\",'Analysis 103L'!E155))","v":""}]
[{"$f":"IF('Analysis 103L'!J156=\"\",\"\",IF(AND(C130=0,D130=0),\"\",IF(RIGHT('Analysis 103L'!I156,4)=\"Case\", IF(LEFT('Analysis 103L'!J156,6)=\"Motion\", \"\", 'Analysis 103L'!CJ156),'Analysis 103L'!J156)))","v":""},{"$f":"IF('Analysis 103L'!P156=\"\",\"\",IF(A130=\"\", \"\", 'Analysis 103L'!P156))","v":""},{"$f":"IF('Analysis 103L'!S156=\"\",\"\", IF(LEFT('Analysis 103L'!J156,6)=\"Motion\", \"\", IF(RIGHT('Analysis 103L'!I156,4)=\"Case\",'Analysis 103L'!R156, 'Analysis 103L'!S156)))","v":""},{"$f":"IF(ISNUMBER('Analysis 103L'!AT156),'Analysis 103L'!AT156,\"\")","v":""},{"$f":"IF('Analysis 103L'!D156=\"\",\"\",'Analysis 103L'!AA156)","v":""},{"$f":"IF(E130=\"\",\"\",'Analysis 103L'!BE156)","v":""},{"$f":"IFERROR('Analysis 103L'!CD156*B130,\"\")","v":""},{"$f":"IF('Analysis 103L'!C156=\"\",\"\",'Analysis 103L'!C156)","v":""},{"$f":"IF('Analysis 103L'!E156=\"\",\"\",IF(AND(C130=0,D130=0),\"\",'Analysis 103L'!E156))","v":""}]
[{"$f":"IF('Analysis 103L'!J157=\"\",\"\",IF(AND(C131=0,D131=0),\"\",IF(RIGHT('Analysis 103L'!I157,4)=\"Case\", IF(LEFT('Analysis 103L'!J157,6)=\"Motion\", \"\", 'Analysis 103L'!CJ157),'Analysis 103L'!J157)))","v":""},{"$f":"IF('Analysis 103L'!P157=\"\",\"\",IF(A131=\"\", \"\", 'Analysis 103L'!P157))","v":""},{"$f":"IF('Analysis 103L'!S157=\"\",\"\", IF(LEFT('Analysis 103L'!J157,6)=\"Motion\", \"\", IF(RIGHT('Analysis 103L'!I157,4)=\"Case\",'Analysis 103L'!R157, 'Analysis 103L'!S157)))","v":""},{"$f":"IF(ISNUMBER('Analysis 103L'!AT157),'Analysis 103L'!AT157,\"\")","v":""},{"$f":"IF('Analysis 103L'!D157=\"\",\"\",'Analysis 103L'!AA157)","v":""},{"$f":"IF(E131=\"\",\"\",'Analysis 103L'!BE157)","v":""},{"$f":"IFERROR('Analysis 103L'!CD157*B131,\"\")","v":""},{"$f":"IF('Analysis 103L'!C157=\"\",\"\",'Analysis 103L'!C157)","v":""},{"$f":"IF('Analysis 103L'!E157=\"\",\"\",IF(AND(C131=0,D131=0),\"\",'Analysis 103L'!E157))","v":""}]
[{"$f":"IF('Analysis 103L'!J158=\"\",\"\",IF(AND(C132=0,D132=0),\"\",IF(RIGHT('Analysis 103L'!I158,4)=\"Case\", IF(LEFT('Analysis 103L'!J158,6)=\"Motion\", \"\", 'Analysis 103L'!CJ158),'Analysis 103L'!J158)))","v":""},{"$f":"IF('Analysis 103L'!P158=\"\",\"\",IF(A132=\"\", \"\", 'Analysis 103L'!P158))","v":""},{"$f":"IF('Analysis 103L'!S158=\"\",\"\", IF(LEFT('Analysis 103L'!J158,6)=\"Motion\", \"\", IF(RIGHT('Analysis 103L'!I158,4)=\"Case\",'Analysis 103L'!R158, 'Analysis 103L'!S158)))","v":""},{"$f":"IF(ISNUMBER('Analysis 103L'!AT158),'Analysis 103L'!AT158,\"\")","v":""},{"$f":"IF('Analysis 103L'!D158=\"\",\"\",'Analysis 103L'!AA158)","v":""},{"$f":"IF(E132=\"\",\"\",'Analysis 103L'!BE158)","v":""},{"$f":"IFERROR('Analysis 103L'!CD158*B132,\"\")","v":""},{"$f":"IF('Analysis 103L'!C158=\"\",\"\",'Analysis 103L'!C158)","v":""},{"$f":"IF('Analysis 103L'!E158=\"\",\"\",IF(AND(C132=0,D132=0),\"\",'Analysis 103L'!E158))","v":""}]
[{"$f":"IF('Analysis 103L'!J159=\"\",\"\",IF(AND(C133=0,D133=0),\"\",IF(RIGHT('Analysis 103L'!I159,4)=\"Case\", IF(LEFT('Analysis 103L'!J159,6)=\"Motion\", \"\", 'Analysis 103L'!CJ159),'Analysis 103L'!J159)))","v":""},{"$f":"IF('Analysis 103L'!P159=\"\",\"\",IF(A133=\"\", \"\", 'Analysis 103L'!P159))","v":""},{"$f":"IF('Analysis 103L'!S159=\"\",\"\", IF(LEFT('Analysis 103L'!J159,6)=\"Motion\", \"\", IF(RIGHT('Analysis 103L'!I159,4)=\"Case\",'Analysis 103L'!R159, 'Analysis 103L'!S159)))","v":""},{"$f":"IF(ISNUMBER('Analysis 103L'!AT159),'Analysis 103L'!AT159,\"\")","v":""},{"$f":"IF('Analysis 103L'!D159=\"\",\"\",'Analysis 103L'!AA159)","v":""},{"$f":"IF(E133=\"\",\"\",'Analysis 103L'!BE159)","v":""},{"$f":"IFERROR('Analysis 103L'!CD159*B133,\"\")","v":""},{"$f":"IF('Analysis 103L'!C159=\"\",\"\",'Analysis 103L'!C159)","v":""},{"$f":"IF('Analysis 103L'!E159=\"\",\"\",IF(AND(C133=0,D133=0),\"\",'Analysis 103L'!E159))","v":""}]
[{"$f":"IF('Analysis 103L'!J160=\"\",\"\",IF(AND(C134=0,D134=0),\"\",IF(RIGHT('Analysis 103L'!I160,4)=\"Case\", IF(LEFT('Analysis 103L'!J160,6)=\"Motion\", \"\", 'Analysis 103L'!CJ160),'Analysis 103L'!J160)))","v":""},{"$f":"IF('Analysis 103L'!P160=\"\",\"\",IF(A134=\"\", \"\", 'Analysis 103L'!P160))","v":""},{"$f":"IF('Analysis 103L'!S160=\"\",\"\", IF(LEFT('Analysis 103L'!J160,6)=\"Motion\", \"\", IF(RIGHT('Analysis 103L'!I160,4)=\"Case\",'Analysis 103L'!R160, 'Analysis 103L'!S160)))","v":""},{"$f":"IF(ISNUMBER('Analysis 103L'!AT160),'Analysis 103L'!AT160,\"\")","v":""},{"$f":"IF('Analysis 103L'!D160=\"\",\"\",'Analysis 103L'!AA160)","v":""},{"$f":"IF(E134=\"\",\"\",'Analysis 103L'!BE160)","v":""},{"$f":"IFERROR('Analysis 103L'!CD160*B134,\"\")","v":""},{"$f":"IF('Analysis 103L'!C160=\"\",\"\",'Analysis 103L'!C160)","v":""},{"$f":"IF('Analysis 103L'!E160=\"\",\"\",IF(AND(C134=0,D134=0),\"\",'Analysis 103L'!E160))","v":""}]
[{"$f":"IF('Analysis 103L'!J161=\"\",\"\",IF(AND(C135=0,D135=0),\"\",IF(RIGHT('Analysis 103L'!I161,4)=\"Case\", IF(LEFT('Analysis 103L'!J161,6)=\"Motion\", \"\", 'Analysis 103L'!CJ161),'Analysis 103L'!J161)))","v":""},{"$f":"IF('Analysis 103L'!P161=\"\",\"\",IF(A135=\"\", \"\", 'Analysis 103L'!P161))","v":""},{"$f":"IF('Analysis 103L'!S161=\"\",\"\", IF(LEFT('Analysis 103L'!J161,6)=\"Motion\", \"\", IF(RIGHT('Analysis 103L'!I161,4)=\"Case\",'Analysis 103L'!R161, 'Analysis 103L'!S161)))","v":""},{"$f":"IF(ISNUMBER('Analysis 103L'!AT161),'Analysis 103L'!AT161,\"\")","v":""},{"$f":"IF('Analysis 103L'!D161=\"\",\"\",'Analysis 103L'!AA161)","v":""},{"$f":"IF(E135=\"\",\"\",'Analysis 103L'!BE161)","v":""},{"$f":"IFERROR('Analysis 103L'!CD161*B135,\"\")","v":""},{"$f":"IF('Analysis 103L'!C161=\"\",\"\",'Analysis 103L'!C161)","v":""},{"$f":"IF('Analysis 103L'!E161=\"\",\"\",IF(AND(C135=0,D135=0),\"\",'Analysis 103L'!E161))","v":""}]
[{"$f":"IF('Analysis 103L'!J162=\"\",\"\",IF(AND(C136=0,D136=0),\"\",IF(RIGHT('Analysis 103L'!I162,4)=\"Case\", IF(LEFT('Analysis 103L'!J162,6)=\"Motion\", \"\", 'Analysis 103L'!CJ162),'Analysis 103L'!J162)))","v":""},{"$f":"IF('Analysis 103L'!P162=\"\",\"\",IF(A136=\"\", \"\", 'Analysis 103L'!P162))","v":""},{"$f":"IF('Analysis 103L'!S162=\"\",\"\", IF(LEFT('Analysis 103L'!J162,6)=\"Motion\", \"\", IF(RIGHT('Analysis 103L'!I162,4)=\"Case\",'Analysis 103L'!R162, 'Analysis 103L'!S162)))","v":""},{"$f":"IF(ISNUMBER('Analysis 103L'!AT162),'Analysis 103L'!AT162,\"\")","v":""},{"$f":"IF('Analysis 103L'!D162=\"\",\"\",'Analysis 103L'!AA162)","v":""},{"$f":"IF(E136=\"\",\"\",'Analysis 103L'!BE162)","v":""},{"$f":"IFERROR('Analysis 103L'!CD162*B136,\"\")","v":""},{"$f":"IF('Analysis 103L'!C162=\"\",\"\",'Analysis 103L'!C162)","v":""},{"$f":"IF('Analysis 103L'!E162=\"\",\"\",IF(AND(C136=0,D136=0),\"\",'Analysis 103L'!E162))","v":""}]
[{"$f":"IF('Analysis 103L'!J163=\"\",\"\",IF(AND(C137=0,D137=0),\"\",IF(RIGHT('Analysis 103L'!I163,4)=\"Case\", IF(LEFT('Analysis 103L'!J163,6)=\"Motion\", \"\", 'Analysis 103L'!CJ163),'Analysis 103L'!J163)))","v":""},{"$f":"IF('Analysis 103L'!P163=\"\",\"\",IF(A137=\"\", \"\", 'Analysis 103L'!P163))","v":""},{"$f":"IF('Analysis 103L'!S163=\"\",\"\", IF(LEFT('Analysis 103L'!J163,6)=\"Motion\", \"\", IF(RIGHT('Analysis 103L'!I163,4)=\"Case\",'Analysis 103L'!R163, 'Analysis 103L'!S163)))","v":""},{"$f":"IF(ISNUMBER('Analysis 103L'!AT163),'Analysis 103L'!AT163,\"\")","v":""},{"$f":"IF('Analysis 103L'!D163=\"\",\"\",'Analysis 103L'!AA163)","v":""},{"$f":"IF(E137=\"\",\"\",'Analysis 103L'!BE163)","v":""},{"$f":"IFERROR('Analysis 103L'!CD163*B137,\"\")","v":""},{"$f":"IF('Analysis 103L'!C163=\"\",\"\",'Analysis 103L'!C163)","v":""},{"$f":"IF('Analysis 103L'!E163=\"\",\"\",IF(AND(C137=0,D137=0),\"\",'Analysis 103L'!E163))","v":""}]
[{"$f":"IF('Analysis 103L'!J164=\"\",\"\",IF(AND(C138=0,D138=0),\"\",IF(RIGHT('Analysis 103L'!I164,4)=\"Case\", IF(LEFT('Analysis 103L'!J164,6)=\"Motion\", \"\", 'Analysis 103L'!CJ164),'Analysis 103L'!J164)))","v":""},{"$f":"IF('Analysis 103L'!P164=\"\",\"\",IF(A138=\"\", \"\", 'Analysis 103L'!P164))","v":""},{"$f":"IF('Analysis 103L'!S164=\"\",\"\", IF(LEFT('Analysis 103L'!J164,6)=\"Motion\", \"\", IF(RIGHT('Analysis 103L'!I164,4)=\"Case\",'Analysis 103L'!R164, 'Analysis 103L'!S164)))","v":""},{"$f":"IF(ISNUMBER('Analysis 103L'!AT164),'Analysis 103L'!AT164,\"\")","v":""},{"$f":"IF('Analysis 103L'!D164=\"\",\"\",'Analysis 103L'!AA164)","v":""},{"$f":"IF(E138=\"\",\"\",'Analysis 103L'!BE164)","v":""},{"$f":"IFERROR('Analysis 103L'!CD164*B138,\"\")","v":""},{"$f":"IF('Analysis 103L'!C164=\"\",\"\",'Analysis 103L'!C164)","v":""},{"$f":"IF('Analysis 103L'!E164=\"\",\"\",IF(AND(C138=0,D138=0),\"\",'Analysis 103L'!E164))","v":""}]
[{"$f":"IF('Analysis 103L'!J165=\"\",\"\",IF(AND(C139=0,D139=0),\"\",IF(RIGHT('Analysis 103L'!I165,4)=\"Case\", IF(LEFT('Analysis 103L'!J165,6)=\"Motion\", \"\", 'Analysis 103L'!CJ165),'Analysis 103L'!J165)))","v":""},{"$f":"IF('Analysis 103L'!P165=\"\",\"\",IF(A139=\"\", \"\", 'Analysis 103L'!P165))","v":""},{"$f":"IF('Analysis 103L'!S165=\"\",\"\", IF(LEFT('Analysis 103L'!J165,6)=\"Motion\", \"\", IF(RIGHT('Analysis 103L'!I165,4)=\"Case\",'Analysis 103L'!R165, 'Analysis 103L'!S165)))","v":""},{"$f":"IF(ISNUMBER('Analysis 103L'!AT165),'Analysis 103L'!AT165,\"\")","v":""},{"$f":"IF('Analysis 103L'!D165=\"\",\"\",'Analysis 103L'!AA165)","v":""},{"$f":"IF(E139=\"\",\"\",'Analysis 103L'!BE165)","v":""},{"$f":"IFERROR('Analysis 103L'!CD165*B139,\"\")","v":""},{"$f":"IF('Analysis 103L'!C165=\"\",\"\",'Analysis 103L'!C165)","v":""},{"$f":"IF('Analysis 103L'!E165=\"\",\"\",IF(AND(C139=0,D139=0),\"\",'Analysis 103L'!E165))","v":""}]
[{"$f":"IF('Analysis 103L'!J166=\"\",\"\",IF(AND(C140=0,D140=0),\"\",IF(RIGHT('Analysis 103L'!I166,4)=\"Case\", IF(LEFT('Analysis 103L'!J166,6)=\"Motion\", \"\", 'Analysis 103L'!CJ166),'Analysis 103L'!J166)))","v":""},{"$f":"IF('Analysis 103L'!P166=\"\",\"\",IF(A140=\"\", \"\", 'Analysis 103L'!P166))","v":""},{"$f":"IF('Analysis 103L'!S166=\"\",\"\", IF(LEFT('Analysis 103L'!J166,6)=\"Motion\", \"\", IF(RIGHT('Analysis 103L'!I166,4)=\"Case\",'Analysis 103L'!R166, 'Analysis 103L'!S166)))","v":""},{"$f":"IF(ISNUMBER('Analysis 103L'!AT166),'Analysis 103L'!AT166,\"\")","v":""},{"$f":"IF('Analysis 103L'!D166=\"\",\"\",'Analysis 103L'!AA166)","v":""},{"$f":"IF(E140=\"\",\"\",'Analysis 103L'!BE166)","v":""},{"$f":"IFERROR('Analysis 103L'!CD166*B140,\"\")","v":""},{"$f":"IF('Analysis 103L'!C166=\"\",\"\",'Analysis 103L'!C166)","v":""},{"$f":"IF('Analysis 103L'!E166=\"\",\"\",IF(AND(C140=0,D140=0),\"\",'Analysis 103L'!E166))","v":""}]
[{"$f":"IF('Analysis 103L'!J167=\"\",\"\",IF(AND(C141=0,D141=0),\"\",IF(RIGHT('Analysis 103L'!I167,4)=\"Case\", IF(LEFT('Analysis 103L'!J167,6)=\"Motion\", \"\", 'Analysis 103L'!CJ167),'Analysis 103L'!J167)))","v":""},{"$f":"IF('Analysis 103L'!P167=\"\",\"\",IF(A141=\"\", \"\", 'Analysis 103L'!P167))","v":""},{"$f":"IF('Analysis 103L'!S167=\"\",\"\", IF(LEFT('Analysis 103L'!J167,6)=\"Motion\", \"\", IF(RIGHT('Analysis 103L'!I167,4)=\"Case\",'Analysis 103L'!R167, 'Analysis 103L'!S167)))","v":""},{"$f":"IF(ISNUMBER('Analysis 103L'!AT167),'Analysis 103L'!AT167,\"\")","v":""},{"$f":"IF('Analysis 103L'!D167=\"\",\"\",'Analysis 103L'!AA167)","v":""},{"$f":"IF(E141=\"\",\"\",'Analysis 103L'!BE167)","v":""},{"$f":"IFERROR('Analysis 103L'!CD167*B141,\"\")","v":""},{"$f":"IF('Analysis 103L'!C167=\"\",\"\",'Analysis 103L'!C167)","v":""},{"$f":"IF('Analysis 103L'!E167=\"\",\"\",IF(AND(C141=0,D141=0),\"\",'Analysis 103L'!E167))","v":""}]
[{"$f":"IF('Analysis 103L'!J168=\"\",\"\",IF(AND(C142=0,D142=0),\"\",IF(RIGHT('Analysis 103L'!I168,4)=\"Case\", IF(LEFT('Analysis 103L'!J168,6)=\"Motion\", \"\", 'Analysis 103L'!CJ168),'Analysis 103L'!J168)))","v":""},{"$f":"IF('Analysis 103L'!P168=\"\",\"\",IF(A142=\"\", \"\", 'Analysis 103L'!P168))","v":""},{"$f":"IF('Analysis 103L'!S168=\"\",\"\", IF(LEFT('Analysis 103L'!J168,6)=\"Motion\", \"\", IF(RIGHT('Analysis 103L'!I168,4)=\"Case\",'Analysis 103L'!R168, 'Analysis 103L'!S168)))","v":""},{"$f":"IF(ISNUMBER('Analysis 103L'!AT168),'Analysis 103L'!AT168,\"\")","v":""},{"$f":"IF('Analysis 103L'!D168=\"\",\"\",'Analysis 103L'!AA168)","v":""},{"$f":"IF(E142=\"\",\"\",'Analysis 103L'!BE168)","v":""},{"$f":"IFERROR('Analysis 103L'!CD168*B142,\"\")","v":""},{"$f":"IF('Analysis 103L'!C168=\"\",\"\",'Analysis 103L'!C168)","v":""},{"$f":"IF('Analysis 103L'!E168=\"\",\"\",IF(AND(C142=0,D142=0),\"\",'Analysis 103L'!E168))","v":""}]
[{"$f":"IF('Analysis 103L'!J169=\"\",\"\",IF(AND(C143=0,D143=0),\"\",IF(RIGHT('Analysis 103L'!I169,4)=\"Case\", IF(LEFT('Analysis 103L'!J169,6)=\"Motion\", \"\", 'Analysis 103L'!CJ169),'Analysis 103L'!J169)))","v":""},{"$f":"IF('Analysis 103L'!P169=\"\",\"\",IF(A143=\"\", \"\", 'Analysis 103L'!P169))","v":""},{"$f":"IF('Analysis 103L'!S169=\"\",\"\", IF(LEFT('Analysis 103L'!J169,6)=\"Motion\", \"\", IF(RIGHT('Analysis 103L'!I169,4)=\"Case\",'Analysis 103L'!R169, 'Analysis 103L'!S169)))","v":""},{"$f":"IF(ISNUMBER('Analysis 103L'!AT169),'Analysis 103L'!AT169,\"\")","v":""},{"$f":"IF('Analysis 103L'!D169=\"\",\"\",'Analysis 103L'!AA169)","v":""},{"$f":"IF(E143=\"\",\"\",'Analysis 103L'!BE169)","v":""},{"$f":"IFERROR('Analysis 103L'!CD169*B143,\"\")","v":""},{"$f":"IF('Analysis 103L'!C169=\"\",\"\",'Analysis 103L'!C169)","v":""},{"$f":"IF('Analysis 103L'!E169=\"\",\"\",IF(AND(C143=0,D143=0),\"\",'Analysis 103L'!E169))","v":""}]
[{"$f":"IF('Analysis 103L'!J170=\"\",\"\",IF(AND(C144=0,D144=0),\"\",IF(RIGHT('Analysis 103L'!I170,4)=\"Case\", IF(LEFT('Analysis 103L'!J170,6)=\"Motion\", \"\", 'Analysis 103L'!CJ170),'Analysis 103L'!J170)))","v":""},{"$f":"IF('Analysis 103L'!P170=\"\",\"\",IF(A144=\"\", \"\", 'Analysis 103L'!P170))","v":""},{"$f":"IF('Analysis 103L'!S170=\"\",\"\", IF(LEFT('Analysis 103L'!J170,6)=\"Motion\", \"\", IF(RIGHT('Analysis 103L'!I170,4)=\"Case\",'Analysis 103L'!R170, 'Analysis 103L'!S170)))","v":""},{"$f":"IF(ISNUMBER('Analysis 103L'!AT170),'Analysis 103L'!AT170,\"\")","v":""},{"$f":"IF('Analysis 103L'!D170=\"\",\"\",'Analysis 103L'!AA170)","v":""},{"$f":"IF(E144=\"\",\"\",'Analysis 103L'!BE170)","v":""},{"$f":"IFERROR('Analysis 103L'!CD170*B144,\"\")","v":""},{"$f":"IF('Analysis 103L'!C170=\"\",\"\",'Analysis 103L'!C170)","v":""},{"$f":"IF('Analysis 103L'!E170=\"\",\"\",IF(AND(C144=0,D144=0),\"\",'Analysis 103L'!E170))","v":""}]
[{"$f":"IF('Analysis 103L'!J171=\"\",\"\",IF(AND(C145=0,D145=0),\"\",IF(RIGHT('Analysis 103L'!I171,4)=\"Case\", IF(LEFT('Analysis 103L'!J171,6)=\"Motion\", \"\", 'Analysis 103L'!CJ171),'Analysis 103L'!J171)))","v":""},{"$f":"IF('Analysis 103L'!P171=\"\",\"\",IF(A145=\"\", \"\", 'Analysis 103L'!P171))","v":""},{"$f":"IF('Analysis 103L'!S171=\"\",\"\", IF(LEFT('Analysis 103L'!J171,6)=\"Motion\", \"\", IF(RIGHT('Analysis 103L'!I171,4)=\"Case\",'Analysis 103L'!R171, 'Analysis 103L'!S171)))","v":""},{"$f":"IF(ISNUMBER('Analysis 103L'!AT171),'Analysis 103L'!AT171,\"\")","v":""},{"$f":"IF('Analysis 103L'!D171=\"\",\"\",'Analysis 103L'!AA171)","v":""},{"$f":"IF(E145=\"\",\"\",'Analysis 103L'!BE171)","v":""},{"$f":"IFERROR('Analysis 103L'!CD171*B145,\"\")","v":""},{"$f":"IF('Analysis 103L'!C171=\"\",\"\",'Analysis 103L'!C171)","v":""},{"$f":"IF('Analysis 103L'!E171=\"\",\"\",IF(AND(C145=0,D145=0),\"\",'Analysis 103L'!E171))","v":""}]
[{"$f":"IF('Analysis 103L'!J172=\"\",\"\",IF(AND(C146=0,D146=0),\"\",IF(RIGHT('Analysis 103L'!I172,4)=\"Case\", IF(LEFT('Analysis 103L'!J172,6)=\"Motion\", \"\", 'Analysis 103L'!CJ172),'Analysis 103L'!J172)))","v":""},{"$f":"IF('Analysis 103L'!P172=\"\",\"\",IF(A146=\"\", \"\", 'Analysis 103L'!P172))","v":""},{"$f":"IF('Analysis 103L'!S172=\"\",\"\", IF(LEFT('Analysis 103L'!J172,6)=\"Motion\", \"\", IF(RIGHT('Analysis 103L'!I172,4)=\"Case\",'Analysis 103L'!R172, 'Analysis 103L'!S172)))","v":""},{"$f":"IF(ISNUMBER('Analysis 103L'!AT172),'Analysis 103L'!AT172,\"\")","v":""},{"$f":"IF('Analysis 103L'!D172=\"\",\"\",'Analysis 103L'!AA172)","v":""},{"$f":"IF(E146=\"\",\"\",'Analysis 103L'!BE172)","v":""},{"$f":"IFERROR('Analysis 103L'!CD172*B146,\"\")","v":""},{"$f":"IF('Analysis 103L'!C172=\"\",\"\",'Analysis 103L'!C172)","v":""},{"$f":"IF('Analysis 103L'!E172=\"\",\"\",IF(AND(C146=0,D146=0),\"\",'Analysis 103L'!E172))","v":""}]
[{"$f":"IF('Analysis 103L'!J173=\"\",\"\",IF(AND(C147=0,D147=0),\"\",IF(RIGHT('Analysis 103L'!I173,4)=\"Case\", IF(LEFT('Analysis 103L'!J173,6)=\"Motion\", \"\", 'Analysis 103L'!CJ173),'Analysis 103L'!J173)))","v":""},{"$f":"IF('Analysis 103L'!P173=\"\",\"\",IF(A147=\"\", \"\", 'Analysis 103L'!P173))","v":""},{"$f":"IF('Analysis 103L'!S173=\"\",\"\", IF(LEFT('Analysis 103L'!J173,6)=\"Motion\", \"\", IF(RIGHT('Analysis 103L'!I173,4)=\"Case\",'Analysis 103L'!R173, 'Analysis 103L'!S173)))","v":""},{"$f":"IF(ISNUMBER('Analysis 103L'!AT173),'Analysis 103L'!AT173,\"\")","v":""},{"$f":"IF('Analysis 103L'!D173=\"\",\"\",'Analysis 103L'!AA173)","v":""},{"$f":"IF(E147=\"\",\"\",'Analysis 103L'!BE173)","v":""},{"$f":"IFERROR('Analysis 103L'!CD173*B147,\"\")","v":""},{"$f":"IF('Analysis 103L'!C173=\"\",\"\",'Analysis 103L'!C173)","v":""},{"$f":"IF('Analysis 103L'!E173=\"\",\"\",IF(AND(C147=0,D147=0),\"\",'Analysis 103L'!E173))","v":""}]
[{"$f":"IF('Analysis 103L'!J174=\"\",\"\",IF(AND(C148=0,D148=0),\"\",IF(RIGHT('Analysis 103L'!I174,4)=\"Case\", IF(LEFT('Analysis 103L'!J174,6)=\"Motion\", \"\", 'Analysis 103L'!CJ174),'Analysis 103L'!J174)))","v":""},{"$f":"IF('Analysis 103L'!P174=\"\",\"\",IF(A148=\"\", \"\", 'Analysis 103L'!P174))","v":""},{"$f":"IF('Analysis 103L'!S174=\"\",\"\", IF(LEFT('Analysis 103L'!J174,6)=\"Motion\", \"\", IF(RIGHT('Analysis 103L'!I174,4)=\"Case\",'Analysis 103L'!R174, 'Analysis 103L'!S174)))","v":""},{"$f":"IF(ISNUMBER('Analysis 103L'!AT174),'Analysis 103L'!AT174,\"\")","v":""},{"$f":"IF('Analysis 103L'!D174=\"\",\"\",'Analysis 103L'!AA174)","v":""},{"$f":"IF(E148=\"\",\"\",'Analysis 103L'!BE174)","v":""},{"$f":"IFERROR('Analysis 103L'!CD174*B148,\"\")","v":""},{"$f":"IF('Analysis 103L'!C174=\"\",\"\",'Analysis 103L'!C174)","v":""},{"$f":"IF('Analysis 103L'!E174=\"\",\"\",IF(AND(C148=0,D148=0),\"\",'Analysis 103L'!E174))","v":""}]
[{"$f":"IF('Analysis 103L'!J175=\"\",\"\",IF(AND(C149=0,D149=0),\"\",IF(RIGHT('Analysis 103L'!I175,4)=\"Case\", IF(LEFT('Analysis 103L'!J175,6)=\"Motion\", \"\", 'Analysis 103L'!CJ175),'Analysis 103L'!J175)))","v":""},{"$f":"IF('Analysis 103L'!P175=\"\",\"\",IF(A149=\"\", \"\", 'Analysis 103L'!P175))","v":""},{"$f":"IF('Analysis 103L'!S175=\"\",\"\", IF(LEFT('Analysis 103L'!J175,6)=\"Motion\", \"\", IF(RIGHT('Analysis 103L'!I175,4)=\"Case\",'Analysis 103L'!R175, 'Analysis 103L'!S175)))","v":""},{"$f":"IF(ISNUMBER('Analysis 103L'!AT175),'Analysis 103L'!AT175,\"\")","v":""},{"$f":"IF('Analysis 103L'!D175=\"\",\"\",'Analysis 103L'!AA175)","v":""},{"$f":"IF(E149=\"\",\"\",'Analysis 103L'!BE175)","v":""},{"$f":"IFERROR('Analysis 103L'!CD175*B149,\"\")","v":""},{"$f":"IF('Analysis 103L'!C175=\"\",\"\",'Analysis 103L'!C175)","v":""},{"$f":"IF('Analysis 103L'!E175=\"\",\"\",IF(AND(C149=0,D149=0),\"\",'Analysis 103L'!E175))","v":""}]
[{"$f":"IF('Analysis 103L'!J176=\"\",\"\",IF(AND(C150=0,D150=0),\"\",IF(RIGHT('Analysis 103L'!I176,4)=\"Case\", IF(LEFT('Analysis 103L'!J176,6)=\"Motion\", \"\", 'Analysis 103L'!CJ176),'Analysis 103L'!J176)))","v":""},{"$f":"IF('Analysis 103L'!P176=\"\",\"\",IF(A150=\"\", \"\", 'Analysis 103L'!P176))","v":""},{"$f":"IF('Analysis 103L'!S176=\"\",\"\", IF(LEFT('Analysis 103L'!J176,6)=\"Motion\", \"\", IF(RIGHT('Analysis 103L'!I176,4)=\"Case\",'Analysis 103L'!R176, 'Analysis 103L'!S176)))","v":""},{"$f":"IF(ISNUMBER('Analysis 103L'!AT176),'Analysis 103L'!AT176,\"\")","v":""},{"$f":"IF('Analysis 103L'!D176=\"\",\"\",'Analysis 103L'!AA176)","v":""},{"$f":"IF(E150=\"\",\"\",'Analysis 103L'!BE176)","v":""},{"$f":"IFERROR('Analysis 103L'!CD176*B150,\"\")","v":""},{"$f":"IF('Analysis 103L'!C176=\"\",\"\",'Analysis 103L'!C176)","v":""},{"$f":"IF('Analysis 103L'!E176=\"\",\"\",IF(AND(C150=0,D150=0),\"\",'Analysis 103L'!E176))","v":""}]
[{"$f":"IF('Analysis 103L'!J177=\"\",\"\",IF(AND(C151=0,D151=0),\"\",IF(RIGHT('Analysis 103L'!I177,4)=\"Case\", IF(LEFT('Analysis 103L'!J177,6)=\"Motion\", \"\", 'Analysis 103L'!CJ177),'Analysis 103L'!J177)))","v":""},{"$f":"IF('Analysis 103L'!P177=\"\",\"\",IF(A151=\"\", \"\", 'Analysis 103L'!P177))","v":""},{"$f":"IF('Analysis 103L'!S177=\"\",\"\", IF(LEFT('Analysis 103L'!J177,6)=\"Motion\", \"\", IF(RIGHT('Analysis 103L'!I177,4)=\"Case\",'Analysis 103L'!R177, 'Analysis 103L'!S177)))","v":""},{"$f":"IF(ISNUMBER('Analysis 103L'!AT177),'Analysis 103L'!AT177,\"\")","v":""},{"$f":"IF('Analysis 103L'!D177=\"\",\"\",'Analysis 103L'!AA177)","v":""},{"$f":"IF(E151=\"\",\"\",'Analysis 103L'!BE177)","v":""},{"$f":"IFERROR('Analysis 103L'!CD177*B151,\"\")","v":""},{"$f":"IF('Analysis 103L'!C177=\"\",\"\",'Analysis 103L'!C177)","v":""},{"$f":"IF('Analysis 103L'!E177=\"\",\"\",IF(AND(C151=0,D151=0),\"\",'Analysis 103L'!E177))","v":""}]
[{"$f":"IF('Analysis 103L'!J178=\"\",\"\",IF(AND(C152=0,D152=0),\"\",IF(RIGHT('Analysis 103L'!I178,4)=\"Case\", IF(LEFT('Analysis 103L'!J178,6)=\"Motion\", \"\", 'Analysis 103L'!CJ178),'Analysis 103L'!J178)))","v":""},{"$f":"IF('Analysis 103L'!P178=\"\",\"\",IF(A152=\"\", \"\", 'Analysis 103L'!P178))","v":""},{"$f":"IF('Analysis 103L'!S178=\"\",\"\", IF(LEFT('Analysis 103L'!J178,6)=\"Motion\", \"\", IF(RIGHT('Analysis 103L'!I178,4)=\"Case\",'Analysis 103L'!R178, 'Analysis 103L'!S178)))","v":""},{"$f":"IF(ISNUMBER('Analysis 103L'!AT178),'Analysis 103L'!AT178,\"\")","v":""},{"$f":"IF('Analysis 103L'!D178=\"\",\"\",'Analysis 103L'!AA178)","v":""},{"$f":"IF(E152=\"\",\"\",'Analysis 103L'!BE178)","v":""},{"$f":"IFERROR('Analysis 103L'!CD178*B152,\"\")","v":""},{"$f":"IF('Analysis 103L'!C178=\"\",\"\",'Analysis 103L'!C178)","v":""},{"$f":"IF('Analysis 103L'!E178=\"\",\"\",IF(AND(C152=0,D152=0),\"\",'Analysis 103L'!E178))","v":""}]
[{"$f":"IF('Analysis 103L'!J179=\"\",\"\",IF(AND(C153=0,D153=0),\"\",IF(RIGHT('Analysis 103L'!I179,4)=\"Case\", IF(LEFT('Analysis 103L'!J179,6)=\"Motion\", \"\", 'Analysis 103L'!CJ179),'Analysis 103L'!J179)))","v":""},{"$f":"IF('Analysis 103L'!P179=\"\",\"\",IF(A153=\"\", \"\", 'Analysis 103L'!P179))","v":""},{"$f":"IF('Analysis 103L'!S179=\"\",\"\", IF(LEFT('Analysis 103L'!J179,6)=\"Motion\", \"\", IF(RIGHT('Analysis 103L'!I179,4)=\"Case\",'Analysis 103L'!R179, 'Analysis 103L'!S179)))","v":""},{"$f":"IF(ISNUMBER('Analysis 103L'!AT179),'Analysis 103L'!AT179,\"\")","v":""},{"$f":"IF('Analysis 103L'!D179=\"\",\"\",'Analysis 103L'!AA179)","v":""},{"$f":"IF(E153=\"\",\"\",'Analysis 103L'!BE179)","v":""},{"$f":"IFERROR('Analysis 103L'!CD179*B153,\"\")","v":""},{"$f":"IF('Analysis 103L'!C179=\"\",\"\",'Analysis 103L'!C179)","v":""},{"$f":"IF('Analysis 103L'!E179=\"\",\"\",IF(AND(C153=0,D153=0),\"\",'Analysis 103L'!E179))","v":""}]
[{"$f":"IF('Analysis 103L'!J180=\"\",\"\",IF(AND(C154=0,D154=0),\"\",IF(RIGHT('Analysis 103L'!I180,4)=\"Case\", IF(LEFT('Analysis 103L'!J180,6)=\"Motion\", \"\", 'Analysis 103L'!CJ180),'Analysis 103L'!J180)))","v":""},{"$f":"IF('Analysis 103L'!P180=\"\",\"\",IF(A154=\"\", \"\", 'Analysis 103L'!P180))","v":""},{"$f":"IF('Analysis 103L'!S180=\"\",\"\", IF(LEFT('Analysis 103L'!J180,6)=\"Motion\", \"\", IF(RIGHT('Analysis 103L'!I180,4)=\"Case\",'Analysis 103L'!R180, 'Analysis 103L'!S180)))","v":""},{"$f":"IF(ISNUMBER('Analysis 103L'!AT180),'Analysis 103L'!AT180,\"\")","v":""},{"$f":"IF('Analysis 103L'!D180=\"\",\"\",'Analysis 103L'!AA180)","v":""},{"$f":"IF(E154=\"\",\"\",'Analysis 103L'!BE180)","v":""},{"$f":"IFERROR('Analysis 103L'!CD180*B154,\"\")","v":""},{"$f":"IF('Analysis 103L'!C180=\"\",\"\",'Analysis 103L'!C180)","v":""},{"$f":"IF('Analysis 103L'!E180=\"\",\"\",IF(AND(C154=0,D154=0),\"\",'Analysis 103L'!E180))","v":""}]
[{"$f":"IF('Analysis 103L'!J181=\"\",\"\",IF(AND(C155=0,D155=0),\"\",IF(RIGHT('Analysis 103L'!I181,4)=\"Case\", IF(LEFT('Analysis 103L'!J181,6)=\"Motion\", \"\", 'Analysis 103L'!CJ181),'Analysis 103L'!J181)))","v":""},{"$f":"IF('Analysis 103L'!P181=\"\",\"\",IF(A155=\"\", \"\", 'Analysis 103L'!P181))","v":""},{"$f":"IF('Analysis 103L'!S181=\"\",\"\", IF(LEFT('Analysis 103L'!J181,6)=\"Motion\", \"\", IF(RIGHT('Analysis 103L'!I181,4)=\"Case\",'Analysis 103L'!R181, 'Analysis 103L'!S181)))","v":""},{"$f":"IF(ISNUMBER('Analysis 103L'!AT181),'Analysis 103L'!AT181,\"\")","v":""},{"$f":"IF('Analysis 103L'!D181=\"\",\"\",'Analysis 103L'!AA181)","v":""},{"$f":"IF(E155=\"\",\"\",'Analysis 103L'!BE181)","v":""},{"$f":"IFERROR('Analysis 103L'!CD181*B155,\"\")","v":""},{"$f":"IF('Analysis 103L'!C181=\"\",\"\",'Analysis 103L'!C181)","v":""},{"$f":"IF('Analysis 103L'!E181=\"\",\"\",IF(AND(C155=0,D155=0),\"\",'Analysis 103L'!E181))","v":""}]
[{"$f":"IF('Analysis 103L'!J182=\"\",\"\",IF(AND(C156=0,D156=0),\"\",IF(RIGHT('Analysis 103L'!I182,4)=\"Case\", IF(LEFT('Analysis 103L'!J182,6)=\"Motion\", \"\", 'Analysis 103L'!CJ182),'Analysis 103L'!J182)))","v":""},{"$f":"IF('Analysis 103L'!P182=\"\",\"\",IF(A156=\"\", \"\", 'Analysis 103L'!P182))","v":""},{"$f":"IF('Analysis 103L'!S182=\"\",\"\", IF(LEFT('Analysis 103L'!J182,6)=\"Motion\", \"\", IF(RIGHT('Analysis 103L'!I182,4)=\"Case\",'Analysis 103L'!R182, 'Analysis 103L'!S182)))","v":""},{"$f":"IF(ISNUMBER('Analysis 103L'!AT182),'Analysis 103L'!AT182,\"\")","v":""},{"$f":"IF('Analysis 103L'!D182=\"\",\"\",'Analysis 103L'!AA182)","v":""},{"$f":"IF(E156=\"\",\"\",'Analysis 103L'!BE182)","v":""},{"$f":"IFERROR('Analysis 103L'!CD182*B156,\"\")","v":""},{"$f":"IF('Analysis 103L'!C182=\"\",\"\",'Analysis 103L'!C182)","v":""},{"$f":"IF('Analysis 103L'!E182=\"\",\"\",IF(AND(C156=0,D156=0),\"\",'Analysis 103L'!E182))","v":""}]
[{"$f":"IF('Analysis 103L'!J183=\"\",\"\",IF(AND(C157=0,D157=0),\"\",IF(RIGHT('Analysis 103L'!I183,4)=\"Case\", IF(LEFT('Analysis 103L'!J183,6)=\"Motion\", \"\", 'Analysis 103L'!CJ183),'Analysis 103L'!J183)))","v":""},{"$f":"IF('Analysis 103L'!P183=\"\",\"\",IF(A157=\"\", \"\", 'Analysis 103L'!P183))","v":""},{"$f":"IF('Analysis 103L'!S183=\"\",\"\", IF(LEFT('Analysis 103L'!J183,6)=\"Motion\", \"\", IF(RIGHT('Analysis 103L'!I183,4)=\"Case\",'Analysis 103L'!R183, 'Analysis 103L'!S183)))","v":""},{"$f":"IF(ISNUMBER('Analysis 103L'!AT183),'Analysis 103L'!AT183,\"\")","v":""},{"$f":"IF('Analysis 103L'!D183=\"\",\"\",'Analysis 103L'!AA183)","v":""},{"$f":"IF(E157=\"\",\"\",'Analysis 103L'!BE183)","v":""},{"$f":"IFERROR('Analysis 103L'!CD183*B157,\"\")","v":""},{"$f":"IF('Analysis 103L'!C183=\"\",\"\",'Analysis 103L'!C183)","v":""},{"$f":"IF('Analysis 103L'!E183=\"\",\"\",IF(AND(C157=0,D157=0),\"\",'Analysis 103L'!E183))","v":""}]
[{"$f":"IF('Analysis 103L'!J184=\"\",\"\",IF(AND(C158=0,D158=0),\"\",IF(RIGHT('Analysis 103L'!I184,4)=\"Case\", IF(LEFT('Analysis 103L'!J184,6)=\"Motion\", \"\", 'Analysis 103L'!CJ184),'Analysis 103L'!J184)))","v":""},{"$f":"IF('Analysis 103L'!P184=\"\",\"\",IF(A158=\"\", \"\", 'Analysis 103L'!P184))","v":""},{"$f":"IF('Analysis 103L'!S184=\"\",\"\", IF(LEFT('Analysis 103L'!J184,6)=\"Motion\", \"\", IF(RIGHT('Analysis 103L'!I184,4)=\"Case\",'Analysis 103L'!R184, 'Analysis 103L'!S184)))","v":""},{"$f":"IF(ISNUMBER('Analysis 103L'!AT184),'Analysis 103L'!AT184,\"\")","v":""},{"$f":"IF('Analysis 103L'!D184=\"\",\"\",'Analysis 103L'!AA184)","v":""},{"$f":"IF(E158=\"\",\"\",'Analysis 103L'!BE184)","v":""},{"$f":"IFERROR('Analysis 103L'!CD184*B158,\"\")","v":""},{"$f":"IF('Analysis 103L'!C184=\"\",\"\",'Analysis 103L'!C184)","v":""},{"$f":"IF('Analysis 103L'!E184=\"\",\"\",IF(AND(C158=0,D158=0),\"\",'Analysis 103L'!E184))","v":""}]
[{"$f":"IF('Analysis 103L'!J185=\"\",\"\",IF(AND(C159=0,D159=0),\"\",IF(RIGHT('Analysis 103L'!I185,4)=\"Case\", IF(LEFT('Analysis 103L'!J185,6)=\"Motion\", \"\", 'Analysis 103L'!CJ185),'Analysis 103L'!J185)))","v":""},{"$f":"IF('Analysis 103L'!P185=\"\",\"\",IF(A159=\"\", \"\", 'Analysis 103L'!P185))","v":""},{"$f":"IF('Analysis 103L'!S185=\"\",\"\", IF(LEFT('Analysis 103L'!J185,6)=\"Motion\", \"\", IF(RIGHT('Analysis 103L'!I185,4)=\"Case\",'Analysis 103L'!R185, 'Analysis 103L'!S185)))","v":""},{"$f":"IF(ISNUMBER('Analysis 103L'!AT185),'Analysis 103L'!AT185,\"\")","v":""},{"$f":"IF('Analysis 103L'!D185=\"\",\"\",'Analysis 103L'!AA185)","v":""},{"$f":"IF(E159=\"\",\"\",'Analysis 103L'!BE185)","v":""},{"$f":"IFERROR('Analysis 103L'!CD185*B159,\"\")","v":""},{"$f":"IF('Analysis 103L'!C185=\"\",\"\",'Analysis 103L'!C185)","v":""},{"$f":"IF('Analysis 103L'!E185=\"\",\"\",IF(AND(C159=0,D159=0),\"\",'Analysis 103L'!E185))","v":""}]
[{"$f":"IF('Analysis 103L'!J186=\"\",\"\",IF(AND(C160=0,D160=0),\"\",IF(RIGHT('Analysis 103L'!I186,4)=\"Case\", IF(LEFT('Analysis 103L'!J186,6)=\"Motion\", \"\", 'Analysis 103L'!CJ186),'Analysis 103L'!J186)))","v":""},{"$f":"IF('Analysis 103L'!P186=\"\",\"\",IF(A160=\"\", \"\", 'Analysis 103L'!P186))","v":""},{"$f":"IF('Analysis 103L'!S186=\"\",\"\", IF(LEFT('Analysis 103L'!J186,6)=\"Motion\", \"\", IF(RIGHT('Analysis 103L'!I186,4)=\"Case\",'Analysis 103L'!R186, 'Analysis 103L'!S186)))","v":""},{"$f":"IF(ISNUMBER('Analysis 103L'!AT186),'Analysis 103L'!AT186,\"\")","v":""},{"$f":"IF('Analysis 103L'!D186=\"\",\"\",'Analysis 103L'!AA186)","v":""},{"$f":"IF(E160=\"\",\"\",'Analysis 103L'!BE186)","v":""},{"$f":"IFERROR('Analysis 103L'!CD186*B160,\"\")","v":""},{"$f":"IF('Analysis 103L'!C186=\"\",\"\",'Analysis 103L'!C186)","v":""},{"$f":"IF('Analysis 103L'!E186=\"\",\"\",IF(AND(C160=0,D160=0),\"\",'Analysis 103L'!E186))","v":""}]
[{"$f":"IF('Analysis 103L'!J187=\"\",\"\",IF(AND(C161=0,D161=0),\"\",IF(RIGHT('Analysis 103L'!I187,4)=\"Case\", IF(LEFT('Analysis 103L'!J187,6)=\"Motion\", \"\", 'Analysis 103L'!CJ187),'Analysis 103L'!J187)))","v":""},{"$f":"IF('Analysis 103L'!P187=\"\",\"\",IF(A161=\"\", \"\", 'Analysis 103L'!P187))","v":""},{"$f":"IF('Analysis 103L'!S187=\"\",\"\", IF(LEFT('Analysis 103L'!J187,6)=\"Motion\", \"\", IF(RIGHT('Analysis 103L'!I187,4)=\"Case\",'Analysis 103L'!R187, 'Analysis 103L'!S187)))","v":""},{"$f":"IF(ISNUMBER('Analysis 103L'!AT187),'Analysis 103L'!AT187,\"\")","v":""},{"$f":"IF('Analysis 103L'!D187=\"\",\"\",'Analysis 103L'!AA187)","v":""},{"$f":"IF(E161=\"\",\"\",'Analysis 103L'!BE187)","v":""},{"$f":"IFERROR('Analysis 103L'!CD187*B161,\"\")","v":""},{"$f":"IF('Analysis 103L'!C187=\"\",\"\",'Analysis 103L'!C187)","v":""},{"$f":"IF('Analysis 103L'!E187=\"\",\"\",IF(AND(C161=0,D161=0),\"\",'Analysis 103L'!E187))","v":""}]
[{"$f":"IF('Analysis 103L'!J188=\"\",\"\",IF(AND(C162=0,D162=0),\"\",IF(RIGHT('Analysis 103L'!I188,4)=\"Case\", IF(LEFT('Analysis 103L'!J188,6)=\"Motion\", \"\", 'Analysis 103L'!CJ188),'Analysis 103L'!J188)))","v":""},{"$f":"IF('Analysis 103L'!P188=\"\",\"\",IF(A162=\"\", \"\", 'Analysis 103L'!P188))","v":""},{"$f":"IF('Analysis 103L'!S188=\"\",\"\", IF(LEFT('Analysis 103L'!J188,6)=\"Motion\", \"\", IF(RIGHT('Analysis 103L'!I188,4)=\"Case\",'Analysis 103L'!R188, 'Analysis 103L'!S188)))","v":""},{"$f":"IF(ISNUMBER('Analysis 103L'!AT188),'Analysis 103L'!AT188,\"\")","v":""},{"$f":"IF('Analysis 103L'!D188=\"\",\"\",'Analysis 103L'!AA188)","v":""},{"$f":"IF(E162=\"\",\"\",'Analysis 103L'!BE188)","v":""},{"$f":"IFERROR('Analysis 103L'!CD188*B162,\"\")","v":""},{"$f":"IF('Analysis 103L'!C188=\"\",\"\",'Analysis 103L'!C188)","v":""},{"$f":"IF('Analysis 103L'!E188=\"\",\"\",IF(AND(C162=0,D162=0),\"\",'Analysis 103L'!E188))","v":""}]
[{"$f":"IF('Analysis 103L'!J189=\"\",\"\",IF(AND(C163=0,D163=0),\"\",IF(RIGHT('Analysis 103L'!I189,4)=\"Case\", IF(LEFT('Analysis 103L'!J189,6)=\"Motion\", \"\", 'Analysis 103L'!CJ189),'Analysis 103L'!J189)))","v":""},{"$f":"IF('Analysis 103L'!P189=\"\",\"\",IF(A163=\"\", \"\", 'Analysis 103L'!P189))","v":""},{"$f":"IF('Analysis 103L'!S189=\"\",\"\", IF(LEFT('Analysis 103L'!J189,6)=\"Motion\", \"\", IF(RIGHT('Analysis 103L'!I189,4)=\"Case\",'Analysis 103L'!R189, 'Analysis 103L'!S189)))","v":""},{"$f":"IF(ISNUMBER('Analysis 103L'!AT189),'Analysis 103L'!AT189,\"\")","v":""},{"$f":"IF('Analysis 103L'!D189=\"\",\"\",'Analysis 103L'!AA189)","v":""},{"$f":"IF(E163=\"\",\"\",'Analysis 103L'!BE189)","v":""},{"$f":"IFERROR('Analysis 103L'!CD189*B163,\"\")","v":""},{"$f":"IF('Analysis 103L'!C189=\"\",\"\",'Analysis 103L'!C189)","v":""},{"$f":"IF('Analysis 103L'!E189=\"\",\"\",IF(AND(C163=0,D163=0),\"\",'Analysis 103L'!E189))","v":""}]
[{"$f":"IF('Analysis 103L'!J190=\"\",\"\",IF(AND(C164=0,D164=0),\"\",IF(RIGHT('Analysis 103L'!I190,4)=\"Case\", IF(LEFT('Analysis 103L'!J190,6)=\"Motion\", \"\", 'Analysis 103L'!CJ190),'Analysis 103L'!J190)))","v":""},{"$f":"IF('Analysis 103L'!P190=\"\",\"\",IF(A164=\"\", \"\", 'Analysis 103L'!P190))","v":""},{"$f":"IF('Analysis 103L'!S190=\"\",\"\", IF(LEFT('Analysis 103L'!J190,6)=\"Motion\", \"\", IF(RIGHT('Analysis 103L'!I190,4)=\"Case\",'Analysis 103L'!R190, 'Analysis 103L'!S190)))","v":""},{"$f":"IF(ISNUMBER('Analysis 103L'!AT190),'Analysis 103L'!AT190,\"\")","v":""},{"$f":"IF('Analysis 103L'!D190=\"\",\"\",'Analysis 103L'!AA190)","v":""},{"$f":"IF(E164=\"\",\"\",'Analysis 103L'!BE190)","v":""},{"$f":"IFERROR('Analysis 103L'!CD190*B164,\"\")","v":""},{"$f":"IF('Analysis 103L'!C190=\"\",\"\",'Analysis 103L'!C190)","v":""},{"$f":"IF('Analysis 103L'!E190=\"\",\"\",IF(AND(C164=0,D164=0),\"\",'Analysis 103L'!E190))","v":""}]
[{"$f":"IF('Analysis 103L'!J191=\"\",\"\",IF(AND(C165=0,D165=0),\"\",IF(RIGHT('Analysis 103L'!I191,4)=\"Case\", IF(LEFT('Analysis 103L'!J191,6)=\"Motion\", \"\", 'Analysis 103L'!CJ191),'Analysis 103L'!J191)))","v":""},{"$f":"IF('Analysis 103L'!P191=\"\",\"\",IF(A165=\"\", \"\", 'Analysis 103L'!P191))","v":""},{"$f":"IF('Analysis 103L'!S191=\"\",\"\", IF(LEFT('Analysis 103L'!J191,6)=\"Motion\", \"\", IF(RIGHT('Analysis 103L'!I191,4)=\"Case\",'Analysis 103L'!R191, 'Analysis 103L'!S191)))","v":""},{"$f":"IF(ISNUMBER('Analysis 103L'!AT191),'Analysis 103L'!AT191,\"\")","v":""},{"$f":"IF('Analysis 103L'!D191=\"\",\"\",'Analysis 103L'!AA191)","v":""},{"$f":"IF(E165=\"\",\"\",'Analysis 103L'!BE191)","v":""},{"$f":"IFERROR('Analysis 103L'!CD191*B165,\"\")","v":""},{"$f":"IF('Analysis 103L'!C191=\"\",\"\",'Analysis 103L'!C191)","v":""},{"$f":"IF('Analysis 103L'!E191=\"\",\"\",IF(AND(C165=0,D165=0),\"\",'Analysis 103L'!E191))","v":""}]
[{"$f":"IF('Analysis 103L'!J192=\"\",\"\",IF(AND(C166=0,D166=0),\"\",IF(RIGHT('Analysis 103L'!I192,4)=\"Case\", IF(LEFT('Analysis 103L'!J192,6)=\"Motion\", \"\", 'Analysis 103L'!CJ192),'Analysis 103L'!J192)))","v":""},{"$f":"IF('Analysis 103L'!P192=\"\",\"\",IF(A166=\"\", \"\", 'Analysis 103L'!P192))","v":""},{"$f":"IF('Analysis 103L'!S192=\"\",\"\", IF(LEFT('Analysis 103L'!J192,6)=\"Motion\", \"\", IF(RIGHT('Analysis 103L'!I192,4)=\"Case\",'Analysis 103L'!R192, 'Analysis 103L'!S192)))","v":""},{"$f":"IF(ISNUMBER('Analysis 103L'!AT192),'Analysis 103L'!AT192,\"\")","v":""},{"$f":"IF('Analysis 103L'!D192=\"\",\"\",'Analysis 103L'!AA192)","v":""},{"$f":"IF(E166=\"\",\"\",'Analysis 103L'!BE192)","v":""},{"$f":"IFERROR('Analysis 103L'!CD192*B166,\"\")","v":""},{"$f":"IF('Analysis 103L'!C192=\"\",\"\",'Analysis 103L'!C192)","v":""},{"$f":"IF('Analysis 103L'!E192=\"\",\"\",IF(AND(C166=0,D166=0),\"\",'Analysis 103L'!E192))","v":""}]
[{"$f":"IF('Analysis 103L'!J193=\"\",\"\",IF(AND(C167=0,D167=0),\"\",IF(RIGHT('Analysis 103L'!I193,4)=\"Case\", IF(LEFT('Analysis 103L'!J193,6)=\"Motion\", \"\", 'Analysis 103L'!CJ193),'Analysis 103L'!J193)))","v":""},{"$f":"IF('Analysis 103L'!P193=\"\",\"\",IF(A167=\"\", \"\", 'Analysis 103L'!P193))","v":""},{"$f":"IF('Analysis 103L'!S193=\"\",\"\", IF(LEFT('Analysis 103L'!J193,6)=\"Motion\", \"\", IF(RIGHT('Analysis 103L'!I193,4)=\"Case\",'Analysis 103L'!R193, 'Analysis 103L'!S193)))","v":""},{"$f":"IF(ISNUMBER('Analysis 103L'!AT193),'Analysis 103L'!AT193,\"\")","v":""},{"$f":"IF('Analysis 103L'!D193=\"\",\"\",'Analysis 103L'!AA193)","v":""},{"$f":"IF(E167=\"\",\"\",'Analysis 103L'!BE193)","v":""},{"$f":"IFERROR('Analysis 103L'!CD193*B167,\"\")","v":""},{"$f":"IF('Analysis 103L'!C193=\"\",\"\",'Analysis 103L'!C193)","v":""},{"$f":"IF('Analysis 103L'!E193=\"\",\"\",IF(AND(C167=0,D167=0),\"\",'Analysis 103L'!E193))","v":""}]
[{"$f":"IF('Analysis 103L'!J194=\"\",\"\",IF(AND(C168=0,D168=0),\"\",IF(RIGHT('Analysis 103L'!I194,4)=\"Case\", IF(LEFT('Analysis 103L'!J194,6)=\"Motion\", \"\", 'Analysis 103L'!CJ194),'Analysis 103L'!J194)))","v":""},{"$f":"IF('Analysis 103L'!P194=\"\",\"\",IF(A168=\"\", \"\", 'Analysis 103L'!P194))","v":""},{"$f":"IF('Analysis 103L'!S194=\"\",\"\", IF(LEFT('Analysis 103L'!J194,6)=\"Motion\", \"\", IF(RIGHT('Analysis 103L'!I194,4)=\"Case\",'Analysis 103L'!R194, 'Analysis 103L'!S194)))","v":""},{"$f":"IF(ISNUMBER('Analysis 103L'!AT194),'Analysis 103L'!AT194,\"\")","v":""},{"$f":"IF('Analysis 103L'!D194=\"\",\"\",'Analysis 103L'!AA194)","v":""},{"$f":"IF(E168=\"\",\"\",'Analysis 103L'!BE194)","v":""},{"$f":"IFERROR('Analysis 103L'!CD194*B168,\"\")","v":""},{"$f":"IF('Analysis 103L'!C194=\"\",\"\",'Analysis 103L'!C194)","v":""},{"$f":"IF('Analysis 103L'!E194=\"\",\"\",IF(AND(C168=0,D168=0),\"\",'Analysis 103L'!E194))","v":""}]
[{"$f":"IF('Analysis 103L'!J195=\"\",\"\",IF(AND(C169=0,D169=0),\"\",IF(RIGHT('Analysis 103L'!I195,4)=\"Case\", IF(LEFT('Analysis 103L'!J195,6)=\"Motion\", \"\", 'Analysis 103L'!CJ195),'Analysis 103L'!J195)))","v":""},{"$f":"IF('Analysis 103L'!P195=\"\",\"\",IF(A169=\"\", \"\", 'Analysis 103L'!P195))","v":""},{"$f":"IF('Analysis 103L'!S195=\"\",\"\", IF(LEFT('Analysis 103L'!J195,6)=\"Motion\", \"\", IF(RIGHT('Analysis 103L'!I195,4)=\"Case\",'Analysis 103L'!R195, 'Analysis 103L'!S195)))","v":""},{"$f":"IF(ISNUMBER('Analysis 103L'!AT195),'Analysis 103L'!AT195,\"\")","v":""},{"$f":"IF('Analysis 103L'!D195=\"\",\"\",'Analysis 103L'!AA195)","v":""},{"$f":"IF(E169=\"\",\"\",'Analysis 103L'!BE195)","v":""},{"$f":"IFERROR('Analysis 103L'!CD195*B169,\"\")","v":""},{"$f":"IF('Analysis 103L'!C195=\"\",\"\",'Analysis 103L'!C195)","v":""},{"$f":"IF('Analysis 103L'!E195=\"\",\"\",IF(AND(C169=0,D169=0),\"\",'Analysis 103L'!E195))","v":""}]
[{"$f":"IF('Analysis 103L'!J196=\"\",\"\",IF(AND(C170=0,D170=0),\"\",IF(RIGHT('Analysis 103L'!I196,4)=\"Case\", IF(LEFT('Analysis 103L'!J196,6)=\"Motion\", \"\", 'Analysis 103L'!CJ196),'Analysis 103L'!J196)))","v":""},{"$f":"IF('Analysis 103L'!P196=\"\",\"\",IF(A170=\"\", \"\", 'Analysis 103L'!P196))","v":""},{"$f":"IF('Analysis 103L'!S196=\"\",\"\", IF(LEFT('Analysis 103L'!J196,6)=\"Motion\", \"\", IF(RIGHT('Analysis 103L'!I196,4)=\"Case\",'Analysis 103L'!R196, 'Analysis 103L'!S196)))","v":""},{"$f":"IF(ISNUMBER('Analysis 103L'!AT196),'Analysis 103L'!AT196,\"\")","v":""},{"$f":"IF('Analysis 103L'!D196=\"\",\"\",'Analysis 103L'!AA196)","v":""},{"$f":"IF(E170=\"\",\"\",'Analysis 103L'!BE196)","v":""},{"$f":"IFERROR('Analysis 103L'!CD196*B170,\"\")","v":""},{"$f":"IF('Analysis 103L'!C196=\"\",\"\",'Analysis 103L'!C196)","v":""},{"$f":"IF('Analysis 103L'!E196=\"\",\"\",IF(AND(C170=0,D170=0),\"\",'Analysis 103L'!E196))","v":""}]
[{"$f":"IF('Analysis 103L'!J197=\"\",\"\",IF(AND(C171=0,D171=0),\"\",IF(RIGHT('Analysis 103L'!I197,4)=\"Case\", IF(LEFT('Analysis 103L'!J197,6)=\"Motion\", \"\", 'Analysis 103L'!CJ197),'Analysis 103L'!J197)))","v":""},{"$f":"IF('Analysis 103L'!P197=\"\",\"\",IF(A171=\"\", \"\", 'Analysis 103L'!P197))","v":""},{"$f":"IF('Analysis 103L'!S197=\"\",\"\", IF(LEFT('Analysis 103L'!J197,6)=\"Motion\", \"\", IF(RIGHT('Analysis 103L'!I197,4)=\"Case\",'Analysis 103L'!R197, 'Analysis 103L'!S197)))","v":""},{"$f":"IF(ISNUMBER('Analysis 103L'!AT197),'Analysis 103L'!AT197,\"\")","v":""},{"$f":"IF('Analysis 103L'!D197=\"\",\"\",'Analysis 103L'!AA197)","v":""},{"$f":"IF(E171=\"\",\"\",'Analysis 103L'!BE197)","v":""},{"$f":"IFERROR('Analysis 103L'!CD197*B171,\"\")","v":""},{"$f":"IF('Analysis 103L'!C197=\"\",\"\",'Analysis 103L'!C197)","v":""},{"$f":"IF('Analysis 103L'!E197=\"\",\"\",IF(AND(C171=0,D171=0),\"\",'Analysis 103L'!E197))","v":""}]
[{"$f":"IF('Analysis 103L'!J198=\"\",\"\",IF(AND(C172=0,D172=0),\"\",IF(RIGHT('Analysis 103L'!I198,4)=\"Case\", IF(LEFT('Analysis 103L'!J198,6)=\"Motion\", \"\", 'Analysis 103L'!CJ198),'Analysis 103L'!J198)))","v":""},{"$f":"IF('Analysis 103L'!P198=\"\",\"\",IF(A172=\"\", \"\", 'Analysis 103L'!P198))","v":""},{"$f":"IF('Analysis 103L'!S198=\"\",\"\", IF(LEFT('Analysis 103L'!J198,6)=\"Motion\", \"\", IF(RIGHT('Analysis 103L'!I198,4)=\"Case\",'Analysis 103L'!R198, 'Analysis 103L'!S198)))","v":""},{"$f":"IF(ISNUMBER('Analysis 103L'!AT198),'Analysis 103L'!AT198,\"\")","v":""},{"$f":"IF('Analysis 103L'!D198=\"\",\"\",'Analysis 103L'!AA198)","v":""},{"$f":"IF(E172=\"\",\"\",'Analysis 103L'!BE198)","v":""},{"$f":"IFERROR('Analysis 103L'!CD198*B172,\"\")","v":""},{"$f":"IF('Analysis 103L'!C198=\"\",\"\",'Analysis 103L'!C198)","v":""},{"$f":"IF('Analysis 103L'!E198=\"\",\"\",IF(AND(C172=0,D172=0),\"\",'Analysis 103L'!E198))","v":""}]
[{"$f":"IF('Analysis 103L'!J199=\"\",\"\",IF(AND(C173=0,D173=0),\"\",IF(RIGHT('Analysis 103L'!I199,4)=\"Case\", IF(LEFT('Analysis 103L'!J199,6)=\"Motion\", \"\", 'Analysis 103L'!CJ199),'Analysis 103L'!J199)))","v":""},{"$f":"IF('Analysis 103L'!P199=\"\",\"\",IF(A173=\"\", \"\", 'Analysis 103L'!P199))","v":""},{"$f":"IF('Analysis 103L'!S199=\"\",\"\", IF(LEFT('Analysis 103L'!J199,6)=\"Motion\", \"\", IF(RIGHT('Analysis 103L'!I199,4)=\"Case\",'Analysis 103L'!R199, 'Analysis 103L'!S199)))","v":""},{"$f":"IF(ISNUMBER('Analysis 103L'!AT199),'Analysis 103L'!AT199,\"\")","v":""},{"$f":"IF('Analysis 103L'!D199=\"\",\"\",'Analysis 103L'!AA199)","v":""},{"$f":"IF(E173=\"\",\"\",'Analysis 103L'!BE199)","v":""},{"$f":"IFERROR('Analysis 103L'!CD199*B173,\"\")","v":""},{"$f":"IF('Analysis 103L'!C199=\"\",\"\",'Analysis 103L'!C199)","v":""},{"$f":"IF('Analysis 103L'!E199=\"\",\"\",IF(AND(C173=0,D173=0),\"\",'Analysis 103L'!E199))","v":""}]
[{"$f":"IF('Analysis 103L'!J200=\"\",\"\",IF(AND(C174=0,D174=0),\"\",IF(RIGHT('Analysis 103L'!I200,4)=\"Case\", IF(LEFT('Analysis 103L'!J200,6)=\"Motion\", \"\", 'Analysis 103L'!CJ200),'Analysis 103L'!J200)))","v":""},{"$f":"IF('Analysis 103L'!P200=\"\",\"\",IF(A174=\"\", \"\", 'Analysis 103L'!P200))","v":""},{"$f":"IF('Analysis 103L'!S200=\"\",\"\", IF(LEFT('Analysis 103L'!J200,6)=\"Motion\", \"\", IF(RIGHT('Analysis 103L'!I200,4)=\"Case\",'Analysis 103L'!R200, 'Analysis 103L'!S200)))","v":""},{"$f":"IF(ISNUMBER('Analysis 103L'!AT200),'Analysis 103L'!AT200,\"\")","v":""},{"$f":"IF('Analysis 103L'!D200=\"\",\"\",'Analysis 103L'!AA200)","v":""},{"$f":"IF(E174=\"\",\"\",'Analysis 103L'!BE200)","v":""},{"$f":"IFERROR('Analysis 103L'!CD200*B174,\"\")","v":""},{"$f":"IF('Analysis 103L'!C200=\"\",\"\",'Analysis 103L'!C200)","v":""},{"$f":"IF('Analysis 103L'!E200=\"\",\"\",IF(AND(C174=0,D174=0),\"\",'Analysis 103L'!E200))","v":""}]
[{"$f":"IF('Analysis 103L'!J201=\"\",\"\",IF(AND(C175=0,D175=0),\"\",IF(RIGHT('Analysis 103L'!I201,4)=\"Case\", IF(LEFT('Analysis 103L'!J201,6)=\"Motion\", \"\", 'Analysis 103L'!CJ201),'Analysis 103L'!J201)))","v":""},{"$f":"IF('Analysis 103L'!P201=\"\",\"\",IF(A175=\"\", \"\", 'Analysis 103L'!P201))","v":""},{"$f":"IF('Analysis 103L'!S201=\"\",\"\", IF(LEFT('Analysis 103L'!J201,6)=\"Motion\", \"\", IF(RIGHT('Analysis 103L'!I201,4)=\"Case\",'Analysis 103L'!R201, 'Analysis 103L'!S201)))","v":""},{"$f":"IF(ISNUMBER('Analysis 103L'!AT201),'Analysis 103L'!AT201,\"\")","v":""},{"$f":"IF('Analysis 103L'!D201=\"\",\"\",'Analysis 103L'!AA201)","v":""},{"$f":"IF(E175=\"\",\"\",'Analysis 103L'!BE201)","v":""},{"$f":"IFERROR('Analysis 103L'!CD201*B175,\"\")","v":""},{"$f":"IF('Analysis 103L'!C201=\"\",\"\",'Analysis 103L'!C201)","v":""},{"$f":"IF('Analysis 103L'!E201=\"\",\"\",IF(AND(C175=0,D175=0),\"\",'Analysis 103L'!E201))","v":""}]
[{"$f":"IF('Analysis 103L'!J202=\"\",\"\",IF(AND(C176=0,D176=0),\"\",IF(RIGHT('Analysis 103L'!I202,4)=\"Case\", IF(LEFT('Analysis 103L'!J202,6)=\"Motion\", \"\", 'Analysis 103L'!CJ202),'Analysis 103L'!J202)))","v":""},{"$f":"IF('Analysis 103L'!P202=\"\",\"\",IF(A176=\"\", \"\", 'Analysis 103L'!P202))","v":""},{"$f":"IF('Analysis 103L'!S202=\"\",\"\", IF(LEFT('Analysis 103L'!J202,6)=\"Motion\", \"\", IF(RIGHT('Analysis 103L'!I202,4)=\"Case\",'Analysis 103L'!R202, 'Analysis 103L'!S202)))","v":""},{"$f":"IF(ISNUMBER('Analysis 103L'!AT202),'Analysis 103L'!AT202,\"\")","v":""},{"$f":"IF('Analysis 103L'!D202=\"\",\"\",'Analysis 103L'!AA202)","v":""},{"$f":"IF(E176=\"\",\"\",'Analysis 103L'!BE202)","v":""},{"$f":"IFERROR('Analysis 103L'!CD202*B176,\"\")","v":""},{"$f":"IF('Analysis 103L'!C202=\"\",\"\",'Analysis 103L'!C202)","v":""},{"$f":"IF('Analysis 103L'!E202=\"\",\"\",IF(AND(C176=0,D176=0),\"\",'Analysis 103L'!E202))","v":""}]
[{"$f":"IF('Analysis 103L'!J203=\"\",\"\",IF(AND(C177=0,D177=0),\"\",IF(RIGHT('Analysis 103L'!I203,4)=\"Case\", IF(LEFT('Analysis 103L'!J203,6)=\"Motion\", \"\", 'Analysis 103L'!CJ203),'Analysis 103L'!J203)))","v":""},{"$f":"IF('Analysis 103L'!P203=\"\",\"\",IF(A177=\"\", \"\", 'Analysis 103L'!P203))","v":""},{"$f":"IF('Analysis 103L'!S203=\"\",\"\", IF(LEFT('Analysis 103L'!J203,6)=\"Motion\", \"\", IF(RIGHT('Analysis 103L'!I203,4)=\"Case\",'Analysis 103L'!R203, 'Analysis 103L'!S203)))","v":""},{"$f":"IF(ISNUMBER('Analysis 103L'!AT203),'Analysis 103L'!AT203,\"\")","v":""},{"$f":"IF('Analysis 103L'!D203=\"\",\"\",'Analysis 103L'!AA203)","v":""},{"$f":"IF(E177=\"\",\"\",'Analysis 103L'!BE203)","v":""},{"$f":"IFERROR('Analysis 103L'!CD203*B177,\"\")","v":""},{"$f":"IF('Analysis 103L'!C203=\"\",\"\",'Analysis 103L'!C203)","v":""},{"$f":"IF('Analysis 103L'!E203=\"\",\"\",IF(AND(C177=0,D177=0),\"\",'Analysis 103L'!E203))","v":""}]
[{"$f":"IF('Analysis 103L'!J204=\"\",\"\",IF(AND(C178=0,D178=0),\"\",IF(RIGHT('Analysis 103L'!I204,4)=\"Case\", IF(LEFT('Analysis 103L'!J204,6)=\"Motion\", \"\", 'Analysis 103L'!CJ204),'Analysis 103L'!J204)))","v":""},{"$f":"IF('Analysis 103L'!P204=\"\",\"\",IF(A178=\"\", \"\", 'Analysis 103L'!P204))","v":""},{"$f":"IF('Analysis 103L'!S204=\"\",\"\", IF(LEFT('Analysis 103L'!J204,6)=\"Motion\", \"\", IF(RIGHT('Analysis 103L'!I204,4)=\"Case\",'Analysis 103L'!R204, 'Analysis 103L'!S204)))","v":""},{"$f":"IF(ISNUMBER('Analysis 103L'!AT204),'Analysis 103L'!AT204,\"\")","v":""},{"$f":"IF('Analysis 103L'!D204=\"\",\"\",'Analysis 103L'!AA204)","v":""},{"$f":"IF(E178=\"\",\"\",'Analysis 103L'!BE204)","v":""},{"$f":"IFERROR('Analysis 103L'!CD204*B178,\"\")","v":""},{"$f":"IF('Analysis 103L'!C204=\"\",\"\",'Analysis 103L'!C204)","v":""},{"$f":"IF('Analysis 103L'!E204=\"\",\"\",IF(AND(C178=0,D178=0),\"\",'Analysis 103L'!E204))","v":""}]
[{"$f":"IF('Analysis 103L'!J205=\"\",\"\",IF(AND(C179=0,D179=0),\"\",IF(RIGHT('Analysis 103L'!I205,4)=\"Case\", IF(LEFT('Analysis 103L'!J205,6)=\"Motion\", \"\", 'Analysis 103L'!CJ205),'Analysis 103L'!J205)))","v":""},{"$f":"IF('Analysis 103L'!P205=\"\",\"\",IF(A179=\"\", \"\", 'Analysis 103L'!P205))","v":""},{"$f":"IF('Analysis 103L'!S205=\"\",\"\", IF(LEFT('Analysis 103L'!J205,6)=\"Motion\", \"\", IF(RIGHT('Analysis 103L'!I205,4)=\"Case\",'Analysis 103L'!R205, 'Analysis 103L'!S205)))","v":""},{"$f":"IF(ISNUMBER('Analysis 103L'!AT205),'Analysis 103L'!AT205,\"\")","v":""},{"$f":"IF('Analysis 103L'!D205=\"\",\"\",'Analysis 103L'!AA205)","v":""},{"$f":"IF(E179=\"\",\"\",'Analysis 103L'!BE205)","v":""},{"$f":"IFERROR('Analysis 103L'!CD205*B179,\"\")","v":""},{"$f":"IF('Analysis 103L'!C205=\"\",\"\",'Analysis 103L'!C205)","v":""},{"$f":"IF('Analysis 103L'!E205=\"\",\"\",IF(AND(C179=0,D179=0),\"\",'Analysis 103L'!E205))","v":""}]
[{"$f":"IF('Analysis 103L'!J206=\"\",\"\",IF(AND(C180=0,D180=0),\"\",IF(RIGHT('Analysis 103L'!I206,4)=\"Case\", IF(LEFT('Analysis 103L'!J206,6)=\"Motion\", \"\", 'Analysis 103L'!CJ206),'Analysis 103L'!J206)))","v":""},{"$f":"IF('Analysis 103L'!P206=\"\",\"\",IF(A180=\"\", \"\", 'Analysis 103L'!P206))","v":""},{"$f":"IF('Analysis 103L'!S206=\"\",\"\", IF(LEFT('Analysis 103L'!J206,6)=\"Motion\", \"\", IF(RIGHT('Analysis 103L'!I206,4)=\"Case\",'Analysis 103L'!R206, 'Analysis 103L'!S206)))","v":""},{"$f":"IF(ISNUMBER('Analysis 103L'!AT206),'Analysis 103L'!AT206,\"\")","v":""},{"$f":"IF('Analysis 103L'!D206=\"\",\"\",'Analysis 103L'!AA206)","v":""},{"$f":"IF(E180=\"\",\"\",'Analysis 103L'!BE206)","v":""},{"$f":"IFERROR('Analysis 103L'!CD206*B180,\"\")","v":""},{"$f":"IF('Analysis 103L'!C206=\"\",\"\",'Analysis 103L'!C206)","v":""},{"$f":"IF('Analysis 103L'!E206=\"\",\"\",IF(AND(C180=0,D180=0),\"\",'Analysis 103L'!E206))","v":""}]
[{"$f":"IF('Analysis 103L'!J207=\"\",\"\",IF(AND(C181=0,D181=0),\"\",IF(RIGHT('Analysis 103L'!I207,4)=\"Case\", IF(LEFT('Analysis 103L'!J207,6)=\"Motion\", \"\", 'Analysis 103L'!CJ207),'Analysis 103L'!J207)))","v":""},{"$f":"IF('Analysis 103L'!P207=\"\",\"\",IF(A181=\"\", \"\", 'Analysis 103L'!P207))","v":""},{"$f":"IF('Analysis 103L'!S207=\"\",\"\", IF(LEFT('Analysis 103L'!J207,6)=\"Motion\", \"\", IF(RIGHT('Analysis 103L'!I207,4)=\"Case\",'Analysis 103L'!R207, 'Analysis 103L'!S207)))","v":""},{"$f":"IF(ISNUMBER('Analysis 103L'!AT207),'Analysis 103L'!AT207,\"\")","v":""},{"$f":"IF('Analysis 103L'!D207=\"\",\"\",'Analysis 103L'!AA207)","v":""},{"$f":"IF(E181=\"\",\"\",'Analysis 103L'!BE207)","v":""},{"$f":"IFERROR('Analysis 103L'!CD207*B181,\"\")","v":""},{"$f":"IF('Analysis 103L'!C207=\"\",\"\",'Analysis 103L'!C207)","v":""},{"$f":"IF('Analysis 103L'!E207=\"\",\"\",IF(AND(C181=0,D181=0),\"\",'Analysis 103L'!E207))","v":""}]
[{"$f":"IF('Analysis 103L'!J208=\"\",\"\",IF(AND(C182=0,D182=0),\"\",IF(RIGHT('Analysis 103L'!I208,4)=\"Case\", IF(LEFT('Analysis 103L'!J208,6)=\"Motion\", \"\", 'Analysis 103L'!CJ208),'Analysis 103L'!J208)))","v":""},{"$f":"IF('Analysis 103L'!P208=\"\",\"\",IF(A182=\"\", \"\", 'Analysis 103L'!P208))","v":""},{"$f":"IF('Analysis 103L'!S208=\"\",\"\", IF(LEFT('Analysis 103L'!J208,6)=\"Motion\", \"\", IF(RIGHT('Analysis 103L'!I208,4)=\"Case\",'Analysis 103L'!R208, 'Analysis 103L'!S208)))","v":""},{"$f":"IF(ISNUMBER('Analysis 103L'!AT208),'Analysis 103L'!AT208,\"\")","v":""},{"$f":"IF('Analysis 103L'!D208=\"\",\"\",'Analysis 103L'!AA208)","v":""},{"$f":"IF(E182=\"\",\"\",'Analysis 103L'!BE208)","v":""},{"$f":"IFERROR('Analysis 103L'!CD208*B182,\"\")","v":""},{"$f":"IF('Analysis 103L'!C208=\"\",\"\",'Analysis 103L'!C208)","v":""},{"$f":"IF('Analysis 103L'!E208=\"\",\"\",IF(AND(C182=0,D182=0),\"\",'Analysis 103L'!E208))","v":""}]
[{"$f":"IF('Analysis 103L'!J209=\"\",\"\",IF(AND(C183=0,D183=0),\"\",IF(RIGHT('Analysis 103L'!I209,4)=\"Case\", IF(LEFT('Analysis 103L'!J209,6)=\"Motion\", \"\", 'Analysis 103L'!CJ209),'Analysis 103L'!J209)))","v":""},{"$f":"IF('Analysis 103L'!P209=\"\",\"\",IF(A183=\"\", \"\", 'Analysis 103L'!P209))","v":""},{"$f":"IF('Analysis 103L'!S209=\"\",\"\", IF(LEFT('Analysis 103L'!J209,6)=\"Motion\", \"\", IF(RIGHT('Analysis 103L'!I209,4)=\"Case\",'Analysis 103L'!R209, 'Analysis 103L'!S209)))","v":""},{"$f":"IF(ISNUMBER('Analysis 103L'!AT209),'Analysis 103L'!AT209,\"\")","v":""},{"$f":"IF('Analysis 103L'!D209=\"\",\"\",'Analysis 103L'!AA209)","v":""},{"$f":"IF(E183=\"\",\"\",'Analysis 103L'!BE209)","v":""},{"$f":"IFERROR('Analysis 103L'!CD209*B183,\"\")","v":""},{"$f":"IF('Analysis 103L'!C209=\"\",\"\",'Analysis 103L'!C209)","v":""},{"$f":"IF('Analysis 103L'!E209=\"\",\"\",IF(AND(C183=0,D183=0),\"\",'Analysis 103L'!E209))","v":""}]
[{"$f":"IF('Analysis 103L'!J210=\"\",\"\",IF(AND(C184=0,D184=0),\"\",IF(RIGHT('Analysis 103L'!I210,4)=\"Case\", IF(LEFT('Analysis 103L'!J210,6)=\"Motion\", \"\", 'Analysis 103L'!CJ210),'Analysis 103L'!J210)))","v":""},{"$f":"IF('Analysis 103L'!P210=\"\",\"\",IF(A184=\"\", \"\", 'Analysis 103L'!P210))","v":""},{"$f":"IF('Analysis 103L'!S210=\"\",\"\", IF(LEFT('Analysis 103L'!J210,6)=\"Motion\", \"\", IF(RIGHT('Analysis 103L'!I210,4)=\"Case\",'Analysis 103L'!R210, 'Analysis 103L'!S210)))","v":""},{"$f":"IF(ISNUMBER('Analysis 103L'!AT210),'Analysis 103L'!AT210,\"\")","v":""},{"$f":"IF('Analysis 103L'!D210=\"\",\"\",'Analysis 103L'!AA210)","v":""},{"$f":"IF(E184=\"\",\"\",'Analysis 103L'!BE210)","v":""},{"$f":"IFERROR('Analysis 103L'!CD210*B184,\"\")","v":""},{"$f":"IF('Analysis 103L'!C210=\"\",\"\",'Analysis 103L'!C210)","v":""},{"$f":"IF('Analysis 103L'!E210=\"\",\"\",IF(AND(C184=0,D184=0),\"\",'Analysis 103L'!E210))","v":""}]
[{"$f":"IF('Analysis 103L'!J211=\"\",\"\",IF(AND(C185=0,D185=0),\"\",IF(RIGHT('Analysis 103L'!I211,4)=\"Case\", IF(LEFT('Analysis 103L'!J211,6)=\"Motion\", \"\", 'Analysis 103L'!CJ211),'Analysis 103L'!J211)))","v":""},{"$f":"IF('Analysis 103L'!P211=\"\",\"\",IF(A185=\"\", \"\", 'Analysis 103L'!P211))","v":""},{"$f":"IF('Analysis 103L'!S211=\"\",\"\", IF(LEFT('Analysis 103L'!J211,6)=\"Motion\", \"\", IF(RIGHT('Analysis 103L'!I211,4)=\"Case\",'Analysis 103L'!R211, 'Analysis 103L'!S211)))","v":""},{"$f":"IF(ISNUMBER('Analysis 103L'!AT211),'Analysis 103L'!AT211,\"\")","v":""},{"$f":"IF('Analysis 103L'!D211=\"\",\"\",'Analysis 103L'!AA211)","v":""},{"$f":"IF(E185=\"\",\"\",'Analysis 103L'!BE211)","v":""},{"$f":"IFERROR('Analysis 103L'!CD211*B185,\"\")","v":""},{"$f":"IF('Analysis 103L'!C211=\"\",\"\",'Analysis 103L'!C211)","v":""},{"$f":"IF('Analysis 103L'!E211=\"\",\"\",IF(AND(C185=0,D185=0),\"\",'Analysis 103L'!E211))","v":""}]
[{"$f":"IF('Analysis 103L'!J212=\"\",\"\",IF(AND(C186=0,D186=0),\"\",IF(RIGHT('Analysis 103L'!I212,4)=\"Case\", IF(LEFT('Analysis 103L'!J212,6)=\"Motion\", \"\", 'Analysis 103L'!CJ212),'Analysis 103L'!J212)))","v":""},{"$f":"IF('Analysis 103L'!P212=\"\",\"\",IF(A186=\"\", \"\", 'Analysis 103L'!P212))","v":""},{"$f":"IF('Analysis 103L'!S212=\"\",\"\", IF(LEFT('Analysis 103L'!J212,6)=\"Motion\", \"\", IF(RIGHT('Analysis 103L'!I212,4)=\"Case\",'Analysis 103L'!R212, 'Analysis 103L'!S212)))","v":""},{"$f":"IF(ISNUMBER('Analysis 103L'!AT212),'Analysis 103L'!AT212,\"\")","v":""},{"$f":"IF('Analysis 103L'!D212=\"\",\"\",'Analysis 103L'!AA212)","v":""},{"$f":"IF(E186=\"\",\"\",'Analysis 103L'!BE212)","v":""},{"$f":"IFERROR('Analysis 103L'!CD212*B186,\"\")","v":""},{"$f":"IF('Analysis 103L'!C212=\"\",\"\",'Analysis 103L'!C212)","v":""},{"$f":"IF('Analysis 103L'!E212=\"\",\"\",IF(AND(C186=0,D186=0),\"\",'Analysis 103L'!E212))","v":""}]
[{"$f":"IF('Analysis 103L'!J213=\"\",\"\",IF(AND(C187=0,D187=0),\"\",IF(RIGHT('Analysis 103L'!I213,4)=\"Case\", IF(LEFT('Analysis 103L'!J213,6)=\"Motion\", \"\", 'Analysis 103L'!CJ213),'Analysis 103L'!J213)))","v":""},{"$f":"IF('Analysis 103L'!P213=\"\",\"\",IF(A187=\"\", \"\", 'Analysis 103L'!P213))","v":""},{"$f":"IF('Analysis 103L'!S213=\"\",\"\", IF(LEFT('Analysis 103L'!J213,6)=\"Motion\", \"\", IF(RIGHT('Analysis 103L'!I213,4)=\"Case\",'Analysis 103L'!R213, 'Analysis 103L'!S213)))","v":""},{"$f":"IF(ISNUMBER('Analysis 103L'!AT213),'Analysis 103L'!AT213,\"\")","v":""},{"$f":"IF('Analysis 103L'!D213=\"\",\"\",'Analysis 103L'!AA213)","v":""},{"$f":"IF(E187=\"\",\"\",'Analysis 103L'!BE213)","v":""},{"$f":"IFERROR('Analysis 103L'!CD213*B187,\"\")","v":""},{"$f":"IF('Analysis 103L'!C213=\"\",\"\",'Analysis 103L'!C213)","v":""},{"$f":"IF('Analysis 103L'!E213=\"\",\"\",IF(AND(C187=0,D187=0),\"\",'Analysis 103L'!E213))","v":""}]
[{"$f":"IF('Analysis 103L'!J214=\"\",\"\",IF(AND(C188=0,D188=0),\"\",IF(RIGHT('Analysis 103L'!I214,4)=\"Case\", IF(LEFT('Analysis 103L'!J214,6)=\"Motion\", \"\", 'Analysis 103L'!CJ214),'Analysis 103L'!J214)))","v":""},{"$f":"IF('Analysis 103L'!P214=\"\",\"\",IF(A188=\"\", \"\", 'Analysis 103L'!P214))","v":""},{"$f":"IF('Analysis 103L'!S214=\"\",\"\", IF(LEFT('Analysis 103L'!J214,6)=\"Motion\", \"\", IF(RIGHT('Analysis 103L'!I214,4)=\"Case\",'Analysis 103L'!R214, 'Analysis 103L'!S214)))","v":""},{"$f":"IF(ISNUMBER('Analysis 103L'!AT214),'Analysis 103L'!AT214,\"\")","v":""},{"$f":"IF('Analysis 103L'!D214=\"\",\"\",'Analysis 103L'!AA214)","v":""},{"$f":"IF(E188=\"\",\"\",'Analysis 103L'!BE214)","v":""},{"$f":"IFERROR('Analysis 103L'!CD214*B188,\"\")","v":""},{"$f":"IF('Analysis 103L'!C214=\"\",\"\",'Analysis 103L'!C214)","v":""},{"$f":"IF('Analysis 103L'!E214=\"\",\"\",IF(AND(C188=0,D188=0),\"\",'Analysis 103L'!E214))","v":""}]
[{"$f":"IF('Analysis 103L'!J215=\"\",\"\",IF(AND(C189=0,D189=0),\"\",IF(RIGHT('Analysis 103L'!I215,4)=\"Case\", IF(LEFT('Analysis 103L'!J215,6)=\"Motion\", \"\", 'Analysis 103L'!CJ215),'Analysis 103L'!J215)))","v":""},{"$f":"IF('Analysis 103L'!P215=\"\",\"\",IF(A189=\"\", \"\", 'Analysis 103L'!P215))","v":""},{"$f":"IF('Analysis 103L'!S215=\"\",\"\", IF(LEFT('Analysis 103L'!J215,6)=\"Motion\", \"\", IF(RIGHT('Analysis 103L'!I215,4)=\"Case\",'Analysis 103L'!R215, 'Analysis 103L'!S215)))","v":""},{"$f":"IF(ISNUMBER('Analysis 103L'!AT215),'Analysis 103L'!AT215,\"\")","v":""},{"$f":"IF('Analysis 103L'!D215=\"\",\"\",'Analysis 103L'!AA215)","v":""},{"$f":"IF(E189=\"\",\"\",'Analysis 103L'!BE215)","v":""},{"$f":"IFERROR('Analysis 103L'!CD215*B189,\"\")","v":""},{"$f":"IF('Analysis 103L'!C215=\"\",\"\",'Analysis 103L'!C215)","v":""},{"$f":"IF('Analysis 103L'!E215=\"\",\"\",IF(AND(C189=0,D189=0),\"\",'Analysis 103L'!E215))","v":""}]
[{"$f":"IF('Analysis 103L'!J216=\"\",\"\",IF(AND(C190=0,D190=0),\"\",IF(RIGHT('Analysis 103L'!I216,4)=\"Case\", IF(LEFT('Analysis 103L'!J216,6)=\"Motion\", \"\", 'Analysis 103L'!CJ216),'Analysis 103L'!J216)))","v":""},{"$f":"IF('Analysis 103L'!P216=\"\",\"\",IF(A190=\"\", \"\", 'Analysis 103L'!P216))","v":""},{"$f":"IF('Analysis 103L'!S216=\"\",\"\", IF(LEFT('Analysis 103L'!J216,6)=\"Motion\", \"\", IF(RIGHT('Analysis 103L'!I216,4)=\"Case\",'Analysis 103L'!R216, 'Analysis 103L'!S216)))","v":""},{"$f":"IF(ISNUMBER('Analysis 103L'!AT216),'Analysis 103L'!AT216,\"\")","v":""},{"$f":"IF('Analysis 103L'!D216=\"\",\"\",'Analysis 103L'!AA216)","v":""},{"$f":"IF(E190=\"\",\"\",'Analysis 103L'!BE216)","v":""},{"$f":"IFERROR('Analysis 103L'!CD216*B190,\"\")","v":""},{"$f":"IF('Analysis 103L'!C216=\"\",\"\",'Analysis 103L'!C216)","v":""},{"$f":"IF('Analysis 103L'!E216=\"\",\"\",IF(AND(C190=0,D190=0),\"\",'Analysis 103L'!E216))","v":""}]
[{"$f":"IF('Analysis 103L'!J217=\"\",\"\",IF(AND(C191=0,D191=0),\"\",IF(RIGHT('Analysis 103L'!I217,4)=\"Case\", IF(LEFT('Analysis 103L'!J217,6)=\"Motion\", \"\", 'Analysis 103L'!CJ217),'Analysis 103L'!J217)))","v":""},{"$f":"IF('Analysis 103L'!P217=\"\",\"\",IF(A191=\"\", \"\", 'Analysis 103L'!P217))","v":""},{"$f":"IF('Analysis 103L'!S217=\"\",\"\", IF(LEFT('Analysis 103L'!J217,6)=\"Motion\", \"\", IF(RIGHT('Analysis 103L'!I217,4)=\"Case\",'Analysis 103L'!R217, 'Analysis 103L'!S217)))","v":""},{"$f":"IF(ISNUMBER('Analysis 103L'!AT217),'Analysis 103L'!AT217,\"\")","v":""},{"$f":"IF('Analysis 103L'!D217=\"\",\"\",'Analysis 103L'!AA217)","v":""},{"$f":"IF(E191=\"\",\"\",'Analysis 103L'!BE217)","v":""},{"$f":"IFERROR('Analysis 103L'!CD217*B191,\"\")","v":""},{"$f":"IF('Analysis 103L'!C217=\"\",\"\",'Analysis 103L'!C217)","v":""},{"$f":"IF('Analysis 103L'!E217=\"\",\"\",IF(AND(C191=0,D191=0),\"\",'Analysis 103L'!E217))","v":""}]
[{"$f":"IF('Analysis 103L'!J218=\"\",\"\",IF(AND(C192=0,D192=0),\"\",IF(RIGHT('Analysis 103L'!I218,4)=\"Case\", IF(LEFT('Analysis 103L'!J218,6)=\"Motion\", \"\", 'Analysis 103L'!CJ218),'Analysis 103L'!J218)))","v":""},{"$f":"IF('Analysis 103L'!P218=\"\",\"\",IF(A192=\"\", \"\", 'Analysis 103L'!P218))","v":""},{"$f":"IF('Analysis 103L'!S218=\"\",\"\", IF(LEFT('Analysis 103L'!J218,6)=\"Motion\", \"\", IF(RIGHT('Analysis 103L'!I218,4)=\"Case\",'Analysis 103L'!R218, 'Analysis 103L'!S218)))","v":""},{"$f":"IF(ISNUMBER('Analysis 103L'!AT218),'Analysis 103L'!AT218,\"\")","v":""},{"$f":"IF('Analysis 103L'!D218=\"\",\"\",'Analysis 103L'!AA218)","v":""},{"$f":"IF(E192=\"\",\"\",'Analysis 103L'!BE218)","v":""},{"$f":"IFERROR('Analysis 103L'!CD218*B192,\"\")","v":""},{"$f":"IF('Analysis 103L'!C218=\"\",\"\",'Analysis 103L'!C218)","v":""},{"$f":"IF('Analysis 103L'!E218=\"\",\"\",IF(AND(C192=0,D192=0),\"\",'Analysis 103L'!E218))","v":""}]
[{"$f":"IF('Analysis 103L'!J219=\"\",\"\",IF(AND(C193=0,D193=0),\"\",IF(RIGHT('Analysis 103L'!I219,4)=\"Case\", IF(LEFT('Analysis 103L'!J219,6)=\"Motion\", \"\", 'Analysis 103L'!CJ219),'Analysis 103L'!J219)))","v":""},{"$f":"IF('Analysis 103L'!P219=\"\",\"\",IF(A193=\"\", \"\", 'Analysis 103L'!P219))","v":""},{"$f":"IF('Analysis 103L'!S219=\"\",\"\", IF(LEFT('Analysis 103L'!J219,6)=\"Motion\", \"\", IF(RIGHT('Analysis 103L'!I219,4)=\"Case\",'Analysis 103L'!R219, 'Analysis 103L'!S219)))","v":""},{"$f":"IF(ISNUMBER('Analysis 103L'!AT219),'Analysis 103L'!AT219,\"\")","v":""},{"$f":"IF('Analysis 103L'!D219=\"\",\"\",'Analysis 103L'!AA219)","v":""},{"$f":"IF(E193=\"\",\"\",'Analysis 103L'!BE219)","v":""},{"$f":"IFERROR('Analysis 103L'!CD219*B193,\"\")","v":""},{"$f":"IF('Analysis 103L'!C219=\"\",\"\",'Analysis 103L'!C219)","v":""},{"$f":"IF('Analysis 103L'!E219=\"\",\"\",IF(AND(C193=0,D193=0),\"\",'Analysis 103L'!E219))","v":""}]
[{"$f":"IF('Analysis 103L'!J220=\"\",\"\",IF(AND(C194=0,D194=0),\"\",IF(RIGHT('Analysis 103L'!I220,4)=\"Case\", IF(LEFT('Analysis 103L'!J220,6)=\"Motion\", \"\", 'Analysis 103L'!CJ220),'Analysis 103L'!J220)))","v":""},{"$f":"IF('Analysis 103L'!P220=\"\",\"\",IF(A194=\"\", \"\", 'Analysis 103L'!P220))","v":""},{"$f":"IF('Analysis 103L'!S220=\"\",\"\", IF(LEFT('Analysis 103L'!J220,6)=\"Motion\", \"\", IF(RIGHT('Analysis 103L'!I220,4)=\"Case\",'Analysis 103L'!R220, 'Analysis 103L'!S220)))","v":""},{"$f":"IF(ISNUMBER('Analysis 103L'!AT220),'Analysis 103L'!AT220,\"\")","v":""},{"$f":"IF('Analysis 103L'!D220=\"\",\"\",'Analysis 103L'!AA220)","v":""},{"$f":"IF(E194=\"\",\"\",'Analysis 103L'!BE220)","v":""},{"$f":"IFERROR('Analysis 103L'!CD220*B194,\"\")","v":""},{"$f":"IF('Analysis 103L'!C220=\"\",\"\",'Analysis 103L'!C220)","v":""},{"$f":"IF('Analysis 103L'!E220=\"\",\"\",IF(AND(C194=0,D194=0),\"\",'Analysis 103L'!E220))","v":""}]
[{"$f":"IF('Analysis 103L'!J221=\"\",\"\",IF(AND(C195=0,D195=0),\"\",IF(RIGHT('Analysis 103L'!I221,4)=\"Case\", IF(LEFT('Analysis 103L'!J221,6)=\"Motion\", \"\", 'Analysis 103L'!CJ221),'Analysis 103L'!J221)))","v":""},{"$f":"IF('Analysis 103L'!P221=\"\",\"\",IF(A195=\"\", \"\", 'Analysis 103L'!P221))","v":""},{"$f":"IF('Analysis 103L'!S221=\"\",\"\", IF(LEFT('Analysis 103L'!J221,6)=\"Motion\", \"\", IF(RIGHT('Analysis 103L'!I221,4)=\"Case\",'Analysis 103L'!R221, 'Analysis 103L'!S221)))","v":""},{"$f":"IF(ISNUMBER('Analysis 103L'!AT221),'Analysis 103L'!AT221,\"\")","v":""},{"$f":"IF('Analysis 103L'!D221=\"\",\"\",'Analysis 103L'!AA221)","v":""},{"$f":"IF(E195=\"\",\"\",'Analysis 103L'!BE221)","v":""},{"$f":"IFERROR('Analysis 103L'!CD221*B195,\"\")","v":""},{"$f":"IF('Analysis 103L'!C221=\"\",\"\",'Analysis 103L'!C221)","v":""},{"$f":"IF('Analysis 103L'!E221=\"\",\"\",IF(AND(C195=0,D195=0),\"\",'Analysis 103L'!E221))","v":""}]
[{"$f":"IF('Analysis 103L'!J222=\"\",\"\",IF(AND(C196=0,D196=0),\"\",IF(RIGHT('Analysis 103L'!I222,4)=\"Case\", IF(LEFT('Analysis 103L'!J222,6)=\"Motion\", \"\", 'Analysis 103L'!CJ222),'Analysis 103L'!J222)))","v":""},{"$f":"IF('Analysis 103L'!P222=\"\",\"\",IF(A196=\"\", \"\", 'Analysis 103L'!P222))","v":""},{"$f":"IF('Analysis 103L'!S222=\"\",\"\", IF(LEFT('Analysis 103L'!J222,6)=\"Motion\", \"\", IF(RIGHT('Analysis 103L'!I222,4)=\"Case\",'Analysis 103L'!R222, 'Analysis 103L'!S222)))","v":""},{"$f":"IF(ISNUMBER('Analysis 103L'!AT222),'Analysis 103L'!AT222,\"\")","v":""},{"$f":"IF('Analysis 103L'!D222=\"\",\"\",'Analysis 103L'!AA222)","v":""},{"$f":"IF(E196=\"\",\"\",'Analysis 103L'!BE222)","v":""},{"$f":"IFERROR('Analysis 103L'!CD222*B196,\"\")","v":""},{"$f":"IF('Analysis 103L'!C222=\"\",\"\",'Analysis 103L'!C222)","v":""},{"$f":"IF('Analysis 103L'!E222=\"\",\"\",IF(AND(C196=0,D196=0),\"\",'Analysis 103L'!E222))","v":""}]
[{"$f":"IF('Analysis 103L'!J223=\"\",\"\",IF(AND(C197=0,D197=0),\"\",IF(RIGHT('Analysis 103L'!I223,4)=\"Case\", IF(LEFT('Analysis 103L'!J223,6)=\"Motion\", \"\", 'Analysis 103L'!CJ223),'Analysis 103L'!J223)))","v":""},{"$f":"IF('Analysis 103L'!P223=\"\",\"\",IF(A197=\"\", \"\", 'Analysis 103L'!P223))","v":""},{"$f":"IF('Analysis 103L'!S223=\"\",\"\", IF(LEFT('Analysis 103L'!J223,6)=\"Motion\", \"\", IF(RIGHT('Analysis 103L'!I223,4)=\"Case\",'Analysis 103L'!R223, 'Analysis 103L'!S223)))","v":""},{"$f":"IF(ISNUMBER('Analysis 103L'!AT223),'Analysis 103L'!AT223,\"\")","v":""},{"$f":"IF('Analysis 103L'!D223=\"\",\"\",'Analysis 103L'!AA223)","v":""},{"$f":"IF(E197=\"\",\"\",'Analysis 103L'!BE223)","v":""},{"$f":"IFERROR('Analysis 103L'!CD223*B197,\"\")","v":""},{"$f":"IF('Analysis 103L'!C223=\"\",\"\",'Analysis 103L'!C223)","v":""},{"$f":"IF('Analysis 103L'!E223=\"\",\"\",IF(AND(C197=0,D197=0),\"\",'Analysis 103L'!E223))","v":""}]
[{"$f":"IF('Analysis 103L'!J224=\"\",\"\",IF(AND(C198=0,D198=0),\"\",IF(RIGHT('Analysis 103L'!I224,4)=\"Case\", IF(LEFT('Analysis 103L'!J224,6)=\"Motion\", \"\", 'Analysis 103L'!CJ224),'Analysis 103L'!J224)))","v":""},{"$f":"IF('Analysis 103L'!P224=\"\",\"\",IF(A198=\"\", \"\", 'Analysis 103L'!P224))","v":""},{"$f":"IF('Analysis 103L'!S224=\"\",\"\", IF(LEFT('Analysis 103L'!J224,6)=\"Motion\", \"\", IF(RIGHT('Analysis 103L'!I224,4)=\"Case\",'Analysis 103L'!R224, 'Analysis 103L'!S224)))","v":""},{"$f":"IF(ISNUMBER('Analysis 103L'!AT224),'Analysis 103L'!AT224,\"\")","v":""},{"$f":"IF('Analysis 103L'!D224=\"\",\"\",'Analysis 103L'!AA224)","v":""},{"$f":"IF(E198=\"\",\"\",'Analysis 103L'!BE224)","v":""},{"$f":"IFERROR('Analysis 103L'!CD224*B198,\"\")","v":""},{"$f":"IF('Analysis 103L'!C224=\"\",\"\",'Analysis 103L'!C224)","v":""},{"$f":"IF('Analysis 103L'!E224=\"\",\"\",IF(AND(C198=0,D198=0),\"\",'Analysis 103L'!E224))","v":""}]
[{"$f":"IF('Analysis 103L'!J225=\"\",\"\",IF(AND(C199=0,D199=0),\"\",IF(RIGHT('Analysis 103L'!I225,4)=\"Case\", IF(LEFT('Analysis 103L'!J225,6)=\"Motion\", \"\", 'Analysis 103L'!CJ225),'Analysis 103L'!J225)))","v":""},{"$f":"IF('Analysis 103L'!P225=\"\",\"\",IF(A199=\"\", \"\", 'Analysis 103L'!P225))","v":""},{"$f":"IF('Analysis 103L'!S225=\"\",\"\", IF(LEFT('Analysis 103L'!J225,6)=\"Motion\", \"\", IF(RIGHT('Analysis 103L'!I225,4)=\"Case\",'Analysis 103L'!R225, 'Analysis 103L'!S225)))","v":""},{"$f":"IF(ISNUMBER('Analysis 103L'!AT225),'Analysis 103L'!AT225,\"\")","v":""},{"$f":"IF('Analysis 103L'!D225=\"\",\"\",'Analysis 103L'!AA225)","v":""},{"$f":"IF(E199=\"\",\"\",'Analysis 103L'!BE225)","v":""},{"$f":"IFERROR('Analysis 103L'!CD225*B199,\"\")","v":""},{"$f":"IF('Analysis 103L'!C225=\"\",\"\",'Analysis 103L'!C225)","v":""},{"$f":"IF('Analysis 103L'!E225=\"\",\"\",IF(AND(C199=0,D199=0),\"\",'Analysis 103L'!E225))","v":""}]
[{"$f":"IF('Analysis 103L'!J226=\"\",\"\",IF(AND(C200=0,D200=0),\"\",IF(RIGHT('Analysis 103L'!I226,4)=\"Case\", IF(LEFT('Analysis 103L'!J226,6)=\"Motion\", \"\", 'Analysis 103L'!CJ226),'Analysis 103L'!J226)))","v":""},{"$f":"IF('Analysis 103L'!P226=\"\",\"\",IF(A200=\"\", \"\", 'Analysis 103L'!P226))","v":""},{"$f":"IF('Analysis 103L'!S226=\"\",\"\", IF(LEFT('Analysis 103L'!J226,6)=\"Motion\", \"\", IF(RIGHT('Analysis 103L'!I226,4)=\"Case\",'Analysis 103L'!R226, 'Analysis 103L'!S226)))","v":""},{"$f":"IF(ISNUMBER('Analysis 103L'!AT226),'Analysis 103L'!AT226,\"\")","v":""},{"$f":"IF('Analysis 103L'!D226=\"\",\"\",'Analysis 103L'!AA226)","v":""},{"$f":"IF(E200=\"\",\"\",'Analysis 103L'!BE226)","v":""},{"$f":"IFERROR('Analysis 103L'!CD226*B200,\"\")","v":""},{"$f":"IF('Analysis 103L'!C226=\"\",\"\",'Analysis 103L'!C226)","v":""},{"$f":"IF('Analysis 103L'!E226=\"\",\"\",IF(AND(C200=0,D200=0),\"\",'Analysis 103L'!E226))","v":""}]
[{"$f":"IF('Analysis 103L'!Y227=0,\"\",'Analysis 103L'!J227)","v":""},{"$f":"IF('Analysis 103L'!P227=\"\",\"\",'Analysis 103L'!P227)","v":""},{"$f":"IF('Analysis 103L'!S227=\"\",\"\",'Analysis 103L'!S227)","v":""},{"$f":"IF(ISNUMBER('Analysis 103L'!AT227),'Analysis 103L'!AT227,\"\")","v":""},{"$f":"IF('Analysis 103L'!D227=\"\",\"\",'Analysis 103L'!AA227)","v":{"$error":"#DIV/0!"}},{"$f":"IF(E201=\"\",\"\",'Analysis 103L'!BE227)","v":{"$error":"#DIV/0!"}},{"$f":"IFERROR('Analysis 103L'!CD227*B201,\"\")","v":""},{"$f":"IF('Analysis 103L'!C227=\"\",\"\",'Analysis 103L'!C227)","v":""},{"$f":"IF('Analysis 103L'!E227=\"\",\"\",IF(AND(C201=0,D201=0),\"\",'Analysis 103L'!E227))","v":""}]
[{"$f":"IF(Controls!H7=\"\",\"\",IF(LEFT(Controls!H7, 6)=\"Motion\", Controls!BS7,Controls!H7))","v":""},{"$f":"IF(LEFT(A202, 6)=\"Motion\", Controls!E7, (IF(Controls!J7=\"\",\"\",Controls!J7)))","v":""},{"$f":"IF(LEFT(A202, 6)=\"Motion\", Controls!K7, IF(Controls!L7=\"\",\"\",Controls!L7))","v":""},{"$f":"IF(Controls!Q7=\"\",\"\",Controls!Q7)","v":""},{"$f":"IF(Controls!J7=\"\",IF(RIGHT(Controls!C7, 4)=\"Case\", Controls!S7, \"\"),Controls!V7)","v":""},{"$f":"IF(E202=\"\",\"\",F2)","v":""},{"$f":"IFERROR(VLOOKUP($A202,Controls!$AB$7:$AC$20,2,FALSE)*B202,\"\")","v":""},{"$f":"IF(Controls!B7=\"\",\"\",Controls!B7)","v":0},null,"Controls"]
[{"$f":"IF(Controls!H8=\"\",\"\",IF(LEFT(Controls!H8, 6)=\"Motion\", Controls!BS8,Controls!H8))","v":""},{"$f":"IF(LEFT(A203, 6)=\"Motion\", Controls!E8, (IF(Controls!J8=\"\",\"\",Controls!J8)))","v":""},{"$f":"IF(LEFT(A203, 6)=\"Motion\", Controls!K8, IF(Controls!L8=\"\",\"\",Controls!L8))","v":""},{"$f":"IF(Controls!Q8=\"\",\"\",Controls!Q8)","v":""},{"$f":"IF(Controls!J8=\"\",IF(RIGHT(Controls!C8, 4)=\"Case\", Controls!S8, \"\"),Controls!V8)","v":""},{"$f":"IF(E203=\"\",\"\",F3)","v":""},{"$f":"IFERROR(VLOOKUP($A203,Controls!$AB$7:$AC$20,2,FALSE)*B203,\"\")","v":""},{"$f":"IF(Controls!B8=\"\",\"\",Controls!B8)","v":0}]
[{"$f":"IF(Controls!H9=\"\",\"\",IF(LEFT(Controls!H9, 6)=\"Motion\", Controls!BS9,Controls!H9))","v":""},{"$f":"IF(LEFT(A204, 6)=\"Motion\", Controls!E9, (IF(Controls!J9=\"\",\"\",Controls!J9)))","v":""},{"$f":"IF(LEFT(A204, 6)=\"Motion\", Controls!K9, IF(Controls!L9=\"\",\"\",Controls!L9))","v":""},{"$f":"IF(Controls!Q9=\"\",\"\",Controls!Q9)","v":""},{"$f":"IF(Controls!J9=\"\",IF(RIGHT(Controls!C9, 4)=\"Case\", Controls!S9, \"\"),Controls!V9)","v":""},"",{"$f":"IFERROR(VLOOKUP($A204,Controls!$AB$7:$AC$20,2,FALSE)*B204,\"\")","v":""},{"$f":"IF(Controls!B9=\"\",\"\",Controls!B9)","v":0}]
[{"$f":"IF(Controls!H10=\"\",\"\",IF(LEFT(Controls!H10, 6)=\"Motion\", Controls!BS10,Controls!H10))","v":""},{"$f":"IF(LEFT(A205, 6)=\"Motion\", Controls!E10, (IF(Controls!J10=\"\",\"\",Controls!J10)))","v":""},{"$f":"IF(LEFT(A205, 6)=\"Motion\", Controls!K10, IF(Controls!L10=\"\",\"\",Controls!L10))","v":""},{"$f":"IF(Controls!Q10=\"\",\"\",Controls!Q10)","v":""},{"$f":"IF(Controls!J10=\"\",IF(RIGHT(Controls!C10, 4)=\"Case\", Controls!S10, \"\"),Controls!V10)","v":""},"",{"$f":"IFERROR(VLOOKUP($A205,Controls!$AB$7:$AC$20,2,FALSE)*B205,\"\")","v":""},{"$f":"IF(Controls!B10=\"\",\"\",Controls!B10)","v":0}]
[{"$f":"IF(Controls!H11=\"\",\"\",IF(LEFT(Controls!H11, 6)=\"Motion\", Controls!BS11,Controls!H11))","v":""},{"$f":"IF(LEFT(A206, 6)=\"Motion\", Controls!E11, (IF(Controls!J11=\"\",\"\",Controls!J11)))","v":""},{"$f":"IF(LEFT(A206, 6)=\"Motion\", Controls!K11, IF(Controls!L11=\"\",\"\",Controls!L11))","v":""},{"$f":"IF(Controls!Q11=\"\",\"\",Controls!Q11)","v":""},{"$f":"IF(Controls!J11=\"\",IF(RIGHT(Controls!C11, 4)=\"Case\", Controls!S11, \"\"),Controls!V11)","v":""},"",{"$f":"IFERROR(VLOOKUP($A206,Controls!$AB$7:$AC$20,2,FALSE)*B206,\"\")","v":""},{"$f":"IF(Controls!B11=\"\",\"\",Controls!B11)","v":0}]
[{"$f":"IF(Controls!H12=\"\",\"\",IF(LEFT(Controls!H12, 6)=\"Motion\", Controls!BS12,Controls!H12))","v":""},{"$f":"IF(LEFT(A207, 6)=\"Motion\", Controls!E12, (IF(Controls!J12=\"\",\"\",Controls!J12)))","v":""},{"$f":"IF(LEFT(A207, 6)=\"Motion\", Controls!K12, IF(Controls!L12=\"\",\"\",Controls!L12))","v":""},{"$f":"IF(Controls!Q12=\"\",\"\",Controls!Q12)","v":""},{"$f":"IF(Controls!J12=\"\",IF(RIGHT(Controls!C12, 4)=\"Case\", Controls!S12, \"\"),Controls!V12)","v":""},"",{"$f":"IFERROR(VLOOKUP($A207,Controls!$AB$7:$AC$20,2,FALSE)*B207,\"\")","v":""},{"$f":"IF(Controls!B12=\"\",\"\",Controls!B12)","v":0}]
[{"$f":"IF(Controls!H13=\"\",\"\",IF(LEFT(Controls!H13, 6)=\"Motion\", Controls!BS13,Controls!H13))","v":""},{"$f":"IF(LEFT(A208, 6)=\"Motion\", Controls!E13, (IF(Controls!J13=\"\",\"\",Controls!J13)))","v":""},{"$f":"IF(LEFT(A208, 6)=\"Motion\", Controls!K13, IF(Controls!L13=\"\",\"\",Controls!L13))","v":""},{"$f":"IF(Controls!Q13=\"\",\"\",Controls!Q13)","v":""},{"$f":"IF(Controls!J13=\"\",IF(RIGHT(Controls!C13, 4)=\"Case\", Controls!S13, \"\"),Controls!V13)","v":""},"",{"$f":"IFERROR(VLOOKUP($A208,Controls!$AB$7:$AC$20,2,FALSE)*B208,\"\")","v":""},{"$f":"IF(Controls!B13=\"\",\"\",Controls!B13)","v":0}]
[{"$f":"IF(Controls!H14=\"\",\"\",IF(LEFT(Controls!H14, 6)=\"Motion\", Controls!BS14,Controls!H14))","v":""},{"$f":"IF(LEFT(A209, 6)=\"Motion\", Controls!E14, (IF(Controls!J14=\"\",\"\",Controls!J14)))","v":""},{"$f":"IF(LEFT(A209, 6)=\"Motion\", Controls!K14, IF(Controls!L14=\"\",\"\",Controls!L14))","v":""},{"$f":"IF(Controls!Q14=\"\",\"\",Controls!Q14)","v":""},{"$f":"IF(Controls!J14=\"\",IF(RIGHT(Controls!C14, 4)=\"Case\", Controls!S14, \"\"),Controls!V14)","v":""},"",{"$f":"IFERROR(VLOOKUP($A209,Controls!$AB$7:$AC$20,2,FALSE)*B209,\"\")","v":""},{"$f":"IF(Controls!B14=\"\",\"\",Controls!B14)","v":0}]
[{"$f":"IF(Controls!H15=\"\",\"\",IF(LEFT(Controls!H15, 6)=\"Motion\", Controls!BS15,Controls!H15))","v":""},{"$f":"IF(LEFT(A210, 6)=\"Motion\", Controls!E15, (IF(Controls!J15=\"\",\"\",Controls!J15)))","v":""},{"$f":"IF(LEFT(A210, 6)=\"Motion\", Controls!K15, IF(Controls!L15=\"\",\"\",Controls!L15))","v":""},{"$f":"IF(Controls!Q15=\"\",\"\",Controls!Q15)","v":""},{"$f":"IF(Controls!J15=\"\",IF(RIGHT(Controls!C15, 4)=\"Case\", Controls!S15, \"\"),Controls!V15)","v":""},"",{"$f":"IFERROR(VLOOKUP($A210,Controls!$AB$7:$AC$20,2,FALSE)*B210,\"\")","v":""},{"$f":"IF(Controls!B15=\"\",\"\",Controls!B15)","v":0}]
[{"$f":"IF(Controls!H16=\"\",\"\",IF(LEFT(Controls!H16, 6)=\"Motion\", Controls!BS16,Controls!H16))","v":""},{"$f":"IF(LEFT(A211, 6)=\"Motion\", Controls!E16, (IF(Controls!J16=\"\",\"\",Controls!J16)))","v":""},{"$f":"IF(LEFT(A211, 6)=\"Motion\", Controls!K16, IF(Controls!L16=\"\",\"\",Controls!L16))","v":""},{"$f":"IF(Controls!Q16=\"\",\"\",Controls!Q16)","v":""},{"$f":"IF(Controls!J16=\"\",IF(RIGHT(Controls!C16, 4)=\"Case\", Controls!S16, \"\"),Controls!V16)","v":""},"",{"$f":"IFERROR(VLOOKUP($A211,Controls!$AB$7:$AC$20,2,FALSE)*B211,\"\")","v":""},{"$f":"IF(Controls!B16=\"\",\"\",Controls!B16)","v":0}]
[{"$f":"IF(Controls!H17=\"\",\"\",IF(LEFT(Controls!H17, 6)=\"Motion\", Controls!BS17,Controls!H17))","v":""},{"$f":"IF(LEFT(A212, 6)=\"Motion\", Controls!E17, (IF(Controls!J17=\"\",\"\",Controls!J17)))","v":""},{"$f":"IF(LEFT(A212, 6)=\"Motion\", Controls!K17, IF(Controls!L17=\"\",\"\",Controls!L17))","v":""},{"$f":"IF(Controls!Q17=\"\",\"\",Controls!Q17)","v":""},{"$f":"IF(Controls!J17=\"\",IF(RIGHT(Controls!C17, 4)=\"Case\", Controls!S17, \"\"),Controls!V17)","v":""},{"$f":"IF(E212=\"\",\"\",F12)","v":""},{"$f":"IFERROR(VLOOKUP($A212,Controls!$AB$7:$AC$20,2,FALSE)*B212,\"\")","v":""},{"$f":"IF(Controls!B17=\"\",\"\",Controls!B17)","v":0}]
[{"$f":"IF(Controls!H18=\"\",\"\",IF(LEFT(Controls!H18, 6)=\"Motion\", Controls!BS18,Controls!H18))","v":""},{"$f":"IF(LEFT(A213, 6)=\"Motion\", Controls!E18, (IF(Controls!J18=\"\",\"\",Controls!J18)))","v":""},{"$f":"IF(LEFT(A213, 6)=\"Motion\", Controls!K18, IF(Controls!L18=\"\",\"\",Controls!L18))","v":""},{"$f":"IF(Controls!Q18=\"\",\"\",Controls!Q18)","v":""},{"$f":"IF(Controls!J18=\"\",IF(RIGHT(Controls!C18, 4)=\"Case\", Controls!S18, \"\"),Controls!V18)","v":""},"",{"$f":"IFERROR(VLOOKUP($A213,Controls!$AB$7:$AC$20,2,FALSE)*B213,\"\")","v":""},{"$f":"IF(Controls!B18=\"\",\"\",Controls!B18)","v":0}]
[{"$f":"IF(Controls!H19=\"\",\"\",IF(LEFT(Controls!H19, 6)=\"Motion\", Controls!BS19,Controls!H19))","v":""},{"$f":"IF(LEFT(A214, 6)=\"Motion\", Controls!E19, (IF(Controls!J19=\"\",\"\",Controls!J19)))","v":""},{"$f":"IF(LEFT(A214, 6)=\"Motion\", Controls!K19, IF(Controls!L19=\"\",\"\",Controls!L19))","v":""},{"$f":"IF(Controls!Q19=\"\",\"\",Controls!Q19)","v":""},{"$f":"IF(Controls!J19=\"\",IF(RIGHT(Controls!C19, 4)=\"Case\", Controls!S19, \"\"),Controls!V19)","v":""},"",{"$f":"IFERROR(VLOOKUP($A214,Controls!$AB$7:$AC$20,2,FALSE)*B214,\"\")","v":""},{"$f":"IF(Controls!B19=\"\",\"\",Controls!B19)","v":0}]
[{"$f":"IF(Controls!H20=\"\",\"\",IF(LEFT(Controls!H20, 6)=\"Motion\", Controls!BS20,Controls!H20))","v":""},{"$f":"IF(LEFT(A215, 6)=\"Motion\", Controls!E20, (IF(Controls!J20=\"\",\"\",Controls!J20)))","v":""},{"$f":"IF(LEFT(A215, 6)=\"Motion\", Controls!K20, IF(Controls!L20=\"\",\"\",Controls!L20))","v":""},{"$f":"IF(Controls!Q20=\"\",\"\",Controls!Q20)","v":""},{"$f":"IF(Controls!J20=\"\",IF(RIGHT(Controls!C20, 4)=\"Case\", Controls!S20, \"\"),Controls!V20)","v":""},"",{"$f":"IFERROR(VLOOKUP($A215,Controls!$AB$7:$AC$20,2,FALSE)*B215,\"\")","v":""},{"$f":"IF(Controls!B20=\"\",\"\",Controls!B20)","v":0}]
[{"$f":"IF(Controls!H21=\"\",\"\",IF(LEFT(Controls!H21, 6)=\"Motion\", Controls!BS21,Controls!H21))","v":""},{"$f":"IF(LEFT(A216, 6)=\"Motion\", Controls!E21, (IF(Controls!J21=\"\",\"\",Controls!J21)))","v":""},{"$f":"IF(LEFT(A216, 6)=\"Motion\", Controls!K21, IF(Controls!L21=\"\",\"\",Controls!L21))","v":""},{"$f":"IF(Controls!Q21=\"\",\"\",Controls!Q21)","v":""},{"$f":"IF(Controls!J21=\"\",IF(RIGHT(Controls!C21, 4)=\"Case\", Controls!S21, \"\"),Controls!V21)","v":""},{"$f":"IF(E216=\"\",\"\",F16)","v":""},{"$f":"IFERROR(VLOOKUP($A216,Controls!$AB$7:$AC$20,2,FALSE)*B216,\"\")","v":""},{"$f":"IF(Controls!B21=\"\",\"\",Controls!B21)","v":0}]
[{"$f":"IF(Controls!H22=\"\",\"\",IF(LEFT(Controls!H22, 6)=\"Motion\", Controls!BS22,Controls!H22))","v":""},{"$f":"IF(LEFT(A217, 6)=\"Motion\", Controls!E22, (IF(Controls!J22=\"\",\"\",Controls!J22)))","v":""},{"$f":"IF(LEFT(A217, 6)=\"Motion\", Controls!K22, IF(Controls!L22=\"\",\"\",Controls!L22))","v":""},{"$f":"IF(Controls!Q22=\"\",\"\",Controls!Q22)","v":""},{"$f":"IF(Controls!J22=\"\",IF(RIGHT(Controls!C22, 4)=\"Case\", Controls!S22, \"\"),Controls!V22)","v":""},"",{"$f":"IFERROR(VLOOKUP($A217,Controls!$AB$7:$AC$20,2,FALSE)*B217,\"\")","v":""},{"$f":"IF(Controls!B22=\"\",\"\",Controls!B22)","v":0}]
[{"$f":"IF(Controls!H23=\"\",\"\",IF(LEFT(Controls!H23, 6)=\"Motion\", Controls!BS23,Controls!H23))","v":""},{"$f":"IF(LEFT(A218, 6)=\"Motion\", Controls!E23, (IF(Controls!J23=\"\",\"\",Controls!J23)))","v":""},{"$f":"IF(LEFT(A218, 6)=\"Motion\", Controls!K23, IF(Controls!L23=\"\",\"\",Controls!L23))","v":""},{"$f":"IF(Controls!Q23=\"\",\"\",Controls!Q23)","v":""},{"$f":"IF(Controls!J23=\"\",IF(RIGHT(Controls!C23, 4)=\"Case\", Controls!S23, \"\"),Controls!V23)","v":""},"",{"$f":"IFERROR(VLOOKUP($A218,Controls!$AB$7:$AC$20,2,FALSE)*B218,\"\")","v":""},{"$f":"IF(Controls!B23=\"\",\"\",Controls!B23)","v":0}]
[{"$f":"IF(Controls!H24=\"\",\"\",IF(LEFT(Controls!H24, 6)=\"Motion\", Controls!BS24,Controls!H24))","v":""},{"$f":"IF(LEFT(A219, 6)=\"Motion\", Controls!E24, (IF(Controls!J24=\"\",\"\",Controls!J24)))","v":""},{"$f":"IF(LEFT(A219, 6)=\"Motion\", Controls!K24, IF(Controls!L24=\"\",\"\",Controls!L24))","v":""},{"$f":"IF(Controls!Q24=\"\",\"\",Controls!Q24)","v":""},{"$f":"IF(Controls!J24=\"\",IF(RIGHT(Controls!C24, 4)=\"Case\", Controls!S24, \"\"),Controls!V24)","v":""},"",{"$f":"IFERROR(VLOOKUP($A219,Controls!$AB$7:$AC$20,2,FALSE)*B219,\"\")","v":""},{"$f":"IF(Controls!B24=\"\",\"\",Controls!B24)","v":0}]
[{"$f":"IF(Controls!H25=\"\",\"\",IF(LEFT(Controls!H25, 6)=\"Motion\", Controls!BS25,Controls!H25))","v":""},{"$f":"IF(LEFT(A220, 6)=\"Motion\", Controls!E25, (IF(Controls!J25=\"\",\"\",Controls!J25)))","v":""},{"$f":"IF(LEFT(A220, 6)=\"Motion\", Controls!K25, IF(Controls!L25=\"\",\"\",Controls!L25))","v":""},{"$f":"IF(Controls!Q25=\"\",\"\",Controls!Q25)","v":""},{"$f":"IF(Controls!J25=\"\",IF(RIGHT(Controls!C25, 4)=\"Case\", Controls!S25, \"\"),Controls!V25)","v":""},"",{"$f":"IFERROR(VLOOKUP($A220,Controls!$AB$7:$AC$20,2,FALSE)*B220,\"\")","v":""},{"$f":"IF(Controls!B25=\"\",\"\",Controls!B25)","v":0}]
[{"$f":"IF(Controls!H26=\"\",\"\",IF(LEFT(Controls!H26, 6)=\"Motion\", Controls!BS26,Controls!H26))","v":""},{"$f":"IF(LEFT(A221, 6)=\"Motion\", Controls!E26, (IF(Controls!J26=\"\",\"\",Controls!J26)))","v":""},{"$f":"IF(LEFT(A221, 6)=\"Motion\", Controls!K26, IF(Controls!L26=\"\",\"\",Controls!L26))","v":""},{"$f":"IF(Controls!Q26=\"\",\"\",Controls!Q26)","v":""},{"$f":"IF(Controls!J26=\"\",IF(RIGHT(Controls!C26, 4)=\"Case\", Controls!S26, \"\"),Controls!V26)","v":""},"",{"$f":"IFERROR(VLOOKUP($A221,Controls!$AB$7:$AC$20,2,FALSE)*B221,\"\")","v":""},{"$f":"IF(Controls!B26=\"\",\"\",Controls!B26)","v":0}]
[{"$f":"IF(Controls!H27=\"\",\"\",IF(LEFT(Controls!H27, 6)=\"Motion\", Controls!BS27,Controls!H27))","v":""},{"$f":"IF(LEFT(A222, 6)=\"Motion\", Controls!E27, (IF(Controls!J27=\"\",\"\",Controls!J27)))","v":""},{"$f":"IF(LEFT(A222, 6)=\"Motion\", Controls!K27, IF(Controls!L27=\"\",\"\",Controls!L27))","v":""},{"$f":"IF(Controls!Q27=\"\",\"\",Controls!Q27)","v":""},{"$f":"IF(Controls!J27=\"\",IF(RIGHT(Controls!C27, 4)=\"Case\", Controls!S27, \"\"),Controls!V27)","v":""},"",{"$f":"IFERROR(VLOOKUP($A222,Controls!$AB$7:$AC$20,2,FALSE)*B222,\"\")","v":""},{"$f":"IF(Controls!B27=\"\",\"\",Controls!B27)","v":0}]
[{"$f":"IF(Controls!H28=\"\",\"\",IF(LEFT(Controls!H28, 6)=\"Motion\", Controls!BS28,Controls!H28))","v":""},{"$f":"IF(LEFT(A223, 6)=\"Motion\", Controls!E28, (IF(Controls!J28=\"\",\"\",Controls!J28)))","v":""},{"$f":"IF(LEFT(A223, 6)=\"Motion\", Controls!K28, IF(Controls!L28=\"\",\"\",Controls!L28))","v":""},{"$f":"IF(Controls!Q28=\"\",\"\",Controls!Q28)","v":""},{"$f":"IF(Controls!J28=\"\",IF(RIGHT(Controls!C28, 4)=\"Case\", Controls!S28, \"\"),Controls!V28)","v":""},"",{"$f":"IFERROR(VLOOKUP($A223,Controls!$AB$7:$AC$20,2,FALSE)*B223,\"\")","v":""},{"$f":"IF(Controls!B28=\"\",\"\",Controls!B28)","v":0}]
[{"$f":"IF(Controls!H29=\"\",\"\",IF(LEFT(Controls!H29, 6)=\"Motion\", Controls!BS29,Controls!H29))","v":""},{"$f":"IF(LEFT(A224, 6)=\"Motion\", Controls!E29, (IF(Controls!J29=\"\",\"\",Controls!J29)))","v":""},{"$f":"IF(LEFT(A224, 6)=\"Motion\", Controls!K29, IF(Controls!L29=\"\",\"\",Controls!L29))","v":""},{"$f":"IF(Controls!Q29=\"\",\"\",Controls!Q29)","v":""},{"$f":"IF(Controls!J29=\"\",IF(RIGHT(Controls!C29, 4)=\"Case\", Controls!S29, \"\"),Controls!V29)","v":""},{"$f":"IF(E224=\"\",\"\",F24)","v":""},{"$f":"IFERROR(VLOOKUP($A224,Controls!$AB$7:$AC$20,2,FALSE)*B224,\"\")","v":""},{"$f":"IF(Controls!B29=\"\",\"\",Controls!B29)","v":0}]
[{"$f":"IF(Controls!H30=\"\",\"\",IF(LEFT(Controls!H30, 6)=\"Motion\", Controls!BS30,Controls!H30))","v":""},{"$f":"IF(LEFT(A225, 6)=\"Motion\", Controls!E30, (IF(Controls!J30=\"\",\"\",Controls!J30)))","v":""},{"$f":"IF(LEFT(A225, 6)=\"Motion\", Controls!K30, IF(Controls!L30=\"\",\"\",Controls!L30))","v":""},{"$f":"IF(Controls!Q30=\"\",\"\",Controls!Q30)","v":""},{"$f":"IF(Controls!J30=\"\",IF(RIGHT(Controls!C30, 4)=\"Case\", Controls!S30, \"\"),Controls!V30)","v":""},"",{"$f":"IFERROR(VLOOKUP($A225,Controls!$AB$7:$AC$20,2,FALSE)*B225,\"\")","v":""},{"$f":"IF(Controls!B30=\"\",\"\",Controls!B30)","v":0}]
[{"$f":"IF(Controls!H31=\"\",\"\",IF(LEFT(Controls!H31, 6)=\"Motion\", Controls!BS31,Controls!H31))","v":""},{"$f":"IF(LEFT(A226, 6)=\"Motion\", Controls!E31, (IF(Controls!J31=\"\",\"\",Controls!J31)))","v":""},{"$f":"IF(LEFT(A226, 6)=\"Motion\", Controls!K31, IF(Controls!L31=\"\",\"\",Controls!L31))","v":""},{"$f":"IF(Controls!Q31=\"\",\"\",Controls!Q31)","v":""},{"$f":"IF(Controls!J31=\"\",IF(RIGHT(Controls!C31, 4)=\"Case\", Controls!S31, \"\"),Controls!V31)","v":""},"",{"$f":"IFERROR(VLOOKUP($A226,Controls!$AB$7:$AC$20,2,FALSE)*B226,\"\")","v":""},{"$f":"IF(Controls!B31=\"\",\"\",Controls!B31)","v":0}]
[{"$f":"IF(Controls!H32=\"\",\"\",IF(LEFT(Controls!H32, 6)=\"Motion\", Controls!BS32,Controls!H32))","v":""},{"$f":"IF(LEFT(A227, 6)=\"Motion\", Controls!E32, (IF(Controls!J32=\"\",\"\",Controls!J32)))","v":""},{"$f":"IF(LEFT(A227, 6)=\"Motion\", Controls!K32, IF(Controls!L32=\"\",\"\",Controls!L32))","v":""},{"$f":"IF(Controls!Q32=\"\",\"\",Controls!Q32)","v":""},{"$f":"IF(Controls!J32=\"\",IF(RIGHT(Controls!C32, 4)=\"Case\", Controls!S32, \"\"),Controls!V32)","v":""},"",{"$f":"IFERROR(VLOOKUP($A227,Controls!$AB$7:$AC$20,2,FALSE)*B227,\"\")","v":""},{"$f":"IF(Controls!B32=\"\",\"\",Controls!B32)","v":0}]
[{"$f":"IF(Controls!H33=\"\",\"\",IF(LEFT(Controls!H33, 6)=\"Motion\", Controls!BS33,Controls!H33))","v":""},{"$f":"IF(LEFT(A228, 6)=\"Motion\", Controls!E33, (IF(Controls!J33=\"\",\"\",Controls!J33)))","v":""},{"$f":"IF(LEFT(A228, 6)=\"Motion\", Controls!K33, IF(Controls!L33=\"\",\"\",Controls!L33))","v":""},{"$f":"IF(Controls!Q33=\"\",\"\",Controls!Q33)","v":""},{"$f":"IF(Controls!J33=\"\",IF(RIGHT(Controls!C33, 4)=\"Case\", Controls!S33, \"\"),Controls!V33)","v":""},"",{"$f":"IFERROR(VLOOKUP($A228,Controls!$AB$7:$AC$20,2,FALSE)*B228,\"\")","v":""},{"$f":"IF(Controls!B33=\"\",\"\",Controls!B33)","v":0}]
[{"$f":"IF(Controls!H34=\"\",\"\",IF(LEFT(Controls!H34, 6)=\"Motion\", Controls!BS34,Controls!H34))","v":""},{"$f":"IF(LEFT(A229, 6)=\"Motion\", Controls!E34, (IF(Controls!J34=\"\",\"\",Controls!J34)))","v":""},{"$f":"IF(LEFT(A229, 6)=\"Motion\", Controls!K34, IF(Controls!L34=\"\",\"\",Controls!L34))","v":""},{"$f":"IF(Controls!Q34=\"\",\"\",Controls!Q34)","v":""},{"$f":"IF(Controls!J34=\"\",IF(RIGHT(Controls!C34, 4)=\"Case\", Controls!S34, \"\"),Controls!V34)","v":""},"",{"$f":"IFERROR(VLOOKUP($A229,Controls!$AB$7:$AC$20,2,FALSE)*B229,\"\")","v":""},{"$f":"IF(Controls!B34=\"\",\"\",Controls!B34)","v":0}]
[{"$f":"IF(Controls!H35=\"\",\"\",IF(LEFT(Controls!H35, 6)=\"Motion\", Controls!BS35,Controls!H35))","v":""},{"$f":"IF(LEFT(A230, 6)=\"Motion\", Controls!E35, (IF(Controls!J35=\"\",\"\",Controls!J35)))","v":""},{"$f":"IF(LEFT(A230, 6)=\"Motion\", Controls!K35, IF(Controls!L35=\"\",\"\",Controls!L35))","v":""},{"$f":"IF(Controls!Q35=\"\",\"\",Controls!Q35)","v":""},{"$f":"IF(Controls!J35=\"\",IF(RIGHT(Controls!C35, 4)=\"Case\", Controls!S35, \"\"),Controls!V35)","v":""},"",{"$f":"IFERROR(VLOOKUP($A230,Controls!$AB$7:$AC$20,2,FALSE)*B230,\"\")","v":""},{"$f":"IF(Controls!B35=\"\",\"\",Controls!B35)","v":0}]
[{"$f":"IF(Controls!H36=\"\",\"\",IF(LEFT(Controls!H36, 6)=\"Motion\", Controls!BS36,Controls!H36))","v":""},{"$f":"IF(LEFT(A231, 6)=\"Motion\", Controls!E36, (IF(Controls!J36=\"\",\"\",Controls!J36)))","v":""},{"$f":"IF(LEFT(A231, 6)=\"Motion\", Controls!K36, IF(Controls!L36=\"\",\"\",Controls!L36))","v":""},{"$f":"IF(Controls!Q36=\"\",\"\",Controls!Q36)","v":""},{"$f":"IF(Controls!J36=\"\",IF(RIGHT(Controls!C36, 4)=\"Case\", Controls!S36, \"\"),Controls!V36)","v":""},"",{"$f":"IFERROR(VLOOKUP($A231,Controls!$AB$7:$AC$20,2,FALSE)*B231,\"\")","v":""},{"$f":"IF(Controls!B36=\"\",\"\",Controls!B36)","v":0}]
[{"$f":"IF(Controls!H37=\"\",\"\",IF(LEFT(Controls!H37, 6)=\"Motion\", Controls!BS37,Controls!H37))","v":""},{"$f":"IF(LEFT(A232, 6)=\"Motion\", Controls!E37, (IF(Controls!J37=\"\",\"\",Controls!J37)))","v":""},{"$f":"IF(LEFT(A232, 6)=\"Motion\", Controls!K37, IF(Controls!L37=\"\",\"\",Controls!L37))","v":""},{"$f":"IF(Controls!Q37=\"\",\"\",Controls!Q37)","v":""},{"$f":"IF(Controls!J37=\"\",IF(RIGHT(Controls!C37, 4)=\"Case\", Controls!S37, \"\"),Controls!V37)","v":""},"",{"$f":"IFERROR(VLOOKUP($A232,Controls!$AB$7:$AC$20,2,FALSE)*B232,\"\")","v":""},{"$f":"IF(Controls!B37=\"\",\"\",Controls!B37)","v":0}]
[{"$f":"IF(Controls!H38=\"\",\"\",IF(LEFT(Controls!H38, 6)=\"Motion\", Controls!BS38,Controls!H38))","v":""},{"$f":"IF(LEFT(A233, 6)=\"Motion\", Controls!E38, (IF(Controls!J38=\"\",\"\",Controls!J38)))","v":""},{"$f":"IF(LEFT(A233, 6)=\"Motion\", Controls!K38, IF(Controls!L38=\"\",\"\",Controls!L38))","v":""},{"$f":"IF(Controls!Q38=\"\",\"\",Controls!Q38)","v":""},{"$f":"IF(Controls!J38=\"\",IF(RIGHT(Controls!C38, 4)=\"Case\", Controls!S38, \"\"),Controls!V38)","v":""},"",{"$f":"IFERROR(VLOOKUP($A233,Controls!$AB$7:$AC$20,2,FALSE)*B233,\"\")","v":""},{"$f":"IF(Controls!B38=\"\",\"\",Controls!B38)","v":0}]
[{"$f":"IF(Controls!H39=\"\",\"\",IF(LEFT(Controls!H39, 6)=\"Motion\", Controls!BS39,Controls!H39))","v":""},{"$f":"IF(LEFT(A234, 6)=\"Motion\", Controls!E39, (IF(Controls!J39=\"\",\"\",Controls!J39)))","v":""},{"$f":"IF(LEFT(A234, 6)=\"Motion\", Controls!K39, IF(Controls!L39=\"\",\"\",Controls!L39))","v":""},{"$f":"IF(Controls!Q39=\"\",\"\",Controls!Q39)","v":""},{"$f":"IF(Controls!J39=\"\",IF(RIGHT(Controls!C39, 4)=\"Case\", Controls!S39, \"\"),Controls!V39)","v":""},"",{"$f":"IFERROR(VLOOKUP($A234,Controls!$AB$7:$AC$20,2,FALSE)*B234,\"\")","v":""},{"$f":"IF(Controls!B39=\"\",\"\",Controls!B39)","v":0}]
[{"$f":"IF(Controls!H40=\"\",\"\",IF(LEFT(Controls!H40, 6)=\"Motion\", Controls!BS40,Controls!H40))","v":""},{"$f":"IF(LEFT(A235, 6)=\"Motion\", Controls!E40, (IF(Controls!J40=\"\",\"\",Controls!J40)))","v":""},{"$f":"IF(LEFT(A235, 6)=\"Motion\", Controls!K40, IF(Controls!L40=\"\",\"\",Controls!L40))","v":""},{"$f":"IF(Controls!Q40=\"\",\"\",Controls!Q40)","v":""},{"$f":"IF(Controls!J40=\"\",IF(RIGHT(Controls!C40, 4)=\"Case\", Controls!S40, \"\"),Controls!V40)","v":""},"",{"$f":"IFERROR(VLOOKUP($A235,Controls!$AB$7:$AC$20,2,FALSE)*B235,\"\")","v":""},{"$f":"IF(Controls!B40=\"\",\"\",Controls!B40)","v":0}]
[{"$f":"IF(Controls!H41=\"\",\"\",IF(LEFT(Controls!H41, 6)=\"Motion\", Controls!BS41,Controls!H41))","v":""},{"$f":"IF(LEFT(A236, 6)=\"Motion\", Controls!E41, (IF(Controls!J41=\"\",\"\",Controls!J41)))","v":""},{"$f":"IF(LEFT(A236, 6)=\"Motion\", Controls!K41, IF(Controls!L41=\"\",\"\",Controls!L41))","v":""},{"$f":"IF(Controls!Q41=\"\",\"\",Controls!Q41)","v":""},{"$f":"IF(Controls!J41=\"\",IF(RIGHT(Controls!C41, 4)=\"Case\", Controls!S41, \"\"),Controls!V41)","v":""},"",{"$f":"IFERROR(VLOOKUP($A236,Controls!$AB$7:$AC$20,2,FALSE)*B236,\"\")","v":""},{"$f":"IF(Controls!B41=\"\",\"\",Controls!B41)","v":0}]
[{"$f":"IF(Controls!H42=\"\",\"\",IF(LEFT(Controls!H42, 6)=\"Motion\", Controls!BS42,Controls!H42))","v":""},{"$f":"IF(LEFT(A237, 6)=\"Motion\", Controls!E42, (IF(Controls!J42=\"\",\"\",Controls!J42)))","v":""},{"$f":"IF(LEFT(A237, 6)=\"Motion\", Controls!K42, IF(Controls!L42=\"\",\"\",Controls!L42))","v":""},{"$f":"IF(Controls!Q42=\"\",\"\",Controls!Q42)","v":""},{"$f":"IF(Controls!J42=\"\",IF(RIGHT(Controls!C42, 4)=\"Case\", Controls!S42, \"\"),Controls!V42)","v":""},"",{"$f":"IFERROR(VLOOKUP($A237,Controls!$AB$7:$AC$20,2,FALSE)*B237,\"\")","v":""},{"$f":"IF(Controls!B42=\"\",\"\",Controls!B42)","v":0}]
[{"$f":"IF(Controls!H43=\"\",\"\",IF(LEFT(Controls!H43, 6)=\"Motion\", Controls!BS43,Controls!H43))","v":""},{"$f":"IF(LEFT(A238, 6)=\"Motion\", Controls!E43, (IF(Controls!J43=\"\",\"\",Controls!J43)))","v":""},{"$f":"IF(LEFT(A238, 6)=\"Motion\", Controls!K43, IF(Controls!L43=\"\",\"\",Controls!L43))","v":""},{"$f":"IF(Controls!Q43=\"\",\"\",Controls!Q43)","v":""},{"$f":"IF(Controls!J43=\"\",IF(RIGHT(Controls!C43, 4)=\"Case\", Controls!S43, \"\"),Controls!V43)","v":""},"",{"$f":"IFERROR(VLOOKUP($A238,Controls!$AB$7:$AC$20,2,FALSE)*B238,\"\")","v":""},{"$f":"IF(Controls!B43=\"\",\"\",Controls!B43)","v":0}]
[{"$f":"IF(Controls!H44=\"\",\"\",IF(LEFT(Controls!H44, 6)=\"Motion\", Controls!BS44,Controls!H44))","v":""},{"$f":"IF(LEFT(A239, 6)=\"Motion\", Controls!E44, (IF(Controls!J44=\"\",\"\",Controls!J44)))","v":""},{"$f":"IF(LEFT(A239, 6)=\"Motion\", Controls!K44, IF(Controls!L44=\"\",\"\",Controls!L44))","v":""},{"$f":"IF(Controls!Q44=\"\",\"\",Controls!Q44)","v":""},{"$f":"IF(Controls!J44=\"\",IF(RIGHT(Controls!C44, 4)=\"Case\", Controls!S44, \"\"),Controls!V44)","v":""},"",{"$f":"IFERROR(VLOOKUP($A239,Controls!$AB$7:$AC$20,2,FALSE)*B239,\"\")","v":""},{"$f":"IF(Controls!B44=\"\",\"\",Controls!B44)","v":0}]
[{"$f":"IF(Controls!H45=\"\",\"\",IF(LEFT(Controls!H45, 6)=\"Motion\", Controls!BS45,Controls!H45))","v":""},{"$f":"IF(LEFT(A240, 6)=\"Motion\", Controls!E45, (IF(Controls!J45=\"\",\"\",Controls!J45)))","v":""},{"$f":"IF(LEFT(A240, 6)=\"Motion\", Controls!K45, IF(Controls!L45=\"\",\"\",Controls!L45))","v":""},{"$f":"IF(Controls!Q45=\"\",\"\",Controls!Q45)","v":""},{"$f":"IF(Controls!J45=\"\",IF(RIGHT(Controls!C45, 4)=\"Case\", Controls!S45, \"\"),Controls!V45)","v":""},"",{"$f":"IFERROR(VLOOKUP($A240,Controls!$AB$7:$AC$20,2,FALSE)*B240,\"\")","v":""},{"$f":"IF(Controls!B45=\"\",\"\",Controls!B45)","v":0}]
[{"$f":"IF(Controls!H46=\"\",\"\",IF(LEFT(Controls!H46, 6)=\"Motion\", Controls!BS46,Controls!H46))","v":""},{"$f":"IF(LEFT(A241, 6)=\"Motion\", Controls!E46, (IF(Controls!J46=\"\",\"\",Controls!J46)))","v":""},{"$f":"IF(LEFT(A241, 6)=\"Motion\", Controls!K46, IF(Controls!L46=\"\",\"\",Controls!L46))","v":""},{"$f":"IF(Controls!Q46=\"\",\"\",Controls!Q46)","v":""},{"$f":"IF(Controls!J46=\"\",IF(RIGHT(Controls!C46, 4)=\"Case\", Controls!S46, \"\"),Controls!V46)","v":""},"",{"$f":"IFERROR(VLOOKUP($A241,Controls!$AB$7:$AC$20,2,FALSE)*B241,\"\")","v":""},{"$f":"IF(Controls!B46=\"\",\"\",Controls!B46)","v":0}]
[{"$f":"IF(Controls!H47=\"\",\"\",IF(LEFT(Controls!H47, 6)=\"Motion\", Controls!BS47,Controls!H47))","v":""},{"$f":"IF(LEFT(A242, 6)=\"Motion\", Controls!E47, (IF(Controls!J47=\"\",\"\",Controls!J47)))","v":""},{"$f":"IF(LEFT(A242, 6)=\"Motion\", Controls!K47, IF(Controls!L47=\"\",\"\",Controls!L47))","v":""},{"$f":"IF(Controls!Q47=\"\",\"\",Controls!Q47)","v":""},{"$f":"IF(Controls!J47=\"\",IF(RIGHT(Controls!C47, 4)=\"Case\", Controls!S47, \"\"),Controls!V47)","v":""},"",{"$f":"IFERROR(VLOOKUP($A242,Controls!$AB$7:$AC$20,2,FALSE)*B242,\"\")","v":""},{"$f":"IF(Controls!B47=\"\",\"\",Controls!B47)","v":0}]
[{"$f":"IF(Controls!H48=\"\",\"\",IF(LEFT(Controls!H48, 6)=\"Motion\", Controls!BS48,Controls!H48))","v":""},{"$f":"IF(LEFT(A243, 6)=\"Motion\", Controls!E48, (IF(Controls!J48=\"\",\"\",Controls!J48)))","v":""},{"$f":"IF(LEFT(A243, 6)=\"Motion\", Controls!K48, IF(Controls!L48=\"\",\"\",Controls!L48))","v":""},{"$f":"IF(Controls!Q48=\"\",\"\",Controls!Q48)","v":""},{"$f":"IF(Controls!J48=\"\",IF(RIGHT(Controls!C48, 4)=\"Case\", Controls!S48, \"\"),Controls!V48)","v":""},"",{"$f":"IFERROR(VLOOKUP($A243,Controls!$AB$7:$AC$20,2,FALSE)*B243,\"\")","v":""},{"$f":"IF(Controls!B48=\"\",\"\",Controls!B48)","v":0}]
[{"$f":"IF(Controls!H49=\"\",\"\",IF(LEFT(Controls!H49, 6)=\"Motion\", Controls!BS49,Controls!H49))","v":""},{"$f":"IF(LEFT(A244, 6)=\"Motion\", Controls!E49, (IF(Controls!J49=\"\",\"\",Controls!J49)))","v":""},{"$f":"IF(LEFT(A244, 6)=\"Motion\", Controls!K49, IF(Controls!L49=\"\",\"\",Controls!L49))","v":""},{"$f":"IF(Controls!Q49=\"\",\"\",Controls!Q49)","v":""},{"$f":"IF(Controls!J49=\"\",IF(RIGHT(Controls!C49, 4)=\"Case\", Controls!S49, \"\"),Controls!V49)","v":""},"",{"$f":"IFERROR(VLOOKUP($A244,Controls!$AB$7:$AC$20,2,FALSE)*B244,\"\")","v":""},{"$f":"IF(Controls!B49=\"\",\"\",Controls!B49)","v":0}]
[{"$f":"IF(Controls!H50=\"\",\"\",IF(LEFT(Controls!H50, 6)=\"Motion\", Controls!BS50,Controls!H50))","v":""},{"$f":"IF(LEFT(A245, 6)=\"Motion\", Controls!E50, (IF(Controls!J50=\"\",\"\",Controls!J50)))","v":""},{"$f":"IF(LEFT(A245, 6)=\"Motion\", Controls!K50, IF(Controls!L50=\"\",\"\",Controls!L50))","v":""},{"$f":"IF(Controls!Q50=\"\",\"\",Controls!Q50)","v":""},{"$f":"IF(Controls!J50=\"\",IF(RIGHT(Controls!C50, 4)=\"Case\", Controls!S50, \"\"),Controls!V50)","v":""},"",{"$f":"IFERROR(VLOOKUP($A245,Controls!$AB$7:$AC$20,2,FALSE)*B245,\"\")","v":""},{"$f":"IF(Controls!B50=\"\",\"\",Controls!B50)","v":0}]
[{"$f":"IF(Controls!H51=\"\",\"\",IF(LEFT(Controls!H51, 6)=\"Motion\", Controls!BS51,Controls!H51))","v":""},{"$f":"IF(LEFT(A246, 6)=\"Motion\", Controls!E51, (IF(Controls!J51=\"\",\"\",Controls!J51)))","v":""},{"$f":"IF(LEFT(A246, 6)=\"Motion\", Controls!K51, IF(Controls!L51=\"\",\"\",Controls!L51))","v":""},{"$f":"IF(Controls!Q51=\"\",\"\",Controls!Q51)","v":""},{"$f":"IF(Controls!J51=\"\",IF(RIGHT(Controls!C51, 4)=\"Case\", Controls!S51, \"\"),Controls!V51)","v":""},"",{"$f":"IFERROR(VLOOKUP($A246,Controls!$AB$7:$AC$20,2,FALSE)*B246,\"\")","v":""},{"$f":"IF(Controls!B51=\"\",\"\",Controls!B51)","v":0}]
[{"$f":"IF(Controls!H52=\"\",\"\",IF(LEFT(Controls!H52, 6)=\"Motion\", Controls!BS52,Controls!H52))","v":""},{"$f":"IF(LEFT(A247, 6)=\"Motion\", Controls!E52, (IF(Controls!J52=\"\",\"\",Controls!J52)))","v":""},{"$f":"IF(LEFT(A247, 6)=\"Motion\", Controls!K52, IF(Controls!L52=\"\",\"\",Controls!L52))","v":""},{"$f":"IF(Controls!Q52=\"\",\"\",Controls!Q52)","v":""},{"$f":"IF(Controls!J52=\"\",IF(RIGHT(Controls!C52, 4)=\"Case\", Controls!S52, \"\"),Controls!V52)","v":""},"",{"$f":"IFERROR(VLOOKUP($A247,Controls!$AB$7:$AC$20,2,FALSE)*B247,\"\")","v":""},{"$f":"IF(Controls!B52=\"\",\"\",Controls!B52)","v":0}]
[{"$f":"IF(Controls!H53=\"\",\"\",IF(LEFT(Controls!H53, 6)=\"Motion\", Controls!BS53,Controls!H53))","v":""},{"$f":"IF(LEFT(A248, 6)=\"Motion\", Controls!E53, (IF(Controls!J53=\"\",\"\",Controls!J53)))","v":""},{"$f":"IF(LEFT(A248, 6)=\"Motion\", Controls!K53, IF(Controls!L53=\"\",\"\",Controls!L53))","v":""},{"$f":"IF(Controls!Q53=\"\",\"\",Controls!Q53)","v":""},{"$f":"IF(Controls!J53=\"\",IF(RIGHT(Controls!C53, 4)=\"Case\", Controls!S53, \"\"),Controls!V53)","v":""},"",{"$f":"IFERROR(VLOOKUP($A248,Controls!$AB$7:$AC$20,2,FALSE)*B248,\"\")","v":""},{"$f":"IF(Controls!B53=\"\",\"\",Controls!B53)","v":0}]
[{"$f":"IF(Controls!H54=\"\",\"\",IF(LEFT(Controls!H54, 6)=\"Motion\", Controls!BS54,Controls!H54))","v":""},{"$f":"IF(LEFT(A249, 6)=\"Motion\", Controls!E54, (IF(Controls!J54=\"\",\"\",Controls!J54)))","v":""},{"$f":"IF(LEFT(A249, 6)=\"Motion\", Controls!K54, IF(Controls!L54=\"\",\"\",Controls!L54))","v":""},{"$f":"IF(Controls!Q54=\"\",\"\",Controls!Q54)","v":""},{"$f":"IF(Controls!J54=\"\",IF(RIGHT(Controls!C54, 4)=\"Case\", Controls!S54, \"\"),Controls!V54)","v":""},"",{"$f":"IFERROR(VLOOKUP($A249,Controls!$AB$7:$AC$20,2,FALSE)*B249,\"\")","v":""},{"$f":"IF(Controls!B54=\"\",\"\",Controls!B54)","v":0}]
[{"$f":"IF(Controls!H55=\"\",\"\",IF(LEFT(Controls!H55, 6)=\"Motion\", Controls!BS55,Controls!H55))","v":""},{"$f":"IF(LEFT(A250, 6)=\"Motion\", Controls!E55, (IF(Controls!J55=\"\",\"\",Controls!J55)))","v":""},{"$f":"IF(LEFT(A250, 6)=\"Motion\", Controls!K55, IF(Controls!L55=\"\",\"\",Controls!L55))","v":""},{"$f":"IF(Controls!Q55=\"\",\"\",Controls!Q55)","v":""},{"$f":"IF(Controls!J55=\"\",IF(RIGHT(Controls!C55, 4)=\"Case\", Controls!S55, \"\"),Controls!V55)","v":""},"",{"$f":"IFERROR(VLOOKUP($A250,Controls!$AB$7:$AC$20,2,FALSE)*B250,\"\")","v":""},{"$f":"IF(Controls!B55=\"\",\"\",Controls!B55)","v":0}]
[{"$f":"IF(Controls!H56=\"\",\"\",IF(LEFT(Controls!H56, 6)=\"Motion\", Controls!BS56,Controls!H56))","v":""},{"$f":"IF(LEFT(A251, 6)=\"Motion\", Controls!E56, (IF(Controls!J56=\"\",\"\",Controls!J56)))","v":""},{"$f":"IF(LEFT(A251, 6)=\"Motion\", Controls!K56, IF(Controls!L56=\"\",\"\",Controls!L56))","v":""},{"$f":"IF(Controls!Q56=\"\",\"\",Controls!Q56)","v":""},{"$f":"IF(Controls!J56=\"\",IF(RIGHT(Controls!C56, 4)=\"Case\", Controls!S56, \"\"),Controls!V56)","v":""},"",{"$f":"IFERROR(VLOOKUP($A251,Controls!$AB$7:$AC$20,2,FALSE)*B251,\"\")","v":""},{"$f":"IF(Controls!B56=\"\",\"\",Controls!B56)","v":0}]
[{"$f":"IF(Controls!H57=\"\",\"\",IF(LEFT(Controls!H57, 6)=\"Motion\", Controls!BS57,Controls!H57))","v":""},{"$f":"IF(LEFT(A252, 6)=\"Motion\", Controls!E57, (IF(Controls!J57=\"\",\"\",Controls!J57)))","v":""},{"$f":"IF(LEFT(A252, 6)=\"Motion\", Controls!K57, IF(Controls!L57=\"\",\"\",Controls!L57))","v":""},{"$f":"IF(Controls!Q57=\"\",\"\",Controls!Q57)","v":""},{"$f":"IF(Controls!J57=\"\",IF(RIGHT(Controls!C57, 4)=\"Case\", Controls!S57, \"\"),Controls!V57)","v":""},"",{"$f":"IFERROR(VLOOKUP($A252,Controls!$AB$7:$AC$20,2,FALSE)*B252,\"\")","v":""},{"$f":"IF(Controls!B57=\"\",\"\",Controls!B57)","v":0}]
[{"$f":"IF(Controls!H58=\"\",\"\",IF(LEFT(Controls!H58, 6)=\"Motion\", Controls!BS58,Controls!H58))","v":""},{"$f":"IF(LEFT(A253, 6)=\"Motion\", Controls!E58, (IF(Controls!J58=\"\",\"\",Controls!J58)))","v":""},{"$f":"IF(LEFT(A253, 6)=\"Motion\", Controls!K58, IF(Controls!L58=\"\",\"\",Controls!L58))","v":""},{"$f":"IF(Controls!Q58=\"\",\"\",Controls!Q58)","v":""},{"$f":"IF(Controls!J58=\"\",IF(RIGHT(Controls!C58, 4)=\"Case\", Controls!S58, \"\"),Controls!V58)","v":""},"",{"$f":"IFERROR(VLOOKUP($A253,Controls!$AB$7:$AC$20,2,FALSE)*B253,\"\")","v":""},{"$f":"IF(Controls!B58=\"\",\"\",Controls!B58)","v":0}]
[{"$f":"IF(Controls!H59=\"\",\"\",IF(LEFT(Controls!H59, 6)=\"Motion\", Controls!BS59,Controls!H59))","v":""},{"$f":"IF(LEFT(A254, 6)=\"Motion\", Controls!E59, (IF(Controls!J59=\"\",\"\",Controls!J59)))","v":""},{"$f":"IF(LEFT(A254, 6)=\"Motion\", Controls!K59, IF(Controls!L59=\"\",\"\",Controls!L59))","v":""},{"$f":"IF(Controls!Q59=\"\",\"\",Controls!Q59)","v":""},{"$f":"IF(Controls!J59=\"\",IF(RIGHT(Controls!C59, 4)=\"Case\", Controls!S59, \"\"),Controls!V59)","v":""},"",{"$f":"IFERROR(VLOOKUP($A254,Controls!$AB$7:$AC$20,2,FALSE)*B254,\"\")","v":""},{"$f":"IF(Controls!B59=\"\",\"\",Controls!B59)","v":0}]
[{"$f":"IF(Controls!H60=\"\",\"\",IF(LEFT(Controls!H60, 6)=\"Motion\", Controls!BS60,Controls!H60))","v":""},{"$f":"IF(LEFT(A255, 6)=\"Motion\", Controls!E60, (IF(Controls!J60=\"\",\"\",Controls!J60)))","v":""},{"$f":"IF(LEFT(A255, 6)=\"Motion\", Controls!K60, IF(Controls!L60=\"\",\"\",Controls!L60))","v":""},{"$f":"IF(Controls!Q60=\"\",\"\",Controls!Q60)","v":""},{"$f":"IF(Controls!J60=\"\",IF(RIGHT(Controls!C60, 4)=\"Case\", Controls!S60, \"\"),Controls!V60)","v":""},"",{"$f":"IFERROR(VLOOKUP($A255,Controls!$AB$7:$AC$20,2,FALSE)*B255,\"\")","v":""},{"$f":"IF(Controls!B60=\"\",\"\",Controls!B60)","v":0}]
[{"$f":"IF(Controls!H61=\"\",\"\",IF(LEFT(Controls!H61, 6)=\"Motion\", Controls!BS61,Controls!H61))","v":""},{"$f":"IF(LEFT(A256, 6)=\"Motion\", Controls!E61, (IF(Controls!J61=\"\",\"\",Controls!J61)))","v":""},{"$f":"IF(LEFT(A256, 6)=\"Motion\", Controls!K61, IF(Controls!L61=\"\",\"\",Controls!L61))","v":""},{"$f":"IF(Controls!Q61=\"\",\"\",Controls!Q61)","v":""},{"$f":"IF(Controls!J61=\"\",IF(RIGHT(Controls!C61, 4)=\"Case\", Controls!S61, \"\"),Controls!V61)","v":""},"",{"$f":"IFERROR(VLOOKUP($A256,Controls!$AB$7:$AC$20,2,FALSE)*B256,\"\")","v":""},{"$f":"IF(Controls!B61=\"\",\"\",Controls!B61)","v":0}]
[{"$f":"IF(Controls!H62=\"\",\"\",IF(LEFT(Controls!H62, 6)=\"Motion\", Controls!BS62,Controls!H62))","v":""},{"$f":"IF(LEFT(A257, 6)=\"Motion\", Controls!E62, (IF(Controls!J62=\"\",\"\",Controls!J62)))","v":""},{"$f":"IF(LEFT(A257, 6)=\"Motion\", Controls!K62, IF(Controls!L62=\"\",\"\",Controls!L62))","v":""},{"$f":"IF(Controls!Q62=\"\",\"\",Controls!Q62)","v":""},{"$f":"IF(Controls!J62=\"\",IF(RIGHT(Controls!C62, 4)=\"Case\", Controls!S62, \"\"),Controls!V62)","v":""},"",{"$f":"IFERROR(VLOOKUP($A257,Controls!$AB$7:$AC$20,2,FALSE)*B257,\"\")","v":""},{"$f":"IF(Controls!B62=\"\",\"\",Controls!B62)","v":0}]
[{"$f":"IF(Controls!H63=\"\",\"\",IF(LEFT(Controls!H63, 6)=\"Motion\", Controls!BS63,Controls!H63))","v":""},{"$f":"IF(LEFT(A258, 6)=\"Motion\", Controls!E63, (IF(Controls!J63=\"\",\"\",Controls!J63)))","v":""},{"$f":"IF(LEFT(A258, 6)=\"Motion\", Controls!K63, IF(Controls!L63=\"\",\"\",Controls!L63))","v":""},{"$f":"IF(Controls!Q63=\"\",\"\",Controls!Q63)","v":""},{"$f":"IF(Controls!J63=\"\",IF(RIGHT(Controls!C63, 4)=\"Case\", Controls!S63, \"\"),Controls!V63)","v":""},"",{"$f":"IFERROR(VLOOKUP($A258,Controls!$AB$7:$AC$20,2,FALSE)*B258,\"\")","v":""},{"$f":"IF(Controls!B63=\"\",\"\",Controls!B63)","v":0}]
[{"$f":"IF(Controls!H64=\"\",\"\",IF(LEFT(Controls!H64, 6)=\"Motion\", Controls!BS64,Controls!H64))","v":""},{"$f":"IF(LEFT(A259, 6)=\"Motion\", Controls!E64, (IF(Controls!J64=\"\",\"\",Controls!J64)))","v":""},{"$f":"IF(LEFT(A259, 6)=\"Motion\", Controls!K64, IF(Controls!L64=\"\",\"\",Controls!L64))","v":""},{"$f":"IF(Controls!Q64=\"\",\"\",Controls!Q64)","v":""},{"$f":"IF(Controls!J64=\"\",IF(RIGHT(Controls!C64, 4)=\"Case\", Controls!S64, \"\"),Controls!V64)","v":""},"",{"$f":"IFERROR(VLOOKUP($A259,Controls!$AB$7:$AC$20,2,FALSE)*B259,\"\")","v":""},{"$f":"IF(Controls!B64=\"\",\"\",Controls!B64)","v":0}]
[{"$f":"IF(Controls!H65=\"\",\"\",IF(LEFT(Controls!H65, 6)=\"Motion\", Controls!BS65,Controls!H65))","v":""},{"$f":"IF(LEFT(A260, 6)=\"Motion\", Controls!E65, (IF(Controls!J65=\"\",\"\",Controls!J65)))","v":""},{"$f":"IF(LEFT(A260, 6)=\"Motion\", Controls!K65, IF(Controls!L65=\"\",\"\",Controls!L65))","v":""},{"$f":"IF(Controls!Q65=\"\",\"\",Controls!Q65)","v":""},{"$f":"IF(Controls!J65=\"\",IF(RIGHT(Controls!C65, 4)=\"Case\", Controls!S65, \"\"),Controls!V65)","v":""},"",{"$f":"IFERROR(VLOOKUP($A260,Controls!$AB$7:$AC$20,2,FALSE)*B260,\"\")","v":""},{"$f":"IF(Controls!B65=\"\",\"\",Controls!B65)","v":0}]
[{"$f":"IF(Controls!H66=\"\",\"\",IF(LEFT(Controls!H66, 6)=\"Motion\", Controls!BS66,Controls!H66))","v":""},{"$f":"IF(LEFT(A261, 6)=\"Motion\", Controls!E66, (IF(Controls!J66=\"\",\"\",Controls!J66)))","v":""},{"$f":"IF(LEFT(A261, 6)=\"Motion\", Controls!K66, IF(Controls!L66=\"\",\"\",Controls!L66))","v":""},{"$f":"IF(Controls!Q66=\"\",\"\",Controls!Q66)","v":""},{"$f":"IF(Controls!J66=\"\",IF(RIGHT(Controls!C66, 4)=\"Case\", Controls!S66, \"\"),Controls!V66)","v":""},"",{"$f":"IFERROR(VLOOKUP($A261,Controls!$AB$7:$AC$20,2,FALSE)*B261,\"\")","v":""},{"$f":"IF(Controls!B66=\"\",\"\",Controls!B66)","v":0}]
[{"$f":"IF(Controls!H67=\"\",\"\",IF(LEFT(Controls!H67, 6)=\"Motion\", Controls!BS67,Controls!H67))","v":""},{"$f":"IF(LEFT(A262, 6)=\"Motion\", Controls!E67, (IF(Controls!J67=\"\",\"\",Controls!J67)))","v":""},{"$f":"IF(LEFT(A262, 6)=\"Motion\", Controls!K67, IF(Controls!L67=\"\",\"\",Controls!L67))","v":""},{"$f":"IF(Controls!Q67=\"\",\"\",Controls!Q67)","v":""},{"$f":"IF(Controls!J67=\"\",IF(RIGHT(Controls!C67, 4)=\"Case\", Controls!S67, \"\"),Controls!V67)","v":""},"",{"$f":"IFERROR(VLOOKUP($A262,Controls!$AB$7:$AC$20,2,FALSE)*B262,\"\")","v":""},{"$f":"IF(Controls!B67=\"\",\"\",Controls!B67)","v":0}]
[{"$f":"IF(Controls!H68=\"\",\"\",IF(LEFT(Controls!H68, 6)=\"Motion\", Controls!BS68,Controls!H68))","v":""},{"$f":"IF(LEFT(A263, 6)=\"Motion\", Controls!E68, (IF(Controls!J68=\"\",\"\",Controls!J68)))","v":""},{"$f":"IF(LEFT(A263, 6)=\"Motion\", Controls!K68, IF(Controls!L68=\"\",\"\",Controls!L68))","v":""},{"$f":"IF(Controls!Q68=\"\",\"\",Controls!Q68)","v":""},{"$f":"IF(Controls!J68=\"\",IF(RIGHT(Controls!C68, 4)=\"Case\", Controls!S68, \"\"),Controls!V68)","v":""},"",{"$f":"IFERROR(VLOOKUP($A263,Controls!$AB$7:$AC$20,2,FALSE)*B263,\"\")","v":""},{"$f":"IF(Controls!B68=\"\",\"\",Controls!B68)","v":0}]
[{"$f":"IF(Controls!H69=\"\",\"\",IF(LEFT(Controls!H69, 6)=\"Motion\", Controls!BS69,Controls!H69))","v":""},{"$f":"IF(LEFT(A264, 6)=\"Motion\", Controls!E69, (IF(Controls!J69=\"\",\"\",Controls!J69)))","v":""},{"$f":"IF(LEFT(A264, 6)=\"Motion\", Controls!K69, IF(Controls!L69=\"\",\"\",Controls!L69))","v":""},{"$f":"IF(Controls!Q69=\"\",\"\",Controls!Q69)","v":""},{"$f":"IF(Controls!J69=\"\",IF(RIGHT(Controls!C69, 4)=\"Case\", Controls!S69, \"\"),Controls!V69)","v":""},"",{"$f":"IFERROR(VLOOKUP($A264,Controls!$AB$7:$AC$20,2,FALSE)*B264,\"\")","v":""},{"$f":"IF(Controls!B69=\"\",\"\",Controls!B69)","v":0}]
[{"$f":"IF(Controls!H70=\"\",\"\",IF(LEFT(Controls!H70, 6)=\"Motion\", Controls!BS70,Controls!H70))","v":""},{"$f":"IF(LEFT(A265, 6)=\"Motion\", Controls!E70, (IF(Controls!J70=\"\",\"\",Controls!J70)))","v":""},{"$f":"IF(LEFT(A265, 6)=\"Motion\", Controls!K70, IF(Controls!L70=\"\",\"\",Controls!L70))","v":""},{"$f":"IF(Controls!Q70=\"\",\"\",Controls!Q70)","v":""},{"$f":"IF(Controls!J70=\"\",IF(RIGHT(Controls!C70, 4)=\"Case\", Controls!S70, \"\"),Controls!V70)","v":""},"",{"$f":"IFERROR(VLOOKUP($A265,Controls!$AB$7:$AC$20,2,FALSE)*B265,\"\")","v":""},{"$f":"IF(Controls!B70=\"\",\"\",Controls!B70)","v":0}]
[{"$f":"IF(Controls!H71=\"\",\"\",IF(LEFT(Controls!H71, 6)=\"Motion\", Controls!BS71,Controls!H71))","v":""},{"$f":"IF(LEFT(A266, 6)=\"Motion\", Controls!E71, (IF(Controls!J71=\"\",\"\",Controls!J71)))","v":""},{"$f":"IF(LEFT(A266, 6)=\"Motion\", Controls!K71, IF(Controls!L71=\"\",\"\",Controls!L71))","v":""},{"$f":"IF(Controls!Q71=\"\",\"\",Controls!Q71)","v":""},{"$f":"IF(Controls!J71=\"\",IF(RIGHT(Controls!C71, 4)=\"Case\", Controls!S71, \"\"),Controls!V71)","v":""},"",{"$f":"IFERROR(VLOOKUP($A266,Controls!$AB$7:$AC$20,2,FALSE)*B266,\"\")","v":""},{"$f":"IF(Controls!B71=\"\",\"\",Controls!B71)","v":0}]
[{"$f":"IF(Controls!H72=\"\",\"\",IF(LEFT(Controls!H72, 6)=\"Motion\", Controls!BS72,Controls!H72))","v":""},{"$f":"IF(LEFT(A267, 6)=\"Motion\", Controls!E72, (IF(Controls!J72=\"\",\"\",Controls!J72)))","v":""},{"$f":"IF(LEFT(A267, 6)=\"Motion\", Controls!K72, IF(Controls!L72=\"\",\"\",Controls!L72))","v":""},{"$f":"IF(Controls!Q72=\"\",\"\",Controls!Q72)","v":""},{"$f":"IF(Controls!J72=\"\",IF(RIGHT(Controls!C72, 4)=\"Case\", Controls!S72, \"\"),Controls!V72)","v":""},"",{"$f":"IFERROR(VLOOKUP($A267,Controls!$AB$7:$AC$20,2,FALSE)*B267,\"\")","v":""},{"$f":"IF(Controls!B72=\"\",\"\",Controls!B72)","v":0}]
[{"$f":"IF(Controls!H73=\"\",\"\",IF(LEFT(Controls!H73, 6)=\"Motion\", Controls!BS73,Controls!H73))","v":""},{"$f":"IF(LEFT(A268, 6)=\"Motion\", Controls!E73, (IF(Controls!J73=\"\",\"\",Controls!J73)))","v":""},{"$f":"IF(LEFT(A268, 6)=\"Motion\", Controls!K73, IF(Controls!L73=\"\",\"\",Controls!L73))","v":""},{"$f":"IF(Controls!Q73=\"\",\"\",Controls!Q73)","v":""},{"$f":"IF(Controls!J73=\"\",IF(RIGHT(Controls!C73, 4)=\"Case\", Controls!S73, \"\"),Controls!V73)","v":""},"",{"$f":"IFERROR(VLOOKUP($A268,Controls!$AB$7:$AC$20,2,FALSE)*B268,\"\")","v":""},{"$f":"IF(Controls!B73=\"\",\"\",Controls!B73)","v":0}]
[{"$f":"IF(Controls!H74=\"\",\"\",IF(LEFT(Controls!H74, 6)=\"Motion\", Controls!BS74,Controls!H74))","v":""},{"$f":"IF(LEFT(A269, 6)=\"Motion\", Controls!E74, (IF(Controls!J74=\"\",\"\",Controls!J74)))","v":""},{"$f":"IF(LEFT(A269, 6)=\"Motion\", Controls!K74, IF(Controls!L74=\"\",\"\",Controls!L74))","v":""},{"$f":"IF(Controls!Q74=\"\",\"\",Controls!Q74)","v":""},{"$f":"IF(Controls!J74=\"\",IF(RIGHT(Controls!C74, 4)=\"Case\", Controls!S74, \"\"),Controls!V74)","v":""},"",{"$f":"IFERROR(VLOOKUP($A269,Controls!$AB$7:$AC$20,2,FALSE)*B269,\"\")","v":""},{"$f":"IF(Controls!B74=\"\",\"\",Controls!B74)","v":0}]
[{"$f":"IF(Controls!H75=\"\",\"\",IF(LEFT(Controls!H75, 6)=\"Motion\", Controls!BS75,Controls!H75))","v":""},{"$f":"IF(LEFT(A270, 6)=\"Motion\", Controls!E75, (IF(Controls!J75=\"\",\"\",Controls!J75)))","v":""},{"$f":"IF(LEFT(A270, 6)=\"Motion\", Controls!K75, IF(Controls!L75=\"\",\"\",Controls!L75))","v":""},{"$f":"IF(Controls!Q75=\"\",\"\",Controls!Q75)","v":""},{"$f":"IF(Controls!J75=\"\",IF(RIGHT(Controls!C75, 4)=\"Case\", Controls!S75, \"\"),Controls!V75)","v":""},"",{"$f":"IFERROR(VLOOKUP($A270,Controls!$AB$7:$AC$20,2,FALSE)*B270,\"\")","v":""},{"$f":"IF(Controls!B75=\"\",\"\",Controls!B75)","v":0}]
[{"$f":"IF(Controls!H76=\"\",\"\",IF(LEFT(Controls!H76, 6)=\"Motion\", Controls!BS76,Controls!H76))","v":""},{"$f":"IF(LEFT(A271, 6)=\"Motion\", Controls!E76, (IF(Controls!J76=\"\",\"\",Controls!J76)))","v":""},{"$f":"IF(LEFT(A271, 6)=\"Motion\", Controls!K76, IF(Controls!L76=\"\",\"\",Controls!L76))","v":""},{"$f":"IF(Controls!Q76=\"\",\"\",Controls!Q76)","v":""},{"$f":"IF(Controls!J76=\"\",IF(RIGHT(Controls!C76, 4)=\"Case\", Controls!S76, \"\"),Controls!V76)","v":""},"",{"$f":"IFERROR(VLOOKUP($A271,Controls!$AB$7:$AC$20,2,FALSE)*B271,\"\")","v":""},{"$f":"IF(Controls!B76=\"\",\"\",Controls!B76)","v":0}]
[{"$f":"IF(Controls!H77=\"\",\"\",IF(LEFT(Controls!H77, 6)=\"Motion\", Controls!BS77,Controls!H77))","v":""},{"$f":"IF(LEFT(A272, 6)=\"Motion\", Controls!E77, (IF(Controls!J77=\"\",\"\",Controls!J77)))","v":""},{"$f":"IF(LEFT(A272, 6)=\"Motion\", Controls!K77, IF(Controls!L77=\"\",\"\",Controls!L77))","v":""},{"$f":"IF(Controls!Q77=\"\",\"\",Controls!Q77)","v":""},{"$f":"IF(Controls!J77=\"\",IF(RIGHT(Controls!C77, 4)=\"Case\", Controls!S77, \"\"),Controls!V77)","v":""},"",{"$f":"IFERROR(VLOOKUP($A272,Controls!$AB$7:$AC$20,2,FALSE)*B272,\"\")","v":""},{"$f":"IF(Controls!B77=\"\",\"\",Controls!B77)","v":0}]
[{"$f":"IF(Controls!H78=\"\",\"\",IF(LEFT(Controls!H78, 6)=\"Motion\", Controls!BS78,Controls!H78))","v":""},{"$f":"IF(LEFT(A273, 6)=\"Motion\", Controls!E78, (IF(Controls!J78=\"\",\"\",Controls!J78)))","v":""},{"$f":"IF(LEFT(A273, 6)=\"Motion\", Controls!K78, IF(Controls!L78=\"\",\"\",Controls!L78))","v":""},{"$f":"IF(Controls!Q78=\"\",\"\",Controls!Q78)","v":""},{"$f":"IF(Controls!J78=\"\",IF(RIGHT(Controls!C78, 4)=\"Case\", Controls!S78, \"\"),Controls!V78)","v":""},"",{"$f":"IFERROR(VLOOKUP($A273,Controls!$AB$7:$AC$20,2,FALSE)*B273,\"\")","v":""},{"$f":"IF(Controls!B78=\"\",\"\",Controls!B78)","v":0}]
[{"$f":"IF(Controls!H79=\"\",\"\",IF(LEFT(Controls!H79, 6)=\"Motion\", Controls!BS79,Controls!H79))","v":""},{"$f":"IF(LEFT(A274, 6)=\"Motion\", Controls!E79, (IF(Controls!J79=\"\",\"\",Controls!J79)))","v":""},{"$f":"IF(LEFT(A274, 6)=\"Motion\", Controls!K79, IF(Controls!L79=\"\",\"\",Controls!L79))","v":""},{"$f":"IF(Controls!Q79=\"\",\"\",Controls!Q79)","v":""},{"$f":"IF(Controls!J79=\"\",IF(RIGHT(Controls!C79, 4)=\"Case\", Controls!S79, \"\"),Controls!V79)","v":""},"",{"$f":"IFERROR(VLOOKUP($A274,Controls!$AB$7:$AC$20,2,FALSE)*B274,\"\")","v":""},{"$f":"IF(Controls!B79=\"\",\"\",Controls!B79)","v":0}]
[{"$f":"IF(Controls!H80=\"\",\"\",IF(LEFT(Controls!H80, 6)=\"Motion\", Controls!BS80,Controls!H80))","v":""},{"$f":"IF(LEFT(A275, 6)=\"Motion\", Controls!E80, (IF(Controls!J80=\"\",\"\",Controls!J80)))","v":""},{"$f":"IF(LEFT(A275, 6)=\"Motion\", Controls!K80, IF(Controls!L80=\"\",\"\",Controls!L80))","v":""},{"$f":"IF(Controls!Q80=\"\",\"\",Controls!Q80)","v":""},{"$f":"IF(Controls!J80=\"\",IF(RIGHT(Controls!C80, 4)=\"Case\", Controls!S80, \"\"),Controls!V80)","v":""},"",{"$f":"IFERROR(VLOOKUP($A275,Controls!$AB$7:$AC$20,2,FALSE)*B275,\"\")","v":""},{"$f":"IF(Controls!B80=\"\",\"\",Controls!B80)","v":0}]
[{"$f":"IF(Controls!H81=\"\",\"\",IF(LEFT(Controls!H81, 6)=\"Motion\", Controls!BS81,Controls!H81))","v":""},{"$f":"IF(LEFT(A276, 6)=\"Motion\", Controls!E81, (IF(Controls!J81=\"\",\"\",Controls!J81)))","v":""},{"$f":"IF(LEFT(A276, 6)=\"Motion\", Controls!K81, IF(Controls!L81=\"\",\"\",Controls!L81))","v":""},{"$f":"IF(Controls!Q81=\"\",\"\",Controls!Q81)","v":""},{"$f":"IF(Controls!J81=\"\",IF(RIGHT(Controls!C81, 4)=\"Case\", Controls!S81, \"\"),Controls!V81)","v":""},"",{"$f":"IFERROR(VLOOKUP($A276,Controls!$AB$7:$AC$20,2,FALSE)*B276,\"\")","v":""},{"$f":"IF(Controls!B81=\"\",\"\",Controls!B81)","v":0}]
[{"$f":"IF(Controls!H82=\"\",\"\",IF(LEFT(Controls!H82, 6)=\"Motion\", Controls!BS82,Controls!H82))","v":""},{"$f":"IF(LEFT(A277, 6)=\"Motion\", Controls!E82, (IF(Controls!J82=\"\",\"\",Controls!J82)))","v":""},{"$f":"IF(LEFT(A277, 6)=\"Motion\", Controls!K82, IF(Controls!L82=\"\",\"\",Controls!L82))","v":""},{"$f":"IF(Controls!Q82=\"\",\"\",Controls!Q82)","v":""},{"$f":"IF(Controls!J82=\"\",IF(RIGHT(Controls!C82, 4)=\"Case\", Controls!S82, \"\"),Controls!V82)","v":""},"",{"$f":"IFERROR(VLOOKUP($A277,Controls!$AB$7:$AC$20,2,FALSE)*B277,\"\")","v":""},{"$f":"IF(Controls!B82=\"\",\"\",Controls!B82)","v":0}]
[{"$f":"IF(Controls!H83=\"\",\"\",IF(LEFT(Controls!H83, 6)=\"Motion\", Controls!BS83,Controls!H83))","v":""},{"$f":"IF(LEFT(A278, 6)=\"Motion\", Controls!E83, (IF(Controls!J83=\"\",\"\",Controls!J83)))","v":""},{"$f":"IF(LEFT(A278, 6)=\"Motion\", Controls!K83, IF(Controls!L83=\"\",\"\",Controls!L83))","v":""},{"$f":"IF(Controls!Q83=\"\",\"\",Controls!Q83)","v":""},{"$f":"IF(Controls!J83=\"\",IF(RIGHT(Controls!C83, 4)=\"Case\", Controls!S83, \"\"),Controls!V83)","v":""},"",{"$f":"IFERROR(VLOOKUP($A278,Controls!$AB$7:$AC$20,2,FALSE)*B278,\"\")","v":""},{"$f":"IF(Controls!B83=\"\",\"\",Controls!B83)","v":0}]
[{"$f":"IF(Controls!H84=\"\",\"\",IF(LEFT(Controls!H84, 6)=\"Motion\", Controls!BS84,Controls!H84))","v":""},{"$f":"IF(LEFT(A279, 6)=\"Motion\", Controls!E84, (IF(Controls!J84=\"\",\"\",Controls!J84)))","v":""},{"$f":"IF(LEFT(A279, 6)=\"Motion\", Controls!K84, IF(Controls!L84=\"\",\"\",Controls!L84))","v":""},{"$f":"IF(Controls!Q84=\"\",\"\",Controls!Q84)","v":""},{"$f":"IF(Controls!J84=\"\",IF(RIGHT(Controls!C84, 4)=\"Case\", Controls!S84, \"\"),Controls!V84)","v":""},"",{"$f":"IFERROR(VLOOKUP($A279,Controls!$AB$7:$AC$20,2,FALSE)*B279,\"\")","v":""},{"$f":"IF(Controls!B84=\"\",\"\",Controls!B84)","v":0}]
[{"$f":"IF(Controls!H85=\"\",\"\",IF(LEFT(Controls!H85, 6)=\"Motion\", Controls!BS85,Controls!H85))","v":""},{"$f":"IF(LEFT(A280, 6)=\"Motion\", Controls!E85, (IF(Controls!J85=\"\",\"\",Controls!J85)))","v":""},{"$f":"IF(LEFT(A280, 6)=\"Motion\", Controls!K85, IF(Controls!L85=\"\",\"\",Controls!L85))","v":""},{"$f":"IF(Controls!Q85=\"\",\"\",Controls!Q85)","v":""},{"$f":"IF(Controls!J85=\"\",IF(RIGHT(Controls!C85, 4)=\"Case\", Controls!S85, \"\"),Controls!V85)","v":""},"",{"$f":"IFERROR(VLOOKUP($A280,Controls!$AB$7:$AC$20,2,FALSE)*B280,\"\")","v":""},{"$f":"IF(Controls!B85=\"\",\"\",Controls!B85)","v":0}]
[{"$f":"IF(Controls!H86=\"\",\"\",IF(LEFT(Controls!H86, 6)=\"Motion\", Controls!BS86,Controls!H86))","v":""},{"$f":"IF(LEFT(A281, 6)=\"Motion\", Controls!E86, (IF(Controls!J86=\"\",\"\",Controls!J86)))","v":""},{"$f":"IF(LEFT(A281, 6)=\"Motion\", Controls!K86, IF(Controls!L86=\"\",\"\",Controls!L86))","v":""},{"$f":"IF(Controls!Q86=\"\",\"\",Controls!Q86)","v":""},{"$f":"IF(Controls!J86=\"\",IF(RIGHT(Controls!C86, 4)=\"Case\", Controls!S86, \"\"),Controls!V86)","v":""},"",{"$f":"IFERROR(VLOOKUP($A281,Controls!$AB$7:$AC$20,2,FALSE)*B281,\"\")","v":""},{"$f":"IF(Controls!B86=\"\",\"\",Controls!B86)","v":0}]
[{"$f":"IF(Controls!H87=\"\",\"\",IF(LEFT(Controls!H87, 6)=\"Motion\", Controls!BS87,Controls!H87))","v":""},{"$f":"IF(LEFT(A282, 6)=\"Motion\", Controls!E87, (IF(Controls!J87=\"\",\"\",Controls!J87)))","v":""},{"$f":"IF(LEFT(A282, 6)=\"Motion\", Controls!K87, IF(Controls!L87=\"\",\"\",Controls!L87))","v":""},{"$f":"IF(Controls!Q87=\"\",\"\",Controls!Q87)","v":""},{"$f":"IF(Controls!J87=\"\",IF(RIGHT(Controls!C87, 4)=\"Case\", Controls!S87, \"\"),Controls!V87)","v":""},"",{"$f":"IFERROR(VLOOKUP($A282,Controls!$AB$7:$AC$20,2,FALSE)*B282,\"\")","v":""},{"$f":"IF(Controls!B87=\"\",\"\",Controls!B87)","v":0}]
[{"$f":"IF(Controls!H88=\"\",\"\",IF(LEFT(Controls!H88, 6)=\"Motion\", Controls!BS88,Controls!H88))","v":""},{"$f":"IF(LEFT(A283, 6)=\"Motion\", Controls!E88, (IF(Controls!J88=\"\",\"\",Controls!J88)))","v":""},{"$f":"IF(LEFT(A283, 6)=\"Motion\", Controls!K88, IF(Controls!L88=\"\",\"\",Controls!L88))","v":""},{"$f":"IF(Controls!Q88=\"\",\"\",Controls!Q88)","v":""},{"$f":"IF(Controls!J88=\"\",IF(RIGHT(Controls!C88, 4)=\"Case\", Controls!S88, \"\"),Controls!V88)","v":""},"",{"$f":"IFERROR(VLOOKUP($A283,Controls!$AB$7:$AC$20,2,FALSE)*B283,\"\")","v":""},{"$f":"IF(Controls!B88=\"\",\"\",Controls!B88)","v":0}]
[{"$f":"IF(Controls!H89=\"\",\"\",IF(LEFT(Controls!H89, 6)=\"Motion\", Controls!BS89,Controls!H89))","v":""},{"$f":"IF(LEFT(A284, 6)=\"Motion\", Controls!E89, (IF(Controls!J89=\"\",\"\",Controls!J89)))","v":""},{"$f":"IF(LEFT(A284, 6)=\"Motion\", Controls!K89, IF(Controls!L89=\"\",\"\",Controls!L89))","v":""},{"$f":"IF(Controls!Q89=\"\",\"\",Controls!Q89)","v":""},{"$f":"IF(Controls!J89=\"\",IF(RIGHT(Controls!C89, 4)=\"Case\", Controls!S89, \"\"),Controls!V89)","v":""},"",{"$f":"IFERROR(VLOOKUP($A284,Controls!$AB$7:$AC$20,2,FALSE)*B284,\"\")","v":""},{"$f":"IF(Controls!B89=\"\",\"\",Controls!B89)","v":0}]
[{"$f":"IF(Controls!H90=\"\",\"\",IF(LEFT(Controls!H90, 6)=\"Motion\", Controls!BS90,Controls!H90))","v":""},{"$f":"IF(LEFT(A285, 6)=\"Motion\", Controls!E90, (IF(Controls!J90=\"\",\"\",Controls!J90)))","v":""},{"$f":"IF(LEFT(A285, 6)=\"Motion\", Controls!K90, IF(Controls!L90=\"\",\"\",Controls!L90))","v":""},{"$f":"IF(Controls!Q90=\"\",\"\",Controls!Q90)","v":""},{"$f":"IF(Controls!J90=\"\",IF(RIGHT(Controls!C90, 4)=\"Case\", Controls!S90, \"\"),Controls!V90)","v":""},"",{"$f":"IFERROR(VLOOKUP($A285,Controls!$AB$7:$AC$20,2,FALSE)*B285,\"\")","v":""},{"$f":"IF(Controls!B90=\"\",\"\",Controls!B90)","v":0}]
[{"$f":"IF(Controls!H91=\"\",\"\",IF(LEFT(Controls!H91, 6)=\"Motion\", Controls!BS91,Controls!H91))","v":""},{"$f":"IF(LEFT(A286, 6)=\"Motion\", Controls!E91, (IF(Controls!J91=\"\",\"\",Controls!J91)))","v":""},{"$f":"IF(LEFT(A286, 6)=\"Motion\", Controls!K91, IF(Controls!L91=\"\",\"\",Controls!L91))","v":""},{"$f":"IF(Controls!Q91=\"\",\"\",Controls!Q91)","v":""},{"$f":"IF(Controls!J91=\"\",IF(RIGHT(Controls!C91, 4)=\"Case\", Controls!S91, \"\"),Controls!V91)","v":""},"",{"$f":"IFERROR(VLOOKUP($A286,Controls!$AB$7:$AC$20,2,FALSE)*B286,\"\")","v":""},{"$f":"IF(Controls!B91=\"\",\"\",Controls!B91)","v":0}]
[{"$f":"IF(Controls!H92=\"\",\"\",IF(LEFT(Controls!H92, 6)=\"Motion\", Controls!BS92,Controls!H92))","v":""},{"$f":"IF(LEFT(A287, 6)=\"Motion\", Controls!E92, (IF(Controls!J92=\"\",\"\",Controls!J92)))","v":""},{"$f":"IF(LEFT(A287, 6)=\"Motion\", Controls!K92, IF(Controls!L92=\"\",\"\",Controls!L92))","v":""},{"$f":"IF(Controls!Q92=\"\",\"\",Controls!Q92)","v":""},{"$f":"IF(Controls!J92=\"\",IF(RIGHT(Controls!C92, 4)=\"Case\", Controls!S92, \"\"),Controls!V92)","v":""},"",{"$f":"IFERROR(VLOOKUP($A287,Controls!$AB$7:$AC$20,2,FALSE)*B287,\"\")","v":""},{"$f":"IF(Controls!B92=\"\",\"\",Controls!B92)","v":0}]
[{"$f":"IF(Controls!H93=\"\",\"\",IF(LEFT(Controls!H93, 6)=\"Motion\", Controls!BS93,Controls!H93))","v":""},{"$f":"IF(LEFT(A288, 6)=\"Motion\", Controls!E93, (IF(Controls!J93=\"\",\"\",Controls!J93)))","v":""},{"$f":"IF(LEFT(A288, 6)=\"Motion\", Controls!K93, IF(Controls!L93=\"\",\"\",Controls!L93))","v":""},{"$f":"IF(Controls!Q93=\"\",\"\",Controls!Q93)","v":""},{"$f":"IF(Controls!J93=\"\",IF(RIGHT(Controls!C93, 4)=\"Case\", Controls!S93, \"\"),Controls!V93)","v":""},{"$f":"IF(E288=\"\",\"\",F88)","v":""},{"$f":"IFERROR(VLOOKUP($A288,Controls!$AB$7:$AC$20,2,FALSE)*B288,\"\")","v":""},{"$f":"IF(Controls!B93=\"\",\"\",Controls!B93)","v":0}]
[{"$f":"IF(Controls!H94=\"\",\"\",IF(LEFT(Controls!H94, 6)=\"Motion\", Controls!BS94,Controls!H94))","v":""},{"$f":"IF(LEFT(A289, 6)=\"Motion\", Controls!E94, (IF(Controls!J94=\"\",\"\",Controls!J94)))","v":""},{"$f":"IF(LEFT(A289, 6)=\"Motion\", Controls!K94, IF(Controls!L94=\"\",\"\",Controls!L94))","v":""},{"$f":"IF(Controls!Q94=\"\",\"\",Controls!Q94)","v":""},{"$f":"IF(Controls!J94=\"\",IF(RIGHT(Controls!C94, 4)=\"Case\", Controls!S94, \"\"),Controls!V94)","v":""},"",{"$f":"IFERROR(VLOOKUP($A289,Controls!$AB$7:$AC$20,2,FALSE)*B289,\"\")","v":""},{"$f":"IF(Controls!B94=\"\",\"\",Controls!B94)","v":0}]
[{"$f":"IF(Controls!H95=\"\",\"\",IF(LEFT(Controls!H95, 6)=\"Motion\", Controls!BS95,Controls!H95))","v":""},{"$f":"IF(LEFT(A290, 6)=\"Motion\", Controls!E95, (IF(Controls!J95=\"\",\"\",Controls!J95)))","v":""},{"$f":"IF(LEFT(A290, 6)=\"Motion\", Controls!K95, IF(Controls!L95=\"\",\"\",Controls!L95))","v":""},{"$f":"IF(Controls!Q95=\"\",\"\",Controls!Q95)","v":""},{"$f":"IF(Controls!J95=\"\",IF(RIGHT(Controls!C95, 4)=\"Case\", Controls!S95, \"\"),Controls!V95)","v":""},"",{"$f":"IFERROR(VLOOKUP($A290,Controls!$AB$7:$AC$20,2,FALSE)*B290,\"\")","v":""},{"$f":"IF(Controls!B95=\"\",\"\",Controls!B95)","v":0}]
[{"$f":"IF(Controls!H96=\"\",\"\",IF(LEFT(Controls!H96, 6)=\"Motion\", Controls!BS96,Controls!H96))","v":""},{"$f":"IF(LEFT(A291, 6)=\"Motion\", Controls!E96, (IF(Controls!J96=\"\",\"\",Controls!J96)))","v":""},{"$f":"IF(LEFT(A291, 6)=\"Motion\", Controls!K96, IF(Controls!L96=\"\",\"\",Controls!L96))","v":""},{"$f":"IF(Controls!Q96=\"\",\"\",Controls!Q96)","v":""},{"$f":"IF(Controls!J96=\"\",IF(RIGHT(Controls!C96, 4)=\"Case\", Controls!S96, \"\"),Controls!V96)","v":""},"",{"$f":"IFERROR(VLOOKUP($A291,Controls!$AB$7:$AC$20,2,FALSE)*B291,\"\")","v":""},{"$f":"IF(Controls!B96=\"\",\"\",Controls!B96)","v":0}]
[{"$f":"IF(Controls!H97=\"\",\"\",IF(LEFT(Controls!H97, 6)=\"Motion\", Controls!BS97,Controls!H97))","v":""},{"$f":"IF(LEFT(A292, 6)=\"Motion\", Controls!E97, (IF(Controls!J97=\"\",\"\",Controls!J97)))","v":""},{"$f":"IF(LEFT(A292, 6)=\"Motion\", Controls!K97, IF(Controls!L97=\"\",\"\",Controls!L97))","v":""},{"$f":"IF(Controls!Q97=\"\",\"\",Controls!Q97)","v":""},{"$f":"IF(Controls!J97=\"\",IF(RIGHT(Controls!C97, 4)=\"Case\", Controls!S97, \"\"),Controls!V97)","v":""},"",{"$f":"IFERROR(VLOOKUP($A292,Controls!$AB$7:$AC$20,2,FALSE)*B292,\"\")","v":""},{"$f":"IF(Controls!B97=\"\",\"\",Controls!B97)","v":0}]
[{"$f":"IF(Controls!H98=\"\",\"\",IF(LEFT(Controls!H98, 6)=\"Motion\", Controls!BS98,Controls!H98))","v":""},{"$f":"IF(LEFT(A293, 6)=\"Motion\", Controls!E98, (IF(Controls!J98=\"\",\"\",Controls!J98)))","v":""},{"$f":"IF(LEFT(A293, 6)=\"Motion\", Controls!K98, IF(Controls!L98=\"\",\"\",Controls!L98))","v":""},{"$f":"IF(Controls!Q98=\"\",\"\",Controls!Q98)","v":""},{"$f":"IF(Controls!J98=\"\",IF(RIGHT(Controls!C98, 4)=\"Case\", Controls!S98, \"\"),Controls!V98)","v":""},"",{"$f":"IFERROR(VLOOKUP($A293,Controls!$AB$7:$AC$20,2,FALSE)*B293,\"\")","v":""},{"$f":"IF(Controls!B98=\"\",\"\",Controls!B98)","v":0}]
[{"$f":"IF(Controls!H99=\"\",\"\",IF(LEFT(Controls!H99, 6)=\"Motion\", Controls!BS99,Controls!H99))","v":""},{"$f":"IF(LEFT(A294, 6)=\"Motion\", Controls!E99, (IF(Controls!J99=\"\",\"\",Controls!J99)))","v":""},{"$f":"IF(LEFT(A294, 6)=\"Motion\", Controls!K99, IF(Controls!L99=\"\",\"\",Controls!L99))","v":""},{"$f":"IF(Controls!Q99=\"\",\"\",Controls!Q99)","v":""},{"$f":"IF(Controls!J99=\"\",IF(RIGHT(Controls!C99, 4)=\"Case\", Controls!S99, \"\"),Controls!V99)","v":""},"",{"$f":"IFERROR(VLOOKUP($A294,Controls!$AB$7:$AC$20,2,FALSE)*B294,\"\")","v":""},{"$f":"IF(Controls!B99=\"\",\"\",Controls!B99)","v":0}]
[{"$f":"IF(Controls!H100=\"\",\"\",IF(LEFT(Controls!H100, 6)=\"Motion\", Controls!BS100,Controls!H100))","v":""},{"$f":"IF(LEFT(A295, 6)=\"Motion\", Controls!E100, (IF(Controls!J100=\"\",\"\",Controls!J100)))","v":""},{"$f":"IF(LEFT(A295, 6)=\"Motion\", Controls!K100, IF(Controls!L100=\"\",\"\",Controls!L100))","v":""},{"$f":"IF(Controls!Q100=\"\",\"\",Controls!Q100)","v":""},{"$f":"IF(Controls!J100=\"\",IF(RIGHT(Controls!C100, 4)=\"Case\", Controls!S100, \"\"),Controls!V100)","v":""},"",{"$f":"IFERROR(VLOOKUP($A295,Controls!$AB$7:$AC$20,2,FALSE)*B295,\"\")","v":""},{"$f":"IF(Controls!B100=\"\",\"\",Controls!B100)","v":0}]
[{"$f":"IF(Controls!H101=\"\",\"\",IF(LEFT(Controls!H101, 6)=\"Motion\", Controls!BS101,Controls!H101))","v":""},{"$f":"IF(LEFT(A296, 6)=\"Motion\", Controls!E101, (IF(Controls!J101=\"\",\"\",Controls!J101)))","v":""},{"$f":"IF(LEFT(A296, 6)=\"Motion\", Controls!K101, IF(Controls!L101=\"\",\"\",Controls!L101))","v":""},{"$f":"IF(Controls!Q101=\"\",\"\",Controls!Q101)","v":""},{"$f":"IF(Controls!J101=\"\",IF(RIGHT(Controls!C101, 4)=\"Case\", Controls!S101, \"\"),Controls!V101)","v":""},"",{"$f":"IFERROR(VLOOKUP($A296,Controls!$AB$7:$AC$20,2,FALSE)*B296,\"\")","v":""},{"$f":"IF(Controls!B101=\"\",\"\",Controls!B101)","v":0}]
[{"$f":"IF(Controls!H102=\"\",\"\",IF(LEFT(Controls!H102, 6)=\"Motion\", Controls!BS102,Controls!H102))","v":""},{"$f":"IF(LEFT(A297, 6)=\"Motion\", Controls!E102, (IF(Controls!J102=\"\",\"\",Controls!J102)))","v":""},{"$f":"IF(LEFT(A297, 6)=\"Motion\", Controls!K102, IF(Controls!L102=\"\",\"\",Controls!L102))","v":""},{"$f":"IF(Controls!Q102=\"\",\"\",Controls!Q102)","v":""},{"$f":"IF(Controls!J102=\"\",IF(RIGHT(Controls!C102, 4)=\"Case\", Controls!S102, \"\"),Controls!V102)","v":""},"",{"$f":"IFERROR(VLOOKUP($A297,Controls!$AB$7:$AC$20,2,FALSE)*B297,\"\")","v":""},{"$f":"IF(Controls!B102=\"\",\"\",Controls!B102)","v":0}]
[{"$f":"IF(Controls!H103=\"\",\"\",IF(LEFT(Controls!H103, 6)=\"Motion\", Controls!BS103,Controls!H103))","v":""},{"$f":"IF(LEFT(A298, 6)=\"Motion\", Controls!E103, (IF(Controls!J103=\"\",\"\",Controls!J103)))","v":""},{"$f":"IF(LEFT(A298, 6)=\"Motion\", Controls!K103, IF(Controls!L103=\"\",\"\",Controls!L103))","v":""},{"$f":"IF(Controls!Q103=\"\",\"\",Controls!Q103)","v":""},{"$f":"IF(Controls!J103=\"\",IF(RIGHT(Controls!C103, 4)=\"Case\", Controls!S103, \"\"),Controls!V103)","v":""},"",{"$f":"IFERROR(VLOOKUP($A298,Controls!$AB$7:$AC$20,2,FALSE)*B298,\"\")","v":""},{"$f":"IF(Controls!B103=\"\",\"\",Controls!B103)","v":0}]
[{"$f":"IF(Controls!H104=\"\",\"\",IF(LEFT(Controls!H104, 6)=\"Motion\", Controls!BS104,Controls!H104))","v":""},{"$f":"IF(LEFT(A299, 6)=\"Motion\", Controls!E104, (IF(Controls!J104=\"\",\"\",Controls!J104)))","v":""},{"$f":"IF(LEFT(A299, 6)=\"Motion\", Controls!K104, IF(Controls!L104=\"\",\"\",Controls!L104))","v":""},{"$f":"IF(Controls!Q104=\"\",\"\",Controls!Q104)","v":""},{"$f":"IF(Controls!J104=\"\",IF(RIGHT(Controls!C104, 4)=\"Case\", Controls!S104, \"\"),Controls!V104)","v":""},"",{"$f":"IFERROR(VLOOKUP($A299,Controls!$AB$7:$AC$20,2,FALSE)*B299,\"\")","v":""},{"$f":"IF(Controls!B104=\"\",\"\",Controls!B104)","v":0}]
[{"$f":"IF(Controls!H105=\"\",\"\",IF(LEFT(Controls!H105, 6)=\"Motion\", Controls!BS105,Controls!H105))","v":""},{"$f":"IF(LEFT(A300, 6)=\"Motion\", Controls!E105, (IF(Controls!J105=\"\",\"\",Controls!J105)))","v":""},{"$f":"IF(LEFT(A300, 6)=\"Motion\", Controls!K105, IF(Controls!L105=\"\",\"\",Controls!L105))","v":""},{"$f":"IF(Controls!Q105=\"\",\"\",Controls!Q105)","v":""},{"$f":"IF(Controls!J105=\"\",IF(RIGHT(Controls!C105, 4)=\"Case\", Controls!S105, \"\"),Controls!V105)","v":""},"",{"$f":"IFERROR(VLOOKUP($A300,Controls!$AB$7:$AC$20,2,FALSE)*B300,\"\")","v":""},{"$f":"IF(Controls!B105=\"\",\"\",Controls!B105)","v":0}]
[{"$f":"IF(Controls!H106=\"\",\"\",IF(LEFT(Controls!H106, 6)=\"Motion\", Controls!BS106,Controls!H106))","v":""},{"$f":"IF(LEFT(A301, 6)=\"Motion\", Controls!E106, (IF(Controls!J106=\"\",\"\",Controls!J106)))","v":""},{"$f":"IF(LEFT(A301, 6)=\"Motion\", Controls!K106, IF(Controls!L106=\"\",\"\",Controls!L106))","v":""},{"$f":"IF(Controls!Q106=\"\",\"\",Controls!Q106)","v":""},{"$f":"IF(Controls!J106=\"\",IF(RIGHT(Controls!C106, 4)=\"Case\", Controls!S106, \"\"),Controls!V106)","v":""},"",{"$f":"IFERROR(VLOOKUP($A301,Controls!$AB$7:$AC$20,2,FALSE)*B301,\"\")","v":""},{"$f":"IF(Controls!B106=\"\",\"\",Controls!B106)","v":0}]
[{"$f":"IF(Controls!H107=\"\",\"\",IF(LEFT(Controls!H107, 6)=\"Motion\", Controls!BS107,Controls!H107))","v":""},{"$f":"IF(LEFT(A302, 6)=\"Motion\", Controls!E107, (IF(Controls!J107=\"\",\"\",Controls!J107)))","v":""},{"$f":"IF(LEFT(A302, 6)=\"Motion\", Controls!K107, IF(Controls!L107=\"\",\"\",Controls!L107))","v":""},{"$f":"IF(Controls!Q107=\"\",\"\",Controls!Q107)","v":""},{"$f":"IF(Controls!J107=\"\",IF(RIGHT(Controls!C107, 4)=\"Case\", Controls!S107, \"\"),Controls!V107)","v":""},"",{"$f":"IFERROR(VLOOKUP($A302,Controls!$AB$7:$AC$20,2,FALSE)*B302,\"\")","v":""},{"$f":"IF(Controls!B107=\"\",\"\",Controls!B107)","v":0}]
[{"$f":"IF(Controls!H108=\"\",\"\",IF(LEFT(Controls!H108, 6)=\"Motion\", Controls!BS108,Controls!H108))","v":""},{"$f":"IF(LEFT(A303, 6)=\"Motion\", Controls!E108, (IF(Controls!J108=\"\",\"\",Controls!J108)))","v":""},{"$f":"IF(LEFT(A303, 6)=\"Motion\", Controls!K108, IF(Controls!L108=\"\",\"\",Controls!L108))","v":""},{"$f":"IF(Controls!Q108=\"\",\"\",Controls!Q108)","v":""},{"$f":"IF(Controls!J108=\"\",IF(RIGHT(Controls!C108, 4)=\"Case\", Controls!S108, \"\"),Controls!V108)","v":""},"",{"$f":"IFERROR(VLOOKUP($A303,Controls!$AB$7:$AC$20,2,FALSE)*B303,\"\")","v":""},{"$f":"IF(Controls!B108=\"\",\"\",Controls!B108)","v":0}]
[{"$f":"IF(Controls!H109=\"\",\"\",IF(LEFT(Controls!H109, 6)=\"Motion\", Controls!BS109,Controls!H109))","v":""},{"$f":"IF(LEFT(A304, 6)=\"Motion\", Controls!E109, (IF(Controls!J109=\"\",\"\",Controls!J109)))","v":""},{"$f":"IF(LEFT(A304, 6)=\"Motion\", Controls!K109, IF(Controls!L109=\"\",\"\",Controls!L109))","v":""},{"$f":"IF(Controls!Q109=\"\",\"\",Controls!Q109)","v":""},{"$f":"IF(Controls!J109=\"\",IF(RIGHT(Controls!C109, 4)=\"Case\", Controls!S109, \"\"),Controls!V109)","v":""},"",{"$f":"IFERROR(VLOOKUP($A304,Controls!$AB$7:$AC$20,2,FALSE)*B304,\"\")","v":""},{"$f":"IF(Controls!B109=\"\",\"\",Controls!B109)","v":0}]
[{"$f":"IF(Controls!H110=\"\",\"\",IF(LEFT(Controls!H110, 6)=\"Motion\", Controls!BS110,Controls!H110))","v":""},{"$f":"IF(LEFT(A305, 6)=\"Motion\", Controls!E110, (IF(Controls!J110=\"\",\"\",Controls!J110)))","v":""},{"$f":"IF(LEFT(A305, 6)=\"Motion\", Controls!K110, IF(Controls!L110=\"\",\"\",Controls!L110))","v":""},{"$f":"IF(Controls!Q110=\"\",\"\",Controls!Q110)","v":""},{"$f":"IF(Controls!J110=\"\",IF(RIGHT(Controls!C110, 4)=\"Case\", Controls!S110, \"\"),Controls!V110)","v":""},"",{"$f":"IFERROR(VLOOKUP($A305,Controls!$AB$7:$AC$20,2,FALSE)*B305,\"\")","v":""},{"$f":"IF(Controls!B110=\"\",\"\",Controls!B110)","v":0}]
[{"$f":"IF(Controls!H111=\"\",\"\",IF(LEFT(Controls!H111, 6)=\"Motion\", Controls!BS111,Controls!H111))","v":""},{"$f":"IF(LEFT(A306, 6)=\"Motion\", Controls!E111, (IF(Controls!J111=\"\",\"\",Controls!J111)))","v":""},{"$f":"IF(LEFT(A306, 6)=\"Motion\", Controls!K111, IF(Controls!L111=\"\",\"\",Controls!L111))","v":""},{"$f":"IF(Controls!Q111=\"\",\"\",Controls!Q111)","v":""},{"$f":"IF(Controls!J111=\"\",IF(RIGHT(Controls!C111, 4)=\"Case\", Controls!S111, \"\"),Controls!V111)","v":""},"",{"$f":"IFERROR(VLOOKUP($A306,Controls!$AB$7:$AC$20,2,FALSE)*B306,\"\")","v":""},{"$f":"IF(Controls!B111=\"\",\"\",Controls!B111)","v":0}]
[{"$f":"IF(Controls!H112=\"\",\"\",IF(LEFT(Controls!H112, 6)=\"Motion\", Controls!BS112,Controls!H112))","v":""},{"$f":"IF(LEFT(A307, 6)=\"Motion\", Controls!E112, (IF(Controls!J112=\"\",\"\",Controls!J112)))","v":""},{"$f":"IF(LEFT(A307, 6)=\"Motion\", Controls!K112, IF(Controls!L112=\"\",\"\",Controls!L112))","v":""},{"$f":"IF(Controls!Q112=\"\",\"\",Controls!Q112)","v":""},{"$f":"IF(Controls!J112=\"\",IF(RIGHT(Controls!C112, 4)=\"Case\", Controls!S112, \"\"),Controls!V112)","v":""},"",{"$f":"IFERROR(VLOOKUP($A307,Controls!$AB$7:$AC$20,2,FALSE)*B307,\"\")","v":""},{"$f":"IF(Controls!B112=\"\",\"\",Controls!B112)","v":0}]
[{"$f":"IF(Controls!H113=\"\",\"\",IF(LEFT(Controls!H113, 6)=\"Motion\", Controls!BS113,Controls!H113))","v":""},{"$f":"IF(LEFT(A308, 6)=\"Motion\", Controls!E113, (IF(Controls!J113=\"\",\"\",Controls!J113)))","v":""},{"$f":"IF(LEFT(A308, 6)=\"Motion\", Controls!K113, IF(Controls!L113=\"\",\"\",Controls!L113))","v":""},{"$f":"IF(Controls!Q113=\"\",\"\",Controls!Q113)","v":""},{"$f":"IF(Controls!J113=\"\",IF(RIGHT(Controls!C113, 4)=\"Case\", Controls!S113, \"\"),Controls!V113)","v":""},"",{"$f":"IFERROR(VLOOKUP($A308,Controls!$AB$7:$AC$20,2,FALSE)*B308,\"\")","v":""},{"$f":"IF(Controls!B113=\"\",\"\",Controls!B113)","v":0}]
[{"$f":"IF(Controls!H114=\"\",\"\",IF(LEFT(Controls!H114, 6)=\"Motion\", Controls!BS114,Controls!H114))","v":""},{"$f":"IF(LEFT(A309, 6)=\"Motion\", Controls!E114, (IF(Controls!J114=\"\",\"\",Controls!J114)))","v":""},{"$f":"IF(LEFT(A309, 6)=\"Motion\", Controls!K114, IF(Controls!L114=\"\",\"\",Controls!L114))","v":""},{"$f":"IF(Controls!Q114=\"\",\"\",Controls!Q114)","v":""},{"$f":"IF(Controls!J114=\"\",IF(RIGHT(Controls!C114, 4)=\"Case\", Controls!S114, \"\"),Controls!V114)","v":""},"",{"$f":"IFERROR(VLOOKUP($A309,Controls!$AB$7:$AC$20,2,FALSE)*B309,\"\")","v":""},{"$f":"IF(Controls!B114=\"\",\"\",Controls!B114)","v":0}]
[{"$f":"IF(Controls!H115=\"\",\"\",IF(LEFT(Controls!H115, 6)=\"Motion\", Controls!BS115,Controls!H115))","v":""},{"$f":"IF(LEFT(A310, 6)=\"Motion\", Controls!E115, (IF(Controls!J115=\"\",\"\",Controls!J115)))","v":""},{"$f":"IF(LEFT(A310, 6)=\"Motion\", Controls!K115, IF(Controls!L115=\"\",\"\",Controls!L115))","v":""},{"$f":"IF(Controls!Q115=\"\",\"\",Controls!Q115)","v":""},{"$f":"IF(Controls!J115=\"\",IF(RIGHT(Controls!C115, 4)=\"Case\", Controls!S115, \"\"),Controls!V115)","v":""},"",{"$f":"IFERROR(VLOOKUP($A310,Controls!$AB$7:$AC$20,2,FALSE)*B310,\"\")","v":""},{"$f":"IF(Controls!B115=\"\",\"\",Controls!B115)","v":0}]
[{"$f":"IF(Controls!H116=\"\",\"\",IF(LEFT(Controls!H116, 6)=\"Motion\", Controls!BS116,Controls!H116))","v":""},{"$f":"IF(LEFT(A311, 6)=\"Motion\", Controls!E116, (IF(Controls!J116=\"\",\"\",Controls!J116)))","v":""},{"$f":"IF(LEFT(A311, 6)=\"Motion\", Controls!K116, IF(Controls!L116=\"\",\"\",Controls!L116))","v":""},{"$f":"IF(Controls!Q116=\"\",\"\",Controls!Q116)","v":""},{"$f":"IF(Controls!J116=\"\",IF(RIGHT(Controls!C116, 4)=\"Case\", Controls!S116, \"\"),Controls!V116)","v":""},"",{"$f":"IFERROR(VLOOKUP($A311,Controls!$AB$7:$AC$20,2,FALSE)*B311,\"\")","v":""},{"$f":"IF(Controls!B116=\"\",\"\",Controls!B116)","v":0}]
[{"$f":"IF(Controls!H117=\"\",\"\",IF(LEFT(Controls!H117, 6)=\"Motion\", Controls!BS117,Controls!H117))","v":""},{"$f":"IF(LEFT(A312, 6)=\"Motion\", Controls!E117, (IF(Controls!J117=\"\",\"\",Controls!J117)))","v":""},{"$f":"IF(LEFT(A312, 6)=\"Motion\", Controls!K117, IF(Controls!L117=\"\",\"\",Controls!L117))","v":""},{"$f":"IF(Controls!Q117=\"\",\"\",Controls!Q117)","v":""},{"$f":"IF(Controls!J117=\"\",IF(RIGHT(Controls!C117, 4)=\"Case\", Controls!S117, \"\"),Controls!V117)","v":""},"",{"$f":"IFERROR(VLOOKUP($A312,Controls!$AB$7:$AC$20,2,FALSE)*B312,\"\")","v":""},{"$f":"IF(Controls!B117=\"\",\"\",Controls!B117)","v":0}]
[{"$f":"IF(Controls!H118=\"\",\"\",IF(LEFT(Controls!H118, 6)=\"Motion\", Controls!BS118,Controls!H118))","v":""},{"$f":"IF(LEFT(A313, 6)=\"Motion\", Controls!E118, (IF(Controls!J118=\"\",\"\",Controls!J118)))","v":""},{"$f":"IF(LEFT(A313, 6)=\"Motion\", Controls!K118, IF(Controls!L118=\"\",\"\",Controls!L118))","v":""},{"$f":"IF(Controls!Q118=\"\",\"\",Controls!Q118)","v":""},{"$f":"IF(Controls!J118=\"\",IF(RIGHT(Controls!C118, 4)=\"Case\", Controls!S118, \"\"),Controls!V118)","v":""},"",{"$f":"IFERROR(VLOOKUP($A313,Controls!$AB$7:$AC$20,2,FALSE)*B313,\"\")","v":""},{"$f":"IF(Controls!B118=\"\",\"\",Controls!B118)","v":0}]
[{"$f":"IF(Controls!H119=\"\",\"\",IF(LEFT(Controls!H119, 6)=\"Motion\", Controls!BS119,Controls!H119))","v":""},{"$f":"IF(LEFT(A314, 6)=\"Motion\", Controls!E119, (IF(Controls!J119=\"\",\"\",Controls!J119)))","v":""},{"$f":"IF(LEFT(A314, 6)=\"Motion\", Controls!K119, IF(Controls!L119=\"\",\"\",Controls!L119))","v":""},{"$f":"IF(Controls!Q119=\"\",\"\",Controls!Q119)","v":""},{"$f":"IF(Controls!J119=\"\",IF(RIGHT(Controls!C119, 4)=\"Case\", Controls!S119, \"\"),Controls!V119)","v":""},"",{"$f":"IFERROR(VLOOKUP($A314,Controls!$AB$7:$AC$20,2,FALSE)*B314,\"\")","v":""},{"$f":"IF(Controls!B119=\"\",\"\",Controls!B119)","v":0}]
[{"$f":"IF(Controls!H120=\"\",\"\",IF(LEFT(Controls!H120, 6)=\"Motion\", Controls!BS120,Controls!H120))","v":""},{"$f":"IF(LEFT(A315, 6)=\"Motion\", Controls!E120, (IF(Controls!J120=\"\",\"\",Controls!J120)))","v":""},{"$f":"IF(LEFT(A315, 6)=\"Motion\", Controls!K120, IF(Controls!L120=\"\",\"\",Controls!L120))","v":""},{"$f":"IF(Controls!Q120=\"\",\"\",Controls!Q120)","v":""},{"$f":"IF(Controls!J120=\"\",IF(RIGHT(Controls!C120, 4)=\"Case\", Controls!S120, \"\"),Controls!V120)","v":""},"",{"$f":"IFERROR(VLOOKUP($A315,Controls!$AB$7:$AC$20,2,FALSE)*B315,\"\")","v":""},{"$f":"IF(Controls!B120=\"\",\"\",Controls!B120)","v":0}]
[{"$f":"IF(Controls!H121=\"\",\"\",IF(LEFT(Controls!H121, 6)=\"Motion\", Controls!BS121,Controls!H121))","v":""},{"$f":"IF(LEFT(A316, 6)=\"Motion\", Controls!E121, (IF(Controls!J121=\"\",\"\",Controls!J121)))","v":""},{"$f":"IF(LEFT(A316, 6)=\"Motion\", Controls!K121, IF(Controls!L121=\"\",\"\",Controls!L121))","v":""},{"$f":"IF(Controls!Q121=\"\",\"\",Controls!Q121)","v":""},{"$f":"IF(Controls!J121=\"\",IF(RIGHT(Controls!C121, 4)=\"Case\", Controls!S121, \"\"),Controls!V121)","v":""},"",{"$f":"IFERROR(VLOOKUP($A316,Controls!$AB$7:$AC$20,2,FALSE)*B316,\"\")","v":""},{"$f":"IF(Controls!B121=\"\",\"\",Controls!B121)","v":0}]
[{"$f":"IF(Controls!H122=\"\",\"\",IF(LEFT(Controls!H122, 6)=\"Motion\", Controls!BS122,Controls!H122))","v":""},{"$f":"IF(LEFT(A317, 6)=\"Motion\", Controls!E122, (IF(Controls!J122=\"\",\"\",Controls!J122)))","v":""},{"$f":"IF(LEFT(A317, 6)=\"Motion\", Controls!K122, IF(Controls!L122=\"\",\"\",Controls!L122))","v":""},{"$f":"IF(Controls!Q122=\"\",\"\",Controls!Q122)","v":""},{"$f":"IF(Controls!J122=\"\",IF(RIGHT(Controls!C122, 4)=\"Case\", Controls!S122, \"\"),Controls!V122)","v":""},"",{"$f":"IFERROR(VLOOKUP($A317,Controls!$AB$7:$AC$20,2,FALSE)*B317,\"\")","v":""},{"$f":"IF(Controls!B122=\"\",\"\",Controls!B122)","v":0}]
[{"$f":"IF(Controls!H123=\"\",\"\",IF(LEFT(Controls!H123, 6)=\"Motion\", Controls!BS123,Controls!H123))","v":""},{"$f":"IF(LEFT(A318, 6)=\"Motion\", Controls!E123, (IF(Controls!J123=\"\",\"\",Controls!J123)))","v":""},{"$f":"IF(LEFT(A318, 6)=\"Motion\", Controls!K123, IF(Controls!L123=\"\",\"\",Controls!L123))","v":""},{"$f":"IF(Controls!Q123=\"\",\"\",Controls!Q123)","v":""},{"$f":"IF(Controls!J123=\"\",IF(RIGHT(Controls!C123, 4)=\"Case\", Controls!S123, \"\"),Controls!V123)","v":""},"",{"$f":"IFERROR(VLOOKUP($A318,Controls!$AB$7:$AC$20,2,FALSE)*B318,\"\")","v":""},{"$f":"IF(Controls!B123=\"\",\"\",Controls!B123)","v":0}]
[{"$f":"IF(Controls!H124=\"\",\"\",IF(LEFT(Controls!H124, 6)=\"Motion\", Controls!BS124,Controls!H124))","v":""},{"$f":"IF(LEFT(A319, 6)=\"Motion\", Controls!E124, (IF(Controls!J124=\"\",\"\",Controls!J124)))","v":""},{"$f":"IF(LEFT(A319, 6)=\"Motion\", Controls!K124, IF(Controls!L124=\"\",\"\",Controls!L124))","v":""},{"$f":"IF(Controls!Q124=\"\",\"\",Controls!Q124)","v":""},{"$f":"IF(Controls!J124=\"\",IF(RIGHT(Controls!C124, 4)=\"Case\", Controls!S124, \"\"),Controls!V124)","v":""},"",{"$f":"IFERROR(VLOOKUP($A319,Controls!$AB$7:$AC$20,2,FALSE)*B319,\"\")","v":""},{"$f":"IF(Controls!B124=\"\",\"\",Controls!B124)","v":0}]
[{"$f":"IF(Controls!H125=\"\",\"\",IF(LEFT(Controls!H125, 6)=\"Motion\", Controls!BS125,Controls!H125))","v":""},{"$f":"IF(LEFT(A320, 6)=\"Motion\", Controls!E125, (IF(Controls!J125=\"\",\"\",Controls!J125)))","v":""},{"$f":"IF(LEFT(A320, 6)=\"Motion\", Controls!K125, IF(Controls!L125=\"\",\"\",Controls!L125))","v":""},{"$f":"IF(Controls!Q125=\"\",\"\",Controls!Q125)","v":""},{"$f":"IF(Controls!J125=\"\",IF(RIGHT(Controls!C125, 4)=\"Case\", Controls!S125, \"\"),Controls!V125)","v":""},"",{"$f":"IFERROR(VLOOKUP($A320,Controls!$AB$7:$AC$20,2,FALSE)*B320,\"\")","v":""},{"$f":"IF(Controls!B125=\"\",\"\",Controls!B125)","v":0}]
[{"$f":"IF(Controls!H126=\"\",\"\",IF(LEFT(Controls!H126, 6)=\"Motion\", Controls!BS126,Controls!H126))","v":""},{"$f":"IF(LEFT(A321, 6)=\"Motion\", Controls!E126, (IF(Controls!J126=\"\",\"\",Controls!J126)))","v":""},{"$f":"IF(LEFT(A321, 6)=\"Motion\", Controls!K126, IF(Controls!L126=\"\",\"\",Controls!L126))","v":""},{"$f":"IF(Controls!Q126=\"\",\"\",Controls!Q126)","v":""},{"$f":"IF(Controls!J126=\"\",IF(RIGHT(Controls!C126, 4)=\"Case\", Controls!S126, \"\"),Controls!V126)","v":""},"",{"$f":"IFERROR(VLOOKUP($A321,Controls!$AB$7:$AC$20,2,FALSE)*B321,\"\")","v":""},{"$f":"IF(Controls!B126=\"\",\"\",Controls!B126)","v":0}]
[{"$f":"IF(Controls!H127=\"\",\"\",IF(LEFT(Controls!H127, 6)=\"Motion\", Controls!BS127,Controls!H127))","v":""},{"$f":"IF(LEFT(A322, 6)=\"Motion\", Controls!E127, (IF(Controls!J127=\"\",\"\",Controls!J127)))","v":""},{"$f":"IF(LEFT(A322, 6)=\"Motion\", Controls!K127, IF(Controls!L127=\"\",\"\",Controls!L127))","v":""},{"$f":"IF(Controls!Q127=\"\",\"\",Controls!Q127)","v":""},{"$f":"IF(Controls!J127=\"\",IF(RIGHT(Controls!C127, 4)=\"Case\", Controls!S127, \"\"),Controls!V127)","v":""},"",{"$f":"IFERROR(VLOOKUP($A322,Controls!$AB$7:$AC$20,2,FALSE)*B322,\"\")","v":""},{"$f":"IF(Controls!B127=\"\",\"\",Controls!B127)","v":0}]
[{"$f":"IF(Controls!H128=\"\",\"\",IF(LEFT(Controls!H128, 6)=\"Motion\", Controls!BS128,Controls!H128))","v":""},{"$f":"IF(LEFT(A323, 6)=\"Motion\", Controls!E128, (IF(Controls!J128=\"\",\"\",Controls!J128)))","v":""},{"$f":"IF(LEFT(A323, 6)=\"Motion\", Controls!K128, IF(Controls!L128=\"\",\"\",Controls!L128))","v":""},{"$f":"IF(Controls!Q128=\"\",\"\",Controls!Q128)","v":""},{"$f":"IF(Controls!J128=\"\",IF(RIGHT(Controls!C128, 4)=\"Case\", Controls!S128, \"\"),Controls!V128)","v":""},"",{"$f":"IFERROR(VLOOKUP($A323,Controls!$AB$7:$AC$20,2,FALSE)*B323,\"\")","v":""},{"$f":"IF(Controls!B128=\"\",\"\",Controls!B128)","v":0}]
[{"$f":"IF(Controls!H129=\"\",\"\",IF(LEFT(Controls!H129, 6)=\"Motion\", Controls!BS129,Controls!H129))","v":""},{"$f":"IF(LEFT(A324, 6)=\"Motion\", Controls!E129, (IF(Controls!J129=\"\",\"\",Controls!J129)))","v":""},{"$f":"IF(LEFT(A324, 6)=\"Motion\", Controls!K129, IF(Controls!L129=\"\",\"\",Controls!L129))","v":""},{"$f":"IF(Controls!Q129=\"\",\"\",Controls!Q129)","v":""},{"$f":"IF(Controls!J129=\"\",IF(RIGHT(Controls!C129, 4)=\"Case\", Controls!S129, \"\"),Controls!V129)","v":""},"",{"$f":"IFERROR(VLOOKUP($A324,Controls!$AB$7:$AC$20,2,FALSE)*B324,\"\")","v":""},{"$f":"IF(Controls!B129=\"\",\"\",Controls!B129)","v":0}]
[{"$f":"IF(Controls!H130=\"\",\"\",IF(LEFT(Controls!H130, 6)=\"Motion\", Controls!BS130,Controls!H130))","v":""},{"$f":"IF(LEFT(A325, 6)=\"Motion\", Controls!E130, (IF(Controls!J130=\"\",\"\",Controls!J130)))","v":""},{"$f":"IF(LEFT(A325, 6)=\"Motion\", Controls!K130, IF(Controls!L130=\"\",\"\",Controls!L130))","v":""},{"$f":"IF(Controls!Q130=\"\",\"\",Controls!Q130)","v":""},{"$f":"IF(Controls!J130=\"\",IF(RIGHT(Controls!C130, 4)=\"Case\", Controls!S130, \"\"),Controls!V130)","v":""},"",{"$f":"IFERROR(VLOOKUP($A325,Controls!$AB$7:$AC$20,2,FALSE)*B325,\"\")","v":""},{"$f":"IF(Controls!B130=\"\",\"\",Controls!B130)","v":0}]
[{"$f":"IF(Controls!H131=\"\",\"\",IF(LEFT(Controls!H131, 6)=\"Motion\", Controls!BS131,Controls!H131))","v":""},{"$f":"IF(LEFT(A326, 6)=\"Motion\", Controls!E131, (IF(Controls!J131=\"\",\"\",Controls!J131)))","v":""},{"$f":"IF(LEFT(A326, 6)=\"Motion\", Controls!K131, IF(Controls!L131=\"\",\"\",Controls!L131))","v":""},{"$f":"IF(Controls!Q131=\"\",\"\",Controls!Q131)","v":""},{"$f":"IF(Controls!J131=\"\",IF(RIGHT(Controls!C131, 4)=\"Case\", Controls!S131, \"\"),Controls!V131)","v":""},"",{"$f":"IFERROR(VLOOKUP($A326,Controls!$AB$7:$AC$20,2,FALSE)*B326,\"\")","v":""},{"$f":"IF(Controls!B131=\"\",\"\",Controls!B131)","v":0}]
[{"$f":"IF(Controls!H132=\"\",\"\",IF(LEFT(Controls!H132, 6)=\"Motion\", Controls!BS132,Controls!H132))","v":""},{"$f":"IF(LEFT(A327, 6)=\"Motion\", Controls!E132, (IF(Controls!J132=\"\",\"\",Controls!J132)))","v":""},{"$f":"IF(LEFT(A327, 6)=\"Motion\", Controls!K132, IF(Controls!L132=\"\",\"\",Controls!L132))","v":""},{"$f":"IF(Controls!Q132=\"\",\"\",Controls!Q132)","v":""},{"$f":"IF(Controls!J132=\"\",IF(RIGHT(Controls!C132, 4)=\"Case\", Controls!S132, \"\"),Controls!V132)","v":""},"",{"$f":"IFERROR(VLOOKUP($A327,Controls!$AB$7:$AC$20,2,FALSE)*B327,\"\")","v":""},{"$f":"IF(Controls!B132=\"\",\"\",Controls!B132)","v":0}]
[{"$f":"IF(Controls!H133=\"\",\"\",IF(LEFT(Controls!H133, 6)=\"Motion\", Controls!BS133,Controls!H133))","v":""},{"$f":"IF(LEFT(A328, 6)=\"Motion\", Controls!E133, (IF(Controls!J133=\"\",\"\",Controls!J133)))","v":""},{"$f":"IF(LEFT(A328, 6)=\"Motion\", Controls!K133, IF(Controls!L133=\"\",\"\",Controls!L133))","v":""},{"$f":"IF(Controls!Q133=\"\",\"\",Controls!Q133)","v":""},{"$f":"IF(Controls!J133=\"\",IF(RIGHT(Controls!C133, 4)=\"Case\", Controls!S133, \"\"),Controls!V133)","v":""},"",{"$f":"IFERROR(VLOOKUP($A328,Controls!$AB$7:$AC$20,2,FALSE)*B328,\"\")","v":""},{"$f":"IF(Controls!B133=\"\",\"\",Controls!B133)","v":0}]
[{"$f":"IF(Controls!H134=\"\",\"\",IF(LEFT(Controls!H134, 6)=\"Motion\", Controls!BS134,Controls!H134))","v":""},{"$f":"IF(LEFT(A329, 6)=\"Motion\", Controls!E134, (IF(Controls!J134=\"\",\"\",Controls!J134)))","v":""},{"$f":"IF(LEFT(A329, 6)=\"Motion\", Controls!K134, IF(Controls!L134=\"\",\"\",Controls!L134))","v":""},{"$f":"IF(Controls!Q134=\"\",\"\",Controls!Q134)","v":""},{"$f":"IF(Controls!J134=\"\",IF(RIGHT(Controls!C134, 4)=\"Case\", Controls!S134, \"\"),Controls!V134)","v":""},"",{"$f":"IFERROR(VLOOKUP($A329,Controls!$AB$7:$AC$20,2,FALSE)*B329,\"\")","v":""},{"$f":"IF(Controls!B134=\"\",\"\",Controls!B134)","v":0}]
[{"$f":"IF(Controls!H135=\"\",\"\",IF(LEFT(Controls!H135, 6)=\"Motion\", Controls!BS135,Controls!H135))","v":""},{"$f":"IF(LEFT(A330, 6)=\"Motion\", Controls!E135, (IF(Controls!J135=\"\",\"\",Controls!J135)))","v":""},{"$f":"IF(LEFT(A330, 6)=\"Motion\", Controls!K135, IF(Controls!L135=\"\",\"\",Controls!L135))","v":""},{"$f":"IF(Controls!Q135=\"\",\"\",Controls!Q135)","v":""},{"$f":"IF(Controls!J135=\"\",IF(RIGHT(Controls!C135, 4)=\"Case\", Controls!S135, \"\"),Controls!V135)","v":""},"",{"$f":"IFERROR(VLOOKUP($A330,Controls!$AB$7:$AC$20,2,FALSE)*B330,\"\")","v":""},{"$f":"IF(Controls!B135=\"\",\"\",Controls!B135)","v":0}]
[{"$f":"IF(Controls!H136=\"\",\"\",IF(LEFT(Controls!H136, 6)=\"Motion\", Controls!BS136,Controls!H136))","v":""},{"$f":"IF(LEFT(A331, 6)=\"Motion\", Controls!E136, (IF(Controls!J136=\"\",\"\",Controls!J136)))","v":""},{"$f":"IF(LEFT(A331, 6)=\"Motion\", Controls!K136, IF(Controls!L136=\"\",\"\",Controls!L136))","v":""},{"$f":"IF(Controls!Q136=\"\",\"\",Controls!Q136)","v":""},{"$f":"IF(Controls!J136=\"\",IF(RIGHT(Controls!C136, 4)=\"Case\", Controls!S136, \"\"),Controls!V136)","v":""},"",{"$f":"IFERROR(VLOOKUP($A331,Controls!$AB$7:$AC$20,2,FALSE)*B331,\"\")","v":""},{"$f":"IF(Controls!B136=\"\",\"\",Controls!B136)","v":0}]
[{"$f":"IF(Controls!H137=\"\",\"\",IF(LEFT(Controls!H137, 6)=\"Motion\", Controls!BS137,Controls!H137))","v":""},{"$f":"IF(LEFT(A332, 6)=\"Motion\", Controls!E137, (IF(Controls!J137=\"\",\"\",Controls!J137)))","v":""},{"$f":"IF(LEFT(A332, 6)=\"Motion\", Controls!K137, IF(Controls!L137=\"\",\"\",Controls!L137))","v":""},{"$f":"IF(Controls!Q137=\"\",\"\",Controls!Q137)","v":""},{"$f":"IF(Controls!J137=\"\",IF(RIGHT(Controls!C137, 4)=\"Case\", Controls!S137, \"\"),Controls!V137)","v":""},"",{"$f":"IFERROR(VLOOKUP($A332,Controls!$AB$7:$AC$20,2,FALSE)*B332,\"\")","v":""},{"$f":"IF(Controls!B137=\"\",\"\",Controls!B137)","v":0}]
[{"$f":"IF(Controls!H138=\"\",\"\",IF(LEFT(Controls!H138, 6)=\"Motion\", Controls!BS138,Controls!H138))","v":""},{"$f":"IF(LEFT(A333, 6)=\"Motion\", Controls!E138, (IF(Controls!J138=\"\",\"\",Controls!J138)))","v":""},{"$f":"IF(LEFT(A333, 6)=\"Motion\", Controls!K138, IF(Controls!L138=\"\",\"\",Controls!L138))","v":""},{"$f":"IF(Controls!Q138=\"\",\"\",Controls!Q138)","v":""},{"$f":"IF(Controls!J138=\"\",IF(RIGHT(Controls!C138, 4)=\"Case\", Controls!S138, \"\"),Controls!V138)","v":""},"",{"$f":"IFERROR(VLOOKUP($A333,Controls!$AB$7:$AC$20,2,FALSE)*B333,\"\")","v":""},{"$f":"IF(Controls!B138=\"\",\"\",Controls!B138)","v":0}]
[{"$f":"IF(Controls!H139=\"\",\"\",IF(LEFT(Controls!H139, 6)=\"Motion\", Controls!BS139,Controls!H139))","v":""},{"$f":"IF(LEFT(A334, 6)=\"Motion\", Controls!E139, (IF(Controls!J139=\"\",\"\",Controls!J139)))","v":""},{"$f":"IF(LEFT(A334, 6)=\"Motion\", Controls!K139, IF(Controls!L139=\"\",\"\",Controls!L139))","v":""},{"$f":"IF(Controls!Q139=\"\",\"\",Controls!Q139)","v":""},{"$f":"IF(Controls!J139=\"\",IF(RIGHT(Controls!C139, 4)=\"Case\", Controls!S139, \"\"),Controls!V139)","v":""},"",{"$f":"IFERROR(VLOOKUP($A334,Controls!$AB$7:$AC$20,2,FALSE)*B334,\"\")","v":""},{"$f":"IF(Controls!B139=\"\",\"\",Controls!B139)","v":0}]
[{"$f":"IF(Controls!H140=\"\",\"\",IF(LEFT(Controls!H140, 6)=\"Motion\", Controls!BS140,Controls!H140))","v":""},{"$f":"IF(LEFT(A335, 6)=\"Motion\", Controls!E140, (IF(Controls!J140=\"\",\"\",Controls!J140)))","v":""},{"$f":"IF(LEFT(A335, 6)=\"Motion\", Controls!K140, IF(Controls!L140=\"\",\"\",Controls!L140))","v":""},{"$f":"IF(Controls!Q140=\"\",\"\",Controls!Q140)","v":""},{"$f":"IF(Controls!J140=\"\",IF(RIGHT(Controls!C140, 4)=\"Case\", Controls!S140, \"\"),Controls!V140)","v":""},"",{"$f":"IFERROR(VLOOKUP($A335,Controls!$AB$7:$AC$20,2,FALSE)*B335,\"\")","v":""},{"$f":"IF(Controls!B140=\"\",\"\",Controls!B140)","v":0}]
[{"$f":"IF(Controls!H141=\"\",\"\",IF(LEFT(Controls!H141, 6)=\"Motion\", Controls!BS141,Controls!H141))","v":""},{"$f":"IF(LEFT(A336, 6)=\"Motion\", Controls!E141, (IF(Controls!J141=\"\",\"\",Controls!J141)))","v":""},{"$f":"IF(LEFT(A336, 6)=\"Motion\", Controls!K141, IF(Controls!L141=\"\",\"\",Controls!L141))","v":""},{"$f":"IF(Controls!Q141=\"\",\"\",Controls!Q141)","v":""},{"$f":"IF(Controls!J141=\"\",IF(RIGHT(Controls!C141, 4)=\"Case\", Controls!S141, \"\"),Controls!V141)","v":""},"",{"$f":"IFERROR(VLOOKUP($A336,Controls!$AB$7:$AC$20,2,FALSE)*B336,\"\")","v":""},{"$f":"IF(Controls!B141=\"\",\"\",Controls!B141)","v":0}]
[{"$f":"IF(Controls!H142=\"\",\"\",IF(LEFT(Controls!H142, 6)=\"Motion\", Controls!BS142,Controls!H142))","v":""},{"$f":"IF(LEFT(A337, 6)=\"Motion\", Controls!E142, (IF(Controls!J142=\"\",\"\",Controls!J142)))","v":""},{"$f":"IF(LEFT(A337, 6)=\"Motion\", Controls!K142, IF(Controls!L142=\"\",\"\",Controls!L142))","v":""},{"$f":"IF(Controls!Q142=\"\",\"\",Controls!Q142)","v":""},{"$f":"IF(Controls!J142=\"\",IF(RIGHT(Controls!C142, 4)=\"Case\", Controls!S142, \"\"),Controls!V142)","v":""},"",{"$f":"IFERROR(VLOOKUP($A337,Controls!$AB$7:$AC$20,2,FALSE)*B337,\"\")","v":""},{"$f":"IF(Controls!B142=\"\",\"\",Controls!B142)","v":0}]
[{"$f":"IF(Controls!H143=\"\",\"\",IF(LEFT(Controls!H143, 6)=\"Motion\", Controls!BS143,Controls!H143))","v":""},{"$f":"IF(LEFT(A338, 6)=\"Motion\", Controls!E143, (IF(Controls!J143=\"\",\"\",Controls!J143)))","v":""},{"$f":"IF(LEFT(A338, 6)=\"Motion\", Controls!K143, IF(Controls!L143=\"\",\"\",Controls!L143))","v":""},{"$f":"IF(Controls!Q143=\"\",\"\",Controls!Q143)","v":""},{"$f":"IF(Controls!J143=\"\",IF(RIGHT(Controls!C143, 4)=\"Case\", Controls!S143, \"\"),Controls!V143)","v":""},"",{"$f":"IFERROR(VLOOKUP($A338,Controls!$AB$7:$AC$20,2,FALSE)*B338,\"\")","v":""},{"$f":"IF(Controls!B143=\"\",\"\",Controls!B143)","v":0}]
[{"$f":"IF(Controls!H144=\"\",\"\",IF(LEFT(Controls!H144, 6)=\"Motion\", Controls!BS144,Controls!H144))","v":""},{"$f":"IF(LEFT(A339, 6)=\"Motion\", Controls!E144, (IF(Controls!J144=\"\",\"\",Controls!J144)))","v":""},{"$f":"IF(LEFT(A339, 6)=\"Motion\", Controls!K144, IF(Controls!L144=\"\",\"\",Controls!L144))","v":""},{"$f":"IF(Controls!Q144=\"\",\"\",Controls!Q144)","v":""},{"$f":"IF(Controls!J144=\"\",IF(RIGHT(Controls!C144, 4)=\"Case\", Controls!S144, \"\"),Controls!V144)","v":""},"",{"$f":"IFERROR(VLOOKUP($A339,Controls!$AB$7:$AC$20,2,FALSE)*B339,\"\")","v":""},{"$f":"IF(Controls!B144=\"\",\"\",Controls!B144)","v":0}]
[{"$f":"IF(Controls!H145=\"\",\"\",IF(LEFT(Controls!H145, 6)=\"Motion\", Controls!BS145,Controls!H145))","v":""},{"$f":"IF(LEFT(A340, 6)=\"Motion\", Controls!E145, (IF(Controls!J145=\"\",\"\",Controls!J145)))","v":""},{"$f":"IF(LEFT(A340, 6)=\"Motion\", Controls!K145, IF(Controls!L145=\"\",\"\",Controls!L145))","v":""},{"$f":"IF(Controls!Q145=\"\",\"\",Controls!Q145)","v":""},{"$f":"IF(Controls!J145=\"\",IF(RIGHT(Controls!C145, 4)=\"Case\", Controls!S145, \"\"),Controls!V145)","v":""},"",{"$f":"IFERROR(VLOOKUP($A340,Controls!$AB$7:$AC$20,2,FALSE)*B340,\"\")","v":""},{"$f":"IF(Controls!B145=\"\",\"\",Controls!B145)","v":0}]
[{"$f":"IF(Controls!H146=\"\",\"\",IF(LEFT(Controls!H146, 6)=\"Motion\", Controls!BS146,Controls!H146))","v":""},{"$f":"IF(LEFT(A341, 6)=\"Motion\", Controls!E146, (IF(Controls!J146=\"\",\"\",Controls!J146)))","v":""},{"$f":"IF(LEFT(A341, 6)=\"Motion\", Controls!K146, IF(Controls!L146=\"\",\"\",Controls!L146))","v":""},{"$f":"IF(Controls!Q146=\"\",\"\",Controls!Q146)","v":""},{"$f":"IF(Controls!J146=\"\",IF(RIGHT(Controls!C146, 4)=\"Case\", Controls!S146, \"\"),Controls!V146)","v":""},"",{"$f":"IFERROR(VLOOKUP($A341,Controls!$AB$7:$AC$20,2,FALSE)*B341,\"\")","v":""},{"$f":"IF(Controls!B146=\"\",\"\",Controls!B146)","v":0}]
[{"$f":"IF(Controls!H147=\"\",\"\",IF(LEFT(Controls!H147, 6)=\"Motion\", Controls!BS147,Controls!H147))","v":""},{"$f":"IF(LEFT(A342, 6)=\"Motion\", Controls!E147, (IF(Controls!J147=\"\",\"\",Controls!J147)))","v":""},{"$f":"IF(LEFT(A342, 6)=\"Motion\", Controls!K147, IF(Controls!L147=\"\",\"\",Controls!L147))","v":""},{"$f":"IF(Controls!Q147=\"\",\"\",Controls!Q147)","v":""},{"$f":"IF(Controls!J147=\"\",IF(RIGHT(Controls!C147, 4)=\"Case\", Controls!S147, \"\"),Controls!V147)","v":""},"",{"$f":"IFERROR(VLOOKUP($A342,Controls!$AB$7:$AC$20,2,FALSE)*B342,\"\")","v":""},{"$f":"IF(Controls!B147=\"\",\"\",Controls!B147)","v":0}]
[{"$f":"IF(Controls!H148=\"\",\"\",IF(LEFT(Controls!H148, 6)=\"Motion\", Controls!BS148,Controls!H148))","v":""},{"$f":"IF(LEFT(A343, 6)=\"Motion\", Controls!E148, (IF(Controls!J148=\"\",\"\",Controls!J148)))","v":""},{"$f":"IF(LEFT(A343, 6)=\"Motion\", Controls!K148, IF(Controls!L148=\"\",\"\",Controls!L148))","v":""},{"$f":"IF(Controls!Q148=\"\",\"\",Controls!Q148)","v":""},{"$f":"IF(Controls!J148=\"\",IF(RIGHT(Controls!C148, 4)=\"Case\", Controls!S148, \"\"),Controls!V148)","v":""},"",{"$f":"IFERROR(VLOOKUP($A343,Controls!$AB$7:$AC$20,2,FALSE)*B343,\"\")","v":""},{"$f":"IF(Controls!B148=\"\",\"\",Controls!B148)","v":0}]
[{"$f":"IF(Controls!H149=\"\",\"\",IF(LEFT(Controls!H149, 6)=\"Motion\", Controls!BS149,Controls!H149))","v":""},{"$f":"IF(LEFT(A344, 6)=\"Motion\", Controls!E149, (IF(Controls!J149=\"\",\"\",Controls!J149)))","v":""},{"$f":"IF(LEFT(A344, 6)=\"Motion\", Controls!K149, IF(Controls!L149=\"\",\"\",Controls!L149))","v":""},{"$f":"IF(Controls!Q149=\"\",\"\",Controls!Q149)","v":""},{"$f":"IF(Controls!J149=\"\",IF(RIGHT(Controls!C149, 4)=\"Case\", Controls!S149, \"\"),Controls!V149)","v":""},"",{"$f":"IFERROR(VLOOKUP($A344,Controls!$AB$7:$AC$20,2,FALSE)*B344,\"\")","v":""},{"$f":"IF(Controls!B149=\"\",\"\",Controls!B149)","v":0}]
[{"$f":"IF(Controls!H150=\"\",\"\",IF(LEFT(Controls!H150, 6)=\"Motion\", Controls!BS150,Controls!H150))","v":""},{"$f":"IF(LEFT(A345, 6)=\"Motion\", Controls!E150, (IF(Controls!J150=\"\",\"\",Controls!J150)))","v":""},{"$f":"IF(LEFT(A345, 6)=\"Motion\", Controls!K150, IF(Controls!L150=\"\",\"\",Controls!L150))","v":""},{"$f":"IF(Controls!Q150=\"\",\"\",Controls!Q150)","v":""},{"$f":"IF(Controls!J150=\"\",IF(RIGHT(Controls!C150, 4)=\"Case\", Controls!S150, \"\"),Controls!V150)","v":""},"",{"$f":"IFERROR(VLOOKUP($A345,Controls!$AB$7:$AC$20,2,FALSE)*B345,\"\")","v":""},{"$f":"IF(Controls!B150=\"\",\"\",Controls!B150)","v":0}]
[{"$f":"IF(Controls!H151=\"\",\"\",IF(LEFT(Controls!H151, 6)=\"Motion\", Controls!BS151,Controls!H151))","v":""},{"$f":"IF(LEFT(A346, 6)=\"Motion\", Controls!E151, (IF(Controls!J151=\"\",\"\",Controls!J151)))","v":""},{"$f":"IF(LEFT(A346, 6)=\"Motion\", Controls!K151, IF(Controls!L151=\"\",\"\",Controls!L151))","v":""},{"$f":"IF(Controls!Q151=\"\",\"\",Controls!Q151)","v":""},{"$f":"IF(Controls!J151=\"\",IF(RIGHT(Controls!C151, 4)=\"Case\", Controls!S151, \"\"),Controls!V151)","v":""},"",{"$f":"IFERROR(VLOOKUP($A346,Controls!$AB$7:$AC$20,2,FALSE)*B346,\"\")","v":""},{"$f":"IF(Controls!B151=\"\",\"\",Controls!B151)","v":0}]
[{"$f":"IF(Controls!H152=\"\",\"\",IF(LEFT(Controls!H152, 6)=\"Motion\", Controls!BS152,Controls!H152))","v":""},{"$f":"IF(LEFT(A347, 6)=\"Motion\", Controls!E152, (IF(Controls!J152=\"\",\"\",Controls!J152)))","v":""},{"$f":"IF(LEFT(A347, 6)=\"Motion\", Controls!K152, IF(Controls!L152=\"\",\"\",Controls!L152))","v":""},{"$f":"IF(Controls!Q152=\"\",\"\",Controls!Q152)","v":""},{"$f":"IF(Controls!J152=\"\",IF(RIGHT(Controls!C152, 4)=\"Case\", Controls!S152, \"\"),Controls!V152)","v":""},"",{"$f":"IFERROR(VLOOKUP($A347,Controls!$AB$7:$AC$20,2,FALSE)*B347,\"\")","v":""},{"$f":"IF(Controls!B152=\"\",\"\",Controls!B152)","v":0}]
[{"$f":"IF(Controls!H153=\"\",\"\",IF(LEFT(Controls!H153, 6)=\"Motion\", Controls!BS153,Controls!H153))","v":""},{"$f":"IF(LEFT(A348, 6)=\"Motion\", Controls!E153, (IF(Controls!J153=\"\",\"\",Controls!J153)))","v":""},{"$f":"IF(LEFT(A348, 6)=\"Motion\", Controls!K153, IF(Controls!L153=\"\",\"\",Controls!L153))","v":""},{"$f":"IF(Controls!Q153=\"\",\"\",Controls!Q153)","v":""},{"$f":"IF(Controls!J153=\"\",IF(RIGHT(Controls!C153, 4)=\"Case\", Controls!S153, \"\"),Controls!V153)","v":""},"",{"$f":"IFERROR(VLOOKUP($A348,Controls!$AB$7:$AC$20,2,FALSE)*B348,\"\")","v":""},{"$f":"IF(Controls!B153=\"\",\"\",Controls!B153)","v":0}]
[{"$f":"IF(Controls!H154=\"\",\"\",IF(LEFT(Controls!H154, 6)=\"Motion\", Controls!BS154,Controls!H154))","v":""},{"$f":"IF(LEFT(A349, 6)=\"Motion\", Controls!E154, (IF(Controls!J154=\"\",\"\",Controls!J154)))","v":""},{"$f":"IF(LEFT(A349, 6)=\"Motion\", Controls!K154, IF(Controls!L154=\"\",\"\",Controls!L154))","v":""},{"$f":"IF(Controls!Q154=\"\",\"\",Controls!Q154)","v":""},{"$f":"IF(Controls!J154=\"\",IF(RIGHT(Controls!C154, 4)=\"Case\", Controls!S154, \"\"),Controls!V154)","v":""},"",{"$f":"IFERROR(VLOOKUP($A349,Controls!$AB$7:$AC$20,2,FALSE)*B349,\"\")","v":""},{"$f":"IF(Controls!B154=\"\",\"\",Controls!B154)","v":0}]
[{"$f":"IF(Controls!H155=\"\",\"\",IF(LEFT(Controls!H155, 6)=\"Motion\", Controls!BS155,Controls!H155))","v":""},{"$f":"IF(LEFT(A350, 6)=\"Motion\", Controls!E155, (IF(Controls!J155=\"\",\"\",Controls!J155)))","v":""},{"$f":"IF(LEFT(A350, 6)=\"Motion\", Controls!K155, IF(Controls!L155=\"\",\"\",Controls!L155))","v":""},{"$f":"IF(Controls!Q155=\"\",\"\",Controls!Q155)","v":""},{"$f":"IF(Controls!J155=\"\",IF(RIGHT(Controls!C155, 4)=\"Case\", Controls!S155, \"\"),Controls!V155)","v":""},"",{"$f":"IFERROR(VLOOKUP($A350,Controls!$AB$7:$AC$20,2,FALSE)*B350,\"\")","v":""},{"$f":"IF(Controls!B155=\"\",\"\",Controls!B155)","v":0}]
[{"$f":"IF(Controls!H156=\"\",\"\",IF(LEFT(Controls!H156, 6)=\"Motion\", Controls!BS156,Controls!H156))","v":""},{"$f":"IF(LEFT(A351, 6)=\"Motion\", Controls!E156, (IF(Controls!J156=\"\",\"\",Controls!J156)))","v":""},{"$f":"IF(LEFT(A351, 6)=\"Motion\", Controls!K156, IF(Controls!L156=\"\",\"\",Controls!L156))","v":""},{"$f":"IF(Controls!Q156=\"\",\"\",Controls!Q156)","v":""},{"$f":"IF(Controls!J156=\"\",IF(RIGHT(Controls!C156, 4)=\"Case\", Controls!S156, \"\"),Controls!V156)","v":""},"",{"$f":"IFERROR(VLOOKUP($A351,Controls!$AB$7:$AC$20,2,FALSE)*B351,\"\")","v":""},{"$f":"IF(Controls!B156=\"\",\"\",Controls!B156)","v":0}]
[{"$f":"IF(Controls!H157=\"\",\"\",IF(LEFT(Controls!H157, 6)=\"Motion\", Controls!BS157,Controls!H157))","v":""},{"$f":"IF(LEFT(A352, 6)=\"Motion\", Controls!E157, (IF(Controls!J157=\"\",\"\",Controls!J157)))","v":""},{"$f":"IF(LEFT(A352, 6)=\"Motion\", Controls!K157, IF(Controls!L157=\"\",\"\",Controls!L157))","v":""},{"$f":"IF(Controls!Q157=\"\",\"\",Controls!Q157)","v":""},{"$f":"IF(Controls!J157=\"\",IF(RIGHT(Controls!C157, 4)=\"Case\", Controls!S157, \"\"),Controls!V157)","v":""},{"$f":"IF(E352=\"\",\"\",F152)","v":""},{"$f":"IFERROR(VLOOKUP($A352,Controls!$AB$7:$AC$20,2,FALSE)*B352,\"\")","v":""},{"$f":"IF(Controls!B157=\"\",\"\",Controls!B157)","v":0}]
[{"$f":"IF(Controls!H158=\"\",\"\",IF(LEFT(Controls!H158, 6)=\"Motion\", Controls!BS158,Controls!H158))","v":""},{"$f":"IF(LEFT(A353, 6)=\"Motion\", Controls!E158, (IF(Controls!J158=\"\",\"\",Controls!J158)))","v":""},{"$f":"IF(LEFT(A353, 6)=\"Motion\", Controls!K158, IF(Controls!L158=\"\",\"\",Controls!L158))","v":""},{"$f":"IF(Controls!Q158=\"\",\"\",Controls!Q158)","v":""},{"$f":"IF(Controls!J158=\"\",IF(RIGHT(Controls!C158, 4)=\"Case\", Controls!S158, \"\"),Controls!V158)","v":""},"",{"$f":"IFERROR(VLOOKUP($A353,Controls!$AB$7:$AC$20,2,FALSE)*B353,\"\")","v":""},{"$f":"IF(Controls!B158=\"\",\"\",Controls!B158)","v":0}]
[{"$f":"IF(Controls!H159=\"\",\"\",IF(LEFT(Controls!H159, 6)=\"Motion\", Controls!BS159,Controls!H159))","v":""},{"$f":"IF(LEFT(A354, 6)=\"Motion\", Controls!E159, (IF(Controls!J159=\"\",\"\",Controls!J159)))","v":""},{"$f":"IF(LEFT(A354, 6)=\"Motion\", Controls!K159, IF(Controls!L159=\"\",\"\",Controls!L159))","v":""},{"$f":"IF(Controls!Q159=\"\",\"\",Controls!Q159)","v":""},{"$f":"IF(Controls!J159=\"\",IF(RIGHT(Controls!C159, 4)=\"Case\", Controls!S159, \"\"),Controls!V159)","v":""},"",{"$f":"IFERROR(VLOOKUP($A354,Controls!$AB$7:$AC$20,2,FALSE)*B354,\"\")","v":""},{"$f":"IF(Controls!B159=\"\",\"\",Controls!B159)","v":0}]
[{"$f":"IF(Controls!H160=\"\",\"\",IF(LEFT(Controls!H160, 6)=\"Motion\", Controls!BS160,Controls!H160))","v":""},{"$f":"IF(LEFT(A355, 6)=\"Motion\", Controls!E160, (IF(Controls!J160=\"\",\"\",Controls!J160)))","v":""},{"$f":"IF(LEFT(A355, 6)=\"Motion\", Controls!K160, IF(Controls!L160=\"\",\"\",Controls!L160))","v":""},{"$f":"IF(Controls!Q160=\"\",\"\",Controls!Q160)","v":""},{"$f":"IF(Controls!J160=\"\",IF(RIGHT(Controls!C160, 4)=\"Case\", Controls!S160, \"\"),Controls!V160)","v":""},"",{"$f":"IFERROR(VLOOKUP($A355,Controls!$AB$7:$AC$20,2,FALSE)*B355,\"\")","v":""},{"$f":"IF(Controls!B160=\"\",\"\",Controls!B160)","v":0}]
[{"$f":"IF(Controls!H161=\"\",\"\",IF(LEFT(Controls!H161, 6)=\"Motion\", Controls!BS161,Controls!H161))","v":""},{"$f":"IF(LEFT(A356, 6)=\"Motion\", Controls!E161, (IF(Controls!J161=\"\",\"\",Controls!J161)))","v":""},{"$f":"IF(LEFT(A356, 6)=\"Motion\", Controls!K161, IF(Controls!L161=\"\",\"\",Controls!L161))","v":""},{"$f":"IF(Controls!Q161=\"\",\"\",Controls!Q161)","v":""},{"$f":"IF(Controls!J161=\"\",IF(RIGHT(Controls!C161, 4)=\"Case\", Controls!S161, \"\"),Controls!V161)","v":""},"",{"$f":"IFERROR(VLOOKUP($A356,Controls!$AB$7:$AC$20,2,FALSE)*B356,\"\")","v":""},{"$f":"IF(Controls!B161=\"\",\"\",Controls!B161)","v":0}]
[{"$f":"IF(Controls!H162=\"\",\"\",IF(LEFT(Controls!H162, 6)=\"Motion\", Controls!BS162,Controls!H162))","v":""},{"$f":"IF(LEFT(A357, 6)=\"Motion\", Controls!E162, (IF(Controls!J162=\"\",\"\",Controls!J162)))","v":""},{"$f":"IF(LEFT(A357, 6)=\"Motion\", Controls!K162, IF(Controls!L162=\"\",\"\",Controls!L162))","v":""},{"$f":"IF(Controls!Q162=\"\",\"\",Controls!Q162)","v":""},{"$f":"IF(Controls!J162=\"\",IF(RIGHT(Controls!C162, 4)=\"Case\", Controls!S162, \"\"),Controls!V162)","v":""},"",{"$f":"IFERROR(VLOOKUP($A357,Controls!$AB$7:$AC$20,2,FALSE)*B357,\"\")","v":""},{"$f":"IF(Controls!B162=\"\",\"\",Controls!B162)","v":0}]
[{"$f":"IF(Controls!H163=\"\",\"\",IF(LEFT(Controls!H163, 6)=\"Motion\", Controls!BS163,Controls!H163))","v":""},{"$f":"IF(LEFT(A358, 6)=\"Motion\", Controls!E163, (IF(Controls!J163=\"\",\"\",Controls!J163)))","v":""},{"$f":"IF(LEFT(A358, 6)=\"Motion\", Controls!K163, IF(Controls!L163=\"\",\"\",Controls!L163))","v":""},{"$f":"IF(Controls!Q163=\"\",\"\",Controls!Q163)","v":""},{"$f":"IF(Controls!J163=\"\",IF(RIGHT(Controls!C163, 4)=\"Case\", Controls!S163, \"\"),Controls!V163)","v":""},"",{"$f":"IFERROR(VLOOKUP($A358,Controls!$AB$7:$AC$20,2,FALSE)*B358,\"\")","v":""},{"$f":"IF(Controls!B163=\"\",\"\",Controls!B163)","v":0}]
[{"$f":"IF(Controls!H164=\"\",\"\",IF(LEFT(Controls!H164, 6)=\"Motion\", Controls!BS164,Controls!H164))","v":""},{"$f":"IF(LEFT(A359, 6)=\"Motion\", Controls!E164, (IF(Controls!J164=\"\",\"\",Controls!J164)))","v":""},{"$f":"IF(LEFT(A359, 6)=\"Motion\", Controls!K164, IF(Controls!L164=\"\",\"\",Controls!L164))","v":""},{"$f":"IF(Controls!Q164=\"\",\"\",Controls!Q164)","v":""},{"$f":"IF(Controls!J164=\"\",IF(RIGHT(Controls!C164, 4)=\"Case\", Controls!S164, \"\"),Controls!V164)","v":""},"",{"$f":"IFERROR(VLOOKUP($A359,Controls!$AB$7:$AC$20,2,FALSE)*B359,\"\")","v":""},{"$f":"IF(Controls!B164=\"\",\"\",Controls!B164)","v":0}]
[{"$f":"IF(Controls!H165=\"\",\"\",IF(LEFT(Controls!H165, 6)=\"Motion\", Controls!BS165,Controls!H165))","v":""},{"$f":"IF(LEFT(A360, 6)=\"Motion\", Controls!E165, (IF(Controls!J165=\"\",\"\",Controls!J165)))","v":""},{"$f":"IF(LEFT(A360, 6)=\"Motion\", Controls!K165, IF(Controls!L165=\"\",\"\",Controls!L165))","v":""},{"$f":"IF(Controls!Q165=\"\",\"\",Controls!Q165)","v":""},{"$f":"IF(Controls!J165=\"\",IF(RIGHT(Controls!C165, 4)=\"Case\", Controls!S165, \"\"),Controls!V165)","v":""},"",{"$f":"IFERROR(VLOOKUP($A360,Controls!$AB$7:$AC$20,2,FALSE)*B360,\"\")","v":""},{"$f":"IF(Controls!B165=\"\",\"\",Controls!B165)","v":0}]
[{"$f":"IF(Controls!H166=\"\",\"\",IF(LEFT(Controls!H166, 6)=\"Motion\", Controls!BS166,Controls!H166))","v":""},{"$f":"IF(LEFT(A361, 6)=\"Motion\", Controls!E166, (IF(Controls!J166=\"\",\"\",Controls!J166)))","v":""},{"$f":"IF(LEFT(A361, 6)=\"Motion\", Controls!K166, IF(Controls!L166=\"\",\"\",Controls!L166))","v":""},{"$f":"IF(Controls!Q166=\"\",\"\",Controls!Q166)","v":""},{"$f":"IF(Controls!J166=\"\",IF(RIGHT(Controls!C166, 4)=\"Case\", Controls!S166, \"\"),Controls!V166)","v":""},"",{"$f":"IFERROR(VLOOKUP($A361,Controls!$AB$7:$AC$20,2,FALSE)*B361,\"\")","v":""},{"$f":"IF(Controls!B166=\"\",\"\",Controls!B166)","v":0}]
[{"$f":"IF(Controls!H167=\"\",\"\",IF(LEFT(Controls!H167, 6)=\"Motion\", Controls!BS167,Controls!H167))","v":""},{"$f":"IF(LEFT(A362, 6)=\"Motion\", Controls!E167, (IF(Controls!J167=\"\",\"\",Controls!J167)))","v":""},{"$f":"IF(LEFT(A362, 6)=\"Motion\", Controls!K167, IF(Controls!L167=\"\",\"\",Controls!L167))","v":""},{"$f":"IF(Controls!Q167=\"\",\"\",Controls!Q167)","v":""},{"$f":"IF(Controls!J167=\"\",IF(RIGHT(Controls!C167, 4)=\"Case\", Controls!S167, \"\"),Controls!V167)","v":""},"",{"$f":"IFERROR(VLOOKUP($A362,Controls!$AB$7:$AC$20,2,FALSE)*B362,\"\")","v":""},{"$f":"IF(Controls!B167=\"\",\"\",Controls!B167)","v":0}]
[{"$f":"IF(Controls!H168=\"\",\"\",IF(LEFT(Controls!H168, 6)=\"Motion\", Controls!BS168,Controls!H168))","v":""},{"$f":"IF(LEFT(A363, 6)=\"Motion\", Controls!E168, (IF(Controls!J168=\"\",\"\",Controls!J168)))","v":""},{"$f":"IF(LEFT(A363, 6)=\"Motion\", Controls!K168, IF(Controls!L168=\"\",\"\",Controls!L168))","v":""},{"$f":"IF(Controls!Q168=\"\",\"\",Controls!Q168)","v":""},{"$f":"IF(Controls!J168=\"\",IF(RIGHT(Controls!C168, 4)=\"Case\", Controls!S168, \"\"),Controls!V168)","v":""},"",{"$f":"IFERROR(VLOOKUP($A363,Controls!$AB$7:$AC$20,2,FALSE)*B363,\"\")","v":""},{"$f":"IF(Controls!B168=\"\",\"\",Controls!B168)","v":0}]
[{"$f":"IF(Controls!H169=\"\",\"\",IF(LEFT(Controls!H169, 6)=\"Motion\", Controls!BS169,Controls!H169))","v":""},{"$f":"IF(LEFT(A364, 6)=\"Motion\", Controls!E169, (IF(Controls!J169=\"\",\"\",Controls!J169)))","v":""},{"$f":"IF(LEFT(A364, 6)=\"Motion\", Controls!K169, IF(Controls!L169=\"\",\"\",Controls!L169))","v":""},{"$f":"IF(Controls!Q169=\"\",\"\",Controls!Q169)","v":""},{"$f":"IF(Controls!J169=\"\",IF(RIGHT(Controls!C169, 4)=\"Case\", Controls!S169, \"\"),Controls!V169)","v":""},"",{"$f":"IFERROR(VLOOKUP($A364,Controls!$AB$7:$AC$20,2,FALSE)*B364,\"\")","v":""},{"$f":"IF(Controls!B169=\"\",\"\",Controls!B169)","v":0}]
[{"$f":"IF(Controls!H170=\"\",\"\",IF(LEFT(Controls!H170, 6)=\"Motion\", Controls!BS170,Controls!H170))","v":""},{"$f":"IF(LEFT(A365, 6)=\"Motion\", Controls!E170, (IF(Controls!J170=\"\",\"\",Controls!J170)))","v":""},{"$f":"IF(LEFT(A365, 6)=\"Motion\", Controls!K170, IF(Controls!L170=\"\",\"\",Controls!L170))","v":""},{"$f":"IF(Controls!Q170=\"\",\"\",Controls!Q170)","v":""},{"$f":"IF(Controls!J170=\"\",IF(RIGHT(Controls!C170, 4)=\"Case\", Controls!S170, \"\"),Controls!V170)","v":""},"",{"$f":"IFERROR(VLOOKUP($A365,Controls!$AB$7:$AC$20,2,FALSE)*B365,\"\")","v":""},{"$f":"IF(Controls!B170=\"\",\"\",Controls!B170)","v":0}]
[{"$f":"IF(Controls!H171=\"\",\"\",IF(LEFT(Controls!H171, 6)=\"Motion\", Controls!BS171,Controls!H171))","v":""},{"$f":"IF(LEFT(A366, 6)=\"Motion\", Controls!E171, (IF(Controls!J171=\"\",\"\",Controls!J171)))","v":""},{"$f":"IF(LEFT(A366, 6)=\"Motion\", Controls!K171, IF(Controls!L171=\"\",\"\",Controls!L171))","v":""},{"$f":"IF(Controls!Q171=\"\",\"\",Controls!Q171)","v":""},{"$f":"IF(Controls!J171=\"\",IF(RIGHT(Controls!C171, 4)=\"Case\", Controls!S171, \"\"),Controls!V171)","v":""},"",{"$f":"IFERROR(VLOOKUP($A366,Controls!$AB$7:$AC$20,2,FALSE)*B366,\"\")","v":""},{"$f":"IF(Controls!B171=\"\",\"\",Controls!B171)","v":0}]
[{"$f":"IF(Controls!H172=\"\",\"\",IF(LEFT(Controls!H172, 6)=\"Motion\", Controls!BS172,Controls!H172))","v":""},{"$f":"IF(LEFT(A367, 6)=\"Motion\", Controls!E172, (IF(Controls!J172=\"\",\"\",Controls!J172)))","v":""},{"$f":"IF(LEFT(A367, 6)=\"Motion\", Controls!K172, IF(Controls!L172=\"\",\"\",Controls!L172))","v":""},{"$f":"IF(Controls!Q172=\"\",\"\",Controls!Q172)","v":""},{"$f":"IF(Controls!J172=\"\",IF(RIGHT(Controls!C172, 4)=\"Case\", Controls!S172, \"\"),Controls!V172)","v":""},"",{"$f":"IFERROR(VLOOKUP($A367,Controls!$AB$7:$AC$20,2,FALSE)*B367,\"\")","v":""},{"$f":"IF(Controls!B172=\"\",\"\",Controls!B172)","v":0}]
[{"$f":"IF(Controls!H173=\"\",\"\",IF(LEFT(Controls!H173, 6)=\"Motion\", Controls!BS173,Controls!H173))","v":""},{"$f":"IF(LEFT(A368, 6)=\"Motion\", Controls!E173, (IF(Controls!J173=\"\",\"\",Controls!J173)))","v":""},{"$f":"IF(LEFT(A368, 6)=\"Motion\", Controls!K173, IF(Controls!L173=\"\",\"\",Controls!L173))","v":""},{"$f":"IF(Controls!Q173=\"\",\"\",Controls!Q173)","v":""},{"$f":"IF(Controls!J173=\"\",IF(RIGHT(Controls!C173, 4)=\"Case\", Controls!S173, \"\"),Controls!V173)","v":""},"",{"$f":"IFERROR(VLOOKUP($A368,Controls!$AB$7:$AC$20,2,FALSE)*B368,\"\")","v":""},{"$f":"IF(Controls!B173=\"\",\"\",Controls!B173)","v":0}]
[{"$f":"IF(Controls!H174=\"\",\"\",IF(LEFT(Controls!H174, 6)=\"Motion\", Controls!BS174,Controls!H174))","v":""},{"$f":"IF(LEFT(A369, 6)=\"Motion\", Controls!E174, (IF(Controls!J174=\"\",\"\",Controls!J174)))","v":""},{"$f":"IF(LEFT(A369, 6)=\"Motion\", Controls!K174, IF(Controls!L174=\"\",\"\",Controls!L174))","v":""},{"$f":"IF(Controls!Q174=\"\",\"\",Controls!Q174)","v":""},{"$f":"IF(Controls!J174=\"\",IF(RIGHT(Controls!C174, 4)=\"Case\", Controls!S174, \"\"),Controls!V174)","v":""},"",{"$f":"IFERROR(VLOOKUP($A369,Controls!$AB$7:$AC$20,2,FALSE)*B369,\"\")","v":""},{"$f":"IF(Controls!B174=\"\",\"\",Controls!B174)","v":0}]
[{"$f":"IF(Controls!H175=\"\",\"\",IF(LEFT(Controls!H175, 6)=\"Motion\", Controls!BS175,Controls!H175))","v":""},{"$f":"IF(LEFT(A370, 6)=\"Motion\", Controls!E175, (IF(Controls!J175=\"\",\"\",Controls!J175)))","v":""},{"$f":"IF(LEFT(A370, 6)=\"Motion\", Controls!K175, IF(Controls!L175=\"\",\"\",Controls!L175))","v":""},{"$f":"IF(Controls!Q175=\"\",\"\",Controls!Q175)","v":""},{"$f":"IF(Controls!J175=\"\",IF(RIGHT(Controls!C175, 4)=\"Case\", Controls!S175, \"\"),Controls!V175)","v":""},"",{"$f":"IFERROR(VLOOKUP($A370,Controls!$AB$7:$AC$20,2,FALSE)*B370,\"\")","v":""},{"$f":"IF(Controls!B175=\"\",\"\",Controls!B175)","v":0}]
[{"$f":"IF(Controls!H176=\"\",\"\",IF(LEFT(Controls!H176, 6)=\"Motion\", Controls!BS176,Controls!H176))","v":""},{"$f":"IF(LEFT(A371, 6)=\"Motion\", Controls!E176, (IF(Controls!J176=\"\",\"\",Controls!J176)))","v":""},{"$f":"IF(LEFT(A371, 6)=\"Motion\", Controls!K176, IF(Controls!L176=\"\",\"\",Controls!L176))","v":""},{"$f":"IF(Controls!Q176=\"\",\"\",Controls!Q176)","v":""},{"$f":"IF(Controls!J176=\"\",IF(RIGHT(Controls!C176, 4)=\"Case\", Controls!S176, \"\"),Controls!V176)","v":""},"",{"$f":"IFERROR(VLOOKUP($A371,Controls!$AB$7:$AC$20,2,FALSE)*B371,\"\")","v":""},{"$f":"IF(Controls!B176=\"\",\"\",Controls!B176)","v":0}]
[{"$f":"IF(Controls!H177=\"\",\"\",IF(LEFT(Controls!H177, 6)=\"Motion\", Controls!BS177,Controls!H177))","v":""},{"$f":"IF(LEFT(A372, 6)=\"Motion\", Controls!E177, (IF(Controls!J177=\"\",\"\",Controls!J177)))","v":""},{"$f":"IF(LEFT(A372, 6)=\"Motion\", Controls!K177, IF(Controls!L177=\"\",\"\",Controls!L177))","v":""},{"$f":"IF(Controls!Q177=\"\",\"\",Controls!Q177)","v":""},{"$f":"IF(Controls!J177=\"\",IF(RIGHT(Controls!C177, 4)=\"Case\", Controls!S177, \"\"),Controls!V177)","v":""},"",{"$f":"IFERROR(VLOOKUP($A372,Controls!$AB$7:$AC$20,2,FALSE)*B372,\"\")","v":""},{"$f":"IF(Controls!B177=\"\",\"\",Controls!B177)","v":0}]
[{"$f":"IF(Controls!H178=\"\",\"\",IF(LEFT(Controls!H178, 6)=\"Motion\", Controls!BS178,Controls!H178))","v":""},{"$f":"IF(LEFT(A373, 6)=\"Motion\", Controls!E178, (IF(Controls!J178=\"\",\"\",Controls!J178)))","v":""},{"$f":"IF(LEFT(A373, 6)=\"Motion\", Controls!K178, IF(Controls!L178=\"\",\"\",Controls!L178))","v":""},{"$f":"IF(Controls!Q178=\"\",\"\",Controls!Q178)","v":""},{"$f":"IF(Controls!J178=\"\",IF(RIGHT(Controls!C178, 4)=\"Case\", Controls!S178, \"\"),Controls!V178)","v":""},"",{"$f":"IFERROR(VLOOKUP($A373,Controls!$AB$7:$AC$20,2,FALSE)*B373,\"\")","v":""},{"$f":"IF(Controls!B178=\"\",\"\",Controls!B178)","v":0}]
[{"$f":"IF(Controls!H179=\"\",\"\",IF(LEFT(Controls!H179, 6)=\"Motion\", Controls!BS179,Controls!H179))","v":""},{"$f":"IF(LEFT(A374, 6)=\"Motion\", Controls!E179, (IF(Controls!J179=\"\",\"\",Controls!J179)))","v":""},{"$f":"IF(LEFT(A374, 6)=\"Motion\", Controls!K179, IF(Controls!L179=\"\",\"\",Controls!L179))","v":""},{"$f":"IF(Controls!Q179=\"\",\"\",Controls!Q179)","v":""},{"$f":"IF(Controls!J179=\"\",IF(RIGHT(Controls!C179, 4)=\"Case\", Controls!S179, \"\"),Controls!V179)","v":""},"",{"$f":"IFERROR(VLOOKUP($A374,Controls!$AB$7:$AC$20,2,FALSE)*B374,\"\")","v":""},{"$f":"IF(Controls!B179=\"\",\"\",Controls!B179)","v":0}]
[{"$f":"IF(Controls!H180=\"\",\"\",IF(LEFT(Controls!H180, 6)=\"Motion\", Controls!BS180,Controls!H180))","v":""},{"$f":"IF(LEFT(A375, 6)=\"Motion\", Controls!E180, (IF(Controls!J180=\"\",\"\",Controls!J180)))","v":""},{"$f":"IF(LEFT(A375, 6)=\"Motion\", Controls!K180, IF(Controls!L180=\"\",\"\",Controls!L180))","v":""},{"$f":"IF(Controls!Q180=\"\",\"\",Controls!Q180)","v":""},{"$f":"IF(Controls!J180=\"\",IF(RIGHT(Controls!C180, 4)=\"Case\", Controls!S180, \"\"),Controls!V180)","v":""},"",{"$f":"IFERROR(VLOOKUP($A375,Controls!$AB$7:$AC$20,2,FALSE)*B375,\"\")","v":""},{"$f":"IF(Controls!B180=\"\",\"\",Controls!B180)","v":0}]
[{"$f":"IF(Controls!H181=\"\",\"\",IF(LEFT(Controls!H181, 6)=\"Motion\", Controls!BS181,Controls!H181))","v":""},{"$f":"IF(LEFT(A376, 6)=\"Motion\", Controls!E181, (IF(Controls!J181=\"\",\"\",Controls!J181)))","v":""},{"$f":"IF(LEFT(A376, 6)=\"Motion\", Controls!K181, IF(Controls!L181=\"\",\"\",Controls!L181))","v":""},{"$f":"IF(Controls!Q181=\"\",\"\",Controls!Q181)","v":""},{"$f":"IF(Controls!J181=\"\",IF(RIGHT(Controls!C181, 4)=\"Case\", Controls!S181, \"\"),Controls!V181)","v":""},"",{"$f":"IFERROR(VLOOKUP($A376,Controls!$AB$7:$AC$20,2,FALSE)*B376,\"\")","v":""},{"$f":"IF(Controls!B181=\"\",\"\",Controls!B181)","v":0}]
[{"$f":"IF(Controls!H182=\"\",\"\",IF(LEFT(Controls!H182, 6)=\"Motion\", Controls!BS182,Controls!H182))","v":""},{"$f":"IF(LEFT(A377, 6)=\"Motion\", Controls!E182, (IF(Controls!J182=\"\",\"\",Controls!J182)))","v":""},{"$f":"IF(LEFT(A377, 6)=\"Motion\", Controls!K182, IF(Controls!L182=\"\",\"\",Controls!L182))","v":""},{"$f":"IF(Controls!Q182=\"\",\"\",Controls!Q182)","v":""},{"$f":"IF(Controls!J182=\"\",IF(RIGHT(Controls!C182, 4)=\"Case\", Controls!S182, \"\"),Controls!V182)","v":""},"",{"$f":"IFERROR(VLOOKUP($A377,Controls!$AB$7:$AC$20,2,FALSE)*B377,\"\")","v":""},{"$f":"IF(Controls!B182=\"\",\"\",Controls!B182)","v":0}]
[{"$f":"IF(Controls!H183=\"\",\"\",IF(LEFT(Controls!H183, 6)=\"Motion\", Controls!BS183,Controls!H183))","v":""},{"$f":"IF(LEFT(A378, 6)=\"Motion\", Controls!E183, (IF(Controls!J183=\"\",\"\",Controls!J183)))","v":""},{"$f":"IF(LEFT(A378, 6)=\"Motion\", Controls!K183, IF(Controls!L183=\"\",\"\",Controls!L183))","v":""},{"$f":"IF(Controls!Q183=\"\",\"\",Controls!Q183)","v":""},{"$f":"IF(Controls!J183=\"\",IF(RIGHT(Controls!C183, 4)=\"Case\", Controls!S183, \"\"),Controls!V183)","v":""},"",{"$f":"IFERROR(VLOOKUP($A378,Controls!$AB$7:$AC$20,2,FALSE)*B378,\"\")","v":""},{"$f":"IF(Controls!B183=\"\",\"\",Controls!B183)","v":0}]
[{"$f":"IF(Controls!H184=\"\",\"\",IF(LEFT(Controls!H184, 6)=\"Motion\", Controls!BS184,Controls!H184))","v":""},{"$f":"IF(LEFT(A379, 6)=\"Motion\", Controls!E184, (IF(Controls!J184=\"\",\"\",Controls!J184)))","v":""},{"$f":"IF(LEFT(A379, 6)=\"Motion\", Controls!K184, IF(Controls!L184=\"\",\"\",Controls!L184))","v":""},{"$f":"IF(Controls!Q184=\"\",\"\",Controls!Q184)","v":""},{"$f":"IF(Controls!J184=\"\",IF(RIGHT(Controls!C184, 4)=\"Case\", Controls!S184, \"\"),Controls!V184)","v":""},"",{"$f":"IFERROR(VLOOKUP($A379,Controls!$AB$7:$AC$20,2,FALSE)*B379,\"\")","v":""},{"$f":"IF(Controls!B184=\"\",\"\",Controls!B184)","v":0}]
[{"$f":"IF(Controls!H185=\"\",\"\",IF(LEFT(Controls!H185, 6)=\"Motion\", Controls!BS185,Controls!H185))","v":""},{"$f":"IF(LEFT(A380, 6)=\"Motion\", Controls!E185, (IF(Controls!J185=\"\",\"\",Controls!J185)))","v":""},{"$f":"IF(LEFT(A380, 6)=\"Motion\", Controls!K185, IF(Controls!L185=\"\",\"\",Controls!L185))","v":""},{"$f":"IF(Controls!Q185=\"\",\"\",Controls!Q185)","v":""},{"$f":"IF(Controls!J185=\"\",IF(RIGHT(Controls!C185, 4)=\"Case\", Controls!S185, \"\"),Controls!V185)","v":""},"",{"$f":"IFERROR(VLOOKUP($A380,Controls!$AB$7:$AC$20,2,FALSE)*B380,\"\")","v":""},{"$f":"IF(Controls!B185=\"\",\"\",Controls!B185)","v":0}]
[{"$f":"IF(Controls!H186=\"\",\"\",IF(LEFT(Controls!H186, 6)=\"Motion\", Controls!BS186,Controls!H186))","v":""},{"$f":"IF(LEFT(A381, 6)=\"Motion\", Controls!E186, (IF(Controls!J186=\"\",\"\",Controls!J186)))","v":""},{"$f":"IF(LEFT(A381, 6)=\"Motion\", Controls!K186, IF(Controls!L186=\"\",\"\",Controls!L186))","v":""},{"$f":"IF(Controls!Q186=\"\",\"\",Controls!Q186)","v":""},{"$f":"IF(Controls!J186=\"\",IF(RIGHT(Controls!C186, 4)=\"Case\", Controls!S186, \"\"),Controls!V186)","v":""},"",{"$f":"IFERROR(VLOOKUP($A381,Controls!$AB$7:$AC$20,2,FALSE)*B381,\"\")","v":""},{"$f":"IF(Controls!B186=\"\",\"\",Controls!B186)","v":0}]
[{"$f":"IF(Controls!H187=\"\",\"\",IF(LEFT(Controls!H187, 6)=\"Motion\", Controls!BS187,Controls!H187))","v":""},{"$f":"IF(LEFT(A382, 6)=\"Motion\", Controls!E187, (IF(Controls!J187=\"\",\"\",Controls!J187)))","v":""},{"$f":"IF(LEFT(A382, 6)=\"Motion\", Controls!K187, IF(Controls!L187=\"\",\"\",Controls!L187))","v":""},{"$f":"IF(Controls!Q187=\"\",\"\",Controls!Q187)","v":""},{"$f":"IF(Controls!J187=\"\",IF(RIGHT(Controls!C187, 4)=\"Case\", Controls!S187, \"\"),Controls!V187)","v":""},"",{"$f":"IFERROR(VLOOKUP($A382,Controls!$AB$7:$AC$20,2,FALSE)*B382,\"\")","v":""},{"$f":"IF(Controls!B187=\"\",\"\",Controls!B187)","v":0}]
[{"$f":"IF(Controls!H188=\"\",\"\",IF(LEFT(Controls!H188, 6)=\"Motion\", Controls!BS188,Controls!H188))","v":""},{"$f":"IF(LEFT(A383, 6)=\"Motion\", Controls!E188, (IF(Controls!J188=\"\",\"\",Controls!J188)))","v":""},{"$f":"IF(LEFT(A383, 6)=\"Motion\", Controls!K188, IF(Controls!L188=\"\",\"\",Controls!L188))","v":""},{"$f":"IF(Controls!Q188=\"\",\"\",Controls!Q188)","v":""},{"$f":"IF(Controls!J188=\"\",IF(RIGHT(Controls!C188, 4)=\"Case\", Controls!S188, \"\"),Controls!V188)","v":""},"",{"$f":"IFERROR(VLOOKUP($A383,Controls!$AB$7:$AC$20,2,FALSE)*B383,\"\")","v":""},{"$f":"IF(Controls!B188=\"\",\"\",Controls!B188)","v":0}]
[{"$f":"IF(Controls!H189=\"\",\"\",IF(LEFT(Controls!H189, 6)=\"Motion\", Controls!BS189,Controls!H189))","v":""},{"$f":"IF(LEFT(A384, 6)=\"Motion\", Controls!E189, (IF(Controls!J189=\"\",\"\",Controls!J189)))","v":""},{"$f":"IF(LEFT(A384, 6)=\"Motion\", Controls!K189, IF(Controls!L189=\"\",\"\",Controls!L189))","v":""},{"$f":"IF(Controls!Q189=\"\",\"\",Controls!Q189)","v":""},{"$f":"IF(Controls!J189=\"\",IF(RIGHT(Controls!C189, 4)=\"Case\", Controls!S189, \"\"),Controls!V189)","v":""},"",{"$f":"IFERROR(VLOOKUP($A384,Controls!$AB$7:$AC$20,2,FALSE)*B384,\"\")","v":""},{"$f":"IF(Controls!B189=\"\",\"\",Controls!B189)","v":0}]
[{"$f":"IF(Controls!H190=\"\",\"\",IF(LEFT(Controls!H190, 6)=\"Motion\", Controls!BS190,Controls!H190))","v":""},{"$f":"IF(LEFT(A385, 6)=\"Motion\", Controls!E190, (IF(Controls!J190=\"\",\"\",Controls!J190)))","v":""},{"$f":"IF(LEFT(A385, 6)=\"Motion\", Controls!K190, IF(Controls!L190=\"\",\"\",Controls!L190))","v":""},{"$f":"IF(Controls!Q190=\"\",\"\",Controls!Q190)","v":""},{"$f":"IF(Controls!J190=\"\",IF(RIGHT(Controls!C190, 4)=\"Case\", Controls!S190, \"\"),Controls!V190)","v":""},"",{"$f":"IFERROR(VLOOKUP($A385,Controls!$AB$7:$AC$20,2,FALSE)*B385,\"\")","v":""},{"$f":"IF(Controls!B190=\"\",\"\",Controls!B190)","v":0}]
[{"$f":"IF(Controls!H191=\"\",\"\",IF(LEFT(Controls!H191, 6)=\"Motion\", Controls!BS191,Controls!H191))","v":""},{"$f":"IF(LEFT(A386, 6)=\"Motion\", Controls!E191, (IF(Controls!J191=\"\",\"\",Controls!J191)))","v":""},{"$f":"IF(LEFT(A386, 6)=\"Motion\", Controls!K191, IF(Controls!L191=\"\",\"\",Controls!L191))","v":""},{"$f":"IF(Controls!Q191=\"\",\"\",Controls!Q191)","v":""},{"$f":"IF(Controls!J191=\"\",IF(RIGHT(Controls!C191, 4)=\"Case\", Controls!S191, \"\"),Controls!V191)","v":""},"",{"$f":"IFERROR(VLOOKUP($A386,Controls!$AB$7:$AC$20,2,FALSE)*B386,\"\")","v":""},{"$f":"IF(Controls!B191=\"\",\"\",Controls!B191)","v":0}]
[{"$f":"IF(Controls!H192=\"\",\"\",IF(LEFT(Controls!H192, 6)=\"Motion\", Controls!BS192,Controls!H192))","v":""},{"$f":"IF(LEFT(A387, 6)=\"Motion\", Controls!E192, (IF(Controls!J192=\"\",\"\",Controls!J192)))","v":""},{"$f":"IF(LEFT(A387, 6)=\"Motion\", Controls!K192, IF(Controls!L192=\"\",\"\",Controls!L192))","v":""},{"$f":"IF(Controls!Q192=\"\",\"\",Controls!Q192)","v":""},{"$f":"IF(Controls!J192=\"\",IF(RIGHT(Controls!C192, 4)=\"Case\", Controls!S192, \"\"),Controls!V192)","v":""},"",{"$f":"IFERROR(VLOOKUP($A387,Controls!$AB$7:$AC$20,2,FALSE)*B387,\"\")","v":""},{"$f":"IF(Controls!B192=\"\",\"\",Controls!B192)","v":0}]
[{"$f":"IF(Controls!H193=\"\",\"\",IF(LEFT(Controls!H193, 6)=\"Motion\", Controls!BS193,Controls!H193))","v":""},{"$f":"IF(LEFT(A388, 6)=\"Motion\", Controls!E193, (IF(Controls!J193=\"\",\"\",Controls!J193)))","v":""},{"$f":"IF(LEFT(A388, 6)=\"Motion\", Controls!K193, IF(Controls!L193=\"\",\"\",Controls!L193))","v":""},{"$f":"IF(Controls!Q193=\"\",\"\",Controls!Q193)","v":""},{"$f":"IF(Controls!J193=\"\",IF(RIGHT(Controls!C193, 4)=\"Case\", Controls!S193, \"\"),Controls!V193)","v":""},"",{"$f":"IFERROR(VLOOKUP($A388,Controls!$AB$7:$AC$20,2,FALSE)*B388,\"\")","v":""},{"$f":"IF(Controls!B193=\"\",\"\",Controls!B193)","v":0}]
[{"$f":"IF(Controls!H194=\"\",\"\",IF(LEFT(Controls!H194, 6)=\"Motion\", Controls!BS194,Controls!H194))","v":""},{"$f":"IF(LEFT(A389, 6)=\"Motion\", Controls!E194, (IF(Controls!J194=\"\",\"\",Controls!J194)))","v":""},{"$f":"IF(LEFT(A389, 6)=\"Motion\", Controls!K194, IF(Controls!L194=\"\",\"\",Controls!L194))","v":""},{"$f":"IF(Controls!Q194=\"\",\"\",Controls!Q194)","v":""},{"$f":"IF(Controls!J194=\"\",IF(RIGHT(Controls!C194, 4)=\"Case\", Controls!S194, \"\"),Controls!V194)","v":""},"",{"$f":"IFERROR(VLOOKUP($A389,Controls!$AB$7:$AC$20,2,FALSE)*B389,\"\")","v":""},{"$f":"IF(Controls!B194=\"\",\"\",Controls!B194)","v":0}]
[{"$f":"IF(Controls!H195=\"\",\"\",IF(LEFT(Controls!H195, 6)=\"Motion\", Controls!BS195,Controls!H195))","v":""},{"$f":"IF(LEFT(A390, 6)=\"Motion\", Controls!E195, (IF(Controls!J195=\"\",\"\",Controls!J195)))","v":""},{"$f":"IF(LEFT(A390, 6)=\"Motion\", Controls!K195, IF(Controls!L195=\"\",\"\",Controls!L195))","v":""},{"$f":"IF(Controls!Q195=\"\",\"\",Controls!Q195)","v":""},{"$f":"IF(Controls!J195=\"\",IF(RIGHT(Controls!C195, 4)=\"Case\", Controls!S195, \"\"),Controls!V195)","v":""},"",{"$f":"IFERROR(VLOOKUP($A390,Controls!$AB$7:$AC$20,2,FALSE)*B390,\"\")","v":""},{"$f":"IF(Controls!B195=\"\",\"\",Controls!B195)","v":0}]
[{"$f":"IF(Controls!H196=\"\",\"\",IF(LEFT(Controls!H196, 6)=\"Motion\", Controls!BS196,Controls!H196))","v":""},{"$f":"IF(LEFT(A391, 6)=\"Motion\", Controls!E196, (IF(Controls!J196=\"\",\"\",Controls!J196)))","v":""},{"$f":"IF(LEFT(A391, 6)=\"Motion\", Controls!K196, IF(Controls!L196=\"\",\"\",Controls!L196))","v":""},{"$f":"IF(Controls!Q196=\"\",\"\",Controls!Q196)","v":""},{"$f":"IF(Controls!J196=\"\",IF(RIGHT(Controls!C196, 4)=\"Case\", Controls!S196, \"\"),Controls!V196)","v":""},{"$f":"IF(E391=\"\",\"\",F191)","v":""},{"$f":"IFERROR(VLOOKUP($A391,Controls!$AB$7:$AC$20,2,FALSE)*B391,\"\")","v":""},{"$f":"IF(Controls!B196=\"\",\"\",Controls!B196)","v":0}]
[{"$f":"IF(Controls!H197=\"\",\"\",IF(LEFT(Controls!H197, 6)=\"Motion\", Controls!BS197,Controls!H197))","v":""},{"$f":"IF(LEFT(A392, 6)=\"Motion\", Controls!E197, (IF(Controls!J197=\"\",\"\",Controls!J197)))","v":""},{"$f":"IF(LEFT(A392, 6)=\"Motion\", Controls!K197, IF(Controls!L197=\"\",\"\",Controls!L197))","v":""},{"$f":"IF(Controls!Q197=\"\",\"\",Controls!Q197)","v":""},{"$f":"IF(Controls!J197=\"\",IF(RIGHT(Controls!C197, 4)=\"Case\", Controls!S197, \"\"),Controls!V197)","v":""},"",{"$f":"IFERROR(VLOOKUP($A392,Controls!$AB$7:$AC$20,2,FALSE)*B392,\"\")","v":""},{"$f":"IF(Controls!B197=\"\",\"\",Controls!B197)","v":0}]
[{"$f":"IF(Controls!H198=\"\",\"\",IF(LEFT(Controls!H198, 6)=\"Motion\", Controls!BS198,Controls!H198))","v":""},{"$f":"IF(LEFT(A393, 6)=\"Motion\", Controls!E198, (IF(Controls!J198=\"\",\"\",Controls!J198)))","v":""},{"$f":"IF(LEFT(A393, 6)=\"Motion\", Controls!K198, IF(Controls!L198=\"\",\"\",Controls!L198))","v":""},{"$f":"IF(Controls!Q198=\"\",\"\",Controls!Q198)","v":""},{"$f":"IF(Controls!J198=\"\",IF(RIGHT(Controls!C198, 4)=\"Case\", Controls!S198, \"\"),Controls!V198)","v":""},"",{"$f":"IFERROR(VLOOKUP($A393,Controls!$AB$7:$AC$20,2,FALSE)*B393,\"\")","v":""},{"$f":"IF(Controls!B198=\"\",\"\",Controls!B198)","v":0}]
[{"$f":"IF(Controls!H199=\"\",\"\",IF(LEFT(Controls!H199, 6)=\"Motion\", Controls!BS199,Controls!H199))","v":""},{"$f":"IF(LEFT(A394, 6)=\"Motion\", Controls!E199, (IF(Controls!J199=\"\",\"\",Controls!J199)))","v":""},{"$f":"IF(LEFT(A394, 6)=\"Motion\", Controls!K199, IF(Controls!L199=\"\",\"\",Controls!L199))","v":""},{"$f":"IF(Controls!Q199=\"\",\"\",Controls!Q199)","v":""},{"$f":"IF(Controls!J199=\"\",IF(RIGHT(Controls!C199, 4)=\"Case\", Controls!S199, \"\"),Controls!V199)","v":""},"",{"$f":"IFERROR(VLOOKUP($A394,Controls!$AB$7:$AC$20,2,FALSE)*B394,\"\")","v":""},{"$f":"IF(Controls!B199=\"\",\"\",Controls!B199)","v":0}]
[{"$f":"IF(Controls!H200=\"\",\"\",IF(LEFT(Controls!H200, 6)=\"Motion\", Controls!BS200,Controls!H200))","v":""},{"$f":"IF(LEFT(A395, 6)=\"Motion\", Controls!E200, (IF(Controls!J200=\"\",\"\",Controls!J200)))","v":""},{"$f":"IF(LEFT(A395, 6)=\"Motion\", Controls!K200, IF(Controls!L200=\"\",\"\",Controls!L200))","v":""},{"$f":"IF(Controls!Q200=\"\",\"\",Controls!Q200)","v":""},{"$f":"IF(Controls!J200=\"\",IF(RIGHT(Controls!C200, 4)=\"Case\", Controls!S200, \"\"),Controls!V200)","v":""},"",{"$f":"IFERROR(VLOOKUP($A395,Controls!$AB$7:$AC$20,2,FALSE)*B395,\"\")","v":""},{"$f":"IF(Controls!B200=\"\",\"\",Controls!B200)","v":0}]
[{"$f":"IF(Controls!H201=\"\",\"\",IF(LEFT(Controls!H201, 6)=\"Motion\", Controls!BS201,Controls!H201))","v":""},{"$f":"IF(LEFT(A396, 6)=\"Motion\", Controls!E201, (IF(Controls!J201=\"\",\"\",Controls!J201)))","v":""},{"$f":"IF(LEFT(A396, 6)=\"Motion\", Controls!K201, IF(Controls!L201=\"\",\"\",Controls!L201))","v":""},{"$f":"IF(Controls!Q201=\"\",\"\",Controls!Q201)","v":""},{"$f":"IF(Controls!J201=\"\",IF(RIGHT(Controls!C201, 4)=\"Case\", Controls!S201, \"\"),Controls!V201)","v":""},"",{"$f":"IFERROR(VLOOKUP($A396,Controls!$AB$7:$AC$20,2,FALSE)*B396,\"\")","v":""},{"$f":"IF(Controls!B201=\"\",\"\",Controls!B201)","v":0}]
[{"$f":"IF(Controls!H202=\"\",\"\",IF(LEFT(Controls!H202, 6)=\"Motion\", Controls!BS202,Controls!H202))","v":""},{"$f":"IF(LEFT(A397, 6)=\"Motion\", Controls!E202, (IF(Controls!J202=\"\",\"\",Controls!J202)))","v":""},{"$f":"IF(LEFT(A397, 6)=\"Motion\", Controls!K202, IF(Controls!L202=\"\",\"\",Controls!L202))","v":""},{"$f":"IF(Controls!Q202=\"\",\"\",Controls!Q202)","v":""},{"$f":"IF(Controls!J202=\"\",IF(RIGHT(Controls!C202, 4)=\"Case\", Controls!S202, \"\"),Controls!V202)","v":""},"",{"$f":"IFERROR(VLOOKUP($A397,Controls!$AB$7:$AC$20,2,FALSE)*B397,\"\")","v":""},{"$f":"IF(Controls!B202=\"\",\"\",Controls!B202)","v":0}]
[{"$f":"IF(Controls!H203=\"\",\"\",IF(LEFT(Controls!H203, 6)=\"Motion\", Controls!BS203,Controls!H203))","v":""},{"$f":"IF(LEFT(A398, 6)=\"Motion\", Controls!E203, (IF(Controls!J203=\"\",\"\",Controls!J203)))","v":""},{"$f":"IF(LEFT(A398, 6)=\"Motion\", Controls!K203, IF(Controls!L203=\"\",\"\",Controls!L203))","v":""},{"$f":"IF(Controls!Q203=\"\",\"\",Controls!Q203)","v":""},{"$f":"IF(Controls!J203=\"\",IF(RIGHT(Controls!C203, 4)=\"Case\", Controls!S203, \"\"),Controls!V203)","v":""},"",{"$f":"IFERROR(VLOOKUP($A398,Controls!$AB$7:$AC$20,2,FALSE)*B398,\"\")","v":""},{"$f":"IF(Controls!B203=\"\",\"\",Controls!B203)","v":0}]
[{"$f":"IF(Controls!H204=\"\",\"\",IF(LEFT(Controls!H204, 6)=\"Motion\", Controls!BS204,Controls!H204))","v":""},{"$f":"IF(LEFT(A399, 6)=\"Motion\", Controls!E204, (IF(Controls!J204=\"\",\"\",Controls!J204)))","v":""},{"$f":"IF(LEFT(A399, 6)=\"Motion\", Controls!K204, IF(Controls!L204=\"\",\"\",Controls!L204))","v":""},{"$f":"IF(Controls!Q204=\"\",\"\",Controls!Q204)","v":""},{"$f":"IF(Controls!J204=\"\",IF(RIGHT(Controls!C204, 4)=\"Case\", Controls!S204, \"\"),Controls!V204)","v":""},"",{"$f":"IFERROR(VLOOKUP($A399,Controls!$AB$7:$AC$20,2,FALSE)*B399,\"\")","v":""},{"$f":"IF(Controls!B204=\"\",\"\",Controls!B204)","v":0}]
[{"$f":"IF(Controls!H205=\"\",\"\",IF(LEFT(Controls!H205, 6)=\"Motion\", Controls!BS205,Controls!H205))","v":""},{"$f":"IF(LEFT(A400, 6)=\"Motion\", Controls!E205, (IF(Controls!J205=\"\",\"\",Controls!J205)))","v":""},{"$f":"IF(LEFT(A400, 6)=\"Motion\", Controls!K205, IF(Controls!L205=\"\",\"\",Controls!L205))","v":""},{"$f":"IF(Controls!Q205=\"\",\"\",Controls!Q205)","v":""},{"$f":"IF(Controls!J205=\"\",IF(RIGHT(Controls!C205, 4)=\"Case\", Controls!S205, \"\"),Controls!V205)","v":""},"",{"$f":"IFERROR(VLOOKUP($A400,Controls!$AB$7:$AC$20,2,FALSE)*B400,\"\")","v":""},{"$f":"IF(Controls!B205=\"\",\"\",Controls!B205)","v":0}]
[{"$f":"IF(Controls!H206=\"\",\"\",IF(LEFT(Controls!H206, 6)=\"Motion\", Controls!BS206,Controls!H206))","v":""},{"$f":"IF(LEFT(A401, 6)=\"Motion\", Controls!E206, (IF(Controls!J206=\"\",\"\",Controls!J206)))","v":""},{"$f":"IF(LEFT(A401, 6)=\"Motion\", Controls!K206, IF(Controls!L206=\"\",\"\",Controls!L206))","v":""},{"$f":"IF(Controls!Q206=\"\",\"\",Controls!Q206)","v":""},{"$f":"IF(Controls!J206=\"\",IF(RIGHT(Controls!C206, 4)=\"Case\", Controls!S206, \"\"),Controls!V206)","v":""},"",{"$f":"IFERROR(VLOOKUP($A401,Controls!$AB$7:$AC$20,2,FALSE)*B401,\"\")","v":""},{"$f":"IF(Controls!B206=\"\",\"\",Controls!B206)","v":0}]
[{"$f":"IF(E402=\"\",\"\",A419)","v":""},{"$f":"IF('LED Case Lighting'!V3=\"\",\"\",'LED Case Lighting'!V3)","v":""},{"$f":"IF('LED Case Lighting'!AD3=\"\",\"\",'LED Case Lighting'!Z3)","v":""},{"$f":"IF('LED Case Lighting'!AD3=\"\",\"\",'LED Case Lighting'!AF3)","v":""},{"$f":"IF('LED Case Lighting'!AD3=\"\",\"\",'LED Case Lighting'!AJ3)","v":""},{"$f":"IF(E402=\"\",\"\",\"Grocery Refrigeration\")","v":""},null,null,null,"LED Case Lighting"]
["",{"$f":"IF('LED Case Lighting'!V4=\"\",\"\",'LED Case Lighting'!V4)","v":""},{"$f":"IF('LED Case Lighting'!AD4=\"\",\"\",'LED Case Lighting'!Z4)","v":""},{"$f":"IF('LED Case Lighting'!AD4=\"\",\"\",'LED Case Lighting'!AF4)","v":""},{"$f":"IF('LED Case Lighting'!AD4=\"\",\"\",'LED Case Lighting'!AJ4)","v":""},{"$f":"IF(E403=\"\",\"\",\"Grocery Refrigeration\")","v":""}]
["",{"$f":"IF('LED Case Lighting'!V5=\"\",\"\",'LED Case Lighting'!V5)","v":""},{"$f":"IF('LED Case Lighting'!AD5=\"\",\"\",'LED Case Lighting'!Z5)","v":""},{"$f":"IF('LED Case Lighting'!AD5=\"\",\"\",'LED Case Lighting'!AF5)","v":""},{"$f":"IF('LED Case Lighting'!AD5=\"\",\"\",'LED Case Lighting'!AJ5)","v":""},{"$f":"IF(E404=\"\",\"\",\"Grocery Refrigeration\")","v":""}]
["",{"$f":"IF('LED Case Lighting'!V6=\"\",\"\",'LED Case Lighting'!V6)","v":""},{"$f":"IF('LED Case Lighting'!AD6=\"\",\"\",'LED Case Lighting'!Z6)","v":""},{"$f":"IF('LED Case Lighting'!AD6=\"\",\"\",'LED Case Lighting'!AF6)","v":""},{"$f":"IF('LED Case Lighting'!AD6=\"\",\"\",'LED Case Lighting'!AJ6)","v":""},{"$f":"IF(E405=\"\",\"\",\"Grocery Refrigeration\")","v":""}]
["",{"$f":"IF('LED Case Lighting'!V7=\"\",\"\",'LED Case Lighting'!V7)","v":""},{"$f":"IF('LED Case Lighting'!AD7=\"\",\"\",'LED Case Lighting'!Z7)","v":""},{"$f":"IF('LED Case Lighting'!AD7=\"\",\"\",'LED Case Lighting'!AF7)","v":""},{"$f":"IF('LED Case Lighting'!AD7=\"\",\"\",'LED Case Lighting'!AJ7)","v":""},{"$f":"IF(E406=\"\",\"\",\"Grocery Refrigeration\")","v":""}]
["",{"$f":"IF('LED Case Lighting'!V8=\"\",\"\",'LED Case Lighting'!V8)","v":""},{"$f":"IF('LED Case Lighting'!AD8=\"\",\"\",'LED Case Lighting'!Z8)","v":""},{"$f":"IF('LED Case Lighting'!AD8=\"\",\"\",'LED Case Lighting'!AF8)","v":""},{"$f":"IF('LED Case Lighting'!AD8=\"\",\"\",'LED Case Lighting'!AJ8)","v":""},{"$f":"IF(E407=\"\",\"\",\"Grocery Refrigeration\")","v":""}]
["",{"$f":"IF('LED Case Lighting'!V9=\"\",\"\",'LED Case Lighting'!V9)","v":""},{"$f":"IF('LED Case Lighting'!AD9=\"\",\"\",'LED Case Lighting'!Z9)","v":""},{"$f":"IF('LED Case Lighting'!AD9=\"\",\"\",'LED Case Lighting'!AF9)","v":""},{"$f":"IF('LED Case Lighting'!AD9=\"\",\"\",'LED Case Lighting'!AJ9)","v":""},""]
["",{"$f":"IF('LED Case Lighting'!V10=\"\",\"\",'LED Case Lighting'!V10)","v":""},{"$f":"IF('LED Case Lighting'!AD10=\"\",\"\",'LED Case Lighting'!Z10)","v":""},{"$f":"IF('LED Case Lighting'!AD10=\"\",\"\",'LED Case Lighting'!AF10)","v":""},{"$f":"IF('LED Case Lighting'!AD10=\"\",\"\",'LED Case Lighting'!AJ10)","v":""},""]
["",{"$f":"IF('LED Case Lighting'!V11=\"\",\"\",'LED Case Lighting'!V11)","v":""},{"$f":"IF('LED Case Lighting'!AD11=\"\",\"\",'LED Case Lighting'!Z11)","v":""},{"$f":"IF('LED Case Lighting'!AD11=\"\",\"\",'LED Case Lighting'!AF11)","v":""},{"$f":"IF('LED Case Lighting'!AD11=\"\",\"\",'LED Case Lighting'!AJ11)","v":""},""]
["",{"$f":"IF('LED Case Lighting'!V12=\"\",\"\",'LED Case Lighting'!V12)","v":""},{"$f":"IF('LED Case Lighting'!AD12=\"\",\"\",'LED Case Lighting'!Z12)","v":""},{"$f":"IF('LED Case Lighting'!AD12=\"\",\"\",'LED Case Lighting'!AF12)","v":""},{"$f":"IF('LED Case Lighting'!AD12=\"\",\"\",'LED Case Lighting'!AJ12)","v":""},""]
["",{"$f":"IF('LED Case Lighting'!V13=\"\",\"\",'LED Case Lighting'!V13)","v":""},{"$f":"IF('LED Case Lighting'!AD13=\"\",\"\",'LED Case Lighting'!Z13)","v":""},{"$f":"IF('LED Case Lighting'!AD13=\"\",\"\",'LED Case Lighting'!AF13)","v":""},{"$f":"IF('LED Case Lighting'!AD13=\"\",\"\",'LED Case Lighting'!AJ13)","v":""},""]
["",{"$f":"IF('LED Case Lighting'!V14=\"\",\"\",'LED Case Lighting'!V14)","v":""},{"$f":"IF('LED Case Lighting'!AD14=\"\",\"\",'LED Case Lighting'!Z14)","v":""},{"$f":"IF('LED Case Lighting'!AD14=\"\",\"\",'LED Case Lighting'!AF14)","v":""},{"$f":"IF('LED Case Lighting'!AD14=\"\",\"\",'LED Case Lighting'!AJ14)","v":""},{"$f":"IF(E413=\"\",\"\",\"Grocery Refrigeration\")","v":""}]
["",{"$f":"IF('LED Case Lighting'!V15=\"\",\"\",'LED Case Lighting'!V15)","v":""},{"$f":"IF('LED Case Lighting'!AD15=\"\",\"\",'LED Case Lighting'!Z15)","v":""},{"$f":"IF('LED Case Lighting'!AD15=\"\",\"\",'LED Case Lighting'!AF15)","v":""},{"$f":"IF('LED Case Lighting'!AD15=\"\",\"\",'LED Case Lighting'!AJ15)","v":""},{"$f":"IF(E414=\"\",\"\",\"Grocery Refrigeration\")","v":""}]
[{"$f":"IF('Performance+'!C27=\"(select)\",\"\",\"Performance+ Lighting Incentive\")","v":""},{"$f":"IF('Performance+'!C27=\"yes\",1,\"\")","v":""},{"$f":"IF('Performance+'!C27=\"yes\",0,\"\")","v":""},{"$f":"IF('Performance+'!C27=\"yes\",0,\"\")","v":""},{"$f":"IF('Performance+'!C27=\"yes\",'Analysis 103L'!#REF!,\"\")","v":""},null,null,{"$f":"IF('Performance+'!C27=\"yes\",0,\"\")","v":""}]
[]
[]
[]
["Motion Sensor, on Low Power LED"]
["Motion Sensor, on High Power LED"]
["Single Row T8 Low Power LED (Medium Temp⁯ Case)"]
["Single Row T12 Low Power LED (Medium Temp⁯ Case)"]
["Double Row T8 High Power LED (Medium Temp⁯ Case)"]
["Double Row T12 High Power LED (Medium Temp⁯ Case)"]
["Single Row T12 Low Power LED (Medium Temp Case or Low Temp Case)"]
["Double Row T8 High Power LED (Medium Temp Case or Low Temp Case)"]
["Double Row T12 High Power LED (Medium Temp Case or Low Temp Case)"]
["Single Row T8 Low Power LED (Low Temp Case)"]
["Single Row T12 Low Power LED (Low Temp Case)"]
["Double Row T8 High Power LED (Low Temp Case)"]
["Double Row T12 High Power LED (Low Temp Case)"]

{"sheet":"Measure Summary","index":12,"n_rows":13,"n_cols":7,"rows_kept":13,"cut":false,"hidden":true,"merged":[[10,0,10,6],[0,3,0,5],[3,3,3,5],[2,3,2,5],[4,3,4,5]]}
[null,null,null,"Program Use Only",null,null,{"$f":"version","v":"v2023.1"}]
[null,null,null,"Project ID",{"$f":"IF('100L Information'!S3=\"\",\"\",'100L Information'!S3)","v":""},"PT ID",{"$f":"IF('100L Information'!AB3=\"\",\"\",'100L Information'!AB3)","v":""}]
[null,null,null,"Eligible to Self-direct?",null,null,{"$f":"IF('100L Information'!Z4=\"\",\"\",'100L Information'!Z4)","v":"(select)"}]
[null,null,null,"Currently using EE Self-direct credits?",null,null,{"$f":"IF('100L Information'!Z5=\"\",\"\",'100L Information'!Z5)","v":"(select)"}]
[null,null,null,"Install Complete",null,null,{"$f":"IF('Analysis 103L'!R5=\"\",\"\",'Analysis 103L'!R5)","v":""}]
[]
[null,null,null,"Quantity","Total Cost","Final Incentive","kWh Savings"]
[null,null,null,{"$f":"SUM(D14:D1000)","v":0},{"$f":"SUM(E14:E1000)","v":0},{"$f":"SUM(F14:F1000)","v":0},{"$f":"SUM(G14:G1000)","v":0}]
[]
["Location","(All)"]
["Analysis And Control Summary"]
[null,null,"Data"]
["Measure","Electric Load Profile","NEBs","Quantity","Total Cost","Final Incentive","kWh Savings"]

{"sheet":"FTImport","index":13,"n_rows":113,"n_cols":19,"rows_kept":113,"cut":false,"hidden":true,"merged":[]}
["MeasureCode","Quantity","UnitCost","CostInstall","UnitSave","Incentive","InstalledDT","ReservationDT","KWh","Therm","LP_ELE","LP_GAS","Life","NEB","EXEQUIP","EXWATT","HOURS","INSTWATT","EXQTY"]
[{"$f":"IF('Measure Summary'!A14=\"\",\"\",VLOOKUP('Measure Summary'!A14,Lookups!$A$30:$J$156,VLOOKUP('100L Information'!$AI$46,Lookups!$J$3:$K$6,2,FALSE), FALSE))","v":""},{"$f":"IF('Measure Summary'!A14=\"\",\"\",'Measure Summary'!D14)","v":""},{"$f":"IF('Measure Summary'!A14=\"\",\"\",\"N\")","v":""},{"$f":"IF('Measure Summary'!A14=\"\",\"\",'Measure Summary'!E14)","v":""},{"$f":"IF('Measure Summary'!A14=\"\",\"\",\"N\")","v":""},{"$f":"IF('Measure Summary'!A14=\"\",\"\",'Measure Summary'!F14)","v":""},{"$f":"IF('Measure Summary'!A14=\"\",\"\",'Analysis 103L'!$R$5)","v":""},{"$f":"IF('Measure Summary'!A14=\"\",\"\",'Analysis 103L'!$R$4)","v":""},{"$f":"IF('Measure Summary'!A14=\"\",\"\", ROUND('Measure Summary'!G14,0))","v":""},{"$f":"IF('Measure Summary'!A14=\"\",\"\",0)","v":""},{"$f":"IF('Measure Summary'!A14=\"\",\"\",'Measure Summary'!B14)","v":""},{"$f":"IF('Measure Summary'!A14=\"\",\"\",\"NONEG\")","v":""},{"$f":"IF('Measure Summary'!A14=\"\",\"\",VLOOKUP('Measure Summary'!A14,Lookups!$A$30:$J$156,Lookups!$L$7,FALSE))","v":""},{"$f":"IF(OR('Measure Summary'!C14=\"(blank)\",'Measure Summary'!C14=0),\"\",'Measure Summary'!C14)","v":""}]
[{"$f":"IF('Measure Summary'!A15=\"\",\"\",VLOOKUP('Measure Summary'!A15,Lookups!$A$30:$J$156,VLOOKUP('100L Information'!$AI$46,Lookups!$J$3:$K$6,2,FALSE), FALSE))","v":""},{"$f":"IF('Measure Summary'!A15=\"\",\"\",'Measure Summary'!D15)","v":""},{"$f":"IF('Measure Summary'!A15=\"\",\"\",\"N\")","v":""},{"$f":"IF('Measure Summary'!A15=\"\",\"\",'Measure Summary'!E15)","v":""},{"$f":"IF('Measure Summary'!A15=\"\",\"\",\"N\")","v":""},{"$f":"IF('Measure Summary'!A15=\"\",\"\",'Measure Summary'!F15)","v":""},{"$f":"IF('Measure Summary'!A15=\"\",\"\",'Analysis 103L'!$R$5)","v":""},{"$f":"IF('Measure Summary'!A15=\"\",\"\",'Analysis 103L'!$R$4)","v":""},{"$f":"IF('Measure Summary'!A15=\"\",\"\", ROUND('Measure Summary'!G15,0))","v":""},{"$f":"IF('Measure Summary'!A15=\"\",\"\",0)","v":""},{"$f":"IF('Measure Summary'!A15=\"\",\"\",'Measure Summary'!B15)","v":""},{"$f":"IF('Measure Summary'!A15=\"\",\"\",\"NONEG\")","v":""},{"$f":"IF('Measure Summary'!A15=\"\",\"\",VLOOKUP('Measure Summary'!A15,Lookups!$A$30:$J$156,Lookups!$L$7,FALSE))","v":""},{"$f":"IF(OR('Measure Summary'!C15=\"(blank)\",'Measure Summary'!C15=0),\"\",'Measure Summary'!C15)","v":""}]
[{"$f":"IF('Measure Summary'!A16=\"\",\"\",VLOOKUP('Measure Summary'!A16,Lookups!$A$30:$J$156,VLOOKUP('100L Information'!$AI$46,Lookups!$J$3:$K$6,2,FALSE), FALSE))","v":""},{"$f":"IF('Measure Summary'!A16=\"\",\"\",'Measure Summary'!D16)","v":""},{"$f":"IF('Measure Summary'!A16=\"\",\"\",\"N\")","v":""},{"$f":"IF('Measure Summary'!A16=\"\",\"\",'Measure Summary'!E16)","v":""},{"$f":"IF('Measure Summary'!A16=\"\",\"\",\"N\")","v":""},{"$f":"IF('Measure Summary'!A16=\"\",\"\",'Measure Summary'!F16)","v":""},{"$f":"IF('Measure Summary'!A16=\"\",\"\",'Analysis 103L'!$R$5)","v":""},{"$f":"IF('Measure Summary'!A16=\"\",\"\",'Analysis 103L'!$R$4)","v":""},{"$f":"IF('Measure Summary'!A16=\"\",\"\", ROUND('Measure Summary'!G16,0))","v":""},{"$f":"IF('Measure Summary'!A16=\"\",\"\",0)","v":""},{"$f":"IF('Measure Summary'!A16=\"\",\"\",'Measure Summary'!B16)","v":""},{"$f":"IF('Measure Summary'!A16=\"\",\"\",\"NONEG\")","v":""},{"$f":"IF('Measure Summary'!A16=\"\",\"\",VLOOKUP('Measure Summary'!A16,Lookups!$A$30:$J$156,Lookups!$L$7,FALSE))","v":""},{"$f":"IF(OR('Measure Summary'!C16=\"(blank)\",'Measure Summary'!C16=0),\"\",'Measure Summary'!C16)","v":""}]
[{"$f":"IF('Measure Summary'!A17=\"\",\"\",VLOOKUP('Measure Summary'!A17,Lookups!$A$30:$J$156,VLOOKUP('100L Information'!$AI$46,Lookups!$J$3:$K$6,2,FALSE), FALSE))","v":""},{"$f":"IF('Measure Summary'!A17=\"\",\"\",'Measure Summary'!D17)","v":""},{"$f":"IF('Measure Summary'!A17=\"\",\"\",\"N\")","v":""},{"$f":"IF('Measure Summary'!A17=\"\",\"\",'Measure Summary'!E17)","v":""},{"$f":"IF('Measure Summary'!A17=\"\",\"\",\"N\")","v":""},{"$f":"IF('Measure Summary'!A17=\"\",\"\",'Measure Summary'!F17)","v":""},{"$f":"IF('Measure Summary'!A17=\"\",\"\",'Analysis 103L'!$R$5)","v":""},{"$f":"IF('Measure Summary'!A17=\"\",\"\",'Analysis 103L'!$R$4)","v":""},{"$f":"IF('Measure Summary'!A17=\"\",\"\", ROUND('Measure Summary'!G17,0))","v":""},{"$f":"IF('Measure Summary'!A17=\"\",\"\",0)","v":""},{"$f":"IF('Measure Summary'!A17=\"\",\"\",'Measure Summary'!B17)","v":""},{"$f":"IF('Measure Summary'!A17=\"\",\"\",\"NONEG\")","v":""},{"$f":"IF('Measure Summary'!A17=\"\",\"\",VLOOKUP('Measure Summary'!A17,Lookups!$A$30:$J$156,Lookups!$L$7,FALSE))","v":""},{"$f":"IF(OR('Measure Summary'!C17=\"(blank)\",'Measure Summary'!C17=0),\"\",'Measure Summary'!C17)","v":""}]
[{"$f":"IF('Measure Summary'!A18=\"\",\"\",VLOOKUP('Measure Summary'!A18,Lookups!$A$30:$J$156,VLOOKUP('100L Information'!$AI$46,Lookups!$J$3:$K$6,2,FALSE), FALSE))","v":""},{"$f":"IF('Measure Summary'!A18=\"\",\"\",'Measure Summary'!D18)","v":""},{"$f":"IF('Measure Summary'!A18=\"\",\"\",\"N\")","v":""},{"$f":"IF('Measure Summary'!A18=\"\",\"\",'Measure Summary'!E18)","v":""},{"$f":"IF('Measure Summary'!A18=\"\",\"\",\"N\")","v":""},{"$f":"IF('Measure Summary'!A18=\"\",\"\",'Measure Summary'!F18)","v":""},{"$f":"IF('Measure Summary'!A18=\"\",\"\",'Analysis 103L'!$R$5)","v":""},{"$f":"IF('Measure Summary'!A18=\"\",\"\",'Analysis 103L'!$R$4)","v":""},{"$f":"IF('Measure Summary'!A18=\"\",\"\", ROUND('Measure Summary'!G18,0))","v":""},{"$f":"IF('Measure Summary'!A18=\"\",\"\",0)","v":""},{"$f":"IF('Measure Summary'!A18=\"\",\"\",'Measure Summary'!B18)","v":""},{"$f":"IF('Measure Summary'!A18=\"\",\"\",\"NONEG\")","v":""},{"$f":"IF('Measure Summary'!A18=\"\",\"\",VLOOKUP('Measure Summary'!A18,Lookups!$A$30:$J$156,Lookups!$L$7,FALSE))","v":""},{"$f":"IF(OR('Measure Summary'!C18=\"(blank)\",'Measure Summary'!C18=0),\"\",'Measure Summary'!C18)","v":""}]
[{"$f":"IF('Measure Summary'!A19=\"\",\"\",VLOOKUP('Measure Summary'!A19,Lookups!$A$30:$J$156,VLOOKUP('100L Information'!$AI$46,Lookups!$J$3:$K$6,2,FALSE), FALSE))","v":""},{"$f":"IF('Measure Summary'!A19=\"\",\"\",'Measure Summary'!D19)","v":""},{"$f":"IF('Measure Summary'!A19=\"\",\"\",\"N\")","v":""},{"$f":"IF('Measure Summary'!A19=\"\",\"\",'Measure Summary'!E19)","v":""},{"$f":"IF('Measure Summary'!A19=\"\",\"\",\"N\")","v":""},{"$f":"IF('Measure Summary'!A19=\"\",\"\",'Measure Summary'!F19)","v":""},{"$f":"IF('Measure Summary'!A19=\"\",\"\",'Analysis 103L'!$R$5)","v":""},{"$f":"IF('Measure Summary'!A19=\"\",\"\",'Analysis 103L'!$R$4)","v":""},{"$f":"IF('Measure Summary'!A19=\"\",\"\", ROUND('Measure Summary'!G19,0))","v":""},{"$f":"IF('Measure Summary'!A19=\"\",\"\",0)","v":""},{"$f":"IF('Measure Summary'!A19=\"\",\"\",'Measure Summary'!B19)","v":""},{"$f":"IF('Measure Summary'!A19=\"\",\"\",\"NONEG\")","v":""},{"$f":"IF('Measure Summary'!A19=\"\",\"\",VLOOKUP('Measure Summary'!A19,Lookups!$A$30:$J$156,Lookups!$L$7,FALSE))","v":""},{"$f":"IF(OR('Measure Summary'!C19=\"(blank)\",'Measure Summary'!C19=0),\"\",'Measure Summary'!C19)","v":""}]
[{"$f":"IF('Measure Summary'!A20=\"\",\"\",VLOOKUP('Measure Summary'!A20,Lookups!$A$30:$J$156,VLOOKUP('100L Information'!$AI$46,Lookups!$J$3:$K$6,2,FALSE), FALSE))","v":""},{"$f":"IF('Measure Summary'!A20=\"\",\"\",'Measure Summary'!D20)","v":""},{"$f":"IF('Measure Summary'!A20=\"\",\"\",\"N\")","v":""},{"$f":"IF('Measure Summary'!A20=\"\",\"\",'Measure Summary'!E20)","v":""},{"$f":"IF('Measure Summary'!A20=\"\",\"\",\"N\")","v":""},{"$f":"IF('Measure Summary'!A20=\"\",\"\",'Measure Summary'!F20)","v":""},{"$f":"IF('Measure Summary'!A20=\"\",\"\",'Analysis 103L'!$R$5)","v":""},{"$f":"IF('Measure Summary'!A20=\"\",\"\",'Analysis 103L'!$R$4)","v":""},{"$f":"IF('Measure Summary'!A20=\"\",\"\", ROUND('Measure Summary'!G20,0))","v":""},{"$f":"IF('Measure Summary'!A20=\"\",\"\",0)","v":""},{"$f":"IF('Measure Summary'!A20=\"\",\"\",'Measure Summary'!B20)","v":""},{"$f":"IF('Measure Summary'!A20=\"\",\"\",\"NONEG\")","v":""},{"$f":"IF('Measure Summary'!A20=\"\",\"\",VLOOKUP('Measure Summary'!A20,Lookups!$A$30:$J$156,Lookups!$L$7,FALSE))","v":""},{"$f":"IF(OR('Measure Summary'!C20=\"(blank)\",'Measure Summary'!C20=0),\"\",'Measure Summary'!C20)","v":""}]
[{"$f":"IF('Measure Summary'!A21=\"\",\"\",VLOOKUP('Measure Summary'!A21,Lookups!$A$30:$J$156,VLOOKUP('100L Information'!$AI$46,Lookups!$J$3:$K$6,2,FALSE), FALSE))","v":""},{"$f":"IF('Measure Summary'!A21=\"\",\"\",'Measure Summary'!D21)","v":""},{"$f":"IF('Measure Summary'!A21=\"\",\"\",\"N\")","v":""},{"$f":"IF('Measure Summary'!A21=\"\",\"\",'Measure Summary'!E21)","v":""},{"$f":"IF('Measure Summary'!A21=\"\",\"\",\"N\")","v":""},{"$f":"IF('Measure Summary'!A21=\"\",\"\",'Measure Summary'!F21)","v":""},{"$f":"IF('Measure Summary'!A21=\"\",\"\",'Analysis 103L'!$R$5)","v":""},{"$f":"IF('Measure Summary'!A21=\"\",\"\",'Analysis 103L'!$R$4)","v":""},{"$f":"IF('Measure Summary'!A21=\"\",\"\", ROUND('Measure Summary'!G21,0))","v":""},{"$f":"IF('Measure Summary'!A21=\"\",\"\",0)","v":""},{"$f":"IF('Measure Summary'!A21=\"\",\"\",'Measure Summary'!B21)","v":""},{"$f":"IF('Measure Summary'!A21=\"\",\"\",\"NONEG\")","v":""},{"$f":"IF('Measure Summary'!A21=\"\",\"\",VLOOKUP('Measure Summary'!A21,Lookups!$A$30:$J$156,Lookups!$L$7,FALSE))","v":""},{"$f":"IF(OR('Measure Summary'!C21=\"(blank)\",'Measure Summary'!C21=0),\"\",'Measure Summary'!C21)","v":""}]
[{"$f":"IF('Measure Summary'!A22=\"\",\"\",VLOOKUP('Measure Summary'!A22,Lookups!$A$30:$J$156,VLOOKUP('100L Information'!$AI$46,Lookups!$J$3:$K$6,2,FALSE), FALSE))","v":""},{"$f":"IF('Measure Summary'!A22=\"\",\"\",'Measure Summary'!D22)","v":""},{"$f":"IF('Measure Summary'!A22=\"\",\"\",\"N\")","v":""},{"$f":"IF('Measure Summary'!A22=\"\",\"\",'Measure Summary'!E22)","v":""},{"$f":"IF('Measure Summary'!A22=\"\",\"\",\"N\")","v":""},{"$f":"IF('Measure Summary'!A22=\"\",\"\",'Measure Summary'!F22)","v":""},{"$f":"IF('Measure Summary'!A22=\"\",\"\",'Analysis 103L'!$R$5)","v":""},{"$f":"IF('Measure Summary'!A22=\"\",\"\",'Analysis 103L'!$R$4)","v":""},{"$f":"IF('Measure Summary'!A22=\"\",\"\", ROUND('Measure Summary'!G22,0))","v":""},{"$f":"IF('Measure Summary'!A22=\"\",\"\",0)","v":""},{"$f":"IF('Measure Summary'!A22=\"\",\"\",'Measure Summary'!B22)","v":""},{"$f":"IF('Measure Summary'!A22=\"\",\"\",\"NONEG\")","v":""},{"$f":"IF('Measure Summary'!A22=\"\",\"\",VLOOKUP('Measure Summary'!A22,Lookups!$A$30:$J$156,Lookups!$L$7,FALSE))","v":""},{"$f":"IF(OR('Measure Summary'!C22=\"(blank)\",'Measure Summary'!C22=0),\"\",'Measure Summary'!C22)","v":""}]
[{"$f":"IF('Measure Summary'!A23=\"\",\"\",VLOOKUP('Measure Summary'!A23,Lookups!$A$30:$J$156,VLOOKUP('100L Information'!$AI$46,Lookups!$J$3:$K$6,2,FALSE), FALSE))","v":""},{"$f":"IF('Measure Summary'!A23=\"\",\"\",'Measure Summary'!D23)","v":""},{"$f":"IF('Measure Summary'!A23=\"\",\"\",\"N\")","v":""},{"$f":"IF('Measure Summary'!A23=\"\",\"\",'Measure Summary'!E23)","v":""},{"$f":"IF('Measure Summary'!A23=\"\",\"\",\"N\")","v":""},{"$f":"IF('Measure Summary'!A23=\"\",\"\",'Measure Summary'!F23)","v":""},{"$f":"IF('Measure Summary'!A23=\"\",\"\",'Analysis 103L'!$R$5)","v":""},{"$f":"IF('Measure Summary'!A23=\"\",\"\",'Analysis 103L'!$R$4)","v":""},{"$f":"IF('Measure Summary'!A23=\"\",\"\", ROUND('Measure Summary'!G23,0))","v":""},{"$f":"IF('Measure Summary'!A23=\"\",\"\",0)","v":""},{"$f":"IF('Measure Summary'!A23=\"\",\"\",'Measure Summary'!B23)","v":""},{"$f":"IF('Measure Summary'!A23=\"\",\"\",\"NONEG\")","v":""},{"$f":"IF('Measure Summary'!A23=\"\",\"\",VLOOKUP('Measure Summary'!A23,Lookups!$A$30:$J$156,Lookups!$L$7,FALSE))","v":""},{"$f":"IF(OR('Measure Summary'!C23=\"(blank)\",'Measure Summary'!C23=0),\"\",'Measure Summary'!C23)","v":""}]
[{"$f":"IF('Measure Summary'!A24=\"\",\"\",VLOOKUP('Measure Summary'!A24,Lookups!$A$30:$J$156,VLOOKUP('100L Information'!$AI$46,Lookups!$J$3:$K$6,2,FALSE), FALSE))","v":""},{"$f":"IF('Measure Summary'!A24=\"\",\"\",'Measure Summary'!D24)","v":""},{"$f":"IF('Measure Summary'!A24=\"\",\"\",\"N\")","v":""},{"$f":"IF('Measure Summary'!A24=\"\",\"\",'Measure Summary'!E24)","v":""},{"$f":"IF('Measure Summary'!A24=\"\",\"\",\"N\")","v":""},{"$f":"IF('Measure Summary'!A24=\"\",\"\",'Measure Summary'!F24)","v":""},{"$f":"IF('Measure Summary'!A24=\"\",\"\",'Analysis 103L'!$R$5)","v":""},{"$f":"IF('Measure Summary'!A24=\"\",\"\",'Analysis 103L'!$R$4)","v":""},{"$f":"IF('Measure Summary'!A24=\"\",\"\", ROUND('Measure Summary'!G24,0))","v":""},{"$f":"IF('Measure Summary'!A24=\"\",\"\",0)","v":""},{"$f":"IF('Measure Summary'!A24=\"\",\"\",'Measure Summary'!B24)","v":""},{"$f":"IF('Measure Summary'!A24=\"\",\"\",\"NONEG\")","v":""},{"$f":"IF('Measure Summary'!A24=\"\",\"\",VLOOKUP('Measure Summary'!A24,Lookups!$A$30:$J$156,Lookups!$L$7,FALSE))","v":""},{"$f":"IF(OR('Measure Summary'!C24=\"(blank)\",'Measure Summary'!C24=0),\"\",'Measure Summary'!C24)","v":""}]
[{"$f":"IF('Measure Summary'!A25=\"\",\"\",VLOOKUP('Measure Summary'!A25,Lookups!$A$30:$J$156,VLOOKUP('100L Information'!$AI$46,Lookups!$J$3:$K$6,2,FALSE), FALSE))","v":""},{"$f":"IF('Measure Summary'!A25=\"\",\"\",'Measure Summary'!D25)","v":""},{"$f":"IF('Measure Summary'!A25=\"\",\"\",\"N\")","v":""},{"$f":"IF('Measure Summary'!A25=\"\",\"\",'Measure Summary'!E25)","v":""},{"$f":"IF('Measure Summary'!A25=\"\",\"\",\"N\")","v":""},{"$f":"IF('Measure Summary'!A25=\"\",\"\",'Measure Summary'!F25)","v":""},{"$f":"IF('Measure Summary'!A25=\"\",\"\",'Analysis 103L'!$R$5)","v":""},{"$f":"IF('Measure Summary'!A25=\"\",\"\",'Analysis 103L'!$R$4)","v":""},{"$f":"IF('Measure Summary'!A25=\"\",\"\", ROUND('Measure Summary'!G25,0))","v":""},{"$f":"IF('Measure Summary'!A25=\"\",\"\",0)","v":""},{"$f":"IF('Measure Summary'!A25=\"\",\"\",'Measure Summary'!B25)","v":""},{"$f":"IF('Measure Summary'!A25=\"\",\"\",\"NONEG\")","v":""},{"$f":"IF('Measure Summary'!A25=\"\",\"\",VLOOKUP('Measure Summary'!A25,Lookups!$A$30:$J$156,Lookups!$L$7,FALSE))","v":""},{"$f":"IF(OR('Measure Summary'!C25=\"(blank)\",'Measure Summary'!C25=0),\"\",'Measure Summary'!C25)","v":""}]
[{"$f":"IF('Measure Summary'!A26=\"\",\"\",VLOOKUP('Measure Summary'!A26,Lookups!$A$30:$J$156,VLOOKUP('100L Information'!$AI$46,Lookups!$J$3:$K$6,2,FALSE), FALSE))","v":""},{"$f":"IF('Measure Summary'!A26=\"\",\"\",'Measure Summary'!D26)","v":""},{"$f":"IF('Measure Summary'!A26=\"\",\"\",\"N\")","v":""},{"$f":"IF('Measure Summary'!A26=\"\",\"\",'Measure Summary'!E26)","v":""},{"$f":"IF('Measure Summary'!A26=\"\",\"\",\"N\")","v":""},{"$f":"IF('Measure Summary'!A26=\"\",\"\",'Measure Summary'!F26)","v":""},{"$f":"IF('Measure Summary'!A26=\"\",\"\",'Analysis 103L'!$R$5)","v":""},{"$f":"IF('Measure Summary'!A26=\"\",\"\",'Analysis 103L'!$R$4)","v":""},{"$f":"IF('Measure Summary'!A26=\"\",\"\", ROUND('Measure Summary'!G26,0))","v":""},{"$f":"IF('Measure Summary'!A26=\"\",\"\",0)","v":""},{"$f":"IF('Measure Summary'!A26=\"\",\"\",'Measure Summary'!B26)","v":""},{"$f":"IF('Measure Summary'!A26=\"\",\"\",\"NONEG\")","v":""},{"$f":"IF('Measure Summary'!A26=\"\",\"\",VLOOKUP('Measure Summary'!A26,Lookups!$A$30:$J$156,Lookups!$L$7,FALSE))","v":""},{"$f":"IF(OR('Measure Summary'!C26=\"(blank)\",'Measure Summary'!C26=0),\"\",'Measure Summary'!C26)","v":""}]
[{"$f":"IF('Measure Summary'!A27=\"\",\"\",VLOOKUP('Measure Summary'!A27,Lookups!$A$30:$J$156,VLOOKUP('100L Information'!$AI$46,Lookups!$J$3:$K$6,2,FALSE), FALSE))","v":""},{"$f":"IF('Measure Summary'!A27=\"\",\"\",'Measure Summary'!D27)","v":""},{"$f":"IF('Measure Summary'!A27=\"\",\"\",\"N\")","v":""},{"$f":"IF('Measure Summary'!A27=\"\",\"\",'Measure Summary'!E27)","v":""},{"$f":"IF('Measure Summary'!A27=\"\",\"\",\"N\")","v":""},{"$f":"IF('Measure Summary'!A27=\"\",\"\",'Measure Summary'!F27)","v":""},{"$f":"IF('Measure Summary'!A27=\"\",\"\",'Analysis 103L'!$R$5)","v":""},{"$f":"IF('Measure Summary'!A27=\"\",\"\",'Analysis 103L'!$R$4)","v":""},{"$f":"IF('Measure Summary'!A27=\"\",\"\", ROUND('Measure Summary'!G27,0))","v":""},{"$f":"IF('Measure Summary'!A27=\"\",\"\",0)","v":""},{"$f":"IF('Measure Summary'!A27=\"\",\"\",'Measure Summary'!B27)","v":""},{"$f":"IF('Measure Summary'!A27=\"\",\"\",\"NONEG\")","v":""},{"$f":"IF('Measure Summary'!A27=\"\",\"\",VLOOKUP('Measure Summary'!A27,Lookups!$A$30:$J$156,Lookups!$L$7,FALSE))","v":""},{"$f":"IF(OR('Measure Summary'!C27=\"(blank)\",'Measure Summary'!C27=0),\"\",'Measure Summary'!C27)","v":""}]
[{"$f":"IF('Measure Summary'!A28=\"\",\"\",VLOOKUP('Measure Summary'!A28,Lookups!$A$30:$J$156,VLOOKUP('100L Information'!$AI$46,Lookups!$J$3:$K$6,2,FALSE), FALSE))","v":""},{"$f":"IF('Measure Summary'!A28=\"\",\"\",'Measure Summary'!D28)","v":""},{"$f":"IF('Measure Summary'!A28=\"\",\"\",\"N\")","v":""},{"$f":"IF('Measure Summary'!A28=\"\",\"\",'Measure Summary'!E28)","v":""},{"$f":"IF('Measure Summary'!A28=\"\",\"\",\"N\")","v":""},{"$f":"IF('Measure Summary'!A28=\"\",\"\",'Measure Summary'!F28)","v":""},{"$f":"IF('Measure Summary'!A28=\"\",\"\",'Analysis 103L'!$R$5)","v":""},{"$f":"IF('Measure Summary'!A28=\"\",\"\",'Analysis 103L'!$R$4)","v":""},{"$f":"IF('Measure Summary'!A28=\"\",\"\", ROUND('Measure Summary'!G28,0))","v":""},{"$f":"IF('Measure Summary'!A28=\"\",\"\",0)","v":""},{"$f":"IF('Measure Summary'!A28=\"\",\"\",'Measure Summary'!B28)","v":""},{"$f":"IF('Measure Summary'!A28=\"\",\"\",\"NONEG\")","v":""},{"$f":"IF('Measure Summary'!A28=\"\",\"\",VLOOKUP('Measure Summary'!A28,Lookups!$A$30:$J$156,Lookups!$L$7,FALSE))","v":""},{"$f":"IF(OR('Measure Summary'!C28=\"(blank)\",'Measure Summary'!C28=0),\"\",'Measure Summary'!C28)","v":""}]
[{"$f":"IF('Measure Summary'!A29=\"\",\"\",VLOOKUP('Measure Summary'!A29,Lookups!$A$30:$J$156,VLOOKUP('100L Information'!$AI$46,Lookups!$J$3:$K$6,2,FALSE), FALSE))","v":""},{"$f":"IF('Measure Summary'!A29=\"\",\"\",'Measure Summary'!D29)","v":""},{"$f":"IF('Measure Summary'!A29=\"\",\"\",\"N\")","v":""},{"$f":"IF('Measure Summary'!A29=\"\",\"\",'Measure Summary'!E29)","v":""},{"$f":"IF('Measure Summary'!A29=\"\",\"\",\"N\")","v":""},{"$f":"IF('Measure Summary'!A29=\"\",\"\",'Measure Summary'!F29)","v":""},{"$f":"IF('Measure Summary'!A29=\"\",\"\",'Analysis 103L'!$R$5)","v":""},{"$f":"IF('Measure Summary'!A29=\"\",\"\",'Analysis 103L'!$R$4)","v":""},{"$f":"IF('Measure Summary'!A29=\"\",\"\", ROUND('Measure Summary'!G29,0))","v":""},{"$f":"IF('Measure Summary'!A29=\"\",\"\",0)","v":""},{"$f":"IF('Measure Summary'!A29=\"\",\"\",'Measure Summary'!B29)","v":""},{"$f":"IF('Measure Summary'!A29=\"\",\"\",\"NONEG\")","v":""},{"$f":"IF('Measure Summary'!A29=\"\",\"\",VLOOKUP('Measure Summary'!A29,Lookups!$A$30:$J$156,Lookups!$L$7,FALSE))","v":""},{"$f":"IF(OR('Measure Summary'!C29=\"(blank)\",'Measure Summary'!C29=0),\"\",'Measure Summary'!C29)","v":""}]
[{"$f":"IF('Measure Summary'!A30=\"\",\"\",VLOOKUP('Measure Summary'!A30,Lookups!$A$30:$J$156,VLOOKUP('100L Information'!$AI$46,Lookups!$J$3:$K$6,2,FALSE), FALSE))","v":""},{"$f":"IF('Measure Summary'!A30=\"\",\"\",'Measure Summary'!D30)","v":""},{"$f":"IF('Measure Summary'!A30=\"\",\"\",\"N\")","v":""},{"$f":"IF('Measure Summary'!A30=\"\",\"\",'Measure Summary'!E30)","v":""},{"$f":"IF('Measure Summary'!A30=\"\",\"\",\"N\")","v":""},{"$f":"IF('Measure Summary'!A30=\"\",\"\",'Measure Summary'!F30)","v":""},{"$f":"IF('Measure Summary'!A30=\"\",\"\",'Analysis 103L'!$R$5)","v":""},{"$f":"IF('Measure Summary'!A30=\"\",\"\",'Analysis 103L'!$R$4)","v":""},{"$f":"IF('Measure Summary'!A30=\"\",\"\", ROUND('Measure Summary'!G30,0))","v":""},{"$f":"IF('Measure Summary'!A30=\"\",\"\",0)","v":""},{"$f":"IF('Measure Summary'!A30=\"\",\"\",'Measure Summary'!B30)","v":""},{"$f":"IF('Measure Summary'!A30=\"\",\"\",\"NONEG\")","v":""},{"$f":"IF('Measure Summary'!A30=\"\",\"\",VLOOKUP('Measure Summary'!A30,Lookups!$A$30:$J$156,Lookups!$L$7,FALSE))","v":""},{"$f":"IF(OR('Measure Summary'!C30=\"(blank)\",'Measure Summary'!C30=0),\"\",'Measure Summary'!C30)","v":""}]
[{"$f":"IF('Measure Summary'!A31=\"\",\"\",VLOOKUP('Measure Summary'!A31,Lookups!$A$30:$J$156,VLOOKUP('100L Information'!$AI$46,Lookups!$J$3:$K$6,2,FALSE), FALSE))","v":""},{"$f":"IF('Measure Summary'!A31=\"\",\"\",'Measure Summary'!D31)","v":""},{"$f":"IF('Measure Summary'!A31=\"\",\"\",\"N\")","v":""},{"$f":"IF('Measure Summary'!A31=\"\",\"\",'Measure Summary'!E31)","v":""},{"$f":"IF('Measure Summary'!A31=\"\",\"\",\"N\")","v":""},{"$f":"IF('Measure Summary'!A31=\"\",\"\",'Measure Summary'!F31)","v":""},{"$f":"IF('Measure Summary'!A31=\"\",\"\",'Analysis 103L'!$R$5)","v":""},{"$f":"IF('Measure Summary'!A31=\"\",\"\",'Analysis 103L'!$R$4)","v":""},{"$f":"IF('Measure Summary'!A31=\"\",\"\", ROUND('Measure Summary'!G31,0))","v":""},{"$f":"IF('Measure Summary'!A31=\"\",\"\",0)","v":""},{"$f":"IF('Measure Summary'!A31=\"\",\"\",'Measure Summary'!B31)","v":""},{"$f":"IF('Measure Summary'!A31=\"\",\"\",\"NONEG\")","v":""},{"$f":"IF('Measure Summary'!A31=\"\",\"\",VLOOKUP('Measure Summary'!A31,Lookups!$A$30:$J$156,Lookups!$L$7,FALSE))","v":""},{"$f":"IF(OR('Measure Summary'!C31=\"(blank)\",'Measure Summary'!C31=0),\"\",'Measure Summary'!C31)","v":""}]
[{"$f":"IF('Measure Summary'!A32=\"\",\"\",VLOOKUP('Measure Summary'!A32,Lookups!$A$30:$J$156,VLOOKUP('100L Information'!$AI$46,Lookups!$J$3:$K$6,2,FALSE), FALSE))","v":""},{"$f":"IF('Measure Summary'!A32=\"\",\"\",'Measure Summary'!D32)","v":""},{"$f":"IF('Measure Summary'!A32=\"\",\"\",\"N\")","v":""},{"$f":"IF('Measure Summary'!A32=\"\",\"\",'Measure Summary'!E32)","v":""},{"$f":"IF('Measure Summary'!A32=\"\",\"\",\"N\")","v":""},{"$f":"IF('Measure Summary'!A32=\"\",\"\",'Measure Summary'!F32)","v":""},{"$f":"IF('Measure Summary'!A32=\"\",\"\",'Analysis 103L'!$R$5)","v":""},{"$f":"IF('Measure Summary'!A32=\"\",\"\",'Analysis 103L'!$R$4)","v":""},{"$f":"IF('Measure Summary'!A32=\"\",\"\", ROUND('Measure Summary'!G32,0))","v":""},{"$f":"IF('Measure Summary'!A32=\"\",\"\",0)","v":""},{"$f":"IF('Measure Summary'!A32=\"\",\"\",'Measure Summary'!B32)","v":""},{"$f":"IF('Measure Summary'!A32=\"\",\"\",\"NONEG\")","v":""},{"$f":"IF('Measure Summary'!A32=\"\",\"\",VLOOKUP('Measure Summary'!A32,Lookups!$A$30:$J$156,Lookups!$L$7,FALSE))","v":""},{"$f":"IF(OR('Measure Summary'!C32=\"(blank)\",'Measure Summary'!C32=0),\"\",'Measure Summary'!C32)","v":""}]
[{"$f":"IF('Measure Summary'!A33=\"\",\"\",VLOOKUP('Measure Summary'!A33,Lookups!$A$30:$J$156,VLOOKUP('100L Information'!$AI$46,Lookups!$J$3:$K$6,2,FALSE), FALSE))","v":""},{"$f":"IF('Measure Summary'!A33=\"\",\"\",'Measure Summary'!D33)","v":""},{"$f":"IF('Measure Summary'!A33=\"\",\"\",\"N\")","v":""},{"$f":"IF('Measure Summary'!A33=\"\",\"\",'Measure Summary'!E33)","v":""},{"$f":"IF('Measure Summary'!A33=\"\",\"\",\"N\")","v":""},{"$f":"IF('Measure Summary'!A33=\"\",\"\",'Measure Summary'!F33)","v":""},{"$f":"IF('Measure Summary'!A33=\"\",\"\",'Analysis 103L'!$R$5)","v":""},{"$f":"IF('Measure Summary'!A33=\"\",\"\",'Analysis 103L'!$R$4)","v":""},{"$f":"IF('Measure Summary'!A33=\"\",\"\", ROUND('Measure Summary'!G33,0))","v":""},{"$f":"IF('Measure Summary'!A33=\"\",\"\",0)","v":""},{"$f":"IF('Measure Summary'!A33=\"\",\"\",'Measure Summary'!B33)","v":""},{"$f":"IF('Measure Summary'!A33=\"\",\"\",\"NONEG\")","v":""},{"$f":"IF('Measure Summary'!A33=\"\",\"\",VLOOKUP('Measure Summary'!A33,Lookups!$A$30:$J$156,Lookups!$L$7,FALSE))","v":""},{"$f":"IF(OR('Measure Summary'!C33=\"(blank)\",'Measure Summary'!C33=0),\"\",'Measure Summary'!C33)","v":""}]
[{"$f":"IF('Measure Summary'!A34=\"\",\"\",VLOOKUP('Measure Summary'!A34,Lookups!$A$30:$J$156,VLOOKUP('100L Information'!$AI$46,Lookups!$J$3:$K$6,2,FALSE), FALSE))","v":""},{"$f":"IF('Measure Summary'!A34=\"\",\"\",'Measure Summary'!D34)","v":""},{"$f":"IF('Measure Summary'!A34=\"\",\"\",\"N\")","v":""},{"$f":"IF('Measure Summary'!A34=\"\",\"\",'Measure Summary'!E34)","v":""},{"$f":"IF('Measure Summary'!A34=\"\",\"\",\"N\")","v":""},{"$f":"IF('Measure Summary'!A34=\"\",\"\",'Measure Summary'!F34)","v":""},{"$f":"IF('Measure Summary'!A34=\"\",\"\",'Analysis 103L'!$R$5)","v":""},{"$f":"IF('Measure Summary'!A34=\"\",\"\",'Analysis 103L'!$R$4)","v":""},{"$f":"IF('Measure Summary'!A34=\"\",\"\", ROUND('Measure Summary'!G34,0))","v":""},{"$f":"IF('Measure Summary'!A34=\"\",\"\",0)","v":""},{"$f":"IF('Measure Summary'!A34=\"\",\"\",'Measure Summary'!B34)","v":""},{"$f":"IF('Measure Summary'!A34=\"\",\"\",\"NONEG\")","v":""},{"$f":"IF('Measure Summary'!A34=\"\",\"\",VLOOKUP('Measure Summary'!A34,Lookups!$A$30:$J$156,Lookups!$L$7,FALSE))","v":""},{"$f":"IF(OR('Measure Summary'!C34=\"(blank)\",'Measure Summary'!C34=0),\"\",'Measure Summary'!C34)","v":""}]
[{"$f":"IF('Measure Summary'!A35=\"\",\"\",VLOOKUP('Measure Summary'!A35,Lookups!$A$30:$J$156,VLOOKUP('100L Information'!$AI$46,Lookups!$J$3:$K$6,2,FALSE), FALSE))","v":""},{"$f":"IF('Measure Summary'!A35=\"\",\"\",'Measure Summary'!D35)","v":""},{"$f":"IF('Measure Summary'!A35=\"\",\"\",\"N\")","v":""},{"$f":"IF('Measure Summary'!A35=\"\",\"\",'Measure Summary'!E35)","v":""},{"$f":"IF('Measure Summary'!A35=\"\",\"\",\"N\")","v":""},{"$f":"IF('Measure Summary'!A35=\"\",\"\",'Measure Summary'!F35)","v":""},{"$f":"IF('Measure Summary'!A35=\"\",\"\",'Analysis 103L'!$R$5)","v":""},{"$f":"IF('Measure Summary'!A35=\"\",\"\",'Analysis 103L'!$R$4)","v":""},{"$f":"IF('Measure Summary'!A35=\"\",\"\", ROUND('Measure Summary'!G35,0))","v":""},{"$f":"IF('Measure Summary'!A35=\"\",\"\",0)","v":""},{"$f":"IF('Measure Summary'!A35=\"\",\"\",'Measure Summary'!B35)","v":""},{"$f":"IF('Measure Summary'!A35=\"\",\"\",\"NONEG\")","v":""},{"$f":"IF('Measure Summary'!A35=\"\",\"\",VLOOKUP('Measure Summary'!A35,Lookups!$A$30:$J$156,Lookups!$L$7,FALSE))","v":""},{"$f":"IF(OR('Measure Summary'!C35=\"(blank)\",'Measure Summary'!C35=0),\"\",'Measure Summary'!C35)","v":""}]
[{"$f":"IF('Measure Summary'!A36=\"\",\"\",VLOOKUP('Measure Summary'!A36,Lookups!$A$30:$J$156,VLOOKUP('100L Information'!$AI$46,Lookups!$J$3:$K$6,2,FALSE), FALSE))","v":""},{"$f":"IF('Measure Summary'!A36=\"\",\"\",'Measure Summary'!D36)","v":""},{"$f":"IF('Measure Summary'!A36=\"\",\"\",\"N\")","v":""},{"$f":"IF('Measure Summary'!A36=\"\",\"\",'Measure Summary'!E36)","v":""},{"$f":"IF('Measure Summary'!A36=\"\",\"\",\"N\")","v":""},{"$f":"IF('Measure Summary'!A36=\"\",\"\",'Measure Summary'!F36)","v":""},{"$f":"IF('Measure Summary'!A36=\"\",\"\",'Analysis 103L'!$R$5)","v":""},{"$f":"IF('Measure Summary'!A36=\"\",\"\",'Analysis 103L'!$R$4)","v":""},{"$f":"IF('Measure Summary'!A36=\"\",\"\", ROUND('Measure Summary'!G36,0))","v":""},{"$f":"IF('Measure Summary'!A36=\"\",\"\",0)","v":""},{"$f":"IF('Measure Summary'!A36=\"\",\"\",'Measure Summary'!B36)","v":""},{"$f":"IF('Measure Summary'!A36=\"\",\"\",\"NONEG\")","v":""},{"$f":"IF('Measure Summary'!A36=\"\",\"\",VLOOKUP('Measure Summary'!A36,Lookups!$A$30:$J$156,Lookups!$L$7,FALSE))","v":""},{"$f":"IF(OR('Measure Summary'!C36=\"(blank)\",'Measure Summary'!C36=0),\"\",'Measure Summary'!C36)","v":""}]
[{"$f":"IF('Measure Summary'!A37=\"\",\"\",VLOOKUP('Measure Summary'!A37,Lookups!$A$30:$J$156,VLOOKUP('100L Information'!$AI$46,Lookups!$J$3:$K$6,2,FALSE), FALSE))","v":""},{"$f":"IF('Measure Summary'!A37=\"\",\"\",'Measure Summary'!D37)","v":""},{"$f":"IF('Measure Summary'!A37=\"\",\"\",\"N\")","v":""},{"$f":"IF('Measure Summary'!A37=\"\",\"\",'Measure Summary'!E37)","v":""},{"$f":"IF('Measure Summary'!A37=\"\",\"\",\"N\")","v":""},{"$f":"IF('Measure Summary'!A37=\"\",\"\",'Measure Summary'!F37)","v":""},{"$f":"IF('Measure Summary'!A37=\"\",\"\",'Analysis 103L'!$R$5)","v":""},{"$f":"IF('Measure Summary'!A37=\"\",\"\",'Analysis 103L'!$R$4)","v":""},{"$f":"IF('Measure Summary'!A37=\"\",\"\", ROUND('Measure Summary'!G37,0))","v":""},{"$f":"IF('Measure Summary'!A37=\"\",\"\",0)","v":""},{"$f":"IF('Measure Summary'!A37=\"\",\"\",'Measure Summary'!B37)","v":""},{"$f":"IF('Measure Summary'!A37=\"\",\"\",\"NONEG\")","v":""},{"$f":"IF('Measure Summary'!A37=\"\",\"\",VLOOKUP('Measure Summary'!A37,Lookups!$A$30:$J$156,Lookups!$L$7,FALSE))","v":""},{"$f":"IF(OR('Measure Summary'!C37=\"(blank)\",'Measure Summary'!C37=0),\"\",'Measure Summary'!C37)","v":""}]
[{"$f":"IF('Measure Summary'!A38=\"\",\"\",VLOOKUP('Measure Summary'!A38,Lookups!$A$30:$J$156,VLOOKUP('100L Information'!$AI$46,Lookups!$J$3:$K$6,2,FALSE), FALSE))","v":""},{"$f":"IF('Measure Summary'!A38=\"\",\"\",'Measure Summary'!D38)","v":""},{"$f":"IF('Measure Summary'!A38=\"\",\"\",\"N\")","v":""},{"$f":"IF('Measure Summary'!A38=\"\",\"\",'Measure Summary'!E38)","v":""},{"$f":"IF('Measure Summary'!A38=\"\",\"\",\"N\")","v":""},{"$f":"IF('Measure Summary'!A38=\"\",\"\",'Measure Summary'!F38)","v":""},{"$f":"IF('Measure Summary'!A38=\"\",\"\",'Analysis 103L'!$R$5)","v":""},{"$f":"IF('Measure Summary'!A38=\"\",\"\",'Analysis 103L'!$R$4)","v":""},{"$f":"IF('Measure Summary'!A38=\"\",\"\", ROUND('Measure Summary'!G38,0))","v":""},{"$f":"IF('Measure Summary'!A38=\"\",\"\",0)","v":""},{"$f":"IF('Measure Summary'!A38=\"\",\"\",'Measure Summary'!B38)","v":""},{"$f":"IF('Measure Summary'!A38=\"\",\"\",\"NONEG\")","v":""},{"$f":"IF('Measure Summary'!A38=\"\",\"\",VLOOKUP('Measure Summary'!A38,Lookups!$A$30:$J$156,Lookups!$L$7,FALSE))","v":""},{"$f":"IF(OR('Measure Summary'!C38=\"(blank)\",'Measure Summary'!C38=0),\"\",'Measure Summary'!C38)","v":""}]
[{"$f":"IF('Measure Summary'!A39=\"\",\"\",VLOOKUP('Measure Summary'!A39,Lookups!$A$30:$J$156,VLOOKUP('100L Information'!$AI$46,Lookups!$J$3:$K$6,2,FALSE), FALSE))","v":""},{"$f":"IF('Measure Summary'!A39=\"\",\"\",'Measure Summary'!D39)","v":""},{"$f":"IF('Measure Summary'!A39=\"\",\"\",\"N\")","v":""},{"$f":"IF('Measure Summary'!A39=\"\",\"\",'Measure Summary'!E39)","v":""},{"$f":"IF('Measure Summary'!A39=\"\",\"\",\"N\")","v":""},{"$f":"IF('Measure Summary'!A39=\"\",\"\",'Measure Summary'!F39)","v":""},{"$f":"IF('Measure Summary'!A39=\"\",\"\",'Analysis 103L'!$R$5)","v":""},{"$f":"IF('Measure Summary'!A39=\"\",\"\",'Analysis 103L'!$R$4)","v":""},{"$f":"IF('Measure Summary'!A39=\"\",\"\", ROUND('Measure Summary'!G39,0))","v":""},{"$f":"IF('Measure Summary'!A39=\"\",\"\",0)","v":""},{"$f":"IF('Measure Summary'!A39=\"\",\"\",'Measure Summary'!B39)","v":""},{"$f":"IF('Measure Summary'!A39=\"\",\"\",\"NONEG\")","v":""},{"$f":"IF('Measure Summary'!A39=\"\",\"\",VLOOKUP('Measure Summary'!A39,Lookups!$A$30:$J$156,Lookups!$L$7,FALSE))","v":""},{"$f":"IF(OR('Measure Summary'!C39=\"(blank)\",'Measure Summary'!C39=0),\"\",'Measure Summary'!C39)","v":""}]
[{"$f":"IF('Measure Summary'!A40=\"\",\"\",VLOOKUP('Measure Summary'!A40,Lookups!$A$30:$J$156,VLOOKUP('100L Information'!$AI$46,Lookups!$J$3:$K$6,2,FALSE), FALSE))","v":""},{"$f":"IF('Measure Summary'!A40=\"\",\"\",'Measure Summary'!D40)","v":""},{"$f":"IF('Measure Summary'!A40=\"\",\"\",\"N\")","v":""},{"$f":"IF('Measure Summary'!A40=\"\",\"\",'Measure Summary'!E40)","v":""},{"$f":"IF('Measure Summary'!A40=\"\",\"\",\"N\")","v":""},{"$f":"IF('Measure Summary'!A40=\"\",\"\",'Measure Summary'!F40)","v":""},{"$f":"IF('Measure Summary'!A40=\"\",\"\",'Analysis 103L'!$R$5)","v":""},{"$f":"IF('Measure Summary'!A40=\"\",\"\",'Analysis 103L'!$R$4)","v":""},{"$f":"IF('Measure Summary'!A40=\"\",\"\", ROUND('Measure Summary'!G40,0))","v":""},{"$f":"IF('Measure Summary'!A40=\"\",\"\",0)","v":""},{"$f":"IF('Measure Summary'!A40=\"\",\"\",'Measure Summary'!B40)","v":""},{"$f":"IF('Measure Summary'!A40=\"\",\"\",\"NONEG\")","v":""},{"$f":"IF('Measure Summary'!A40=\"\",\"\",VLOOKUP('Measure Summary'!A40,Lookups!$A$30:$J$156,Lookups!$L$7,FALSE))","v":""},{"$f":"IF(OR('Measure Summary'!C40=\"(blank)\",'Measure Summary'!C40=0),\"\",'Measure Summary'!C40)","v":""}]
[{"$f":"IF('Measure Summary'!A41=\"\",\"\",VLOOKUP('Measure Summary'!A41,Lookups!$A$30:$J$156,VLOOKUP('100L Information'!$AI$46,Lookups!$J$3:$K$6,2,FALSE), FALSE))","v":""},{"$f":"IF('Measure Summary'!A41=\"\",\"\",'Measure Summary'!D41)","v":""},{"$f":"IF('Measure Summary'!A41=\"\",\"\",\"N\")","v":""},{"$f":"IF('Measure Summary'!A41=\"\",\"\",'Measure Summary'!E41)","v":""},{"$f":"IF('Measure Summary'!A41=\"\",\"\",\"N\")","v":""},{"$f":"IF('Measure Summary'!A41=\"\",\"\",'Measure Summary'!F41)","v":""},{"$f":"IF('Measure Summary'!A41=\"\",\"\",'Analysis 103L'!$R$5)","v":""},{"$f":"IF('Measure Summary'!A41=\"\",\"\",'Analysis 103L'!$R$4)","v":""},{"$f":"IF('Measure Summary'!A41=\"\",\"\", ROUND('Measure Summary'!G41,0))","v":""},{"$f":"IF('Measure Summary'!A41=\"\",\"\",0)","v":""},{"$f":"IF('Measure Summary'!A41=\"\",\"\",'Measure Summary'!B41)","v":""},{"$f":"IF('Measure Summary'!A41=\"\",\"\",\"NONEG\")","v":""},{"$f":"IF('Measure Summary'!A41=\"\",\"\",VLOOKUP('Measure Summary'!A41,Lookups!$A$30:$J$156,Lookups!$L$7,FALSE))","v":""},{"$f":"IF(OR('Measure Summary'!C41=\"(blank)\",'Measure Summary'!C41=0),\"\",'Measure Summary'!C41)","v":""}]
[{"$f":"IF('Measure Summary'!A42=\"\",\"\",VLOOKUP('Measure Summary'!A42,Lookups!$A$30:$J$156,VLOOKUP('100L Information'!$AI$46,Lookups!$J$3:$K$6,2,FALSE), FALSE))","v":""},{"$f":"IF('Measure Summary'!A42=\"\",\"\",'Measure Summary'!D42)","v":""},{"$f":"IF('Measure Summary'!A42=\"\",\"\",\"N\")","v":""},{"$f":"IF('Measure Summary'!A42=\"\",\"\",'Measure Summary'!E42)","v":""},{"$f":"IF('Measure Summary'!A42=\"\",\"\",\"N\")","v":""},{"$f":"IF('Measure Summary'!A42=\"\",\"\",'Measure Summary'!F42)","v":""},{"$f":"IF('Measure Summary'!A42=\"\",\"\",'Analysis 103L'!$R$5)","v":""},{"$f":"IF('Measure Summary'!A42=\"\",\"\",'Analysis 103L'!$R$4)","v":""},{"$f":"IF('Measure Summary'!A42=\"\",\"\", ROUND('Measure Summary'!G42,0))","v":""},{"$f":"IF('Measure Summary'!A42=\"\",\"\",0)","v":""},{"$f":"IF('Measure Summary'!A42=\"\",\"\",'Measure Summary'!B42)","v":""},{"$f":"IF('Measure Summary'!A42=\"\",\"\",\"NONEG\")","v":""},{"$f":"IF('Measure Summary'!A42=\"\",\"\",VLOOKUP('Measure Summary'!A42,Lookups!$A$30:$J$156,Lookups!$L$7,FALSE))","v":""},{"$f":"IF(OR('Measure Summary'!C42=\"(blank)\",'Measure Summary'!C42=0),\"\",'Measure Summary'!C42)","v":""}]
[{"$f":"IF('Measure Summary'!A43=\"\",\"\",VLOOKUP('Measure Summary'!A43,Lookups!$A$30:$J$156,VLOOKUP('100L Information'!$AI$46,Lookups!$J$3:$K$6,2,FALSE), FALSE))","v":""},{"$f":"IF('Measure Summary'!A43=\"\",\"\",'Measure Summary'!D43)","v":""},{"$f":"IF('Measure Summary'!A43=\"\",\"\",\"N\")","v":""},{"$f":"IF('Measure Summary'!A43=\"\",\"\",'Measure Summary'!E43)","v":""},{"$f":"IF('Measure Summary'!A43=\"\",\"\",\"N\")","v":""},{"$f":"IF('Measure Summary'!A43=\"\",\"\",'Measure Summary'!F43)","v":""},{"$f":"IF('Measure Summary'!A43=\"\",\"\",'Analysis 103L'!$R$5)","v":""},{"$f":"IF('Measure Summary'!A43=\"\",\"\",'Analysis 103L'!$R$4)","v":""},{"$f":"IF('Measure Summary'!A43=\"\",\"\", ROUND('Measure Summary'!G43,0))","v":""},{"$f":"IF('Measure Summary'!A43=\"\",\"\",0)","v":""},{"$f":"IF('Measure Summary'!A43=\"\",\"\",'Measure Summary'!B43)","v":""},{"$f":"IF('Measure Summary'!A43=\"\",\"\",\"NONEG\")","v":""},{"$f":"IF('Measure Summary'!A43=\"\",\"\",VLOOKUP('Measure Summary'!A43,Lookups!$A$30:$J$156,Lookups!$L$7,FALSE))","v":""},{"$f":"IF(OR('Measure Summary'!C43=\"(blank)\",'Measure Summary'!C43=0),\"\",'Measure Summary'!C43)","v":""}]
[{"$f":"IF('Measure Summary'!A44=\"\",\"\",VLOOKUP('Measure Summary'!A44,Lookups!$A$30:$J$156,VLOOKUP('100L Information'!$AI$46,Lookups!$J$3:$K$6,2,FALSE), FALSE))","v":""},{"$f":"IF('Measure Summary'!A44=\"\",\"\",'Measure Summary'!D44)","v":""},{"$f":"IF('Measure Summary'!A44=\"\",\"\",\"N\")","v":""},{"$f":"IF('Measure Summary'!A44=\"\",\"\",'Measure Summary'!E44)","v":""},{"$f":"IF('Measure Summary'!A44=\"\",\"\",\"N\")","v":""},{"$f":"IF('Measure Summary'!A44=\"\",\"\",'Measure Summary'!F44)","v":""},{"$f":"IF('Measure Summary'!A44=\"\",\"\",'Analysis 103L'!$R$5)","v":""},{"$f":"IF('Measure Summary'!A44=\"\",\"\",'Analysis 103L'!$R$4)","v":""},{"$f":"IF('Measure Summary'!A44=\"\",\"\", ROUND('Measure Summary'!G44,0))","v":""},{"$f":"IF('Measure Summary'!A44=\"\",\"\",0)","v":""},{"$f":"IF('Measure Summary'!A44=\"\",\"\",'Measure Summary'!B44)","v":""},{"$f":"IF('Measure Summary'!A44=\"\",\"\",\"NONEG\")","v":""},{"$f":"IF('Measure Summary'!A44=\"\",\"\",VLOOKUP('Measure Summary'!A44,Lookups!$A$30:$J$156,Lookups!$L$7,FALSE))","v":""},{"$f":"IF(OR('Measure Summary'!C44=\"(blank)\",'Measure Summary'!C44=0),\"\",'Measure Summary'!C44)","v":""}]
[{"$f":"IF('Measure Summary'!A45=\"\",\"\",VLOOKUP('Measure Summary'!A45,Lookups!$A$30:$J$156,VLOOKUP('100L Information'!$AI$46,Lookups!$J$3:$K$6,2,FALSE), FALSE))","v":""},{"$f":"IF('Measure Summary'!A45=\"\",\"\",'Measure Summary'!D45)","v":""},{"$f":"IF('Measure Summary'!A45=\"\",\"\",\"N\")","v":""},{"$f":"IF('Measure Summary'!A45=\"\",\"\",'Measure Summary'!E45)","v":""},{"$f":"IF('Measure Summary'!A45=\"\",\"\",\"N\")","v":""},{"$f":"IF('Measure Summary'!A45=\"\",\"\",'Measure Summary'!F45)","v":""},{"$f":"IF('Measure Summary'!A45=\"\",\"\",'Analysis 103L'!$R$5)","v":""},{"$f":"IF('Measure Summary'!A45=\"\",\"\",'Analysis 103L'!$R$4)","v":""},{"$f":"IF('Measure Summary'!A45=\"\",\"\", ROUND('Measure Summary'!G45,0))","v":""},{"$f":"IF('Measure Summary'!A45=\"\",\"\",0)","v":""},{"$f":"IF('Measure Summary'!A45=\"\",\"\",'Measure Summary'!B45)","v":""},{"$f":"IF('Measure Summary'!A45=\"\",\"\",\"NONEG\")","v":""},{"$f":"IF('Measure Summary'!A45=\"\",\"\",VLOOKUP('Measure Summary'!A45,Lookups!$A$30:$J$156,Lookups!$L$7,FALSE))","v":""},{"$f":"IF(OR('Measure Summary'!C45=\"(blank)\",'Measure Summary'!C45=0),\"\",'Measure Summary'!C45)","v":""}]
[{"$f":"IF('Measure Summary'!A46=\"\",\"\",VLOOKUP('Measure Summary'!A46,Lookups!$A$30:$J$156,VLOOKUP('100L Information'!$AI$46,Lookups!$J$3:$K$6,2,FALSE), FALSE))","v":""},{"$f":"IF('Measure Summary'!A46=\"\",\"\",'Measure Summary'!D46)","v":""},{"$f":"IF('Measure Summary'!A46=\"\",\"\",\"N\")","v":""},{"$f":"IF('Measure Summary'!A46=\"\",\"\",'Measure Summary'!E46)","v":""},{"$f":"IF('Measure Summary'!A46=\"\",\"\",\"N\")","v":""},{"$f":"IF('Measure Summary'!A46=\"\",\"\",'Measure Summary'!F46)","v":""},{"$f":"IF('Measure Summary'!A46=\"\",\"\",'Analysis 103L'!$R$5)","v":""},{"$f":"IF('Measure Summary'!A46=\"\",\"\",'Analysis 103L'!$R$4)","v":""},{"$f":"IF('Measure Summary'!A46=\"\",\"\", ROUND('Measure Summary'!G46,0))","v":""},{"$f":"IF('Measure Summary'!A46=\"\",\"\",0)","v":""},{"$f":"IF('Measure Summary'!A46=\"\",\"\",'Measure Summary'!B46)","v":""},{"$f":"IF('Measure Summary'!A46=\"\",\"\",\"NONEG\")","v":""},{"$f":"IF('Measure Summary'!A46=\"\",\"\",VLOOKUP('Measure Summary'!A46,Lookups!$A$30:$J$156,Lookups!$L$7,FALSE))","v":""},{"$f":"IF(OR('Measure Summary'!C46=\"(blank)\",'Measure Summary'!C46=0),\"\",'Measure Summary'!C46)","v":""}]
[{"$f":"IF('Measure Summary'!A47=\"\",\"\",VLOOKUP('Measure Summary'!A47,Lookups!$A$30:$J$156,VLOOKUP('100L Information'!$AI$46,Lookups!$J$3:$K$6,2,FALSE), FALSE))","v":""},{"$f":"IF('Measure Summary'!A47=\"\",\"\",'Measure Summary'!D47)","v":""},{"$f":"IF('Measure Summary'!A47=\"\",\"\",\"N\")","v":""},{"$f":"IF('Measure Summary'!A47=\"\",\"\",'Measure Summary'!E47)","v":""},{"$f":"IF('Measure Summary'!A47=\"\",\"\",\"N\")","v":""},{"$f":"IF('Measure Summary'!A47=\"\",\"\",'Measure Summary'!F47)","v":""},{"$f":"IF('Measure Summary'!A47=\"\",\"\",'Analysis 103L'!$R$5)","v":""},{"$f":"IF('Measure Summary'!A47=\"\",\"\",'Analysis 103L'!$R$4)","v":""},{"$f":"IF('Measure Summary'!A47=\"\",\"\", ROUND('Measure Summary'!G47,0))","v":""},{"$f":"IF('Measure Summary'!A47=\"\",\"\",0)","v":""},{"$f":"IF('Measure Summary'!A47=\"\",\"\",'Measure Summary'!B47)","v":""},{"$f":"IF('Measure Summary'!A47=\"\",\"\",\"NONEG\")","v":""},{"$f":"IF('Measure Summary'!A47=\"\",\"\",VLOOKUP('Measure Summary'!A47,Lookups!$A$30:$J$156,Lookups!$L$7,FALSE))","v":""},{"$f":"IF(OR('Measure Summary'!C47=\"(blank)\",'Measure Summary'!C47=0),\"\",'Measure Summary'!C47)","v":""}]
[{"$f":"IF('Measure Summary'!A48=\"\",\"\",VLOOKUP('Measure Summary'!A48,Lookups!$A$30:$J$156,VLOOKUP('100L Information'!$AI$46,Lookups!$J$3:$K$6,2,FALSE), FALSE))","v":""},{"$f":"IF('Measure Summary'!A48=\"\",\"\",'Measure Summary'!D48)","v":""},{"$f":"IF('Measure Summary'!A48=\"\",\"\",\"N\")","v":""},{"$f":"IF('Measure Summary'!A48=\"\",\"\",'Measure Summary'!E48)","v":""},{"$f":"IF('Measure Summary'!A48=\"\",\"\",\"N\")","v":""},{"$f":"IF('Measure Summary'!A48=\"\",\"\",'Measure Summary'!F48)","v":""},{"$f":"IF('Measure Summary'!A48=\"\",\"\",'Analysis 103L'!$R$5)","v":""},{"$f":"IF('Measure Summary'!A48=\"\",\"\",'Analysis 103L'!$R$4)","v":""},{"$f":"IF('Measure Summary'!A48=\"\",\"\", ROUND('Measure Summary'!G48,0))","v":""},{"$f":"IF('Measure Summary'!A48=\"\",\"\",0)","v":""},{"$f":"IF('Measure Summary'!A48=\"\",\"\",'Measure Summary'!B48)","v":""},{"$f":"IF('Measure Summary'!A48=\"\",\"\",\"NONEG\")","v":""},{"$f":"IF('Measure Summary'!A48=\"\",\"\",VLOOKUP('Measure Summary'!A48,Lookups!$A$30:$J$156,Lookups!$L$7,FALSE))","v":""},{"$f":"IF(OR('Measure Summary'!C48=\"(blank)\",'Measure Summary'!C48=0),\"\",'Measure Summary'!C48)","v":""}]
[{"$f":"IF('Measure Summary'!A49=\"\",\"\",VLOOKUP('Measure Summary'!A49,Lookups!$A$30:$J$156,VLOOKUP('100L Information'!$AI$46,Lookups!$J$3:$K$6,2,FALSE), FALSE))","v":""},{"$f":"IF('Measure Summary'!A49=\"\",\"\",'Measure Summary'!D49)","v":""},{"$f":"IF('Measure Summary'!A49=\"\",\"\",\"N\")","v":""},{"$f":"IF('Measure Summary'!A49=\"\",\"\",'Measure Summary'!E49)","v":""},{"$f":"IF('Measure Summary'!A49=\"\",\"\",\"N\")","v":""},{"$f":"IF('Measure Summary'!A49=\"\",\"\",'Measure Summary'!F49)","v":""},{"$f":"IF('Measure Summary'!A49=\"\",\"\",'Analysis 103L'!$R$5)","v":""},{"$f":"IF('Measure Summary'!A49=\"\",\"\",'Analysis 103L'!$R$4)","v":""},{"$f":"IF('Measure Summary'!A49=\"\",\"\", ROUND('Measure Summary'!G49,0))","v":""},{"$f":"IF('Measure Summary'!A49=\"\",\"\",0)","v":""},{"$f":"IF('Measure Summary'!A49=\"\",\"\",'Measure Summary'!B49)","v":""},{"$f":"IF('Measure Summary'!A49=\"\",\"\",\"NONEG\")","v":""},{"$f":"IF('Measure Summary'!A49=\"\",\"\",VLOOKUP('Measure Summary'!A49,Lookups!$A$30:$J$156,Lookups!$L$7,FALSE))","v":""},{"$f":"IF(OR('Measure Summary'!C49=\"(blank)\",'Measure Summary'!C49=0),\"\",'Measure Summary'!C49)","v":""}]
[{"$f":"IF('Measure Summary'!A50=\"\",\"\",VLOOKUP('Measure Summary'!A50,Lookups!$A$30:$J$156,VLOOKUP('100L Information'!$AI$46,Lookups!$J$3:$K$6,2,FALSE), FALSE))","v":""},{"$f":"IF('Measure Summary'!A50=\"\",\"\",'Measure Summary'!D50)","v":""},{"$f":"IF('Measure Summary'!A50=\"\",\"\",\"N\")","v":""},{"$f":"IF('Measure Summary'!A50=\"\",\"\",'Measure Summary'!E50)","v":""},{"$f":"IF('Measure Summary'!A50=\"\",\"\",\"N\")","v":""},{"$f":"IF('Measure Summary'!A50=\"\",\"\",'Measure Summary'!F50)","v":""},{"$f":"IF('Measure Summary'!A50=\"\",\"\",'Analysis 103L'!$R$5)","v":""},{"$f":"IF('Measure Summary'!A50=\"\",\"\",'Analysis 103L'!$R$4)","v":""},{"$f":"IF('Measure Summary'!A50=\"\",\"\", ROUND('Measure Summary'!G50,0))","v":""},{"$f":"IF('Measure Summary'!A50=\"\",\"\",0)","v":""},{"$f":"IF('Measure Summary'!A50=\"\",\"\",'Measure Summary'!B50)","v":""},{"$f":"IF('Measure Summary'!A50=\"\",\"\",\"NONEG\")","v":""},{"$f":"IF('Measure Summary'!A50=\"\",\"\",VLOOKUP('Measure Summary'!A50,Lookups!$A$30:$J$156,Lookups!$L$7,FALSE))","v":""},{"$f":"IF(OR('Measure Summary'!C50=\"(blank)\",'Measure Summary'!C50=0),\"\",'Measure Summary'!C50)","v":""}]
[{"$f":"IF('Measure Summary'!A51=\"\",\"\",VLOOKUP('Measure Summary'!A51,Lookups!$A$30:$J$156,VLOOKUP('100L Information'!$AI$46,Lookups!$J$3:$K$6,2,FALSE), FALSE))","v":""},{"$f":"IF('Measure Summary'!A51=\"\",\"\",'Measure Summary'!D51)","v":""},{"$f":"IF('Measure Summary'!A51=\"\",\"\",\"N\")","v":""},{"$f":"IF('Measure Summary'!A51=\"\",\"\",'Measure Summary'!E51)","v":""},{"$f":"IF('Measure Summary'!A51=\"\",\"\",\"N\")","v":""},{"$f":"IF('Measure Summary'!A51=\"\",\"\",'Measure Summary'!F51)","v":""},{"$f":"IF('Measure Summary'!A51=\"\",\"\",'Analysis 103L'!$R$5)","v":""},{"$f":"IF('Measure Summary'!A51=\"\",\"\",'Analysis 103L'!$R$4)","v":""},{"$f":"IF('Measure Summary'!A51=\"\",\"\", ROUND('Measure Summary'!G51,0))","v":""},{"$f":"IF('Measure Summary'!A51=\"\",\"\",0)","v":""},{"$f":"IF('Measure Summary'!A51=\"\",\"\",'Measure Summary'!B51)","v":""},{"$f":"IF('Measure Summary'!A51=\"\",\"\",\"NONEG\")","v":""},{"$f":"IF('Measure Summary'!A51=\"\",\"\",VLOOKUP('Measure Summary'!A51,Lookups!$A$30:$J$156,Lookups!$L$7,FALSE))","v":""},{"$f":"IF(OR('Measure Summary'!C51=\"(blank)\",'Measure Summary'!C51=0),\"\",'Measure Summary'!C51)","v":""}]
[{"$f":"IF('Measure Summary'!A52=\"\",\"\",VLOOKUP('Measure Summary'!A52,Lookups!$A$30:$J$156,VLOOKUP('100L Information'!$AI$46,Lookups!$J$3:$K$6,2,FALSE), FALSE))","v":""},{"$f":"IF('Measure Summary'!A52=\"\",\"\",'Measure Summary'!D52)","v":""},{"$f":"IF('Measure Summary'!A52=\"\",\"\",\"N\")","v":""},{"$f":"IF('Measure Summary'!A52=\"\",\"\",'Measure Summary'!E52)","v":""},{"$f":"IF('Measure Summary'!A52=\"\",\"\",\"N\")","v":""},{"$f":"IF('Measure Summary'!A52=\"\",\"\",'Measure Summary'!F52)","v":""},{"$f":"IF('Measure Summary'!A52=\"\",\"\",'Analysis 103L'!$R$5)","v":""},{"$f":"IF('Measure Summary'!A52=\"\",\"\",'Analysis 103L'!$R$4)","v":""},{"$f":"IF('Measure Summary'!A52=\"\",\"\", ROUND('Measure Summary'!G52,0))","v":""},{"$f":"IF('Measure Summary'!A52=\"\",\"\",0)","v":""},{"$f":"IF('Measure Summary'!A52=\"\",\"\",'Measure Summary'!B52)","v":""},{"$f":"IF('Measure Summary'!A52=\"\",\"\",\"NONEG\")","v":""},{"$f":"IF('Measure Summary'!A52=\"\",\"\",VLOOKUP('Measure Summary'!A52,Lookups!$A$30:$J$156,Lookups!$L$7,FALSE))","v":""},{"$f":"IF(OR('Measure Summary'!C52=\"(blank)\",'Measure Summary'!C52=0),\"\",'Measure Summary'!C52)","v":""}]
[{"$f":"IF('Measure Summary'!A53=\"\",\"\",VLOOKUP('Measure Summary'!A53,Lookups!$A$30:$J$156,VLOOKUP('100L Information'!$AI$46,Lookups!$J$3:$K$6,2,FALSE), FALSE))","v":""},{"$f":"IF('Measure Summary'!A53=\"\",\"\",'Measure Summary'!D53)","v":""},{"$f":"IF('Measure Summary'!A53=\"\",\"\",\"N\")","v":""},{"$f":"IF('Measure Summary'!A53=\"\",\"\",'Measure Summary'!E53)","v":""},{"$f":"IF('Measure Summary'!A53=\"\",\"\",\"N\")","v":""},{"$f":"IF('Measure Summary'!A53=\"\",\"\",'Measure Summary'!F53)","v":""},{"$f":"IF('Measure Summary'!A53=\"\",\"\",'Analysis 103L'!$R$5)","v":""},{"$f":"IF('Measure Summary'!A53=\"\",\"\",'Analysis 103L'!$R$4)","v":""},{"$f":"IF('Measure Summary'!A53=\"\",\"\", ROUND('Measure Summary'!G53,0))","v":""},{"$f":"IF('Measure Summary'!A53=\"\",\"\",0)","v":""},{"$f":"IF('Measure Summary'!A53=\"\",\"\",'Measure Summary'!B53)","v":""},{"$f":"IF('Measure Summary'!A53=\"\",\"\",\"NONEG\")","v":""},{"$f":"IF('Measure Summary'!A53=\"\",\"\",VLOOKUP('Measure Summary'!A53,Lookups!$A$30:$J$156,Lookups!$L$7,FALSE))","v":""},{"$f":"IF(OR('Measure Summary'!C53=\"(blank)\",'Measure Summary'!C53=0),\"\",'Measure Summary'!C53)","v":""}]
[{"$f":"IF('Measure Summary'!A54=\"\",\"\",VLOOKUP('Measure Summary'!A54,Lookups!$A$30:$J$156,VLOOKUP('100L Information'!$AI$46,Lookups!$J$3:$K$6,2,FALSE), FALSE))","v":""},{"$f":"IF('Measure Summary'!A54=\"\",\"\",'Measure Summary'!D54)","v":""},{"$f":"IF('Measure Summary'!A54=\"\",\"\",\"N\")","v":""},{"$f":"IF('Measure Summary'!A54=\"\",\"\",'Measure Summary'!E54)","v":""},{"$f":"IF('Measure Summary'!A54=\"\",\"\",\"N\")","v":""},{"$f":"IF('Measure Summary'!A54=\"\",\"\",'Measure Summary'!F54)","v":""},{"$f":"IF('Measure Summary'!A54=\"\",\"\",'Analysis 103L'!$R$5)","v":""},{"$f":"IF('Measure Summary'!A54=\"\",\"\",'Analysis 103L'!$R$4)","v":""},{"$f":"IF('Measure Summary'!A54=\"\",\"\", ROUND('Measure Summary'!G54,0))","v":""},{"$f":"IF('Measure Summary'!A54=\"\",\"\",0)","v":""},{"$f":"IF('Measure Summary'!A54=\"\",\"\",'Measure Summary'!B54)","v":""},{"$f":"IF('Measure Summary'!A54=\"\",\"\",\"NONEG\")","v":""},{"$f":"IF('Measure Summary'!A54=\"\",\"\",VLOOKUP('Measure Summary'!A54,Lookups!$A$30:$J$156,Lookups!$L$7,FALSE))","v":""},{"$f":"IF(OR('Measure Summary'!C54=\"(blank)\",'Measure Summary'!C54=0),\"\",'Measure Summary'!C54)","v":""}]
[{"$f":"IF('Measure Summary'!A55=\"\",\"\",VLOOKUP('Measure Summary'!A55,Lookups!$A$30:$J$156,VLOOKUP('100L Information'!$AI$46,Lookups!$J$3:$K$6,2,FALSE), FALSE))","v":""},{"$f":"IF('Measure Summary'!A55=\"\",\"\",'Measure Summary'!D55)","v":""},{"$f":"IF('Measure Summary'!A55=\"\",\"\",\"N\")","v":""},{"$f":"IF('Measure Summary'!A55=\"\",\"\",'Measure Summary'!E55)","v":""},{"$f":"IF('Measure Summary'!A55=\"\",\"\",\"N\")","v":""},{"$f":"IF('Measure Summary'!A55=\"\",\"\",'Measure Summary'!F55)","v":""},{"$f":"IF('Measure Summary'!A55=\"\",\"\",'Analysis 103L'!$R$5)","v":""},{"$f":"IF('Measure Summary'!A55=\"\",\"\",'Analysis 103L'!$R$4)","v":""},{"$f":"IF('Measure Summary'!A55=\"\",\"\", ROUND('Measure Summary'!G55,0))","v":""},{"$f":"IF('Measure Summary'!A55=\"\",\"\",0)","v":""},{"$f":"IF('Measure Summary'!A55=\"\",\"\",'Measure Summary'!B55)","v":""},{"$f":"IF('Measure Summary'!A55=\"\",\"\",\"NONEG\")","v":""},{"$f":"IF('Measure Summary'!A55=\"\",\"\",VLOOKUP('Measure Summary'!A55,Lookups!$A$30:$J$156,Lookups!$L$7,FALSE))","v":""},{"$f":"IF(OR('Measure Summary'!C55=\"(blank)\",'Measure Summary'!C55=0),\"\",'Measure Summary'!C55)","v":""}]
[{"$f":"IF('Measure Summary'!A56=\"\",\"\",VLOOKUP('Measure Summary'!A56,Lookups!$A$30:$J$156,VLOOKUP('100L Information'!$AI$46,Lookups!$J$3:$K$6,2,FALSE), FALSE))","v":""},{"$f":"IF('Measure Summary'!A56=\"\",\"\",'Measure Summary'!D56)","v":""},{"$f":"IF('Measure Summary'!A56=\"\",\"\",\"N\")","v":""},{"$f":"IF('Measure Summary'!A56=\"\",\"\",'Measure Summary'!E56)","v":""},{"$f":"IF('Measure Summary'!A56=\"\",\"\",\"N\")","v":""},{"$f":"IF('Measure Summary'!A56=\"\",\"\",'Measure Summary'!F56)","v":""},{"$f":"IF('Measure Summary'!A56=\"\",\"\",'Analysis 103L'!$R$5)","v":""},{"$f":"IF('Measure Summary'!A56=\"\",\"\",'Analysis 103L'!$R$4)","v":""},{"$f":"IF('Measure Summary'!A56=\"\",\"\", ROUND('Measure Summary'!G56,0))","v":""},{"$f":"IF('Measure Summary'!A56=\"\",\"\",0)","v":""},{"$f":"IF('Measure Summary'!A56=\"\",\"\",'Measure Summary'!B56)","v":""},{"$f":"IF('Measure Summary'!A56=\"\",\"\",\"NONEG\")","v":""},{"$f":"IF('Measure Summary'!A56=\"\",\"\",VLOOKUP('Measure Summary'!A56,Lookups!$A$30:$J$156,Lookups!$L$7,FALSE))","v":""},{"$f":"IF(OR('Measure Summary'!C56=\"(blank)\",'Measure Summary'!C56=0),\"\",'Measure Summary'!C56)","v":""}]
[{"$f":"IF('Measure Summary'!A57=\"\",\"\",VLOOKUP('Measure Summary'!A57,Lookups!$A$30:$J$156,VLOOKUP('100L Information'!$AI$46,Lookups!$J$3:$K$6,2,FALSE), FALSE))","v":""},{"$f":"IF('Measure Summary'!A57=\"\",\"\",'Measure Summary'!D57)","v":""},{"$f":"IF('Measure Summary'!A57=\"\",\"\",\"N\")","v":""},{"$f":"IF('Measure Summary'!A57=\"\",\"\",'Measure Summary'!E57)","v":""},{"$f":"IF('Measure Summary'!A57=\"\",\"\",\"N\")","v":""},{"$f":"IF('Measure Summary'!A57=\"\",\"\",'Measure Summary'!F57)","v":""},{"$f":"IF('Measure Summary'!A57=\"\",\"\",'Analysis 103L'!$R$5)","v":""},{"$f":"IF('Measure Summary'!A57=\"\",\"\",'Analysis 103L'!$R$4)","v":""},{"$f":"IF('Measure Summary'!A57=\"\",\"\", ROUND('Measure Summary'!G57,0))","v":""},{"$f":"IF('Measure Summary'!A57=\"\",\"\",0)","v":""},{"$f":"IF('Measure Summary'!A57=\"\",\"\",'Measure Summary'!B57)","v":""},{"$f":"IF('Measure Summary'!A57=\"\",\"\",\"NONEG\")","v":""},{"$f":"IF('Measure Summary'!A57=\"\",\"\",VLOOKUP('Measure Summary'!A57,Lookups!$A$30:$J$156,Lookups!$L$7,FALSE))","v":""},{"$f":"IF(OR('Measure Summary'!C57=\"(blank)\",'Measure Summary'!C57=0),\"\",'Measure Summary'!C57)","v":""}]
[{"$f":"IF('Measure Summary'!A58=\"\",\"\",VLOOKUP('Measure Summary'!A58,Lookups!$A$30:$J$156,VLOOKUP('100L Information'!$AI$46,Lookups!$J$3:$K$6,2,FALSE), FALSE))","v":""},{"$f":"IF('Measure Summary'!A58=\"\",\"\",'Measure Summary'!D58)","v":""},{"$f":"IF('Measure Summary'!A58=\"\",\"\",\"N\")","v":""},{"$f":"IF('Measure Summary'!A58=\"\",\"\",'Measure Summary'!E58)","v":""},{"$f":"IF('Measure Summary'!A58=\"\",\"\",\"N\")","v":""},{"$f":"IF('Measure Summary'!A58=\"\",\"\",'Measure Summary'!F58)","v":""},{"$f":"IF('Measure Summary'!A58=\"\",\"\",'Analysis 103L'!$R$5)","v":""},{"$f":"IF('Measure Summary'!A58=\"\",\"\",'Analysis 103L'!$R$4)","v":""},{"$f":"IF('Measure Summary'!A58=\"\",\"\", ROUND('Measure Summary'!G58,0))","v":""},{"$f":"IF('Measure Summary'!A58=\"\",\"\",0)","v":""},{"$f":"IF('Measure Summary'!A58=\"\",\"\",'Measure Summary'!B58)","v":""},{"$f":"IF('Measure Summary'!A58=\"\",\"\",\"NONEG\")","v":""},{"$f":"IF('Measure Summary'!A58=\"\",\"\",VLOOKUP('Measure Summary'!A58,Lookups!$A$30:$J$156,Lookups!$L$7,FALSE))","v":""},{"$f":"IF(OR('Measure Summary'!C58=\"(blank)\",'Measure Summary'!C58=0),\"\",'Measure Summary'!C58)","v":""}]
[{"$f":"IF('Measure Summary'!A59=\"\",\"\",VLOOKUP('Measure Summary'!A59,Lookups!$A$30:$J$156,VLOOKUP('100L Information'!$AI$46,Lookups!$J$3:$K$6,2,FALSE), FALSE))","v":""},{"$f":"IF('Measure Summary'!A59=\"\",\"\",'Measure Summary'!D59)","v":""},{"$f":"IF('Measure Summary'!A59=\"\",\"\",\"N\")","v":""},{"$f":"IF('Measure Summary'!A59=\"\",\"\",'Measure Summary'!E59)","v":""},{"$f":"IF('Measure Summary'!A59=\"\",\"\",\"N\")","v":""},{"$f":"IF('Measure Summary'!A59=\"\",\"\",'Measure Summary'!F59)","v":""},{"$f":"IF('Measure Summary'!A59=\"\",\"\",'Analysis 103L'!$R$5)","v":""},{"$f":"IF('Measure Summary'!A59=\"\",\"\",'Analysis 103L'!$R$4)","v":""},{"$f":"IF('Measure Summary'!A59=\"\",\"\", ROUND('Measure Summary'!G59,0))","v":""},{"$f":"IF('Measure Summary'!A59=\"\",\"\",0)","v":""},{"$f":"IF('Measure Summary'!A59=\"\",\"\",'Measure Summary'!B59)","v":""},{"$f":"IF('Measure Summary'!A59=\"\",\"\",\"NONEG\")","v":""},{"$f":"IF('Measure Summary'!A59=\"\",\"\",VLOOKUP('Measure Summary'!A59,Lookups!$A$30:$J$156,Lookups!$L$7,FALSE))","v":""},{"$f":"IF(OR('Measure Summary'!C59=\"(blank)\",'Measure Summary'!C59=0),\"\",'Measure Summary'!C59)","v":""}]
[{"$f":"IF('Measure Summary'!A60=\"\",\"\",VLOOKUP('Measure Summary'!A60,Lookups!$A$30:$J$156,VLOOKUP('100L Information'!$AI$46,Lookups!$J$3:$K$6,2,FALSE), FALSE))","v":""},{"$f":"IF('Measure Summary'!A60=\"\",\"\",'Measure Summary'!D60)","v":""},{"$f":"IF('Measure Summary'!A60=\"\",\"\",\"N\")","v":""},{"$f":"IF('Measure Summary'!A60=\"\",\"\",'Measure Summary'!E60)","v":""},{"$f":"IF('Measure Summary'!A60=\"\",\"\",\"N\")","v":""},{"$f":"IF('Measure Summary'!A60=\"\",\"\",'Measure Summary'!F60)","v":""},{"$f":"IF('Measure Summary'!A60=\"\",\"\",'Analysis 103L'!$R$5)","v":""},{"$f":"IF('Measure Summary'!A60=\"\",\"\",'Analysis 103L'!$R$4)","v":""},{"$f":"IF('Measure Summary'!A60=\"\",\"\", ROUND('Measure Summary'!G60,0))","v":""},{"$f":"IF('Measure Summary'!A60=\"\",\"\",0)","v":""},{"$f":"IF('Measure Summary'!A60=\"\",\"\",'Measure Summary'!B60)","v":""},{"$f":"IF('Measure Summary'!A60=\"\",\"\",\"NONEG\")","v":""},{"$f":"IF('Measure Summary'!A60=\"\",\"\",VLOOKUP('Measure Summary'!A60,Lookups!$A$30:$J$156,Lookups!$L$7,FALSE))","v":""},{"$f":"IF(OR('Measure Summary'!C60=\"(blank)\",'Measure Summary'!C60=0),\"\",'Measure Summary'!C60)","v":""}]
[{"$f":"IF('Measure Summary'!A61=\"\",\"\",VLOOKUP('Measure Summary'!A61,Lookups!$A$30:$J$156,VLOOKUP('100L Information'!$AI$46,Lookups!$J$3:$K$6,2,FALSE), FALSE))","v":""},{"$f":"IF('Measure Summary'!A61=\"\",\"\",'Measure Summary'!D61)","v":""},{"$f":"IF('Measure Summary'!A61=\"\",\"\",\"N\")","v":""},{"$f":"IF('Measure Summary'!A61=\"\",\"\",'Measure Summary'!E61)","v":""},{"$f":"IF('Measure Summary'!A61=\"\",\"\",\"N\")","v":""},{"$f":"IF('Measure Summary'!A61=\"\",\"\",'Measure Summary'!F61)","v":""},{"$f":"IF('Measure Summary'!A61=\"\",\"\",'Analysis 103L'!$R$5)","v":""},{"$f":"IF('Measure Summary'!A61=\"\",\"\",'Analysis 103L'!$R$4)","v":""},{"$f":"IF('Measure Summary'!A61=\"\",\"\", ROUND('Measure Summary'!G61,0))","v":""},{"$f":"IF('Measure Summary'!A61=\"\",\"\",0)","v":""},{"$f":"IF('Measure Summary'!A61=\"\",\"\",'Measure Summary'!B61)","v":""},{"$f":"IF('Measure Summary'!A61=\"\",\"\",\"NONEG\")","v":""},{"$f":"IF('Measure Summary'!A61=\"\",\"\",VLOOKUP('Measure Summary'!A61,Lookups!$A$30:$J$156,Lookups!$L$7,FALSE))","v":""},{"$f":"IF(OR('Measure Summary'!C61=\"(blank)\",'Measure Summary'!C61=0),\"\",'Measure Summary'!C61)","v":""}]
[{"$f":"IF('Measure Summary'!A62=\"\",\"\",VLOOKUP('Measure Summary'!A62,Lookups!$A$30:$J$156,VLOOKUP('100L Information'!$AI$46,Lookups!$J$3:$K$6,2,FALSE), FALSE))","v":""},{"$f":"IF('Measure Summary'!A62=\"\",\"\",'Measure Summary'!D62)","v":""},{"$f":"IF('Measure Summary'!A62=\"\",\"\",\"N\")","v":""},{"$f":"IF('Measure Summary'!A62=\"\",\"\",'Measure Summary'!E62)","v":""},{"$f":"IF('Measure Summary'!A62=\"\",\"\",\"N\")","v":""},{"$f":"IF('Measure Summary'!A62=\"\",\"\",'Measure Summary'!F62)","v":""},{"$f":"IF('Measure Summary'!A62=\"\",\"\",'Analysis 103L'!$R$5)","v":""},{"$f":"IF('Measure Summary'!A62=\"\",\"\",'Analysis 103L'!$R$4)","v":""},{"$f":"IF('Measure Summary'!A62=\"\",\"\", ROUND('Measure Summary'!G62,0))","v":""},{"$f":"IF('Measure Summary'!A62=\"\",\"\",0)","v":""},{"$f":"IF('Measure Summary'!A62=\"\",\"\",'Measure Summary'!B62)","v":""},{"$f":"IF('Measure Summary'!A62=\"\",\"\",\"NONEG\")","v":""},{"$f":"IF('Measure Summary'!A62=\"\",\"\",VLOOKUP('Measure Summary'!A62,Lookups!$A$30:$J$156,Lookups!$L$7,FALSE))","v":""},{"$f":"IF(OR('Measure Summary'!C62=\"(blank)\",'Measure Summary'!C62=0),\"\",'Measure Summary'!C62)","v":""}]
[{"$f":"IF('Measure Summary'!A63=\"\",\"\",VLOOKUP('Measure Summary'!A63,Lookups!$A$30:$J$156,VLOOKUP('100L Information'!$AI$46,Lookups!$J$3:$K$6,2,FALSE), FALSE))","v":""},{"$f":"IF('Measure Summary'!A63=\"\",\"\",'Measure Summary'!D63)","v":""},{"$f":"IF('Measure Summary'!A63=\"\",\"\",\"N\")","v":""},{"$f":"IF('Measure Summary'!A63=\"\",\"\",'Measure Summary'!E63)","v":""},{"$f":"IF('Measure Summary'!A63=\"\",\"\",\"N\")","v":""},{"$f":"IF('Measure Summary'!A63=\"\",\"\",'Measure Summary'!F63)","v":""},{"$f":"IF('Measure Summary'!A63=\"\",\"\",'Analysis 103L'!$R$5)","v":""},{"$f":"IF('Measure Summary'!A63=\"\",\"\",'Analysis 103L'!$R$4)","v":""},{"$f":"IF('Measure Summary'!A63=\"\",\"\", ROUND('Measure Summary'!G63,0))","v":""},{"$f":"IF('Measure Summary'!A63=\"\",\"\",0)","v":""},{"$f":"IF('Measure Summary'!A63=\"\",\"\",'Measure Summary'!B63)","v":""},{"$f":"IF('Measure Summary'!A63=\"\",\"\",\"NONEG\")","v":""},{"$f":"IF('Measure Summary'!A63=\"\",\"\",VLOOKUP('Measure Summary'!A63,Lookups!$A$30:$J$156,Lookups!$L$7,FALSE))","v":""},{"$f":"IF(OR('Measure Summary'!C63=\"(blank)\",'Measure Summary'!C63=0),\"\",'Measure Summary'!C63)","v":""}]
[{"$f":"IF('Measure Summary'!A64=\"\",\"\",VLOOKUP('Measure Summary'!A64,Lookups!$A$30:$J$156,VLOOKUP('100L Information'!$AI$46,Lookups!$J$3:$K$6,2,FALSE), FALSE))","v":""},{"$f":"IF('Measure Summary'!A64=\"\",\"\",'Measure Summary'!D64)","v":""},{"$f":"IF('Measure Summary'!A64=\"\",\"\",\"N\")","v":""},{"$f":"IF('Measure Summary'!A64=\"\",\"\",'Measure Summary'!E64)","v":""},{"$f":"IF('Measure Summary'!A64=\"\",\"\",\"N\")","v":""},{"$f":"IF('Measure Summary'!A64=\"\",\"\",'Measure Summary'!F64)","v":""},{"$f":"IF('Measure Summary'!A64=\"\",\"\",'Analysis 103L'!$R$5)","v":""},{"$f":"IF('Measure Summary'!A64=\"\",\"\",'Analysis 103L'!$R$4)","v":""},{"$f":"IF('Measure Summary'!A64=\"\",\"\", ROUND('Measure Summary'!G64,0))","v":""},{"$f":"IF('Measure Summary'!A64=\"\",\"\",0)","v":""},{"$f":"IF('Measure Summary'!A64=\"\",\"\",'Measure Summary'!B64)","v":""},{"$f":"IF('Measure Summary'!A64=\"\",\"\",\"NONEG\")","v":""},{"$f":"IF('Measure Summary'!A64=\"\",\"\",VLOOKUP('Measure Summary'!A64,Lookups!$A$30:$J$156,Lookups!$L$7,FALSE))","v":""},{"$f":"IF(OR('Measure Summary'!C64=\"(blank)\",'Measure Summary'!C64=0),\"\",'Measure Summary'!C64)","v":""}]
[{"$f":"IF('Measure Summary'!A65=\"\",\"\",VLOOKUP('Measure Summary'!A65,Lookups!$A$30:$J$156,VLOOKUP('100L Information'!$AI$46,Lookups!$J$3:$K$6,2,FALSE), FALSE))","v":""},{"$f":"IF('Measure Summary'!A65=\"\",\"\",'Measure Summary'!D65)","v":""},{"$f":"IF('Measure Summary'!A65=\"\",\"\",\"N\")","v":""},{"$f":"IF('Measure Summary'!A65=\"\",\"\",'Measure Summary'!E65)","v":""},{"$f":"IF('Measure Summary'!A65=\"\",\"\",\"N\")","v":""},{"$f":"IF('Measure Summary'!A65=\"\",\"\",'Measure Summary'!F65)","v":""},{"$f":"IF('Measure Summary'!A65=\"\",\"\",'Analysis 103L'!$R$5)","v":""},{"$f":"IF('Measure Summary'!A65=\"\",\"\",'Analysis 103L'!$R$4)","v":""},{"$f":"IF('Measure Summary'!A65=\"\",\"\", ROUND('Measure Summary'!G65,0))","v":""},{"$f":"IF('Measure Summary'!A65=\"\",\"\",0)","v":""},{"$f":"IF('Measure Summary'!A65=\"\",\"\",'Measure Summary'!B65)","v":""},{"$f":"IF('Measure Summary'!A65=\"\",\"\",\"NONEG\")","v":""},{"$f":"IF('Measure Summary'!A65=\"\",\"\",VLOOKUP('Measure Summary'!A65,Lookups!$A$30:$J$156,Lookups!$L$7,FALSE))","v":""},{"$f":"IF(OR('Measure Summary'!C65=\"(blank)\",'Measure Summary'!C65=0),\"\",'Measure Summary'!C65)","v":""}]
[{"$f":"IF('Measure Summary'!A66=\"\",\"\",VLOOKUP('Measure Summary'!A66,Lookups!$A$30:$J$156,VLOOKUP('100L Information'!$AI$46,Lookups!$J$3:$K$6,2,FALSE), FALSE))","v":""},{"$f":"IF('Measure Summary'!A66=\"\",\"\",'Measure Summary'!D66)","v":""},{"$f":"IF('Measure Summary'!A66=\"\",\"\",\"N\")","v":""},{"$f":"IF('Measure Summary'!A66=\"\",\"\",'Measure Summary'!E66)","v":""},{"$f":"IF('Measure Summary'!A66=\"\",\"\",\"N\")","v":""},{"$f":"IF('Measure Summary'!A66=\"\",\"\",'Measure Summary'!F66)","v":""},{"$f":"IF('Measure Summary'!A66=\"\",\"\",'Analysis 103L'!$R$5)","v":""},{"$f":"IF('Measure Summary'!A66=\"\",\"\",'Analysis 103L'!$R$4)","v":""},{"$f":"IF('Measure Summary'!A66=\"\",\"\", ROUND('Measure Summary'!G66,0))","v":""},{"$f":"IF('Measure Summary'!A66=\"\",\"\",0)","v":""},{"$f":"IF('Measure Summary'!A66=\"\",\"\",'Measure Summary'!B66)","v":""},{"$f":"IF('Measure Summary'!A66=\"\",\"\",\"NONEG\")","v":""},{"$f":"IF('Measure Summary'!A66=\"\",\"\",VLOOKUP('Measure Summary'!A66,Lookups!$A$30:$J$156,Lookups!$L$7,FALSE))","v":""},{"$f":"IF(OR('Measure Summary'!C66=\"(blank)\",'Measure Summary'!C66=0),\"\",'Measure Summary'!C66)","v":""}]
[{"$f":"IF('Measure Summary'!A67=\"\",\"\",VLOOKUP('Measure Summary'!A67,Lookups!$A$30:$J$156,VLOOKUP('100L Information'!$AI$46,Lookups!$J$3:$K$6,2,FALSE), FALSE))","v":""},{"$f":"IF('Measure Summary'!A67=\"\",\"\",'Measure Summary'!D67)","v":""},{"$f":"IF('Measure Summary'!A67=\"\",\"\",\"N\")","v":""},{"$f":"IF('Measure Summary'!A67=\"\",\"\",'Measure Summary'!E67)","v":""},{"$f":"IF('Measure Summary'!A67=\"\",\"\",\"N\")","v":""},{"$f":"IF('Measure Summary'!A67=\"\",\"\",'Measure Summary'!F67)","v":""},{"$f":"IF('Measure Summary'!A67=\"\",\"\",'Analysis 103L'!$R$5)","v":""},{"$f":"IF('Measure Summary'!A67=\"\",\"\",'Analysis 103L'!$R$4)","v":""},{"$f":"IF('Measure Summary'!A67=\"\",\"\", ROUND('Measure Summary'!G67,0))","v":""},{"$f":"IF('Measure Summary'!A67=\"\",\"\",0)","v":""},{"$f":"IF('Measure Summary'!A67=\"\",\"\",'Measure Summary'!B67)","v":""},{"$f":"IF('Measure Summary'!A67=\"\",\"\",\"NONEG\")","v":""},{"$f":"IF('Measure Summary'!A67=\"\",\"\",VLOOKUP('Measure Summary'!A67,Lookups!$A$30:$J$156,Lookups!$L$7,FALSE))","v":""},{"$f":"IF(OR('Measure Summary'!C67=\"(blank)\",'Measure Summary'!C67=0),\"\",'Measure Summary'!C67)","v":""}]
[{"$f":"IF('Measure Summary'!A68=\"\",\"\",VLOOKUP('Measure Summary'!A68,Lookups!$A$30:$J$156,VLOOKUP('100L Information'!$AI$46,Lookups!$J$3:$K$6,2,FALSE), FALSE))","v":""},{"$f":"IF('Measure Summary'!A68=\"\",\"\",'Measure Summary'!D68)","v":""},{"$f":"IF('Measure Summary'!A68=\"\",\"\",\"N\")","v":""},{"$f":"IF('Measure Summary'!A68=\"\",\"\",'Measure Summary'!E68)","v":""},{"$f":"IF('Measure Summary'!A68=\"\",\"\",\"N\")","v":""},{"$f":"IF('Measure Summary'!A68=\"\",\"\",'Measure Summary'!F68)","v":""},{"$f":"IF('Measure Summary'!A68=\"\",\"\",'Analysis 103L'!$R$5)","v":""},{"$f":"IF('Measure Summary'!A68=\"\",\"\",'Analysis 103L'!$R$4)","v":""},{"$f":"IF('Measure Summary'!A68=\"\",\"\", ROUND('Measure Summary'!G68,0))","v":""},{"$f":"IF('Measure Summary'!A68=\"\",\"\",0)","v":""},{"$f":"IF('Measure Summary'!A68=\"\",\"\",'Measure Summary'!B68)","v":""},{"$f":"IF('Measure Summary'!A68=\"\",\"\",\"NONEG\")","v":""},{"$f":"IF('Measure Summary'!A68=\"\",\"\",VLOOKUP('Measure Summary'!A68,Lookups!$A$30:$J$156,Lookups!$L$7,FALSE))","v":""},{"$f":"IF(OR('Measure Summary'!C68=\"(blank)\",'Measure Summary'!C68=0),\"\",'Measure Summary'!C68)","v":""}]
[{"$f":"IF('Measure Summary'!A69=\"\",\"\",VLOOKUP('Measure Summary'!A69,Lookups!$A$30:$J$156,VLOOKUP('100L Information'!$AI$46,Lookups!$J$3:$K$6,2,FALSE), FALSE))","v":""},{"$f":"IF('Measure Summary'!A69=\"\",\"\",'Measure Summary'!D69)","v":""},{"$f":"IF('Measure Summary'!A69=\"\",\"\",\"N\")","v":""},{"$f":"IF('Measure Summary'!A69=\"\",\"\",'Measure Summary'!E69)","v":""},{"$f":"IF('Measure Summary'!A69=\"\",\"\",\"N\")","v":""},{"$f":"IF('Measure Summary'!A69=\"\",\"\",'Measure Summary'!F69)","v":""},{"$f":"IF('Measure Summary'!A69=\"\",\"\",'Analysis 103L'!$R$5)","v":""},{"$f":"IF('Measure Summary'!A69=\"\",\"\",'Analysis 103L'!$R$4)","v":""},{"$f":"IF('Measure Summary'!A69=\"\",\"\", ROUND('Measure Summary'!G69,0))","v":""},{"$f":"IF('Measure Summary'!A69=\"\",\"\",0)","v":""},{"$f":"IF('Measure Summary'!A69=\"\",\"\",'Measure Summary'!B69)","v":""},{"$f":"IF('Measure Summary'!A69=\"\",\"\",\"NONEG\")","v":""},{"$f":"IF('Measure Summary'!A69=\"\",\"\",VLOOKUP('Measure Summary'!A69,Lookups!$A$30:$J$156,Lookups!$L$7,FALSE))","v":""},{"$f":"IF(OR('Measure Summary'!C69=\"(blank)\",'Measure Summary'!C69=0),\"\",'Measure Summary'!C69)","v":""}]
[{"$f":"IF('Measure Summary'!A70=\"\",\"\",VLOOKUP('Measure Summary'!A70,Lookups!$A$30:$J$156,VLOOKUP('100L Information'!$AI$46,Lookups!$J$3:$K$6,2,FALSE), FALSE))","v":""},{"$f":"IF('Measure Summary'!A70=\"\",\"\",'Measure Summary'!D70)","v":""},{"$f":"IF('Measure Summary'!A70=\"\",\"\",\"N\")","v":""},{"$f":"IF('Measure Summary'!A70=\"\",\"\",'Measure Summary'!E70)","v":""},{"$f":"IF('Measure Summary'!A70=\"\",\"\",\"N\")","v":""},{"$f":"IF('Measure Summary'!A70=\"\",\"\",'Measure Summary'!F70)","v":""},{"$f":"IF('Measure Summary'!A70=\"\",\"\",'Analysis 103L'!$R$5)","v":""},{"$f":"IF('Measure Summary'!A70=\"\",\"\",'Analysis 103L'!$R$4)","v":""},{"$f":"IF('Measure Summary'!A70=\"\",\"\", ROUND('Measure Summary'!G70,0))","v":""},{"$f":"IF('Measure Summary'!A70=\"\",\"\",0)","v":""},{"$f":"IF('Measure Summary'!A70=\"\",\"\",'Measure Summary'!B70)","v":""},{"$f":"IF('Measure Summary'!A70=\"\",\"\",\"NONEG\")","v":""},{"$f":"IF('Measure Summary'!A70=\"\",\"\",VLOOKUP('Measure Summary'!A70,Lookups!$A$30:$J$156,Lookups!$L$7,FALSE))","v":""},{"$f":"IF(OR('Measure Summary'!C70=\"(blank)\",'Measure Summary'!C70=0),\"\",'Measure Summary'!C70)","v":""}]
[{"$f":"IF('Measure Summary'!A71=\"\",\"\",VLOOKUP('Measure Summary'!A71,Lookups!$A$30:$J$156,VLOOKUP('100L Information'!$AI$46,Lookups!$J$3:$K$6,2,FALSE), FALSE))","v":""},{"$f":"IF('Measure Summary'!A71=\"\",\"\",'Measure Summary'!D71)","v":""},{"$f":"IF('Measure Summary'!A71=\"\",\"\",\"N\")","v":""},{"$f":"IF('Measure Summary'!A71=\"\",\"\",'Measure Summary'!E71)","v":""},{"$f":"IF('Measure Summary'!A71=\"\",\"\",\"N\")","v":""},{"$f":"IF('Measure Summary'!A71=\"\",\"\",'Measure Summary'!F71)","v":""},{"$f":"IF('Measure Summary'!A71=\"\",\"\",'Analysis 103L'!$R$5)","v":""},{"$f":"IF('Measure Summary'!A71=\"\",\"\",'Analysis 103L'!$R$4)","v":""},{"$f":"IF('Measure Summary'!A71=\"\",\"\", ROUND('Measure Summary'!G71,0))","v":""},{"$f":"IF('Measure Summary'!A71=\"\",\"\",0)","v":""},{"$f":"IF('Measure Summary'!A71=\"\",\"\",'Measure Summary'!B71)","v":""},{"$f":"IF('Measure Summary'!A71=\"\",\"\",\"NONEG\")","v":""},{"$f":"IF('Measure Summary'!A71=\"\",\"\",VLOOKUP('Measure Summary'!A71,Lookups!$A$30:$J$156,Lookups!$L$7,FALSE))","v":""},{"$f":"IF(OR('Measure Summary'!C71=\"(blank)\",'Measure Summary'!C71=0),\"\",'Measure Summary'!C71)","v":""}]
[{"$f":"IF('Measure Summary'!A72=\"\",\"\",VLOOKUP('Measure Summary'!A72,Lookups!$A$30:$J$156,VLOOKUP('100L Information'!$AI$46,Lookups!$J$3:$K$6,2,FALSE), FALSE))","v":""},{"$f":"IF('Measure Summary'!A72=\"\",\"\",'Measure Summary'!D72)","v":""},{"$f":"IF('Measure Summary'!A72=\"\",\"\",\"N\")","v":""},{"$f":"IF('Measure Summary'!A72=\"\",\"\",'Measure Summary'!E72)","v":""},{"$f":"IF('Measure Summary'!A72=\"\",\"\",\"N\")","v":""},{"$f":"IF('Measure Summary'!A72=\"\",\"\",'Measure Summary'!F72)","v":""},{"$f":"IF('Measure Summary'!A72=\"\",\"\",'Analysis 103L'!$R$5)","v":""},{"$f":"IF('Measure Summary'!A72=\"\",\"\",'Analysis 103L'!$R$4)","v":""},{"$f":"IF('Measure Summary'!A72=\"\",\"\", ROUND('Measure Summary'!G72,0))","v":""},{"$f":"IF('Measure Summary'!A72=\"\",\"\",0)","v":""},{"$f":"IF('Measure Summary'!A72=\"\",\"\",'Measure Summary'!B72)","v":""},{"$f":"IF('Measure Summary'!A72=\"\",\"\",\"NONEG\")","v":""},{"$f":"IF('Measure Summary'!A72=\"\",\"\",VLOOKUP('Measure Summary'!A72,Lookups!$A$30:$J$156,Lookups!$L$7,FALSE))","v":""},{"$f":"IF(OR('Measure Summary'!C72=\"(blank)\",'Measure Summary'!C72=0),\"\",'Measure Summary'!C72)","v":""}]
[{"$f":"IF('Measure Summary'!A73=\"\",\"\",VLOOKUP('Measure Summary'!A73,Lookups!$A$30:$J$156,VLOOKUP('100L Information'!$AI$46,Lookups!$J$3:$K$6,2,FALSE), FALSE))","v":""},{"$f":"IF('Measure Summary'!A73=\"\",\"\",'Measure Summary'!D73)","v":""},{"$f":"IF('Measure Summary'!A73=\"\",\"\",\"N\")","v":""},{"$f":"IF('Measure Summary'!A73=\"\",\"\",'Measure Summary'!E73)","v":""},{"$f":"IF('Measure Summary'!A73=\"\",\"\",\"N\")","v":""},{"$f":"IF('Measure Summary'!A73=\"\",\"\",'Measure Summary'!F73)","v":""},{"$f":"IF('Measure Summary'!A73=\"\",\"\",'Analysis 103L'!$R$5)","v":""},{"$f":"IF('Measure Summary'!A73=\"\",\"\",'Analysis 103L'!$R$4)","v":""},{"$f":"IF('Measure Summary'!A73=\"\",\"\", ROUND('Measure Summary'!G73,0))","v":""},{"$f":"IF('Measure Summary'!A73=\"\",\"\",0)","v":""},{"$f":"IF('Measure Summary'!A73=\"\",\"\",'Measure Summary'!B73)","v":""},{"$f":"IF('Measure Summary'!A73=\"\",\"\",\"NONEG\")","v":""},{"$f":"IF('Measure Summary'!A73=\"\",\"\",VLOOKUP('Measure Summary'!A73,Lookups!$A$30:$J$156,Lookups!$L$7,FALSE))","v":""},{"$f":"IF(OR('Measure Summary'!C73=\"(blank)\",'Measure Summary'!C73=0),\"\",'Measure Summary'!C73)","v":""}]
[{"$f":"IF('Measure Summary'!A74=\"\",\"\",VLOOKUP('Measure Summary'!A74,Lookups!$A$30:$J$156,VLOOKUP('100L Information'!$AI$46,Lookups!$J$3:$K$6,2,FALSE), FALSE))","v":""},{"$f":"IF('Measure Summary'!A74=\"\",\"\",'Measure Summary'!D74)","v":""},{"$f":"IF('Measure Summary'!A74=\"\",\"\",\"N\")","v":""},{"$f":"IF('Measure Summary'!A74=\"\",\"\",'Measure Summary'!E74)","v":""},{"$f":"IF('Measure Summary'!A74=\"\",\"\",\"N\")","v":""},{"$f":"IF('Measure Summary'!A74=\"\",\"\",'Measure Summary'!F74)","v":""},{"$f":"IF('Measure Summary'!A74=\"\",\"\",'Analysis 103L'!$R$5)","v":""},{"$f":"IF('Measure Summary'!A74=\"\",\"\",'Analysis 103L'!$R$4)","v":""},{"$f":"IF('Measure Summary'!A74=\"\",\"\", ROUND('Measure Summary'!G74,0))","v":""},{"$f":"IF('Measure Summary'!A74=\"\",\"\",0)","v":""},{"$f":"IF('Measure Summary'!A74=\"\",\"\",'Measure Summary'!B74)","v":""},{"$f":"IF('Measure Summary'!A74=\"\",\"\",\"NONEG\")","v":""},{"$f":"IF('Measure Summary'!A74=\"\",\"\",VLOOKUP('Measure Summary'!A74,Lookups!$A$30:$J$156,Lookups!$L$7,FALSE))","v":""},{"$f":"IF(OR('Measure Summary'!C74=\"(blank)\",'Measure Summary'!C74=0),\"\",'Measure Summary'!C74)","v":""}]
[{"$f":"IF('Measure Summary'!A75=\"\",\"\",VLOOKUP('Measure Summary'!A75,Lookups!$A$30:$J$156,VLOOKUP('100L Information'!$AI$46,Lookups!$J$3:$K$6,2,FALSE), FALSE))","v":""},{"$f":"IF('Measure Summary'!A75=\"\",\"\",'Measure Summary'!D75)","v":""},{"$f":"IF('Measure Summary'!A75=\"\",\"\",\"N\")","v":""},{"$f":"IF('Measure Summary'!A75=\"\",\"\",'Measure Summary'!E75)","v":""},{"$f":"IF('Measure Summary'!A75=\"\",\"\",\"N\")","v":""},{"$f":"IF('Measure Summary'!A75=\"\",\"\",'Measure Summary'!F75)","v":""},{"$f":"IF('Measure Summary'!A75=\"\",\"\",'Analysis 103L'!$R$5)","v":""},{"$f":"IF('Measure Summary'!A75=\"\",\"\",'Analysis 103L'!$R$4)","v":""},{"$f":"IF('Measure Summary'!A75=\"\",\"\", ROUND('Measure Summary'!G75,0))","v":""},{"$f":"IF('Measure Summary'!A75=\"\",\"\",0)","v":""},{"$f":"IF('Measure Summary'!A75=\"\",\"\",'Measure Summary'!B75)","v":""},{"$f":"IF('Measure Summary'!A75=\"\",\"\",\"NONEG\")","v":""},{"$f":"IF('Measure Summary'!A75=\"\",\"\",VLOOKUP('Measure Summary'!A75,Lookups!$A$30:$J$156,Lookups!$L$7,FALSE))","v":""},{"$f":"IF(OR('Measure Summary'!C75=\"(blank)\",'Measure Summary'!C75=0),\"\",'Measure Summary'!C75)","v":""}]
[{"$f":"IF('Measure Summary'!A76=\"\",\"\",VLOOKUP('Measure Summary'!A76,Lookups!$A$30:$J$156,VLOOKUP('100L Information'!$AI$46,Lookups!$J$3:$K$6,2,FALSE), FALSE))","v":""},{"$f":"IF('Measure Summary'!A76=\"\",\"\",'Measure Summary'!D76)","v":""},{"$f":"IF('Measure Summary'!A76=\"\",\"\",\"N\")","v":""},{"$f":"IF('Measure Summary'!A76=\"\",\"\",'Measure Summary'!E76)","v":""},{"$f":"IF('Measure Summary'!A76=\"\",\"\",\"N\")","v":""},{"$f":"IF('Measure Summary'!A76=\"\",\"\",'Measure Summary'!F76)","v":""},{"$f":"IF('Measure Summary'!A76=\"\",\"\",'Analysis 103L'!$R$5)","v":""},{"$f":"IF('Measure Summary'!A76=\"\",\"\",'Analysis 103L'!$R$4)","v":""},{"$f":"IF('Measure Summary'!A76=\"\",\"\", ROUND('Measure Summary'!G76,0))","v":""},{"$f":"IF('Measure Summary'!A76=\"\",\"\",0)","v":""},{"$f":"IF('Measure Summary'!A76=\"\",\"\",'Measure Summary'!B76)","v":""},{"$f":"IF('Measure Summary'!A76=\"\",\"\",\"NONEG\")","v":""},{"$f":"IF('Measure Summary'!A76=\"\",\"\",VLOOKUP('Measure Summary'!A76,Lookups!$A$30:$J$156,Lookups!$L$7,FALSE))","v":""},{"$f":"IF(OR('Measure Summary'!C76=\"(blank)\",'Measure Summary'!C76=0),\"\",'Measure Summary'!C76)","v":""}]
[{"$f":"IF('Measure Summary'!A77=\"\",\"\",VLOOKUP('Measure Summary'!A77,Lookups!$A$30:$J$156,VLOOKUP('100L Information'!$AI$46,Lookups!$J$3:$K$6,2,FALSE), FALSE))","v":""},{"$f":"IF('Measure Summary'!A77=\"\",\"\",'Measure Summary'!D77)","v":""},{"$f":"IF('Measure Summary'!A77=\"\",\"\",\"N\")","v":""},{"$f":"IF('Measure Summary'!A77=\"\",\"\",'Measure Summary'!E77)","v":""},{"$f":"IF('Measure Summary'!A77=\"\",\"\",\"N\")","v":""},{"$f":"IF('Measure Summary'!A77=\"\",\"\",'Measure Summary'!F77)","v":""},{"$f":"IF('Measure Summary'!A77=\"\",\"\",'Analysis 103L'!$R$5)","v":""},{"$f":"IF('Measure Summary'!A77=\"\",\"\",'Analysis 103L'!$R$4)","v":""},{"$f":"IF('Measure Summary'!A77=\"\",\"\", ROUND('Measure Summary'!G77,0))","v":""},{"$f":"IF('Measure Summary'!A77=\"\",\"\",0)","v":""},{"$f":"IF('Measure Summary'!A77=\"\",\"\",'Measure Summary'!B77)","v":""},{"$f":"IF('Measure Summary'!A77=\"\",\"\",\"NONEG\")","v":""},{"$f":"IF('Measure Summary'!A77=\"\",\"\",VLOOKUP('Measure Summary'!A77,Lookups!$A$30:$J$156,Lookups!$L$7,FALSE))","v":""},{"$f":"IF(OR('Measure Summary'!C77=\"(blank)\",'Measure Summary'!C77=0),\"\",'Measure Summary'!C77)","v":""}]
[{"$f":"IF('Measure Summary'!A78=\"\",\"\",VLOOKUP('Measure Summary'!A78,Lookups!$A$30:$J$156,VLOOKUP('100L Information'!$AI$46,Lookups!$J$3:$K$6,2,FALSE), FALSE))","v":""},{"$f":"IF('Measure Summary'!A78=\"\",\"\",'Measure Summary'!D78)","v":""},{"$f":"IF('Measure Summary'!A78=\"\",\"\",\"N\")","v":""},{"$f":"IF('Measure Summary'!A78=\"\",\"\",'Measure Summary'!E78)","v":""},{"$f":"IF('Measure Summary'!A78=\"\",\"\",\"N\")","v":""},{"$f":"IF('Measure Summary'!A78=\"\",\"\",'Measure Summary'!F78)","v":""},{"$f":"IF('Measure Summary'!A78=\"\",\"\",'Analysis 103L'!$R$5)","v":""},{"$f":"IF('Measure Summary'!A78=\"\",\"\",'Analysis 103L'!$R$4)","v":""},{"$f":"IF('Measure Summary'!A78=\"\",\"\", ROUND('Measure Summary'!G78,0))","v":""},{"$f":"IF('Measure Summary'!A78=\"\",\"\",0)","v":""},{"$f":"IF('Measure Summary'!A78=\"\",\"\",'Measure Summary'!B78)","v":""},{"$f":"IF('Measure Summary'!A78=\"\",\"\",\"NONEG\")","v":""},{"$f":"IF('Measure Summary'!A78=\"\",\"\",VLOOKUP('Measure Summary'!A78,Lookups!$A$30:$J$156,Lookups!$L$7,FALSE))","v":""},{"$f":"IF(OR('Measure Summary'!C78=\"(blank)\",'Measure Summary'!C78=0),\"\",'Measure Summary'!C78)","v":""}]
[{"$f":"IF('Measure Summary'!A79=\"\",\"\",VLOOKUP('Measure Summary'!A79,Lookups!$A$30:$J$156,VLOOKUP('100L Information'!$AI$46,Lookups!$J$3:$K$6,2,FALSE), FALSE))","v":""},{"$f":"IF('Measure Summary'!A79=\"\",\"\",'Measure Summary'!D79)","v":""},{"$f":"IF('Measure Summary'!A79=\"\",\"\",\"N\")","v":""},{"$f":"IF('Measure Summary'!A79=\"\",\"\",'Measure Summary'!E79)","v":""},{"$f":"IF('Measure Summary'!A79=\"\",\"\",\"N\")","v":""},{"$f":"IF('Measure Summary'!A79=\"\",\"\",'Measure Summary'!F79)","v":""},{"$f":"IF('Measure Summary'!A79=\"\",\"\",'Analysis 103L'!$R$5)","v":""},{"$f":"IF('Measure Summary'!A79=\"\",\"\",'Analysis 103L'!$R$4)","v":""},{"$f":"IF('Measure Summary'!A79=\"\",\"\", ROUND('Measure Summary'!G79,0))","v":""},{"$f":"IF('Measure Summary'!A79=\"\",\"\",0)","v":""},{"$f":"IF('Measure Summary'!A79=\"\",\"\",'Measure Summary'!B79)","v":""},{"$f":"IF('Measure Summary'!A79=\"\",\"\",\"NONEG\")","v":""},{"$f":"IF('Measure Summary'!A79=\"\",\"\",VLOOKUP('Measure Summary'!A79,Lookups!$A$30:$J$156,Lookups!$L$7,FALSE))","v":""},{"$f":"IF(OR('Measure Summary'!C79=\"(blank)\",'Measure Summary'!C79=0),\"\",'Measure Summary'!C79)","v":""}]
[{"$f":"IF('Measure Summary'!A80=\"\",\"\",VLOOKUP('Measure Summary'!A80,Lookups!$A$30:$J$156,VLOOKUP('100L Information'!$AI$46,Lookups!$J$3:$K$6,2,FALSE), FALSE))","v":""},{"$f":"IF('Measure Summary'!A80=\"\",\"\",'Measure Summary'!D80)","v":""},{"$f":"IF('Measure Summary'!A80=\"\",\"\",\"N\")","v":""},{"$f":"IF('Measure Summary'!A80=\"\",\"\",'Measure Summary'!E80)","v":""},{"$f":"IF('Measure Summary'!A80=\"\",\"\",\"N\")","v":""},{"$f":"IF('Measure Summary'!A80=\"\",\"\",'Measure Summary'!F80)","v":""},{"$f":"IF('Measure Summary'!A80=\"\",\"\",'Analysis 103L'!$R$5)","v":""},{"$f":"IF('Measure Summary'!A80=\"\",\"\",'Analysis 103L'!$R$4)","v":""},{"$f":"IF('Measure Summary'!A80=\"\",\"\", ROUND('Measure Summary'!G80,0))","v":""},{"$f":"IF('Measure Summary'!A80=\"\",\"\",0)","v":""},{"$f":"IF('Measure Summary'!A80=\"\",\"\",'Measure Summary'!B80)","v":""},{"$f":"IF('Measure Summary'!A80=\"\",\"\",\"NONEG\")","v":""},{"$f":"IF('Measure Summary'!A80=\"\",\"\",VLOOKUP('Measure Summary'!A80,Lookups!$A$30:$J$156,Lookups!$L$7,FALSE))","v":""},{"$f":"IF(OR('Measure Summary'!C80=\"(blank)\",'Measure Summary'!C80=0),\"\",'Measure Summary'!C80)","v":""}]
[{"$f":"IF('Measure Summary'!A81=\"\",\"\",VLOOKUP('Measure Summary'!A81,Lookups!$A$30:$J$156,VLOOKUP('100L Information'!$AI$46,Lookups!$J$3:$K$6,2,FALSE), FALSE))","v":""},{"$f":"IF('Measure Summary'!A81=\"\",\"\",'Measure Summary'!D81)","v":""},{"$f":"IF('Measure Summary'!A81=\"\",\"\",\"N\")","v":""},{"$f":"IF('Measure Summary'!A81=\"\",\"\",'Measure Summary'!E81)","v":""},{"$f":"IF('Measure Summary'!A81=\"\",\"\",\"N\")","v":""},{"$f":"IF('Measure Summary'!A81=\"\",\"\",'Measure Summary'!F81)","v":""},{"$f":"IF('Measure Summary'!A81=\"\",\"\",'Analysis 103L'!$R$5)","v":""},{"$f":"IF('Measure Summary'!A81=\"\",\"\",'Analysis 103L'!$R$4)","v":""},{"$f":"IF('Measure Summary'!A81=\"\",\"\", ROUND('Measure Summary'!G81,0))","v":""},{"$f":"IF('Measure Summary'!A81=\"\",\"\",0)","v":""},{"$f":"IF('Measure Summary'!A81=\"\",\"\",'Measure Summary'!B81)","v":""},{"$f":"IF('Measure Summary'!A81=\"\",\"\",\"NONEG\")","v":""},{"$f":"IF('Measure Summary'!A81=\"\",\"\",VLOOKUP('Measure Summary'!A81,Lookups!$A$30:$J$156,Lookups!$L$7,FALSE))","v":""},{"$f":"IF(OR('Measure Summary'!C81=\"(blank)\",'Measure Summary'!C81=0),\"\",'Measure Summary'!C81)","v":""}]
[{"$f":"IF('Measure Summary'!A82=\"\",\"\",VLOOKUP('Measure Summary'!A82,Lookups!$A$30:$J$156,VLOOKUP('100L Information'!$AI$46,Lookups!$J$3:$K$6,2,FALSE), FALSE))","v":""},{"$f":"IF('Measure Summary'!A82=\"\",\"\",'Measure Summary'!D82)","v":""},{"$f":"IF('Measure Summary'!A82=\"\",\"\",\"N\")","v":""},{"$f":"IF('Measure Summary'!A82=\"\",\"\",'Measure Summary'!E82)","v":""},{"$f":"IF('Measure Summary'!A82=\"\",\"\",\"N\")","v":""},{"$f":"IF('Measure Summary'!A82=\"\",\"\",'Measure Summary'!F82)","v":""},{"$f":"IF('Measure Summary'!A82=\"\",\"\",'Analysis 103L'!$R$5)","v":""},{"$f":"IF('Measure Summary'!A82=\"\",\"\",'Analysis 103L'!$R$4)","v":""},{"$f":"IF('Measure Summary'!A82=\"\",\"\", ROUND('Measure Summary'!G82,0))","v":""},{"$f":"IF('Measure Summary'!A82=\"\",\"\",0)","v":""},{"$f":"IF('Measure Summary'!A82=\"\",\"\",'Measure Summary'!B82)","v":""},{"$f":"IF('Measure Summary'!A82=\"\",\"\",\"NONEG\")","v":""},{"$f":"IF('Measure Summary'!A82=\"\",\"\",VLOOKUP('Measure Summary'!A82,Lookups!$A$30:$J$156,Lookups!$L$7,FALSE))","v":""},{"$f":"IF(OR('Measure Summary'!C82=\"(blank)\",'Measure Summary'!C82=0),\"\",'Measure Summary'!C82)","v":""}]
[{"$f":"IF('Measure Summary'!A83=\"\",\"\",VLOOKUP('Measure Summary'!A83,Lookups!$A$30:$J$156,VLOOKUP('100L Information'!$AI$46,Lookups!$J$3:$K$6,2,FALSE), FALSE))","v":""},{"$f":"IF('Measure Summary'!A83=\"\",\"\",'Measure Summary'!D83)","v":""},{"$f":"IF('Measure Summary'!A83=\"\",\"\",\"N\")","v":""},{"$f":"IF('Measure Summary'!A83=\"\",\"\",'Measure Summary'!E83)","v":""},{"$f":"IF('Measure Summary'!A83=\"\",\"\",\"N\")","v":""},{"$f":"IF('Measure Summary'!A83=\"\",\"\",'Measure Summary'!F83)","v":""},{"$f":"IF('Measure Summary'!A83=\"\",\"\",'Analysis 103L'!$R$5)","v":""},{"$f":"IF('Measure Summary'!A83=\"\",\"\",'Analysis 103L'!$R$4)","v":""},{"$f":"IF('Measure Summary'!A83=\"\",\"\", ROUND('Measure Summary'!G83,0))","v":""},{"$f":"IF('Measure Summary'!A83=\"\",\"\",0)","v":""},{"$f":"IF('Measure Summary'!A83=\"\",\"\",'Measure Summary'!B83)","v":""},{"$f":"IF('Measure Summary'!A83=\"\",\"\",\"NONEG\")","v":""},{"$f":"IF('Measure Summary'!A83=\"\",\"\",VLOOKUP('Measure Summary'!A83,Lookups!$A$30:$J$156,Lookups!$L$7,FALSE))","v":""},{"$f":"IF(OR('Measure Summary'!C83=\"(blank)\",'Measure Summary'!C83=0),\"\",'Measure Summary'!C83)","v":""}]
[{"$f":"IF('Measure Summary'!A84=\"\",\"\",VLOOKUP('Measure Summary'!A84,Lookups!$A$30:$J$156,VLOOKUP('100L Information'!$AI$46,Lookups!$J$3:$K$6,2,FALSE), FALSE))","v":""},{"$f":"IF('Measure Summary'!A84=\"\",\"\",'Measure Summary'!D84)","v":""},{"$f":"IF('Measure Summary'!A84=\"\",\"\",\"N\")","v":""},{"$f":"IF('Measure Summary'!A84=\"\",\"\",'Measure Summary'!E84)","v":""},{"$f":"IF('Measure Summary'!A84=\"\",\"\",\"N\")","v":""},{"$f":"IF('Measure Summary'!A84=\"\",\"\",'Measure Summary'!F84)","v":""},{"$f":"IF('Measure Summary'!A84=\"\",\"\",'Analysis 103L'!$R$5)","v":""},{"$f":"IF('Measure Summary'!A84=\"\",\"\",'Analysis 103L'!$R$4)","v":""},{"$f":"IF('Measure Summary'!A84=\"\",\"\", ROUND('Measure Summary'!G84,0))","v":""},{"$f":"IF('Measure Summary'!A84=\"\",\"\",0)","v":""},{"$f":"IF('Measure Summary'!A84=\"\",\"\",'Measure Summary'!B84)","v":""},{"$f":"IF('Measure Summary'!A84=\"\",\"\",\"NONEG\")","v":""},{"$f":"IF('Measure Summary'!A84=\"\",\"\",VLOOKUP('Measure Summary'!A84,Lookups!$A$30:$J$156,Lookups!$L$7,FALSE))","v":""},{"$f":"IF(OR('Measure Summary'!C84=\"(blank)\",'Measure Summary'!C84=0),\"\",'Measure Summary'!C84)","v":""}]
[{"$f":"IF('Measure Summary'!A85=\"\",\"\",VLOOKUP('Measure Summary'!A85,Lookups!$A$30:$J$156,VLOOKUP('100L Information'!$AI$46,Lookups!$J$3:$K$6,2,FALSE), FALSE))","v":""},{"$f":"IF('Measure Summary'!A85=\"\",\"\",'Measure Summary'!D85)","v":""},{"$f":"IF('Measure Summary'!A85=\"\",\"\",\"N\")","v":""},{"$f":"IF('Measure Summary'!A85=\"\",\"\",'Measure Summary'!E85)","v":""},{"$f":"IF('Measure Summary'!A85=\"\",\"\",\"N\")","v":""},{"$f":"IF('Measure Summary'!A85=\"\",\"\",'Measure Summary'!F85)","v":""},{"$f":"IF('Measure Summary'!A85=\"\",\"\",'Analysis 103L'!$R$5)","v":""},{"$f":"IF('Measure Summary'!A85=\"\",\"\",'Analysis 103L'!$R$4)","v":""},{"$f":"IF('Measure Summary'!A85=\"\",\"\", ROUND('Measure Summary'!G85,0))","v":""},{"$f":"IF('Measure Summary'!A85=\"\",\"\",0)","v":""},{"$f":"IF('Measure Summary'!A85=\"\",\"\",'Measure Summary'!B85)","v":""},{"$f":"IF('Measure Summary'!A85=\"\",\"\",\"NONEG\")","v":""},{"$f":"IF('Measure Summary'!A85=\"\",\"\",VLOOKUP('Measure Summary'!A85,Lookups!$A$30:$J$156,Lookups!$L$7,FALSE))","v":""},{"$f":"IF(OR('Measure Summary'!C85=\"(blank)\",'Measure Summary'!C85=0),\"\",'Measure Summary'!C85)","v":""}]
[{"$f":"IF('Measure Summary'!A86=\"\",\"\",VLOOKUP('Measure Summary'!A86,Lookups!$A$30:$J$156,VLOOKUP('100L Information'!$AI$46,Lookups!$J$3:$K$6,2,FALSE), FALSE))","v":""},{"$f":"IF('Measure Summary'!A86=\"\",\"\",'Measure Summary'!D86)","v":""},{"$f":"IF('Measure Summary'!A86=\"\",\"\",\"N\")","v":""},{"$f":"IF('Measure Summary'!A86=\"\",\"\",'Measure Summary'!E86)","v":""},{"$f":"IF('Measure Summary'!A86=\"\",\"\",\"N\")","v":""},{"$f":"IF('Measure Summary'!A86=\"\",\"\",'Measure Summary'!F86)","v":""},{"$f":"IF('Measure Summary'!A86=\"\",\"\",'Analysis 103L'!$R$5)","v":""},{"$f":"IF('Measure Summary'!A86=\"\",\"\",'Analysis 103L'!$R$4)","v":""},{"$f":"IF('Measure Summary'!A86=\"\",\"\", ROUND('Measure Summary'!G86,0))","v":""},{"$f":"IF('Measure Summary'!A86=\"\",\"\",0)","v":""},{"$f":"IF('Measure Summary'!A86=\"\",\"\",'Measure Summary'!B86)","v":""},{"$f":"IF('Measure Summary'!A86=\"\",\"\",\"NONEG\")","v":""},{"$f":"IF('Measure Summary'!A86=\"\",\"\",VLOOKUP('Measure Summary'!A86,Lookups!$A$30:$J$156,Lookups!$L$7,FALSE))","v":""},{"$f":"IF(OR('Measure Summary'!C86=\"(blank)\",'Measure Summary'!C86=0),\"\",'Measure Summary'!C86)","v":""}]
[{"$f":"IF('Measure Summary'!A87=\"\",\"\",VLOOKUP('Measure Summary'!A87,Lookups!$A$30:$J$156,VLOOKUP('100L Information'!$AI$46,Lookups!$J$3:$K$6,2,FALSE), FALSE))","v":""},{"$f":"IF('Measure Summary'!A87=\"\",\"\",'Measure Summary'!D87)","v":""},{"$f":"IF('Measure Summary'!A87=\"\",\"\",\"N\")","v":""},{"$f":"IF('Measure Summary'!A87=\"\",\"\",'Measure Summary'!E87)","v":""},{"$f":"IF('Measure Summary'!A87=\"\",\"\",\"N\")","v":""},{"$f":"IF('Measure Summary'!A87=\"\",\"\",'Measure Summary'!F87)","v":""},{"$f":"IF('Measure Summary'!A87=\"\",\"\",'Analysis 103L'!$R$5)","v":""},{"$f":"IF('Measure Summary'!A87=\"\",\"\",'Analysis 103L'!$R$4)","v":""},{"$f":"IF('Measure Summary'!A87=\"\",\"\", ROUND('Measure Summary'!G87,0))","v":""},{"$f":"IF('Measure Summary'!A87=\"\",\"\",0)","v":""},{"$f":"IF('Measure Summary'!A87=\"\",\"\",'Measure Summary'!B87)","v":""},{"$f":"IF('Measure Summary'!A87=\"\",\"\",\"NONEG\")","v":""},{"$f":"IF('Measure Summary'!A87=\"\",\"\",VLOOKUP('Measure Summary'!A87,Lookups!$A$30:$J$156,Lookups!$L$7,FALSE))","v":""},{"$f":"IF(OR('Measure Summary'!C87=\"(blank)\",'Measure Summary'!C87=0),\"\",'Measure Summary'!C87)","v":""}]
[{"$f":"IF('Measure Summary'!A88=\"\",\"\",VLOOKUP('Measure Summary'!A88,Lookups!$A$30:$J$156,VLOOKUP('100L Information'!$AI$46,Lookups!$J$3:$K$6,2,FALSE), FALSE))","v":""},{"$f":"IF('Measure Summary'!A88=\"\",\"\",'Measure Summary'!D88)","v":""},{"$f":"IF('Measure Summary'!A88=\"\",\"\",\"N\")","v":""},{"$f":"IF('Measure Summary'!A88=\"\",\"\",'Measure Summary'!E88)","v":""},{"$f":"IF('Measure Summary'!A88=\"\",\"\",\"N\")","v":""},{"$f":"IF('Measure Summary'!A88=\"\",\"\",'Measure Summary'!F88)","v":""},{"$f":"IF('Measure Summary'!A88=\"\",\"\",'Analysis 103L'!$R$5)","v":""},{"$f":"IF('Measure Summary'!A88=\"\",\"\",'Analysis 103L'!$R$4)","v":""},{"$f":"IF('Measure Summary'!A88=\"\",\"\", ROUND('Measure Summary'!G88,0))","v":""},{"$f":"IF('Measure Summary'!A88=\"\",\"\",0)","v":""},{"$f":"IF('Measure Summary'!A88=\"\",\"\",'Measure Summary'!B88)","v":""},{"$f":"IF('Measure Summary'!A88=\"\",\"\",\"NONEG\")","v":""},{"$f":"IF('Measure Summary'!A88=\"\",\"\",VLOOKUP('Measure Summary'!A88,Lookups!$A$30:$J$156,Lookups!$L$7,FALSE))","v":""},{"$f":"IF(OR('Measure Summary'!C88=\"(blank)\",'Measure Summary'!C88=0),\"\",'Measure Summary'!C88)","v":""}]
[{"$f":"IF('Measure Summary'!A89=\"\",\"\",VLOOKUP('Measure Summary'!A89,Lookups!$A$30:$J$156,VLOOKUP('100L Information'!$AI$46,Lookups!$J$3:$K$6,2,FALSE), FALSE))","v":""},{"$f":"IF('Measure Summary'!A89=\"\",\"\",'Measure Summary'!D89)","v":""},{"$f":"IF('Measure Summary'!A89=\"\",\"\",\"N\")","v":""},{"$f":"IF('Measure Summary'!A89=\"\",\"\",'Measure Summary'!E89)","v":""},{"$f":"IF('Measure Summary'!A89=\"\",\"\",\"N\")","v":""},{"$f":"IF('Measure Summary'!A89=\"\",\"\",'Measure Summary'!F89)","v":""},{"$f":"IF('Measure Summary'!A89=\"\",\"\",'Analysis 103L'!$R$5)","v":""},{"$f":"IF('Measure Summary'!A89=\"\",\"\",'Analysis 103L'!$R$4)","v":""},{"$f":"IF('Measure Summary'!A89=\"\",\"\", ROUND('Measure Summary'!G89,0))","v":""},{"$f":"IF('Measure Summary'!A89=\"\",\"\",0)","v":""},{"$f":"IF('Measure Summary'!A89=\"\",\"\",'Measure Summary'!B89)","v":""},{"$f":"IF('Measure Summary'!A89=\"\",\"\",\"NONEG\")","v":""},{"$f":"IF('Measure Summary'!A89=\"\",\"\",VLOOKUP('Measure Summary'!A89,Lookups!$A$30:$J$156,Lookups!$L$7,FALSE))","v":""},{"$f":"IF(OR('Measure Summary'!C89=\"(blank)\",'Measure Summary'!C89=0),\"\",'Measure Summary'!C89)","v":""}]
[{"$f":"IF('Measure Summary'!A90=\"\",\"\",VLOOKUP('Measure Summary'!A90,Lookups!$A$30:$J$156,VLOOKUP('100L Information'!$AI$46,Lookups!$J$3:$K$6,2,FALSE), FALSE))","v":""},{"$f":"IF('Measure Summary'!A90=\"\",\"\",'Measure Summary'!D90)","v":""},{"$f":"IF('Measure Summary'!A90=\"\",\"\",\"N\")","v":""},{"$f":"IF('Measure Summary'!A90=\"\",\"\",'Measure Summary'!E90)","v":""},{"$f":"IF('Measure Summary'!A90=\"\",\"\",\"N\")","v":""},{"$f":"IF('Measure Summary'!A90=\"\",\"\",'Measure Summary'!F90)","v":""},{"$f":"IF('Measure Summary'!A90=\"\",\"\",'Analysis 103L'!$R$5)","v":""},{"$f":"IF('Measure Summary'!A90=\"\",\"\",'Analysis 103L'!$R$4)","v":""},{"$f":"IF('Measure Summary'!A90=\"\",\"\", ROUND('Measure Summary'!G90,0))","v":""},{"$f":"IF('Measure Summary'!A90=\"\",\"\",0)","v":""},{"$f":"IF('Measure Summary'!A90=\"\",\"\",'Measure Summary'!B90)","v":""},{"$f":"IF('Measure Summary'!A90=\"\",\"\",\"NONEG\")","v":""},{"$f":"IF('Measure Summary'!A90=\"\",\"\",VLOOKUP('Measure Summary'!A90,Lookups!$A$30:$J$156,Lookups!$L$7,FALSE))","v":""},{"$f":"IF(OR('Measure Summary'!C90=\"(blank)\",'Measure Summary'!C90=0),\"\",'Measure Summary'!C90)","v":""}]
[{"$f":"IF('Measure Summary'!A91=\"\",\"\",VLOOKUP('Measure Summary'!A91,Lookups!$A$30:$J$156,VLOOKUP('100L Information'!$AI$46,Lookups!$J$3:$K$6,2,FALSE), FALSE))","v":""},{"$f":"IF('Measure Summary'!A91=\"\",\"\",'Measure Summary'!D91)","v":""},{"$f":"IF('Measure Summary'!A91=\"\",\"\",\"N\")","v":""},{"$f":"IF('Measure Summary'!A91=\"\",\"\",'Measure Summary'!E91)","v":""},{"$f":"IF('Measure Summary'!A91=\"\",\"\",\"N\")","v":""},{"$f":"IF('Measure Summary'!A91=\"\",\"\",'Measure Summary'!F91)","v":""},{"$f":"IF('Measure Summary'!A91=\"\",\"\",'Analysis 103L'!$R$5)","v":""},{"$f":"IF('Measure Summary'!A91=\"\",\"\",'Analysis 103L'!$R$4)","v":""},{"$f":"IF('Measure Summary'!A91=\"\",\"\", ROUND('Measure Summary'!G91,0))","v":""},{"$f":"IF('Measure Summary'!A91=\"\",\"\",0)","v":""},{"$f":"IF('Measure Summary'!A91=\"\",\"\",'Measure Summary'!B91)","v":""},{"$f":"IF('Measure Summary'!A91=\"\",\"\",\"NONEG\")","v":""},{"$f":"IF('Measure Summary'!A91=\"\",\"\",VLOOKUP('Measure Summary'!A91,Lookups!$A$30:$J$156,Lookups!$L$7,FALSE))","v":""},{"$f":"IF(OR('Measure Summary'!C91=\"(blank)\",'Measure Summary'!C91=0),\"\",'Measure Summary'!C91)","v":""}]
[{"$f":"IF('Measure Summary'!A92=\"\",\"\",VLOOKUP('Measure Summary'!A92,Lookups!$A$30:$J$156,VLOOKUP('100L Information'!$AI$46,Lookups!$J$3:$K$6,2,FALSE), FALSE))","v":""},{"$f":"IF('Measure Summary'!A92=\"\",\"\",'Measure Summary'!D92)","v":""},{"$f":"IF('Measure Summary'!A92=\"\",\"\",\"N\")","v":""},{"$f":"IF('Measure Summary'!A92=\"\",\"\",'Measure Summary'!E92)","v":""},{"$f":"IF('Measure Summary'!A92=\"\",\"\",\"N\")","v":""},{"$f":"IF('Measure Summary'!A92=\"\",\"\",'Measure Summary'!F92)","v":""},{"$f":"IF('Measure Summary'!A92=\"\",\"\",'Analysis 103L'!$R$5)","v":""},{"$f":"IF('Measure Summary'!A92=\"\",\"\",'Analysis 103L'!$R$4)","v":""},{"$f":"IF('Measure Summary'!A92=\"\",\"\", ROUND('Measure Summary'!G92,0))","v":""},{"$f":"IF('Measure Summary'!A92=\"\",\"\",0)","v":""},{"$f":"IF('Measure Summary'!A92=\"\",\"\",'Measure Summary'!B92)","v":""},{"$f":"IF('Measure Summary'!A92=\"\",\"\",\"NONEG\")","v":""},{"$f":"IF('Measure Summary'!A92=\"\",\"\",VLOOKUP('Measure Summary'!A92,Lookups!$A$30:$J$156,Lookups!$L$7,FALSE))","v":""},{"$f":"IF(OR('Measure Summary'!C92=\"(blank)\",'Measure Summary'!C92=0),\"\",'Measure Summary'!C92)","v":""}]
[{"$f":"IF('Measure Summary'!A93=\"\",\"\",VLOOKUP('Measure Summary'!A93,Lookups!$A$30:$J$156,VLOOKUP('100L Information'!$AI$46,Lookups!$J$3:$K$6,2,FALSE), FALSE))","v":""},{"$f":"IF('Measure Summary'!A93=\"\",\"\",'Measure Summary'!D93)","v":""},{"$f":"IF('Measure Summary'!A93=\"\",\"\",\"N\")","v":""},{"$f":"IF('Measure Summary'!A93=\"\",\"\",'Measure Summary'!E93)","v":""},{"$f":"IF('Measure Summary'!A93=\"\",\"\",\"N\")","v":""},{"$f":"IF('Measure Summary'!A93=\"\",\"\",'Measure Summary'!F93)","v":""},{"$f":"IF('Measure Summary'!A93=\"\",\"\",'Analysis 103L'!$R$5)","v":""},{"$f":"IF('Measure Summary'!A93=\"\",\"\",'Analysis 103L'!$R$4)","v":""},{"$f":"IF('Measure Summary'!A93=\"\",\"\", ROUND('Measure Summary'!G93,0))","v":""},{"$f":"IF('Measure Summary'!A93=\"\",\"\",0)","v":""},{"$f":"IF('Measure Summary'!A93=\"\",\"\",'Measure Summary'!B93)","v":""},{"$f":"IF('Measure Summary'!A93=\"\",\"\",\"NONEG\")","v":""},{"$f":"IF('Measure Summary'!A93=\"\",\"\",VLOOKUP('Measure Summary'!A93,Lookups!$A$30:$J$156,Lookups!$L$7,FALSE))","v":""},{"$f":"IF(OR('Measure Summary'!C93=\"(blank)\",'Measure Summary'!C93=0),\"\",'Measure Summary'!C93)","v":""}]
[{"$f":"IF('Measure Summary'!A94=\"\",\"\",VLOOKUP('Measure Summary'!A94,Lookups!$A$30:$J$156,VLOOKUP('100L Information'!$AI$46,Lookups!$J$3:$K$6,2,FALSE), FALSE))","v":""},{"$f":"IF('Measure Summary'!A94=\"\",\"\",'Measure Summary'!D94)","v":""},{"$f":"IF('Measure Summary'!A94=\"\",\"\",\"N\")","v":""},{"$f":"IF('Measure Summary'!A94=\"\",\"\",'Measure Summary'!E94)","v":""},{"$f":"IF('Measure Summary'!A94=\"\",\"\",\"N\")","v":""},{"$f":"IF('Measure Summary'!A94=\"\",\"\",'Measure Summary'!F94)","v":""},{"$f":"IF('Measure Summary'!A94=\"\",\"\",'Analysis 103L'!$R$5)","v":""},{"$f":"IF('Measure Summary'!A94=\"\",\"\",'Analysis 103L'!$R$4)","v":""},{"$f":"IF('Measure Summary'!A94=\"\",\"\", ROUND('Measure Summary'!G94,0))","v":""},{"$f":"IF('Measure Summary'!A94=\"\",\"\",0)","v":""},{"$f":"IF('Measure Summary'!A94=\"\",\"\",'Measure Summary'!B94)","v":""},{"$f":"IF('Measure Summary'!A94=\"\",\"\",\"NONEG\")","v":""},{"$f":"IF('Measure Summary'!A94=\"\",\"\",VLOOKUP('Measure Summary'!A94,Lookups!$A$30:$J$156,Lookups!$L$7,FALSE))","v":""},{"$f":"IF(OR('Measure Summary'!C94=\"(blank)\",'Measure Summary'!C94=0),\"\",'Measure Summary'!C94)","v":""}]
[{"$f":"IF('Measure Summary'!A95=\"\",\"\",VLOOKUP('Measure Summary'!A95,Lookups!$A$30:$J$156,VLOOKUP('100L Information'!$AI$46,Lookups!$J$3:$K$6,2,FALSE), FALSE))","v":""},{"$f":"IF('Measure Summary'!A95=\"\",\"\",'Measure Summary'!D95)","v":""},{"$f":"IF('Measure Summary'!A95=\"\",\"\",\"N\")","v":""},{"$f":"IF('Measure Summary'!A95=\"\",\"\",'Measure Summary'!E95)","v":""},{"$f":"IF('Measure Summary'!A95=\"\",\"\",\"N\")","v":""},{"$f":"IF('Measure Summary'!A95=\"\",\"\",'Measure Summary'!F95)","v":""},{"$f":"IF('Measure Summary'!A95=\"\",\"\",'Analysis 103L'!$R$5)","v":""},{"$f":"IF('Measure Summary'!A95=\"\",\"\",'Analysis 103L'!$R$4)","v":""},{"$f":"IF('Measure Summary'!A95=\"\",\"\", ROUND('Measure Summary'!G95,0))","v":""},{"$f":"IF('Measure Summary'!A95=\"\",\"\",0)","v":""},{"$f":"IF('Measure Summary'!A95=\"\",\"\",'Measure Summary'!B95)","v":""},{"$f":"IF('Measure Summary'!A95=\"\",\"\",\"NONEG\")","v":""},{"$f":"IF('Measure Summary'!A95=\"\",\"\",VLOOKUP('Measure Summary'!A95,Lookups!$A$30:$J$156,Lookups!$L$7,FALSE))","v":""},{"$f":"IF(OR('Measure Summary'!C95=\"(blank)\",'Measure Summary'!C95=0),\"\",'Measure Summary'!C95)","v":""}]
[{"$f":"IF('Measure Summary'!A96=\"\",\"\",VLOOKUP('Measure Summary'!A96,Lookups!$A$30:$J$156,VLOOKUP('100L Information'!$AI$46,Lookups!$J$3:$K$6,2,FALSE), FALSE))","v":""},{"$f":"IF('Measure Summary'!A96=\"\",\"\",'Measure Summary'!D96)","v":""},{"$f":"IF('Measure Summary'!A96=\"\",\"\",\"N\")","v":""},{"$f":"IF('Measure Summary'!A96=\"\",\"\",'Measure Summary'!E96)","v":""},{"$f":"IF('Measure Summary'!A96=\"\",\"\",\"N\")","v":""},{"$f":"IF('Measure Summary'!A96=\"\",\"\",'Measure Summary'!F96)","v":""},{"$f":"IF('Measure Summary'!A96=\"\",\"\",'Analysis 103L'!$R$5)","v":""},{"$f":"IF('Measure Summary'!A96=\"\",\"\",'Analysis 103L'!$R$4)","v":""},{"$f":"IF('Measure Summary'!A96=\"\",\"\", ROUND('Measure Summary'!G96,0))","v":""},{"$f":"IF('Measure Summary'!A96=\"\",\"\",0)","v":""},{"$f":"IF('Measure Summary'!A96=\"\",\"\",'Measure Summary'!B96)","v":""},{"$f":"IF('Measure Summary'!A96=\"\",\"\",\"NONEG\")","v":""},{"$f":"IF('Measure Summary'!A96=\"\",\"\",VLOOKUP('Measure Summary'!A96,Lookups!$A$30:$J$156,Lookups!$L$7,FALSE))","v":""},{"$f":"IF(OR('Measure Summary'!C96=\"(blank)\",'Measure Summary'!C96=0),\"\",'Measure Summary'!C96)","v":""}]
[{"$f":"IF('Measure Summary'!A97=\"\",\"\",VLOOKUP('Measure Summary'!A97,Lookups!$A$30:$J$156,VLOOKUP('100L Information'!$AI$46,Lookups!$J$3:$K$6,2,FALSE), FALSE))","v":""},{"$f":"IF('Measure Summary'!A97=\"\",\"\",'Measure Summary'!D97)","v":""},{"$f":"IF('Measure Summary'!A97=\"\",\"\",\"N\")","v":""},{"$f":"IF('Measure Summary'!A97=\"\",\"\",'Measure Summary'!E97)","v":""},{"$f":"IF('Measure Summary'!A97=\"\",\"\",\"N\")","v":""},{"$f":"IF('Measure Summary'!A97=\"\",\"\",'Measure Summary'!F97)","v":""},{"$f":"IF('Measure Summary'!A97=\"\",\"\",'Analysis 103L'!$R$5)","v":""},{"$f":"IF('Measure Summary'!A97=\"\",\"\",'Analysis 103L'!$R$4)","v":""},{"$f":"IF('Measure Summary'!A97=\"\",\"\", ROUND('Measure Summary'!G97,0))","v":""},{"$f":"IF('Measure Summary'!A97=\"\",\"\",0)","v":""},{"$f":"IF('Measure Summary'!A97=\"\",\"\",'Measure Summary'!B97)","v":""},{"$f":"IF('Measure Summary'!A97=\"\",\"\",\"NONEG\")","v":""},{"$f":"IF('Measure Summary'!A97=\"\",\"\",VLOOKUP('Measure Summary'!A97,Lookups!$A$30:$J$156,Lookups!$L$7,FALSE))","v":""},{"$f":"IF(OR('Measure Summary'!C97=\"(blank)\",'Measure Summary'!C97=0),\"\",'Measure Summary'!C97)","v":""}]
[{"$f":"IF('Measure Summary'!A98=\"\",\"\",VLOOKUP('Measure Summary'!A98,Lookups!$A$30:$J$156,VLOOKUP('100L Information'!$AI$46,Lookups!$J$3:$K$6,2,FALSE), FALSE))","v":""},{"$f":"IF('Measure Summary'!A98=\"\",\"\",'Measure Summary'!D98)","v":""},{"$f":"IF('Measure Summary'!A98=\"\",\"\",\"N\")","v":""},{"$f":"IF('Measure Summary'!A98=\"\",\"\",'Measure Summary'!E98)","v":""},{"$f":"IF('Measure Summary'!A98=\"\",\"\",\"N\")","v":""},{"$f":"IF('Measure Summary'!A98=\"\",\"\",'Measure Summary'!F98)","v":""},{"$f":"IF('Measure Summary'!A98=\"\",\"\",'Analysis 103L'!$R$5)","v":""},{"$f":"IF('Measure Summary'!A98=\"\",\"\",'Analysis 103L'!$R$4)","v":""},{"$f":"IF('Measure Summary'!A98=\"\",\"\", ROUND('Measure Summary'!G98,0))","v":""},{"$f":"IF('Measure Summary'!A98=\"\",\"\",0)","v":""},{"$f":"IF('Measure Summary'!A98=\"\",\"\",'Measure Summary'!B98)","v":""},{"$f":"IF('Measure Summary'!A98=\"\",\"\",\"NONEG\")","v":""},{"$f":"IF('Measure Summary'!A98=\"\",\"\",VLOOKUP('Measure Summary'!A98,Lookups!$A$30:$J$156,Lookups!$L$7,FALSE))","v":""},{"$f":"IF(OR('Measure Summary'!C98=\"(blank)\",'Measure Summary'!C98=0),\"\",'Measure Summary'!C98)","v":""}]
[{"$f":"IF('Measure Summary'!A99=\"\",\"\",VLOOKUP('Measure Summary'!A99,Lookups!$A$30:$J$156,VLOOKUP('100L Information'!$AI$46,Lookups!$J$3:$K$6,2,FALSE), FALSE))","v":""},{"$f":"IF('Measure Summary'!A99=\"\",\"\",'Measure Summary'!D99)","v":""},{"$f":"IF('Measure Summary'!A99=\"\",\"\",\"N\")","v":""},{"$f":"IF('Measure Summary'!A99=\"\",\"\",'Measure Summary'!E99)","v":""},{"$f":"IF('Measure Summary'!A99=\"\",\"\",\"N\")","v":""},{"$f":"IF('Measure Summary'!A99=\"\",\"\",'Measure Summary'!F99)","v":""},{"$f":"IF('Measure Summary'!A99=\"\",\"\",'Analysis 103L'!$R$5)","v":""},{"$f":"IF('Measure Summary'!A99=\"\",\"\",'Analysis 103L'!$R$4)","v":""},{"$f":"IF('Measure Summary'!A99=\"\",\"\", ROUND('Measure Summary'!G99,0))","v":""},{"$f":"IF('Measure Summary'!A99=\"\",\"\",0)","v":""},{"$f":"IF('Measure Summary'!A99=\"\",\"\",'Measure Summary'!B99)","v":""},{"$f":"IF('Measure Summary'!A99=\"\",\"\",\"NONEG\")","v":""},{"$f":"IF('Measure Summary'!A99=\"\",\"\",VLOOKUP('Measure Summary'!A99,Lookups!$A$30:$J$156,Lookups!$L$7,FALSE))","v":""},{"$f":"IF(OR('Measure Summary'!C99=\"(blank)\",'Measure Summary'!C99=0),\"\",'Measure Summary'!C99)","v":""}]
[{"$f":"IF('Measure Summary'!A100=\"\",\"\",VLOOKUP('Measure Summary'!A100,Lookups!$A$30:$J$156,VLOOKUP('100L Information'!$AI$46,Lookups!$J$3:$K$6,2,FALSE), FALSE))","v":""},{"$f":"IF('Measure Summary'!A100=\"\",\"\",'Measure Summary'!D100)","v":""},{"$f":"IF('Measure Summary'!A100=\"\",\"\",\"N\")","v":""},{"$f":"IF('Measure Summary'!A100=\"\",\"\",'Measure Summary'!E100)","v":""},{"$f":"IF('Measure Summary'!A100=\"\",\"\",\"N\")","v":""},{"$f":"IF('Measure Summary'!A100=\"\",\"\",'Measure Summary'!F100)","v":""},{"$f":"IF('Measure Summary'!A100=\"\",\"\",'Analysis 103L'!$R$5)","v":""},{"$f":"IF('Measure Summary'!A100=\"\",\"\",'Analysis 103L'!$R$4)","v":""},{"$f":"IF('Measure Summary'!A100=\"\",\"\", ROUND('Measure Summary'!G100,0))","v":""},{"$f":"IF('Measure Summary'!A100=\"\",\"\",0)","v":""},{"$f":"IF('Measure Summary'!A100=\"\",\"\",'Measure Summary'!B100)","v":""},{"$f":"IF('Measure Summary'!A100=\"\",\"\",\"NONEG\")","v":""},{"$f":"IF('Measure Summary'!A100=\"\",\"\",VLOOKUP('Measure Summary'!A100,Lookups!$A$30:$J$156,Lookups!$L$7,FALSE))","v":""},{"$f":"IF(OR('Measure Summary'!C100=\"(blank)\",'Measure Summary'!C100=0),\"\",'Measure Summary'!C100)","v":""}]
[{"$f":"IF('Measure Summary'!A101=\"\",\"\",VLOOKUP('Measure Summary'!A101,Lookups!$A$30:$J$156,VLOOKUP('100L Information'!$AI$46,Lookups!$J$3:$K$6,2,FALSE), FALSE))","v":""},{"$f":"IF('Measure Summary'!A101=\"\",\"\",'Measure Summary'!D101)","v":""},{"$f":"IF('Measure Summary'!A101=\"\",\"\",\"N\")","v":""},{"$f":"IF('Measure Summary'!A101=\"\",\"\",'Measure Summary'!E101)","v":""},{"$f":"IF('Measure Summary'!A101=\"\",\"\",\"N\")","v":""},{"$f":"IF('Measure Summary'!A101=\"\",\"\",'Measure Summary'!F101)","v":""},{"$f":"IF('Measure Summary'!A101=\"\",\"\",'Analysis 103L'!$R$5)","v":""},{"$f":"IF('Measure Summary'!A101=\"\",\"\",'Analysis 103L'!$R$4)","v":""},{"$f":"IF('Measure Summary'!A101=\"\",\"\", ROUND('Measure Summary'!G101,0))","v":""},{"$f":"IF('Measure Summary'!A101=\"\",\"\",0)","v":""},{"$f":"IF('Measure Summary'!A101=\"\",\"\",'Measure Summary'!B101)","v":""},{"$f":"IF('Measure Summary'!A101=\"\",\"\",\"NONEG\")","v":""},{"$f":"IF('Measure Summary'!A101=\"\",\"\",VLOOKUP('Measure Summary'!A101,Lookups!$A$30:$J$156,Lookups!$L$7,FALSE))","v":""},{"$f":"IF(OR('Measure Summary'!C101=\"(blank)\",'Measure Summary'!C101=0),\"\",'Measure Summary'!C101)","v":""}]
[{"$f":"IF('Measure Summary'!A102=\"\",\"\",VLOOKUP('Measure Summary'!A102,Lookups!$A$30:$J$156,VLOOKUP('100L Information'!$AI$46,Lookups!$J$3:$K$6,2,FALSE), FALSE))","v":""},{"$f":"IF('Measure Summary'!A102=\"\",\"\",'Measure Summary'!D102)","v":""},{"$f":"IF('Measure Summary'!A102=\"\",\"\",\"N\")","v":""},{"$f":"IF('Measure Summary'!A102=\"\",\"\",'Measure Summary'!E102)","v":""},{"$f":"IF('Measure Summary'!A102=\"\",\"\",\"N\")","v":""},{"$f":"IF('Measure Summary'!A102=\"\",\"\",'Measure Summary'!F102)","v":""},{"$f":"IF('Measure Summary'!A102=\"\",\"\",'Analysis 103L'!$R$5)","v":""},{"$f":"IF('Measure Summary'!A102=\"\",\"\",'Analysis 103L'!$R$4)","v":""},{"$f":"IF('Measure Summary'!A102=\"\",\"\", ROUND('Measure Summary'!G102,0))","v":""},{"$f":"IF('Measure Summary'!A102=\"\",\"\",0)","v":""},{"$f":"IF('Measure Summary'!A102=\"\",\"\",'Measure Summary'!B102)","v":""},{"$f":"IF('Measure Summary'!A102=\"\",\"\",\"NONEG\")","v":""},{"$f":"IF('Measure Summary'!A102=\"\",\"\",VLOOKUP('Measure Summary'!A102,Lookups!$A$30:$J$156,Lookups!$L$7,FALSE))","v":""},{"$f":"IF(OR('Measure Summary'!C102=\"(blank)\",'Measure Summary'!C102=0),\"\",'Measure Summary'!C102)","v":""}]
[{"$f":"IF('Measure Summary'!A103=\"\",\"\",VLOOKUP('Measure Summary'!A103,Lookups!$A$30:$J$156,VLOOKUP('100L Information'!$AI$46,Lookups!$J$3:$K$6,2,FALSE), FALSE))","v":""},{"$f":"IF('Measure Summary'!A103=\"\",\"\",'Measure Summary'!D103)","v":""},{"$f":"IF('Measure Summary'!A103=\"\",\"\",\"N\")","v":""},{"$f":"IF('Measure Summary'!A103=\"\",\"\",'Measure Summary'!E103)","v":""},{"$f":"IF('Measure Summary'!A103=\"\",\"\",\"N\")","v":""},{"$f":"IF('Measure Summary'!A103=\"\",\"\",'Measure Summary'!F103)","v":""},{"$f":"IF('Measure Summary'!A103=\"\",\"\",'Analysis 103L'!$R$5)","v":""},{"$f":"IF('Measure Summary'!A103=\"\",\"\",'Analysis 103L'!$R$4)","v":""},{"$f":"IF('Measure Summary'!A103=\"\",\"\", ROUND('Measure Summary'!G103,0))","v":""},{"$f":"IF('Measure Summary'!A103=\"\",\"\",0)","v":""},{"$f":"IF('Measure Summary'!A103=\"\",\"\",'Measure Summary'!B103)","v":""},{"$f":"IF('Measure Summary'!A103=\"\",\"\",\"NONEG\")","v":""},{"$f":"IF('Measure Summary'!A103=\"\",\"\",VLOOKUP('Measure Summary'!A103,Lookups!$A$30:$J$156,Lookups!$L$7,FALSE))","v":""},{"$f":"IF(OR('Measure Summary'!C103=\"(blank)\",'Measure Summary'!C103=0),\"\",'Measure Summary'!C103)","v":""}]
[{"$f":"IF('Measure Summary'!A104=\"\",\"\",VLOOKUP('Measure Summary'!A104,Lookups!$A$30:$J$156,VLOOKUP('100L Information'!$AI$46,Lookups!$J$3:$K$6,2,FALSE), FALSE))","v":""},{"$f":"IF('Measure Summary'!A104=\"\",\"\",'Measure Summary'!D104)","v":""},{"$f":"IF('Measure Summary'!A104=\"\",\"\",\"N\")","v":""},{"$f":"IF('Measure Summary'!A104=\"\",\"\",'Measure Summary'!E104)","v":""},{"$f":"IF('Measure Summary'!A104=\"\",\"\",\"N\")","v":""},{"$f":"IF('Measure Summary'!A104=\"\",\"\",'Measure Summary'!F104)","v":""},{"$f":"IF('Measure Summary'!A104=\"\",\"\",'Analysis 103L'!$R$5)","v":""},{"$f":"IF('Measure Summary'!A104=\"\",\"\",'Analysis 103L'!$R$4)","v":""},{"$f":"IF('Measure Summary'!A104=\"\",\"\", ROUND('Measure Summary'!G104,0))","v":""},{"$f":"IF('Measure Summary'!A104=\"\",\"\",0)","v":""},{"$f":"IF('Measure Summary'!A104=\"\",\"\",'Measure Summary'!B104)","v":""},{"$f":"IF('Measure Summary'!A104=\"\",\"\",\"NONEG\")","v":""},{"$f":"IF('Measure Summary'!A104=\"\",\"\",VLOOKUP('Measure Summary'!A104,Lookups!$A$30:$J$156,Lookups!$L$7,FALSE))","v":""},{"$f":"IF(OR('Measure Summary'!C104=\"(blank)\",'Measure Summary'!C104=0),\"\",'Measure Summary'!C104)","v":""}]
[{"$f":"IF('Measure Summary'!A105=\"\",\"\",VLOOKUP('Measure Summary'!A105,Lookups!$A$30:$J$156,VLOOKUP('100L Information'!$AI$46,Lookups!$J$3:$K$6,2,FALSE), FALSE))","v":""},{"$f":"IF('Measure Summary'!A105=\"\",\"\",'Measure Summary'!D105)","v":""},{"$f":"IF('Measure Summary'!A105=\"\",\"\",\"N\")","v":""},{"$f":"IF('Measure Summary'!A105=\"\",\"\",'Measure Summary'!E105)","v":""},{"$f":"IF('Measure Summary'!A105=\"\",\"\",\"N\")","v":""},{"$f":"IF('Measure Summary'!A105=\"\",\"\",'Measure Summary'!F105)","v":""},{"$f":"IF('Measure Summary'!A105=\"\",\"\",'Analysis 103L'!$R$5)","v":""},{"$f":"IF('Measure Summary'!A105=\"\",\"\",'Analysis 103L'!$R$4)","v":""},{"$f":"IF('Measure Summary'!A105=\"\",\"\", ROUND('Measure Summary'!G105,0))","v":""},{"$f":"IF('Measure Summary'!A105=\"\",\"\",0)","v":""},{"$f":"IF('Measure Summary'!A105=\"\",\"\",'Measure Summary'!B105)","v":""},{"$f":"IF('Measure Summary'!A105=\"\",\"\",\"NONEG\")","v":""},{"$f":"IF('Measure Summary'!A105=\"\",\"\",VLOOKUP('Measure Summary'!A105,Lookups!$A$30:$J$156,Lookups!$L$7,FALSE))","v":""},{"$f":"IF(OR('Measure Summary'!C105=\"(blank)\",'Measure Summary'!C105=0),\"\",'Measure Summary'!C105)","v":""}]
[{"$f":"IF('Measure Summary'!A106=\"\",\"\",VLOOKUP('Measure Summary'!A106,Lookups!$A$30:$J$156,VLOOKUP('100L Information'!$AI$46,Lookups!$J$3:$K$6,2,FALSE), FALSE))","v":""},{"$f":"IF('Measure Summary'!A106=\"\",\"\",'Measure Summary'!D106)","v":""},{"$f":"IF('Measure Summary'!A106=\"\",\"\",\"N\")","v":""},{"$f":"IF('Measure Summary'!A106=\"\",\"\",'Measure Summary'!E106)","v":""},{"$f":"IF('Measure Summary'!A106=\"\",\"\",\"N\")","v":""},{"$f":"IF('Measure Summary'!A106=\"\",\"\",'Measure Summary'!F106)","v":""},{"$f":"IF('Measure Summary'!A106=\"\",\"\",'Analysis 103L'!$R$5)","v":""},{"$f":"IF('Measure Summary'!A106=\"\",\"\",'Analysis 103L'!$R$4)","v":""},{"$f":"IF('Measure Summary'!A106=\"\",\"\", ROUND('Measure Summary'!G106,0))","v":""},{"$f":"IF('Measure Summary'!A106=\"\",\"\",0)","v":""},{"$f":"IF('Measure Summary'!A106=\"\",\"\",'Measure Summary'!B106)","v":""},{"$f":"IF('Measure Summary'!A106=\"\",\"\",\"NONEG\")","v":""},{"$f":"IF('Measure Summary'!A106=\"\",\"\",VLOOKUP('Measure Summary'!A106,Lookups!$A$30:$J$156,Lookups!$L$7,FALSE))","v":""},{"$f":"IF(OR('Measure Summary'!C106=\"(blank)\",'Measure Summary'!C106=0),\"\",'Measure Summary'!C106)","v":""}]
[{"$f":"IF('Measure Summary'!A107=\"\",\"\",VLOOKUP('Measure Summary'!A107,Lookups!$A$30:$J$156,VLOOKUP('100L Information'!$AI$46,Lookups!$J$3:$K$6,2,FALSE), FALSE))","v":""},{"$f":"IF('Measure Summary'!A107=\"\",\"\",'Measure Summary'!D107)","v":""},{"$f":"IF('Measure Summary'!A107=\"\",\"\",\"N\")","v":""},{"$f":"IF('Measure Summary'!A107=\"\",\"\",'Measure Summary'!E107)","v":""},{"$f":"IF('Measure Summary'!A107=\"\",\"\",\"N\")","v":""},{"$f":"IF('Measure Summary'!A107=\"\",\"\",'Measure Summary'!F107)","v":""},{"$f":"IF('Measure Summary'!A107=\"\",\"\",'Analysis 103L'!$R$5)","v":""},{"$f":"IF('Measure Summary'!A107=\"\",\"\",'Analysis 103L'!$R$4)","v":""},{"$f":"IF('Measure Summary'!A107=\"\",\"\", ROUND('Measure Summary'!G107,0))","v":""},{"$f":"IF('Measure Summary'!A107=\"\",\"\",0)","v":""},{"$f":"IF('Measure Summary'!A107=\"\",\"\",'Measure Summary'!B107)","v":""},{"$f":"IF('Measure Summary'!A107=\"\",\"\",\"NONEG\")","v":""},{"$f":"IF('Measure Summary'!A107=\"\",\"\",VLOOKUP('Measure Summary'!A107,Lookups!$A$30:$J$156,Lookups!$L$7,FALSE))","v":""},{"$f":"IF(OR('Measure Summary'!C107=\"(blank)\",'Measure Summary'!C107=0),\"\",'Measure Summary'!C107)","v":""}]
[{"$f":"IF('Measure Summary'!A108=\"\",\"\",VLOOKUP('Measure Summary'!A108,Lookups!$A$30:$J$156,VLOOKUP('100L Information'!$AI$46,Lookups!$J$3:$K$6,2,FALSE), FALSE))","v":""},{"$f":"IF('Measure Summary'!A108=\"\",\"\",'Measure Summary'!D108)","v":""},{"$f":"IF('Measure Summary'!A108=\"\",\"\",\"N\")","v":""},{"$f":"IF('Measure Summary'!A108=\"\",\"\",'Measure Summary'!E108)","v":""},{"$f":"IF('Measure Summary'!A108=\"\",\"\",\"N\")","v":""},{"$f":"IF('Measure Summary'!A108=\"\",\"\",'Measure Summary'!F108)","v":""},{"$f":"IF('Measure Summary'!A108=\"\",\"\",'Analysis 103L'!$R$5)","v":""},{"$f":"IF('Measure Summary'!A108=\"\",\"\",'Analysis 103L'!$R$4)","v":""},{"$f":"IF('Measure Summary'!A108=\"\",\"\", ROUND('Measure Summary'!G108,0))","v":""},{"$f":"IF('Measure Summary'!A108=\"\",\"\",0)","v":""},{"$f":"IF('Measure Summary'!A108=\"\",\"\",'Measure Summary'!B108)","v":""},{"$f":"IF('Measure Summary'!A108=\"\",\"\",\"NONEG\")","v":""},{"$f":"IF('Measure Summary'!A108=\"\",\"\",VLOOKUP('Measure Summary'!A108,Lookups!$A$30:$J$156,Lookups!$L$7,FALSE))","v":""},{"$f":"IF(OR('Measure Summary'!C108=\"(blank)\",'Measure Summary'!C108=0),\"\",'Measure Summary'!C108)","v":""}]
[{"$f":"IF('Measure Summary'!A109=\"\",\"\",VLOOKUP('Measure Summary'!A109,Lookups!$A$30:$J$156,VLOOKUP('100L Information'!$AI$46,Lookups!$J$3:$K$6,2,FALSE), FALSE))","v":""},{"$f":"IF('Measure Summary'!A109=\"\",\"\",'Measure Summary'!D109)","v":""},{"$f":"IF('Measure Summary'!A109=\"\",\"\",\"N\")","v":""},{"$f":"IF('Measure Summary'!A109=\"\",\"\",'Measure Summary'!E109)","v":""},{"$f":"IF('Measure Summary'!A109=\"\",\"\",\"N\")","v":""},{"$f":"IF('Measure Summary'!A109=\"\",\"\",'Measure Summary'!F109)","v":""},{"$f":"IF('Measure Summary'!A109=\"\",\"\",'Analysis 103L'!$R$5)","v":""},{"$f":"IF('Measure Summary'!A109=\"\",\"\",'Analysis 103L'!$R$4)","v":""},{"$f":"IF('Measure Summary'!A109=\"\",\"\", ROUND('Measure Summary'!G109,0))","v":""},{"$f":"IF('Measure Summary'!A109=\"\",\"\",0)","v":""},{"$f":"IF('Measure Summary'!A109=\"\",\"\",'Measure Summary'!B109)","v":""},{"$f":"IF('Measure Summary'!A109=\"\",\"\",\"NONEG\")","v":""},{"$f":"IF('Measure Summary'!A109=\"\",\"\",VLOOKUP('Measure Summary'!A109,Lookups!$A$30:$J$156,Lookups!$L$7,FALSE))","v":""},{"$f":"IF(OR('Measure Summary'!C109=\"(blank)\",'Measure Summary'!C109=0),\"\",'Measure Summary'!C109)","v":""}]
[{"$f":"IF('Measure Summary'!A110=\"\",\"\",VLOOKUP('Measure Summary'!A110,Lookups!$A$30:$J$156,VLOOKUP('100L Information'!$AI$46,Lookups!$J$3:$K$6,2,FALSE), FALSE))","v":""},{"$f":"IF('Measure Summary'!A110=\"\",\"\",'Measure Summary'!D110)","v":""},{"$f":"IF('Measure Summary'!A110=\"\",\"\",\"N\")","v":""},{"$f":"IF('Measure Summary'!A110=\"\",\"\",'Measure Summary'!E110)","v":""},{"$f":"IF('Measure Summary'!A110=\"\",\"\",\"N\")","v":""},{"$f":"IF('Measure Summary'!A110=\"\",\"\",'Measure Summary'!F110)","v":""},{"$f":"IF('Measure Summary'!A110=\"\",\"\",'Analysis 103L'!$R$5)","v":""},{"$f":"IF('Measure Summary'!A110=\"\",\"\",'Analysis 103L'!$R$4)","v":""},{"$f":"IF('Measure Summary'!A110=\"\",\"\", ROUND('Measure Summary'!G110,0))","v":""},{"$f":"IF('Measure Summary'!A110=\"\",\"\",0)","v":""},{"$f":"IF('Measure Summary'!A110=\"\",\"\",'Measure Summary'!B110)","v":""},{"$f":"IF('Measure Summary'!A110=\"\",\"\",\"NONEG\")","v":""},{"$f":"IF('Measure Summary'!A110=\"\",\"\",VLOOKUP('Measure Summary'!A110,Lookups!$A$30:$J$156,Lookups!$L$7,FALSE))","v":""},{"$f":"IF(OR('Measure Summary'!C110=\"(blank)\",'Measure Summary'!C110=0),\"\",'Measure Summary'!C110)","v":""}]
[{"$f":"IF('Measure Summary'!A111=\"\",\"\",VLOOKUP('Measure Summary'!A111,Lookups!$A$30:$J$156,VLOOKUP('100L Information'!$AI$46,Lookups!$J$3:$K$6,2,FALSE), FALSE))","v":""},{"$f":"IF('Measure Summary'!A111=\"\",\"\",'Measure Summary'!D111)","v":""},{"$f":"IF('Measure Summary'!A111=\"\",\"\",\"N\")","v":""},{"$f":"IF('Measure Summary'!A111=\"\",\"\",'Measure Summary'!E111)","v":""},{"$f":"IF('Measure Summary'!A111=\"\",\"\",\"N\")","v":""},{"$f":"IF('Measure Summary'!A111=\"\",\"\",'Measure Summary'!F111)","v":""},{"$f":"IF('Measure Summary'!A111=\"\",\"\",'Analysis 103L'!$R$5)","v":""},{"$f":"IF('Measure Summary'!A111=\"\",\"\",'Analysis 103L'!$R$4)","v":""},{"$f":"IF('Measure Summary'!A111=\"\",\"\", ROUND('Measure Summary'!G111,0))","v":""},{"$f":"IF('Measure Summary'!A111=\"\",\"\",0)","v":""},{"$f":"IF('Measure Summary'!A111=\"\",\"\",'Measure Summary'!B111)","v":""},{"$f":"IF('Measure Summary'!A111=\"\",\"\",\"NONEG\")","v":""},{"$f":"IF('Measure Summary'!A111=\"\",\"\",VLOOKUP('Measure Summary'!A111,Lookups!$A$30:$J$156,Lookups!$L$7,FALSE))","v":""},{"$f":"IF(OR('Measure Summary'!C111=\"(blank)\",'Measure Summary'!C111=0),\"\",'Measure Summary'!C111)","v":""}]
[{"$f":"IF('Measure Summary'!A112=\"\",\"\",VLOOKUP('Measure Summary'!A112,Lookups!$A$30:$J$156,VLOOKUP('100L Information'!$AI$46,Lookups!$J$3:$K$6,2,FALSE), FALSE))","v":""},{"$f":"IF('Measure Summary'!A112=\"\",\"\",'Measure Summary'!D112)","v":""},{"$f":"IF('Measure Summary'!A112=\"\",\"\",\"N\")","v":""},{"$f":"IF('Measure Summary'!A112=\"\",\"\",'Measure Summary'!E112)","v":""},{"$f":"IF('Measure Summary'!A112=\"\",\"\",\"N\")","v":""},{"$f":"IF('Measure Summary'!A112=\"\",\"\",'Measure Summary'!F112)","v":""},{"$f":"IF('Measure Summary'!A112=\"\",\"\",'Analysis 103L'!$R$5)","v":""},{"$f":"IF('Measure Summary'!A112=\"\",\"\",'Analysis 103L'!$R$4)","v":""},{"$f":"IF('Measure Summary'!A112=\"\",\"\", ROUND('Measure Summary'!G112,0))","v":""},{"$f":"IF('Measure Summary'!A112=\"\",\"\",0)","v":""},{"$f":"IF('Measure Summary'!A112=\"\",\"\",'Measure Summary'!B112)","v":""},{"$f":"IF('Measure Summary'!A112=\"\",\"\",\"NONEG\")","v":""},{"$f":"IF('Measure Summary'!A112=\"\",\"\",VLOOKUP('Measure Summary'!A112,Lookups!$A$30:$J$156,Lookups!$L$7,FALSE))","v":""},{"$f":"IF(OR('Measure Summary'!C112=\"(blank)\",'Measure Summary'!C112=0),\"\",'Measure Summary'!C112)","v":""}]
[{"$f":"IF('Measure Summary'!A113=\"\",\"\",VLOOKUP('Measure Summary'!A113,Lookups!$A$30:$J$156,VLOOKUP('100L Information'!$AI$46,Lookups!$J$3:$K$6,2,FALSE), FALSE))","v":""},{"$f":"IF('Measure Summary'!A113=\"\",\"\",'Measure Summary'!D113)","v":""},{"$f":"IF('Measure Summary'!A113=\"\",\"\",\"N\")","v":""},{"$f":"IF('Measure Summary'!A113=\"\",\"\",'Measure Summary'!E113)","v":""},{"$f":"IF('Measure Summary'!A113=\"\",\"\",\"N\")","v":""},{"$f":"IF('Measure Summary'!A113=\"\",\"\",'Measure Summary'!F113)","v":""},{"$f":"IF('Measure Summary'!A113=\"\",\"\",'Analysis 103L'!$R$5)","v":""},{"$f":"IF('Measure Summary'!A113=\"\",\"\",'Analysis 103L'!$R$4)","v":""},{"$f":"IF('Measure Summary'!A113=\"\",\"\", ROUND('Measure Summary'!G113,0))","v":""},{"$f":"IF('Measure Summary'!A113=\"\",\"\",0)","v":""},{"$f":"IF('Measure Summary'!A113=\"\",\"\",'Measure Summary'!B113)","v":""},{"$f":"IF('Measure Summary'!A113=\"\",\"\",\"NONEG\")","v":""},{"$f":"IF('Measure Summary'!A113=\"\",\"\",VLOOKUP('Measure Summary'!A113,Lookups!$A$30:$J$156,Lookups!$L$7,FALSE))","v":""},{"$f":"IF(OR('Measure Summary'!C113=\"(blank)\",'Measure Summary'!C113=0),\"\",'Measure Summary'!C113)","v":""}]
[{"$f":"IF('Measure Summary'!A114=\"\",\"\",VLOOKUP('Measure Summary'!A114,Lookups!$A$30:$J$156,VLOOKUP('100L Information'!$AI$46,Lookups!$J$3:$K$6,2,FALSE), FALSE))","v":""},{"$f":"IF('Measure Summary'!A114=\"\",\"\",'Measure Summary'!D114)","v":""},{"$f":"IF('Measure Summary'!A114=\"\",\"\",\"N\")","v":""},{"$f":"IF('Measure Summary'!A114=\"\",\"\",'Measure Summary'!E114)","v":""},{"$f":"IF('Measure Summary'!A114=\"\",\"\",\"N\")","v":""},{"$f":"IF('Measure Summary'!A114=\"\",\"\",'Measure Summary'!F114)","v":""},{"$f":"IF('Measure Summary'!A114=\"\",\"\",'Analysis 103L'!$R$5)","v":""},{"$f":"IF('Measure Summary'!A114=\"\",\"\",'Analysis 103L'!$R$4)","v":""},{"$f":"IF('Measure Summary'!A114=\"\",\"\", ROUND('Measure Summary'!G114,0))","v":""},{"$f":"IF('Measure Summary'!A114=\"\",\"\",0)","v":""},{"$f":"IF('Measure Summary'!A114=\"\",\"\",'Measure Summary'!B114)","v":""},{"$f":"IF('Measure Summary'!A114=\"\",\"\",\"NONEG\")","v":""},{"$f":"IF('Measure Summary'!A114=\"\",\"\",VLOOKUP('Measure Summary'!A114,Lookups!$A$30:$J$156,Lookups!$L$7,FALSE))","v":""},{"$f":"IF(OR('Measure Summary'!C114=\"(blank)\",'Measure Summary'!C114=0),\"\",'Measure Summary'!C114)","v":""}]
[{"$f":"IF('Measure Summary'!A115=\"\",\"\",VLOOKUP('Measure Summary'!A115,Lookups!$A$30:$J$156,VLOOKUP('100L Information'!$AI$46,Lookups!$J$3:$K$6,2,FALSE), FALSE))","v":""},{"$f":"IF('Measure Summary'!A115=\"\",\"\",'Measure Summary'!D115)","v":""},{"$f":"IF('Measure Summary'!A115=\"\",\"\",\"N\")","v":""},{"$f":"IF('Measure Summary'!A115=\"\",\"\",'Measure Summary'!E115)","v":""},{"$f":"IF('Measure Summary'!A115=\"\",\"\",\"N\")","v":""},{"$f":"IF('Measure Summary'!A115=\"\",\"\",'Measure Summary'!F115)","v":""},{"$f":"IF('Measure Summary'!A115=\"\",\"\",'Analysis 103L'!$R$5)","v":""},{"$f":"IF('Measure Summary'!A115=\"\",\"\",'Analysis 103L'!$R$4)","v":""},{"$f":"IF('Measure Summary'!A115=\"\",\"\", ROUND('Measure Summary'!G115,0))","v":""},{"$f":"IF('Measure Summary'!A115=\"\",\"\",0)","v":""},{"$f":"IF('Measure Summary'!A115=\"\",\"\",'Measure Summary'!B115)","v":""},{"$f":"IF('Measure Summary'!A115=\"\",\"\",\"NONEG\")","v":""},{"$f":"IF('Measure Summary'!A115=\"\",\"\",VLOOKUP('Measure Summary'!A115,Lookups!$A$30:$J$156,Lookups!$L$7,FALSE))","v":""},{"$f":"IF(OR('Measure Summary'!C115=\"(blank)\",'Measure Summary'!C115=0),\"\",'Measure Summary'!C115)","v":""}]
[{"$f":"IF('Measure Summary'!A116=\"\",\"\",VLOOKUP('Measure Summary'!A116,Lookups!$A$30:$J$156,VLOOKUP('100L Information'!$AI$46,Lookups!$J$3:$K$6,2,FALSE), FALSE))","v":""},{"$f":"IF('Measure Summary'!A116=\"\",\"\",'Measure Summary'!D116)","v":""},{"$f":"IF('Measure Summary'!A116=\"\",\"\",\"N\")","v":""},{"$f":"IF('Measure Summary'!A116=\"\",\"\",'Measure Summary'!E116)","v":""},{"$f":"IF('Measure Summary'!A116=\"\",\"\",\"N\")","v":""},{"$f":"IF('Measure Summary'!A116=\"\",\"\",'Measure Summary'!F116)","v":""},{"$f":"IF('Measure Summary'!A116=\"\",\"\",'Analysis 103L'!$R$5)","v":""},{"$f":"IF('Measure Summary'!A116=\"\",\"\",'Analysis 103L'!$R$4)","v":""},{"$f":"IF('Measure Summary'!A116=\"\",\"\", ROUND('Measure Summary'!G116,0))","v":""},{"$f":"IF('Measure Summary'!A116=\"\",\"\",0)","v":""},{"$f":"IF('Measure Summary'!A116=\"\",\"\",'Measure Summary'!B116)","v":""},{"$f":"IF('Measure Summary'!A116=\"\",\"\",\"NONEG\")","v":""},{"$f":"IF('Measure Summary'!A116=\"\",\"\",VLOOKUP('Measure Summary'!A116,Lookups!$A$30:$J$156,Lookups!$L$7,FALSE))","v":""},{"$f":"IF(OR('Measure Summary'!C116=\"(blank)\",'Measure Summary'!C116=0),\"\",'Measure Summary'!C116)","v":""}]
[{"$f":"IF('Measure Summary'!A117=\"\",\"\",VLOOKUP('Measure Summary'!A117,Lookups!$A$30:$J$156,VLOOKUP('100L Information'!$AI$46,Lookups!$J$3:$K$6,2,FALSE), FALSE))","v":""},{"$f":"IF('Measure Summary'!A117=\"\",\"\",'Measure Summary'!D117)","v":""},{"$f":"IF('Measure Summary'!A117=\"\",\"\",\"N\")","v":""},{"$f":"IF('Measure Summary'!A117=\"\",\"\",'Measure Summary'!E117)","v":""},{"$f":"IF('Measure Summary'!A117=\"\",\"\",\"N\")","v":""},{"$f":"IF('Measure Summary'!A117=\"\",\"\",'Measure Summary'!F117)","v":""},{"$f":"IF('Measure Summary'!A117=\"\",\"\",'Analysis 103L'!$R$5)","v":""},{"$f":"IF('Measure Summary'!A117=\"\",\"\",'Analysis 103L'!$R$4)","v":""},{"$f":"IF('Measure Summary'!A117=\"\",\"\", ROUND('Measure Summary'!G117,0))","v":""},{"$f":"IF('Measure Summary'!A117=\"\",\"\",0)","v":""},{"$f":"IF('Measure Summary'!A117=\"\",\"\",'Measure Summary'!B117)","v":""},{"$f":"IF('Measure Summary'!A117=\"\",\"\",\"NONEG\")","v":""},{"$f":"IF('Measure Summary'!A117=\"\",\"\",VLOOKUP('Measure Summary'!A117,Lookups!$A$30:$J$156,Lookups!$L$7,FALSE))","v":""},{"$f":"IF(OR('Measure Summary'!C117=\"(blank)\",'Measure Summary'!C117=0),\"\",'Measure Summary'!C117)","v":""}]
[{"$f":"IF('Measure Summary'!A118=\"\",\"\",VLOOKUP('Measure Summary'!A118,Lookups!$A$30:$J$156,VLOOKUP('100L Information'!$AI$46,Lookups!$J$3:$K$6,2,FALSE), FALSE))","v":""},{"$f":"IF('Measure Summary'!A118=\"\",\"\",'Measure Summary'!D118)","v":""},{"$f":"IF('Measure Summary'!A118=\"\",\"\",\"N\")","v":""},{"$f":"IF('Measure Summary'!A118=\"\",\"\",'Measure Summary'!E118)","v":""},{"$f":"IF('Measure Summary'!A118=\"\",\"\",\"N\")","v":""},{"$f":"IF('Measure Summary'!A118=\"\",\"\",'Measure Summary'!F118)","v":""},{"$f":"IF('Measure Summary'!A118=\"\",\"\",'Analysis 103L'!$R$5)","v":""},{"$f":"IF('Measure Summary'!A118=\"\",\"\",'Analysis 103L'!$R$4)","v":""},{"$f":"IF('Measure Summary'!A118=\"\",\"\", ROUND('Measure Summary'!G118,0))","v":""},{"$f":"IF('Measure Summary'!A118=\"\",\"\",0)","v":""},{"$f":"IF('Measure Summary'!A118=\"\",\"\",'Measure Summary'!B118)","v":""},{"$f":"IF('Measure Summary'!A118=\"\",\"\",\"NONEG\")","v":""},{"$f":"IF('Measure Summary'!A118=\"\",\"\",VLOOKUP('Measure Summary'!A118,Lookups!$A$30:$J$156,Lookups!$L$7,FALSE))","v":""},{"$f":"IF(OR('Measure Summary'!C118=\"(blank)\",'Measure Summary'!C118=0),\"\",'Measure Summary'!C118)","v":""}]
[{"$f":"IF('Measure Summary'!A119=\"\",\"\",VLOOKUP('Measure Summary'!A119,Lookups!$A$30:$J$156,VLOOKUP('100L Information'!$AI$46,Lookups!$J$3:$K$6,2,FALSE), FALSE))","v":""},{"$f":"IF('Measure Summary'!A119=\"\",\"\",'Measure Summary'!D119)","v":""},{"$f":"IF('Measure Summary'!A119=\"\",\"\",\"N\")","v":""},{"$f":"IF('Measure Summary'!A119=\"\",\"\",'Measure Summary'!E119)","v":""},{"$f":"IF('Measure Summary'!A119=\"\",\"\",\"N\")","v":""},{"$f":"IF('Measure Summary'!A119=\"\",\"\",'Measure Summary'!F119)","v":""},{"$f":"IF('Measure Summary'!A119=\"\",\"\",'Analysis 103L'!$R$5)","v":""},{"$f":"IF('Measure Summary'!A119=\"\",\"\",'Analysis 103L'!$R$4)","v":""},{"$f":"IF('Measure Summary'!A119=\"\",\"\", ROUND('Measure Summary'!G119,0))","v":""},{"$f":"IF('Measure Summary'!A119=\"\",\"\",0)","v":""},{"$f":"IF('Measure Summary'!A119=\"\",\"\",'Measure Summary'!B119)","v":""},{"$f":"IF('Measure Summary'!A119=\"\",\"\",\"NONEG\")","v":""},{"$f":"IF('Measure Summary'!A119=\"\",\"\",VLOOKUP('Measure Summary'!A119,Lookups!$A$30:$J$156,Lookups!$L$7,FALSE))","v":""},{"$f":"IF(OR('Measure Summary'!C119=\"(blank)\",'Measure Summary'!C119=0),\"\",'Measure Summary'!C119)","v":""}]
[{"$f":"IF('Measure Summary'!A120=\"\",\"\",VLOOKUP('Measure Summary'!A120,Lookups!$A$30:$J$156,VLOOKUP('100L Information'!$AI$46,Lookups!$J$3:$K$6,2,FALSE), FALSE))","v":""},{"$f":"IF('Measure Summary'!A120=\"\",\"\",'Measure Summary'!D120)","v":""},{"$f":"IF('Measure Summary'!A120=\"\",\"\",\"N\")","v":""},{"$f":"IF('Measure Summary'!A120=\"\",\"\",'Measure Summary'!E120)","v":""},{"$f":"IF('Measure Summary'!A120=\"\",\"\",\"N\")","v":""},{"$f":"IF('Measure Summary'!A120=\"\",\"\",'Measure Summary'!F120)","v":""},{"$f":"IF('Measure Summary'!A120=\"\",\"\",'Analysis 103L'!$R$5)","v":""},{"$f":"IF('Measure Summary'!A120=\"\",\"\",'Analysis 103L'!$R$4)","v":""},{"$f":"IF('Measure Summary'!A120=\"\",\"\", ROUND('Measure Summary'!G120,0))","v":""},{"$f":"IF('Measure Summary'!A120=\"\",\"\",0)","v":""},{"$f":"IF('Measure Summary'!A120=\"\",\"\",'Measure Summary'!B120)","v":""},{"$f":"IF('Measure Summary'!A120=\"\",\"\",\"NONEG\")","v":""},{"$f":"IF('Measure Summary'!A120=\"\",\"\",VLOOKUP('Measure Summary'!A120,Lookups!$A$30:$J$156,Lookups!$L$7,FALSE))","v":""},{"$f":"IF(OR('Measure Summary'!C120=\"(blank)\",'Measure Summary'!C120=0),\"\",'Measure Summary'!C120)","v":""}]
[{"$f":"IF('Measure Summary'!A121=\"\",\"\",VLOOKUP('Measure Summary'!A121,Lookups!$A$30:$J$156,VLOOKUP('100L Information'!$AI$46,Lookups!$J$3:$K$6,2,FALSE), FALSE))","v":""},{"$f":"IF('Measure Summary'!A121=\"\",\"\",'Measure Summary'!D121)","v":""},{"$f":"IF('Measure Summary'!A121=\"\",\"\",\"N\")","v":""},{"$f":"IF('Measure Summary'!A121=\"\",\"\",'Measure Summary'!E121)","v":""},{"$f":"IF('Measure Summary'!A121=\"\",\"\",\"N\")","v":""},{"$f":"IF('Measure Summary'!A121=\"\",\"\",'Measure Summary'!F121)","v":""},{"$f":"IF('Measure Summary'!A121=\"\",\"\",'Analysis 103L'!$R$5)","v":""},{"$f":"IF('Measure Summary'!A121=\"\",\"\",'Analysis 103L'!$R$4)","v":""},{"$f":"IF('Measure Summary'!A121=\"\",\"\", ROUND('Measure Summary'!G121,0))","v":""},{"$f":"IF('Measure Summary'!A121=\"\",\"\",0)","v":""},{"$f":"IF('Measure Summary'!A121=\"\",\"\",'Measure Summary'!B121)","v":""},{"$f":"IF('Measure Summary'!A121=\"\",\"\",\"NONEG\")","v":""},{"$f":"IF('Measure Summary'!A121=\"\",\"\",VLOOKUP('Measure Summary'!A121,Lookups!$A$30:$J$156,Lookups!$L$7,FALSE))","v":""},{"$f":"IF(OR('Measure Summary'!C121=\"(blank)\",'Measure Summary'!C121=0),\"\",'Measure Summary'!C121)","v":""}]
[{"$f":"IF('Measure Summary'!A122=\"\",\"\",VLOOKUP('Measure Summary'!A122,Lookups!$A$30:$J$156,VLOOKUP('100L Information'!$AI$46,Lookups!$J$3:$K$6,2,FALSE), FALSE))","v":""},{"$f":"IF('Measure Summary'!A122=\"\",\"\",'Measure Summary'!D122)","v":""},{"$f":"IF('Measure Summary'!A122=\"\",\"\",\"N\")","v":""},{"$f":"IF('Measure Summary'!A122=\"\",\"\",'Measure Summary'!E122)","v":""},{"$f":"IF('Measure Summary'!A122=\"\",\"\",\"N\")","v":""},{"$f":"IF('Measure Summary'!A122=\"\",\"\",'Measure Summary'!F122)","v":""},{"$f":"IF('Measure Summary'!A122=\"\",\"\",'Analysis 103L'!$R$5)","v":""},{"$f":"IF('Measure Summary'!A122=\"\",\"\",'Analysis 103L'!$R$4)","v":""},{"$f":"IF('Measure Summary'!A122=\"\",\"\", ROUND('Measure Summary'!G122,0))","v":""},{"$f":"IF('Measure Summary'!A122=\"\",\"\",0)","v":""},{"$f":"IF('Measure Summary'!A122=\"\",\"\",'Measure Summary'!B122)","v":""},{"$f":"IF('Measure Summary'!A122=\"\",\"\",\"NONEG\")","v":""},{"$f":"IF('Measure Summary'!A122=\"\",\"\",VLOOKUP('Measure Summary'!A122,Lookups!$A$30:$J$156,Lookups!$L$7,FALSE))","v":""},{"$f":"IF(OR('Measure Summary'!C122=\"(blank)\",'Measure Summary'!C122=0),\"\",'Measure Summary'!C122)","v":""}]
[{"$f":"IF('Measure Summary'!A123=\"\",\"\",VLOOKUP('Measure Summary'!A123,Lookups!$A$30:$J$156,VLOOKUP('100L Information'!$AI$46,Lookups!$J$3:$K$6,2,FALSE), FALSE))","v":""},{"$f":"IF('Measure Summary'!A123=\"\",\"\",'Measure Summary'!D123)","v":""},{"$f":"IF('Measure Summary'!A123=\"\",\"\",\"N\")","v":""},{"$f":"IF('Measure Summary'!A123=\"\",\"\",'Measure Summary'!E123)","v":""},{"$f":"IF('Measure Summary'!A123=\"\",\"\",\"N\")","v":""},{"$f":"IF('Measure Summary'!A123=\"\",\"\",'Measure Summary'!F123)","v":""},{"$f":"IF('Measure Summary'!A123=\"\",\"\",'Analysis 103L'!$R$5)","v":""},{"$f":"IF('Measure Summary'!A123=\"\",\"\",'Analysis 103L'!$R$4)","v":""},{"$f":"IF('Measure Summary'!A123=\"\",\"\", ROUND('Measure Summary'!G123,0))","v":""},{"$f":"IF('Measure Summary'!A123=\"\",\"\",0)","v":""},{"$f":"IF('Measure Summary'!A123=\"\",\"\",'Measure Summary'!B123)","v":""},{"$f":"IF('Measure Summary'!A123=\"\",\"\",\"NONEG\")","v":""},{"$f":"IF('Measure Summary'!A123=\"\",\"\",VLOOKUP('Measure Summary'!A123,Lookups!$A$30:$J$156,Lookups!$L$7,FALSE))","v":""},{"$f":"IF(OR('Measure Summary'!C123=\"(blank)\",'Measure Summary'!C123=0),\"\",'Measure Summary'!C123)","v":""}]
[{"$f":"IF('Measure Summary'!A124=\"\",\"\",VLOOKUP('Measure Summary'!A124,Lookups!$A$30:$J$156,VLOOKUP('100L Information'!$AI$46,Lookups!$J$3:$K$6,2,FALSE), FALSE))","v":""},{"$f":"IF('Measure Summary'!A124=\"\",\"\",'Measure Summary'!D124)","v":""},{"$f":"IF('Measure Summary'!A124=\"\",\"\",\"N\")","v":""},{"$f":"IF('Measure Summary'!A124=\"\",\"\",'Measure Summary'!E124)","v":""},{"$f":"IF('Measure Summary'!A124=\"\",\"\",\"N\")","v":""},{"$f":"IF('Measure Summary'!A124=\"\",\"\",'Measure Summary'!F124)","v":""},{"$f":"IF('Measure Summary'!A124=\"\",\"\",'Analysis 103L'!$R$5)","v":""},{"$f":"IF('Measure Summary'!A124=\"\",\"\",'Analysis 103L'!$R$4)","v":""},{"$f":"IF('Measure Summary'!A124=\"\",\"\", ROUND('Measure Summary'!G124,0))","v":""},{"$f":"IF('Measure Summary'!A124=\"\",\"\",0)","v":""},{"$f":"IF('Measure Summary'!A124=\"\",\"\",'Measure Summary'!B124)","v":""},{"$f":"IF('Measure Summary'!A124=\"\",\"\",\"NONEG\")","v":""},{"$f":"IF('Measure Summary'!A124=\"\",\"\",VLOOKUP('Measure Summary'!A124,Lookups!$A$30:$J$156,Lookups!$L$7,FALSE))","v":""},{"$f":"IF(OR('Measure Summary'!C124=\"(blank)\",'Measure Summary'!C124=0),\"\",'Measure Summary'!C124)","v":""}]
["!end!"]

{"sheet":"PT Summary","index":14,"n_rows":247,"n_cols":9,"rows_kept":247,"cut":false,"hidden":true,"merged":[[0,0,1,1],[1,3,1,4],[1,6,1,7],[2,4,2,7],[4,4,4,5],[3,4,3,7]]}
["Lighting Tool Summary"]
[null,null,"Project ID",{"$f":"IF('100L Information'!S3=\"\",\"\",'100L Information'!S3)","v":""},null,"PT ID",{"$f":"IF('100L Information'!AB3=\"\",\"\",'100L Information'!AB3)","v":""}]
[null,null,"Project Name",null,{"$f":"IF('100L Information'!I15=\"\",\"\",'100L Information'!I15)","v":""}]
[null,null,"Site Address",null,{"$f":"IF('100L Information'!F16=\"\",\"\",'100L Information'!F16&\"  \"&'100L Information'!R16&\", \"&'100L Information'!AA16&\"  \"&'100L Information'!AD16)","v":""}]
[null,null,"Reservation Date",null,{"$f":"IF('Analysis 103L'!R4=\"\",\"\",'Analysis 103L'!R4)","v":""}]
[null,"Total Summary",{"$f":"SUM(C8:C118)","v":0},{"$f":"SUM(D8:D118)","v":0},{"$f":"SUM(E8:E118)","v":0},{"$f":"SUM(F8:F118)","v":0},{"$f":"SUM(G8:G118)","v":0}]
["Measure Code","Measure Description","Qty","Total Cost","Incentive","Kwh","Therms","LP_Ele","Installed Date"]
[{"$f":"FTImport!A2","v":""},{"$f":"IF('Measure Summary'!A14=\"\",\"\",'Measure Summary'!A14)","v":""},{"$f":"FTImport!B2","v":""},{"$f":"FTImport!D2","v":""},{"$f":"FTImport!F2","v":""},{"$f":"FTImport!I2","v":""},{"$f":"FTImport!J2","v":""},{"$f":"FTImport!K2","v":""},{"$f":"FTImport!G2","v":""}]
[{"$f":"FTImport!A3","v":""},{"$f":"IF('Measure Summary'!A15=\"\",\"\",'Measure Summary'!A15)","v":""},{"$f":"FTImport!B3","v":""},{"$f":"FTImport!D3","v":""},{"$f":"FTImport!F3","v":""},{"$f":"FTImport!I3","v":""},{"$f":"FTImport!J3","v":""},{"$f":"FTImport!K3","v":""},{"$f":"FTImport!G3","v":""}]
[{"$f":"FTImport!A4","v":""},{"$f":"IF('Measure Summary'!A16=\"\",\"\",'Measure Summary'!A16)","v":""},{"$f":"FTImport!B4","v":""},{"$f":"FTImport!D4","v":""},{"$f":"FTImport!F4","v":""},{"$f":"FTImport!I4","v":""},{"$f":"FTImport!J4","v":""},{"$f":"FTImport!K4","v":""},{"$f":"FTImport!G4","v":""}]
[{"$f":"FTImport!A5","v":""},{"$f":"IF('Measure Summary'!A17=\"\",\"\",'Measure Summary'!A17)","v":""},{"$f":"FTImport!B5","v":""},{"$f":"FTImport!D5","v":""},{"$f":"FTImport!F5","v":""},{"$f":"FTImport!I5","v":""},{"$f":"FTImport!J5","v":""},{"$f":"FTImport!K5","v":""},{"$f":"FTImport!G5","v":""}]
[{"$f":"FTImport!A6","v":""},{"$f":"IF('Measure Summary'!A18=\"\",\"\",'Measure Summary'!A18)","v":""},{"$f":"FTImport!B6","v":""},{"$f":"FTImport!D6","v":""},{"$f":"FTImport!F6","v":""},{"$f":"FTImport!I6","v":""},{"$f":"FTImport!J6","v":""},{"$f":"FTImport!K6","v":""},{"$f":"FTImport!G6","v":""}]
[{"$f":"FTImport!A7","v":""},{"$f":"IF('Measure Summary'!A19=\"\",\"\",'Measure Summary'!A19)","v":""},{"$f":"FTImport!B7","v":""},{"$f":"FTImport!D7","v":""},{"$f":"FTImport!F7","v":""},{"$f":"FTImport!I7","v":""},{"$f":"FTImport!J7","v":""},{"$f":"FTImport!K7","v":""},{"$f":"FTImport!G7","v":""}]
[{"$f":"FTImport!A8","v":""},{"$f":"IF('Measure Summary'!A20=\"\",\"\",'Measure Summary'!A20)","v":""},{"$f":"FTImport!B8","v":""},{"$f":"FTImport!D8","v":""},{"$f":"FTImport!F8","v":""},{"$f":"FTImport!I8","v":""},{"$f":"FTImport!J8","v":""},{"$f":"FTImport!K8","v":""},{"$f":"FTImport!G8","v":""}]
[{"$f":"FTImport!A9","v":""},{"$f":"IF('Measure Summary'!A21=\"\",\"\",'Measure Summary'!A21)","v":""},{"$f":"FTImport!B9","v":""},{"$f":"FTImport!D9","v":""},{"$f":"FTImport!F9","v":""},{"$f":"FTImport!I9","v":""},{"$f":"FTImport!J9","v":""},{"$f":"FTImport!K9","v":""},{"$f":"FTImport!G9","v":""}]
[{"$f":"FTImport!A10","v":""},{"$f":"IF('Measure Summary'!A22=\"\",\"\",'Measure Summary'!A22)","v":""},{"$f":"FTImport!B10","v":""},{"$f":"FTImport!D10","v":""},{"$f":"FTImport!F10","v":""},{"$f":"FTImport!I10","v":""},{"$f":"FTImport!J10","v":""},{"$f":"FTImport!K10","v":""},{"$f":"FTImport!G10","v":""}]
[{"$f":"FTImport!A11","v":""},{"$f":"IF('Measure Summary'!A23=\"\",\"\",'Measure Summary'!A23)","v":""},{"$f":"FTImport!B11","v":""},{"$f":"FTImport!D11","v":""},{"$f":"FTImport!F11","v":""},{"$f":"FTImport!I11","v":""},{"$f":"FTImport!J11","v":""},{"$f":"FTImport!K11","v":""},{"$f":"FTImport!G11","v":""}]
[{"$f":"FTImport!A12","v":""},{"$f":"IF('Measure Summary'!A24=\"\",\"\",'Measure Summary'!A24)","v":""},{"$f":"FTImport!B12","v":""},{"$f":"FTImport!D12","v":""},{"$f":"FTImport!F12","v":""},{"$f":"FTImport!I12","v":""},{"$f":"FTImport!J12","v":""},{"$f":"FTImport!K12","v":""},{"$f":"FTImport!G12","v":""}]
[{"$f":"FTImport!A13","v":""},{"$f":"IF('Measure Summary'!A25=\"\",\"\",'Measure Summary'!A25)","v":""},{"$f":"FTImport!B13","v":""},{"$f":"FTImport!D13","v":""},{"$f":"FTImport!F13","v":""},{"$f":"FTImport!I13","v":""},{"$f":"FTImport!J13","v":""},{"$f":"FTImport!K13","v":""},{"$f":"FTImport!G13","v":""}]
[{"$f":"FTImport!A14","v":""},{"$f":"IF('Measure Summary'!A26=\"\",\"\",'Measure Summary'!A26)","v":""},{"$f":"FTImport!B14","v":""},{"$f":"FTImport!D14","v":""},{"$f":"FTImport!F14","v":""},{"$f":"FTImport!I14","v":""},{"$f":"FTImport!J14","v":""},{"$f":"FTImport!K14","v":""},{"$f":"FTImport!G14","v":""}]
[{"$f":"FTImport!A15","v":""},{"$f":"IF('Measure Summary'!A27=\"\",\"\",'Measure Summary'!A27)","v":""},{"$f":"FTImport!B15","v":""},{"$f":"FTImport!D15","v":""},{"$f":"FTImport!F15","v":""},{"$f":"FTImport!I15","v":""},{"$f":"FTImport!J15","v":""},{"$f":"FTImport!K15","v":""},{"$f":"FTImport!G15","v":""}]
[{"$f":"FTImport!A16","v":""},{"$f":"IF('Measure Summary'!A28=\"\",\"\",'Measure Summary'!A28)","v":""},{"$f":"FTImport!B16","v":""},{"$f":"FTImport!D16","v":""},{"$f":"FTImport!F16","v":""},{"$f":"FTImport!I16","v":""},{"$f":"FTImport!J16","v":""},{"$f":"FTImport!K16","v":""},{"$f":"FTImport!G16","v":""}]
[{"$f":"FTImport!A17","v":""},{"$f":"IF('Measure Summary'!A29=\"\",\"\",'Measure Summary'!A29)","v":""},{"$f":"FTImport!B17","v":""},{"$f":"FTImport!D17","v":""},{"$f":"FTImport!F17","v":""},{"$f":"FTImport!I17","v":""},{"$f":"FTImport!J17","v":""},{"$f":"FTImport!K17","v":""},{"$f":"FTImport!G17","v":""}]
[{"$f":"FTImport!A18","v":""},{"$f":"IF('Measure Summary'!A30=\"\",\"\",'Measure Summary'!A30)","v":""},{"$f":"FTImport!B18","v":""},{"$f":"FTImport!D18","v":""},{"$f":"FTImport!F18","v":""},{"$f":"FTImport!I18","v":""},{"$f":"FTImport!J18","v":""},{"$f":"FTImport!K18","v":""},{"$f":"FTImport!G18","v":""}]
[{"$f":"FTImport!A19","v":""},{"$f":"IF('Measure Summary'!A31=\"\",\"\",'Measure Summary'!A31)","v":""},{"$f":"FTImport!B19","v":""},{"$f":"FTImport!D19","v":""},{"$f":"FTImport!F19","v":""},{"$f":"FTImport!I19","v":""},{"$f":"FTImport!J19","v":""},{"$f":"FTImport!K19","v":""},{"$f":"FTImport!G19","v":""}]
[{"$f":"FTImport!A20","v":""},{"$f":"IF('Measure Summary'!A32=\"\",\"\",'Measure Summary'!A32)","v":""},{"$f":"FTImport!B20","v":""},{"$f":"FTImport!D20","v":""},{"$f":"FTImport!F20","v":""},{"$f":"FTImport!I20","v":""},{"$f":"FTImport!J20","v":""},{"$f":"FTImport!K20","v":""},{"$f":"FTImport!G20","v":""}]
[{"$f":"FTImport!A21","v":""},{"$f":"IF('Measure Summary'!A33=\"\",\"\",'Measure Summary'!A33)","v":""},{"$f":"FTImport!B21","v":""},{"$f":"FTImport!D21","v":""},{"$f":"FTImport!F21","v":""},{"$f":"FTImport!I21","v":""},{"$f":"FTImport!J21","v":""},{"$f":"FTImport!K21","v":""},{"$f":"FTImport!G21","v":""}]
[{"$f":"FTImport!A22","v":""},{"$f":"IF('Measure Summary'!A34=\"\",\"\",'Measure Summary'!A34)","v":""},{"$f":"FTImport!B22","v":""},{"$f":"FTImport!D22","v":""},{"$f":"FTImport!F22","v":""},{"$f":"FTImport!I22","v":""},{"$f":"FTImport!J22","v":""},{"$f":"FTImport!K22","v":""},{"$f":"FTImport!G22","v":""}]
[{"$f":"FTImport!A23","v":""},{"$f":"IF('Measure Summary'!A35=\"\",\"\",'Measure Summary'!A35)","v":""},{"$f":"FTImport!B23","v":""},{"$f":"FTImport!D23","v":""},{"$f":"FTImport!F23","v":""},{"$f":"FTImport!I23","v":""},{"$f":"FTImport!J23","v":""},{"$f":"FTImport!K23","v":""},{"$f":"FTImport!G23","v":""}]
[{"$f":"FTImport!A24","v":""},{"$f":"IF('Measure Summary'!A36=\"\",\"\",'Measure Summary'!A36)","v":""},{"$f":"FTImport!B24","v":""},{"$f":"FTImport!D24","v":""},{"$f":"FTImport!F24","v":""},{"$f":"FTImport!I24","v":""},{"$f":"FTImport!J24","v":""},{"$f":"FTImport!K24","v":""},{"$f":"FTImport!G24","v":""}]
[{"$f":"FTImport!A25","v":""},{"$f":"IF('Measure Summary'!A37=\"\",\"\",'Measure Summary'!A37)","v":""},{"$f":"FTImport!B25","v":""},{"$f":"FTImport!D25","v":""},{"$f":"FTImport!F25","v":""},{"$f":"FTImport!I25","v":""},{"$f":"FTImport!J25","v":""},{"$f":"FTImport!K25","v":""},{"$f":"FTImport!G25","v":""}]
[{"$f":"FTImport!A26","v":""},{"$f":"IF('Measure Summary'!A38=\"\",\"\",'Measure Summary'!A38)","v":""},{"$f":"FTImport!B26","v":""},{"$f":"FTImport!D26","v":""},{"$f":"FTImport!F26","v":""},{"$f":"FTImport!I26","v":""},{"$f":"FTImport!J26","v":""},{"$f":"FTImport!K26","v":""},{"$f":"FTImport!G26","v":""}]
[{"$f":"FTImport!A27","v":""},{"$f":"IF('Measure Summary'!A39=\"\",\"\",'Measure Summary'!A39)","v":""},{"$f":"FTImport!B27","v":""},{"$f":"FTImport!D27","v":""},{"$f":"FTImport!F27","v":""},{"$f":"FTImport!I27","v":""},{"$f":"FTImport!J27","v":""},{"$f":"FTImport!K27","v":""},{"$f":"FTImport!G27","v":""}]
[{"$f":"FTImport!A28","v":""},{"$f":"IF('Measure Summary'!A40=\"\",\"\",'Measure Summary'!A40)","v":""},{"$f":"FTImport!B28","v":""},{"$f":"FTImport!D28","v":""},{"$f":"FTImport!F28","v":""},{"$f":"FTImport!I28","v":""},{"$f":"FTImport!J28","v":""},{"$f":"FTImport!K28","v":""},{"$f":"FTImport!G28","v":""}]
[{"$f":"FTImport!A29","v":""},{"$f":"IF('Measure Summary'!A41=\"\",\"\",'Measure Summary'!A41)","v":""},{"$f":"FTImport!B29","v":""},{"$f":"FTImport!D29","v":""},{"$f":"FTImport!F29","v":""},{"$f":"FTImport!I29","v":""},{"$f":"FTImport!J29","v":""},{"$f":"FTImport!K29","v":""},{"$f":"FTImport!G29","v":""}]
[{"$f":"FTImport!A30","v":""},{"$f":"IF('Measure Summary'!A42=\"\",\"\",'Measure Summary'!A42)","v":""},{"$f":"FTImport!B30","v":""},{"$f":"FTImport!D30","v":""},{"$f":"FTImport!F30","v":""},{"$f":"FTImport!I30","v":""},{"$f":"FTImport!J30","v":""},{"$f":"FTImport!K30","v":""},{"$f":"FTImport!G30","v":""}]
[{"$f":"FTImport!A31","v":""},{"$f":"IF('Measure Summary'!A43=\"\",\"\",'Measure Summary'!A43)","v":""},{"$f":"FTImport!B31","v":""},{"$f":"FTImport!D31","v":""},{"$f":"FTImport!F31","v":""},{"$f":"FTImport!I31","v":""},{"$f":"FTImport!J31","v":""},{"$f":"FTImport!K31","v":""},{"$f":"FTImport!G31","v":""}]
[{"$f":"FTImport!A32","v":""},{"$f":"IF('Measure Summary'!A44=\"\",\"\",'Measure Summary'!A44)","v":""},{"$f":"FTImport!B32","v":""},{"$f":"FTImport!D32","v":""},{"$f":"FTImport!F32","v":""},{"$f":"FTImport!I32","v":""},{"$f":"FTImport!J32","v":""},{"$f":"FTImport!K32","v":""},{"$f":"FTImport!G32","v":""}]
[{"$f":"FTImport!A33","v":""},{"$f":"IF('Measure Summary'!A45=\"\",\"\",'Measure Summary'!A45)","v":""},{"$f":"FTImport!B33","v":""},{"$f":"FTImport!D33","v":""},{"$f":"FTImport!F33","v":""},{"$f":"FTImport!I33","v":""},{"$f":"FTImport!J33","v":""},{"$f":"FTImport!K33","v":""},{"$f":"FTImport!G33","v":""}]
[{"$f":"FTImport!A34","v":""},{"$f":"IF('Measure Summary'!A46=\"\",\"\",'Measure Summary'!A46)","v":""},{"$f":"FTImport!B34","v":""},{"$f":"FTImport!D34","v":""},{"$f":"FTImport!F34","v":""},{"$f":"FTImport!I34","v":""},{"$f":"FTImport!J34","v":""},{"$f":"FTImport!K34","v":""},{"$f":"FTImport!G34","v":""}]
[{"$f":"FTImport!A35","v":""},{"$f":"IF('Measure Summary'!A47=\"\",\"\",'Measure Summary'!A47)","v":""},{"$f":"FTImport!B35","v":""},{"$f":"FTImport!D35","v":""},{"$f":"FTImport!F35","v":""},{"$f":"FTImport!I35","v":""},{"$f":"FTImport!J35","v":""},{"$f":"FTImport!K35","v":""},{"$f":"FTImport!G35","v":""}]
[{"$f":"FTImport!A36","v":""},{"$f":"IF('Measure Summary'!A48=\"\",\"\",'Measure Summary'!A48)","v":""},{"$f":"FTImport!B36","v":""},{"$f":"FTImport!D36","v":""},{"$f":"FTImport!F36","v":""},{"$f":"FTImport!I36","v":""},{"$f":"FTImport!J36","v":""},{"$f":"FTImport!K36","v":""},{"$f":"FTImport!G36","v":""}]
[{"$f":"FTImport!A37","v":""},{"$f":"IF('Measure Summary'!A49=\"\",\"\",'Measure Summary'!A49)","v":""},{"$f":"FTImport!B37","v":""},{"$f":"FTImport!D37","v":""},{"$f":"FTImport!F37","v":""},{"$f":"FTImport!I37","v":""},{"$f":"FTImport!J37","v":""},{"$f":"FTImport!K37","v":""},{"$f":"FTImport!G37","v":""}]
[{"$f":"FTImport!A38","v":""},{"$f":"IF('Measure Summary'!A50=\"\",\"\",'Measure Summary'!A50)","v":""},{"$f":"FTImport!B38","v":""},{"$f":"FTImport!D38","v":""},{"$f":"FTImport!F38","v":""},{"$f":"FTImport!I38","v":""},{"$f":"FTImport!J38","v":""},{"$f":"FTImport!K38","v":""},{"$f":"FTImport!G38","v":""}]
[{"$f":"FTImport!A39","v":""},{"$f":"IF('Measure Summary'!A51=\"\",\"\",'Measure Summary'!A51)","v":""},{"$f":"FTImport!B39","v":""},{"$f":"FTImport!D39","v":""},{"$f":"FTImport!F39","v":""},{"$f":"FTImport!I39","v":""},{"$f":"FTImport!J39","v":""},{"$f":"FTImport!K39","v":""},{"$f":"FTImport!G39","v":""}]
[{"$f":"FTImport!A40","v":""},{"$f":"IF('Measure Summary'!A52=\"\",\"\",'Measure Summary'!A52)","v":""},{"$f":"FTImport!B40","v":""},{"$f":"FTImport!D40","v":""},{"$f":"FTImport!F40","v":""},{"$f":"FTImport!I40","v":""},{"$f":"FTImport!J40","v":""},{"$f":"FTImport!K40","v":""},{"$f":"FTImport!G40","v":""}]
[{"$f":"FTImport!A41","v":""},{"$f":"IF('Measure Summary'!A53=\"\",\"\",'Measure Summary'!A53)","v":""},{"$f":"FTImport!B41","v":""},{"$f":"FTImport!D41","v":""},{"$f":"FTImport!F41","v":""},{"$f":"FTImport!I41","v":""},{"$f":"FTImport!J41","v":""},{"$f":"FTImport!K41","v":""},{"$f":"FTImport!G41","v":""}]
[{"$f":"FTImport!A42","v":""},{"$f":"IF('Measure Summary'!A54=\"\",\"\",'Measure Summary'!A54)","v":""},{"$f":"FTImport!B42","v":""},{"$f":"FTImport!D42","v":""},{"$f":"FTImport!F42","v":""},{"$f":"FTImport!I42","v":""},{"$f":"FTImport!J42","v":""},{"$f":"FTImport!K42","v":""},{"$f":"FTImport!G42","v":""}]
[{"$f":"FTImport!A43","v":""},{"$f":"IF('Measure Summary'!A55=\"\",\"\",'Measure Summary'!A55)","v":""},{"$f":"FTImport!B43","v":""},{"$f":"FTImport!D43","v":""},{"$f":"FTImport!F43","v":""},{"$f":"FTImport!I43","v":""},{"$f":"FTImport!J43","v":""},{"$f":"FTImport!K43","v":""},{"$f":"FTImport!G43","v":""}]
[{"$f":"FTImport!A44","v":""},{"$f":"IF('Measure Summary'!A56=\"\",\"\",'Measure Summary'!A56)","v":""},{"$f":"FTImport!B44","v":""},{"$f":"FTImport!D44","v":""},{"$f":"FTImport!F44","v":""},{"$f":"FTImport!I44","v":""},{"$f":"FTImport!J44","v":""},{"$f":"FTImport!K44","v":""},{"$f":"FTImport!G44","v":""}]
[{"$f":"FTImport!A45","v":""},{"$f":"IF('Measure Summary'!A57=\"\",\"\",'Measure Summary'!A57)","v":""},{"$f":"FTImport!B45","v":""},{"$f":"FTImport!D45","v":""},{"$f":"FTImport!F45","v":""},{"$f":"FTImport!I45","v":""},{"$f":"FTImport!J45","v":""},{"$f":"FTImport!K45","v":""},{"$f":"FTImport!G45","v":""}]
[{"$f":"FTImport!A46","v":""},{"$f":"IF('Measure Summary'!A58=\"\",\"\",'Measure Summary'!A58)","v":""},{"$f":"FTImport!B46","v":""},{"$f":"FTImport!D46","v":""},{"$f":"FTImport!F46","v":""},{"$f":"FTImport!I46","v":""},{"$f":"FTImport!J46","v":""},{"$f":"FTImport!K46","v":""},{"$f":"FTImport!G46","v":""}]
[{"$f":"FTImport!A47","v":""},{"$f":"IF('Measure Summary'!A59=\"\",\"\",'Measure Summary'!A59)","v":""},{"$f":"FTImport!B47","v":""},{"$f":"FTImport!D47","v":""},{"$f":"FTImport!F47","v":""},{"$f":"FTImport!I47","v":""},{"$f":"FTImport!J47","v":""},{"$f":"FTImport!K47","v":""},{"$f":"FTImport!G47","v":""}]
[{"$f":"FTImport!A48","v":""},{"$f":"IF('Measure Summary'!A60=\"\",\"\",'Measure Summary'!A60)","v":""},{"$f":"FTImport!B48","v":""},{"$f":"FTImport!D48","v":""},{"$f":"FTImport!F48","v":""},{"$f":"FTImport!I48","v":""},{"$f":"FTImport!J48","v":""},{"$f":"FTImport!K48","v":""},{"$f":"FTImport!G48","v":""}]
[{"$f":"FTImport!A49","v":""},{"$f":"IF('Measure Summary'!A61=\"\",\"\",'Measure Summary'!A61)","v":""},{"$f":"FTImport!B49","v":""},{"$f":"FTImport!D49","v":""},{"$f":"FTImport!F49","v":""},{"$f":"FTImport!I49","v":""},{"$f":"FTImport!J49","v":""},{"$f":"FTImport!K49","v":""},{"$f":"FTImport!G49","v":""}]
[{"$f":"FTImport!A50","v":""},{"$f":"IF('Measure Summary'!A62=\"\",\"\",'Measure Summary'!A62)","v":""},{"$f":"FTImport!B50","v":""},{"$f":"FTImport!D50","v":""},{"$f":"FTImport!F50","v":""},{"$f":"FTImport!I50","v":""},{"$f":"FTImport!J50","v":""},{"$f":"FTImport!K50","v":""},{"$f":"FTImport!G50","v":""}]
[{"$f":"FTImport!A51","v":""},{"$f":"IF('Measure Summary'!A63=\"\",\"\",'Measure Summary'!A63)","v":""},{"$f":"FTImport!B51","v":""},{"$f":"FTImport!D51","v":""},{"$f":"FTImport!F51","v":""},{"$f":"FTImport!I51","v":""},{"$f":"FTImport!J51","v":""},{"$f":"FTImport!K51","v":""},{"$f":"FTImport!G51","v":""}]
[{"$f":"FTImport!A52","v":""},{"$f":"IF('Measure Summary'!A64=\"\",\"\",'Measure Summary'!A64)","v":""},{"$f":"FTImport!B52","v":""},{"$f":"FTImport!D52","v":""},{"$f":"FTImport!F52","v":""},{"$f":"FTImport!I52","v":""},{"$f":"FTImport!J52","v":""},{"$f":"FTImport!K52","v":""},{"$f":"FTImport!G52","v":""}]
[{"$f":"FTImport!A53","v":""},{"$f":"IF('Measure Summary'!A65=\"\",\"\",'Measure Summary'!A65)","v":""},{"$f":"FTImport!B53","v":""},{"$f":"FTImport!D53","v":""},{"$f":"FTImport!F53","v":""},{"$f":"FTImport!I53","v":""},{"$f":"FTImport!J53","v":""},{"$f":"FTImport!K53","v":""},{"$f":"FTImport!G53","v":""}]
[{"$f":"FTImport!A54","v":""},{"$f":"IF('Measure Summary'!A66=\"\",\"\",'Measure Summary'!A66)","v":""},{"$f":"FTImport!B54","v":""},{"$f":"FTImport!D54","v":""},{"$f":"FTImport!F54","v":""},{"$f":"FTImport!I54","v":""},{"$f":"FTImport!J54","v":""},{"$f":"FTImport!K54","v":""},{"$f":"FTImport!G54","v":""}]
[{"$f":"FTImport!A55","v":""},{"$f":"IF('Measure Summary'!A67=\"\",\"\",'Measure Summary'!A67)","v":""},{"$f":"FTImport!B55","v":""},{"$f":"FTImport!D55","v":""},{"$f":"FTImport!F55","v":""},{"$f":"FTImport!I55","v":""},{"$f":"FTImport!J55","v":""},{"$f":"FTImport!K55","v":""},{"$f":"FTImport!G55","v":""}]
[{"$f":"FTImport!A56","v":""},{"$f":"IF('Measure Summary'!A68=\"\",\"\",'Measure Summary'!A68)","v":""},{"$f":"FTImport!B56","v":""},{"$f":"FTImport!D56","v":""},{"$f":"FTImport!F56","v":""},{"$f":"FTImport!I56","v":""},{"$f":"FTImport!J56","v":""},{"$f":"FTImport!K56","v":""},{"$f":"FTImport!G56","v":""}]
[{"$f":"FTImport!A57","v":""},{"$f":"IF('Measure Summary'!A69=\"\",\"\",'Measure Summary'!A69)","v":""},{"$f":"FTImport!B57","v":""},{"$f":"FTImport!D57","v":""},{"$f":"FTImport!F57","v":""},{"$f":"FTImport!I57","v":""},{"$f":"FTImport!J57","v":""},{"$f":"FTImport!K57","v":""},{"$f":"FTImport!G57","v":""}]
[{"$f":"FTImport!A58","v":""},{"$f":"IF('Measure Summary'!A70=\"\",\"\",'Measure Summary'!A70)","v":""},{"$f":"FTImport!B58","v":""},{"$f":"FTImport!D58","v":""},{"$f":"FTImport!F58","v":""},{"$f":"FTImport!I58","v":""},{"$f":"FTImport!J58","v":""},{"$f":"FTImport!K58","v":""},{"$f":"FTImport!G58","v":""}]
[{"$f":"FTImport!A59","v":""},{"$f":"IF('Measure Summary'!A71=\"\",\"\",'Measure Summary'!A71)","v":""},{"$f":"FTImport!B59","v":""},{"$f":"FTImport!D59","v":""},{"$f":"FTImport!F59","v":""},{"$f":"FTImport!I59","v":""},{"$f":"FTImport!J59","v":""},{"$f":"FTImport!K59","v":""},{"$f":"FTImport!G59","v":""}]
[{"$f":"FTImport!A60","v":""},{"$f":"IF('Measure Summary'!A72=\"\",\"\",'Measure Summary'!A72)","v":""},{"$f":"FTImport!B60","v":""},{"$f":"FTImport!D60","v":""},{"$f":"FTImport!F60","v":""},{"$f":"FTImport!I60","v":""},{"$f":"FTImport!J60","v":""},{"$f":"FTImport!K60","v":""},{"$f":"FTImport!G60","v":""}]
[{"$f":"FTImport!A61","v":""},{"$f":"IF('Measure Summary'!A73=\"\",\"\",'Measure Summary'!A73)","v":""},{"$f":"FTImport!B61","v":""},{"$f":"FTImport!D61","v":""},{"$f":"FTImport!F61","v":""},{"$f":"FTImport!I61","v":""},{"$f":"FTImport!J61","v":""},{"$f":"FTImport!K61","v":""},{"$f":"FTImport!G61","v":""}]
[{"$f":"FTImport!A62","v":""},{"$f":"IF('Measure Summary'!A74=\"\",\"\",'Measure Summary'!A74)","v":""},{"$f":"FTImport!B62","v":""},{"$f":"FTImport!D62","v":""},{"$f":"FTImport!F62","v":""},{"$f":"FTImport!I62","v":""},{"$f":"FTImport!J62","v":""},{"$f":"FTImport!K62","v":""},{"$f":"FTImport!G62","v":""}]
[{"$f":"FTImport!A63","v":""},{"$f":"IF('Measure Summary'!A75=\"\",\"\",'Measure Summary'!A75)","v":""},{"$f":"FTImport!B63","v":""},{"$f":"FTImport!D63","v":""},{"$f":"FTImport!F63","v":""},{"$f":"FTImport!I63","v":""},{"$f":"FTImport!J63","v":""},{"$f":"FTImport!K63","v":""},{"$f":"FTImport!G63","v":""}]
[{"$f":"FTImport!A64","v":""},{"$f":"IF('Measure Summary'!A76=\"\",\"\",'Measure Summary'!A76)","v":""},{"$f":"FTImport!B64","v":""},{"$f":"FTImport!D64","v":""},{"$f":"FTImport!F64","v":""},{"$f":"FTImport!I64","v":""},{"$f":"FTImport!J64","v":""},{"$f":"FTImport!K64","v":""},{"$f":"FTImport!G64","v":""}]
[{"$f":"FTImport!A65","v":""},{"$f":"IF('Measure Summary'!A77=\"\",\"\",'Measure Summary'!A77)","v":""},{"$f":"FTImport!B65","v":""},{"$f":"FTImport!D65","v":""},{"$f":"FTImport!F65","v":""},{"$f":"FTImport!I65","v":""},{"$f":"FTImport!J65","v":""},{"$f":"FTImport!K65","v":""},{"$f":"FTImport!G65","v":""}]
[{"$f":"FTImport!A66","v":""},{"$f":"IF('Measure Summary'!A78=\"\",\"\",'Measure Summary'!A78)","v":""},{"$f":"FTImport!B66","v":""},{"$f":"FTImport!D66","v":""},{"$f":"FTImport!F66","v":""},{"$f":"FTImport!I66","v":""},{"$f":"FTImport!J66","v":""},{"$f":"FTImport!K66","v":""},{"$f":"FTImport!G66","v":""}]
[{"$f":"FTImport!A67","v":""},{"$f":"IF('Measure Summary'!A79=\"\",\"\",'Measure Summary'!A79)","v":""},{"$f":"FTImport!B67","v":""},{"$f":"FTImport!D67","v":""},{"$f":"FTImport!F67","v":""},{"$f":"FTImport!I67","v":""},{"$f":"FTImport!J67","v":""},{"$f":"FTImport!K67","v":""},{"$f":"FTImport!G67","v":""}]
[{"$f":"FTImport!A68","v":""},{"$f":"IF('Measure Summary'!A80=\"\",\"\",'Measure Summary'!A80)","v":""},{"$f":"FTImport!B68","v":""},{"$f":"FTImport!D68","v":""},{"$f":"FTImport!F68","v":""},{"$f":"FTImport!I68","v":""},{"$f":"FTImport!J68","v":""},{"$f":"FTImport!K68","v":""},{"$f":"FTImport!G68","v":""}]
[{"$f":"FTImport!A69","v":""},{"$f":"IF('Measure Summary'!A81=\"\",\"\",'Measure Summary'!A81)","v":""},{"$f":"FTImport!B69","v":""},{"$f":"FTImport!D69","v":""},{"$f":"FTImport!F69","v":""},{"$f":"FTImport!I69","v":""},{"$f":"FTImport!J69","v":""},{"$f":"FTImport!K69","v":""},{"$f":"FTImport!G69","v":""}]
[{"$f":"FTImport!A70","v":""},{"$f":"IF('Measure Summary'!A82=\"\",\"\",'Measure Summary'!A82)","v":""},{"$f":"FTImport!B70","v":""},{"$f":"FTImport!D70","v":""},{"$f":"FTImport!F70","v":""},{"$f":"FTImport!I70","v":""},{"$f":"FTImport!J70","v":""},{"$f":"FTImport!K70","v":""},{"$f":"FTImport!G70","v":""}]
[{"$f":"FTImport!A71","v":""},{"$f":"IF('Measure Summary'!A83=\"\",\"\",'Measure Summary'!A83)","v":""},{"$f":"FTImport!B71","v":""},{"$f":"FTImport!D71","v":""},{"$f":"FTImport!F71","v":""},{"$f":"FTImport!I71","v":""},{"$f":"FTImport!J71","v":""},{"$f":"FTImport!K71","v":""},{"$f":"FTImport!G71","v":""}]
[{"$f":"FTImport!A72","v":""},{"$f":"IF('Measure Summary'!A84=\"\",\"\",'Measure Summary'!A84)","v":""},{"$f":"FTImport!B72","v":""},{"$f":"FTImport!D72","v":""},{"$f":"FTImport!F72","v":""},{"$f":"FTImport!I72","v":""},{"$f":"FTImport!J72","v":""},{"$f":"FTImport!K72","v":""},{"$f":"FTImport!G72","v":""}]
[{"$f":"FTImport!A73","v":""},{"$f":"IF('Measure Summary'!A85=\"\",\"\",'Measure Summary'!A85)","v":""},{"$f":"FTImport!B73","v":""},{"$f":"FTImport!D73","v":""},{"$f":"FTImport!F73","v":""},{"$f":"FTImport!I73","v":""},{"$f":"FTImport!J73","v":""},{"$f":"FTImport!K73","v":""},{"$f":"FTImport!G73","v":""}]
[{"$f":"FTImport!A74","v":""},{"$f":"IF('Measure Summary'!A86=\"\",\"\",'Measure Summary'!A86)","v":""},{"$f":"FTImport!B74","v":""},{"$f":"FTImport!D74","v":""},{"$f":"FTImport!F74","v":""},{"$f":"FTImport!I74","v":""},{"$f":"FTImport!J74","v":""},{"$f":"FTImport!K74","v":""},{"$f":"FTImport!G74","v":""}]
[{"$f":"FTImport!A75","v":""},{"$f":"IF('Measure Summary'!A87=\"\",\"\",'Measure Summary'!A87)","v":""},{"$f":"FTImport!B75","v":""},{"$f":"FTImport!D75","v":""},{"$f":"FTImport!F75","v":""},{"$f":"FTImport!I75","v":""},{"$f":"FTImport!J75","v":""},{"$f":"FTImport!K75","v":""},{"$f":"FTImport!G75","v":""}]
[{"$f":"FTImport!A76","v":""},{"$f":"IF('Measure Summary'!A88=\"\",\"\",'Measure Summary'!A88)","v":""},{"$f":"FTImport!B76","v":""},{"$f":"FTImport!D76","v":""},{"$f":"FTImport!F76","v":""},{"$f":"FTImport!I76","v":""},{"$f":"FTImport!J76","v":""},{"$f":"FTImport!K76","v":""},{"$f":"FTImport!G76","v":""}]
[{"$f":"FTImport!A77","v":""},{"$f":"IF('Measure Summary'!A89=\"\",\"\",'Measure Summary'!A89)","v":""},{"$f":"FTImport!B77","v":""},{"$f":"FTImport!D77","v":""},{"$f":"FTImport!F77","v":""},{"$f":"FTImport!I77","v":""},{"$f":"FTImport!J77","v":""},{"$f":"FTImport!K77","v":""},{"$f":"FTImport!G77","v":""}]
[{"$f":"FTImport!A78","v":""},{"$f":"IF('Measure Summary'!A90=\"\",\"\",'Measure Summary'!A90)","v":""},{"$f":"FTImport!B78","v":""},{"$f":"FTImport!D78","v":""},{"$f":"FTImport!F78","v":""},{"$f":"FTImport!I78","v":""},{"$f":"FTImport!J78","v":""},{"$f":"FTImport!K78","v":""},{"$f":"FTImport!G78","v":""}]
[{"$f":"FTImport!A79","v":""},{"$f":"IF('Measure Summary'!A91=\"\",\"\",'Measure Summary'!A91)","v":""},{"$f":"FTImport!B79","v":""},{"$f":"FTImport!D79","v":""},{"$f":"FTImport!F79","v":""},{"$f":"FTImport!I79","v":""},{"$f":"FTImport!J79","v":""},{"$f":"FTImport!K79","v":""},{"$f":"FTImport!G79","v":""}]
[{"$f":"FTImport!A80","v":""},{"$f":"IF('Measure Summary'!A92=\"\",\"\",'Measure Summary'!A92)","v":""},{"$f":"FTImport!B80","v":""},{"$f":"FTImport!D80","v":""},{"$f":"FTImport!F80","v":""},{"$f":"FTImport!I80","v":""},{"$f":"FTImport!J80","v":""},{"$f":"FTImport!K80","v":""},{"$f":"FTImport!G80","v":""}]
[{"$f":"FTImport!A81","v":""},{"$f":"IF('Measure Summary'!A93=\"\",\"\",'Measure Summary'!A93)","v":""},{"$f":"FTImport!B81","v":""},{"$f":"FTImport!D81","v":""},{"$f":"FTImport!F81","v":""},{"$f":"FTImport!I81","v":""},{"$f":"FTImport!J81","v":""},{"$f":"FTImport!K81","v":""},{"$f":"FTImport!G81","v":""}]
[{"$f":"FTImport!A82","v":""},{"$f":"IF('Measure Summary'!A94=\"\",\"\",'Measure Summary'!A94)","v":""},{"$f":"FTImport!B82","v":""},{"$f":"FTImport!D82","v":""},{"$f":"FTImport!F82","v":""},{"$f":"FTImport!I82","v":""},{"$f":"FTImport!J82","v":""},{"$f":"FTImport!K82","v":""},{"$f":"FTImport!G82","v":""}]
[{"$f":"FTImport!A83","v":""},{"$f":"IF('Measure Summary'!A95=\"\",\"\",'Measure Summary'!A95)","v":""},{"$f":"FTImport!B83","v":""},{"$f":"FTImport!D83","v":""},{"$f":"FTImport!F83","v":""},{"$f":"FTImport!I83","v":""},{"$f":"FTImport!J83","v":""},{"$f":"FTImport!K83","v":""},{"$f":"FTImport!G83","v":""}]
[{"$f":"FTImport!A84","v":""},{"$f":"IF('Measure Summary'!A96=\"\",\"\",'Measure Summary'!A96)","v":""},{"$f":"FTImport!B84","v":""},{"$f":"FTImport!D84","v":""},{"$f":"FTImport!F84","v":""},{"$f":"FTImport!I84","v":""},{"$f":"FTImport!J84","v":""},{"$f":"FTImport!K84","v":""},{"$f":"FTImport!G84","v":""}]
[{"$f":"FTImport!A85","v":""},{"$f":"IF('Measure Summary'!A97=\"\",\"\",'Measure Summary'!A97)","v":""},{"$f":"FTImport!B85","v":""},{"$f":"FTImport!D85","v":""},{"$f":"FTImport!F85","v":""},{"$f":"FTImport!I85","v":""},{"$f":"FTImport!J85","v":""},{"$f":"FTImport!K85","v":""},{"$f":"FTImport!G85","v":""}]
[{"$f":"FTImport!A86","v":""},{"$f":"IF('Measure Summary'!A98=\"\",\"\",'Measure Summary'!A98)","v":""},{"$f":"FTImport!B86","v":""},{"$f":"FTImport!D86","v":""},{"$f":"FTImport!F86","v":""},{"$f":"FTImport!I86","v":""},{"$f":"FTImport!J86","v":""},{"$f":"FTImport!K86","v":""},{"$f":"FTImport!G86","v":""}]
[{"$f":"FTImport!A87","v":""},{"$f":"IF('Measure Summary'!A99=\"\",\"\",'Measure Summary'!A99)","v":""},{"$f":"FTImport!B87","v":""},{"$f":"FTImport!D87","v":""},{"$f":"FTImport!F87","v":""},{"$f":"FTImport!I87","v":""},{"$f":"FTImport!J87","v":""},{"$f":"FTImport!K87","v":""},{"$f":"FTImport!G87","v":""}]
[{"$f":"FTImport!A88","v":""},{"$f":"IF('Measure Summary'!A100=\"\",\"\",'Measure Summary'!A100)","v":""},{"$f":"FTImport!B88","v":""},{"$f":"FTImport!D88","v":""},{"$f":"FTImport!F88","v":""},{"$f":"FTImport!I88","v":""},{"$f":"FTImport!J88","v":""},{"$f":"FTImport!K88","v":""},{"$f":"FTImport!G88","v":""}]
[{"$f":"FTImport!A89","v":""},{"$f":"IF('Measure Summary'!A101=\"\",\"\",'Measure Summary'!A101)","v":""},{"$f":"FTImport!B89","v":""},{"$f":"FTImport!D89","v":""},{"$f":"FTImport!F89","v":""},{"$f":"FTImport!I89","v":""},{"$f":"FTImport!J89","v":""},{"$f":"FTImport!K89","v":""},{"$f":"FTImport!G89","v":""}]
[{"$f":"FTImport!A90","v":""},{"$f":"IF('Measure Summary'!A102=\"\",\"\",'Measure Summary'!A102)","v":""},{"$f":"FTImport!B90","v":""},{"$f":"FTImport!D90","v":""},{"$f":"FTImport!F90","v":""},{"$f":"FTImport!I90","v":""},{"$f":"FTImport!J90","v":""},{"$f":"FTImport!K90","v":""},{"$f":"FTImport!G90","v":""}]
[{"$f":"FTImport!A91","v":""},{"$f":"IF('Measure Summary'!A103=\"\",\"\",'Measure Summary'!A103)","v":""},{"$f":"FTImport!B91","v":""},{"$f":"FTImport!D91","v":""},{"$f":"FTImport!F91","v":""},{"$f":"FTImport!I91","v":""},{"$f":"FTImport!J91","v":""},{"$f":"FTImport!K91","v":""},{"$f":"FTImport!G91","v":""}]
[{"$f":"FTImport!A92","v":""},{"$f":"IF('Measure Summary'!A104=\"\",\"\",'Measure Summary'!A104)","v":""},{"$f":"FTImport!B92","v":""},{"$f":"FTImport!D92","v":""},{"$f":"FTImport!F92","v":""},{"$f":"FTImport!I92","v":""},{"$f":"FTImport!J92","v":""},{"$f":"FTImport!K92","v":""},{"$f":"FTImport!G92","v":""}]
[{"$f":"FTImport!A93","v":""},{"$f":"IF('Measure Summary'!A105=\"\",\"\",'Measure Summary'!A105)","v":""},{"$f":"FTImport!B93","v":""},{"$f":"FTImport!D93","v":""},{"$f":"FTImport!F93","v":""},{"$f":"FTImport!I93","v":""},{"$f":"FTImport!J93","v":""},{"$f":"FTImport!K93","v":""},{"$f":"FTImport!G93","v":""}]
[{"$f":"FTImport!A94","v":""},{"$f":"IF('Measure Summary'!A106=\"\",\"\",'Measure Summary'!A106)","v":""},{"$f":"FTImport!B94","v":""},{"$f":"FTImport!D94","v":""},{"$f":"FTImport!F94","v":""},{"$f":"FTImport!I94","v":""},{"$f":"FTImport!J94","v":""},{"$f":"FTImport!K94","v":""},{"$f":"FTImport!G94","v":""}]
[{"$f":"FTImport!A95","v":""},{"$f":"IF('Measure Summary'!A107=\"\",\"\",'Measure Summary'!A107)","v":""},{"$f":"FTImport!B95","v":""},{"$f":"FTImport!D95","v":""},{"$f":"FTImport!F95","v":""},{"$f":"FTImport!I95","v":""},{"$f":"FTImport!J95","v":""},{"$f":"FTImport!K95","v":""},{"$f":"FTImport!G95","v":""}]
[{"$f":"FTImport!A96","v":""},{"$f":"IF('Measure Summary'!A108=\"\",\"\",'Measure Summary'!A108)","v":""},{"$f":"FTImport!B96","v":""},{"$f":"FTImport!D96","v":""},{"$f":"FTImport!F96","v":""},{"$f":"FTImport!I96","v":""},{"$f":"FTImport!J96","v":""},{"$f":"FTImport!K96","v":""},{"$f":"FTImport!G96","v":""}]
[{"$f":"FTImport!A97","v":""},{"$f":"IF('Measure Summary'!A109=\"\",\"\",'Measure Summary'!A109)","v":""},{"$f":"FTImport!B97","v":""},{"$f":"FTImport!D97","v":""},{"$f":"FTImport!F97","v":""},{"$f":"FTImport!I97","v":""},{"$f":"FTImport!J97","v":""},{"$f":"FTImport!K97","v":""},{"$f":"FTImport!G97","v":""}]
[{"$f":"FTImport!A98","v":""},{"$f":"IF('Measure Summary'!A110=\"\",\"\",'Measure Summary'!A110)","v":""},{"$f":"FTImport!B98","v":""},{"$f":"FTImport!D98","v":""},{"$f":"FTImport!F98","v":""},{"$f":"FTImport!I98","v":""},{"$f":"FTImport!J98","v":""},{"$f":"FTImport!K98","v":""},{"$f":"FTImport!G98","v":""}]
[{"$f":"FTImport!A99","v":""},{"$f":"IF('Measure Summary'!A111=\"\",\"\",'Measure Summary'!A111)","v":""},{"$f":"FTImport!B99","v":""},{"$f":"FTImport!D99","v":""},{"$f":"FTImport!F99","v":""},{"$f":"FTImport!I99","v":""},{"$f":"FTImport!J99","v":""},{"$f":"FTImport!K99","v":""},{"$f":"FTImport!G99","v":""}]
[{"$f":"FTImport!A100","v":""},{"$f":"IF('Measure Summary'!A112=\"\",\"\",'Measure Summary'!A112)","v":""},{"$f":"FTImport!B100","v":""},{"$f":"FTImport!D100","v":""},{"$f":"FTImport!F100","v":""},{"$f":"FTImport!I100","v":""},{"$f":"FTImport!J100","v":""},{"$f":"FTImport!K100","v":""},{"$f":"FTImport!G100","v":""}]
[{"$f":"FTImport!A101","v":""},{"$f":"IF('Measure Summary'!A113=\"\",\"\",'Measure Summary'!A113)","v":""},{"$f":"FTImport!B101","v":""},{"$f":"FTImport!D101","v":""},{"$f":"FTImport!F101","v":""},{"$f":"FTImport!I101","v":""},{"$f":"FTImport!J101","v":""},{"$f":"FTImport!K101","v":""},{"$f":"FTImport!G101","v":""}]
[{"$f":"FTImport!A102","v":""},{"$f":"IF('Measure Summary'!A114=\"\",\"\",'Measure Summary'!A114)","v":""},{"$f":"FTImport!B102","v":""},{"$f":"FTImport!D102","v":""},{"$f":"FTImport!F102","v":""},{"$f":"FTImport!I102","v":""},{"$f":"FTImport!J102","v":""},{"$f":"FTImport!K102","v":""},{"$f":"FTImport!G102","v":""}]
[{"$f":"FTImport!A103","v":""},{"$f":"IF('Measure Summary'!A115=\"\",\"\",'Measure Summary'!A115)","v":""},{"$f":"FTImport!B103","v":""},{"$f":"FTImport!D103","v":""},{"$f":"FTImport!F103","v":""},{"$f":"FTImport!I103","v":""},{"$f":"FTImport!J103","v":""},{"$f":"FTImport!K103","v":""},{"$f":"FTImport!G103","v":""}]
[{"$f":"FTImport!A104","v":""},{"$f":"IF('Measure Summary'!A116=\"\",\"\",'Measure Summary'!A116)","v":""},{"$f":"FTImport!B104","v":""},{"$f":"FTImport!D104","v":""},{"$f":"FTImport!F104","v":""},{"$f":"FTImport!I104","v":""},{"$f":"FTImport!J104","v":""},{"$f":"FTImport!K104","v":""},{"$f":"FTImport!G104","v":""}]
[{"$f":"FTImport!A105","v":""},{"$f":"IF('Measure Summary'!A117=\"\",\"\",'Measure Summary'!A117)","v":""},{"$f":"FTImport!B105","v":""},{"$f":"FTImport!D105","v":""},{"$f":"FTImport!F105","v":""},{"$f":"FTImport!I105","v":""},{"$f":"FTImport!J105","v":""},{"$f":"FTImport!K105","v":""},{"$f":"FTImport!G105","v":""}]
[{"$f":"FTImport!A106","v":""},{"$f":"IF('Measure Summary'!A118=\"\",\"\",'Measure Summary'!A118)","v":""},{"$f":"FTImport!B106","v":""},{"$f":"FTImport!D106","v":""},{"$f":"FTImport!F106","v":""},{"$f":"FTImport!I106","v":""},{"$f":"FTImport!J106","v":""},{"$f":"FTImport!K106","v":""},{"$f":"FTImport!G106","v":""}]
[{"$f":"FTImport!A107","v":""},{"$f":"IF('Measure Summary'!A119=\"\",\"\",'Measure Summary'!A119)","v":""},{"$f":"FTImport!B107","v":""},{"$f":"FTImport!D107","v":""},{"$f":"FTImport!F107","v":""},{"$f":"FTImport!I107","v":""},{"$f":"FTImport!J107","v":""},{"$f":"FTImport!K107","v":""},{"$f":"FTImport!G107","v":""}]
[{"$f":"FTImport!A108","v":""},{"$f":"IF('Measure Summary'!A120=\"\",\"\",'Measure Summary'!A120)","v":""},{"$f":"FTImport!B108","v":""},{"$f":"FTImport!D108","v":""},{"$f":"FTImport!F108","v":""},{"$f":"FTImport!I108","v":""},{"$f":"FTImport!J108","v":""},{"$f":"FTImport!K108","v":""},{"$f":"FTImport!G108","v":""}]
[{"$f":"FTImport!A109","v":""},{"$f":"IF('Measure Summary'!A121=\"\",\"\",'Measure Summary'!A121)","v":""},{"$f":"FTImport!B109","v":""},{"$f":"FTImport!D109","v":""},{"$f":"FTImport!F109","v":""},{"$f":"FTImport!I109","v":""},{"$f":"FTImport!J109","v":""},{"$f":"FTImport!K109","v":""},{"$f":"FTImport!G109","v":""}]
[{"$f":"FTImport!A110","v":""},{"$f":"IF('Measure Summary'!A122=\"\",\"\",'Measure Summary'!A122)","v":""},{"$f":"FTImport!B110","v":""},{"$f":"FTImport!D110","v":""},{"$f":"FTImport!F110","v":""},{"$f":"FTImport!I110","v":""},{"$f":"FTImport!J110","v":""},{"$f":"FTImport!K110","v":""},{"$f":"FTImport!G110","v":""}]
[{"$f":"FTImport!A111","v":""},{"$f":"IF('Measure Summary'!A123=\"\",\"\",'Measure Summary'!A123)","v":""},{"$f":"FTImport!B111","v":""},{"$f":"FTImport!D111","v":""},{"$f":"FTImport!F111","v":""},{"$f":"FTImport!I111","v":""},{"$f":"FTImport!J111","v":""},{"$f":"FTImport!K111","v":""},{"$f":"FTImport!G111","v":""}]
[{"$f":"FTImport!A112","v":""},{"$f":"IF('Measure Summary'!A124=\"\",\"\",'Measure Summary'!A124)","v":""},{"$f":"FTImport!B112","v":""},{"$f":"FTImport!D112","v":""},{"$f":"FTImport!F112","v":""},{"$f":"FTImport!I112","v":""},{"$f":"FTImport!J112","v":""},{"$f":"FTImport!K112","v":""},{"$f":"FTImport!G112","v":""}]
[]
[]
[]
[]
[]
[]
[]
[]
[]
[]
[]
[]
[]
[]
[]
[]
["AEG Export Data"]
["Measure #","Import?","Quantity","Equipment_Cost","Elec_Util_cust_incentive","kwh_impact","LP_Ele","Date_Installed"]
[{"$f":"'PT Summary'!A8","v":""},{"$f":"IF(D137=\"\",\"No\",IF(D137>=0,\"Yes\",\"No\"))","v":"No"},{"$f":"'PT Summary'!C8","v":""},{"$f":"'PT Summary'!D8","v":""},{"$f":"'PT Summary'!E8","v":""},{"$f":"'PT Summary'!F8","v":""},{"$f":"'PT Summary'!H8","v":""},{"$f":"TEXT('PT Summary'!I8,\"MM/DD/YYYY\")","v":""}]
[{"$f":"'PT Summary'!A9","v":""},{"$f":"IF(D138=\"\",\"No\",IF(D138>=0,\"Yes\",\"No\"))","v":"No"},{"$f":"'PT Summary'!C9","v":""},{"$f":"'PT Summary'!D9","v":""},{"$f":"'PT Summary'!E9","v":""},{"$f":"'PT Summary'!F9","v":""},{"$f":"'PT Summary'!H9","v":""},{"$f":"TEXT('PT Summary'!I9,\"MM/DD/YYYY\")","v":""}]
[{"$f":"'PT Summary'!A10","v":""},"No",{"$f":"'PT Summary'!C10","v":""},{"$f":"'PT Summary'!D10","v":""},{"$f":"'PT Summary'!E10","v":""},{"$f":"'PT Summary'!F10","v":""},{"$f":"'PT Summary'!H10","v":""},{"$f":"TEXT('PT Summary'!I10,\"MM/DD/YYYY\")","v":""}]
[{"$f":"'PT Summary'!A11","v":""},"No",{"$f":"'PT Summary'!C11","v":""},{"$f":"'PT Summary'!D11","v":""},{"$f":"'PT Summary'!E11","v":""},{"$f":"'PT Summary'!F11","v":""},{"$f":"'PT Summary'!H11","v":""},{"$f":"TEXT('PT Summary'!I11,\"MM/DD/YYYY\")","v":""}]
[{"$f":"'PT Summary'!A12","v":""},"No",{"$f":"'PT Summary'!C12","v":""},{"$f":"'PT Summary'!D12","v":""},{"$f":"'PT Summary'!E12","v":""},{"$f":"'PT Summary'!F12","v":""},{"$f":"'PT Summary'!H12","v":""},{"$f":"TEXT('PT Summary'!I12,\"MM/DD/YYYY\")","v":""}]
[{"$f":"'PT Summary'!A13","v":""},"No",{"$f":"'PT Summary'!C13","v":""},{"$f":"'PT Summary'!D13","v":""},{"$f":"'PT Summary'!E13","v":""},{"$f":"'PT Summary'!F13","v":""},{"$f":"'PT Summary'!H13","v":""},{"$f":"TEXT('PT Summary'!I13,\"MM/DD/YYYY\")","v":""}]
[{"$f":"'PT Summary'!A14","v":""},"No",{"$f":"'PT Summary'!C14","v":""},{"$f":"'PT Summary'!D14","v":""},{"$f":"'PT Summary'!E14","v":""},{"$f":"'PT Summary'!F14","v":""},{"$f":"'PT Summary'!H14","v":""},{"$f":"TEXT('PT Summary'!I14,\"MM/DD/YYYY\")","v":""}]
[{"$f":"'PT Summary'!A15","v":""},"No",{"$f":"'PT Summary'!C15","v":""},{"$f":"'PT Summary'!D15","v":""},{"$f":"'PT Summary'!E15","v":""},{"$f":"'PT Summary'!F15","v":""},{"$f":"'PT Summary'!H15","v":""},{"$f":"TEXT('PT Summary'!I15,\"MM/DD/YYYY\")","v":""}]
[{"$f":"'PT Summary'!A16","v":""},"No",{"$f":"'PT Summary'!C16","v":""},{"$f":"'PT Summary'!D16","v":""},{"$f":"'PT Summary'!E16","v":""},{"$f":"'PT Summary'!F16","v":""},{"$f":"'PT Summary'!H16","v":""},{"$f":"TEXT('PT Summary'!I16,\"MM/DD/YYYY\")","v":""}]
[{"$f":"'PT Summary'!A17","v":""},"No",{"$f":"'PT Summary'!C17","v":""},{"$f":"'PT Summary'!D17","v":""},{"$f":"'PT Summary'!E17","v":""},{"$f":"'PT Summary'!F17","v":""},{"$f":"'PT Summary'!H17","v":""},{"$f":"TEXT('PT Summary'!I17,\"MM/DD/YYYY\")","v":""}]
[{"$f":"'PT Summary'!A18","v":""},"No",{"$f":"'PT Summary'!C18","v":""},{"$f":"'PT Summary'!D18","v":""},{"$f":"'PT Summary'!E18","v":""},{"$f":"'PT Summary'!F18","v":""},{"$f":"'PT Summary'!H18","v":""},{"$f":"TEXT('PT Summary'!I18,\"MM/DD/YYYY\")","v":""}]
[{"$f":"'PT Summary'!A19","v":""},"No",{"$f":"'PT Summary'!C19","v":""},{"$f":"'PT Summary'!D19","v":""},{"$f":"'PT Summary'!E19","v":""},{"$f":"'PT Summary'!F19","v":""},{"$f":"'PT Summary'!H19","v":""},{"$f":"TEXT('PT Summary'!I19,\"MM/DD/YYYY\")","v":""}]
[{"$f":"'PT Summary'!A20","v":""},"No",{"$f":"'PT Summary'!C20","v":""},{"$f":"'PT Summary'!D20","v":""},{"$f":"'PT Summary'!E20","v":""},{"$f":"'PT Summary'!F20","v":""},{"$f":"'PT Summary'!H20","v":""},{"$f":"TEXT('PT Summary'!I20,\"MM/DD/YYYY\")","v":""}]
[{"$f":"'PT Summary'!A21","v":""},"No",{"$f":"'PT Summary'!C21","v":""},{"$f":"'PT Summary'!D21","v":""},{"$f":"'PT Summary'!E21","v":""},{"$f":"'PT Summary'!F21","v":""},{"$f":"'PT Summary'!H21","v":""},{"$f":"TEXT('PT Summary'!I21,\"MM/DD/YYYY\")","v":""}]
[{"$f":"'PT Summary'!A22","v":""},"No",{"$f":"'PT Summary'!C22","v":""},{"$f":"'PT Summary'!D22","v":""},{"$f":"'PT Summary'!E22","v":""},{"$f":"'PT Summary'!F22","v":""},{"$f":"'PT Summary'!H22","v":""},{"$f":"TEXT('PT Summary'!I22,\"MM/DD/YYYY\")","v":""}]
[{"$f":"'PT Summary'!A23","v":""},"No",{"$f":"'PT Summary'!C23","v":""},{"$f":"'PT Summary'!D23","v":""},{"$f":"'PT Summary'!E23","v":""},{"$f":"'PT Summary'!F23","v":""},{"$f":"'PT Summary'!H23","v":""},{"$f":"TEXT('PT Summary'!I23,\"MM/DD/YYYY\")","v":""}]
[{"$f":"'PT Summary'!A24","v":""},"No",{"$f":"'PT Summary'!C24","v":""},{"$f":"'PT Summary'!D24","v":""},{"$f":"'PT Summary'!E24","v":""},{"$f":"'PT Summary'!F24","v":""},{"$f":"'PT Summary'!H24","v":""},{"$f":"TEXT('PT Summary'!I24,\"MM/DD/YYYY\")","v":""}]
[{"$f":"'PT Summary'!A25","v":""},"No",{"$f":"'PT Summary'!C25","v":""},{"$f":"'PT Summary'!D25","v":""},{"$f":"'PT Summary'!E25","v":""},{"$f":"'PT Summary'!F25","v":""},{"$f":"'PT Summary'!H25","v":""},{"$f":"TEXT('PT Summary'!I25,\"MM/DD/YYYY\")","v":""}]
[{"$f":"'PT Summary'!A26","v":""},"No",{"$f":"'PT Summary'!C26","v":""},{"$f":"'PT Summary'!D26","v":""},{"$f":"'PT Summary'!E26","v":""},{"$f":"'PT Summary'!F26","v":""},{"$f":"'PT Summary'!H26","v":""},{"$f":"TEXT('PT Summary'!I26,\"MM/DD/YYYY\")","v":""}]
[{"$f":"'PT Summary'!A27","v":""},"No",{"$f":"'PT Summary'!C27","v":""},{"$f":"'PT Summary'!D27","v":""},{"$f":"'PT Summary'!E27","v":""},{"$f":"'PT Summary'!F27","v":""},{"$f":"'PT Summary'!H27","v":""},{"$f":"TEXT('PT Summary'!I27,\"MM/DD/YYYY\")","v":""}]
[{"$f":"'PT Summary'!A28","v":""},"No",{"$f":"'PT Summary'!C28","v":""},{"$f":"'PT Summary'!D28","v":""},{"$f":"'PT Summary'!E28","v":""},{"$f":"'PT Summary'!F28","v":""},{"$f":"'PT Summary'!H28","v":""},{"$f":"TEXT('PT Summary'!I28,\"MM/DD/YYYY\")","v":""}]
[{"$f":"'PT Summary'!A29","v":""},"No",{"$f":"'PT Summary'!C29","v":""},{"$f":"'PT Summary'!D29","v":""},{"$f":"'PT Summary'!E29","v":""},{"$f":"'PT Summary'!F29","v":""},{"$f":"'PT Summary'!H29","v":""},{"$f":"TEXT('PT Summary'!I29,\"MM/DD/YYYY\")","v":""}]
[{"$f":"'PT Summary'!A30","v":""},"No",{"$f":"'PT Summary'!C30","v":""},{"$f":"'PT Summary'!D30","v":""},{"$f":"'PT Summary'!E30","v":""},{"$f":"'PT Summary'!F30","v":""},{"$f":"'PT Summary'!H30","v":""},{"$f":"TEXT('PT Summary'!I30,\"MM/DD/YYYY\")","v":""}]
[{"$f":"'PT Summary'!A31","v":""},"No",{"$f":"'PT Summary'!C31","v":""},{"$f":"'PT Summary'!D31","v":""},{"$f":"'PT Summary'!E31","v":""},{"$f":"'PT Summary'!F31","v":""},{"$f":"'PT Summary'!H31","v":""},{"$f":"TEXT('PT Summary'!I31,\"MM/DD/YYYY\")","v":""}]
[{"$f":"'PT Summary'!A32","v":""},"No",{"$f":"'PT Summary'!C32","v":""},{"$f":"'PT Summary'!D32","v":""},{"$f":"'PT Summary'!E32","v":""},{"$f":"'PT Summary'!F32","v":""},{"$f":"'PT Summary'!H32","v":""},{"$f":"TEXT('PT Summary'!I32,\"MM/DD/YYYY\")","v":""}]
[{"$f":"'PT Summary'!A33","v":""},"No",{"$f":"'PT Summary'!C33","v":""},{"$f":"'PT Summary'!D33","v":""},{"$f":"'PT Summary'!E33","v":""},{"$f":"'PT Summary'!F33","v":""},{"$f":"'PT Summary'!H33","v":""},{"$f":"TEXT('PT Summary'!I33,\"MM/DD/YYYY\")","v":""}]
[{"$f":"'PT Summary'!A34","v":""},"No",{"$f":"'PT Summary'!C34","v":""},{"$f":"'PT Summary'!D34","v":""},{"$f":"'PT Summary'!E34","v":""},{"$f":"'PT Summary'!F34","v":""},{"$f":"'PT Summary'!H34","v":""},{"$f":"TEXT('PT Summary'!I34,\"MM/DD/YYYY\")","v":""}]
[{"$f":"'PT Summary'!A35","v":""},"No",{"$f":"'PT Summary'!C35","v":""},{"$f":"'PT Summary'!D35","v":""},{"$f":"'PT Summary'!E35","v":""},{"$f":"'PT Summary'!F35","v":""},{"$f":"'PT Summary'!H35","v":""},{"$f":"TEXT('PT Summary'!I35,\"MM/DD/YYYY\")","v":""}]
[{"$f":"'PT Summary'!A36","v":""},"No",{"$f":"'PT Summary'!C36","v":""},{"$f":"'PT Summary'!D36","v":""},{"$f":"'PT Summary'!E36","v":""},{"$f":"'PT Summary'!F36","v":""},{"$f":"'PT Summary'!H36","v":""},{"$f":"TEXT('PT Summary'!I36,\"MM/DD/YYYY\")","v":""}]
[{"$f":"'PT Summary'!A37","v":""},"No",{"$f":"'PT Summary'!C37","v":""},{"$f":"'PT Summary'!D37","v":""},{"$f":"'PT Summary'!E37","v":""},{"$f":"'PT Summary'!F37","v":""},{"$f":"'PT Summary'!H37","v":""},{"$f":"TEXT('PT Summary'!I37,\"MM/DD/YYYY\")","v":""}]
[{"$f":"'PT Summary'!A38","v":""},"No",{"$f":"'PT Summary'!C38","v":""},{"$f":"'PT Summary'!D38","v":""},{"$f":"'PT Summary'!E38","v":""},{"$f":"'PT Summary'!F38","v":""},{"$f":"'PT Summary'!H38","v":""},{"$f":"TEXT('PT Summary'!I38,\"MM/DD/YYYY\")","v":""}]
[{"$f":"'PT Summary'!A39","v":""},"No",{"$f":"'PT Summary'!C39","v":""},{"$f":"'PT Summary'!D39","v":""},{"$f":"'PT Summary'!E39","v":""},{"$f":"'PT Summary'!F39","v":""},{"$f":"'PT Summary'!H39","v":""},{"$f":"TEXT('PT Summary'!I39,\"MM/DD/YYYY\")","v":""}]
[{"$f":"'PT Summary'!A40","v":""},"No",{"$f":"'PT Summary'!C40","v":""},{"$f":"'PT Summary'!D40","v":""},{"$f":"'PT Summary'!E40","v":""},{"$f":"'PT Summary'!F40","v":""},{"$f":"'PT Summary'!H40","v":""},{"$f":"TEXT('PT Summary'!I40,\"MM/DD/YYYY\")","v":""}]
[{"$f":"'PT Summary'!A41","v":""},"No",{"$f":"'PT Summary'!C41","v":""},{"$f":"'PT Summary'!D41","v":""},{"$f":"'PT Summary'!E41","v":""},{"$f":"'PT Summary'!F41","v":""},{"$f":"'PT Summary'!H41","v":""},{"$f":"TEXT('PT Summary'!I41,\"MM/DD/YYYY\")","v":""}]
[{"$f":"'PT Summary'!A42","v":""},"No",{"$f":"'PT Summary'!C42","v":""},{"$f":"'PT Summary'!D42","v":""},{"$f":"'PT Summary'!E42","v":""},{"$f":"'PT Summary'!F42","v":""},{"$f":"'PT Summary'!H42","v":""},{"$f":"TEXT('PT Summary'!I42,\"MM/DD/YYYY\")","v":""}]
[{"$f":"'PT Summary'!A43","v":""},"No",{"$f":"'PT Summary'!C43","v":""},{"$f":"'PT Summary'!D43","v":""},{"$f":"'PT Summary'!E43","v":""},{"$f":"'PT Summary'!F43","v":""},{"$f":"'PT Summary'!H43","v":""},{"$f":"TEXT('PT Summary'!I43,\"MM/DD/YYYY\")","v":""}]
[{"$f":"'PT Summary'!A44","v":""},"No",{"$f":"'PT Summary'!C44","v":""},{"$f":"'PT Summary'!D44","v":""},{"$f":"'PT Summary'!E44","v":""},{"$f":"'PT Summary'!F44","v":""},{"$f":"'PT Summary'!H44","v":""},{"$f":"TEXT('PT Summary'!I44,\"MM/DD/YYYY\")","v":""}]
[{"$f":"'PT Summary'!A45","v":""},"No",{"$f":"'PT Summary'!C45","v":""},{"$f":"'PT Summary'!D45","v":""},{"$f":"'PT Summary'!E45","v":""},{"$f":"'PT Summary'!F45","v":""},{"$f":"'PT Summary'!H45","v":""},{"$f":"TEXT('PT Summary'!I45,\"MM/DD/YYYY\")","v":""}]
[{"$f":"'PT Summary'!A46","v":""},"No",{"$f":"'PT Summary'!C46","v":""},{"$f":"'PT Summary'!D46","v":""},{"$f":"'PT Summary'!E46","v":""},{"$f":"'PT Summary'!F46","v":""},{"$f":"'PT Summary'!H46","v":""},{"$f":"TEXT('PT Summary'!I46,\"MM/DD/YYYY\")","v":""}]
[{"$f":"'PT Summary'!A47","v":""},"No",{"$f":"'PT Summary'!C47","v":""},{"$f":"'PT Summary'!D47","v":""},{"$f":"'PT Summary'!E47","v":""},{"$f":"'PT Summary'!F47","v":""},{"$f":"'PT Summary'!H47","v":""},{"$f":"TEXT('PT Summary'!I47,\"MM/DD/YYYY\")","v":""}]
[{"$f":"'PT Summary'!A48","v":""},"No",{"$f":"'PT Summary'!C48","v":""},{"$f":"'PT Summary'!D48","v":""},{"$f":"'PT Summary'!E48","v":""},{"$f":"'PT Summary'!F48","v":""},{"$f":"'PT Summary'!H48","v":""},{"$f":"TEXT('PT Summary'!I48,\"MM/DD/YYYY\")","v":""}]
[{"$f":"'PT Summary'!A49","v":""},"No",{"$f":"'PT Summary'!C49","v":""},{"$f":"'PT Summary'!D49","v":""},{"$f":"'PT Summary'!E49","v":""},{"$f":"'PT Summary'!F49","v":""},{"$f":"'PT Summary'!H49","v":""},{"$f":"TEXT('PT Summary'!I49,\"MM/DD/YYYY\")","v":""}]
[{"$f":"'PT Summary'!A50","v":""},"No",{"$f":"'PT Summary'!C50","v":""},{"$f":"'PT Summary'!D50","v":""},{"$f":"'PT Summary'!E50","v":""},{"$f":"'PT Summary'!F50","v":""},{"$f":"'PT Summary'!H50","v":""},{"$f":"TEXT('PT Summary'!I50,\"MM/DD/YYYY\")","v":""}]
[{"$f":"'PT Summary'!A51","v":""},"No",{"$f":"'PT Summary'!C51","v":""},{"$f":"'PT Summary'!D51","v":""},{"$f":"'PT Summary'!E51","v":""},{"$f":"'PT Summary'!F51","v":""},{"$f":"'PT Summary'!H51","v":""},{"$f":"TEXT('PT Summary'!I51,\"MM/DD/YYYY\")","v":""}]
[{"$f":"'PT Summary'!A52","v":""},"No",{"$f":"'PT Summary'!C52","v":""},{"$f":"'PT Summary'!D52","v":""},{"$f":"'PT Summary'!E52","v":""},{"$f":"'PT Summary'!F52","v":""},{"$f":"'PT Summary'!H52","v":""},{"$f":"TEXT('PT Summary'!I52,\"MM/DD/YYYY\")","v":""}]
[{"$f":"'PT Summary'!A53","v":""},"No",{"$f":"'PT Summary'!C53","v":""},{"$f":"'PT Summary'!D53","v":""},{"$f":"'PT Summary'!E53","v":""},{"$f":"'PT Summary'!F53","v":""},{"$f":"'PT Summary'!H53","v":""},{"$f":"TEXT('PT Summary'!I53,\"MM/DD/YYYY\")","v":""}]
[{"$f":"'PT Summary'!A54","v":""},"No",{"$f":"'PT Summary'!C54","v":""},{"$f":"'PT Summary'!D54","v":""},{"$f":"'PT Summary'!E54","v":""},{"$f":"'PT Summary'!F54","v":""},{"$f":"'PT Summary'!H54","v":""},{"$f":"TEXT('PT Summary'!I54,\"MM/DD/YYYY\")","v":""}]
[{"$f":"'PT Summary'!A55","v":""},"No",{"$f":"'PT Summary'!C55","v":""},{"$f":"'PT Summary'!D55","v":""},{"$f":"'PT Summary'!E55","v":""},{"$f":"'PT Summary'!F55","v":""},{"$f":"'PT Summary'!H55","v":""},{"$f":"TEXT('PT Summary'!I55,\"MM/DD/YYYY\")","v":""}]
[{"$f":"'PT Summary'!A56","v":""},"No",{"$f":"'PT Summary'!C56","v":""},{"$f":"'PT Summary'!D56","v":""},{"$f":"'PT Summary'!E56","v":""},{"$f":"'PT Summary'!F56","v":""},{"$f":"'PT Summary'!H56","v":""},{"$f":"TEXT('PT Summary'!I56,\"MM/DD/YYYY\")","v":""}]
[{"$f":"'PT Summary'!A57","v":""},"No",{"$f":"'PT Summary'!C57","v":""},{"$f":"'PT Summary'!D57","v":""},{"$f":"'PT Summary'!E57","v":""},{"$f":"'PT Summary'!F57","v":""},{"$f":"'PT Summary'!H57","v":""},{"$f":"TEXT('PT Summary'!I57,\"MM/DD/YYYY\")","v":""}]
[{"$f":"'PT Summary'!A58","v":""},"No",{"$f":"'PT Summary'!C58","v":""},{"$f":"'PT Summary'!D58","v":""},{"$f":"'PT Summary'!E58","v":""},{"$f":"'PT Summary'!F58","v":""},{"$f":"'PT Summary'!H58","v":""},{"$f":"TEXT('PT Summary'!I58,\"MM/DD/YYYY\")","v":""}]
[{"$f":"'PT Summary'!A59","v":""},"No",{"$f":"'PT Summary'!C59","v":""},{"$f":"'PT Summary'!D59","v":""},{"$f":"'PT Summary'!E59","v":""},{"$f":"'PT Summary'!F59","v":""},{"$f":"'PT Summary'!H59","v":""},{"$f":"TEXT('PT Summary'!I59,\"MM/DD/YYYY\")","v":""}]
[{"$f":"'PT Summary'!A60","v":""},"No",{"$f":"'PT Summary'!C60","v":""},{"$f":"'PT Summary'!D60","v":""},{"$f":"'PT Summary'!E60","v":""},{"$f":"'PT Summary'!F60","v":""},{"$f":"'PT Summary'!H60","v":""},{"$f":"TEXT('PT Summary'!I60,\"MM/DD/YYYY\")","v":""}]
[{"$f":"'PT Summary'!A61","v":""},"No",{"$f":"'PT Summary'!C61","v":""},{"$f":"'PT Summary'!D61","v":""},{"$f":"'PT Summary'!E61","v":""},{"$f":"'PT Summary'!F61","v":""},{"$f":"'PT Summary'!H61","v":""},{"$f":"TEXT('PT Summary'!I61,\"MM/DD/YYYY\")","v":""}]
[{"$f":"'PT Summary'!A62","v":""},"No",{"$f":"'PT Summary'!C62","v":""},{"$f":"'PT Summary'!D62","v":""},{"$f":"'PT Summary'!E62","v":""},{"$f":"'PT Summary'!F62","v":""},{"$f":"'PT Summary'!H62","v":""},{"$f":"TEXT('PT Summary'!I62,\"MM/DD/YYYY\")","v":""}]
[{"$f":"'PT Summary'!A63","v":""},"No",{"$f":"'PT Summary'!C63","v":""},{"$f":"'PT Summary'!D63","v":""},{"$f":"'PT Summary'!E63","v":""},{"$f":"'PT Summary'!F63","v":""},{"$f":"'PT Summary'!H63","v":""},{"$f":"TEXT('PT Summary'!I63,\"MM/DD/YYYY\")","v":""}]
[{"$f":"'PT Summary'!A64","v":""},"No",{"$f":"'PT Summary'!C64","v":""},{"$f":"'PT Summary'!D64","v":""},{"$f":"'PT Summary'!E64","v":""},{"$f":"'PT Summary'!F64","v":""},{"$f":"'PT Summary'!H64","v":""},{"$f":"TEXT('PT Summary'!I64,\"MM/DD/YYYY\")","v":""}]
[{"$f":"'PT Summary'!A65","v":""},"No",{"$f":"'PT Summary'!C65","v":""},{"$f":"'PT Summary'!D65","v":""},{"$f":"'PT Summary'!E65","v":""},{"$f":"'PT Summary'!F65","v":""},{"$f":"'PT Summary'!H65","v":""},{"$f":"TEXT('PT Summary'!I65,\"MM/DD/YYYY\")","v":""}]
[{"$f":"'PT Summary'!A66","v":""},"No",{"$f":"'PT Summary'!C66","v":""},{"$f":"'PT Summary'!D66","v":""},{"$f":"'PT Summary'!E66","v":""},{"$f":"'PT Summary'!F66","v":""},{"$f":"'PT Summary'!H66","v":""},{"$f":"TEXT('PT Summary'!I66,\"MM/DD/YYYY\")","v":""}]
[{"$f":"'PT Summary'!A67","v":""},"No",{"$f":"'PT Summary'!C67","v":""},{"$f":"'PT Summary'!D67","v":""},{"$f":"'PT Summary'!E67","v":""},{"$f":"'PT Summary'!F67","v":""},{"$f":"'PT Summary'!H67","v":""},{"$f":"TEXT('PT Summary'!I67,\"MM/DD/YYYY\")","v":""}]
[{"$f":"'PT Summary'!A68","v":""},"No",{"$f":"'PT Summary'!C68","v":""},{"$f":"'PT Summary'!D68","v":""},{"$f":"'PT Summary'!E68","v":""},{"$f":"'PT Summary'!F68","v":""},{"$f":"'PT Summary'!H68","v":""},{"$f":"TEXT('PT Summary'!I68,\"MM/DD/YYYY\")","v":""}]
[{"$f":"'PT Summary'!A69","v":""},"No",{"$f":"'PT Summary'!C69","v":""},{"$f":"'PT Summary'!D69","v":""},{"$f":"'PT Summary'!E69","v":""},{"$f":"'PT Summary'!F69","v":""},{"$f":"'PT Summary'!H69","v":""},{"$f":"TEXT('PT Summary'!I69,\"MM/DD/YYYY\")","v":""}]
[{"$f":"'PT Summary'!A70","v":""},"No",{"$f":"'PT Summary'!C70","v":""},{"$f":"'PT Summary'!D70","v":""},{"$f":"'PT Summary'!E70","v":""},{"$f":"'PT Summary'!F70","v":""},{"$f":"'PT Summary'!H70","v":""},{"$f":"TEXT('PT Summary'!I70,\"MM/DD/YYYY\")","v":""}]
[{"$f":"'PT Summary'!A71","v":""},"No",{"$f":"'PT Summary'!C71","v":""},{"$f":"'PT Summary'!D71","v":""},{"$f":"'PT Summary'!E71","v":""},{"$f":"'PT Summary'!F71","v":""},{"$f":"'PT Summary'!H71","v":""},{"$f":"TEXT('PT Summary'!I71,\"MM/DD/YYYY\")","v":""}]
[{"$f":"'PT Summary'!A72","v":""},"No",{"$f":"'PT Summary'!C72","v":""},{"$f":"'PT Summary'!D72","v":""},{"$f":"'PT Summary'!E72","v":""},{"$f":"'PT Summary'!F72","v":""},{"$f":"'PT Summary'!H72","v":""},{"$f":"TEXT('PT Summary'!I72,\"MM/DD/YYYY\")","v":""}]
[{"$f":"'PT Summary'!A73","v":""},{"$f":"IF(D202=\"\",\"No\",IF(D202>=0,\"Yes\",\"No\"))","v":"No"},{"$f":"'PT Summary'!C73","v":""},{"$f":"'PT Summary'!D73","v":""},{"$f":"'PT Summary'!E73","v":""},{"$f":"'PT Summary'!F73","v":""},{"$f":"'PT Summary'!H73","v":""},{"$f":"TEXT('PT Summary'!I73,\"MM/DD/YYYY\")","v":""}]
[{"$f":"'PT Summary'!A74","v":""},"No",{"$f":"'PT Summary'!C74","v":""},{"$f":"'PT Summary'!D74","v":""},{"$f":"'PT Summary'!E74","v":""},{"$f":"'PT Summary'!F74","v":""},{"$f":"'PT Summary'!H74","v":""},{"$f":"TEXT('PT Summary'!I74,\"MM/DD/YYYY\")","v":""}]
[{"$f":"'PT Summary'!A75","v":""},"No",{"$f":"'PT Summary'!C75","v":""},{"$f":"'PT Summary'!D75","v":""},{"$f":"'PT Summary'!E75","v":""},{"$f":"'PT Summary'!F75","v":""},{"$f":"'PT Summary'!H75","v":""},{"$f":"TEXT('PT Summary'!I75,\"MM/DD/YYYY\")","v":""}]
[{"$f":"'PT Summary'!A76","v":""},"No",{"$f":"'PT Summary'!C76","v":""},{"$f":"'PT Summary'!D76","v":""},{"$f":"'PT Summary'!E76","v":""},{"$f":"'PT Summary'!F76","v":""},{"$f":"'PT Summary'!H76","v":""},{"$f":"TEXT('PT Summary'!I76,\"MM/DD/YYYY\")","v":""}]
[{"$f":"'PT Summary'!A77","v":""},"No",{"$f":"'PT Summary'!C77","v":""},{"$f":"'PT Summary'!D77","v":""},{"$f":"'PT Summary'!E77","v":""},{"$f":"'PT Summary'!F77","v":""},{"$f":"'PT Summary'!H77","v":""},{"$f":"TEXT('PT Summary'!I77,\"MM/DD/YYYY\")","v":""}]
[{"$f":"'PT Summary'!A78","v":""},"No",{"$f":"'PT Summary'!C78","v":""},{"$f":"'PT Summary'!D78","v":""},{"$f":"'PT Summary'!E78","v":""},{"$f":"'PT Summary'!F78","v":""},{"$f":"'PT Summary'!H78","v":""},{"$f":"TEXT('PT Summary'!I78,\"MM/DD/YYYY\")","v":""}]
[{"$f":"'PT Summary'!A79","v":""},"No",{"$f":"'PT Summary'!C79","v":""},{"$f":"'PT Summary'!D79","v":""},{"$f":"'PT Summary'!E79","v":""},{"$f":"'PT Summary'!F79","v":""},{"$f":"'PT Summary'!H79","v":""},{"$f":"TEXT('PT Summary'!I79,\"MM/DD/YYYY\")","v":""}]
[{"$f":"'PT Summary'!A80","v":""},"No",{"$f":"'PT Summary'!C80","v":""},{"$f":"'PT Summary'!D80","v":""},{"$f":"'PT Summary'!E80","v":""},{"$f":"'PT Summary'!F80","v":""},{"$f":"'PT Summary'!H80","v":""},{"$f":"TEXT('PT Summary'!I80,\"MM/DD/YYYY\")","v":""}]
[{"$f":"'PT Summary'!A81","v":""},"No",{"$f":"'PT Summary'!C81","v":""},{"$f":"'PT Summary'!D81","v":""},{"$f":"'PT Summary'!E81","v":""},{"$f":"'PT Summary'!F81","v":""},{"$f":"'PT Summary'!H81","v":""},{"$f":"TEXT('PT Summary'!I81,\"MM/DD/YYYY\")","v":""}]
[{"$f":"'PT Summary'!A82","v":""},"No",{"$f":"'PT Summary'!C82","v":""},{"$f":"'PT Summary'!D82","v":""},{"$f":"'PT Summary'!E82","v":""},{"$f":"'PT Summary'!F82","v":""},{"$f":"'PT Summary'!H82","v":""},{"$f":"TEXT('PT Summary'!I82,\"MM/DD/YYYY\")","v":""}]
[{"$f":"'PT Summary'!A83","v":""},"No",{"$f":"'PT Summary'!C83","v":""},{"$f":"'PT Summary'!D83","v":""},{"$f":"'PT Summary'!E83","v":""},{"$f":"'PT Summary'!F83","v":""},{"$f":"'PT Summary'!H83","v":""},{"$f":"TEXT('PT Summary'!I83,\"MM/DD/YYYY\")","v":""}]
[{"$f":"'PT Summary'!A84","v":""},"No",{"$f":"'PT Summary'!C84","v":""},{"$f":"'PT Summary'!D84","v":""},{"$f":"'PT Summary'!E84","v":""},{"$f":"'PT Summary'!F84","v":""},{"$f":"'PT Summary'!H84","v":""},{"$f":"TEXT('PT Summary'!I84,\"MM/DD/YYYY\")","v":""}]
[{"$f":"'PT Summary'!A85","v":""},"No",{"$f":"'PT Summary'!C85","v":""},{"$f":"'PT Summary'!D85","v":""},{"$f":"'PT Summary'!E85","v":""},{"$f":"'PT Summary'!F85","v":""},{"$f":"'PT Summary'!H85","v":""},{"$f":"TEXT('PT Summary'!I85,\"MM/DD/YYYY\")","v":""}]
[{"$f":"'PT Summary'!A86","v":""},"No",{"$f":"'PT Summary'!C86","v":""},{"$f":"'PT Summary'!D86","v":""},{"$f":"'PT Summary'!E86","v":""},{"$f":"'PT Summary'!F86","v":""},{"$f":"'PT Summary'!H86","v":""},{"$f":"TEXT('PT Summary'!I86,\"MM/DD/YYYY\")","v":""}]
[{"$f":"'PT Summary'!A87","v":""},"No",{"$f":"'PT Summary'!C87","v":""},{"$f":"'PT Summary'!D87","v":""},{"$f":"'PT Summary'!E87","v":""},{"$f":"'PT Summary'!F87","v":""},{"$f":"'PT Summary'!H87","v":""},{"$f":"TEXT('PT Summary'!I87,\"MM/DD/YYYY\")","v":""}]
[{"$f":"'PT Summary'!A88","v":""},"No",{"$f":"'PT Summary'!C88","v":""},{"$f":"'PT Summary'!D88","v":""},{"$f":"'PT Summary'!E88","v":""},{"$f":"'PT Summary'!F88","v":""},{"$f":"'PT Summary'!H88","v":""},{"$f":"TEXT('PT Summary'!I88,\"MM/DD/YYYY\")","v":""}]
[{"$f":"'PT Summary'!A89","v":""},"No",{"$f":"'PT Summary'!C89","v":""},{"$f":"'PT Summary'!D89","v":""},{"$f":"'PT Summary'!E89","v":""},{"$f":"'PT Summary'!F89","v":""},{"$f":"'PT Summary'!H89","v":""},{"$f":"TEXT('PT Summary'!I89,\"MM/DD/YYYY\")","v":""}]
[{"$f":"'PT Summary'!A90","v":""},"No",{"$f":"'PT Summary'!C90","v":""},{"$f":"'PT Summary'!D90","v":""},{"$f":"'PT Summary'!E90","v":""},{"$f":"'PT Summary'!F90","v":""},{"$f":"'PT Summary'!H90","v":""},{"$f":"TEXT('PT Summary'!I90,\"MM/DD/YYYY\")","v":""}]
[{"$f":"'PT Summary'!A91","v":""},"No",{"$f":"'PT Summary'!C91","v":""},{"$f":"'PT Summary'!D91","v":""},{"$f":"'PT Summary'!E91","v":""},{"$f":"'PT Summary'!F91","v":""},{"$f":"'PT Summary'!H91","v":""},{"$f":"TEXT('PT Summary'!I91,\"MM/DD/YYYY\")","v":""}]
[{"$f":"'PT Summary'!A92","v":""},"No",{"$f":"'PT Summary'!C92","v":""},{"$f":"'PT Summary'!D92","v":""},{"$f":"'PT Summary'!E92","v":""},{"$f":"'PT Summary'!F92","v":""},{"$f":"'PT Summary'!H92","v":""},{"$f":"TEXT('PT Summary'!I92,\"MM/DD/YYYY\")","v":""}]
[{"$f":"'PT Summary'!A93","v":""},"No",{"$f":"'PT Summary'!C93","v":""},{"$f":"'PT Summary'!D93","v":""},{"$f":"'PT Summary'!E93","v":""},{"$f":"'PT Summary'!F93","v":""},{"$f":"'PT Summary'!H93","v":""},{"$f":"TEXT('PT Summary'!I93,\"MM/DD/YYYY\")","v":""}]
[{"$f":"'PT Summary'!A94","v":""},"No",{"$f":"'PT Summary'!C94","v":""},{"$f":"'PT Summary'!D94","v":""},{"$f":"'PT Summary'!E94","v":""},{"$f":"'PT Summary'!F94","v":""},{"$f":"'PT Summary'!H94","v":""},{"$f":"TEXT('PT Summary'!I94,\"MM/DD/YYYY\")","v":""}]
[{"$f":"'PT Summary'!A95","v":""},"No",{"$f":"'PT Summary'!C95","v":""},{"$f":"'PT Summary'!D95","v":""},{"$f":"'PT Summary'!E95","v":""},{"$f":"'PT Summary'!F95","v":""},{"$f":"'PT Summary'!H95","v":""},{"$f":"TEXT('PT Summary'!I95,\"MM/DD/YYYY\")","v":""}]
[{"$f":"'PT Summary'!A96","v":""},"No",{"$f":"'PT Summary'!C96","v":""},{"$f":"'PT Summary'!D96","v":""},{"$f":"'PT Summary'!E96","v":""},{"$f":"'PT Summary'!F96","v":""},{"$f":"'PT Summary'!H96","v":""},{"$f":"TEXT('PT Summary'!I96,\"MM/DD/YYYY\")","v":""}]
[{"$f":"'PT Summary'!A97","v":""},"No",{"$f":"'PT Summary'!C97","v":""},{"$f":"'PT Summary'!D97","v":""},{"$f":"'PT Summary'!E97","v":""},{"$f":"'PT Summary'!F97","v":""},{"$f":"'PT Summary'!H97","v":""},{"$f":"TEXT('PT Summary'!I97,\"MM/DD/YYYY\")","v":""}]
[{"$f":"'PT Summary'!A98","v":""},"No",{"$f":"'PT Summary'!C98","v":""},{"$f":"'PT Summary'!D98","v":""},{"$f":"'PT Summary'!E98","v":""},{"$f":"'PT Summary'!F98","v":""},{"$f":"'PT Summary'!H98","v":""},{"$f":"TEXT('PT Summary'!I98,\"MM/DD/YYYY\")","v":""}]
[{"$f":"'PT Summary'!A99","v":""},"No",{"$f":"'PT Summary'!C99","v":""},{"$f":"'PT Summary'!D99","v":""},{"$f":"'PT Summary'!E99","v":""},{"$f":"'PT Summary'!F99","v":""},{"$f":"'PT Summary'!H99","v":""},{"$f":"TEXT('PT Summary'!I99,\"MM/DD/YYYY\")","v":""}]
[{"$f":"'PT Summary'!A100","v":""},"No",{"$f":"'PT Summary'!C100","v":""},{"$f":"'PT Summary'!D100","v":""},{"$f":"'PT Summary'!E100","v":""},{"$f":"'PT Summary'!F100","v":""},{"$f":"'PT Summary'!H100","v":""},{"$f":"TEXT('PT Summary'!I100,\"MM/DD/YYYY\")","v":""}]
[{"$f":"'PT Summary'!A101","v":""},"No",{"$f":"'PT Summary'!C101","v":""},{"$f":"'PT Summary'!D101","v":""},{"$f":"'PT Summary'!E101","v":""},{"$f":"'PT Summary'!F101","v":""},{"$f":"'PT Summary'!H101","v":""},{"$f":"TEXT('PT Summary'!I101,\"MM/DD/YYYY\")","v":""}]
[{"$f":"'PT Summary'!A102","v":""},"No",{"$f":"'PT Summary'!C102","v":""},{"$f":"'PT Summary'!D102","v":""},{"$f":"'PT Summary'!E102","v":""},{"$f":"'PT Summary'!F102","v":""},{"$f":"'PT Summary'!H102","v":""},{"$f":"TEXT('PT Summary'!I102,\"MM/DD/YYYY\")","v":""}]
[{"$f":"'PT Summary'!A103","v":""},"No",{"$f":"'PT Summary'!C103","v":""},{"$f":"'PT Summary'!D103","v":""},{"$f":"'PT Summary'!E103","v":""},{"$f":"'PT Summary'!F103","v":""},{"$f":"'PT Summary'!H103","v":""},{"$f":"TEXT('PT Summary'!I103,\"MM/DD/YYYY\")","v":""}]
[{"$f":"'PT Summary'!A104","v":""},"No",{"$f":"'PT Summary'!C104","v":""},{"$f":"'PT Summary'!D104","v":""},{"$f":"'PT Summary'!E104","v":""},{"$f":"'PT Summary'!F104","v":""},{"$f":"'PT Summary'!H104","v":""},{"$f":"TEXT('PT Summary'!I104,\"MM/DD/YYYY\")","v":""}]
[{"$f":"'PT Summary'!A105","v":""},"No",{"$f":"'PT Summary'!C105","v":""},{"$f":"'PT Summary'!D105","v":""},{"$f":"'PT Summary'!E105","v":""},{"$f":"'PT Summary'!F105","v":""},{"$f":"'PT Summary'!H105","v":""},{"$f":"TEXT('PT Summary'!I105,\"MM/DD/YYYY\")","v":""}]
[{"$f":"'PT Summary'!A106","v":""},"No",{"$f":"'PT Summary'!C106","v":""},{"$f":"'PT Summary'!D106","v":""},{"$f":"'PT Summary'!E106","v":""},{"$f":"'PT Summary'!F106","v":""},{"$f":"'PT Summary'!H106","v":""},{"$f":"TEXT('PT Summary'!I106,\"MM/DD/YYYY\")","v":""}]
[{"$f":"'PT Summary'!A107","v":""},"No",{"$f":"'PT Summary'!C107","v":""},{"$f":"'PT Summary'!D107","v":""},{"$f":"'PT Summary'!E107","v":""},{"$f":"'PT Summary'!F107","v":""},{"$f":"'PT Summary'!H107","v":""},{"$f":"TEXT('PT Summary'!I107,\"MM/DD/YYYY\")","v":""}]
[{"$f":"'PT Summary'!A108","v":""},"No",{"$f":"'PT Summary'!C108","v":""},{"$f":"'PT Summary'!D108","v":""},{"$f":"'PT Summary'!E108","v":""},{"$f":"'PT Summary'!F108","v":""},{"$f":"'PT Summary'!H108","v":""},{"$f":"TEXT('PT Summary'!I108,\"MM/DD/YYYY\")","v":""}]
[{"$f":"'PT Summary'!A109","v":""},"No",{"$f":"'PT Summary'!C109","v":""},{"$f":"'PT Summary'!D109","v":""},{"$f":"'PT Summary'!E109","v":""},{"$f":"'PT Summary'!F109","v":""},{"$f":"'PT Summary'!H109","v":""},{"$f":"TEXT('PT Summary'!I109,\"MM/DD/YYYY\")","v":""}]
[{"$f":"'PT Summary'!A110","v":""},"No",{"$f":"'PT Summary'!C110","v":""},{"$f":"'PT Summary'!D110","v":""},{"$f":"'PT Summary'!E110","v":""},{"$f":"'PT Summary'!F110","v":""},{"$f":"'PT Summary'!H110","v":""},{"$f":"TEXT('PT Summary'!I110,\"MM/DD/YYYY\")","v":""}]
[{"$f":"'PT Summary'!A111","v":""},"No",{"$f":"'PT Summary'!C111","v":""},{"$f":"'PT Summary'!D111","v":""},{"$f":"'PT Summary'!E111","v":""},{"$f":"'PT Summary'!F111","v":""},{"$f":"'PT Summary'!H111","v":""},{"$f":"TEXT('PT Summary'!I111,\"MM/DD/YYYY\")","v":""}]
[{"$f":"'PT Summary'!A112","v":""},"No",{"$f":"'PT Summary'!C112","v":""},{"$f":"'PT Summary'!D112","v":""},{"$f":"'PT Summary'!E112","v":""},{"$f":"'PT Summary'!F112","v":""},{"$f":"'PT Summary'!H112","v":""},{"$f":"TEXT('PT Summary'!I112,\"MM/DD/YYYY\")","v":""}]
[{"$f":"'PT Summary'!A113","v":""},"No",{"$f":"'PT Summary'!C113","v":""},{"$f":"'PT Summary'!D113","v":""},{"$f":"'PT Summary'!E113","v":""},{"$f":"'PT Summary'!F113","v":""},{"$f":"'PT Summary'!H113","v":""},{"$f":"TEXT('PT Summary'!I113,\"MM/DD/YYYY\")","v":""}]
[{"$f":"'PT Summary'!A114","v":""},"No",{"$f":"'PT Summary'!C114","v":""},{"$f":"'PT Summary'!D114","v":""},{"$f":"'PT Summary'!E114","v":""},{"$f":"'PT Summary'!F114","v":""},{"$f":"'PT Summary'!H114","v":""},{"$f":"TEXT('PT Summary'!I114,\"MM/DD/YYYY\")","v":""}]
[{"$f":"'PT Summary'!A115","v":""},"No",{"$f":"'PT Summary'!C115","v":""},{"$f":"'PT Summary'!D115","v":""},{"$f":"'PT Summary'!E115","v":""},{"$f":"'PT Summary'!F115","v":""},{"$f":"'PT Summary'!H115","v":""},{"$f":"TEXT('PT Summary'!I115,\"MM/DD/YYYY\")","v":""}]
[{"$f":"'PT Summary'!A116","v":""},"No",{"$f":"'PT Summary'!C116","v":""},{"$f":"'PT Summary'!D116","v":""},{"$f":"'PT Summary'!E116","v":""},{"$f":"'PT Summary'!F116","v":""},{"$f":"'PT Summary'!H116","v":""},{"$f":"TEXT('PT Summary'!I116,\"MM/DD/YYYY\")","v":""}]
[{"$f":"'PT Summary'!A117","v":""},"No",{"$f":"'PT Summary'!C117","v":""},{"$f":"'PT Summary'!D117","v":""},{"$f":"'PT Summary'!E117","v":""},{"$f":"'PT Summary'!F117","v":""},{"$f":"'PT Summary'!H117","v":""},{"$f":"TEXT('PT Summary'!I117,\"MM/DD/YYYY\")","v":""}]
[{"$f":"'PT Summary'!A118","v":""},"No",{"$f":"'PT Summary'!C118","v":""},{"$f":"'PT Summary'!D118","v":""},{"$f":"'PT Summary'!E118","v":""},{"$f":"'PT Summary'!F118","v":""},{"$f":"'PT Summary'!H118","v":""},{"$f":"TEXT('PT Summary'!I118,\"MM/DD/YYYY\")","v":""}]

{"sheet":"Project Estimates","index":15,"n_rows":34,"n_cols":7,"rows_kept":34,"cut":false,"hidden":false,"merged":[[16,8,18,10],[13,1,13,7],[30,1,30,7],[31,1,31,3],[33,1,33,7],[16,1,16,3],[17,1,17,3],[18,1,18,3],[19,1,19,3],[22,1,22,3],[23,1,23,3],[27,1,27,3],[26,1,26,4],[15,1,15,2],[21,1,21,2],[25,1,25,2]]}
[]
[]
[]
[null,"Prepared for: ",null,{"$f":"IF('100L Information'!K7=\"\",\"\",'100L Information'!K7)","v":""}]
[null,"Project installation address: ",null,{"$f":"IF('100L Information'!F16=\"\",\"\",CONCATENATE('100L Information'!F16,\", \",'100L Information'!R16,\", \",'100L Information'!AA16,\" \",'100L Information'!AD16))","v":""}]
[null,"Project name:  ",null,{"$f":"IF('100L Information'!I15=\"\",\"\",'100L Information'!I15)","v":""}]
[]
[null,"Date prepared:",null,"Prepared by: "]
[null,{"$f":"IF('100L Information'!Z47 = \"\",\"\", '100L Information'!Z47)","v":""},"",{"$f":"IF('100L Information'!I47 =\"\",\"\",'100L Information'!I47)","v":""}]
[null,null,null,{"$f":"IF('100L Information'!I48 =\"\",\"\",'100L Information'!I48)","v":""}]
[null,null,null,{"$f":"IF('100L Information'!M49 =\"\",\"\",'100L Information'!M49)","v":""}]
[null,null,null,{"$f":"IF('100L Information'!E49 =\"\",\"\",'100L Information'!E49)","v":""}]
[]
[null,"Your proposed lighting project includes energy-saving equipment that may be eligible for Energy Trust of Oregon cash incentives. This summary provides estimates only, actual results may vary*. "]
[]
[null,"Project Cost:"]
[null,"Estimated installed cost:",null,null,null,{"$f":"'Analysis 103L'!M13","v":0}]
[null,"Minus estimated Energy Trust incentive:",null,null,null,{"$f":"'Analysis 103L'!F20","v":0}]
[null,"Additional Estimated Incentive, if applicable:",null,null,null,{"$f":"IF('Performance+'!C27=\"yes\",'Analysis 103L'!#REF!,0)","v":0}]
[null,"Net estimated installed cost:",null,null,null,{"$f":"F17-(F18+F19)","v":0}]
[]
[null,"Energy Savings:"]
[null,"Estimated annual energy savings:",null,null,null,{"$f":"'Analysis 103L'!L20","v":0},"kWh"]
[null,"Estimated annual energy cost savings:",null,null,null,{"$f":"'Analysis 103L'!F13","v":""}]
[]
[null,"Financial Benefit:"]
[null,"Estimated project payback through energy savings:",null,null,null,{"$f":"IFERROR(F20/F24,\"\")","v":""},"years"]
[null,"Estimated rate of return:",null,null,null,{"$f":"'Analysis 103L'!F15","v":""}]
[]
[]
[null,"Your lighting project is an investment in your business. Because this project may reduce energy use, \nit can also deliver environmental benefits. Energy saved with this project, as proposed, will avoid carbon "]
[null,"dioxide emissions that would be roughly equivalent to:",null,null,{"$f":"(((F23*1.09)/19.6)*23.4)/11244","v":0},"cars off the road."]
[]
[null,"*This summary provides an estimate of potential savings and incentives based on proposed equipment, operating hours and other assumptions.  Your actual costs, savings and incentives may vary. Energy Trust incentives are subject to funding availability and may change. Details of Energy Trust’s programs, including incentives and other requirements, are subject to change. This summary was prepared using Lighting Tool v2022.1"]

{"sheet":"120L Incentive Offer","index":16,"n_rows":107,"n_cols":30,"rows_kept":107,"cut":false,"hidden":true,"merged":[[24,12,24,15],[25,22,25,26],[18,23,18,26],[103,27,104,28],[103,29,104,32],[103,16,104,26],[30,0,30,32],[37,5,38,6],[37,15,38,17],[37,28,38,32],[37,26,38,27],[26,22,26,26],[25,12,25,15],[22,27,22,28],[15,23,15,26],[22,14,22,25],[21,0,21,32],[15,1,15,14],[18,1,18,14],[2,28,2,32],[3,27,3,32],[4,27,4,32],[10,2,10,32],[12,29,12,32],[4,17,4,25],[8,15,8,16],[11,8,11,31],[11,0,11,7],[12,26,12,27],[12,24,12,25],[12,15,12,16],[12,5,12,14],[106,0,106,32],[29,0,29,15],[29,16,29,32],[33,0,33,15],[37,7,38,14],[37,0,38,4],[103,0,104,3],[103,4,103,12],[103,13,104,15],[104,4,104,12],[105,0,105,32],[37,18,38,25],[1,28,1,32],[22,9,22,13],[7,0,7,6],[8,0,8,4],[9,0,9,3],[12,0,12,4],[6,6,6,27],[8,5,8,14],[8,17,8,31],[2,20,2,25],[22,29,22,31],[6,0,6,5],[7,7,7,32],[6,28,6,32],[9,4,9,14],[12,17,12,23],[54,34,54,41],[56,34,56,42],[9,19,9,32],[9,15,9,18],[102,0,102,32],[27,0,27,32],[31,0,31,32],[25,27,25,31],[34,0,34,32],[35,0,35,32],[32,0,32,32],[33,16,33,32],[26,12,26,15],[28,0,28,32],[26,27,26,31],[10,0,10,1]]}
[]
[null,null,null,null,null,null,null,null,null,null,null,null,null,null,null,null,null,"Program Use Only",null,null,null,null,null,null,null,null,null,null,{"$f":"version","v":"v2023.1"}]
[null,null,null,null,null,null,null,null,null,null,null,null,null,null,null,null,null,"Project ID",null,null,{"$f":"IF('100L Information'!S3=\"\",\"\",'100L Information'!S3)","v":""},null,null,null,null,null,"Ref ID",null,{"$f":"IF('100L Information'!AB3=\"\",\"\",'100L Information'!AB3)","v":""}]
[null,null,null,null,null,null,null,null,null,null,null,null,null,null,null,null,null,"Currently Self-Directing",null,null,null,null,null,null,null,null,null,{"$f":"IF('100L Information'!Z4=\"\",\"\",'100L Information'!Z4)","v":"(select)"}]
[null,null,null,null,null,null,null,null,null,null,null,null,null,null,null,null,null,"Currently using EE Self-direct credits?",null,null,null,null,null,null,null,null,null,{"$f":"IF('100L Information'!Z5=\"\",\"\",'100L Information'!Z5)","v":"(select)"}]
["Section A: Participant Information"]
["Legal Business Name",null,null,null,null,null,{"$f":"IF('100L Information'!K7=\"\",\"\",'100L Information'!K7)","v":""},null,null,null,null,null,null,null,null,null,null,null,null,null,null,null,null,null,null,null,null,null,"(the \"Participant\")"]
["Assumed Business Name",null,null,null,null,null,null,{"$f":"IF('100L Information'!M8=\"\",\"\",'100L Information'!M8)","v":""}]
["Contact Name",null,null,null,null,{"$f":"IF('100L Information'!$F9=\"\",\"\",'100L Information'!$F9)","v":""},null,null,null,null,null,null,null,null,null,"Title",null,{"$f":"IF('100L Information'!$R9=\"\",\"\",'100L Information'!$R9)","v":""}]
["Phone",null,null,null,{"$f":"IF('100L Information'!E10=\"\",\"\",'100L Information'!E10)","v":""},null,null,null,null,null,null,null,null,null,null,"Cell Phone",null,null,null,{"$f":"IF('100L Information'!T10=\"\",\"\",'100L Information'!T10)","v":""}]
["Email",null,{"$f":"IF('100L Information'!$D11=\"\",\"\",'100L Information'!$D11)","v":""}]
["Project Name (if different)",null,null,null,null,null,null,null,{"$f":"'100L Information'!I15","v":""}]
["Site Address",null,null,null,null,{"$f":"IF('100L Information'!F16:O16=\"\",\"\",'100L Information'!F16:O16)","v":""},null,null,null,null,null,null,null,null,null,"City",null,{"$f":"IF('100L Information'!R16:X16=\"\",\"\",'100L Information'!R16:X16)","v":""},null,null,null,null,null,null,"State",null,{"$f":"IF('100L Information'!AA16:AB16=\"\",\"\",'100L Information'!AA16:AB16)","v":""},null,"Zip",{"$f":"IF('100L Information'!AD16:AF16=\"\",\"\",'100L Information'!AD16:AF16)","v":""}]
["Section B: Electric Utility"]
[null,"Pacific Power Account Number",null,null,null,null,null,null,null,null,null,null,null,null,null,null,null,null,null,null,null,null,null,"Rate Schedule"]
[null,{"$f":"IF('100L Information'!B37=\"\",\"\",'100L Information'!B37)","v":""},null,null,null,null,null,null,null,null,null,null,null,null,null,null,null,null,null,null,null,null,null,{"$f":"IF(B16=\"\",\"\",'100L Information'!X37)","v":""}]
[]
[null,"Portland General Electric (PGE) Account Number",null,null,null,null,null,null,null,null,null,null,null,null,null,null,null,null,null,null,null,null,null,"Rate Schedule"]
[null,{"$f":"IF('100L Information'!B40=\"\",\"\",'100L Information'!B40)","v":""},null,null,null,null,null,null,null,null,null,null,null,null,null,null,null,null,null,null,null,null,null,{"$f":"IF(B19=\"\",\"\",'100L Information'!X40)","v":""}]
[]
["Section C: Proposed Savings Summary (to be completed by program representative)"]
["Based on our review of the following information regarding the proposed lighting project’s design intent, equipment, and operation assumptions, we have identified certain energy efficiency measures that may be eligible for Energy Trust incentives (the Measures). Estimated incentives have been calculated in accordance with current Program requirements and incentive levels. Actual incentive amounts paid may differ from estimated amounts depending on actual Measures installed and final energy savings calculations and project cost documentation. "]
["Lighting Analysis",null,null,null,null,null,null,null,null,"Performed by",null,null,null,null,{"$f":"IF('Analysis 103L'!T4=\"\",\"\",'Analysis 103L'!T4)","v":""},null,null,null,null,null,null,null,null,null,null,null,null,"Date",null,{"$f":"IF('Analysis 103L'!R4=\"\",\"\",'Analysis 103L'!R4)","v":""}]
[]
["Estimated Annual Cost Savings",null,null,null,null,null,null,null,null,null,null,null,{"$f":"'Analysis 103L'!F13","v":""},null,null,null,"Estimated Energy Savings"]
[{"$f":"IF('100L Information'!Z4=\"Yes\",\"Estimated Incentive Amount (50% Self-Direct)\",\"Estimated Incentive Amount\")","v":"Estimated Incentive Amount"},null,null,null,null,null,null,null,null,null,null,null,{"$f":"'Analysis 103L'!F20","v":0},null,null,null,null,null,null,null,null,null,{"$f":"'Analysis 103L'!F10","v":0},null,null,null,null,"kWh per year"]
["Estimated Installed Measure Cost",null,null,null,null,null,null,null,null,null,null,null,{"$f":"'Analysis 103L'!M13","v":0},null,null,null,null,null,null,null,null,null,{"$f":"'Analysis 103L'!F12","v":0},null,null,null,null,"kW demand savings"]
["Section D: Incentive Application Submittal Deadline"]
["To reserve the estimated incentive amounts for the Measure(s) identified, Participant must complete, sign and return this application to Energy Trust by the following deadline:"]
[{"$f":"IF(AC38=\"\",\"\",AC38+30)","v":""},null,null,null,null,null,null,null,null,null,null,null,null,null,null,null,"Submittal Deadline"]
["Time is of the essence to submit this application. Incentives are subject to change and funding availability. Estimated incentive amounts are not reserved until Participant signs and returns this completed application (see Section E below). Measure equipment or installation services contracted for or purchased prior to Participant signing and returning this incentive agreement to Energy Trust are done at-risk and associated costs will not be included as an eligible project cost for the purposes of Energy Trust’s incentive calculations unless Energy Trust has specifically communicated otherwise in writing."]
["Section E: Incentive Reservation Period and Installation Commitment"]
["Provided that Participant signs and returns this application by the Submittal Deadline, Energy Trust will reserve the estimated amount for Participant’s identified Measure(s) until the Incentive Reservation Expiration Date indicated below, so long as Participant complies with the terms and conditions of this agreement and continues to make progress to complete timely installation of the Measure(s)."]
[{"$f":"IF(AC38=\"\",\"\",AC38+365)","v":""},null,null,null,null,null,null,null,null,null,null,null,null,null,null,null,"Incentive Reservation Expiration Date"]
["Participant will (1) take actions to complete timely installation of the Measure(s) and provide, if requested, copies of Measure equipment purchase orders demonstrating progress; and (2) deliver all required project completion documentation to request payment on or before the Incentive Reservation Expiration Date. "]
["Any request for an extension beyond the Incentive Reservation Expiration Date must be submitted to Energy Trust in writing and in advance for review and consideration. Energy Trust retains the right to withdraw an incentive reservation at any point during the reservation period if we determine that Participant is not progressing appropriately and in good faith to perform timely completion of project work. Changes during the incentive reservation period that affect Measure eligibility, costs or energy savings may result in a revised incentive estimate. Funds that have been reserved are not transferable to other projects or properties."]
["Section F: Program Pre-Authorization Signature"]
["Authorized Energy Representative",null,null,null,null,"Name",null,null,null,null,null,null,null,null,null,"Signature",null,null,null,null,null,null,null,null,null,null,"Date",null,{"$f":"IF('Analysis 103L'!R4=\"\",\"\",'Analysis 103L'!R4)","v":""}]
[]
[]
["Section G: Additional Terms and Conditions"]
[]
[]
[]
[]
[]
[]
[]
[]
[]
[]
[]
[]
[]
[]
[]
[]
[]
[]
[]
[]
[]
[]
[]
[]
[]
[]
[]
[]
[]
[]
[]
[]
[]
[]
[]
[]
[]
[]
[]
[]
[]
[]
[]
[]
[]
[]
[]
[]
[]
[]
[]
[]
[]
[]
[]
[]
[]
[]
[]
[]
[]
["By my signature, below, I represent that the named Participant has read, understands and agrees to the terms and conditions of this agreement and that I am authorized to enter this agreement on behalf of Participant."]
["Participant’s Authorized Representative",null,null,null,null,null,null,null,null,null,null,null,null,"Signature",null,null,null,null,null,null,null,null,null,null,null,null,null,"Date"]
[null,null,null,null,"(print name)"]
[]
["For other questions, call Energy Trust at (800) 326-2917."]

{"sheet":"140L Completion Certification","index":17,"n_rows":39,"n_cols":30,"rows_kept":39,"cut":false,"hidden":true,"merged":[[1,0,3,14],[7,15,7,16],[7,17,7,23],[7,24,7,25],[7,26,7,27],[1,27,1,31],[2,27,2,31],[7,29,7,31],[2,18,2,24],[7,0,7,3],[7,4,7,14],[6,5,6,31],[6,0,6,4],[10,0,10,3],[10,4,10,31],[19,0,19,31],[17,0,17,31],[8,0,8,3],[8,4,8,19],[8,20,8,21],[8,22,8,31],[20,2,20,31],[21,3,21,11],[21,12,21,31],[11,0,11,9],[11,10,11,19],[13,0,13,31],[14,28,14,31],[14,26,14,27],[11,20,11,26],[11,27,11,31],[14,0,14,3],[14,4,14,5],[14,6,14,12],[14,13,14,16],[14,17,14,25],[22,3,22,11],[22,12,22,31],[25,2,25,31],[29,6,29,12],[29,28,29,31],[26,0,27,11],[26,12,27,15],[26,16,27,31],[29,17,29,25],[29,13,29,16],[29,26,29,27],[28,0,28,31],[29,0,29,3],[29,4,29,5],[30,26,30,27],[30,28,30,31],[30,0,30,3],[30,4,30,5],[30,6,30,12],[30,13,30,16],[30,17,30,25],[37,0,37,31],[38,2,38,31],[35,0,35,4],[35,5,35,18],[35,19,35,21],[35,22,35,31],[36,0,36,4],[36,5,36,18],[36,19,36,21],[36,22,36,31],[33,0,34,4],[33,5,33,7],[33,8,33,31],[34,5,34,7],[34,8,34,21],[34,24,34,27],[34,30,34,31]]}
[]
[null,null,null,null,null,null,null,null,null,null,null,null,null,null,null,"Program Use Only",null,null,null,null,null,null,null,null,null,null,null,{"$f":"version","v":"v2023.1"}]
[null,null,null,null,null,null,null,null,null,null,null,null,null,null,null,"Project ID",null,null,{"$f":"'100L Information'!S3","v":0},null,null,null,null,null,null,"Ref ID",null,{"$f":"IF('100L Information'!AB3=\"\",\"\",'100L Information'!AB3)","v":""}]
[null,null,null,null,null,null,null,null,null,null,null,null,null,null,null,"Currently Self-Directing",null,null,null,null,null,null,null,null,null,null,null,null,null,{"$f":"'100L Information'!Z4","v":"(select)"}]
[null,null,null,null,null,null,null,null,null,null,null,null,null,null,null,"Currently using EE Self-direct credits?",null,null,null,null,null,null,null,null,null,null,null,null,null,{"$f":"'100L Information'!Z5","v":"(select)"}]
["Section 1: Project Completion Information"]
["Project Name (if different)",null,null,null,null,{"$f":"'100L Information'!I15","v":""}]
["Site Address",null,null,null,{"$f":"'100L Information'!F16","v":0},null,null,null,null,null,null,null,null,null,null,"City",null,{"$f":"'100L Information'!R16","v":0},null,null,null,null,null,null,"State",null,{"$f":"'100L Information'!AA16","v":0},null,"Zip",{"$f":"'100L Information'!AD16","v":0}]
["Contact Name ",null,null,null,{"$f":"'100L Information'!F9","v":0},null,null,null,null,null,null,null,null,null,null,null,null,null,null,null,"Title",null,{"$f":"'100L Information'!R9","v":0}]
["Measure Installation Completion"]
["Measure(s)",null,null,null,"Lighting Retrofit"]
["Completion Certification Issue Date",null,null,null,null,null,null,null,null,null,{"$f":"'Analysis 103L'!R6","v":"00:00:00"},null,null,null,null,null,null,null,null,null,"Estimated Incentive",null,null,null,null,null,null,{"$f":"IF('Performance+'!C27=\"yes\",'Analysis 103L'!#REF!,'Analysis 103L'!F20)","v":0}]
["Participant Signature"]
["By my signature below, I represent to Energy Trust that I am authorized to submit this Completion Certification, the above Measure(s) have been Installed and completed to Participant’s satisfaction, and all submitted project cost documentation for the Measure(s) was provided to Energy Trust as required by the incentive agreement."]
["Authorized Representative",null,null,null,"Print Name",null,null,null,null,null,null,null,null,"Signature",null,null,null,null,null,null,null,null,null,null,null,null,"Date"]
[]
["Section 2: Payee Information"]
["The Energy Trust incentive payment will be made to Participant unless the Option to Assign Incentive Payment section is selected and completed below. "]
[]
["Check ONE payment option below:"]
[null,null,"Make incentive check payable to Participant (check one name only)"]
[null,null,null,"Participant Legal Name",null,null,null,null,null,null,null,null,{"$f":"'100L Information'!K7","v":0}]
[null,null,null,"Participant Assumed Business Name",null,null,null,null,null,null,null,null,{"$f":"'100L Information'!M8","v":""}]
[null,null,null,null,null,null,null,null,null,null,null,null,"(Information must match previously submitted IRS Form W-9)"]
[]
[null,null,"Assign the incentive check to Business Lighting trade ally or other Payee (if checked, both Participant and its designated Payee must complete and sign the Option to Assign Incentive Payment below and submit a complete, accurate and verifiable IRS Form W-9 for the Payee)"]
["Designated Payee Name \n(must match submitted IRS Form W-9)",null,null,null,null,null,null,null,null,null,null,null,"Print Name"]
[]
["Option to Assign Incentive Payment:  Both Participant (the assignor) and the Payee designated above (the assignee) understand and agree that if this option is selected the incentive check will be issued to the designated Payee at the address indicated and Energy Trust is not responsible for any tax liabilities that may be associated with the incentive payment. In addition, Participant understands that, notwithstanding this assignment, responsibility for complying with the terms and conditions of this incentive agreement shall continue to be the obligation of Participant, and Energy Trust's sole responsibility under this incentive agreement shall be to Participant. Accordingly, Payee understands that it shall have no rights against Energy Trust or the PDC with respect to such assignment or the payment of the incentive, and in the event that Energy Trust does not pay the incentive as a result of Participant's failure to comply with this agreement, Payee's sole recourse shall be against Participant. Participant directs Energy Trust to pay any incentive to which it is entitled to the designated Payee and waives all rights to directly receive the Energy Trust incentives for the identified energy-efficiency project. Each of the individuals signing this Option to Assign Incentive Payment represents and warrants that he or she has been properly authorized by the party indicated to sign this Option to Assign Incentive Payment agreement on such party's behalf."]
["On behalf of Participant Authorized Representative",null,null,null,"Print Name",null,null,null,null,null,null,null,null,"Signature",null,null,null,null,null,null,null,null,null,null,null,null,"Date"]
["On behalf of Payee Authorized Representative ",null,null,null,"Print Name",null,null,null,null,null,null,null,null,"Signature",null,null,null,null,null,null,null,null,null,null,null,null,"Date"]
[]
["Section 3 (Required): Check mailing address (for Participant or other Payee, as indicated in Section 2)"]
["Mailing Address for Check",null,null,null,null,"Address"]
[null,null,null,null,null,"City",null,null,null,null,null,null,null,null,null,null,null,null,null,null,null,null,"State",null,null,null,null,null,"Zip"]
["Contact Name ",null,null,null,null,null,null,null,null,null,null,null,null,null,null,null,null,null,null,"Company"]
["Contact Email Address",null,null,null,null,null,null,null,null,null,null,null,null,null,null,null,null,null,null,"Phone"]
["SIGNATURES: Documents transmitted with faxed, scanned, or digital signatures shall be deemed to be original signatures. At the request of Energy Trust, Participant shall confirm signature by providing an original document."]
["Note:",null," To receive payment, all invoices must be submitted in addition to this Completion Certification form."]

{"sheet":"PI 190L Lighting Incentives","index":18,"n_rows":2,"n_cols":1,"rows_kept":2,"cut":false,"hidden":false,"merged":[[1,0,1,17]]}
[]
["Program Information 190L—Lighting Incentives"]

{"sheet":"MidstreamTable","index":19,"n_rows":39,"n_cols":8,"rows_kept":39,"cut":false,"hidden":true,"merged":[]}
[]
[null,null,null,"Incentives current as of [DATE].  "]
[null,null,null,"Check with [WEBSITE] to insure these are the current incentives."]
[]
[null,"Qualifying DLC Listed LED Products"]
[null,null,null,"per-unit",null,"Total"]
[null,"Category","Sub-Category","Incentive","Deemed Savings","Install Quantity","Deemed Savings","Incentive"]
[null,"Pin-based CFL replacement","All lumens",2.5,null,50,{"$f":"F8*E8","v":0},{"$f":"F8*D8","v":125}]
[null,"HID to LED screw-in","49 W or less",22.5]
[null,"HID to LED screw-in","50-80W",37.5]
[null,"HID to LED screw-in","81W or more",25.5]
[null,"TLED line voltage or remote driver (B/C)","2ft",3]
[null,"TLED line voltage or remote driver (B/C)","3ft",4.5]
[null,"TLED line voltage or remote driver (B/C)","4ft or U-bend",6]
[null,"TLED line voltage or remote driver (B/C)","5ft",7.5]
[null,"TLED line voltage or remote driver (B/C)","6ft",9]
[null,"TLED line voltage or remote driver (B/C)","8ft",12]
[null,"TLED in line (A)","2ft",2.25]
[null,"TLED in line (A)","3ft",3.5]
[null,"TLED in line (A)","4ft or U-bend",4.5]
[null,"TLED in line (A)","5ft",5.5]
[null,"TLED in line (A)","6ft",6.75]
[null,"TLED in line (A)","8ft",9]
[null,"Interior fixture or kit","25W or less",20]
[null,"Interior fixture or kit","36-39W",25]
[null,"Interior fixture or kit","40-57W",35]
[null,"Interior fixture or kit","58-100W",40]
[null,"High/low bay interior fixture or kit","40-90W",90]
[null,"High/low bay interior fixture or kit","91-140W",142.5]
[null,"High/low bay interior fixture or kit","141-299W",157.5]
[null,"High/low bay interior fixture or kit","300W or more",217.5]
[null,"Exterior fixture or kit","20W or less",32]
[null,"Exterior fixture or kit","21-40W",44]
[null,"Exterior fixture or kit","41-90W",85]
[null,"Exterior fixture or kit","91-140W",160]
[null,"Exterior fixture or kit","141-299W",195]
[null,"Exterior fixture or kit","300W or more",300]
[]
[null,"TOTAL"]

{"sheet":"Existing Equipment","index":20,"n_rows":252,"n_cols":19,"rows_kept":252,"cut":false,"hidden":true,"merged":[[109,6,109,8],[109,9,109,11],[0,10,0,11],[2,9,2,11],[2,6,2,8]]}
["Energy Trust of Oregon - Standard Fixture Wattages",null,null,null,"light green cells = 2022 updates",null,null,null,null,null,null,null,null,"Hours of Use from MADs"]
["Existing Equipment",null,null,null,"Red shaded cells = possible update with MAD when approved =",null,null,null,null,"MAD 62","MAD 8","MAD 33","MAD  211","Interior",4440]
["Note: All T12 Fluorescent fixtures assume energy efficient lamp and stand. mag ballasts",null,null,null,null,null,"FIXTURES",null,null,"LAMPS",null,null,null,"Exterior",4383]
[null,null,null,null,null,null,null,null,null,null,null,"Weighted Average ","To Be approved","To Be approved","To Be approved","To Be approved","To Be approved","To Be approved"]
["Initial","Fixt Description","CWT Watts","Qty-Lamps","Ref. Source",null,null,null,null,null,"Post Standard","Lamps only lookup","Fixture NEB Source (detail)","Fixture NEB Source","Fixture NEB","Lamp NEB Source","Lamp NEB","LAMP NEB Source (detail)"]
[null,null,null,null,null,null,6,7,8,9,10,null,null,"CEC (2021 version)",null,"CEC"]
[null,"*******************************************************",null,null,"Column C",null,"RTF's Non-Res","RTF's Non-Res","Measure life","RTF's Non-Res","RTF's Non-Res","Measure life","CEC RTF Row  number (backup calculations)",null,"CEC Col. AX",null,"per LAMP (not fixture)","CEC RTF Row  number (backup calculations)"]
[null,"T-12 FIXTURES - 4 FEET OR LESS","(select)","(select)","Wattage ",null,"Baseline Wattage","Baseline Wattage","Period 1","Baseline Wattage","Baseline Wattage","Period 1"]
[null,"*******************************************************",null,null,"Source",null,"\"Period 2\" (part 2)","\"Period 2\" (part 1)","RTF (years)","\"Period 2\" (part 2)","\"Period 2\" (part 1)","RTF (years)","2021 update","2021 update","2022 update","2021 update","2022 TBD","2021 update"]
["T12_2or3ft","2', 1 lamp T12",25,{"$f":"MID(B10,5,1)","v":"1"},"RTF",null,1.0380031770235147,7.1921124346659981,7.51,0.87254136151600992,8.2975151952424682,7.51,"extrapolated  (half of 2-lamp)","64 - LED commercial fixtures",1.5475000000000001,"2' T12 replaced with LED light source and remote driver or line voltage (Types B/C)",5.6,"Row 4"]
["T12_2or3ft","2', 2 lamp T12",50,"2","RTF",null,1.0380031770235147,14.384224869331996,7.51,0.87254136151600992,16.595030390484936,7.51,"extrapolated  (half of 4' fixture)","64 - LED commercial fixtures",3.0950000000000002,"2' T12 replaced with LED light source and remote driver or line voltage (Types B/C)",3.63,"Row 6"]
["T12_2or3ft","3', 1 lamp T12",34.5,"1","RTF",null,1.0380031770235147,9.925115159839077,7.51,0.87254136151600992,11.450570969434606,7.51,"extrapolated  (half of 2-lamp)","64 - LED commercial fixtures",2.32125,"3' T12 replaced with LED light source and remote driver or line voltage (Types B/C)",5.63,"row 22"]
["T12_2or3ft","3', 2 lamp T12",69,"2","RTF",null,1.0380031770235147,19.850230319678154,7.51,0.87254136151600992,22.901141938869213,7.51,"extrapolated  (3/4th of 4' fixture)","64 - LED commercial fixtures",4.6425000000000001,"3' T12 replaced with LED light source and remote driver or line voltage (Types B/C)",5.63,"Extrapolated (same as 1-lamp version, per lamp)"]
["T12_4ft","4', 1 lamp T12",40.799999999999997,"1","RTF",null,1.0380031770235147,11.737527493374909,7.51,0.87254136151600992,13.541544798635707,7.51,"extrapolated  (half of 2-lamp)","64 - LED commercial fixtures",3.0950000000000002,"4' or U-bend T12 replaced with LED light source and remote driver or line voltage (Types B/C)",4.4400000000000004,"Extrapolated (same as 2-lamp version)"]
["T12_4ft","4', 2 lamp T12",81.599999999999994,"2","RTF",null,1.0380031770235147,23.475054986749818,7.51,0.87254136151600992,27.083089597271414,7.51,"row 14","64 - LED commercial fixtures",6.19,"4' or U-bend T12 replaced with LED light source and remote driver or line voltage (Types B/C)",4.4400000000000004,"row 37"]
["T12_4ft","4', 3 lamp T12",122.39999999999999,"3","RTF",null,1.0380031770235147,35.212582480124723,7.51,0.87254136151600992,40.624634395907123,7.51,"row 28","64 - LED commercial fixtures",5.77,"4' or U-bend T12 replaced with LED light source and remote driver or line voltage (Types B/C)",4.2,"Extrapolated (2 and 4 lamp)"]
["T12_4ft","4', 4 lamp T12",163.19999999999999,"4","RTF",null,1.0380031770235147,46.950109973499636,7.51,0.87254136151600992,54.166179194542828,7.51,"Row 10","64 - LED commercial fixtures",7.4,"4' or U-bend T12 replaced with LED light source and remote driver or line voltage (Types B/C)",3.96,"row 47"]
[]
[null,"*******************************************************"]
[null,"T-12 FIXTURES - U - Bent","(select)","(select)"]
[null,"*******************************************************"]
["T12_U_bent","U bent 1 lamp T12",42,1,"RTF",null,1.0380031770235147,12.082748890238877,7.51,0.87254136151600992,13.939825528007345,7.51,"extrapolated  (half of 2-lamp)","64 - LED commercial fixtures",1.9305000000000001,"4' or U-bend T12 replaced with LED light source and remote driver or line voltage (Types B/C)",4.43,"Extrapolated (same as 2-lamp version, per lamp)"]
["T12_U_bent","U bent 2 lamp T12",84,2,"RTF",null,1.0380031770235147,24.165497780477754,7.51,0.87254136151600992,27.879651056014691,7.51,"extrapolated  (90% of row 23)","64 - LED commercial fixtures",3.8610000000000002,"4' or U-bend T12 replaced with LED light source and remote driver or line voltage (Types B/C)",4.43,"Row 9"]
[]
["*******************************************************","*******************************************************"]
[null,"STANDARD T8's","(select)","(select)"]
[null,"*******************************************************"]
["T8_2ft","2', 1 lamp T8",14.96,1,"RTF",null,1.0380031770235147,6.4835073808779713,7.51,0.87254136151600992,7.48,7,"extrapolated  (half of 2-lamp)","64 - LED commercial fixtures",0.88,"2' T8 replaced with LED light source and remote driver or line voltage (Types B/C)",3.86,"row 5"]
["T8_2ft","2', 2 lamp T8",29.92,2,"RTF",null,1.0380031770235147,12.967014761755943,7.51,0.87254136151600992,14.96,7,"extrapolated  (half of 4' fixture)","64 - LED commercial fixtures",1.76,"2' T8 replaced with LED light source and remote driver or line voltage (Types B/C)",2.61,"row 7"]
["T8_U_bent","U bent 1 lamp T8",29.44,1,"RTF",null,1.0380031770235147,12.758987786968413,7.51,0.87254136151600992,14.72,7,"extrapolated  (half of 2-lamp)","64 - LED commercial fixtures",2.145,"4' or U-bend T8 replaced with LED light source and remote driver or line voltage (Types B/C)",2.48,"Extrapolated (same as 2-lamp version, per lamp)"]
["T8_U_bent","U bent 2 lamp T8",58.88,2,"RTF",null,1.0380031770235147,25.517975573936827,7.51,0.87254136151600992,29.44,7,"row 4","64 - LED commercial fixtures",4.29,"4' or U-bend T8 replaced with LED light source and remote driver or line voltage (Types B/C)",2.48,"Row 10"]
["T8_4ft","4', 1 lamp T8 32W",29.21,1,"RTF",null,1.0380031770235147,12.658117885012155,7.51,0.87254136151600992,14.603626743626744,7,"half 2-lamp version (row 3)","64 - LED commercial fixtures",1.76,"4' or U-bend T8 replaced with LED light source and remote driver or line voltage (Types B/C)",3.96,"row 35"]
["T8_4ft","4', 2 lamp T8 32W",58.41,2,"RTF",null,1.0380031770235147,25.31623577002431,7.51,0.87254136151600992,29.207253487253489,7,"row 3","64 - LED commercial fixtures",3.52,"4' or U-bend T8 replaced with LED light source and remote driver or line voltage (Types B/C)",2.5,"row 38"]
["T8_4ft","4', 3 lamp T8 32W",87.62,3,"RTF",null,1.0380031770235147,37.974353655036467,7.51,0.87254136151600992,43.81088023088023,7,"row 7","64 - LED commercial fixtures",4.6900000000000004,"4' or U-bend T8 replaced with LED light source and remote driver or line voltage (Types B/C)",2.0099999999999998,"row 39"]
["T8_4ft","4', 4 lamp T8 32W",116.83,4,"RTF",null,1.0380031770235147,50.63247154004862,7.51,0.87254136151600992,58.414506974506978,7,"row 8","64 - LED commercial fixtures",5.48,"4' or U-bend T8 replaced with LED light source and remote driver or line voltage (Types B/C)",1.77,"row 42"]
["T8_4ft","4', 6 lamp T8 32W",175.24,6,"RTF",null,1.0380031770235147,75.948707310072933,7.51,0.87254136151600992,87.621760461760459,7,"2x 3-lamps version (row 7)","64 - LED commercial fixtures",9.3800000000000008,"4' or U-bend T8 replaced with LED light source and remote driver or line voltage (Types B/C)",1.52,"row 43"]
["T8_4ft","4', 1 lamp HP T8 (25W, BF≤0.85)",18.75,{"$f":"MID(B37,5,1)","v":"1"},"RTF",null,1.0380031770235147,8.1260537026378312,7.51,0.87254136151600992,9.375,7,"extrapolated  (half of 2-lamp)","64 - LED commercial fixtures",1.1425000000000001,"4' or U-bend T8 replaced with LED light source and remote driver or line voltage (Types B/C)",2.4900000000000002,"Extrapolated (same as 28W version)"]
["T8_4ft","4', 1 lamp HP T8 (25W, 0.85<BF≤1.0)",21.5,"1","RTF",null,1.0380031770235147,9.3178749123580467,7.51,0.87254136151600992,10.75,7,"extrapolated  (half of 2-lamp)","64 - LED commercial fixtures",1.1425000000000001,"4' or U-bend T8 replaced with LED light source and remote driver or line voltage (Types B/C)",2.4900000000000002,"Extrapolated (same as 28W version)"]
["T8_4ft","4', 2 lamp HP T8 (25W, BF≤0.85)",37.5,"2","RTF",null,1.0380031770235147,16.252107405275662,7.51,0.87254136151600992,18.75,7,"extrapolated (same as 28W)","64 - LED commercial fixtures",2.2850000000000001,"4' or U-bend T8 replaced with LED light source and remote driver or line voltage (Types B/C)",2.4900000000000002,"Extrapolated (same as 28W version)"]
["T8_4ft","4', 2 lamp HP T8 (25W, 0.85<BF≤1.0)",43,"2","RTF",null,1.0380031770235147,18.635749824716093,7.51,0.87254136151600992,21.5,7,"extrapolated (same as 28W)","64 - LED commercial fixtures",2.2850000000000001,"4' or U-bend T8 replaced with LED light source and remote driver or line voltage (Types B/C)",2.4900000000000002,"Extrapolated (same as 28W version)"]
["T8_4ft","4', 2 lamp HP T8 (25W, BF≥1.01)",56.999999999999993,"2","RTF",null,1.0380031770235147,24.703203256019002,7.51,0.87254136151600992,28.499999999999996,7,"extrapolated (same as 28W)","64 - LED commercial fixtures",4.57,"4' or U-bend T8 replaced with LED light source and remote driver or line voltage (Types B/C)",2.4900000000000002,"Extrapolated (same as 28W version)"]
["T8_4ft","4', 3 lamp HP T8 (25W, BF≤0.85)",56.25,"3","RTF",null,1.0380031770235147,24.378161107913492,7.51,0.87254136151600992,28.125,7,"extrapolated (same as 28W)","64 - LED commercial fixtures",4.57,"4' or U-bend T8 replaced with LED light source and remote driver or line voltage (Types B/C)",2.125,"Extrapolated (same as 28W version)"]
["T8_4ft","4', 3 lamp HP T8 (25W, 0.85<BF≤1.0)",64.5,"3","RTF",null,1.0380031770235147,27.95362473707414,7.51,0.87254136151600992,32.25,7,"extrapolated (same as 28W)","64 - LED commercial fixtures",4.57,"4' or U-bend T8 replaced with LED light source and remote driver or line voltage (Types B/C)",2.125,"Extrapolated (same as 28W version)"]
["T8_4ft","4', 3 lamp HP T8 (25W, BF≥1.01)",85.499999999999986,"3","RTF",null,1.0380031770235147,37.054804884028506,7.51,0.87254136151600992,42.749999999999993,7,"extrapolated (same as 28W)","64 - LED commercial fixtures",5.7125000000000004,"4' or U-bend T8 replaced with LED light source and remote driver or line voltage (Types B/C)",2.125,"Extrapolated (same as 28W version)"]
["T8_4ft","4', 4 lamp HP T8 (25W, BF≤0.85)",75,"4","RTF",null,1.0380031770235147,32.504214810551325,7.51,0.87254136151600992,37.5,7,"extrapolated (same as 28W)","64 - LED commercial fixtures",5.7125000000000004,"4' or U-bend T8 replaced with LED light source and remote driver or line voltage (Types B/C)",1.76,"Extrapolated (same as 28W version)"]
["T8_4ft","4', 4 lamp HP T8 (25W, 0.85<BF≤1.0)",86,"4","RTF",null,1.0380031770235147,37.271499649432187,7.51,0.87254136151600992,43,7,"extrapolated (same as 28W)","64 - LED commercial fixtures",5.7125000000000004,"4' or U-bend T8 replaced with LED light source and remote driver or line voltage (Types B/C)",1.76,"Extrapolated (same as 28W version)"]
["T8_4ft","4', 4 lamp HP T8 (25W, BF≥1.01)",113.99999999999999,"4","RTF",null,1.0380031770235147,49.406406512038004,7.51,0.87254136151600992,56.999999999999993,7,"extrapolated (same as 28W)","64 - LED commercial fixtures",6.8550000000000004,"4' or U-bend T8 replaced with LED light source and remote driver or line voltage (Types B/C)",1.76,"Extrapolated (same as 28W version)"]
["T8_4ft","4', 1 lamp HP T8 (28W, BF≤0.85)",21,"1","RTF",null,1.0380031770235147,9.1011801469543698,7.51,0.87254136151600992,10.5,7,"extrapolated  (half of 2-lamp)","64 - LED commercial fixtures",2.2850000000000001,"4' or U-bend T8 replaced with LED light source and remote driver or line voltage (Types B/C)",2.4900000000000002,"Extrapolated (same as 2-lamp version, per lamp)"]
["T8_4ft","4', 1 lamp HP T8 (28W, 0.85<BF≤1.0)",24.08,"1","RTF",null,1.0380031770235147,10.436019901841011,7.51,0.87254136151600992,12.04,7,"extrapolated  (half of 2-lamp)","64 - LED commercial fixtures",2.2850000000000001,"4' or U-bend T8 replaced with LED light source and remote driver or line voltage (Types B/C)",2.4900000000000002,"Extrapolated (same as 2-lamp version, per lamp)"]
["T8_4ft","4', 2 lamp HP T8 (28W, BF≤0.85)",42,"2","RTF",null,1.0380031770235147,18.20236029390874,7.51,0.87254136151600992,21,7,"Extrapolated (same as  Row 25)","64 - LED commercial fixtures",4.57,"4' or U-bend T8 replaced with LED light source and remote driver or line voltage (Types B/C)",2.4900000000000002,"Extrapolated (same as NB factor)"]
["T8_4ft","4', 2 lamp HP T8 (28W, 0.85<BF≤1.0)",48.16,"2","RTF",null,1.0380031770235147,20.872039803682021,7.51,0.87254136151600992,24.08,7,"row 20","64 - LED commercial fixtures",4.57,"4' or U-bend T8 replaced with LED light source and remote driver or line voltage (Types B/C)",2.4900000000000002,"row 36"]
["T8_4ft","4', 2 lamp HP T8 (28W, BF≥1.01)",63.839999999999996,"2","RTF",null,1.0380031770235147,27.667587646741286,7.51,0.87254136151600992,31.919999999999998,7,"Extrapolated (same as  Row 25)","64 - LED commercial fixtures",4.57,"4' or U-bend T8 replaced with LED light source and remote driver or line voltage (Types B/C)",2.4900000000000002,"Extrapolated (same as NB factor)"]
["T8_4ft","4', 3 lamp HP T8 (28W, BF≤0.85)",63,"3","RTF",null,1.0380031770235147,27.303540440863113,7.51,0.87254136151600992,31.5,7,"Extrapolated (between 2 and 4 lamp)","64 - LED commercial fixtures",5.7125000000000004,"4' or U-bend T8 replaced with LED light source and remote driver or line voltage (Types B/C)",2.125,"Extrapolated (between 2 and 4-lamp)"]
["T8_4ft","4', 3 lamp HP T8 (28W, 0.85<BF≤1.0)",72.239999999999995,"3","RTF",null,1.0380031770235147,31.308059705523032,7.51,0.87254136151600992,36.119999999999997,7,"Extrapolated (between 2 and 4 lamp)","64 - LED commercial fixtures",5.7125000000000004,"4' or U-bend T8 replaced with LED light source and remote driver or line voltage (Types B/C)",2.125,"Extrapolated (between 2 and 4-lamp)"]
["T8_4ft","4', 3 lamp HP T8 (28W, BF≥1.01)",95.759999999999991,"3","RTF",null,1.0380031770235147,41.501381470111923,7.51,0.87254136151600992,47.879999999999995,7,"Extrapolated (between 2 and 4 lamp)","64 - LED commercial fixtures",5.7125000000000004,"4' or U-bend T8 replaced with LED light source and remote driver or line voltage (Types B/C)",2.125,"Extrapolated (between 2 and 4-lamp)"]
["T8_4ft","4', 4 lamp HP T8 (28W, BF≤0.85)",84,"4","RTF",null,1.0380031770235147,36.404720587817479,7.51,0.87254136151600992,42,7,"Extrapolated (same as  Row 29)","64 - LED commercial fixtures",6.8550000000000004,"4' or U-bend T8 replaced with LED light source and remote driver or line voltage (Types B/C)",1.76,"Extrapolated (same as NB factor)"]
["T8_4ft","4', 4 lamp HP T8 (28W, 0.85<BF≤1.0)",96.32,"4","RTF",null,1.0380031770235147,41.744079607364043,7.51,0.87254136151600992,48.16,7,"1.5x 2-lamp version ","64 - LED commercial fixtures",6.8550000000000004,"4' or U-bend T8 replaced with LED light source and remote driver or line voltage (Types B/C)",1.76,"row 40"]
["T8_4ft","4', 4 lamp HP T8 (28W, BF≥1.01)",127.67999999999999,"4","RTF",null,1.0380031770235147,55.335175293482571,7.51,0.87254136151600992,63.839999999999996,7,"Extrapolated (same as  Row 29)","64 - LED commercial fixtures",6.8550000000000004,"4' or U-bend T8 replaced with LED light source and remote driver or line voltage (Types B/C)",1.76,"Extrapolated (same as NB factor)"]
["T8_8ft","8', 1 lamp T8",54.28,"1","RTF",null,1.0380031770235147,23.524383732223011,7.51,0.87254136151600992,27.14,7,"extrapolated  (half of 2-lamp)","64 - LED commercial fixtures",2.6949999999999998,"8' T8 replaced with LED light source and remote driver or line voltage (Types B/C)",6.43,"row 73"]
["T8_8ft","8', 2 lamp T8",108.56,"2","RTF",null,1.0380031770235147,47.048767464446023,7.51,0.87254136151600992,54.28,7,"Row 18","64 - LED commercial fixtures",5.39,"8' T8 replaced with LED light source and remote driver or line voltage (Types B/C)",4.21,"Row 76"]
["T8_8ft","8', 3 lamp T8",162.84,"3","RTF",null,1.0380031770235147,70.573151196669031,7.51,0.87254136151600992,81.42,7,"extrapolated (1.5x  2-lamp)","64 - LED commercial fixtures",8.0849999999999991,"8' T8 replaced with LED light source and remote driver or line voltage (Types B/C)",6.43,"Extrapolated (same as 1-lamp version, per lamp)"]
["T8_8ft","8', 4 lamp T8",217.12,"4","RTF",null,1.0380031770235147,94.097534928892046,7.51,0.87254136151600992,108.56,7,"extrapolated (2x  2-lamp)","64 - LED commercial fixtures",10.78,"8' T8 replaced with LED light source and remote driver or line voltage (Types B/C)",4.21,"Extrapolated (same as 2-lamp version, per lamp)"]
["T8_8ft","8', 1 lamp T8 (24,000 + hrs)",54.28,"1","RTF",null,1.0380031770235147,23.524383732223011,7.51,0.87254136151600992,27.14,7,"Extrapolated (half of 2-lamp)","64 - LED commercial fixtures",3.1749999999999998,"8' T8 replaced with LED light source and remote driver or line voltage (Types B/C)",5.1440000000000001,"Extrapolated (80% of T8 version)"]
["T8_8ft","8', 2 lamp T8 (24,000 + hrs)",108.56,"2","RTF",null,1.0380031770235147,47.048767464446023,7.51,0.87254136151600992,54.28,7,"row 11","64 - LED commercial fixtures",6.35,"8' T8 replaced with LED light source and remote driver or line voltage (Types B/C)",3.3680000000000003,"Extrapolated (80% of T8 version)"]
["T8_8ft","8', 3 lamp T8 (24,000 + hrs)",162.84,"3","RTF",null,1.0380031770235147,70.573151196669031,7.51,0.87254136151600992,81.42,7,"extrapolated (1.5x  2-lamp)","64 - LED commercial fixtures",9.5249999999999986,"8' T8 replaced with LED light source and remote driver or line voltage (Types B/C)",5.1440000000000001,"Extrapolated (80% of T8 version)"]
["T8_8ft","8', 4 lamp T8 (24,000 + hrs)",217.12,"4","RTF",null,1.0380031770235147,94.097534928892046,7.51,0.87254136151600992,108.56,7,"extrapolated (2x  2-lamp)","64 - LED commercial fixtures",12.7,"8' T8 replaced with LED light source and remote driver or line voltage (Types B/C)",3.3680000000000003,"Extrapolated (80% of T8 version)"]
["T8_8ft","8', 1 lamp T8 HO",79.12,"1","RTF",null,1.0380031770235147,34.289779677477611,7.51,0.87254136151600992,39.56,7,"Extrapolated (half of 2-lamp)","64 - LED commercial fixtures",4.0424999999999995,"8' T8 replaced with LED light source and remote driver or line voltage (Types B/C)",4.25,"Extrapolated (same as 2-lamp version, per lamp)"]
["T8_8ft","8', 2 lamp T8 HO",158.24,"2","RTF",null,1.0380031770235147,68.579559354955222,7.51,0.87254136151600992,79.12,7,"No data in CEC, 1.5x T8 2-lamp version (row 18)","64 - LED commercial fixtures",8.0849999999999991,"8' T8 replaced with LED light source and remote driver or line voltage (Types B/C)",4.25,"Row 77"]
["T8_8ft","8', 3 lamp T8 HO",237.36,"3","RTF",null,1.0380031770235147,102.86933903243283,7.51,0.87254136151600992,118.68,7,"extrapolated (1.5x  2-lamp)","64 - LED commercial fixtures",12.127499999999998,"8' T8 replaced with LED light source and remote driver or line voltage (Types B/C)",4.25,"Extrapolated (same as 2-lamp version, per lamp)"]
["T8_8ft","8', 4 lamp T8 HO",316.48,"4","RTF",null,1.0380031770235147,137.15911870991044,7.51,0.87254136151600992,158.24,7,"extrapolated (2x  2-lamp)","64 - LED commercial fixtures",16.169999999999998,"8' T8 replaced with LED light source and remote driver or line voltage (Types B/C)",4.25,"Extrapolated (same as 2-lamp version, per lamp)"]
[]
[null,"*******************************************************"]
[null,"T-12 FIXTURES - 8 FEET","(select)","(select)"]
[null,"*******************************************************"]
["T12_8ft","8', 1 lamp T12",69,{"$f":"MID(B75,5,1)","v":"1"},"RTF",null,1.0380031770235147,19.850230319678154,7.51,0.87254136151600992,22.901141938869213,7.51,"extrapolated  (half of 2-lamp)","64 - LED commercial fixtures",3.99,"8' T12 replaced with LED light source and remote driver or line voltage (Types B/C)",12.34,"Row 72"]
["T12_8ft","8', 2 lamp T12",138,"2","RTF",null,1.0380031770235147,39.700460639356308,7.51,0.87254136151600992,45.802283877738425,7.51,"Row 27","64 - LED commercial fixtures",7.98,"8' T12 replaced with LED light source and remote driver or line voltage (Types B/C)",8.1999999999999993,"row 74"]
["T12_8ft","8', 3 lamp T12",206.99999999999997,"3","RTF",null,1.0380031770235147,59.550690959034455,7.51,0.87254136151600992,68.70342581660762,7.51,"Extrapolated (1.5x 2-lamp)","64 - LED commercial fixtures",11.97,"8' T12 replaced with LED light source and remote driver or line voltage (Types B/C)",12.34,"Extrapolation (same as 1-lamp, per lamp)"]
["T12_8ft","8', 4 lamp T12",276,"4","RTF",null,1.0380031770235147,79.400921278712616,7.51,0.87254136151600992,91.60456775547685,7.51,"Extrapolated (2x 2-lamp)","64 - LED commercial fixtures",15.96,"8' T12 replaced with LED light source and remote driver or line voltage (Types B/C)",8.1999999999999993,"Extrapolated (same as 2-lamp version) - per lamp"]
["T12_8ft","8', 1 lamp T12 HO",114,"1","RTF",null,1.0380031770235147,32.79603270207695,7.51,0.87254136151600992,37.83666929030565,7.51,"extrapolated  (half of 2-lamp)","64 - LED commercial fixtures",4.1349999999999998,"8' T12 replaced with LED light source and remote driver or line voltage (Types B/C)",12.36,"row 83"]
["T12_8ft","8', 2 lamp T12 HO",228,"2","RTF",null,1.0380031770235147,65.5920654041539,7.51,0.87254136151600992,75.673338580611301,7.51,"row 23","64 - LED commercial fixtures",8.27,"8' T12 replaced with LED light source and remote driver or line voltage (Types B/C)",8.1999999999999993,"Row 75"]
["T12_8ft","8', 3 lamp T12 HO",342,"3","RTF",null,1.3072812422679914,123.91187037164985,7.51,1.1133668161055081,144.52007348874997,7.51,"Extrapolated (1.5x 2-lamp)","64 - LED commercial fixtures",12.404999999999999,"8' T12 replaced with LED light source and remote driver or line voltage (Types B/C)",6.82,"Row 78"]
["T12_8ft","8', 4 lamp T12 HO",456,"4","RTF",null,1.3072812422679914,165.21582716219982,7.51,1.1133668161055081,192.6934313183333,7.51,"Extrapolated (2x 2-lamp)","64 - LED commercial fixtures",16.54,"8' T12 replaced with LED light source and remote driver or line voltage (Types B/C)",8.1999999999999993,"Extrapolated (same as 2-lamp version) - per lamp"]
["T12_8ft","8', 1 lamp T12 VHO",188.70000000000002,"1","RTF",null,1.0380031770235147,54.286064656858962,7.51,0.87254136151600992,62.629644693690153,7.51,"Extrapolated (1.25x HO version)","64 - LED commercial fixtures",5.1687499999999993,"8' T12 replaced with LED light source and remote driver or line voltage (Types B/C)",15.45,"Extrapolated (1.25x HO version)"]
["T12_8ft","8', 2 lamp T12 VHO",377.40000000000003,"2","RTF",null,1.3072812422679914,136.73783590134695,7.51,1.1133668161055081,159.47916881477849,7.51,"Extrapolated (1.25x HO version)","64 - LED commercial fixtures",10.337499999999999,"8' T12 replaced with LED light source and remote driver or line voltage (Types B/C)",10.25,"Extrapolated (1.25x HO version)"]
["T12_8ft","8', 3 lamp T12 VHO",566.1,"3","RTF",null,1.3072812422679914,205.10675385202043,7.51,1.1133668161055081,239.21875322216772,7.51,"Extrapolated (1.25x HO version)","64 - LED commercial fixtures",15.50625,"8' T12 replaced with LED light source and remote driver or line voltage (Types B/C)",8.5250000000000004,"Extrapolated (1.25x HO version)"]
["T12_8ft","8', 4 lamp T12 VHO",754.80000000000007,"4","RTF",null,1.3072812422679914,273.47567180269391,7.51,1.1133668161055081,318.95833762955698,7.51,"Extrapolated (1.25x HO version)","64 - LED commercial fixtures",20.674999999999997,"8' T12 replaced with LED light source and remote driver or line voltage (Types B/C)",10.25,"Extrapolated (1.25x HO version)"]
[]
[null,"*******************************************************"]
[null,"T5 FIXTURES","(select)","(select)"]
[null,"*******************************************************"]
["T5_4ft","T5HO1-lamp fixture (low watt)",53.900000000000006,{"$f":"MID(B91,5,1)","v":"1"},"RTF",null,1.3072812422679914,26.9193993548752,7.51,1.1133668161055081,31.39645589539634,7.51,"extrapolation (1/2 of 2 lamp)","211- High and Low-Bay LED Luminairs-CEC",2.4973444028649112,"4' T5 replaced with LED light source and remote driver or line voltage (Types B/C)",2.1,"Extrapolated (same as 54W)"]
["T5_4ft","T5HO1-lamp fixture (54 watt)",59.400000000000006,"1","RTF",null,1.3072812422679914,29.666276840066548,7.51,1.1133668161055081,34.600175884722496,7.51,"extrapolation (1/2 of 2 lamp)","211- High and Low-Bay LED Luminairs-CEC",2.3119255686847517,"4' T5HO replaced with LED light source and remote driver or line voltage (Types B/C)",2.1,"Extrapolated (same as 2-lamp version) - per lamp"]
["T5_4ft","T5HO2-lamp fixture (low watt)",107.80000000000001,"2","RTF",null,1.3072812422679914,53.838798709750399,7.51,1.1133668161055081,62.792911790792679,7.51,"row 7","211- High and Low-Bay LED Luminairs-CEC",4.9946888057298224,"4' T5 replaced with LED light source and remote driver or line voltage (Types B/C)",2.1,"Extrapolated (same as 54W)"]
["T5_4ft","T5HO2-lamp fixture (54 watt)",118.80000000000001,"2","RTF",null,1.3072812422679914,59.332553680133095,7.51,1.1133668161055081,69.200351769444993,7.51,"extrapolation (1/2 of 4 lamp)","211- High and Low-Bay LED Luminairs-CEC",4.6238511373695035,"4' T5HO replaced with LED light source and remote driver or line voltage (Types B/C)",2.1,"Row 56"]
["T5_4ft","T5HO3-lamp fixture (low watt)",161.70000000000002,"3","RTF",null,1.3072812422679914,80.758198064625603,7.51,1.1133668161055081,94.189367686189016,7.51,"extrapolation (2 and 4 lamp)","211- High and Low-Bay LED Luminairs-CEC",7.1211955402344147,"4' T5 replaced with LED light source and remote driver or line voltage (Types B/C)",1.24,"Extrapolated (same as 54W)"]
["T5_4ft","T5HO3-lamp fixture (54 watt)",178.20000000000002,"3","RTF",null,1.3072812422679914,88.998830520199633,7.51,1.1133668161055081,103.80052765416748,7.51,"extrapolation (2 and 4 lamp)","211- High and Low-Bay LED Luminairs-CEC",7.0651068492600366,"4' T5HO replaced with LED light source and remote driver or line voltage (Types B/C)",1.24,"Extrapolated (same as 6-lamp version) - per lamp"]
["T5_4ft","T5HO4-lamp fixture (low watt)",215.60000000000002,{"$f":"MID(B98,5,1)","v":"4"},"RTF",null,1.3072812422679914,107.6775974195008,7.51,1.1133668161055081,125.58582358158536,7.51,"row36","211- High and Low-Bay LED Luminairs-CEC",9.247702274739007,"4' T5 replaced with LED light source and remote driver or line voltage (Types B/C)",1.98,"Extrapolated (same as 54W)"]
["T5_4ft","T5HO4-lamp fixture (54 watt)",237.60000000000002,{"$f":"MID(B97,5,1)","v":"4"},"RTF",null,1.3072812422679914,118.66510736026619,7.51,1.1133668161055081,138.40070353888999,7.51,"row 35","211- High and Low-Bay LED Luminairs-CEC",9.5063625611505689,"4' T5HO replaced with LED light source and remote driver or line voltage (Types B/C)",1.98,"Row 60"]
["T5_4ft","T5HO5-lamp fixture (54 watt)",297,{"$f":"MID(B99,5,1)","v":"5"},"RTF",null,1.3072812422679914,148.33138420033271,7.51,1.1133668161055081,173.00087942361245,7.51,"extrapolation (between 4' and 6' versions)","211- High and Low-Bay LED Luminairs-CEC",9.3770324179447879,"4' T5HO replaced with LED light source and remote driver or line voltage (Types B/C)",1.98,"Extrapolated (same as 4-lamp version) - per lamp"]
["T5_4ft","T5HO6-lamp fixture (low watt)",323.40000000000003,{"$f":"MID(B101,5,1)","v":"6"},"RTF",null,1.3072812422679914,161.51639612925121,7.51,1.1133668161055081,188.37873537237803,7.51,"row 23","211- High and Low-Bay LED Luminairs-CEC",11.274611917434244,"extrapolation (same cost as 54 W version)",1.24,"Extrapolated (same as 54W)"]
["T5_4ft","T5HO6-lamp fixture (54 watt)",356.40000000000003,{"$f":"MID(B100,5,1)","v":"6"},"RTF",null,1.3072812422679914,177.99766104039927,7.51,1.1133668161055081,207.60105530833496,7.51,"row 37","211- High and Low-Bay LED Luminairs-CEC",9.247702274739007,"4' T5HO replaced with LED light source and remote driver or line voltage (Types B/C)",1.24,"row 57"]
["T5_4ft","T5HO8-lamp fixture (low watt)",431.20000000000005,{"$f":"MID(B102,5,1)","v":"8"},"RTF",null,1.3072812422679914,215.3551948390016,7.51,1.1133668161055081,251.17164716317072,7.51,"extrapolation (2x 4-lamp)","211- High and Low-Bay LED Luminairs-CEC",18.495404549478014,"extrapolation (same cost as 54 W version)",1.98,"Extrapolated (same as 54W)"]
["T5_4ft","T5HO8-lamp fixture (54 watt)",475.20000000000005,{"$f":"MID(B103,5,1)","v":"8"},"RTF",null,1.3072812422679914,237.33021472053238,7.51,1.1133668161055081,276.80140707777997,7.51,"row 38","211- High and Low-Bay LED Luminairs-CEC",14.734202049990193,"4' T5HO replaced with LED light source and remote driver or line voltage (Types B/C)",1.98,"Extrapolated (same as 4-lamp version) - per lamp"]
["T5_4ft","T5HO10-lamp fixture (low watt)",539,{"$f":"MID(B104,5,2)","v":"10"},"RTF",null,1.3072812422679914,269.19399354875196,7.51,1.1133668161055081,313.96455895396338,7.51,"extrapolation (between 8 and 12 lamp)","211- High and Low-Bay LED Luminairs-CEC",23.119255686847517,"extrapolation (same cost as 54 W version)",1.98,"Extrapolated (same as 54W)"]
["T5_4ft","T5HO10-lamp fixture (54 watt)",594,{"$f":"MID(B105,5,2)","v":"10"},"RTF",null,1.3072812422679914,296.66276840066541,7.51,1.1133668161055081,346.00175884722489,7.51,"extrapolation (between 8 and 12 lamp)","211- High and Low-Bay LED Luminairs-CEC",21.626644866720952,"4' T5HO replaced with LED light source and remote driver or line voltage (Types B/C)",1.98,"Extrapolated (same as 4-lamp version) - per lamp"]
["T5_4ft","T5HO12-lamp fixture (low watt)",646.80000000000007,{"$f":"MID(B106,5,2)","v":"12"},"RTF",null,1.3072812422679914,323.03279225850241,7.51,1.1133668161055081,376.75747074475606,7.51,"extrapolation (3x 4-lamp)","211- High and Low-Bay LED Luminairs-CEC",27.743106824217023,"extrapolation (same cost as 54 W version)",1.24,"Extrapolated (same as 54W)"]
["T5_4ft","T5HO12-lamp fixture (54 watt)",712.80000000000007,{"$f":"MID(B107,5,2)","v":"12"},"RTF",null,1.3072812422679914,355.99532208079853,7.51,1.1133668161055081,415.20211061666993,7.51,"extrapolation (3x 4-lamp)","211- High and Low-Bay LED Luminairs-CEC",28.519087683451708,"4' T5HO replaced with LED light source and remote driver or line voltage (Types B/C)",1.24,"Extrapolated (same as 6-lamp version) - per lamp"]
[]
[]
[null,"*******************************************************",null,null,null,null,"FIXTURES",null,null,"LAMPS"]
[null,"INCANDESCENT OR CFL","(select)","(select)",null,null,6,7,8,9,10,11]
[null,"*******************************************************",null,null,null,null,"period 2, part 2","period 2, part 1","period 1, (years)","period 2, part 2","period 2, part 1","period 1, (years)"]
["INCAN","Halogen - Decorative Lamp","Enter Watts",null,"RTF",null,3.614733969013344,0.50038354372535077,0.22522522522522523,2.6060141240907106,0.5167171847006784,0.22522522522522523,"row 3","49 - screw-in lamps",5.0599999999999996,"49 - screw-in lamps",5.0599999999999996,"Row 3"]
["INCAN","Halogen - PAR/R/Reflector","Enter Watts",null,"RTF",null,1.3012263304099909,0.24868649764208567,0.22522522522522523,1.1165443141144471,0.26542251027893682,0.22522522522522523,"row 39","49 - screw-in lamps",5.37,"49 - screw-in lamps",5.37,"row 39"]
["INCAN","Halogen - MR-16","Enter Watts",null,"RTF",null,1.4828701675143501,0.18491348351000356,0.22522522522522523,1.4828701675143501,0.19221841557625172,0.22522522522522523,"row 35","49 - screw-in lamps",5.05,"49 - screw-in lamps",5.05,"row 35"]
["INCAN","Halogen - A-Lamp/General Purpose","Enter Watts",null,"RTF",null,0.92339053194889775,0.17132900281614133,0.22522522522522523,0.92339053194889775,0.17132900281614133,0.22522522522522523,"row  14","49 - screw-in lamps",5.22,"49 - screw-in lamps",5.22,"row  14"]
["INCAN","Incandescent - Decorative Lamp","Enter Watts",null,"RTF",null,3.614733969013344,0.23253117620178071,0.22522522522522523,2.6060141240907106,0.24012151524325648,0.22522522522522523,"row 6","49 - screw-in lamps",4.82,"49 - screw-in lamps",4.82,"row 6"]
["INCAN","Incandescent - PAR/R/Reflector","Enter Watts",null,"RTF",null,1.3012263304099909,0.17097196712893392,0.22522522522522523,1.1165443141144471,0.18247797581676903,0.22522522522522523,"row 43","49 - screw-in lamps",5.19,"49 - screw-in lamps",5.19,"row 43"]
["INCAN","Incandescent - A-Lamp/General Purpose","Enter Watts",null,"RTF",null,0.92339053194889775,0.17132900281614133,0.22522522522522523,0.92339053194889775,0.17132900281614133,0.22522522522522523,"row  14","49 - screw-in lamps",5.22,"49 - screw-in lamps",5.22,"row  14"]
["CFL","Compact Fluorescent","Enter Watts",null,"RTF",null,1.3012263304099909,0.699430774618366,0.9,0.92339053194889775,0.65508148135583455,0.9,"row 11","49 - screw-in lamps",1.91,"49 - screw-in lamps",1.91,"row 11","fixture uses exterior selection (MF primary), lamp only uses interior hours."]
["CFL","Pin-Compact Fluorescent","Enter Watts",null,"RTF",null,0.58578491428568369,0.42144878678497971,7.51,0.58578491428568369,0.42144878678497971,7,"MAD 8 Row 20","MAD 8-TLED: Pin-CFL to Pin-LED (bypass version)",3.1628164024855292,"MAD 49  (CEC value)",1.89,"row 6","use lamp for fixture market adjustments, no baseline reverting for Pin-CFL"]
[]
[null,"*******************************************************"]
[null,"HIGH-INTENSITY DISCHARGE (HID)","(select)","(select)",null,null,null,null,null,null,null,null,null,"Fixture NEB Source","Fixture NEB","Lamp NEB Source","Lamp NEB"]
[null,"*******************************************************"]
["HID","Metal Halide, 32 watts",42.22,null,"RTF",null,0.86783476722159514,7.5093696563984746,7.61,0.86678994025924816,7.5003287742126243,7.61,"Extrapolated (same as  50W)","62 - LED exterior commercial lighting",10.542546854290153,"33 - Replacement HID screw-in LED lamp",17.21,"row 12"]
["HID","Metal Halide, 50 watts",65.97,null,"RTF",null,0.86783476722159514,11.733390088122615,7.61,0.86678994025924816,11.719263709707224,7.61,"Extrapolated (75% of 70W)","62 - LED exterior commercial lighting",10.542546854290153,"33 - Replacement HID screw-in LED lamp",17.23,"Row 10"]
["HID","Metal Halide, 70 watts",92.35,null,"RTF",null,0.86783476722159514,16.426746123371665,7.61,0.86678994025924816,16.406969193590115,7.61,"row 8","62 - LED exterior commercial lighting",14.056729139053537,"33 - Replacement HID screw-in LED lamp",17.23,"Row 11"]
["HID","Metal Halide, 100 watts",131.94,null,"RTF",null,0.86783476722159514,23.46678017624523,7.61,0.86678994025924816,23.438527419414449,7.61,"row 7","62 - LED exterior commercial lighting",13.890603676763982,"33 - Replacement HID screw-in LED lamp",19.82,"Row 7"]
["HID","Metal Halide, 150 watts",197.9,null,"RTF",null,0.86783476722159514,35.200170264367848,7.61,0.86678994025924816,35.157791129121676,7.61,"row 19","62 - LED exterior commercial lighting",10.027031026102602,"33 - Replacement HID screw-in LED lamp",12.97,"Row 8"]
["HID","Metal Halide, 175 watts",230.89,null,"RTF",null,0.86783476722159514,41.066865308429158,7.61,0.86678994025924816,41.017422983975287,7.61,"row 20","62 - LED exterior commercial lighting",10.283229965318476,"33 - Replacement HID screw-in LED lamp",13.48,"row 26"]
["HID","Metal Halide, 250 watts",289.17,null,"RTF",null,0.76324057269525414,45.233940062232968,7.61,0.76324057269525414,45.233940062232968,7.61,"row 37","62 - LED exterior commercial lighting",12.529782928348672,"33 - Replacement HID screw-in LED lamp",15.26,"Row 27"]
["HID","Metal Halide, 400 watts",462.67,null,"RTF",null,0.76324057269525414,72.37430409957274,7.61,0.76324057269525414,72.37430409957274,7.61,"Row 38","62 - LED exterior commercial lighting",12.9736813086539,"33 - Replacement HID screw-in LED lamp",15.31,"row 39"]
["HID","Metal Halide, 750 watts",821.67,null,"RTF",null,1.0325542262322331,173.88546387045182,7.6051410753669471,1.0325542262322331,173.88546387045182,7.6051410753669471,"CEC 38 row10","CEC 38 - Street Lighting (main table)",54.2,"33 - Replacement HID screw-in LED lamp",27.53,"Extrapolated (between 400 and 1000W MH)"]
["HID","Metal Halide, 1000 watts",1095.56,null,"RTF",null,0.76324057269525414,171.37623401099597,7.61,0.76324057269525414,171.37623401099597,7.61,"row 57","62 - LED exterior commercial lighting",26.212431329595315,"33 - Replacement HID screw-in LED lamp",10.6,"row 44"]
["HID","Metal Halide, 1500 watts",1643.33,null,"RTF",null,1.0325542262322331,347.77092774090363,7.6051410753669471,0.76324057269525414,257.06435101649396,7.6051410753669471,"row 69","62 - LED exterior commercial lighting",39.53,"33 - Replacement HID screw-in LED lamp",10.6,"Extrapolated (1.5x 1000W version)"]
["HID","High Pressure Sodium, 35 watts",47.000000000000007,null,"RTF",null,0.86783476722159514,8.9758995753489188,7.61,0.86678994025924816,8.9650930690393515,7.61,"Extrapolated (same as 50W)","extrapolation",9.0145682686349353,"33 - Replacement HID screw-in LED lamp",10.61,"Extrapolated (same as 50W)"]
["HID","High Pressure Sodium, 50 watts",67.14,null,"RTF",null,0.86783476722159514,12.822713679069885,7.61,0.86678994025924816,12.807275812913359,7.61,"Row 4","62 - LED exterior commercial lighting",9.0145682686349353,"33 - Replacement HID screw-in LED lamp",11.46,"row 5"]
["HID","High Pressure Sodium, 70 watts",94.000000000000014,null,"RTF",null,0.86783476722159514,17.951799150697838,7.61,0.86678994025924816,17.930186138078703,7.61,"row 15","62 - LED exterior commercial lighting",9.3946071225161791,"33 - Replacement HID screw-in LED lamp",13.58,"Row 6"]
["HID","High Pressure Sodium, 100 watts",134.29,null,"RTF",null,0.86783476722159514,25.64542735813977,7.61,0.86678994025924816,25.614551625826717,7.61,"row 28","62 - LED exterior commercial lighting",9.4268525940960544,"33 - Replacement HID screw-in LED lamp",14.42,"Row 2"]
["HID","High Pressure Sodium, 150 watts",179.33,null,"RTF",null,0.86783476722159514,34.248082849805279,7.61,0.86678994025924816,34.206849977233546,7.61,"row 29","62 - LED exterior commercial lighting",11.63499118658406,"33 - Replacement HID screw-in LED lamp",15.26,"row 21"]
["HID","High Pressure Sodium, 200 watts",239.11,null,"RTF",null,0.86783476722159514,45.664110466407045,7.61,0.86678994025924816,45.609133302978066,7.61,"Extrapolate (between row 43 -150W & 44 -250W)","62 - LED exterior commercial lighting",13.21,"33 - Replacement HID screw-in LED lamp",15.39,"Extrapolate (between 150 and 250W)"]
["HID","High Pressure Sodium, 250 watts",298.89,null,"RTF",null,0.76324057269525414,50.200659071861779,7.61,0.76324057269525414,50.200659071861779,7.61,"row 44","62 - LED exterior commercial lighting",13.825576563552795,"33 - Replacement HID screw-in LED lamp",29.66,"row 27"]
["HID","High Pressure Sodium, 310 watts",370.62,null,"RTF",null,0.76324057269525414,62.248817249108605,7.6051410753669471,1.0325542262322331,84.21365638562402,7.6051410753669471,"CEC 38 row 7","CEC 38 - Street Lighting (main table)",7.02,"33 - Replacement HID screw-in LED lamp",13.768000000000001,"Extrapolated (between 250 & 400 HPS))"]
["HID","High Pressure Sodium, 400 watts",478.22,null,"RTF",null,0.76324057269525414,80.321054514978854,7.61,0.76324057269525414,80.321054514978854,7.61,"row 45","62 - LED exterior commercial lighting",15.156953100405033,"33 - Replacement HID screw-in LED lamp",13.784000000000001,"row 37"]
["HID","High Pressure Sodium, 750 watts",896.66,null,"RTF",null,0.76324057269525414,150.60197721558535,7.6051410753669471,1.0325542262322331,203.74271706199363,7.6051410753669471,"CEC 38 row10","CEC 38 - Street Lighting (main table)",54.2,"33 - Replacement HID screw-in LED lamp",13.784000000000001,"Extrapolated (between 400W and 1000W HPS))"]
["HID","High Pressure Sodium, 1000 watts",1100,null,"RTF",null,0.76324057269525414,184.75543203467936,7.61,0.76324057269525414,184.75543203467936,7.61,"row 55","62 - LED exterior commercial lighting",29.492008233023945,"33 - Replacement HID screw-in LED lamp",15.856000000000002,"row 36"]
["HID","High Pressure Sodium, 1500 watts",1650.0000000000002,null,"RTF",null,0.76324057269525414,277.13314805201907,7.6051410753669471,1.0325542262322331,374.92111070517097,7.6051410753669471,"CEC 38 row 12","CEC 38 - Street Lighting (main table)",381.14,"33 - Replacement HID screw-in LED lamp",10.34,"Extrapolated (1.5x 1000W version)"]
["HID","Mercury Vapor, 40 watts",52.93,null,"RTF",null,0.86783476722159514,9.4150152755290311,7.61,0.86678994025924816,9.4036800972412617,7.61,"Extrapolated (same as  50W)","62 - LED exterior commercial lighting",3.3770901569394223,"33 - Replacement HID screw-in LED lamp",12.56,"Extrapolated (80% of MH version)"]
["HID","Mercury Vapor, 50 watts",66.17,null,"RTF",null,0.86783476722159514,11.768769094411288,7.61,0.86678994025924816,11.754600121551578,7.61,"Extrapolated (50% of 100W)","62 - LED exterior commercial lighting",3.3770901569394223,"33 - Replacement HID screw-in LED lamp",12.64,"Extrapolated (80% of MH version)"]
["HID","Mercury Vapor, 75 watts",99.25,null,"RTF",null,0.86783476722159514,17.653153641616935,7.61,0.86678994025924816,17.631900182327367,7.61,"Extrapolated (75% of 100W)","62 - LED exterior commercial lighting",5.0656352354091334,"33 - Replacement HID screw-in LED lamp",22.024000000000001,"Extrapolated (80% of MH version)"]
["HID","Mercury Vapor, 100 watts",114.94,null,"RTF",null,0.86783476722159514,20.443645979455422,7.61,0.86678994025924816,20.419032915615634,7.61,"row 24","62 - LED exterior commercial lighting",6.7541803138788445,"33 - Replacement HID screw-in LED lamp",15.24,"Extrapolated (80% of MH version)"]
["HID","Mercury Vapor, 175 watts",201.14,null,"RTF",null,0.86783476722159514,35.776380464046987,7.61,0.86678994025924816,35.733307602327358,7.61,"row 33","62 - LED exterior commercial lighting",9.0809514891801051,"33 - Replacement HID screw-in LED lamp",15.31,"row 32"]
["HID","Mercury Vapor, 250 watts",287.35000000000002,null,"RTF",null,0.76324057269525414,44.949282555518913,7.61,0.76324057269525414,44.949282555518913,7.61,"extrapolated (80% of 250W  MH)","62 - LED exterior commercial lighting",10.023826342678937,"33 - Replacement HID screw-in LED lamp",21.42,"row 29"]
["HID","Mercury Vapor, 400 watts",459.76,null,"RTF",null,0.76324057269525414,71.918852088830263,7.61,0.76324057269525414,71.918852088830263,7.61,"extrapolated (80% of 400W  MH)","62 - LED exterior commercial lighting",10.378945046923121,"33 - Replacement HID screw-in LED lamp",21.42,"row 40"]
["HID","Mercury Vapor, 750 watts",862.04,null,"RTF",null,1.0325542262322331,182.42965584852135,7.6051410753669471,1.0325542262322331,182.42965584852135,7.6051410753669471,"CEC 38 row10","CEC 38 - Street Lighting (main table)",54.2,"33 - Replacement HID screw-in LED lamp",41.295000000000002,"Extrapolated (between 400W and 1000W HPS))"]
["HID","Mercury Vapor, 1000 watts",1149.3900000000001,null,"RTF",null,0.76324057269525414,179.79713022207565,7.61,0.76324057269525414,179.79713022207565,7.61,"extrapolated (80% of 1000W  MH)","62 - LED exterior commercial lighting",20.969945063676253,"33 - Replacement HID screw-in LED lamp",15.324999999999999,"Extrapolated (80% of MH version)"]
["HID","Mercury Vapor, 1500 watts",1724.08,null,"RTF",null,1.0325542262322331,364.8593116970427,7.6051410753669471,1.0325542262322331,364.8593116970427,7.6051410753669471,"CEC 38 row 12","CEC 38 - Street Lighting (main table)",381.14,"33 - Replacement HID screw-in LED lamp",22.524999999999999,"Extrapolated (1.5x 1000W version)"]
["HID","Pulse Start Metal Halide, 70 watts",80.48,null,"RTF",null,1.0325542262322331,17.032658956801097,7.6051410753669471,1.0325542262322331,17.032658956801097,7.6051410753669471,"CEC 38 row 1","CEC 38 - Street Lighting (main table)",38.47,"33 - Replacement HID screw-in LED lamp",44.49,"Extrapolated (similar to MH version)"]
["HID","Pulse Start Metal Halide, 100 watts",114.98,null,"RTF",null,1.0325542262322331,24.332369938287279,7.6051410753669471,1.0325542262322331,24.332369938287279,7.6051410753669471,"CEC 38 row 2","CEC 38 - Street Lighting (main table)",43.04,"33 - Replacement HID screw-in LED lamp",17.332000000000001,"Extrapolated (similar to MH version)"]
["HID","Pulse Start Metal Halide, 150 watts",172.47,null,"RTF",null,1.0325542262322331,36.498554907430915,7.6051410753669471,1.0325542262322331,36.498554907430915,7.6051410753669471,"CEC 38 row 3","CEC 38 - Street Lighting (main table)",44.47,"33 - Replacement HID screw-in LED lamp",33.036000000000001,"Extrapolated (similar to MH version)"]
["HID","Pulse Start Metal Halide, 175 watts",201.21,null,"RTF",null,1.0325542262322331,42.581647392002736,7.6051410753669471,1.0325542262322331,42.581647392002736,7.6051410753669471,"CEC 38 row 4","CEC 38 - Street Lighting (main table)",54.74,"33 - Replacement HID screw-in LED lamp",17.23,"Extrapolated (similar to MH version)"]
["HID","Pulse Start Metal Halide, 200 watts",229.96,null,"RTF",null,1.0325542262322331,48.664739876574558,7.6051410753669471,1.0325542262322331,48.664739876574558,7.6051410753669471,"CEC 38 row 5","CEC 38 - Street Lighting (main table)",48.78,"33 - Replacement HID screw-in LED lamp",19.82,"Extrapolated (between 175 and 250W versions)"]
["HID","Pulse Start Metal Halide, 250 watts",287.45,null,"RTF",null,1.0325542262322331,60.830924845718201,7.6051410753669471,1.0325542262322331,60.830924845718201,7.6051410753669471,"CEC 38 row 6","CEC 38 - Street Lighting (main table)",51.38,"33 - Replacement HID screw-in LED lamp",12.97,"Extrapolated (similar to MH version)"]
["HID","Pulse Start Metal Halide, 320 watts",367.93,null,"RTF",null,0.76324057269525414,57.554988187296971,7.61,0.76324057269525414,57.554988187296971,7.61,"row 52","62 - LED exterior commercial lighting",14.168237112564716,"33 - Replacement HID screw-in LED lamp",13.48,"row 30"]
["HID","Pulse Start Metal Halide, 350 watts",402.42,null,"RTF",null,0.76324057269525414,62.950768329856061,7.61,0.76324057269525414,62.950768329856061,7.61,"row 62 (similar to 320W)","62 - LED exterior commercial lighting",16.662007688100591,"33 - Replacement HID screw-in LED lamp",14.370000000000001,"Extrapolated (similar to MH version)"]
["HID","Pulse Start Metal Halide, 400 watts",459.91,null,"RTF",null,1.0325542262322331,97.329479753149116,7.6051410753669471,1.0325542262322331,97.329479753149116,7.6051410753669471,"CEC 38 row 9","CEC 38 - Street Lighting (main table)",59.69,"33 - Replacement HID screw-in LED lamp",15.26,"Extrapolated (similar to MH version)"]
["HID","Pulse Start Metal Halide, 750 watts",814,null,"RTF",null,0.76324057269525414,127.33288948930593,7.61,0.76324057269525414,127.33288948930593,7.61,"Extrapolated (75% of 1000W MH)","62 - LED exterior commercial lighting",19.659323497196485,"33 - Replacement HID screw-in LED lamp",15.31,"Extrapolated (similar to MH version 75% of 1000W))"]
["HID","Pulse Start Metal Halide, 1000 watts",1085.33,null,"RTF",null,1.0325542262322331,229.68400420372859,7.6051410753669471,1.0325542262322331,229.68400420372859,7.6051410753669471,"CEC 38 row 11","CEC 38 - Street Lighting (main table)",226.17,"33 - Replacement HID screw-in LED lamp",27.53,"Extrapolated (similar to MH version)"]
["HID","Pulse Start Metal Halide, 1500 watts",1628,null,"RTF",null,1.0325542262322331,344.52600630559289,7.6051410753669471,1.0325542262322331,344.52600630559289,7.6051410753669471,"CEC 38 row 12","CEC 38 - Street Lighting (main table)",381.14,"33 - Replacement HID screw-in LED lamp",41.295000000000002,"Extrapolated (1.5x 1000W version)"]
[]
[]
[null,"*******************************************************"]
[null,"T8 3ft fixtures","(select)","(select)",null,null,null,null,null,null,null,null,null,null,null,"Lamp NEB Source","Lamp NEB"]
[null,"*******************************************************"]
["T8_3ft","3', 1 lamp T8",24,1,"RTF",null,1.0380031770235147,10.401348739376424,7.51,0.87254136151600992,12,7,"extrapolation (75% of 4' lamp)","64 - LED commercial fixtures",1.32,"3' T8 replaced with LED light source and remote driver or line voltage (Types B/C)",3.89,"row 24"]
["T8_3ft","3', 2 lamp T8",48,2,"RTF",null,1.0380031770235147,20.802697478752847,7.51,0.87254136151600992,24,7,"extrapolation (75% of 4' lamp)","64 - LED commercial fixtures",2.64,"3' T8 replaced with LED light source and remote driver or line voltage (Types B/C)",2.63,"row 26"]
["T8_3ft","3', 3 lamp T8",72,3,"RTF",null,1.0380031770235147,31.204046218129271,7.51,0.87254136151600992,36,7,"extrapolation (75% of 4' lamp)","64 - LED commercial fixtures",3.5175000000000001,"3' T8 replaced with LED light source and remote driver or line voltage (Types B/C)",3.89,"Extrapolation (same as 1-lamp, per lamp)"]
[]
[null,"*******************************************************"]
[null,"T5 2' and 3' fixtures","(select)","(select)",null,null,null,null,null,null,null,null,null,null,null,"Lamp NEB Source","Lamp NEB"]
[null,"*******************************************************"]
["T5_3ft","3', 1 lamp T5",23.939999999999998,1,"RTF",null,1.0380031770235147,9.4935884137591149,7.51,0.87254136151600992,10.952720057720057,7.51,"extrapolation (1.25x T8 version)","64 - LED commercial fixtures",1.6500000000000001,"3' T5 replaced with LED light source and remote driver or line voltage (Types B/C)",5.1100000000000003,"Row 23"]
["T5_3ft","3', 2 lamp T5",47.879999999999995,2,"RTF",null,1.0380031770235147,18.98717682751823,7.51,0.87254136151600992,21.905440115440115,7.51,"extrapolation (1.25x T8 version)","64 - LED commercial fixtures",3.3000000000000003,"3' T5 replaced with LED light source and remote driver or line voltage (Types B/C)",2.08,"row 25"]
["T5_3ft","3', 3 lamp T5",71.819999999999993,3,"RTF",null,1.0380031770235147,28.480765241277346,7.51,0.87254136151600992,32.858160173160172,7.51,"extrapolation (1.25x T8 version)","64 - LED commercial fixtures",4.3968749999999996,"3' T5 replaced with LED light source and remote driver or line voltage (Types B/C)",5.1100000000000003,"Extrapolation (same as 1-lamp, per lamp)"]
["T5_2ft","2' 1 lamp T5",17.36,1,"RTF",null,1.0380031770235147,6.8842395514978385,7.51,0.87254136151600992,7.9423233167092819,7.51,"extrapolation (1.25x T8 version)","64 - LED commercial fixtures",1.1000000000000001,"2' T5 replaced with LED light source and remote driver or line voltage (Types B/C)",5.09,"row 18"]
["T5_2ft","2' 2 lamp T5",34.72,2,"RTF",null,1.0380031770235147,13.768479102995677,7.51,0.87254136151600992,15.884646633418564,7.51,"extrapolation (1.25x T8 version)","64 - LED commercial fixtures",2.2000000000000002,"2' T5 replaced with LED light source and remote driver or line voltage (Types B/C)",1.85,"row 2"]
["T5_2ft","2' 1 lamp T5HO",26.400000000000002,1,"RTF",null,1.0380031770235147,10.469120055273212,7.51,0.87254136151600992,12.078187532322872,7.51,"extrapolation (half of 4' version)","64 - LED commercial fixtures",1.1559627843423759,"2' T5 replaced with LED light source and remote driver or line voltage (Types B/C)",5.09,"Extrapolation (same as 2-lamp, per lamp)"]
["T5_2ft","2' 2 lamp T5HO",52.800000000000004,2,"RTF",null,1.0380031770235147,20.938240110546424,7.51,0.87254136151600992,24.156375064645744,7.51,"extrapolation (half of 4' version)","64 - LED commercial fixtures",2.3119255686847517,"2' T5 replaced with LED light source and remote driver or line voltage (Types B/C)",3.35,"row 3"]
[]
[null,"*******************************************************"]
[null,"OTHERS","(select)","(select)"]
[null,"*******************************************************"]
["T8_5ft","5', 1 lamp T8",34,1,"RTF",null,1.0380031770235147,14.735244047449934,7.51,0.87254136151600992,17,7,"Extrapolation (1.25x 4' version)","64 - LED commercial fixtures",2.2000000000000002,"5' T8 replaced with LED light source and remote driver or line voltage (Types B/C)",5.21,"Extrapolation (same as 6' version, per lamp)"]
["T8_5ft","5', 2 lamp T8",68,2,"RTF",null,1.0380031770235147,29.470488094899867,7.51,0.87254136151600992,34,7,"Extrapolation (1.25x 4' version)","64 - LED commercial fixtures",4.4000000000000004,"5' T8 replaced with LED light source and remote driver or line voltage (Types B/C)",5.21,"Extrapolation (same as 6' version, per lamp)"]
["T8_6ft","6', 1 lamp T8",59.160000000000004,1,"RTF",null,1.0380031770235147,25.639324642562887,7.51,0.87254136151600992,29.580000000000002,7,"Extrapolation (1.5x 4' version)","64 - LED commercial fixtures",2.64,"6' T8 replaced with LED light source and remote driver or line voltage (Types B/C)",5.21,"row 66"]
["T8_6ft","6', 2 lamp T8",118.32000000000001,2,"RTF",null,1.0380031770235147,51.278649285125773,7.51,0.87254136151600992,59.160000000000004,7,"Extrapolation (1.5x 4' version)","64 - LED commercial fixtures",5.28,"6' T8 replaced with LED light source and remote driver or line voltage (Types B/C)",5.21,"Extrapolation (same as 6' version, per lamp)"]
["T8_6ft","6', 1 lamp T8 HO",73.5,1,"RTF",null,1.0380031770235147,31.854130514340298,7.51,0.87254136151600992,36.75,7,"Extrapolation (0.75x 8' version)","64 - LED commercial fixtures",3.0318749999999994,"6' T8 replaced with LED light source and remote driver or line voltage (Types B/C)",5.25,"row 99"]
["T8_6ft","6', 2 lamp T8 HO",147,2,"RTF",null,1.0380031770235147,63.708261028680596,7.51,0.87254136151600992,73.5,7,"Extrapolation (0.75x 8' version)","64 - LED commercial fixtures",6.0637499999999989,"6' T8 replaced with LED light source and remote driver or line voltage (Types B/C)",5.25,"Extrapolation (same as 6' version, per lamp)"]
["T12_5ft","5', 1 lamp T12",60,1,"RTF",null,1.0380031770235147,17.261069843198396,7.51,0.87254136151600992,19.914036468581923,7.51,"Extrapolation (1.25x 4' version)","64 - LED commercial fixtures",3.8687500000000004,"5' T12 replaced with LED light source and remote driver or line voltage (Types B/C)",7.39,"Extrapolation (same as 6' version, per lamp)"]
["T12_5ft","5', 2 lamp T12",120,2,"RTF",null,1.0380031770235147,34.522139686396791,7.51,0.87254136151600992,39.828072937163846,7.51,"Extrapolation (1.25x 4' version)","64 - LED commercial fixtures",7.7375000000000007,"5' T12 replaced with LED light source and remote driver or line voltage (Types B/C)",7.39,"Extrapolation (same as 6' version, per lamp)"]
["T12_5ft","5', 1 lamp T12 HO",90,1,"RTF",null,1.0380031770235147,25.891604764797592,7.51,0.87254136151600992,29.871054702872883,7.51,"Extrapolation (5/8th of 8' version)","64 - LED commercial fixtures",2.5843749999999996,"5' T12 replaced with LED light source and remote driver or line voltage (Types B/C)",3.48,"Row 64"]
["T12_5ft","5', 2 lamp T12 HO",180,2,"RTF",null,1.0380031770235147,51.783209529595183,7.51,0.87254136151600992,59.742109405745765,7.51,"Extrapolation (5/8th of 8' version)","64 - LED commercial fixtures",5.1687499999999993,"5' T12 replaced with LED light source and remote driver or line voltage (Types B/C)",3.48,"Extrapolation (same as 5' version, per lamp)"]
["T12_6ft","6', 1 lamp T12",66,1,"RTF",null,1.0380031770235147,18.987176827518233,7.51,0.87254136151600992,21.905440115440115,7.51,"Extrapolation (1.5x 4' version)","64 - LED commercial fixtures",4.6425000000000001,"6' T12 replaced with LED light source and remote driver or line voltage (Types B/C)",7.39,"row 67"]
["T12_6ft","6', 2 lamp T12",132,2,"RTF",null,1.0380031770235147,37.974353655036467,7.51,0.87254136151600992,43.81088023088023,7.51,"Extrapolation (1.5x 4' version)","64 - LED commercial fixtures",9.2850000000000001,"6' T12 replaced with LED light source and remote driver or line voltage (Types B/C)",7.39,"Extrapolation (same as 6' version, per lamp)"]
["T12_6ft","6', 1 lamp T12 HO",102,1,"RTF",null,1.0380031770235147,29.343818733437274,7.51,0.87254136151600992,33.853861996589266,7.51,"Extrapolation (0.75x 8' version)","64 - LED commercial fixtures",3.1012499999999998,"6' T12 replaced with LED light source and remote driver or line voltage (Types B/C)",9.73,"row 69"]
["T12_6ft","6', 2 lamp T12 HO",204,2,"RTF",null,1.0380031770235147,58.687637466874548,7.51,0.87254136151600992,67.707723993178533,7.51,"Extrapolation (0.75x 8' version)","64 - LED commercial fixtures",6.2024999999999997,"6' T12 replaced with LED light source and remote driver or line voltage (Types B/C)",6.92,"row 70"]
["OTHER","Other","Enter Watts",null,null,null,1.0380031770235147,0.28768449738663993,7.51,0.87254136151600992,0.33190060780969871,7.51,"Placeholder - lowest NEB of group","64 - LED commercial fixtures",2.2000000000000002,"lowest TLED NEB In this section",3.48]
[]
[null,"*******************************************************"]
[null,"Relamp","(select)","(select)"]
[null,"*******************************************************",null,null,null,null,null,"not applicable below"]
["Existing_relamp","2' T8 17W",14.96,1,"lamp only","RTF",null,null,null,0.80239707382564529,7.48,7,null,"8 - TLED",0,"2' T8 replaced with LED light source in line with existing fluorescent ballast (Type A-relamp)",2.0299999999999998,"row 20"]
["Existing_relamp","2' T5 14W",17.36,1,"lamp only","RTF",null,null,null,0.80239707382564529,7.9423233167092819,7,null,"8 - TLED",0,"2' T5 replaced with LED light source and remote driver or line voltage (Types B/C)",1.85,"row 12"]
["Existing_relamp","2' T5HO 24W",26.400000000000002,1,"lamp only","RTF",null,null,null,0.80239707382564529,12.078187532322872,7,null,"8 - TLED",0,"2' T5HO replaced with LED light source and remote driver or line voltage (Types B/C)",3.34,"row 13"]
["Existing_relamp","3' T5 21W",23.939999999999998,1,"lamp only","RTF",null,null,null,0.80239707382564529,10.952720057720057,7,null,"8 - TLED",0,"3' T5 replaced with LED light source in line with existing fluorescent ballast (Type A-relamp)",3.35,"row 29"]
["Existing_relamp","3' T5HO 39W",42.900000000000006,1,"lamp only","RTF",null,null,null,0.80239707382564529,19.627054740024668,7,null,"8 - TLED",0,"3' T5HO replaced with LED light source in line with existing fluorescent ballast (Type A-relamp)",3.37,"row 30"]
["Existing_relamp","3' T8 25W",24,1,"lamp only","RTF",null,null,null,0.80239707382564529,12,7,null,"8 - TLED",0,"3' T8 replaced with LED light source in line with existing fluorescent ballast (Type A-relamp)",2.06,"row 33"]
["Existing_relamp","4' T5 28W",31.919999999999998,1,"lamp only","RTF",null,null,null,0.80239707382564529,15.959999999999999,7,null,"8 - TLED",0,"4' T5 replaced with LED light source in line with existing fluorescent ballast (Type A-relamp)",2.5099999999999998,"row 59"]
["Existing_relamp","4' T5HO 54W",59.400000000000006,1,"lamp only","RTF",null,null,null,0.80239707382564529,27.175921947726462,7,null,"8 - TLED",0,"4' T5HO replaced with LED light source in line with existing fluorescent ballast (Type A-relamp)",1.98,"row 60"]
["Existing_relamp","4' T8 25W",22.82,1,"lamp only","RTF",null,null,null,0.80239707382564529,10.439473393795536,7,null,"8 - TLED",0,"4' or U-bend T8 replaced with LED light source in line with existing fluorescent ballast (Type A-relamp)",1.85,"Extrapolated (same as 28W version)"]
["Existing_relamp","4' T8 28W",25.56,1,"lamp only","RTF",null,null,null,0.80239707382564529,12.778173400673401,7,null,"8 - TLED",0,"4' or U-bend T8 replaced with LED light source in line with existing fluorescent ballast (Type A-relamp)",1.85,"row 61"]
["Existing_relamp","4' T8 32W",29.21,1,"lamp only","RTF",null,null,null,0.80239707382564529,14.603626743626744,7,null,"8 - TLED",0,"4' or U-bend T8 replaced with LED light source in line with existing fluorescent ballast (Type A-relamp)",1.86,"row 62"]
["Existing_relamp","4' T8 HO 44W",38.72,1,"lamp only","RTF",null,null,null,0.80239707382564529,19.36,7,null,"8 - TLED",0,"4' or U-bend T8 replaced with LED light source in line with existing fluorescent ballast (Type A-relamp)",2.41,"Extrapolated (same as 5' lamp)"]
["Existing_relamp","5' T8 40W",34,1,"lamp only","RTF",null,null,null,0.80239707382564529,17,7,null,"8 - TLED",0,"5' T8 replaced with LED light source in line with existing fluorescent ballast (Type A-relamp)",2.41,"row 97"]
["Existing_relamp","6' T8 58W",59.160000000000004,1,"lamp only","RTF",null,null,null,0.80239707382564529,29.580000000000002,7,null,"8 - TLED",0,"6' T8 replaced with LED light source in line with existing fluorescent ballast (Type A-relamp)",3.14,"row 102"]
["Existing_relamp","8' T8 59W",54.28,1,"lamp only","RTF",null,null,null,0.80239707382564529,27.14,7,null,"8 - TLED",0,"8' T8 replaced with LED light source in line with existing fluorescent ballast (Type A-relamp)",3.24,"row 104"]
["Existing_relamp","8' T8HO 86W",79.12,1,"lamp only","RTF",null,null,null,0.80239707382564529,39.56,7,null,"8 - TLED",0,"8' T8 replaced with LED light source in line with existing fluorescent ballast (Type A-relamp)",4.1900000000000004,"row 84"]
["Existing_relamp","Ubent T8 32W",29.44,1,"lamp only","RTF",null,null,null,0.80239707382564529,14.72,7,null,"8 - TLED",0,"4' or U-bend T8 replaced with LED light source in line with existing fluorescent ballast (Type A-relamp)",2.48,"row 17"]
[null,"Existing"]
[null,"Select_Category"]
[null,"T8_U_bent"]
[null,"T8_2ft"]
[null,"T8_3ft"]
[null,"T8_4ft"]
[null,"T8_5ft"]
[null,"T8_6ft"]
[null,"T8_8ft"]
[null,"Existing_Relamp"]
[null,"T12_U_bent"]
[null,"T12_2or3ft"]
[null,"T12_4ft"]
[null,"T12_5ft"]
[null,"T12_6ft"]
[null,"T12_8ft"]
[null,"T5_4ft"]
[null,"T5_3ft"]
[null,"T5_2ft"]
[null,"HID"]
[null,"INCAN"]
[null,"CFL"]
[null,"OTHER"]

{"sheet":"Proposed Equipment","index":21,"n_rows":134,"n_cols":5,"rows_kept":134,"cut":false,"hidden":true,"merged":[]}
[null,"Energy Trust of Oregon - Standard Fixture Wattages"]
[null,"Proposed Equipment"]
[]
[null,"List","Watts",null,"Qty-Lamps"]
[null,"*******************************************************"]
[null,"Relamp","(select)","(select)","(select)"]
[null,"*******************************************************"]
["Relamp","2' TLED lamp using existing fluorescent ballast","Enter"]
["Relamp","3' TLED lamp using existing fluorescent ballast","Enter"]
["Relamp","4' TLED lamp using existing fluorescent ballast","Enter"]
["Relamp","6' TLED lamp using existing fluorescent ballast","Enter"]
["Relamp","8' TLED lamp using existing fluorescent ballast","Enter"]
["Relamp","U-Bent TLED lamp (4' to fit 2') using exist. fluorescent ballast","Enter"]
[]
[]
[null,"*******************************************************"]
[null,"LED Fixtures and Replacement Lamps"]
[null,"*******************************************************"]
["LED_High_Bay","LED High-Bay or Low-Bay, 40-90W","Enter"]
["LED_High_Bay","LED High-Bay or Low-Bay, 91-140W","Enter"]
["LED_High_Bay","LED High-Bay or Low-Bay, 141-299W","Enter"]
["LED_High_Bay","LED High-Bay or Low-Bay, 300W or greater","Enter"]
["LED_Interior_Fixtures","Interior Recessed Canister Downlight LED","Enter"]
["LED_Interior_Fixtures","LED fixture or kit, 25W or less","Enter"]
["LED_Interior_Fixtures","LED fixture or kit, 26-39W","Enter"]
["LED_Interior_Fixtures","LED fixture or kit, 40-57W","Enter"]
["LED_Interior_Fixtures","LED fixture or kit, 58-100W","Enter"]
["LED_Interior_Fixtures","Other LED fixture","Enter"]
["LED_Exterior_Fixtures","Exterior Recessed Canister Downlight LED","Enter"]
["LED_Exterior_Fixtures","Exterior LED fixture, 20W or less","Enter"]
["LED_Exterior_Fixtures","Exterior LED fixture, 21-40W ","Enter"]
["LED_Exterior_Fixtures","Exterior LED fixture, 41-90W ","Enter"]
["LED_Exterior_Fixtures","Exterior LED fixture, 91-140W ","Enter"]
["LED_Exterior_Fixtures","Exterior LED fixture, 141-299W ","Enter"]
["LED_Exterior_Fixtures","Exterior LED fixture, 300W or greater","Enter"]
["LED_Exterior_Fixtures","Other exterior LED fixture","Enter"]
["Street_Lighting","LED Street Lighting replacing 70W HID","Enter"]
["Street_Lighting","LED Street Lighting replacing 100W HID","Enter"]
["Street_Lighting","LED Street Lighting replacing 150W HID","Enter"]
["Street_Lighting","LED Street Lighting replacing 175W HID","Enter"]
["Street_Lighting","LED Street Lighting replacing 200W HID","Enter"]
["Street_Lighting","LED Street Lighting replacing 250W HID","Enter"]
["Street_Lighting","LED Street Lighting replacing 310W HID","Enter"]
["Street_Lighting","LED Street Lighting replacing 350W HID","Enter"]
["Street_Lighting","LED Street Lighting replacing 400W HID","Enter"]
["Street_Lighting","LED Street Lighting replacing 750W HID","Enter"]
["Street_Lighting","LED Street Lighting replacing 1000W HID","Enter"]
["Street_Lighting","LED Street Lighting replacing 1500W HID","Enter"]
["Street_Lighting","LED street light (Utility Owned)","Enter"]
["LED_Lamps","LED globe screw-in lamp","Enter"]
["LED_Lamps","LED small screw-base candelabra lamp","Enter"]
["LED_Lamps","CFL to pin base LED","Enter"]
["LED_Lamps","Other LED replacement lamp (contact Project Coordinator)","Enter"]
["HID_to_LED","HID to LED Screw-in, 40W or less","Enter"]
["HID_to_LED","HID to LED Screw-in, 41-100W","Enter"]
["HID_to_LED","HID to LED Screw-in, 101-160W","Enter"]
["HID_to_LED","HID to LED Screw-in, 161W or greater","Enter"]
["TLED","2' TLED lamp with new fluorescent ballast","Enter"]
["TLED","2' TLED lamp with remote driver","Enter"]
["TLED","2' TLED lamp at line voltage","Enter"]
["TLED","3' TLED lamp with new fluorescent ballast","Enter"]
["TLED","3' TLED lamp with remote driver","Enter"]
["TLED","3' TLED lamp at line voltage","Enter"]
["TLED","U-Bent TLED lamp (4' bent to fit 2') with new ballast","Enter"]
["TLED","U-Bent TLED lamp (4' bent to fit 2') with remote driver","Enter"]
["TLED","U-Bent TLED lamp (4' bent to fit 2') at line voltage","Enter"]
["TLED","4' TLED lamp with new fluorescent ballast","Enter"]
["TLED","4' TLED lamp with remote driver","Enter"]
["TLED","4' TLED lamp at line voltage","Enter"]
["TLED","5' TLED lamp with remote driver","Enter"]
["TLED","5' TLED lamp at line voltage","Enter"]
["TLED","6' TLED lamp with new fluorescent ballast","Enter"]
["TLED","6' TLED lamp with remote driver","Enter"]
["TLED","6' TLED lamp at line voltage","Enter"]
["TLED","8' TLED lamp with new fluorescent ballast","Enter"]
["TLED","8' TLED lamp with remote driver","Enter"]
["TLED","8' TLED lamp at line voltage","Enter"]
[]
[null,"*******************************************************"]
[null,"LLLC","Enter"]
[null,"*******************************************************"]
["LLLC","LED fixture or kit, 25W or less","Enter"]
["LLLC","LED fixture or kit, 26-39W","Enter"]
["LLLC","LED fixture or kit, 40-57W","Enter"]
["LLLC","LED fixture or kit, 58-100W","Enter"]
["LLLC","LED High-Bay or Low-Bay, 40-90W","Enter"]
["LLLC","LED High-Bay or Low-Bay, 91-140W","Enter"]
["LLLC","LED High-Bay or Low-Bay, 141-299W","Enter"]
["LLLC","LED High-Bay or Low-Bay, 300W or greater","Enter"]
["LLLC","Exterior LED fixture, 20W or less","Enter"]
["LLLC","Exterior LED fixture, 21-40W ","Enter"]
["LLLC","Exterior LED fixture, 41-90W ","Enter"]
["LLLC","Exterior LED fixture, 91-140W ","Enter"]
["LLLC","Exterior LED fixture, 141-299W ","Enter"]
["LLLC","Exterior LED fixture, 300W or greater","Enter"]
[]
[null,"*******************************************************"]
[null,"OTHERS","Enter"]
[null,"*******************************************************"]
["OTHERS","Other","Enter"]
["OTHERS","Fixture removal, Interior (no incentive)",0]
["OTHERS","Fixture removal, Exterior (no incentive)",0]
["OTHERS","Additional project costs",0]
["OTHERS","Lighting in Refrigerated Spaces",0]
["OTHERS","Reduced HVAC in indoor grow spaces",0]
["OTHERS","Incentive Cap",0]
[]
[null,"*******************************************************"]
[null,"LED_Refrigerated_Case","Enter"]
[null,"*******************************************************"]
["LED_Refrigerated_Case","Linear, per linear foot of LED fixture","Enter"]
["LED_Refrigerated_Case","Motion Sensor on existing LED, per linear foot of LED fixture","Enter"]
[]
[null,"*******************************************************"]
[null,"GROW","Enter"]
[null,"*******************************************************"]
["GROW","LED Grow Light","Enter"]
["GROW","TLED Grow Light","Enter"]
[]
[]
[null,"Proposed"]
[null,"SelectCategory"]
[null,"LED_Lamps","lamp"]
[null,"LED_Interior_Fixtures","fixture"]
[null,"LED_High_Bay","fixture"]
[null,"LED_Exterior_Fixtures","fixture"]
[null,"Street_Lighting","fixture"]
[null,"LLLC","fixture"]
[null,"LED_Refrigerated_Case","lamp"]
[null,"GROW","lamp"]
[null,"OTHERS"]
[null,{"$f":"IF('100L Information'!AS21=TRUE,\"TLED\",\"N/A\")","v":"N/A"},"lamp","These are only allowed for public sector projects"]
[null,{"$f":"IF('100L Information'!AS21=TRUE,\"Relamp\",\"N/A\")","v":"N/A"},"lamp"]
[null,{"$f":"IF('100L Information'!AS21=TRUE,\"HID_to_LED\",\"N/A\")","v":"N/A"},"lamp"]