{"text_format":"1","workbook":"xlsx","n_sheets":22,"sheets":["Multi-site","100L Information","Equipment Type","Analysis 103L","Performance+","AvoidedCost","Controls","LED Case Lighting","Incentives","Incentive Existing","Lookups","Summary Source","Measure Summary","FTImport","PT Summary","Project Estimates","120L Incentive Offer","140L Completion Certification","PI 190L Lighting Incentives","MidstreamTable","Existing Equipment","Proposed Equipment"],"not_rendered":{"charts":0,"images":6,"macros":1,"external_links":0,"defined_names":128,"comments":8,"pivot_tables":1},"unopened":[],"bounds":{"document_bytes":16777216,"sheet_cells":100000,"rows_first":2000,"rows_last":500,"rows_between":2000,"halvings":0,"cell_chars":16384,"cell_head_chars":4096},"cells_cut":0,"cells_raw":0,"read":"whole","date_system":"1900"}

{"sheet":"Multi-site","index":0,"n_rows":4,"n_cols":21,"rows_kept":4,"cut":false,"hidden":true,"merged":[[0,0,0,1],[0,3,2,16],[0,17,0,20],[1,0,1,1],[1,18,1,20],[2,0,2,1],[2,18,2,20]]}
["Legal Business Name",null,null,"Lighting Tool: multi-site project",null,null,null,null,null,null,null,null,null,null,null,null,null,"PROGRAM USE ONLY"]
["Assumend Business Name or DBA",null,null,null,null,null,null,null,null,null,null,null,null,null,null,null,null,"Project ID (PT)"]
["Installer and/or Retailer",null,null,null,null,null,null,null,null,null,null,null,null,null,null,null,null,"Ref ID (Vision)"]
["Store Number","Store Name","Site Address","City","State","Zip","CRM Site Number","Electric Utility Provider","Electric Account Number","Meter Number","Equipment","Quantity Installed","Total Cost","Install Date","Product Invoice Number","Install Invoice Number","Install Invoice Date","Total Incentive","kWh Total Savings","PRE Verified","POST Verified"]

{"sheet":"100L Information","index":1,"n_rows":124,"n_cols":45,"rows_kept":124,"cut":false,"hidden":false,"merged":[[3,25,3,31],[4,25,4,31],[6,10,6,31],[8,17,8,31],[8,5,8,14],[6,0,6,9],[1,26,1,31],[2,18,2,24],[2,25,2,26],[2,15,2,17],[2,27,2,31],[10,0,10,2],[7,12,7,31],[8,15,8,16],[11,33,14,40],[9,0,9,3],[10,15,10,18],[10,19,10,31],[10,3,10,14],[9,4,9,14],[13,19,13,31],[9,15,9,18],[9,19,9,31],[14,8,14,31],[13,3,13,14],[14,0,14,7],[8,0,8,4],[13,15,13,18],[15,15,15,16],[13,0,13,2],[15,17,15,23],[15,26,15,27],[15,5,15,14],[12,4,12,14],[12,15,12,18],[11,0,11,6],[11,17,11,31],[11,15,11,16],[11,7,11,14],[12,19,12,31],[12,0,12,3],[27,0,27,3],[27,7,27,10],[27,11,27,12],[48,0,48,3],[47,0,47,7],[46,0,46,7],[30,0,30,3],[28,11,28,12],[30,4,30,5],[39,1,39,14],[36,1,36,14],[29,14,29,19],[33,6,33,8],[27,4,27,5],[29,11,29,12],[28,7,28,10],[28,0,28,3],[28,4,28,5],[29,0,29,3],[29,4,29,5],[30,20,30,22],[29,20,29,22],[39,23,39,26],[30,24,30,31],[36,23,36,26],[29,29,29,31],[54,0,54,31],[50,0,51,31],[43,11,43,31],[49,34,49,39],[46,20,46,24],[46,25,46,31],[27,21,27,22],[29,7,29,10],[46,8,46,19],[47,34,47,39],[47,20,47,21],[45,34,45,39],[48,12,48,31],[47,8,47,19],[47,22,47,31],[48,10,48,11],[48,4,48,9],[27,30,27,31],[28,29,28,31],[23,34,23,39],[26,29,26,31],[15,24,15,25],[15,29,15,31],[15,0,15,4],[20,26,20,31],[16,33,17,39],[21,26,21,31],[18,26,18,31],[18,33,20,39],[18,6,18,14],[25,0,25,12],[25,13,25,17]]}
[]
[null,null,null,null,null,null,null,null,null,null,null,null,null,null,null,"Program Use Only",null,null,null,null,null,null,null,null,null,null,{"$f":"version","v":"v2025.1"}]
[null,null,null,null,null,null,null,null,null,null,null,null,null,null,null,"Project ID",null,null,null,null,null,null,null,null,null,"Ref ID"]
[null,null,null,null,null,null,null,null,null,null,null,null,null,null,null,"Currently Self-Directing",null,null,null,null,null,null,null,null,null,"(select)"]
[null,null,null,null,null,null,null,null,null,null,null,null,null,null,null,"Currently using EE Self-direct credits?",null,null,null,null,null,null,null,null,null,"(select)"]
["Participant Information"]
["Legal Business Name \n(as shown on last W9)"]
["Assumed Business Name (if different)"]
["Contact Name",null,null,null,null,null,null,null,null,null,null,null,null,null,null,"Title"]
["Phone",null,null,null,null,null,null,null,null,null,null,null,null,null,null,"Cell Phone"]
["Email",null,null,null,null,null,null,null,null,null,null,null,null,null,null,"Company",null,null,null,null,null,null,null,null,null,null,null,null,null,null,null,null,null,{"$f":"IF(AS49=TRUE,\"Industrial sites are defined as:\",\"\")","v":""}]
["Alternative Contact Name",null,null,null,null,null,null,null,null,null,null,null,null,null,null,"Title",null,null,null,null,null,null,null,null,null,null,null,null,null,null,null,null,null,{"$f":"IF(AS49=TRUE,Industrial_Definition,\"\")","v":""}]
["Phone",null,null,null,null,null,null,null,null,null,null,null,null,null,null,"Cell Phone"]
["Email",null,null,null,null,null,null,null,null,null,null,null,null,null,null,"Company"]
["Project Name (if different)"]
["Site Address",null,null,null,null,null,null,null,null,null,null,null,null,null,null,"City",null,null,null,null,null,null,null,null,"State",null,null,null,"Zip",null,null,null,null,{"$f":"IF(AS48=TRUE,\"Commercial sites are defined as:\",\"\")","v":""}]
["Which of the following best describes Participant?",null,null,null,null,null,null,null,null,null,null,null,null,null,null,null,null,null,null,null,null,null,null,null,null,null,null,null,null,null,null,null,null,{"$f":"IF(AS48=TRUE,Commercial_Definition,\"\")","v":""}]
[]
["Building Use Type",null,null,null,null,null,"(select)",null,null,null,null,null,null,null,null,null,null,null,null,null,null,null,null,null,null,"Incentive Payee:","(select)",null,null,null,null,null,null,{"$f":"IF(AS21=TRUE, \"K-12 public schools and government entities are any agency of the federal or state government, county, city, town, public corporation or political subdivision in this state. Please affirm by selecting Yes in the orange box.\",\"\")","v":""}]
["Is this project receiving grant or stimulus funding? "]
["Is this project a Public K-12 School or Government Entity? ",null,null,null,null,null,null,null,null,null,null,null,null,null,null,null,null,null,null,null,null,null,null,null,null,null,null,null,null,null,null,null,null,null,null,null,null,null,null,null,null,null,null,null,false]
["Please select project site type (Commercial or Industrial)",null,null,null,null,null,null,null,null,null,null,null,null,null,null,null,null,null,null,null,null,null,null,null,null,null,{"$f":"IF(AND(AS48=TRUE,AS49=TRUE),\"Only check one box!\",\"\")","v":""}]
[]
["Site Information",null,null,null,null,null,null,null,null,null,null,null,null,null,null,null,null,null,null,null,null,null,null,null,null,null,null,null,null,null,null,null,null,null,"Rate Schedules"]
[null,null,null,null,null,null,null,null,null,null,null,null,null,null,null,null,null,null,null,null,null,null,null,null,null,null,null,null,null,null,null,null,null,null,null,"(select)"]
["Square Footage Affected by Lighting Project",null,null,null,null,null,null,null,null,null,null,null,null,null,null,null,null,null,null,null,null,null,null,null,"Multifamily Information",null,null,null,null,null,null,null,null,null,"PAC",4,"Residential"]
["Hours of Operation",null,null,null,null,null,null,null,null,null,null,null,null,null,null,null,null,null,null,null,null,null,null,null,"Number of units",null,null,null,null,null,null,null,null,null,"PAC",23,"Small Nonresidential"]
["Sunday",null,null,null,null,null,null,"Thursday",null,null,null,null,null,null,"Open Major Holidays?",null,null,null,null,null,null,null,null,null,"Number of buildings",null,null,null,null,null,null,null,null,null,"PAC",28,"Nonresidential, 31 - 200 kW"]
["Monday",null,null,null,null,null,null,"Friday",null,null,null,null,null,null,null,null,null,null,null,null,null,null,null,null,"Number of floors",null,null,null,null,null,null,null,null,null,"PAC",30,"Nonresidential, 201 - 999 kW"]
["Tuesday",null,null,null,null,null,null,"Saturday",null,null,null,null,null,null,"Total Weekly Hours",null,null,null,null,null,{"$f":"SUM(E28:E31)+SUM(L28:L30)","v":0},null,null,null,"Year built",null,null,null,null,null,null,null,null,null,"PAC",48,"Large General Service, over 1,000 kW"]
["Wednesday",null,null,null,null,null,null,null,null,null,null,null,null,null,"Total Annual Hours",null,null,null,null,null,{"$f":"IF(V28=\"\",\"\",IF(V28=\"No\",0.975*U30*52.14,U30*52.14))","v":""},null,null,null,"Please select Market Sector",null,null,null,null,null,null,null,null,null,"PAC",51,"Street Light Service Company Owned"]
[null,null,null,null,null,null,null,null,null,null,null,null,null,null,null,null,null,null,null,null,null,null,null,null,null,null,null,null,null,null,null,null,null,null,"PAC",53,"Street Light Service Customer Owned"]
[]
["Electric Utility",null,null,null,null,null,"(select)",null,null,null,null,null,null,null,null,null,null,null,null,null,null,null,null,null,null,null,null,null,null,null,null,null,null,null,null,"(select)"]
[null,null,null,null,null,null,null,null,null,null,null,null,null,null,null,null,null,null,null,null,null,null,null,null,null,null,null,null,null,null,null,null,null,null,"PGE",7,"Residential"]
[null,"Account Number if Pacific Power (PAC)",null,null,null,null,null,null,null,null,null,null,null,null,null,null,null,null,null,null,null,null,null,"Rate Schedule",null,null,null,null,null,null,null,null,null,null,"PGE",32,"Small Nonresidential"]
[null,null,null,null,null,null,null,null,null,null,null,null,null,null,null,null,null,null,null,null,null,null,null,"(select)",null,null,null,null,null,null,null,null,null,null,"PGE",83,"Large Nonresidential"]
[null,null,null,null,null,null,null,null,null,null,null,null,null,null,null,null,null,null,null,null,null,null,null,null,null,null,null,null,null,null,null,null,null,null,"PGE",85,"Large Nonresidential"]
[null,"Account Number if Portland General Electric (PGE)",null,null,null,null,null,null,null,null,null,null,null,null,null,null,null,null,null,null,null,null,null,"Rate Schedule",null,null,null,null,null,null,null,null,null,null,"PGE",89,"Large Nonresidential"]
[null,null,null,null,null,null,null,null,null,null,null,null,null,null,null,null,null,null,null,null,null,null,null,"(select)",null,null,null,null,null,null,null,null,null,null,"PGE",91,"Streetlighting"]
[null,null,null,null,null,null,null,null,null,null,null,null,null,null,null,null,null,null,null,null,null,null,null,null,null,null,null,null,null,null,null,null,null,null,"PGE",95,"Street & Hwy Lighting New Technology"]
[]
["Project Information"]
["REQUIRED: Estimated Completion Date ",null,null,null,null,null,null,null,null,null,null,null,null,null,null,null,null,null,null,null,null,null,null,null,null,null,null,null,null,null,null,null,null,null,"For Program Use Only"]
[null,null,null,null,null,null,null,null,null,null,null,"(please be accurate and do not leave this blank)",null,null,null,null,null,null,null,null,null,null,null,null,null,null,null,null,null,null,null,null,null,null,"Program"]
["Prepared By",null,null,null,null,null,null,null,null,null,null,null,null,null,null,null,null,null,null,null,null,null,null,null,null,null,null,null,null,null,null,null,null,null,"Existing Buildings"]
["Organization or Company",null,null,null,null,null,null,null,null,null,null,null,null,null,null,null,null,null,null,null,"Date Prepared",null,null,null,null,null,null,null,null,null,null,null,null,null,"Commercial Business Type",null,null,null,null,null,null,null,null,null,{"$f":"IF(OR(AND(AS48=FALSE,AS49=FALSE),AND(AS48=TRUE,AS49=FALSE)),\"EB\",IF(AND(AS48=FALSE,AS49=TRUE),\"PE\",\"\"))","v":"EB"}]
["Form Completed By",null,null,null,null,null,null,null,null,null,null,null,null,null,null,null,null,null,null,null,"Title",null,null,null,null,null,null,null,null,null,null,null,null,null,"(select)",null,null,null,null,null,null,null,null,null,false]
["Phone/Cell",null,null,null,null,null,null,null,null,null,"Email",null,null,null,null,null,null,null,null,null,null,null,null,null,null,null,null,null,null,null,null,null,null,null,"Industrial and Agriculture Business Type",null,null,null,null,null,null,null,null,null,false]
[null,null,null,null,null,null,null,null,null,null,null,null,null,null,null,null,null,null,null,null,null,null,null,null,null,null,null,null,null,null,null,null,null,null,"(select)"]
["Return this Form 100L: Information and completed Form 103L: Lighting Analysis and Incentive Estimates worksheet  to a lighting project coordinator."]
[]
[]
[]
[]
[]
[]
[]
[]
[]
[]
[]
[]
[]
["Oregon Counties",null,null,null,null,null,null,null,null,null,null,null,"(select)",null,null,null,"(select)"]
["(select)",null,null,null,null,null,null,null,null,null,null,null,"Agriculture and Irrigation",null,null,null,"Amusement/Recreational"]
["Baker",null,null,null,null,null,null,null,null,null,null,null,"     Dairy and Livestock",null,null,null,"Assembly"]
["Benton",null,null,null,null,null,null,null,null,null,null,null,"     Greenhouse",null,null,null,"     Meeting/Convention Center/Hall or Community Center"]
["Clackamas",null,null,null,null,null,null,null,null,null,null,null,"     Indoor Agriculture",null,null,null,"     Religious/Spiritual"]
["Clatsop",null,null,null,null,null,null,null,null,null,null,null,"General Manufacturing",null,null,null,"Auto Services"]
["Columbia",null,null,null,null,null,"Self Directing","Self Direct Eligible",null,null,"Non-profit Entity",null,"     Beverage Production",null,null,null,"     Auto Repair"]
["Coos",null,null,null,null,null,"(select)","(select)",null,null,"(select)",null,"     Chemical Manufacturing",null,null,null,"     Car Wash"]
["Crook",null,null,null,null,null,"Yes","Yes",null,null,"Yes",null,"     Computer and Electronic Product Manufacturing",null,null,null,"     Gas Station"]
["Curry",null,null,null,null,null,"No","No",null,null,"No",null,"     Fabricated Metal Product Manufacturing",null,null,null,"Bank/Financial Institution"]
["Deschutes",null,null,null,null,null,null,null,null,null,null,null,"     Food Processing",null,null,null,"Courthouse/Probation Office"]
["Douglas",null,null,null,null,null,null,null,null,null,null,null,"     Logging and Wood Product Manufacturing",null,null,null,"Data Center"]
["Gilliam",null,null,null,null,null,null,null,null,null,null,null,"     Metal and Machinery Manufacturing",null,null,null,"     Large Data Center"]
["Grant",null,null,null,null,null,"Utilities Dropdown",null,null,null,null,null,"     Metal Foundries",null,null,null,"     Medium Data Center"]
["Harney",null,null,null,null,null,"(select)",null,null,null,null,null,"     Nonmetallic Mineral Product Manufacturing",null,null,null,"     Small Data Center"]
["Hood River",null,null,null,null,null,"PGE",null,null,null,null,null,"     Paper Manufacturing",null,null,null,"Education"]
["Jackson",null,null,null,null,null,"PAC",null,null,null,null,null,"     Petroleum and Coal Products Manufacturing",null,null,null,"     College/University"]
["Jefferson",null,null,null,null,null,null,null,null,null,null,null,"     Plastics and Rubber Products Manufacturing",null,null,null,"     K-12 School"]
["Josephine",null,null,null,null,null,null,null,null,null,null,null,"     Printing and Related Support Activities",null,null,null,"           High School"]
["Klamath",null,null,null,null,null,null,null,null,null,null,null,"     Textile and Apparel Manufacturing",null,null,null,"           Middle School"]
["Lake",null,null,null,null,null,null,null,null,null,null,null,"     Transportation Equipment Manufacturing",null,null,null,"           Primary School"]
["Lane",null,null,null,null,null,null,null,null,null,null,null,"Industrial Laundry Services",null,null,null,"Fire Protection"]
["Lincoln",null,null,null,null,null,null,null,null,null,null,null,"Natural Resources and Energy Distribution",null,null,null,"Funeral/Cremation"]
["Linn",null,null,null,null,null,null,null,null,null,null,null,"Refrigerated Warehousing and Storage",null,null,null,"Gym/Athletic Club"]
["Malheur",null,null,null,null,null,null,null,null,null,null,null,"Utilities",null,null,null,"Health"]
["Marion",null,null,null,null,null,null,null,null,null,null,null,"Waste Management and Remediation Services",null,null,null,"     Hospital"]
["Morrow",null,null,null,null,null,null,null,null,null,null,null,"Water Supply and Sewage Facilities",null,null,null,"     Medical Laboratory"]
["Multnomah",null,null,null,null,null,null,null,null,null,null,null,null,null,null,null,"     Medical Office"]
["Polk",null,null,null,null,null,null,null,null,null,null,null,null,null,null,null,"     Veterinarian's Office"]
["Sherman",null,null,null,null,null,null,null,null,null,null,null,null,null,null,null,"Hospitality"]
["Tillamook",null,null,null,null,null,null,null,null,null,null,null,null,null,null,null,"     Cafeteria"]
["Umatilla",null,null,null,null,null,null,null,null,null,null,null,null,null,null,null,"     Lodging/Hotel/Motel"]
["Union",null,null,null,null,null,null,null,null,null,null,null,null,null,null,null,"     Restaurant"]
["Wallowa",null,null,null,null,null,null,null,null,null,null,null,null,null,null,null,"Jail/Reformatory/Penitentiary"]
["Wasco",null,null,null,null,null,null,null,null,null,null,null,null,null,null,null,"Laundry/Dry Cleaner"]
["Washington",null,null,null,null,null,null,null,null,null,null,null,null,null,null,null,"Library"]
["Wheeler",null,null,null,null,null,null,null,null,null,null,null,null,null,null,null,"Military (Armory, etc.)"]
["Yamhill",null,null,null,null,null,null,null,null,null,null,null,null,null,null,null,"Multifamily Property"]
[null,null,null,null,null,null,null,null,null,null,null,null,null,null,null,null,"     Affordable Multifamily Property"]
[null,null,null,null,null,null,null,null,null,null,null,null,null,null,null,null,"     Assisted Living Property"]
[null,null,null,null,null,null,null,null,null,null,null,null,null,null,null,null,"     Attached Residential Owner"]
[null,null,null,null,null,null,null,null,null,null,null,null,null,null,null,null,"     Campus Living Property"]
[null,null,null,null,null,null,null,null,null,null,null,null,null,null,null,null,"     Homeowners Association"]
[null,null,null,null,null,null,null,null,null,null,null,null,null,null,null,null,"     Market Rate Multifamily Property"]
[null,null,null,null,null,null,null,null,null,null,null,null,null,null,null,null,"Museum"]
[null,null,null,null,null,null,null,null,null,null,null,null,null,null,null,null,"Office"]
[null,null,null,null,null,null,null,null,null,null,null,null,null,null,null,null,"Parking Structure/Garage"]
[null,null,null,null,null,null,null,null,null,null,null,null,null,null,null,null,"Police"]
[null,null,null,null,null,null,null,null,null,null,null,null,null,null,null,null,"Retail"]
[null,null,null,null,null,null,null,null,null,null,null,null,null,null,null,null,"     Car Dealership/Showroom"]
[null,null,null,null,null,null,null,null,null,null,null,null,null,null,null,null,"     Convenience Store"]
[null,null,null,null,null,null,null,null,null,null,null,null,null,null,null,null,"     Enclosed Mall"]
[null,null,null,null,null,null,null,null,null,null,null,null,null,null,null,null,"     Grocery"]
[null,null,null,null,null,null,null,null,null,null,null,null,null,null,null,null,"     Super Center/Warehouse Club"]
[null,null,null,null,null,null,null,null,null,null,null,null,null,null,null,null,"Transportation Infrastructure (Tunnel, Roadway, Dock, etc.)"]
[null,null,null,null,null,null,null,null,null,null,null,null,null,null,null,null,"Unspecified Government/Public Sector"]
[null,null,null,null,null,null,null,null,null,null,null,null,null,null,null,null,"Warehousing and Storage"]
[]
["Commercial Definition","Existing properties that are not single family residential, industrial or agricultural use. Multifamily properties and roadways are considered Commercial."]
["Industrial Definition","Existing facilities or businesses that process, treat, assemble, mine, produce, repackage, or bottle a product or products for outside distribution, grows something, or has a cold storage distribution center. If the site is Industrial or Agricultural the whole campus will be serviced by Production Efficiency. "]

{"sheet":"Equipment Type","index":2,"n_rows":54,"n_cols":22,"rows_kept":54,"cut":false,"hidden":false,"merged":[[0,4,0,5],[0,8,0,10],[0,0,0,1],[0,2,0,3]]}
["General Project Notes:",null,null,null,"103L Drop Down",null,null,null,"Program Use Only",null,null,null,null,null,null,null,null,null,null,null,null,4]
["Program Fixture Schedule","Contractor Fixture Schedule","Manufacturer","Model #","Proposed Equipment\nCategory\n(Choose first)","Proposed Equipment\nSpecific fixture, lamp type\n(Choose from drop-down second)","Wattage\n(Match to specification sheet)","Total per Type","Program Review","Other Qualification","Notes","Equipment Notes (Internal Use Only)","Top Brands List",null,null,null,"Concatenate",null,"High End Trim \nMaximum Setpoint (%)","Wattage Output","Notes","Case Lighting High/Low = DR/SR"]
[null,null,null,null,null,null,null,null,null,null,null,null,null,null,null,null,null,null,null,null,null,{"$f":"IF(RIGHT(E3, 4)=\"Case\", IF(G3>4, \"High\", \"Low\"), \"\")","v":""}]
["Type 1",null,null,{"$f":"IF(F4=\"Additional project costs\",\"Additional project costs\",\"\")","v":""},null,null,{"$f":"IF(F4=\"Additional project costs\",0,\"\")","v":""},{"$f":"IF(ISBLANK(E4),\"\",SUMIF('Analysis 103L'!$K$28:$K$227,'Equipment Type'!A4,'Analysis 103L'!$P$28:$P$227))","v":""},null,null,null,{"$f":"IF(E4=\"LLLC\", \"Please enter fixture cost on the 103L tab & the LLLC control cost on the Controls tab\",IF(AND(E4=\"LED_Lamps\", LEFT(F4, 3)=\"LED\"), \"Maximum output for qualifying lamps: 310 lumens\", IF(V4=\"SR\", \"Single-Row Refrigerated Case Lighting\", IF(V4=\"DR\", \"Double-Row Refrigerated Case Lighting\", IF(V4=\"NE\", \"Not Eligible.  Refrigerated Case Lighting wattage per foot too high.\", \"\")))))","v":""},"Acuity",null,"Y","DLC Logo",{"$f":"CONCATENATE(A4,R4,C4, R4,D4)","v":"Type 1 -  - "}," - ",null,{"$f":"IF(S4=\"\", G4, G4*S4)","v":""},null,{"$f":"IF(AND(RIGHT(E4,4)=\"Case\",G4<>\"\",G4>0),IF(G4<=$V$1,\"SR\",IF(G4<8.5,\"DR\",\"NE\")), \"\")","v":""}]
["Type 2",null,null,"",null,null,{"$f":"IF(F5=\"Additional project costs\",0,\"\")","v":""},{"$f":"IF(ISBLANK(E5),\"\",SUMIF('Analysis 103L'!$K$28:$K$227,'Equipment Type'!A5,'Analysis 103L'!$P$28:$P$227))","v":""},null,null,null,{"$f":"IF(E5=\"LLLC\", \"Please enter fixture cost on the 103L tab & the LLLC control cost on the Controls tab\",IF(AND(E5=\"LED_Lamps\", LEFT(F5, 3)=\"LED\"), \"Maximum output for qualifying lamps: 310 lumens\", IF(V5=\"SR\", \"Single-Row Refrigerated Case Lighting\", IF(V5=\"DR\", \"Double-Row Refrigerated Case Lighting\", IF(V5=\"NE\", \"Not Eligible.  Refrigerated Case Lighting wattage per foot too high.\", \"\")))))","v":""},"Aleddra",null,"N","Family Model",{"$f":"CONCATENATE(A5,R5,C5, R5,D5)","v":"Type 2 -  - "}," - ",null,"",null,{"$f":"IF(AND(RIGHT(E5,4)=\"Case\",G5<>\"\",G5>0),IF(G5<=$V$1,\"SR\",IF(G5<8.5,\"DR\",\"NE\")), \"\")","v":""}]
["Type 3",null,null,"",null,null,"",{"$f":"IF(ISBLANK(E6),\"\",SUMIF('Analysis 103L'!$K$28:$K$227,'Equipment Type'!A6,'Analysis 103L'!$P$28:$P$227))","v":""},null,null,null,"","Atlas",null,null,"Special Approval",{"$f":"CONCATENATE(A6,R6,C6, R6,D6)","v":"Type 3 -  - "}," - ",null,"",null,""]
["Type 4",null,null,"",null,null,"",{"$f":"IF(ISBLANK(E7),\"\",SUMIF('Analysis 103L'!$K$28:$K$227,'Equipment Type'!A7,'Analysis 103L'!$P$28:$P$227))","v":""},null,null,null,"","Cooper/Eaton",null,null,null,"Type 4 -  - "," - ",null,"",null,""]
["Type 5",null,null,"",null,null,{"$f":"IF(F8=\"Additional project costs\",0,\"\")","v":""},{"$f":"IF(ISBLANK(E8),\"\",SUMIF('Analysis 103L'!$K$28:$K$227,'Equipment Type'!A8,'Analysis 103L'!$P$28:$P$227))","v":""},null,null,null,"","Cree/Econolight",null,null,null,"Type 5 -  - "," - ",null,"",null,""]
["Type 6",null,null,"",null,null,"",{"$f":"IF(ISBLANK(E9),\"\",SUMIF('Analysis 103L'!$K$28:$K$227,'Equipment Type'!A9,'Analysis 103L'!$P$28:$P$227))","v":""},null,null,null,"","Deco",null,null,null,"Type 6 -  - "," - ",null,"",null,""]
["Type 7",null,null,"",null,null,"",{"$f":"IF(ISBLANK(E10),\"\",SUMIF('Analysis 103L'!$K$28:$K$227,'Equipment Type'!A10,'Analysis 103L'!$P$28:$P$227))","v":""},null,null,null,{"$f":"IF(E10=\"LLLC\", \"Please enter fixture cost on the 103L tab & the LLLC control cost on the Controls tab\",IF(AND(E10=\"LED_Lamps\", LEFT(F10, 3)=\"LED\"), \"Maximum output for qualifying lamps: 310 lumens\", IF(V10=\"SR\", \"Single-Row Refrigerated Case Lighting\", IF(V10=\"DR\", \"Double-Row Refrigerated Case Lighting\", IF(V10=\"NE\", \"Not Eligible.  Refrigerated Case Lighting wattage per foot too high.\", \"\")))))","v":""},"Eiko",null,null,null,"Type 7 -  - "," - ",null,"",null,""]
["Type 8",null,null,"",null,null,"",{"$f":"IF(ISBLANK(E11),\"\",SUMIF('Analysis 103L'!$K$28:$K$227,'Equipment Type'!A11,'Analysis 103L'!$P$28:$P$227))","v":""},null,null,null,"","Espen",null,null,null,"Type 8 -  - "," - ",null,"",null,""]
["Type 9",null,null,"",null,null,"",{"$f":"IF(ISBLANK(E12),\"\",SUMIF('Analysis 103L'!$K$28:$K$227,'Equipment Type'!A12,'Analysis 103L'!$P$28:$P$227))","v":""},null,null,null,"","Flex",null,null,null,"Type 9 -  - "," - ",null,"",null,""]
["Type 10",null,null,"",null,null,"",{"$f":"IF(ISBLANK(E13),\"\",SUMIF('Analysis 103L'!$K$28:$K$227,'Equipment Type'!A13,'Analysis 103L'!$P$28:$P$227))","v":""},null,null,null,"","Feit",null,null,null,"Type 10 -  - "," - ",null,"",null,""]
["Type 11",null,null,"",null,null,"",{"$f":"IF(ISBLANK(E14),\"\",SUMIF('Analysis 103L'!$K$28:$K$227,'Equipment Type'!A14,'Analysis 103L'!$P$28:$P$227))","v":""},null,null,null,"","Focal Point",null,null,null,"Type 11 -  - "," - ",null,"",null,""]
["Type 12",null,null,"",null,null,"",{"$f":"IF(ISBLANK(E15),\"\",SUMIF('Analysis 103L'!$K$28:$K$227,'Equipment Type'!A15,'Analysis 103L'!$P$28:$P$227))","v":""},null,null,null,"","GE Lighting",null,null,null,"Type 12 -  - "," - ",null,"",null,""]
["Type 13",null,null,"",null,null,"",{"$f":"IF(ISBLANK(E16),\"\",SUMIF('Analysis 103L'!$K$28:$K$227,'Equipment Type'!A16,'Analysis 103L'!$P$28:$P$227))","v":""},null,null,null,"","Globalux",null,null,null,"Type 13 -  - "," - ",null,"",null,""]
["Type 14",null,null,"",null,null,"",{"$f":"IF(ISBLANK(E17),\"\",SUMIF('Analysis 103L'!$K$28:$K$227,'Equipment Type'!A17,'Analysis 103L'!$P$28:$P$227))","v":""},null,null,null,"","Green Creative",null,null,null,"Type 14 -  - "," - ",null,"",null,""]
["Type 15",null,null,"",null,null,"",{"$f":"IF(ISBLANK(E18),\"\",SUMIF('Analysis 103L'!$K$28:$K$227,'Equipment Type'!A18,'Analysis 103L'!$P$28:$P$227))","v":""},null,null,null,"","Halco",null,null,null,"Type 15 -  - "," - ",null,"",null,""]
["Type 16",null,null,"",null,null,"",{"$f":"IF(ISBLANK(E19),\"\",SUMIF('Analysis 103L'!$K$28:$K$227,'Equipment Type'!A19,'Analysis 103L'!$P$28:$P$227))","v":""},null,null,null,"","Hubbell Lighting",null,null,null,"Type 16 -  - "," - ",null,"",null,""]
["Type 17",null,null,"",null,null,"",{"$f":"IF(ISBLANK(E20),\"\",SUMIF('Analysis 103L'!$K$28:$K$227,'Equipment Type'!A20,'Analysis 103L'!$P$28:$P$227))","v":""},null,null,null,"","James",null,null,null,"Type 17 -  - "," - ",null,"",null,""]
["Type 18",null,null,"",null,null,"",{"$f":"IF(ISBLANK(E21),\"\",SUMIF('Analysis 103L'!$K$28:$K$227,'Equipment Type'!A21,'Analysis 103L'!$P$28:$P$227))","v":""},null,null,null,"","Light Efficient Design",null,null,null,"Type 18 -  - "," - ",null,"",null,""]
["Type 19",null,null,"",null,null,"",{"$f":"IF(ISBLANK(E22),\"\",SUMIF('Analysis 103L'!$K$28:$K$227,'Equipment Type'!A22,'Analysis 103L'!$P$28:$P$227))","v":""},null,null,null,"","Lighting Science",null,null,null,"Type 19 -  - "," - ",null,"",null,""]
["Type 20",null,null,"",null,null,"",{"$f":"IF(ISBLANK(E23),\"\",SUMIF('Analysis 103L'!$K$28:$K$227,'Equipment Type'!A23,'Analysis 103L'!$P$28:$P$227))","v":""},null,null,null,"","LSI",null,null,null,"Type 20 -  - "," - ",null,"",null,""]
["Type 21",null,null,"",null,null,"",{"$f":"IF(ISBLANK(E24),\"\",SUMIF('Analysis 103L'!$K$28:$K$227,'Equipment Type'!A24,'Analysis 103L'!$P$28:$P$227))","v":""},null,null,null,"","Maxlite",null,null,null,"Type 21 -  - "," - ",null,"",null,""]
["Type 22",null,null,"",null,null,"",{"$f":"IF(ISBLANK(E25),\"\",SUMIF('Analysis 103L'!$K$28:$K$227,'Equipment Type'!A25,'Analysis 103L'!$P$28:$P$227))","v":""},null,null,null,"","Orion Energy Systems",null,null,null,"Type 22 -  - "," - ",null,"",null,""]
["Type 23",null,null,"",null,null,"",{"$f":"IF(ISBLANK(E26),\"\",SUMIF('Analysis 103L'!$K$28:$K$227,'Equipment Type'!A26,'Analysis 103L'!$P$28:$P$227))","v":""},null,null,null,"","Philips",null,null,null,"Type 23 -  - "," - ",null,"",null,""]
["Type 24",null,null,"",null,null,"",{"$f":"IF(ISBLANK(E27),\"\",SUMIF('Analysis 103L'!$K$28:$K$227,'Equipment Type'!A27,'Analysis 103L'!$P$28:$P$227))","v":""},null,null,null,"","RAB",null,null,null,"Type 24 -  - "," - ",null,"",null,""]
["Type 25",null,null,"",null,null,"",{"$f":"IF(ISBLANK(E28),\"\",SUMIF('Analysis 103L'!$K$28:$K$227,'Equipment Type'!A28,'Analysis 103L'!$P$28:$P$227))","v":""},null,null,null,"","Satco",null,null,null,"Type 25 -  - "," - ",null,"",null,""]
["Type 26",null,null,"",null,null,"",{"$f":"IF(ISBLANK(E29),\"\",SUMIF('Analysis 103L'!$K$28:$K$227,'Equipment Type'!A29,'Analysis 103L'!$P$28:$P$227))","v":""},null,null,null,"","Solais",null,null,null,"Type 26 -  - "," - ",null,"",null,""]
["Type 27",null,null,"",null,null,"",{"$f":"IF(ISBLANK(E30),\"\",SUMIF('Analysis 103L'!$K$28:$K$227,'Equipment Type'!A30,'Analysis 103L'!$P$28:$P$227))","v":""},null,null,null,"","Sylvania",null,null,null,"Type 27 -  - "," - ",null,"",null,""]
["Type 28",null,null,"",null,null,"",{"$f":"IF(ISBLANK(E31),\"\",SUMIF('Analysis 103L'!$K$28:$K$227,'Equipment Type'!A31,'Analysis 103L'!$P$28:$P$227))","v":""},null,null,null,"","TCP",null,null,null,"Type 28 -  - "," - ",null,"",null,""]
["Type 29",null,null,"",null,null,"",{"$f":"IF(ISBLANK(E32),\"\",SUMIF('Analysis 103L'!$K$28:$K$227,'Equipment Type'!A32,'Analysis 103L'!$P$28:$P$227))","v":""},null,null,null,"","Ushio",null,null,null,"Type 29 -  - "," - ",null,"",null,""]
["Type 30",null,null,"",null,null,"",{"$f":"IF(ISBLANK(E33),\"\",SUMIF('Analysis 103L'!$K$28:$K$227,'Equipment Type'!A33,'Analysis 103L'!$P$28:$P$227))","v":""},null,null,null,"","Feit",null,null,null,"Type 30 -  - "," - ",null,"",null,""]
["Type 31",null,null,"",null,null,"",{"$f":"IF(ISBLANK(E34),\"\",SUMIF('Analysis 103L'!$K$28:$K$227,'Equipment Type'!A34,'Analysis 103L'!$P$28:$P$227))","v":""},null,null,null,"","Focal Point",null,null,null,"Type 31 -  - "," - ",null,"",null,""]
["Type 32",null,null,"",null,null,"",{"$f":"IF(ISBLANK(E35),\"\",SUMIF('Analysis 103L'!$K$28:$K$227,'Equipment Type'!A35,'Analysis 103L'!$P$28:$P$227))","v":""},null,null,null,"","GE Lighting",null,null,null,"Type 32 -  - "," - ",null,"",null,""]
["Type 33",null,null,"",null,null,"",{"$f":"IF(ISBLANK(E36),\"\",SUMIF('Analysis 103L'!$K$28:$K$227,'Equipment Type'!A36,'Analysis 103L'!$P$28:$P$227))","v":""},null,null,null,"","Globalux",null,null,null,{"$f":"CONCATENATE(A36,R36,C36, R36,D36)","v":"Type 33 -  - "}," - ",null,"",null,""]
["Type 34",null,null,"",null,null,"",{"$f":"IF(ISBLANK(E37),\"\",SUMIF('Analysis 103L'!$K$28:$K$227,'Equipment Type'!A37,'Analysis 103L'!$P$28:$P$227))","v":""},null,null,null,"","Green Creative",null,null,null,"Type 34 -  - "," - ",null,"",null,""]
["Type 35",null,null,"",null,null,"",{"$f":"IF(ISBLANK(E38),\"\",SUMIF('Analysis 103L'!$K$28:$K$227,'Equipment Type'!A38,'Analysis 103L'!$P$28:$P$227))","v":""},null,null,null,"","Halco",null,null,null,"Type 35 -  - "," - ",null,"",null,""]
["Type 36",null,null,"",null,null,"",{"$f":"IF(ISBLANK(E39),\"\",SUMIF('Analysis 103L'!$K$28:$K$227,'Equipment Type'!A39,'Analysis 103L'!$P$28:$P$227))","v":""},null,null,null,"","Hubbell Lighting",null,null,null,"Type 36 -  - "," - ",null,"",null,""]
["Type 37",null,null,"",null,null,"",{"$f":"IF(ISBLANK(E40),\"\",SUMIF('Analysis 103L'!$K$28:$K$227,'Equipment Type'!A40,'Analysis 103L'!$P$28:$P$227))","v":""},null,null,null,"","James",null,null,null,"Type 37 -  - "," - ",null,"",null,""]
["Type 38",null,null,"",null,null,"",{"$f":"IF(ISBLANK(E41),\"\",SUMIF('Analysis 103L'!$K$28:$K$227,'Equipment Type'!A41,'Analysis 103L'!$P$28:$P$227))","v":""},null,null,null,"","Light Efficient Design",null,null,null,"Type 38 -  - "," - ",null,"",null,""]
["Type 39",null,null,"",null,null,"",{"$f":"IF(ISBLANK(E42),\"\",SUMIF('Analysis 103L'!$K$28:$K$227,'Equipment Type'!A42,'Analysis 103L'!$P$28:$P$227))","v":""},null,null,null,"","Lighting Science",null,null,null,"Type 39 -  - "," - ",null,"",null,""]
["Type 40",null,null,"",null,null,"",{"$f":"IF(ISBLANK(E43),\"\",SUMIF('Analysis 103L'!$K$28:$K$227,'Equipment Type'!A43,'Analysis 103L'!$P$28:$P$227))","v":""},null,null,null,"","LSI",null,null,null,"Type 40 -  - "," - ",null,"",null,""]
["Type 41",null,null,"",null,null,"",{"$f":"IF(ISBLANK(E44),\"\",SUMIF('Analysis 103L'!$K$28:$K$227,'Equipment Type'!A44,'Analysis 103L'!$P$28:$P$227))","v":""},null,null,null,"","Maxlite",null,null,null,"Type 41 -  - "," - ",null,"",null,""]
["Type 42",null,null,"",null,null,"",{"$f":"IF(ISBLANK(E45),\"\",SUMIF('Analysis 103L'!$K$28:$K$227,'Equipment Type'!A45,'Analysis 103L'!$P$28:$P$227))","v":""},null,null,null,"","Orion Energy Systems",null,null,null,"Type 42 -  - "," - ",null,"",null,""]
["Type 43",null,null,"",null,null,"",{"$f":"IF(ISBLANK(E46),\"\",SUMIF('Analysis 103L'!$K$28:$K$227,'Equipment Type'!A46,'Analysis 103L'!$P$28:$P$227))","v":""},null,null,null,"","Philips",null,null,null,"Type 43 -  - "," - ",null,"",null,""]
["Type 44",null,null,"",null,null,"",{"$f":"IF(ISBLANK(E47),\"\",SUMIF('Analysis 103L'!$K$28:$K$227,'Equipment Type'!A47,'Analysis 103L'!$P$28:$P$227))","v":""},null,null,null,"","RAB",null,null,null,"Type 44 -  - "," - ",null,"",null,""]
["Type 45",null,null,"",null,null,"",{"$f":"IF(ISBLANK(E48),\"\",SUMIF('Analysis 103L'!$K$28:$K$227,'Equipment Type'!A48,'Analysis 103L'!$P$28:$P$227))","v":""},null,null,null,"","Satco",null,null,null,"Type 45 -  - "," - ",null,"",null,""]
["Type 46",null,null,"",null,null,"",{"$f":"IF(ISBLANK(E49),\"\",SUMIF('Analysis 103L'!$K$28:$K$227,'Equipment Type'!A49,'Analysis 103L'!$P$28:$P$227))","v":""},null,null,null,"","Solais",null,null,null,"Type 46 -  - "," - ",null,"",null,""]
["Type 47",null,null,"",null,null,"",{"$f":"IF(ISBLANK(E50),\"\",SUMIF('Analysis 103L'!$K$28:$K$227,'Equipment Type'!A50,'Analysis 103L'!$P$28:$P$227))","v":""},null,null,null,"","Sylvania",null,null,null,"Type 47 -  - "," - ",null,"",null,""]
["Type 48",null,null,"",null,null,"",{"$f":"IF(ISBLANK(E51),\"\",SUMIF('Analysis 103L'!$K$28:$K$227,'Equipment Type'!A51,'Analysis 103L'!$P$28:$P$227))","v":""},null,null,null,"","TCP",null,null,null,"Type 48 -  - "," - ",null,"",null,""]
["Type 49",null,null,"",null,null,"",{"$f":"IF(ISBLANK(E52),\"\",SUMIF('Analysis 103L'!$K$28:$K$227,'Equipment Type'!A52,'Analysis 103L'!$P$28:$P$227))","v":""},null,null,null,"","Ushio",null,null,null,"Type 49 -  - "," - ",null,"",null,""]
["Type 50",null,null,"",null,null,"",{"$f":"IF(ISBLANK(E53),\"\",SUMIF('Analysis 103L'!$K$28:$K$227,'Equipment Type'!A53,'Analysis 103L'!$P$28:$P$227))","v":""},null,null,null,"","Ushio",null,null,null,"Type 50 -  - "," - ",null,"",null,""]
[null,null,null,null,null,null,null,null,null,null,null,null,null,null,null,null," -  - "," - "]

{"sheet":"Analysis 103L","index":3,"n_rows":325,"n_cols":93,"rows_kept":325,"cut":false,"hidden":false,"merged":[[236,1,243,8],[25,51,25,52],[25,31,25,35],[25,17,25,18],[6,17,6,23],[7,17,7,23],[8,17,8,23],[25,83,25,92],[296,1,296,2],[2,22,2,24],[4,9,4,12],[2,9,2,12],[2,19,2,21],[234,1,235,3],[4,2,4,3],[5,2,5,3],[7,8,7,12],[14,8,14,12],[25,8,25,16],[25,1,25,7],[2,17,2,18],[3,5,3,6],[2,2,2,3],[3,9,3,12],[3,2,3,3],[2,5,2,6],[4,5,4,6],[5,5,5,6],[3,15,3,16],[2,15,2,16],[25,55,25,69],[25,19,25,24],[25,47,25,49],[12,17,12,23],[25,41,25,45],[4,15,4,16],[5,15,5,16],[3,22,5,24],[3,19,5,21],[3,17,3,18],[4,17,4,18],[5,17,5,18]]}
[]
[null,"Project Information",null,null,null,null,null,null,null,null,null,null,null,null,null,"Lighting Analysis and Incentive Estimates (For program use only)",null,null,null,null,null,null,null,null,null,null,null,null,null,null,null,"$0.25/kWh",null,{"$f":"0.25*F10","v":0}]
[null,"Project ID",{"$f":"IF('100L Information'!S3=\"\",\"\",'100L Information'!S3)","v":""},null,"Ref ID",{"$f":"IF('100L Information'!AB3=\"\",\"\",'100L Information'!AB3)","v":""},null,null,"Annual Hours",{"$f":"IF('100L Information'!U31=\"\",\"<Enter on Participant.Info sheet>\",'100L Information'!U31)","v":"<Enter on Participant.Info sheet>"},null,null,null,null,null,null,null,"Date",null,"Project Analyst",null,null,"Post Reviewer",null,null,null,null,null,null,null,null,"50% of cost",null,{"$f":"0.5*S232","v":0}]
[null,"Project Name",{"$f":"IF('100L Information'!I15=\"\",\"<Enter on Participant.Info sheet>\",'100L Information'!I15)","v":"<Enter on Participant.Info sheet>"},null,"Prepared By",{"$f":"IF('100L Information'!I48=\"\",\"<Enter on Participant.Info sheet>\",'100L Information'!I48)","v":"<Enter on Participant.Info sheet>"},null,null,"Project Sq ft",{"$f":"IF('100L Information'!N26=\"\",\"<Enter on Participant.Info sheet>\",'100L Information'!N26)","v":"<Enter on Participant.Info sheet>"},null,null,null,null,null,"Initial"]
[null,"Contact",{"$f":"IF('100L Information'!F9=\"\",\"<Enter on Participant.Info sheet>\",'100L Information'!F9)","v":"<Enter on Participant.Info sheet>"},null,"Company",{"$f":"IF('100L Information'!I47=\"\",\"<Enter on Participant.Info sheet>\",'100L Information'!I47)","v":"<Enter on Participant.Info sheet>"},null,null,"Business Type",{"$f":"IF('100L Information'!G19=\"\",\"<Enter on Participant.Info sheet>\",BusType)","v":"(select)"},null,null,null,null,null,"Install Complete"]
[null,"Contact Phone",{"$f":"IF('100L Information'!E10=\"\",\"<Enter on Participant.Info sheet>\",'100L Information'!E10)","v":"<Enter on Participant.Info sheet>"},null,"Prepared On",{"$f":"IF('100L Information'!Z47=\"\",\"<Enter on Participant.Info sheet>\",'100L Information'!Z47)","v":"<Enter on Participant.Info sheet>"},null,null,null,null,null,null,null,null,null,"Final"]
[]
[null,"Projected Annual Cost Savings",null,null,null,null,null,null,"Project Summary"]
[null,{"$f":"'100L Information'!G34","v":"(select)"},"Rate Schedule:",{"$f":"IF('100L Information'!X37<>\"(select)\",'100L Information'!X37,'100L Information'!X40)","v":"(select)"},"Rate/kWh",{"$f":"IF(D9=\"(select)\",\"\",VLOOKUP(D9,W250:X263,2,FALSE))","v":""},null,null,"Existing Quantity (this page)",null,{"$f":"H228","v":0},"Cost (this page)",{"$f":"S228","v":0}]
[null,null,null,null,"Estimated Annual kWh Savings",{"$f":"L20","v":0},null,null,"Existing Quantity (LED Case)",null,{"$f":"H231","v":0},"plus Controls",{"$f":"S229","v":0}]
[null,null,null,null,"Demand Rate/kW",{"$f":"IF(D9=\"(select)\",0,VLOOKUP(D9,W250:Y263,3,FALSE))","v":0},null,null,"Total Existing Quantity",null,{"$f":"SUM(K9:K10)","v":0},"Total Installed Cost",{"$f":"S230","v":0}]
[null,null,null,null,"Estimated Monthly kW Demand Savings",{"$f":"(SUM(T28:T227))","v":0},null,null,"Proposed Quantity (this page)",null,{"$f":"P228","v":0},"Cost (LED Case)",{"$f":"S231","v":0}]
[null,null,null,null,"Estimated Annual Cost Savings",{"$f":"IF(D9=\"(select)\",\"\",(F9*F10)+(F11*F12*12))","v":""},null,null,"Quantity (LED Case)",null,{"$f":"P231","v":0},"Total Installed Cost",{"$f":"SUM(M11:M12)","v":0}]
[null,null,null,null,"Estimated Rate of Return (Before Energy Trust Incentive)",{"$f":"IF(ISNUMBER(F13/S232),F13/S232,\"\")","v":""},null,null,"Total Proposed Quantity",null,{"$f":"SUM(K12:K13)","v":0}]
[null,null,null,null,"Estimated Rate of Return (After Energy Trust Incentive)",{"$f":"IF(ISNUMBER(F13/(S232-Y232)),(F13/(S232-F20)),\"\")","v":""},null,null,"Overall kWh Savings"]
[null,"Energy Trust Estimate Incentive ",null,null,null,null,null,null,null,"Before","After","Savings","% Savings"]
[null,"Energy Trust Incentive (without LED Case Lighting)",null,null,null,{"$f":"Y228","v":0},null,null,"Analysis",{"$f":"(SUM(U28:U227))","v":0},{"$f":"(SUM(V28:V226))","v":0},{"$f":"J17-K17","v":0},{"$f":"IF(L17=0,0,L17/J17)","v":0}]
[null,"plus Controls",null,null,null,{"$f":"Y229","v":0},null,null,"Controls",{"$f":"Controls!P207","v":0},{"$f":"Controls!Q207","v":0},{"$f":"J18-K18","v":0},{"$f":"IF(L18=0,0,L18/J18)","v":0}]
[null,"plus Incentive from LED Case Lighting",null,null,null,{"$f":"Y231","v":0},null,null,"LED Case Lighting",null,null,{"$f":"SUMIFS($W$28:$W$226, $CM$28:$CM$226, \">\"&0)+(Controls!R207-'Analysis 103L'!L18)","v":0}]
[null,"Estimated Energy Trust Incentive",null,{"$f":"IF(AND('100L Information'!AS47=\"EB\",F17+F18>Cap_Com,BusType<>\"Indoor Agriculture\"),\"Incentive Capped at \"& DOLLAR(Cap_Com, 2),IF(AND('100L Information'!AS47=\"PE\",F17+F18>Cap_Ind,BusType<>\" Indoor Agriculture\"),\"Incentive Capped at \"& DOLLAR(Cap_Ind, 2),IF(AND(F17+F18>Cap_GROW_Project,BusType=\"Indoor Agriculture\"),\"Incentive Capped at \"& DOLLAR(Cap_GROW_Project, 2),\"\")))","v":""},null,{"$f":"\nIF(AND((BusType<>\"(select)\"), BusType<>\"\"),1,0)*\nIF('100L Information'!Z5=\"Yes\",0,1)*\nIF('100L Information'!Z4=\"Yes\",0.5,1)*\n(--(AND('100L Information'!AS47=\"EB\",BusType<>\"Indoor Agriculture\"))*MIN(Y232-(-Y227),Cap_Com)+\n(--(AND('100L Information'!AS47=\"PE\",BusType<>\"Indoor Agriculture\"))*MIN(Y232-(-Y227),Cap_Ind))+\n(--(AND(BusType=\"Indoor Agriculture\"))*MIN(Y232-(-Y227),Cap_GROW_Project)))","v":0},null,null,"TOTAL",null,null,{"$f":"SUM(L17:L19)","v":0},{"$f":"IFERROR((L20-L19)/J17, \"\")","v":""},null,null,null,null,null,null,null,null,null,null,null,null,null,null,null,null,null,null,null,null,null,null,null,null,null,null,null,null,null,null,null,null,null,null,null,null,null,null,null,null,null,null,"Check the source: ",null,null,null,null,null,null,"Consider removing all these calculations.",null,null,"This row"]
[null,null,null,null,null,null,null,null,"Energy Savings Adjusted to Federal Minimum Baseline",null,null,null,null,null,null,null,null,null,null,null,null,null,null,null,null,null,null,null,null,null,null,null,null,null,null,null,null,null,null,null,null,null,null,null,null,null,null,null,null,null,null,null,null,null,null,"Is the information","Update this column",null,null,null,null,null,"they only feed PV Prop O&M,",null,null,"has no"]
[null,"Lighting Power Density (watts/sq)",null,{"$f":"IF(ISNUMBER('100L Information'!N26),AW228/'100L Information'!N26,\"\")","v":""},null,null,null,null,null,null,null,null,{"$f":"IF(ISNUMBER(SUM(AT28:AT227)),SUM(AT28:AT227),0)+IF(ISNUMBER(Controls!R207),Controls!R207,0)","v":0},null,null,null,null,null,null,null,null,null,null,null,null,null,null,null,null,null,null,null,null,null,null,null,null,null,null,null,null,null,null,null,null,null,null,null,null,null,null,null,null,null,null,"this row is pulling","Load profile for",null,null,null,null,null,"which has NO DEPENDENTS.",null,null,"dependents"]
[null,"Incentive per kWh",null,{"$f":"F20/F10","v":{"$error":"#DIV/0!"}},null,null,null,null,null,null,null,null,null,null,null,null,null,null,null,null,null,null,null,null,null,null,null,null,null,null,null,null,null,null,null,null,null,null,null,null,null,null,null,null,null,null,null,null,null,null,null,null,null,null,null,"correct per current CECs?","case lighting ="]
[null,"Incentive as % of Cost",null,{"$f":"F20/M13","v":{"$error":"#DIV/0!"}},null,null,null,null,null,null,null,null,null,null,null,null,null,null,null,null,null,null,null,null,null,null,null,null,null,null,null,null,null,null,null,null,null,null,null,null,null,null,null,null,null,null,null,null,null,null,null,null,null,null,null,null,"\"Grocery Refrigeration\""]
[]
[null,"EXISTING EQUIPMENT",null,null,null,null,null,null,"PROPOSED EQUIPMENT",null,null,null,null,null,null,null,null,"PROJECT COST",null,"kW, kWh SAVINGS + INCENTIVES BY EQUIPMENT ",null,null,null,null,null,null,null,null,null,null,null,"COST EFFECTIVE TEST",null,null,null,null,null,null,null,null,null,"Post standard baseline watts",null,null,null,null,null,"Interior",null,null,"kW","SAVINGS BY MEASURE",null,null,null,"COST EFFECTIVENESS BY MEASURE",null,null,null,null,null,null,null,null,null,null,null,null,null,null,null,"BLDG LOOKUP TABLE",null,null,null,null,null,"MARKET SECTOR",null,"Lamp vs Fixture",null,"NEBs",null,"Case Lighting (per linear ft)"]
[null,"Interior / Exterior / Case Lighting","Location\nArea/Room","Existing Equipment\nCategory\n(Choose first)","Existing Equipment\nSpecific fixture, lamp type\n(Choose from drop-down second)","Fixture Description","Watts per Fixture","Fixt  Qty","Proposed Equipment\nCategory","Proposed Equipment\nSpecific fixture, lamp type","Equipment Type","Model #","Custom","Watts per Fixture \nOR per Lamp \nOR per Case Lighting Ft","Percent Wattage Saved","Fixt  Qty \nOR Total No. Lamps \nOR Case Lighting Ft","Annual Operating Hours","Labor & Material Cost (each)","Total  Cost","Ave. kW Saving","kWh Before","kWh \nAfter","Estimated kWh Savings","Estimated Equipment Incentive (Each)","Estimated Incentive Amount","CEC/ Wattage Requirement","Final Incentives Paid","Incentive/ kWh Saved","Custom Incentive","Check Min Wattage requirement","Incentive for wattage required prescriptive measures","Cost cap for incentive","Custom\nUtility/Society\nPass/Fail","Total Installed Cost","Total kWh Before","Total kWh After","Prescriptive Incentive Calculation","Public Sector Bucket \n(Y,N)","Total kWh Savings","Total Incentive Amount",null,"Post standard baseline watts (total)","Post standard savings","Weighted average savings","Check post standard baseline watts","Final savings",null,"Pre kW","Post kW","Performance Plus","kW\nSavings","% kWh Savings by Measure","Measure Payback in Years",null,null,"Measure Life","Load Profile","PV Utility Benefit","PV TRC Benefit (per kWh savings)","Utility Measure C/E \n","Utility BCR","Utility Pass/Fail\n","Exist years per lamp","PV Exist O&M","Prop years per lamp","PV Prop O&M","TRC Measure C/E \n","TRC BCR\n","TRC Pass/Fail\n","Combined Utility & TRC Result",null,null,"(select)","Interior Load Shape","Exterior Load Shape","Default Control Savings %",null,"Please select Market Sector",null,"lamp vs fixture lookup",null,"NEB calculation",null,"High/Low","T8 or T12","Case Temp","Open/Close","Remote/SelfContained","Product Codes","Measure Name","Deemed Savings (kWh) per ft of LED","Maximum Deemed Incentive","Deemed Incentive"]
[1,null,null,null,null,null,{"$f":"IF(E28=\"\",\"\",VLOOKUP(E28,ExistFixtLookup,2,FALSE))","v":""},null,{"$f":"IF(K28=\"\",\"\",VLOOKUP(K28,'Equipment Type'!$A$1:$F$53,5,FALSE))","v":""},{"$f":"IF(K28=\"\",\"\",VLOOKUP(K28,'Equipment Type'!$A$1:$F$53,6,FALSE))","v":""},null,{"$f":"IF(K28=\"\",\"\",VLOOKUP(K28,'Equipment Type'!$A$1:$F$53,4,FALSE))","v":""},null,{"$f":"IF(K28=\"\",\"\",INDEX('Equipment Type'!$T$4:$T$53,MATCH('Analysis 103L'!K28,'Equipment Type'!$A$4:$A$53,0)))","v":""},{"$f":"IF(RIGHT(I28, 4)=\"Case\", \"\", IF(G28=\"\",\"\",((G28*H28)-(N28*P28))/(G28*H28)))","v":""},null,{"$f":"IF(RIGHT(I28, 4)=\"Case\", \"\", IF(P28=\"\",\"\",(IF(ISNUMBER(SEARCH(\"exit\",J28)),8760,IF(B28=\"Exterior\",4380,'Analysis 103L'!$J$3)))))","v":""},null,{"$f":"IF(RIGHT(I28, 4)=\"Case\", IF(LEFT(J28, 6)=\"Motion\", \"\", \"<-- Enter total cost.\"), IF(P28=\"\",\"\",IF(AND(AL28=\"Y\",X28=\"\"),\"\",P28*R28)))","v":""},{"$f":"IF(RIGHT(I28, 4)=\"Case\", \"\", IF(P28=\"\",\"\",IF(ISERROR(AY28),0,AY28)))","v":""},{"$f":"IF(RIGHT(I28, 4)=\"Case\", \"\", IF(H28=\"\",\"\",(G28*H28)*Q28/1000))","v":""},{"$f":"IF(RIGHT(I28, 4)=\"Case\", \"\", IF(P28=\"\",\"\",(N28*P28)*Q28/1000))","v":""},{"$f":"IF(RIGHT(I28, 4)=\"Case\", IF(LEFT(J28, 6)=\"Motion\", \"\", CM28*P28), IF(U28=\"\",\"\",IF(AND(ISNUMBER(U28),ISNUMBER(V28)),U28-V28,\"\")))","v":""},{"$f":"IF(M28=\"Y\",\"CustomCalc\",IF(RIGHT(I28, 4)=\"Case\", \"\",IF(AD28=1,\"\",IF(AF28>0,AF28,\"\"))))","v":""},{"$f":"IF(RIGHT(I28, 4)=\"Case\", IF(LEFT(J28, 6)=\"Motion\", \"\", CO28), IF(AND(W28>0,ISNUMBER(X28)),X28*P28,IF(P28=\"\",\"\",IF(RIGHT(I28, 4)=\"Case\", IF(LEFT(J28, 6)=\"Motion\", \"\", CO28),IF(AND(X28=\"CustomCalc\",AG28=\"PASS/PASS\"),AC28,0)))))","v":""},{"$f":"IF(M28 = \"Y\",IF(AND(M28=\"Y\",AG28=\"FAIL\"),\"Not Cost Effective\",\"\"),IF(AD28=1,\"Does not meet requirement\",\"\"))","v":""},{"$f":"IF('100L Information'!$Z$5=\"Yes\",0,IF('100L Information'!$Z$4=\"Yes\",(MIN($Y$232-(-$Y$227),6000)*0.5)*(Y28/$Y$232),$Y$232*(Y28/($Y$230+$Y$231))))","v":{"$error":"#VALUE!"}},{"$f":"IF(W28=\"\",\"\",W28*$D$23)","v":""},{"$f":"IF(RIGHT(I28,4)=\"Case\",\"\",IF(I28=\"GROW\",MIN(W28*RunRateMax_CustomMeasures_Horti,P28*Cap_GROW_fixture,S28*Incent_Cost_Fixture_Cust),MIN(W28*IF(I28=\"Street_Lighting\",RunRateMax_Streetlighting,RunRateMax_CustomMeasures_fixtures),S28*Incent_Cost_Fixture_Cust)))","v":{"$error":"#VALUE!"}},{"$f":"IF(OR(I28=\"TLED\",I28=\"Relamp\",I28=\"LED_High_Bay\",I28=\"LED_Lamps\",I28=\"LED_Exterior_Fixtures\",I28=\"Street_Lighting\",I28=\"LLLC\"),IF(((U28-V28)/U28)>=0.4,0,1),IF(LEFT(J28,3)=\"HID\",IF(((U28-V28)/U28)>=0.5,0,1),IF(I28=\"LED_Interior_Fixtures\",IF(((U28-V28)/U28)>=0.45,0,1),\"No requirement\")))","v":"No requirement"},{"$f":"MAX(IF(ISERROR(VLOOKUP(CONCATENATE(J28,\" from \",VLOOKUP(D28,ExistFixtCat,4,FALSE)),PropFixtIncent,2,FALSE)),0,VLOOKUP(CONCATENATE(J28,\" from \",VLOOKUP(D28,ExistFixtCat,4,FALSE)),PropFixtIncent,2,FALSE)),IF(ISERROR(VLOOKUP(CONCATENATE(J28,\" from ANY\"),PropFixtIncent,2,FALSE)),0,VLOOKUP(CONCATENATE(J28,\" from ANY\"),PropFixtIncent,2,FALSE)))","v":0},{"$f":"IF(OR(Z28=\"Does not meet requirement\",AND('100L Information'!$AA$21=\"No\",AL28=\"Y\"),AND('100L Information'!$AS$21=FALSE,AL28=\"Y\")),0,IF(ISNUMBER(R28*Incent_Cost_Fixture_Rx),MIN(R28*Incent_Cost_Fixture_Rx,(MAX(AE28,AK28))),0))","v":0},{"$f":"IF(AND(M28=\"Y\",BR28=\"PASS/PASS\"),\"PASS/PASS\",\"FAIL\")","v":"FAIL"},{"$f":"IF(AG28=\"PASS/PASS\",S28,\"0\")","v":"0"},{"$f":"IF(AG28=\"PASS/PASS\",U28,\"0\")","v":"0"},{"$f":"IF(AG28=\"PASS/PASS\",V28,\"0\")","v":"0"},{"$f":"IF(AE28=0,MAX(IF(ISERROR(VLOOKUP(CONCATENATE(J28,\" from \",VLOOKUP(E28,ExistFixtCat,4,FALSE)),PropFixtIncent,2,FALSE)),0,VLOOKUP(CONCATENATE(J28,\" from \",VLOOKUP(E28,ExistFixtCat,4,FALSE)),PropFixtIncent,2,FALSE)),IF(ISERROR(VLOOKUP(CONCATENATE(J28,\" from ANY\"),PropFixtIncent,2,FALSE)),0,VLOOKUP(CONCATENATE(J28,\" from ANY\"),PropFixtIncent,2,FALSE))),0)","v":0},{"$f":"IF(ISNUMBER(VLOOKUP(J28,PublicSector,13,FALSE)),\"Y\",\"N\")","v":"N"},{"$f":"IF(AG28=\"PASS/PASS\",W28,\"0\")","v":"0"},{"$f":"IF(AG28=\"PASS/PASS\",Y28,\"0\")","v":"0"},null,{"$f":"IF(AND($CB28=\"fixture\",OR($D28=\"CFL\",$D28=\"INCAN\")),VLOOKUP(E28,Incan_Lookup,7,FALSE)*$G28*H28+VLOOKUP(E28,Incan_Lookup,6,FALSE)*$N28*P28,IF(AND($CB28=\"lamp\",OR($D28=\"CFL\",$D28=\"INCAN\")),VLOOKUP(E28,Incan_Lookup,10,FALSE)*$G28*H28+VLOOKUP(E28,Incan_Lookup,9,FALSE)*$N28*P28,IF($D28=\"OTHER\",$G28*$H28,IF($CB28=\"lamp\",(VLOOKUP($E28,ExistFixtLookup,10,FALSE)*H28+VLOOKUP($E28,ExistFixtLookup,9,FALSE)*N28*P28),IF($CB28=\"fixture\",(VLOOKUP($E28,ExistFixtLookup,7,FALSE)*H28+VLOOKUP($E28,ExistFixtLookup,6,FALSE)*N28*P28),$G28)))))","v":""},{"$f":"IF(ISNUMBER((AP28-N28*P28)*Q28/1000),(AP28-N28*P28)*Q28/1000,W28)","v":""},{"$f":"IF(AND(ISNUMBER(BD28),ISNUMBER(W28),$CB28=\"lamp\"),(W28*VLOOKUP(E28,ExistFixtLookup,11,FALSE)+AQ28*(BD28-VLOOKUP(E28,ExistFixtLookup,11,FALSE)))/BD28,IF(AND(ISNUMBER(BD28),ISNUMBER(W28),$CB28=\"fixture\"),(W28*VLOOKUP(E28,ExistFixtLookup,8,FALSE)+AQ28*(BD28-VLOOKUP(E28,ExistFixtLookup,8,FALSE)))/BD28,IF(ISNUMBER(W28),W28,0)))","v":0},{"$f":"IF(ISNUMBER(AP28),IF(AP28>G28*H28,\"Greater\",\"Less\"),\"\")","v":""},{"$f":"IF(RIGHT(I28,4)=\"Case\",W28,IF(AND(AL28=\"Y\",AF28<1),0,IF(OR(LEFT(D28,2)=\"T5\",LEFT(D28,3)=\"CFL\",'Analysis 103L'!AS28=\"Less\"),'Analysis 103L'!AR28,'Analysis 103L'!W28)))","v":""},null,{"$f":"IF($B28=\"Interior\",IF(ISNUMBER($G28*$H28),$G28*$H28,0), 0)","v":0},{"$f":"IF($B28=\"Interior\",IF(ISNUMBER($N28*$P28),$N28*$P28,0), 0)","v":0},null,{"$f":"IF(RIGHT(I28,4)=\"Case\",\"\",((G28*H28)-(N28*P28))/1000)","v":{"$error":"#VALUE!"}},{"$f":"IF(RIGHT(I28,4)=\"Case\",\"\", IF(W28=0,0,W28/U28))","v":{"$error":"#VALUE!"}},{"$f":"IF(RIGHT(I28,4)=\"Case\",IF(W28=0,0,R28/(W28*$F$9)),IF(W28=0,0,S28/(W28*$F$9)))","v":{"$error":"#VALUE!"}},null,null,{"$f":"IF(RIGHT(I28,4)=\"Case\",'LED Case Lighting'!$AY$1,IF(J28=\"\",\"\",VLOOKUP(J28,Lookups!$A$30:$J$172,VLOOKUP('100L Information'!$AI$46,Lookups!$J$3:$L$6,3,FALSE),FALSE)))","v":""},{"$f":"IF(B28=\"Exterior\", INDEX($BW$28:$BW$48, $BX$229), IF(OR(BusType=\"Manufacturing\",BusType=\"Indoor Agriculture\",BusType=\"Ag/Dairy/Livestock\",BusType=\"Food/Beverage Production\",BusType=\"Industrial Fabrication\"), IF(Q28<3500, \"1-Shift Industrial\", IF(Q28<5500, \"2-Shift Industrial\", IF(Q28<8000, \"3-Shift Industrial\", \"Flat - ele\"))), INDEX($BV$28:$BV$48, $BX$229)))","v":{"$error":"#N/A"}},{"$f":"IF(BD28=\"\",\"\",VLOOKUP(BE28, avoided_costs, ROUND($BD28,0)+2, FALSE))","v":""},{"$f":"IF(BD28=\"\",\"\",$BF28+-PV(4.5%,BD28,CD28)/$AR28*$P28)","v":""},{"$f":"IF(RIGHT(I28,4)=\"Case\",0.5*R28/AR28, 0.5*S28/AR28)","v":{"$error":"#VALUE!"}},{"$f":"BF28/BH28","v":{"$error":"#VALUE!"}},{"$f":"IF(ROUND(BI28,1)>=1, \"PASS\", \"FAIL\")","v":{"$error":"#VALUE!"}},{"$f":"VLOOKUP(E28,ExistFixtCat,3,FALSE)/(H28*IF(ISNUMBER(VALUE(MID(E28,5,1))),VALUE(MID(E28,5,1)),1)*Q28)","v":{"$error":"#N/A"}},{"$f":"IF(ISERROR(-PV(POWER(1+Discount_Rate,$BK28)-1,$BD28/$BK28,10+VLOOKUP($E28,ExistFixtCat,2,FALSE))),0,-PV(POWER(1+Discount_Rate,$BK28)-1,$BD28/$BK28,10+VLOOKUP($E28,ExistFixtCat,2,FALSE)))","v":0},{"$f":"VLOOKUP($J28,PropOpLife,3,FALSE)/($P28*IF(ISNUMBER(VALUE(MID($J28,5,1))),VALUE(MID($J28,5,1)),1)*$Q28)","v":{"$error":"#N/A"}},{"$f":"IF(OR(ISERROR(-PV(POWER(1+Discount_Rate,$BM28)-1,$BD28/$BM28,MIN(R28,10+0.5*VLOOKUP($J28,PropOpLife,2,FALSE)))),BL28=0),0,-PV(POWER(1+Discount_Rate,$BM28)-1,$BD28/$BM28,MIN(R28,10+0.5*VLOOKUP($J28,PropOpLife,2,FALSE))))","v":0},{"$f":"IF(RIGHT(I28,4)=\"Case\",R28/AR28,S28/AR28)","v":{"$error":"#VALUE!"}},{"$f":"BG28/BO28","v":{"$error":"#VALUE!"}},{"$f":"IF(ROUND(BP28,1)>=1, \"PASS\", \"FAIL\")","v":{"$error":"#VALUE!"}},{"$f":"IF(OR(NOT(ISERROR(BQ28)),NOT(ISERROR(BJ28))),BJ28&\"/\"&BQ28,\"FAIL\")","v":"FAIL"},null,8,"Ag/Dairy/Livestock","(determined by formula)","Other Exterior Lights",0.35,null,"Affordable Housing",null,{"$f":"IF(I28=\"\",\"\",VLOOKUP(I28,FixVsLamp,2,FALSE))","v":""},null,{"$f":"IF(RIGHT(I28,4)=\"Case\",(INDEX('LED Case Lighting'!$AZ$3:$AZ$36,MATCH('Analysis 103L'!$CK28,'LED Case Lighting'!$AS$3:$AS$36,0))),IF(CB28=0,0,IF(CB28=\"lamp\",((Q28/VLOOKUP(B28,Int_Ext,2,FALSE))*VLOOKUP(E28,NEB,16,FALSE)),IF(CB28=\"fixture\",((Q28/VLOOKUP(B28,Int_Ext,2,FALSE))*VLOOKUP(E28,NEB,14,FALSE)),\"\"))))","v":""},null,{"$f":"IF(RIGHT(I28,4)=\"Case\",INDEX('Equipment Type'!$V$4:$V$53, MATCH('Analysis 103L'!$K28, 'Equipment Type'!$A$4:$A$53, 0)), \"\")","v":""},{"$f":"IF(RIGHT(I28,4)=\"Case\",IF(ISERROR(FIND(\"T12\",D28)),\"\",\"T12\") & IF(ISERROR(FIND(\"T8\",D28)),\"\",\"T8\") & IF(ISERROR(FIND(\"T5\",D28)),\"\",\"T5\"),\"\")","v":""},{"$f":"IF(RIGHT(I28,4)=\"Case\",IF(ISERROR(FIND(\"Cooler\",B28)),\"\",\"MED\") & IF(ISERROR(FIND(\"Freezer\",B28)),\"\",\"LOW\"),\"\")","v":""},{"$f":"IF(RIGHT(I28,4)=\"Case\",IF(ISERROR(FIND(\"Open\",B28)),\"\",\"OPEN\") & IF(ISERROR(FIND(\"Closed\",B28)),\"\",\"CLSD\"),\"\")","v":""},{"$f":"IF(RIGHT(I28,4)=\"Case\",IF(ISERROR(FIND(\"Remote\",B28)),\"\",\"RC\") & IF(ISERROR(FIND(\"Self\",B28)),\"\",\"SC\"),\"\")","v":""},{"$f":"IF(RIGHT(I28,4)=\"Case\",IF(OR(CF28=\"NE\", LEFT(J28, 6)=\"Motion\"), \"\", \"CL\" & CF28 & CG28 &  IF(CF28=\"SR\",\"LOW\",\"HIGH\") & CH28 & CI28 & CJ28 ), \"\")","v":""},{"$f":"IF(CK28=\"\", \"\", INDEX('LED Case Lighting'!$AR$3:$AR$36, MATCH('Analysis 103L'!CK28, 'LED Case Lighting'!$AS$3:$AS$36, 0)))","v":""},{"$f":"IF(CK28=\"\", \"\", INDEX('LED Case Lighting'!$AW$3:$AW$36, MATCH('Analysis 103L'!CK28, 'LED Case Lighting'!$AS$3:$AS$36, 0)))","v":""},{"$f":"IF(CK28=\"\", \"\", INDEX('LED Case Lighting'!$AX$3:$AX$36, MATCH('Analysis 103L'!CK28, 'LED Case Lighting'!$AS$3:$AS$36, 0)))","v":""},{"$f":"IF(CN28=\"\",\"\",MIN(R28*Incent_Cost_Case,(P28*CN28)))","v":""}]
[2,null,null,null,null,null,{"$f":"IF(E29=\"\",\"\",VLOOKUP(E29,ExistFixtLookup,2,FALSE))","v":""},null,{"$f":"IF(K29=\"\",\"\",VLOOKUP(K29,'Equipment Type'!$A$1:$F$53,5,FALSE))","v":""},{"$f":"IF(K29=\"\",\"\",VLOOKUP(K29,'Equipment Type'!$A$1:$F$53,6,FALSE))","v":""},null,{"$f":"IF(K29=\"\",\"\",VLOOKUP(K29,'Equipment Type'!$A$1:$F$53,4,FALSE))","v":""},null,{"$f":"IF(K29=\"\",\"\",INDEX('Equipment Type'!$T$4:$T$53,MATCH('Analysis 103L'!K29,'Equipment Type'!$A$4:$A$53,0)))","v":""},{"$f":"IF(RIGHT(I29, 4)=\"Case\", \"\", IF(G29=\"\",\"\",((G29*H29)-(N29*P29))/(G29*H29)))","v":""},null,{"$f":"IF(RIGHT(I29, 4)=\"Case\", \"\", IF(P29=\"\",\"\",(IF(ISNUMBER(SEARCH(\"exit\",J29)),8760,IF(B29=\"Exterior\",4380,'Analysis 103L'!$J$3)))))","v":""},null,{"$f":"IF(RIGHT(I29, 4)=\"Case\", IF(LEFT(J29, 6)=\"Motion\", \"\", \"<-- Enter total cost.\"), IF(P29=\"\",\"\",IF(AND(AL29=\"Y\",X29=\"\"),\"\",P29*R29)))","v":""},{"$f":"IF(RIGHT(I29, 4)=\"Case\", \"\", IF(P29=\"\",\"\",IF(ISERROR(AY29),0,AY29)))","v":""},{"$f":"IF(RIGHT(I29, 4)=\"Case\", \"\", IF(H29=\"\",\"\",(G29*H29)*Q29/1000))","v":""},{"$f":"IF(RIGHT(I29, 4)=\"Case\", \"\", IF(P29=\"\",\"\",(N29*P29)*Q29/1000))","v":""},{"$f":"IF(RIGHT(I29, 4)=\"Case\", IF(LEFT(J29, 6)=\"Motion\", \"\", CM29*P29), IF(U29=\"\",\"\",IF(AND(ISNUMBER(U29),ISNUMBER(V29)),U29-V29,\"\")))","v":""},"","",{"$f":"IF(M29 = \"Y\",IF(AND(M29=\"Y\",AG29=\"FAIL\"),\"Not Cost Effective\",\"\"),IF(AD29=1,\"Does not meet requirement\",\"\"))","v":""},{"$f":"IF('100L Information'!$Z$5=\"Yes\",0,IF('100L Information'!$Z$4=\"Yes\",(MIN($Y$232-(-$Y$227),6000)*0.5)*(Y29/$Y$232),$Y$232*(Y29/($Y$230+$Y$231))))","v":{"$error":"#VALUE!"}},{"$f":"IF(W29=\"\",\"\",W29*$D$23)","v":""},{"$error":"#VALUE!"},{"$f":"IF(OR(I29=\"TLED\",I29=\"Relamp\",I29=\"LED_High_Bay\",I29=\"LED_Lamps\",I29=\"LED_Exterior_Fixtures\",I29=\"Street_Lighting\",I29=\"LLLC\"),IF(((U29-V29)/U29)>=0.4,0,1),IF(LEFT(J29,3)=\"HID\",IF(((U29-V29)/U29)>=0.5,0,1),IF(I29=\"LED_Interior_Fixtures\",IF(((U29-V29)/U29)>=0.45,0,1),\"No requirement\")))","v":"No requirement"},{"$f":"MAX(IF(ISERROR(VLOOKUP(CONCATENATE(J29,\" from \",VLOOKUP(D29,ExistFixtCat,4,FALSE)),PropFixtIncent,2,FALSE)),0,VLOOKUP(CONCATENATE(J29,\" from \",VLOOKUP(D29,ExistFixtCat,4,FALSE)),PropFixtIncent,2,FALSE)),IF(ISERROR(VLOOKUP(CONCATENATE(J29,\" from ANY\"),PropFixtIncent,2,FALSE)),0,VLOOKUP(CONCATENATE(J29,\" from ANY\"),PropFixtIncent,2,FALSE)))","v":0},{"$f":"IF(OR(Z29=\"Does not meet requirement\",AND('100L Information'!$AA$21=\"No\",AL29=\"Y\"),AND('100L Information'!$AS$21=FALSE,AL29=\"Y\")),0,IF(ISNUMBER(R29*Incent_Cost_Fixture_Rx),MIN(R29*Incent_Cost_Fixture_Rx,(MAX(AE29,AK29))),0))","v":0},"FAIL","0","0","0",{"$f":"IF(AE29=0,MAX(IF(ISERROR(VLOOKUP(CONCATENATE(J29,\" from \",VLOOKUP(E29,ExistFixtCat,4,FALSE)),PropFixtIncent,2,FALSE)),0,VLOOKUP(CONCATENATE(J29,\" from \",VLOOKUP(E29,ExistFixtCat,4,FALSE)),PropFixtIncent,2,FALSE)),IF(ISERROR(VLOOKUP(CONCATENATE(J29,\" from ANY\"),PropFixtIncent,2,FALSE)),0,VLOOKUP(CONCATENATE(J29,\" from ANY\"),PropFixtIncent,2,FALSE))),0)","v":0},"N",{"$f":"IF(AG29=\"PASS/PASS\",W29,\"0\")","v":"0"},{"$f":"IF(AG29=\"PASS/PASS\",Y29,\"0\")","v":"0"},null,"",{"$f":"IF(ISNUMBER((AP29-N29*P29)*Q29/1000),(AP29-N29*P29)*Q29/1000,W29)","v":""},{"$f":"IF(AND(ISNUMBER(BD29),ISNUMBER(W29),$CB29=\"lamp\"),(W29*VLOOKUP(E29,ExistFixtLookup,11,FALSE)+AQ29*(BD29-VLOOKUP(E29,ExistFixtLookup,11,FALSE)))/BD29,IF(AND(ISNUMBER(BD29),ISNUMBER(W29),$CB29=\"fixture\"),(W29*VLOOKUP(E29,ExistFixtLookup,8,FALSE)+AQ29*(BD29-VLOOKUP(E29,ExistFixtLookup,8,FALSE)))/BD29,IF(ISNUMBER(W29),W29,0)))","v":0},{"$f":"IF(ISNUMBER(AP29),IF(AP29>G29*H29,\"Greater\",\"Less\"),\"\")","v":""},{"$f":"IF(RIGHT(I29,4)=\"Case\",W29,IF(AND(AL29=\"Y\",AF29<1),0,IF(OR(LEFT(D29,2)=\"T5\",LEFT(D29,3)=\"CFL\",'Analysis 103L'!AS29=\"Less\"),'Analysis 103L'!AR29,'Analysis 103L'!W29)))","v":""},null,{"$f":"IF($B29=\"Interior\",IF(ISNUMBER($G29*$H29),$G29*$H29,0), 0)","v":0},{"$f":"IF($B29=\"Interior\",IF(ISNUMBER($N29*$P29),$N29*$P29,0), 0)","v":0},null,{"$f":"IF(RIGHT(I29,4)=\"Case\",\"\",((G29*H29)-(N29*P29))/1000)","v":{"$error":"#VALUE!"}},{"$f":"IF(RIGHT(I29,4)=\"Case\",\"\", IF(W29=0,0,W29/U29))","v":{"$error":"#VALUE!"}},{"$f":"IF(RIGHT(I29,4)=\"Case\",IF(W29=0,0,R29/(W29*$F$9)),IF(W29=0,0,S29/(W29*$F$9)))","v":{"$error":"#VALUE!"}},null,null,{"$f":"IF(RIGHT(I29,4)=\"Case\",'LED Case Lighting'!$AY$1,IF(J29=\"\",\"\",VLOOKUP(J29,Lookups!$A$30:$J$172,VLOOKUP('100L Information'!$AI$46,Lookups!$J$3:$L$6,3,FALSE),FALSE)))","v":""},{"$error":"#N/A"},{"$f":"IF(BD29=\"\",\"\",VLOOKUP(BE29, avoided_costs, ROUND($BD29,0)+2, FALSE))","v":""},{"$f":"IF(BD29=\"\",\"\",$BF29+-PV(4.5%,BD29,CD29)/$AR29*$P29)","v":""},{"$error":"#VALUE!"},{"$f":"BF29/BH29","v":{"$error":"#VALUE!"}},{"$f":"IF(ROUND(BI29,1)>=1, \"PASS\", \"FAIL\")","v":{"$error":"#VALUE!"}},{"$f":"VLOOKUP(E29,ExistFixtCat,3,FALSE)/(H29*IF(ISNUMBER(VALUE(MID(E29,5,1))),VALUE(MID(E29,5,1)),1)*Q29)","v":{"$error":"#N/A"}},0,{"$error":"#N/A"},{"$f":"IF(OR(ISERROR(-PV(POWER(1+Discount_Rate,$BM29)-1,$BD29/$BM29,MIN(R29,10+0.5*VLOOKUP($J29,PropOpLife,2,FALSE)))),BL29=0),0,-PV(POWER(1+Discount_Rate,$BM29)-1,$BD29/$BM29,MIN(R29,10+0.5*VLOOKUP($J29,PropOpLife,2,FALSE))))","v":0},{"$f":"IF(RIGHT(I29,4)=\"Case\",R29/AR29,S29/AR29)","v":{"$error":"#VALUE!"}},{"$f":"BG29/BO29","v":{"$error":"#VALUE!"}},{"$f":"IF(ROUND(BP29,1)>=1, \"PASS\", \"FAIL\")","v":{"$error":"#VALUE!"}},{"$f":"IF(OR(NOT(ISERROR(BQ29)),NOT(ISERROR(BJ29))),BJ29&\"/\"&BQ29,\"FAIL\")","v":"FAIL"},null,5,"Auto Repair","Warehouse Interior Lights","Other Exterior Lights",0.25,null,"Market Rate",null,"",null,{"$f":"IF(RIGHT(I29,4)=\"Case\",(INDEX('LED Case Lighting'!$AZ$3:$AZ$36,MATCH('Analysis 103L'!$CK29,'LED Case Lighting'!$AS$3:$AS$36,0))),IF(CB29=0,0,IF(CB29=\"lamp\",((Q29/VLOOKUP(B29,Int_Ext,2,FALSE))*VLOOKUP(E29,NEB,16,FALSE)),IF(CB29=\"fixture\",((Q29/VLOOKUP(B29,Int_Ext,2,FALSE))*VLOOKUP(E29,NEB,14,FALSE)),\"\"))))","v":""},null,{"$f":"IF(RIGHT(I29,4)=\"Case\",INDEX('Equipment Type'!$V$4:$V$53, MATCH('Analysis 103L'!$K29, 'Equipment Type'!$A$4:$A$53, 0)), \"\")","v":""},{"$f":"IF(RIGHT(I29,4)=\"Case\",IF(ISERROR(FIND(\"T12\",D29)),\"\",\"T12\") & IF(ISERROR(FIND(\"T8\",D29)),\"\",\"T8\") & IF(ISERROR(FIND(\"T5\",D29)),\"\",\"T5\"),\"\")","v":""},{"$f":"IF(RIGHT(I29,4)=\"Case\",IF(ISERROR(FIND(\"Cooler\",B29)),\"\",\"MED\") & IF(ISERROR(FIND(\"Freezer\",B29)),\"\",\"LOW\"),\"\")","v":""},{"$f":"IF(RIGHT(I29,4)=\"Case\",IF(ISERROR(FIND(\"Open\",B29)),\"\",\"OPEN\") & IF(ISERROR(FIND(\"Closed\",B29)),\"\",\"CLSD\"),\"\")","v":""},{"$f":"IF(RIGHT(I29,4)=\"Case\",IF(ISERROR(FIND(\"Remote\",B29)),\"\",\"RC\") & IF(ISERROR(FIND(\"Self\",B29)),\"\",\"SC\"),\"\")","v":""},{"$f":"IF(RIGHT(I29,4)=\"Case\",IF(OR(CF29=\"NE\", LEFT(J29, 6)=\"Motion\"), \"\", \"CL\" & CF29 & CG29 &  IF(CF29=\"SR\",\"LOW\",\"HIGH\") & CH29 & CI29 & CJ29 ), \"\")","v":""},{"$f":"IF(CK29=\"\", \"\", INDEX('LED Case Lighting'!$AR$3:$AR$36, MATCH('Analysis 103L'!CK29, 'LED Case Lighting'!$AS$3:$AS$36, 0)))","v":""},{"$f":"IF(CK29=\"\", \"\", INDEX('LED Case Lighting'!$AW$3:$AW$36, MATCH('Analysis 103L'!CK29, 'LED Case Lighting'!$AS$3:$AS$36, 0)))","v":""},{"$f":"IF(CK29=\"\", \"\", INDEX('LED Case Lighting'!$AX$3:$AX$36, MATCH('Analysis 103L'!CK29, 'LED Case Lighting'!$AS$3:$AS$36, 0)))","v":""},""]
[3,null,null,null,null,null,{"$f":"IF(E30=\"\",\"\",VLOOKUP(E30,ExistFixtLookup,2,FALSE))","v":""},null,{"$f":"IF(K30=\"\",\"\",VLOOKUP(K30,'Equipment Type'!$A$1:$F$53,5,FALSE))","v":""},{"$f":"IF(K30=\"\",\"\",VLOOKUP(K30,'Equipment Type'!$A$1:$F$53,6,FALSE))","v":""},null,{"$f":"IF(K30=\"\",\"\",VLOOKUP(K30,'Equipment Type'!$A$1:$F$53,4,FALSE))","v":""},null,{"$f":"IF(K30=\"\",\"\",INDEX('Equipment Type'!$T$4:$T$53,MATCH('Analysis 103L'!K30,'Equipment Type'!$A$4:$A$53,0)))","v":""},{"$f":"IF(RIGHT(I30, 4)=\"Case\", \"\", IF(G30=\"\",\"\",((G30*H30)-(N30*P30))/(G30*H30)))","v":""},null,{"$f":"IF(RIGHT(I30, 4)=\"Case\", \"\", IF(P30=\"\",\"\",(IF(ISNUMBER(SEARCH(\"exit\",J30)),8760,IF(B30=\"Exterior\",4380,'Analysis 103L'!$J$3)))))","v":""},null,"",{"$f":"IF(RIGHT(I30, 4)=\"Case\", \"\", IF(P30=\"\",\"\",IF(ISERROR(AY30),0,AY30)))","v":""},{"$f":"IF(RIGHT(I30, 4)=\"Case\", \"\", IF(H30=\"\",\"\",(G30*H30)*Q30/1000))","v":""},{"$f":"IF(RIGHT(I30, 4)=\"Case\", \"\", IF(P30=\"\",\"\",(N30*P30)*Q30/1000))","v":""},{"$f":"IF(RIGHT(I30, 4)=\"Case\", IF(LEFT(J30, 6)=\"Motion\", \"\", CM30*P30), IF(U30=\"\",\"\",IF(AND(ISNUMBER(U30),ISNUMBER(V30)),U30-V30,\"\")))","v":""},{"$f":"IF(M30=\"Y\",\"CustomCalc\",IF(RIGHT(I30, 4)=\"Case\", \"\",IF(AD30=1,\"\",IF(AF30>0,AF30,\"\"))))","v":""},{"$f":"IF(RIGHT(I30, 4)=\"Case\", IF(LEFT(J30, 6)=\"Motion\", \"\", CO30), IF(AND(W30>0,ISNUMBER(X30)),X30*P30,IF(P30=\"\",\"\",IF(RIGHT(I30, 4)=\"Case\", IF(LEFT(J30, 6)=\"Motion\", \"\", CO30),IF(AND(X30=\"CustomCalc\",AG30=\"PASS/PASS\"),AC30,0)))))","v":""},"",{"$f":"IF('100L Information'!$Z$5=\"Yes\",0,IF('100L Information'!$Z$4=\"Yes\",(MIN($Y$232-(-$Y$227),6000)*0.5)*(Y30/$Y$232),$Y$232*(Y30/($Y$230+$Y$231))))","v":{"$error":"#VALUE!"}},{"$f":"IF(W30=\"\",\"\",W30*$D$23)","v":""},{"$error":"#VALUE!"},"No requirement",{"$f":"MAX(IF(ISERROR(VLOOKUP(CONCATENATE(J30,\" from \",VLOOKUP(D30,ExistFixtCat,4,FALSE)),PropFixtIncent,2,FALSE)),0,VLOOKUP(CONCATENATE(J30,\" from \",VLOOKUP(D30,ExistFixtCat,4,FALSE)),PropFixtIncent,2,FALSE)),IF(ISERROR(VLOOKUP(CONCATENATE(J30,\" from ANY\"),PropFixtIncent,2,FALSE)),0,VLOOKUP(CONCATENATE(J30,\" from ANY\"),PropFixtIncent,2,FALSE)))","v":0},{"$f":"IF(OR(Z30=\"Does not meet requirement\",AND('100L Information'!$AA$21=\"No\",AL30=\"Y\"),AND('100L Information'!$AS$21=FALSE,AL30=\"Y\")),0,IF(ISNUMBER(R30*Incent_Cost_Fixture_Rx),MIN(R30*Incent_Cost_Fixture_Rx,(MAX(AE30,AK30))),0))","v":0},"FAIL","0","0","0",{"$f":"IF(AE30=0,MAX(IF(ISERROR(VLOOKUP(CONCATENATE(J30,\" from \",VLOOKUP(E30,ExistFixtCat,4,FALSE)),PropFixtIncent,2,FALSE)),0,VLOOKUP(CONCATENATE(J30,\" from \",VLOOKUP(E30,ExistFixtCat,4,FALSE)),PropFixtIncent,2,FALSE)),IF(ISERROR(VLOOKUP(CONCATENATE(J30,\" from ANY\"),PropFixtIncent,2,FALSE)),0,VLOOKUP(CONCATENATE(J30,\" from ANY\"),PropFixtIncent,2,FALSE))),0)","v":0},"N","0","0",null,{"$f":"IF(AND($CB30=\"fixture\",OR($D30=\"CFL\",$D30=\"INCAN\")),VLOOKUP(E30,Incan_Lookup,7,FALSE)*$G30*H30+VLOOKUP(E30,Incan_Lookup,6,FALSE)*$N30*P30,IF(AND($CB30=\"lamp\",OR($D30=\"CFL\",$D30=\"INCAN\")),VLOOKUP(E30,Incan_Lookup,10,FALSE)*$G30*H30+VLOOKUP(E30,Incan_Lookup,9,FALSE)*$N30*P30,IF($D30=\"OTHER\",$G30*$H30,IF($CB30=\"lamp\",(VLOOKUP($E30,ExistFixtLookup,10,FALSE)*H30+VLOOKUP($E30,ExistFixtLookup,9,FALSE)*N30*P30),IF($CB30=\"fixture\",(VLOOKUP($E30,ExistFixtLookup,7,FALSE)*H30+VLOOKUP($E30,ExistFixtLookup,6,FALSE)*N30*P30),$G30)))))","v":""},{"$f":"IF(ISNUMBER((AP30-N30*P30)*Q30/1000),(AP30-N30*P30)*Q30/1000,W30)","v":""},0,{"$f":"IF(ISNUMBER(AP30),IF(AP30>G30*H30,\"Greater\",\"Less\"),\"\")","v":""},{"$f":"IF(RIGHT(I30,4)=\"Case\",W30,IF(AND(AL30=\"Y\",AF30<1),0,IF(OR(LEFT(D30,2)=\"T5\",LEFT(D30,3)=\"CFL\",'Analysis 103L'!AS30=\"Less\"),'Analysis 103L'!AR30,'Analysis 103L'!W30)))","v":""},null,{"$f":"IF($B30=\"Interior\",IF(ISNUMBER($G30*$H30),$G30*$H30,0), 0)","v":0},{"$f":"IF($B30=\"Interior\",IF(ISNUMBER($N30*$P30),$N30*$P30,0), 0)","v":0},null,{"$f":"IF(RIGHT(I30,4)=\"Case\",\"\",((G30*H30)-(N30*P30))/1000)","v":{"$error":"#VALUE!"}},{"$f":"IF(RIGHT(I30,4)=\"Case\",\"\", IF(W30=0,0,W30/U30))","v":{"$error":"#VALUE!"}},{"$f":"IF(RIGHT(I30,4)=\"Case\",IF(W30=0,0,R30/(W30*$F$9)),IF(W30=0,0,S30/(W30*$F$9)))","v":{"$error":"#VALUE!"}},null,null,{"$f":"IF(RIGHT(I30,4)=\"Case\",'LED Case Lighting'!$AY$1,IF(J30=\"\",\"\",VLOOKUP(J30,Lookups!$A$30:$J$172,VLOOKUP('100L Information'!$AI$46,Lookups!$J$3:$L$6,3,FALSE),FALSE)))","v":""},{"$error":"#N/A"},"",{"$f":"IF(BD30=\"\",\"\",$BF30+-PV(4.5%,BD30,CD30)/$AR30*$P30)","v":""},{"$error":"#VALUE!"},{"$error":"#VALUE!"},{"$f":"IF(ROUND(BI30,1)>=1, \"PASS\", \"FAIL\")","v":{"$error":"#VALUE!"}},{"$error":"#N/A"},0,{"$error":"#N/A"},{"$f":"IF(OR(ISERROR(-PV(POWER(1+Discount_Rate,$BM30)-1,$BD30/$BM30,MIN(R30,10+0.5*VLOOKUP($J30,PropOpLife,2,FALSE)))),BL30=0),0,-PV(POWER(1+Discount_Rate,$BM30)-1,$BD30/$BM30,MIN(R30,10+0.5*VLOOKUP($J30,PropOpLife,2,FALSE))))","v":0},{"$f":"IF(RIGHT(I30,4)=\"Case\",R30/AR30,S30/AR30)","v":{"$error":"#VALUE!"}},{"$error":"#VALUE!"},{"$error":"#VALUE!"},{"$f":"IF(OR(NOT(ISERROR(BQ30)),NOT(ISERROR(BJ30))),BJ30&\"/\"&BQ30,\"FAIL\")","v":"FAIL"},null,10,"College/University","College Interior Lights","College Exterior Lights",0.31,null,"Campus Living",null,"",null,{"$f":"IF(RIGHT(I30,4)=\"Case\",(INDEX('LED Case Lighting'!$AZ$3:$AZ$36,MATCH('Analysis 103L'!$CK30,'LED Case Lighting'!$AS$3:$AS$36,0))),IF(CB30=0,0,IF(CB30=\"lamp\",((Q30/VLOOKUP(B30,Int_Ext,2,FALSE))*VLOOKUP(E30,NEB,16,FALSE)),IF(CB30=\"fixture\",((Q30/VLOOKUP(B30,Int_Ext,2,FALSE))*VLOOKUP(E30,NEB,14,FALSE)),\"\"))))","v":""},null,{"$f":"IF(RIGHT(I30,4)=\"Case\",INDEX('Equipment Type'!$V$4:$V$53, MATCH('Analysis 103L'!$K30, 'Equipment Type'!$A$4:$A$53, 0)), \"\")","v":""},"","","","","",{"$f":"IF(CK30=\"\", \"\", INDEX('LED Case Lighting'!$AR$3:$AR$36, MATCH('Analysis 103L'!CK30, 'LED Case Lighting'!$AS$3:$AS$36, 0)))","v":""},{"$f":"IF(CK30=\"\", \"\", INDEX('LED Case Lighting'!$AW$3:$AW$36, MATCH('Analysis 103L'!CK30, 'LED Case Lighting'!$AS$3:$AS$36, 0)))","v":""},{"$f":"IF(CK30=\"\", \"\", INDEX('LED Case Lighting'!$AX$3:$AX$36, MATCH('Analysis 103L'!CK30, 'LED Case Lighting'!$AS$3:$AS$36, 0)))","v":""},""]
[4,null,null,null,null,null,"",null,{"$f":"IF(K31=\"\",\"\",VLOOKUP(K31,'Equipment Type'!$A$1:$F$53,5,FALSE))","v":""},{"$f":"IF(K31=\"\",\"\",VLOOKUP(K31,'Equipment Type'!$A$1:$F$53,6,FALSE))","v":""},null,{"$f":"IF(K31=\"\",\"\",VLOOKUP(K31,'Equipment Type'!$A$1:$F$53,4,FALSE))","v":""},null,{"$f":"IF(K31=\"\",\"\",INDEX('Equipment Type'!$T$4:$T$53,MATCH('Analysis 103L'!K31,'Equipment Type'!$A$4:$A$53,0)))","v":""},{"$f":"IF(RIGHT(I31, 4)=\"Case\", \"\", IF(G31=\"\",\"\",((G31*H31)-(N31*P31))/(G31*H31)))","v":""},null,{"$f":"IF(RIGHT(I31, 4)=\"Case\", \"\", IF(P31=\"\",\"\",(IF(ISNUMBER(SEARCH(\"exit\",J31)),8760,IF(B31=\"Exterior\",4380,'Analysis 103L'!$J$3)))))","v":""},null,{"$f":"IF(RIGHT(I31, 4)=\"Case\", IF(LEFT(J31, 6)=\"Motion\", \"\", \"<-- Enter total cost.\"), IF(P31=\"\",\"\",IF(AND(AL31=\"Y\",X31=\"\"),\"\",P31*R31)))","v":""},{"$f":"IF(RIGHT(I31, 4)=\"Case\", \"\", IF(P31=\"\",\"\",IF(ISERROR(AY31),0,AY31)))","v":""},{"$f":"IF(RIGHT(I31, 4)=\"Case\", \"\", IF(H31=\"\",\"\",(G31*H31)*Q31/1000))","v":""},{"$f":"IF(RIGHT(I31, 4)=\"Case\", \"\", IF(P31=\"\",\"\",(N31*P31)*Q31/1000))","v":""},{"$f":"IF(RIGHT(I31, 4)=\"Case\", IF(LEFT(J31, 6)=\"Motion\", \"\", CM31*P31), IF(U31=\"\",\"\",IF(AND(ISNUMBER(U31),ISNUMBER(V31)),U31-V31,\"\")))","v":""},"","","",{"$f":"IF('100L Information'!$Z$5=\"Yes\",0,IF('100L Information'!$Z$4=\"Yes\",(MIN($Y$232-(-$Y$227),6000)*0.5)*(Y31/$Y$232),$Y$232*(Y31/($Y$230+$Y$231))))","v":{"$error":"#VALUE!"}},{"$f":"IF(W31=\"\",\"\",W31*$D$23)","v":""},{"$error":"#VALUE!"},"No requirement",0,{"$f":"IF(OR(Z31=\"Does not meet requirement\",AND('100L Information'!$AA$21=\"No\",AL31=\"Y\"),AND('100L Information'!$AS$21=FALSE,AL31=\"Y\")),0,IF(ISNUMBER(R31*Incent_Cost_Fixture_Rx),MIN(R31*Incent_Cost_Fixture_Rx,(MAX(AE31,AK31))),0))","v":0},{"$f":"IF(AND(M31=\"Y\",BR31=\"PASS/PASS\"),\"PASS/PASS\",\"FAIL\")","v":"FAIL"},"0","0","0",{"$f":"IF(AE31=0,MAX(IF(ISERROR(VLOOKUP(CONCATENATE(J31,\" from \",VLOOKUP(E31,ExistFixtCat,4,FALSE)),PropFixtIncent,2,FALSE)),0,VLOOKUP(CONCATENATE(J31,\" from \",VLOOKUP(E31,ExistFixtCat,4,FALSE)),PropFixtIncent,2,FALSE)),IF(ISERROR(VLOOKUP(CONCATENATE(J31,\" from ANY\"),PropFixtIncent,2,FALSE)),0,VLOOKUP(CONCATENATE(J31,\" from ANY\"),PropFixtIncent,2,FALSE))),0)","v":0},"N","0","0",null,{"$f":"IF(AND($CB31=\"fixture\",OR($D31=\"CFL\",$D31=\"INCAN\")),VLOOKUP(E31,Incan_Lookup,7,FALSE)*$G31*H31+VLOOKUP(E31,Incan_Lookup,6,FALSE)*$N31*P31,IF(AND($CB31=\"lamp\",OR($D31=\"CFL\",$D31=\"INCAN\")),VLOOKUP(E31,Incan_Lookup,10,FALSE)*$G31*H31+VLOOKUP(E31,Incan_Lookup,9,FALSE)*$N31*P31,IF($D31=\"OTHER\",$G31*$H31,IF($CB31=\"lamp\",(VLOOKUP($E31,ExistFixtLookup,10,FALSE)*H31+VLOOKUP($E31,ExistFixtLookup,9,FALSE)*N31*P31),IF($CB31=\"fixture\",(VLOOKUP($E31,ExistFixtLookup,7,FALSE)*H31+VLOOKUP($E31,ExistFixtLookup,6,FALSE)*N31*P31),$G31)))))","v":""},{"$f":"IF(ISNUMBER((AP31-N31*P31)*Q31/1000),(AP31-N31*P31)*Q31/1000,W31)","v":""},0,"",{"$f":"IF(RIGHT(I31,4)=\"Case\",W31,IF(AND(AL31=\"Y\",AF31<1),0,IF(OR(LEFT(D31,2)=\"T5\",LEFT(D31,3)=\"CFL\",'Analysis 103L'!AS31=\"Less\"),'Analysis 103L'!AR31,'Analysis 103L'!W31)))","v":""},null,{"$f":"IF($B31=\"Interior\",IF(ISNUMBER($G31*$H31),$G31*$H31,0), 0)","v":0},{"$f":"IF($B31=\"Interior\",IF(ISNUMBER($N31*$P31),$N31*$P31,0), 0)","v":0},null,{"$f":"IF(RIGHT(I31,4)=\"Case\",\"\",((G31*H31)-(N31*P31))/1000)","v":{"$error":"#VALUE!"}},{"$f":"IF(RIGHT(I31,4)=\"Case\",\"\", IF(W31=0,0,W31/U31))","v":{"$error":"#VALUE!"}},{"$f":"IF(RIGHT(I31,4)=\"Case\",IF(W31=0,0,R31/(W31*$F$9)),IF(W31=0,0,S31/(W31*$F$9)))","v":{"$error":"#VALUE!"}},null,null,{"$f":"IF(RIGHT(I31,4)=\"Case\",'LED Case Lighting'!$AY$1,IF(J31=\"\",\"\",VLOOKUP(J31,Lookups!$A$30:$J$172,VLOOKUP('100L Information'!$AI$46,Lookups!$J$3:$L$6,3,FALSE),FALSE)))","v":""},{"$error":"#N/A"},{"$f":"IF(BD31=\"\",\"\",VLOOKUP(BE31, avoided_costs, ROUND($BD31,0)+2, FALSE))","v":""},"",{"$f":"IF(RIGHT(I31,4)=\"Case\",0.5*R31/AR31, 0.5*S31/AR31)","v":{"$error":"#VALUE!"}},{"$f":"BF31/BH31","v":{"$error":"#VALUE!"}},{"$error":"#VALUE!"},{"$error":"#N/A"},0,{"$error":"#N/A"},0,{"$f":"IF(RIGHT(I31,4)=\"Case\",R31/AR31,S31/AR31)","v":{"$error":"#VALUE!"}},{"$f":"BG31/BO31","v":{"$error":"#VALUE!"}},{"$error":"#VALUE!"},"FAIL",null,4,"Entertainment/Recreation","Other Interior Lights","Other Exterior Lights",0.25,null,"Assisted Living/Retirement",null,"",null,{"$f":"IF(RIGHT(I31,4)=\"Case\",(INDEX('LED Case Lighting'!$AZ$3:$AZ$36,MATCH('Analysis 103L'!$CK31,'LED Case Lighting'!$AS$3:$AS$36,0))),IF(CB31=0,0,IF(CB31=\"lamp\",((Q31/VLOOKUP(B31,Int_Ext,2,FALSE))*VLOOKUP(E31,NEB,16,FALSE)),IF(CB31=\"fixture\",((Q31/VLOOKUP(B31,Int_Ext,2,FALSE))*VLOOKUP(E31,NEB,14,FALSE)),\"\"))))","v":""},null,{"$f":"IF(RIGHT(I31,4)=\"Case\",INDEX('Equipment Type'!$V$4:$V$53, MATCH('Analysis 103L'!$K31, 'Equipment Type'!$A$4:$A$53, 0)), \"\")","v":""},"","","","","",{"$f":"IF(CK31=\"\", \"\", INDEX('LED Case Lighting'!$AR$3:$AR$36, MATCH('Analysis 103L'!CK31, 'LED Case Lighting'!$AS$3:$AS$36, 0)))","v":""},{"$f":"IF(CK31=\"\", \"\", INDEX('LED Case Lighting'!$AW$3:$AW$36, MATCH('Analysis 103L'!CK31, 'LED Case Lighting'!$AS$3:$AS$36, 0)))","v":""},{"$f":"IF(CK31=\"\", \"\", INDEX('LED Case Lighting'!$AX$3:$AX$36, MATCH('Analysis 103L'!CK31, 'LED Case Lighting'!$AS$3:$AS$36, 0)))","v":""},""]
[5,null,null,null,null,null,"",null,{"$f":"IF(K32=\"\",\"\",VLOOKUP(K32,'Equipment Type'!$A$1:$F$53,5,FALSE))","v":""},{"$f":"IF(K32=\"\",\"\",VLOOKUP(K32,'Equipment Type'!$A$1:$F$53,6,FALSE))","v":""},null,{"$f":"IF(K32=\"\",\"\",VLOOKUP(K32,'Equipment Type'!$A$1:$F$53,4,FALSE))","v":""},null,{"$f":"IF(K32=\"\",\"\",INDEX('Equipment Type'!$T$4:$T$53,MATCH('Analysis 103L'!K32,'Equipment Type'!$A$4:$A$53,0)))","v":""},{"$f":"IF(RIGHT(I32, 4)=\"Case\", \"\", IF(G32=\"\",\"\",((G32*H32)-(N32*P32))/(G32*H32)))","v":""},null,{"$f":"IF(RIGHT(I32, 4)=\"Case\", \"\", IF(P32=\"\",\"\",(IF(ISNUMBER(SEARCH(\"exit\",J32)),8760,IF(B32=\"Exterior\",4380,'Analysis 103L'!$J$3)))))","v":""},null,"",{"$f":"IF(RIGHT(I32, 4)=\"Case\", \"\", IF(P32=\"\",\"\",IF(ISERROR(AY32),0,AY32)))","v":""},{"$f":"IF(RIGHT(I32, 4)=\"Case\", \"\", IF(H32=\"\",\"\",(G32*H32)*Q32/1000))","v":""},{"$f":"IF(RIGHT(I32, 4)=\"Case\", \"\", IF(P32=\"\",\"\",(N32*P32)*Q32/1000))","v":""},{"$f":"IF(RIGHT(I32, 4)=\"Case\", IF(LEFT(J32, 6)=\"Motion\", \"\", CM32*P32), IF(U32=\"\",\"\",IF(AND(ISNUMBER(U32),ISNUMBER(V32)),U32-V32,\"\")))","v":""},"","",{"$f":"IF(M32 = \"Y\",IF(AND(M32=\"Y\",AG32=\"FAIL\"),\"Not Cost Effective\",\"\"),IF(AD32=1,\"Does not meet requirement\",\"\"))","v":""},{"$f":"IF('100L Information'!$Z$5=\"Yes\",0,IF('100L Information'!$Z$4=\"Yes\",(MIN($Y$232-(-$Y$227),6000)*0.5)*(Y32/$Y$232),$Y$232*(Y32/($Y$230+$Y$231))))","v":{"$error":"#VALUE!"}},"",{"$error":"#VALUE!"},"No requirement",0,{"$f":"IF(OR(Z32=\"Does not meet requirement\",AND('100L Information'!$AA$21=\"No\",AL32=\"Y\"),AND('100L Information'!$AS$21=FALSE,AL32=\"Y\")),0,IF(ISNUMBER(R32*Incent_Cost_Fixture_Rx),MIN(R32*Incent_Cost_Fixture_Rx,(MAX(AE32,AK32))),0))","v":0},{"$f":"IF(AND(M32=\"Y\",BR32=\"PASS/PASS\"),\"PASS/PASS\",\"FAIL\")","v":"FAIL"},"0","0","0",0,"N","0","0",null,"","",0,"",{"$f":"IF(RIGHT(I32,4)=\"Case\",W32,IF(AND(AL32=\"Y\",AF32<1),0,IF(OR(LEFT(D32,2)=\"T5\",LEFT(D32,3)=\"CFL\",'Analysis 103L'!AS32=\"Less\"),'Analysis 103L'!AR32,'Analysis 103L'!W32)))","v":""},null,{"$f":"IF($B32=\"Interior\",IF(ISNUMBER($G32*$H32),$G32*$H32,0), 0)","v":0},{"$f":"IF($B32=\"Interior\",IF(ISNUMBER($N32*$P32),$N32*$P32,0), 0)","v":0},null,{"$f":"IF(RIGHT(I32,4)=\"Case\",\"\",((G32*H32)-(N32*P32))/1000)","v":{"$error":"#VALUE!"}},{"$f":"IF(RIGHT(I32,4)=\"Case\",\"\", IF(W32=0,0,W32/U32))","v":{"$error":"#VALUE!"}},{"$f":"IF(RIGHT(I32,4)=\"Case\",IF(W32=0,0,R32/(W32*$F$9)),IF(W32=0,0,S32/(W32*$F$9)))","v":{"$error":"#VALUE!"}},null,null,{"$f":"IF(RIGHT(I32,4)=\"Case\",'LED Case Lighting'!$AY$1,IF(J32=\"\",\"\",VLOOKUP(J32,Lookups!$A$30:$J$172,VLOOKUP('100L Information'!$AI$46,Lookups!$J$3:$L$6,3,FALSE),FALSE)))","v":""},{"$error":"#N/A"},"",{"$f":"IF(BD32=\"\",\"\",$BF32+-PV(4.5%,BD32,CD32)/$AR32*$P32)","v":""},{"$error":"#VALUE!"},{"$error":"#VALUE!"},{"$error":"#VALUE!"},{"$error":"#N/A"},0,{"$error":"#N/A"},0,{"$f":"IF(RIGHT(I32,4)=\"Case\",R32/AR32,S32/AR32)","v":{"$error":"#VALUE!"}},{"$f":"BG32/BO32","v":{"$error":"#VALUE!"}},{"$f":"IF(ROUND(BP32,1)>=1, \"PASS\", \"FAIL\")","v":{"$error":"#VALUE!"}},{"$f":"IF(OR(NOT(ISERROR(BQ32)),NOT(ISERROR(BJ32))),BJ32&\"/\"&BQ32,\"FAIL\")","v":"FAIL"},null,7,"Food/Beverage Production","(determined by formula)","Other Exterior Lights",0.35,null,"Condominium/HOA",null,"",null,{"$f":"IF(RIGHT(I32,4)=\"Case\",(INDEX('LED Case Lighting'!$AZ$3:$AZ$36,MATCH('Analysis 103L'!$CK32,'LED Case Lighting'!$AS$3:$AS$36,0))),IF(CB32=0,0,IF(CB32=\"lamp\",((Q32/VLOOKUP(B32,Int_Ext,2,FALSE))*VLOOKUP(E32,NEB,16,FALSE)),IF(CB32=\"fixture\",((Q32/VLOOKUP(B32,Int_Ext,2,FALSE))*VLOOKUP(E32,NEB,14,FALSE)),\"\"))))","v":""},null,{"$f":"IF(RIGHT(I32,4)=\"Case\",INDEX('Equipment Type'!$V$4:$V$53, MATCH('Analysis 103L'!$K32, 'Equipment Type'!$A$4:$A$53, 0)), \"\")","v":""},"","","","","",{"$f":"IF(CK32=\"\", \"\", INDEX('LED Case Lighting'!$AR$3:$AR$36, MATCH('Analysis 103L'!CK32, 'LED Case Lighting'!$AS$3:$AS$36, 0)))","v":""},{"$f":"IF(CK32=\"\", \"\", INDEX('LED Case Lighting'!$AW$3:$AW$36, MATCH('Analysis 103L'!CK32, 'LED Case Lighting'!$AS$3:$AS$36, 0)))","v":""},{"$f":"IF(CK32=\"\", \"\", INDEX('LED Case Lighting'!$AX$3:$AX$36, MATCH('Analysis 103L'!CK32, 'LED Case Lighting'!$AS$3:$AS$36, 0)))","v":""},""]
[6,null,null,null,null,null,"",null,{"$f":"IF(K33=\"\",\"\",VLOOKUP(K33,'Equipment Type'!$A$1:$F$53,5,FALSE))","v":""},{"$f":"IF(K33=\"\",\"\",VLOOKUP(K33,'Equipment Type'!$A$1:$F$53,6,FALSE))","v":""},null,{"$f":"IF(K33=\"\",\"\",VLOOKUP(K33,'Equipment Type'!$A$1:$F$53,4,FALSE))","v":""},null,{"$f":"IF(K33=\"\",\"\",INDEX('Equipment Type'!$T$4:$T$53,MATCH('Analysis 103L'!K33,'Equipment Type'!$A$4:$A$53,0)))","v":""},"",null,{"$f":"IF(RIGHT(I33, 4)=\"Case\", \"\", IF(P33=\"\",\"\",(IF(ISNUMBER(SEARCH(\"exit\",J33)),8760,IF(B33=\"Exterior\",4380,'Analysis 103L'!$J$3)))))","v":""},null,"","","","","",{"$f":"IF(M33=\"Y\",\"CustomCalc\",IF(RIGHT(I33, 4)=\"Case\", \"\",IF(AD33=1,\"\",IF(AF33>0,AF33,\"\"))))","v":""},"",{"$f":"IF(M33 = \"Y\",IF(AND(M33=\"Y\",AG33=\"FAIL\"),\"Not Cost Effective\",\"\"),IF(AD33=1,\"Does not meet requirement\",\"\"))","v":""},{"$f":"IF('100L Information'!$Z$5=\"Yes\",0,IF('100L Information'!$Z$4=\"Yes\",(MIN($Y$232-(-$Y$227),6000)*0.5)*(Y33/$Y$232),$Y$232*(Y33/($Y$230+$Y$231))))","v":{"$error":"#VALUE!"}},"",{"$error":"#VALUE!"},"No requirement",0,{"$f":"IF(OR(Z33=\"Does not meet requirement\",AND('100L Information'!$AA$21=\"No\",AL33=\"Y\"),AND('100L Information'!$AS$21=FALSE,AL33=\"Y\")),0,IF(ISNUMBER(R33*Incent_Cost_Fixture_Rx),MIN(R33*Incent_Cost_Fixture_Rx,(MAX(AE33,AK33))),0))","v":0},"FAIL","0","0","0",0,"N","0","0",null,"","",0,"",{"$f":"IF(RIGHT(I33,4)=\"Case\",W33,IF(AND(AL33=\"Y\",AF33<1),0,IF(OR(LEFT(D33,2)=\"T5\",LEFT(D33,3)=\"CFL\",'Analysis 103L'!AS33=\"Less\"),'Analysis 103L'!AR33,'Analysis 103L'!W33)))","v":""},null,0,0,null,{"$error":"#VALUE!"},{"$error":"#VALUE!"},{"$error":"#VALUE!"},null,null,{"$f":"IF(RIGHT(I33,4)=\"Case\",'LED Case Lighting'!$AY$1,IF(J33=\"\",\"\",VLOOKUP(J33,Lookups!$A$30:$J$172,VLOOKUP('100L Information'!$AI$46,Lookups!$J$3:$L$6,3,FALSE),FALSE)))","v":""},{"$error":"#N/A"},"","",{"$error":"#VALUE!"},{"$error":"#VALUE!"},{"$f":"IF(ROUND(BI33,1)>=1, \"PASS\", \"FAIL\")","v":{"$error":"#VALUE!"}},{"$error":"#N/A"},0,{"$error":"#N/A"},0,{"$error":"#VALUE!"},{"$error":"#VALUE!"},{"$error":"#VALUE!"},"FAIL",null,11,"Food Service","Restaurant Interior Lights","Restaurant Exterior Lights",0.25,null,"Other",null,"",null,{"$f":"IF(RIGHT(I33,4)=\"Case\",(INDEX('LED Case Lighting'!$AZ$3:$AZ$36,MATCH('Analysis 103L'!$CK33,'LED Case Lighting'!$AS$3:$AS$36,0))),IF(CB33=0,0,IF(CB33=\"lamp\",((Q33/VLOOKUP(B33,Int_Ext,2,FALSE))*VLOOKUP(E33,NEB,16,FALSE)),IF(CB33=\"fixture\",((Q33/VLOOKUP(B33,Int_Ext,2,FALSE))*VLOOKUP(E33,NEB,14,FALSE)),\"\"))))","v":""},null,{"$f":"IF(RIGHT(I33,4)=\"Case\",INDEX('Equipment Type'!$V$4:$V$53, MATCH('Analysis 103L'!$K33, 'Equipment Type'!$A$4:$A$53, 0)), \"\")","v":""},"","","","","",{"$f":"IF(CK33=\"\", \"\", INDEX('LED Case Lighting'!$AR$3:$AR$36, MATCH('Analysis 103L'!CK33, 'LED Case Lighting'!$AS$3:$AS$36, 0)))","v":""},{"$f":"IF(CK33=\"\", \"\", INDEX('LED Case Lighting'!$AW$3:$AW$36, MATCH('Analysis 103L'!CK33, 'LED Case Lighting'!$AS$3:$AS$36, 0)))","v":""},{"$f":"IF(CK33=\"\", \"\", INDEX('LED Case Lighting'!$AX$3:$AX$36, MATCH('Analysis 103L'!CK33, 'LED Case Lighting'!$AS$3:$AS$36, 0)))","v":""},""]
[7,null,null,null,null,null,"",null,{"$f":"IF(K34=\"\",\"\",VLOOKUP(K34,'Equipment Type'!$A$1:$F$53,5,FALSE))","v":""},{"$f":"IF(K34=\"\",\"\",VLOOKUP(K34,'Equipment Type'!$A$1:$F$53,6,FALSE))","v":""},null,{"$f":"IF(K34=\"\",\"\",VLOOKUP(K34,'Equipment Type'!$A$1:$F$53,4,FALSE))","v":""},null,{"$f":"IF(K34=\"\",\"\",INDEX('Equipment Type'!$T$4:$T$53,MATCH('Analysis 103L'!K34,'Equipment Type'!$A$4:$A$53,0)))","v":""},"",null,{"$f":"IF(RIGHT(I34, 4)=\"Case\", \"\", IF(P34=\"\",\"\",(IF(ISNUMBER(SEARCH(\"exit\",J34)),8760,IF(B34=\"Exterior\",4380,'Analysis 103L'!$J$3)))))","v":""},null,"","","","","","",{"$f":"IF(RIGHT(I34, 4)=\"Case\", IF(LEFT(J34, 6)=\"Motion\", \"\", CO34), IF(AND(W34>0,ISNUMBER(X34)),X34*P34,IF(P34=\"\",\"\",IF(RIGHT(I34, 4)=\"Case\", IF(LEFT(J34, 6)=\"Motion\", \"\", CO34),IF(AND(X34=\"CustomCalc\",AG34=\"PASS/PASS\"),AC34,0)))))","v":""},"",{"$f":"IF('100L Information'!$Z$5=\"Yes\",0,IF('100L Information'!$Z$4=\"Yes\",(MIN($Y$232-(-$Y$227),6000)*0.5)*(Y34/$Y$232),$Y$232*(Y34/($Y$230+$Y$231))))","v":{"$error":"#VALUE!"}},"",{"$error":"#VALUE!"},"No requirement",0,{"$f":"IF(OR(Z34=\"Does not meet requirement\",AND('100L Information'!$AA$21=\"No\",AL34=\"Y\"),AND('100L Information'!$AS$21=FALSE,AL34=\"Y\")),0,IF(ISNUMBER(R34*Incent_Cost_Fixture_Rx),MIN(R34*Incent_Cost_Fixture_Rx,(MAX(AE34,AK34))),0))","v":0},"FAIL","0","0","0",0,"N","0","0",null,"","",0,"",{"$f":"IF(RIGHT(I34,4)=\"Case\",W34,IF(AND(AL34=\"Y\",AF34<1),0,IF(OR(LEFT(D34,2)=\"T5\",LEFT(D34,3)=\"CFL\",'Analysis 103L'!AS34=\"Less\"),'Analysis 103L'!AR34,'Analysis 103L'!W34)))","v":""},null,0,0,null,{"$error":"#VALUE!"},{"$error":"#VALUE!"},{"$error":"#VALUE!"},null,null,{"$f":"IF(RIGHT(I34,4)=\"Case\",'LED Case Lighting'!$AY$1,IF(J34=\"\",\"\",VLOOKUP(J34,Lookups!$A$30:$J$172,VLOOKUP('100L Information'!$AI$46,Lookups!$J$3:$L$6,3,FALSE),FALSE)))","v":""},{"$error":"#N/A"},"","",{"$error":"#VALUE!"},{"$error":"#VALUE!"},{"$error":"#VALUE!"},{"$error":"#N/A"},0,{"$error":"#N/A"},0,{"$error":"#VALUE!"},{"$error":"#VALUE!"},{"$error":"#VALUE!"},"FAIL",null,1,"Grocery","Grocery Interior Lights","Grocery Exterior Lights",0.25,null,null,null,"",null,{"$f":"IF(RIGHT(I34,4)=\"Case\",(INDEX('LED Case Lighting'!$AZ$3:$AZ$36,MATCH('Analysis 103L'!$CK34,'LED Case Lighting'!$AS$3:$AS$36,0))),IF(CB34=0,0,IF(CB34=\"lamp\",((Q34/VLOOKUP(B34,Int_Ext,2,FALSE))*VLOOKUP(E34,NEB,16,FALSE)),IF(CB34=\"fixture\",((Q34/VLOOKUP(B34,Int_Ext,2,FALSE))*VLOOKUP(E34,NEB,14,FALSE)),\"\"))))","v":""},null,{"$f":"IF(RIGHT(I34,4)=\"Case\",INDEX('Equipment Type'!$V$4:$V$53, MATCH('Analysis 103L'!$K34, 'Equipment Type'!$A$4:$A$53, 0)), \"\")","v":""},"","","","","",{"$f":"IF(CK34=\"\", \"\", INDEX('LED Case Lighting'!$AR$3:$AR$36, MATCH('Analysis 103L'!CK34, 'LED Case Lighting'!$AS$3:$AS$36, 0)))","v":""},{"$f":"IF(CK34=\"\", \"\", INDEX('LED Case Lighting'!$AW$3:$AW$36, MATCH('Analysis 103L'!CK34, 'LED Case Lighting'!$AS$3:$AS$36, 0)))","v":""},{"$f":"IF(CK34=\"\", \"\", INDEX('LED Case Lighting'!$AX$3:$AX$36, MATCH('Analysis 103L'!CK34, 'LED Case Lighting'!$AS$3:$AS$36, 0)))","v":""},""]
[8,null,null,null,null,null,"",null,{"$f":"IF(K35=\"\",\"\",VLOOKUP(K35,'Equipment Type'!$A$1:$F$53,5,FALSE))","v":""},{"$f":"IF(K35=\"\",\"\",VLOOKUP(K35,'Equipment Type'!$A$1:$F$53,6,FALSE))","v":""},null,{"$f":"IF(K35=\"\",\"\",VLOOKUP(K35,'Equipment Type'!$A$1:$F$53,4,FALSE))","v":""},null,{"$f":"IF(K35=\"\",\"\",INDEX('Equipment Type'!$T$4:$T$53,MATCH('Analysis 103L'!K35,'Equipment Type'!$A$4:$A$53,0)))","v":""},"",null,{"$f":"IF(RIGHT(I35, 4)=\"Case\", \"\", IF(P35=\"\",\"\",(IF(ISNUMBER(SEARCH(\"exit\",J35)),8760,IF(B35=\"Exterior\",4380,'Analysis 103L'!$J$3)))))","v":""},null,"","","","","","","","",{"$f":"IF('100L Information'!$Z$5=\"Yes\",0,IF('100L Information'!$Z$4=\"Yes\",(MIN($Y$232-(-$Y$227),6000)*0.5)*(Y35/$Y$232),$Y$232*(Y35/($Y$230+$Y$231))))","v":{"$error":"#VALUE!"}},"",{"$error":"#VALUE!"},"No requirement",0,{"$f":"IF(OR(Z35=\"Does not meet requirement\",AND('100L Information'!$AA$21=\"No\",AL35=\"Y\"),AND('100L Information'!$AS$21=FALSE,AL35=\"Y\")),0,IF(ISNUMBER(R35*Incent_Cost_Fixture_Rx),MIN(R35*Incent_Cost_Fixture_Rx,(MAX(AE35,AK35))),0))","v":0},"FAIL","0","0","0",0,"N","0","0",null,"","",0,"",{"$f":"IF(RIGHT(I35,4)=\"Case\",W35,IF(AND(AL35=\"Y\",AF35<1),0,IF(OR(LEFT(D35,2)=\"T5\",LEFT(D35,3)=\"CFL\",'Analysis 103L'!AS35=\"Less\"),'Analysis 103L'!AR35,'Analysis 103L'!W35)))","v":""},null,0,0,null,{"$error":"#VALUE!"},{"$error":"#VALUE!"},{"$error":"#VALUE!"},null,null,{"$f":"IF(RIGHT(I35,4)=\"Case\",'LED Case Lighting'!$AY$1,IF(J35=\"\",\"\",VLOOKUP(J35,Lookups!$A$30:$J$172,VLOOKUP('100L Information'!$AI$46,Lookups!$J$3:$L$6,3,FALSE),FALSE)))","v":""},{"$error":"#N/A"},"","",{"$error":"#VALUE!"},{"$error":"#VALUE!"},{"$error":"#VALUE!"},{"$f":"VLOOKUP(E35,ExistFixtCat,3,FALSE)/(H35*IF(ISNUMBER(VALUE(MID(E35,5,1))),VALUE(MID(E35,5,1)),1)*Q35)","v":{"$error":"#N/A"}},{"$f":"IF(ISERROR(-PV(POWER(1+Discount_Rate,$BK35)-1,$BD35/$BK35,10+VLOOKUP($E35,ExistFixtCat,2,FALSE))),0,-PV(POWER(1+Discount_Rate,$BK35)-1,$BD35/$BK35,10+VLOOKUP($E35,ExistFixtCat,2,FALSE)))","v":0},{"$f":"VLOOKUP($J35,PropOpLife,3,FALSE)/($P35*IF(ISNUMBER(VALUE(MID($J35,5,1))),VALUE(MID($J35,5,1)),1)*$Q35)","v":{"$error":"#N/A"}},0,{"$error":"#VALUE!"},{"$error":"#VALUE!"},{"$error":"#VALUE!"},"FAIL",null,2,"Healthcare","Healthcare Interior Lights","Healthcare Exterior Lights",0.25,null,null,null,"",null,{"$f":"IF(RIGHT(I35,4)=\"Case\",(INDEX('LED Case Lighting'!$AZ$3:$AZ$36,MATCH('Analysis 103L'!$CK35,'LED Case Lighting'!$AS$3:$AS$36,0))),IF(CB35=0,0,IF(CB35=\"lamp\",((Q35/VLOOKUP(B35,Int_Ext,2,FALSE))*VLOOKUP(E35,NEB,16,FALSE)),IF(CB35=\"fixture\",((Q35/VLOOKUP(B35,Int_Ext,2,FALSE))*VLOOKUP(E35,NEB,14,FALSE)),\"\"))))","v":""},null,{"$f":"IF(RIGHT(I35,4)=\"Case\",INDEX('Equipment Type'!$V$4:$V$53, MATCH('Analysis 103L'!$K35, 'Equipment Type'!$A$4:$A$53, 0)), \"\")","v":""},"","","","","",{"$f":"IF(CK35=\"\", \"\", INDEX('LED Case Lighting'!$AR$3:$AR$36, MATCH('Analysis 103L'!CK35, 'LED Case Lighting'!$AS$3:$AS$36, 0)))","v":""},{"$f":"IF(CK35=\"\", \"\", INDEX('LED Case Lighting'!$AW$3:$AW$36, MATCH('Analysis 103L'!CK35, 'LED Case Lighting'!$AS$3:$AS$36, 0)))","v":""},{"$f":"IF(CK35=\"\", \"\", INDEX('LED Case Lighting'!$AX$3:$AX$36, MATCH('Analysis 103L'!CK35, 'LED Case Lighting'!$AS$3:$AS$36, 0)))","v":""},{"$f":"IF(CN35=\"\",\"\",MIN(R35*Incent_Cost_Case,(P35*CN35)))","v":""}]
[9,null,null,null,null,null,"",null,{"$f":"IF(K36=\"\",\"\",VLOOKUP(K36,'Equipment Type'!$A$1:$F$53,5,FALSE))","v":""},{"$f":"IF(K36=\"\",\"\",VLOOKUP(K36,'Equipment Type'!$A$1:$F$53,6,FALSE))","v":""},null,{"$f":"IF(K36=\"\",\"\",VLOOKUP(K36,'Equipment Type'!$A$1:$F$53,4,FALSE))","v":""},null,{"$f":"IF(K36=\"\",\"\",INDEX('Equipment Type'!$T$4:$T$53,MATCH('Analysis 103L'!K36,'Equipment Type'!$A$4:$A$53,0)))","v":""},"",null,{"$f":"IF(RIGHT(I36, 4)=\"Case\", \"\", IF(P36=\"\",\"\",(IF(ISNUMBER(SEARCH(\"exit\",J36)),8760,IF(B36=\"Exterior\",4380,'Analysis 103L'!$J$3)))))","v":""},null,"","","","","","","","",{"$f":"IF('100L Information'!$Z$5=\"Yes\",0,IF('100L Information'!$Z$4=\"Yes\",(MIN($Y$232-(-$Y$227),6000)*0.5)*(Y36/$Y$232),$Y$232*(Y36/($Y$230+$Y$231))))","v":{"$error":"#VALUE!"}},"",{"$error":"#VALUE!"},"No requirement",0,{"$f":"IF(OR(Z36=\"Does not meet requirement\",AND('100L Information'!$AA$21=\"No\",AL36=\"Y\"),AND('100L Information'!$AS$21=FALSE,AL36=\"Y\")),0,IF(ISNUMBER(R36*Incent_Cost_Fixture_Rx),MIN(R36*Incent_Cost_Fixture_Rx,(MAX(AE36,AK36))),0))","v":0},"FAIL","0","0","0",0,"N","0","0",null,"","",0,"",{"$f":"IF(RIGHT(I36,4)=\"Case\",W36,IF(AND(AL36=\"Y\",AF36<1),0,IF(OR(LEFT(D36,2)=\"T5\",LEFT(D36,3)=\"CFL\",'Analysis 103L'!AS36=\"Less\"),'Analysis 103L'!AR36,'Analysis 103L'!W36)))","v":""},null,0,0,null,{"$error":"#VALUE!"},{"$error":"#VALUE!"},{"$error":"#VALUE!"},null,null,{"$f":"IF(RIGHT(I36,4)=\"Case\",'LED Case Lighting'!$AY$1,IF(J36=\"\",\"\",VLOOKUP(J36,Lookups!$A$30:$J$172,VLOOKUP('100L Information'!$AI$46,Lookups!$J$3:$L$6,3,FALSE),FALSE)))","v":""},{"$error":"#N/A"},"","",{"$error":"#VALUE!"},{"$error":"#VALUE!"},{"$error":"#VALUE!"},{"$error":"#N/A"},0,{"$error":"#N/A"},0,{"$error":"#VALUE!"},{"$error":"#VALUE!"},{"$error":"#VALUE!"},"FAIL",null,13,"Hotel/Motel/Lodging","Lodging Interior Lights","Lodging Exterior Lights",0.48,null,null,null,"",null,{"$f":"IF(RIGHT(I36,4)=\"Case\",(INDEX('LED Case Lighting'!$AZ$3:$AZ$36,MATCH('Analysis 103L'!$CK36,'LED Case Lighting'!$AS$3:$AS$36,0))),IF(CB36=0,0,IF(CB36=\"lamp\",((Q36/VLOOKUP(B36,Int_Ext,2,FALSE))*VLOOKUP(E36,NEB,16,FALSE)),IF(CB36=\"fixture\",((Q36/VLOOKUP(B36,Int_Ext,2,FALSE))*VLOOKUP(E36,NEB,14,FALSE)),\"\"))))","v":""},null,{"$f":"IF(RIGHT(I36,4)=\"Case\",INDEX('Equipment Type'!$V$4:$V$53, MATCH('Analysis 103L'!$K36, 'Equipment Type'!$A$4:$A$53, 0)), \"\")","v":""},"","","","","",{"$f":"IF(CK36=\"\", \"\", INDEX('LED Case Lighting'!$AR$3:$AR$36, MATCH('Analysis 103L'!CK36, 'LED Case Lighting'!$AS$3:$AS$36, 0)))","v":""},{"$f":"IF(CK36=\"\", \"\", INDEX('LED Case Lighting'!$AW$3:$AW$36, MATCH('Analysis 103L'!CK36, 'LED Case Lighting'!$AS$3:$AS$36, 0)))","v":""},{"$f":"IF(CK36=\"\", \"\", INDEX('LED Case Lighting'!$AX$3:$AX$36, MATCH('Analysis 103L'!CK36, 'LED Case Lighting'!$AS$3:$AS$36, 0)))","v":""},""]
[10,null,null,null,null,null,"",null,{"$f":"IF(K37=\"\",\"\",VLOOKUP(K37,'Equipment Type'!$A$1:$F$53,5,FALSE))","v":""},{"$f":"IF(K37=\"\",\"\",VLOOKUP(K37,'Equipment Type'!$A$1:$F$53,6,FALSE))","v":""},null,{"$f":"IF(K37=\"\",\"\",VLOOKUP(K37,'Equipment Type'!$A$1:$F$53,4,FALSE))","v":""},null,{"$f":"IF(K37=\"\",\"\",INDEX('Equipment Type'!$T$4:$T$53,MATCH('Analysis 103L'!K37,'Equipment Type'!$A$4:$A$53,0)))","v":""},"",null,{"$f":"IF(RIGHT(I37, 4)=\"Case\", \"\", IF(P37=\"\",\"\",(IF(ISNUMBER(SEARCH(\"exit\",J37)),8760,IF(B37=\"Exterior\",4380,'Analysis 103L'!$J$3)))))","v":""},null,"","","","","","","","",{"$f":"IF('100L Information'!$Z$5=\"Yes\",0,IF('100L Information'!$Z$4=\"Yes\",(MIN($Y$232-(-$Y$227),6000)*0.5)*(Y37/$Y$232),$Y$232*(Y37/($Y$230+$Y$231))))","v":{"$error":"#VALUE!"}},"",{"$error":"#VALUE!"},"No requirement",0,{"$f":"IF(OR(Z37=\"Does not meet requirement\",AND('100L Information'!$AA$21=\"No\",AL37=\"Y\"),AND('100L Information'!$AS$21=FALSE,AL37=\"Y\")),0,IF(ISNUMBER(R37*Incent_Cost_Fixture_Rx),MIN(R37*Incent_Cost_Fixture_Rx,(MAX(AE37,AK37))),0))","v":0},"FAIL","0","0","0",0,"N","0","0",null,"","",0,"",{"$f":"IF(RIGHT(I37,4)=\"Case\",W37,IF(AND(AL37=\"Y\",AF37<1),0,IF(OR(LEFT(D37,2)=\"T5\",LEFT(D37,3)=\"CFL\",'Analysis 103L'!AS37=\"Less\"),'Analysis 103L'!AR37,'Analysis 103L'!W37)))","v":""},null,0,0,null,{"$error":"#VALUE!"},{"$error":"#VALUE!"},{"$error":"#VALUE!"},null,null,{"$f":"IF(RIGHT(I37,4)=\"Case\",'LED Case Lighting'!$AY$1,IF(J37=\"\",\"\",VLOOKUP(J37,Lookups!$A$30:$J$172,VLOOKUP('100L Information'!$AI$46,Lookups!$J$3:$L$6,3,FALSE),FALSE)))","v":""},{"$error":"#N/A"},"","",{"$error":"#VALUE!"},{"$error":"#VALUE!"},{"$error":"#VALUE!"},{"$f":"VLOOKUP(E37,ExistFixtCat,3,FALSE)/(H37*IF(ISNUMBER(VALUE(MID(E37,5,1))),VALUE(MID(E37,5,1)),1)*Q37)","v":{"$error":"#N/A"}},0,{"$error":"#N/A"},0,{"$error":"#VALUE!"},{"$error":"#VALUE!"},{"$error":"#VALUE!"},"FAIL",null,6,"Indoor Agriculture","(determined by formula)","Other Exterior Lights",0.35,null,null,null,"",null,{"$f":"IF(RIGHT(I37,4)=\"Case\",(INDEX('LED Case Lighting'!$AZ$3:$AZ$36,MATCH('Analysis 103L'!$CK37,'LED Case Lighting'!$AS$3:$AS$36,0))),IF(CB37=0,0,IF(CB37=\"lamp\",((Q37/VLOOKUP(B37,Int_Ext,2,FALSE))*VLOOKUP(E37,NEB,16,FALSE)),IF(CB37=\"fixture\",((Q37/VLOOKUP(B37,Int_Ext,2,FALSE))*VLOOKUP(E37,NEB,14,FALSE)),\"\"))))","v":""},null,{"$f":"IF(RIGHT(I37,4)=\"Case\",INDEX('Equipment Type'!$V$4:$V$53, MATCH('Analysis 103L'!$K37, 'Equipment Type'!$A$4:$A$53, 0)), \"\")","v":""},"","","","","",{"$f":"IF(CK37=\"\", \"\", INDEX('LED Case Lighting'!$AR$3:$AR$36, MATCH('Analysis 103L'!CK37, 'LED Case Lighting'!$AS$3:$AS$36, 0)))","v":""},{"$f":"IF(CK37=\"\", \"\", INDEX('LED Case Lighting'!$AW$3:$AW$36, MATCH('Analysis 103L'!CK37, 'LED Case Lighting'!$AS$3:$AS$36, 0)))","v":""},{"$f":"IF(CK37=\"\", \"\", INDEX('LED Case Lighting'!$AX$3:$AX$36, MATCH('Analysis 103L'!CK37, 'LED Case Lighting'!$AS$3:$AS$36, 0)))","v":""},""]
[11,null,null,null,null,null,"",null,{"$f":"IF(K38=\"\",\"\",VLOOKUP(K38,'Equipment Type'!$A$1:$F$53,5,FALSE))","v":""},{"$f":"IF(K38=\"\",\"\",VLOOKUP(K38,'Equipment Type'!$A$1:$F$53,6,FALSE))","v":""},null,{"$f":"IF(K38=\"\",\"\",VLOOKUP(K38,'Equipment Type'!$A$1:$F$53,4,FALSE))","v":""},null,{"$f":"IF(K38=\"\",\"\",INDEX('Equipment Type'!$T$4:$T$53,MATCH('Analysis 103L'!K38,'Equipment Type'!$A$4:$A$53,0)))","v":""},"",null,{"$f":"IF(RIGHT(I38, 4)=\"Case\", \"\", IF(P38=\"\",\"\",(IF(ISNUMBER(SEARCH(\"exit\",J38)),8760,IF(B38=\"Exterior\",4380,'Analysis 103L'!$J$3)))))","v":""},null,"","","","","","","","",{"$f":"IF('100L Information'!$Z$5=\"Yes\",0,IF('100L Information'!$Z$4=\"Yes\",(MIN($Y$232-(-$Y$227),6000)*0.5)*(Y38/$Y$232),$Y$232*(Y38/($Y$230+$Y$231))))","v":{"$error":"#VALUE!"}},{"$f":"IF(W38=\"\",\"\",W38*$D$23)","v":""},{"$error":"#VALUE!"},"No requirement",0,{"$f":"IF(OR(Z38=\"Does not meet requirement\",AND('100L Information'!$AA$21=\"No\",AL38=\"Y\"),AND('100L Information'!$AS$21=FALSE,AL38=\"Y\")),0,IF(ISNUMBER(R38*Incent_Cost_Fixture_Rx),MIN(R38*Incent_Cost_Fixture_Rx,(MAX(AE38,AK38))),0))","v":0},"FAIL","0","0","0",0,"N","0","0",null,"","",0,"",{"$f":"IF(RIGHT(I38,4)=\"Case\",W38,IF(AND(AL38=\"Y\",AF38<1),0,IF(OR(LEFT(D38,2)=\"T5\",LEFT(D38,3)=\"CFL\",'Analysis 103L'!AS38=\"Less\"),'Analysis 103L'!AR38,'Analysis 103L'!W38)))","v":""},null,0,0,null,{"$error":"#VALUE!"},{"$error":"#VALUE!"},{"$error":"#VALUE!"},null,null,{"$f":"IF(RIGHT(I38,4)=\"Case\",'LED Case Lighting'!$AY$1,IF(J38=\"\",\"\",VLOOKUP(J38,Lookups!$A$30:$J$172,VLOOKUP('100L Information'!$AI$46,Lookups!$J$3:$L$6,3,FALSE),FALSE)))","v":""},{"$error":"#N/A"},"","",{"$error":"#VALUE!"},{"$error":"#VALUE!"},{"$error":"#VALUE!"},{"$error":"#N/A"},0,{"$error":"#N/A"},0,{"$error":"#VALUE!"},{"$error":"#VALUE!"},{"$error":"#VALUE!"},"FAIL",null,3,"Industrial Fabrication","(determined by formula)","Other Exterior Lights",0.35,null,"Y/N",null,"",null,{"$f":"IF(RIGHT(I38,4)=\"Case\",(INDEX('LED Case Lighting'!$AZ$3:$AZ$36,MATCH('Analysis 103L'!$CK38,'LED Case Lighting'!$AS$3:$AS$36,0))),IF(CB38=0,0,IF(CB38=\"lamp\",((Q38/VLOOKUP(B38,Int_Ext,2,FALSE))*VLOOKUP(E38,NEB,16,FALSE)),IF(CB38=\"fixture\",((Q38/VLOOKUP(B38,Int_Ext,2,FALSE))*VLOOKUP(E38,NEB,14,FALSE)),\"\"))))","v":""},null,{"$f":"IF(RIGHT(I38,4)=\"Case\",INDEX('Equipment Type'!$V$4:$V$53, MATCH('Analysis 103L'!$K38, 'Equipment Type'!$A$4:$A$53, 0)), \"\")","v":""},"","","","","",{"$f":"IF(CK38=\"\", \"\", INDEX('LED Case Lighting'!$AR$3:$AR$36, MATCH('Analysis 103L'!CK38, 'LED Case Lighting'!$AS$3:$AS$36, 0)))","v":""},{"$f":"IF(CK38=\"\", \"\", INDEX('LED Case Lighting'!$AW$3:$AW$36, MATCH('Analysis 103L'!CK38, 'LED Case Lighting'!$AS$3:$AS$36, 0)))","v":""},{"$f":"IF(CK38=\"\", \"\", INDEX('LED Case Lighting'!$AX$3:$AX$36, MATCH('Analysis 103L'!CK38, 'LED Case Lighting'!$AS$3:$AS$36, 0)))","v":""},""]
[12,null,null,null,null,null,"",null,{"$f":"IF(K39=\"\",\"\",VLOOKUP(K39,'Equipment Type'!$A$1:$F$53,5,FALSE))","v":""},{"$f":"IF(K39=\"\",\"\",VLOOKUP(K39,'Equipment Type'!$A$1:$F$53,6,FALSE))","v":""},null,{"$f":"IF(K39=\"\",\"\",VLOOKUP(K39,'Equipment Type'!$A$1:$F$53,4,FALSE))","v":""},null,{"$f":"IF(K39=\"\",\"\",INDEX('Equipment Type'!$T$4:$T$53,MATCH('Analysis 103L'!K39,'Equipment Type'!$A$4:$A$53,0)))","v":""},"",null,{"$f":"IF(RIGHT(I39, 4)=\"Case\", \"\", IF(P39=\"\",\"\",(IF(ISNUMBER(SEARCH(\"exit\",J39)),8760,IF(B39=\"Exterior\",4380,'Analysis 103L'!$J$3)))))","v":""},null,{"$f":"IF(RIGHT(I39, 4)=\"Case\", IF(LEFT(J39, 6)=\"Motion\", \"\", \"<-- Enter total cost.\"), IF(P39=\"\",\"\",IF(AND(AL39=\"Y\",X39=\"\"),\"\",P39*R39)))","v":""},"","","","","","","",{"$f":"IF('100L Information'!$Z$5=\"Yes\",0,IF('100L Information'!$Z$4=\"Yes\",(MIN($Y$232-(-$Y$227),6000)*0.5)*(Y39/$Y$232),$Y$232*(Y39/($Y$230+$Y$231))))","v":{"$error":"#VALUE!"}},{"$f":"IF(W39=\"\",\"\",W39*$D$23)","v":""},{"$error":"#VALUE!"},"No requirement",0,{"$f":"IF(OR(Z39=\"Does not meet requirement\",AND('100L Information'!$AA$21=\"No\",AL39=\"Y\"),AND('100L Information'!$AS$21=FALSE,AL39=\"Y\")),0,IF(ISNUMBER(R39*Incent_Cost_Fixture_Rx),MIN(R39*Incent_Cost_Fixture_Rx,(MAX(AE39,AK39))),0))","v":0},"FAIL","0","0","0",0,"N","0","0",null,"","",0,"",{"$f":"IF(RIGHT(I39,4)=\"Case\",W39,IF(AND(AL39=\"Y\",AF39<1),0,IF(OR(LEFT(D39,2)=\"T5\",LEFT(D39,3)=\"CFL\",'Analysis 103L'!AS39=\"Less\"),'Analysis 103L'!AR39,'Analysis 103L'!W39)))","v":""},null,0,0,null,{"$error":"#VALUE!"},{"$error":"#VALUE!"},{"$error":"#VALUE!"},null,null,{"$f":"IF(RIGHT(I39,4)=\"Case\",'LED Case Lighting'!$AY$1,IF(J39=\"\",\"\",VLOOKUP(J39,Lookups!$A$30:$J$172,VLOOKUP('100L Information'!$AI$46,Lookups!$J$3:$L$6,3,FALSE),FALSE)))","v":""},{"$error":"#N/A"},"","",{"$error":"#VALUE!"},{"$error":"#VALUE!"},{"$error":"#VALUE!"},{"$error":"#N/A"},0,{"$error":"#N/A"},0,{"$error":"#VALUE!"},{"$error":"#VALUE!"},{"$error":"#VALUE!"},"FAIL",null,12,"Multifamily ","Res Lighting","Other Exterior Lights",0.25,null,"Y",null,"",null,{"$f":"IF(RIGHT(I39,4)=\"Case\",(INDEX('LED Case Lighting'!$AZ$3:$AZ$36,MATCH('Analysis 103L'!$CK39,'LED Case Lighting'!$AS$3:$AS$36,0))),IF(CB39=0,0,IF(CB39=\"lamp\",((Q39/VLOOKUP(B39,Int_Ext,2,FALSE))*VLOOKUP(E39,NEB,16,FALSE)),IF(CB39=\"fixture\",((Q39/VLOOKUP(B39,Int_Ext,2,FALSE))*VLOOKUP(E39,NEB,14,FALSE)),\"\"))))","v":""},null,{"$f":"IF(RIGHT(I39,4)=\"Case\",INDEX('Equipment Type'!$V$4:$V$53, MATCH('Analysis 103L'!$K39, 'Equipment Type'!$A$4:$A$53, 0)), \"\")","v":""},"","","","","",{"$f":"IF(CK39=\"\", \"\", INDEX('LED Case Lighting'!$AR$3:$AR$36, MATCH('Analysis 103L'!CK39, 'LED Case Lighting'!$AS$3:$AS$36, 0)))","v":""},{"$f":"IF(CK39=\"\", \"\", INDEX('LED Case Lighting'!$AW$3:$AW$36, MATCH('Analysis 103L'!CK39, 'LED Case Lighting'!$AS$3:$AS$36, 0)))","v":""},{"$f":"IF(CK39=\"\", \"\", INDEX('LED Case Lighting'!$AX$3:$AX$36, MATCH('Analysis 103L'!CK39, 'LED Case Lighting'!$AS$3:$AS$36, 0)))","v":""},""]
[13,null,null,null,null,null,"",null,{"$f":"IF(K40=\"\",\"\",VLOOKUP(K40,'Equipment Type'!$A$1:$F$53,5,FALSE))","v":""},{"$f":"IF(K40=\"\",\"\",VLOOKUP(K40,'Equipment Type'!$A$1:$F$53,6,FALSE))","v":""},null,{"$f":"IF(K40=\"\",\"\",VLOOKUP(K40,'Equipment Type'!$A$1:$F$53,4,FALSE))","v":""},null,{"$f":"IF(K40=\"\",\"\",INDEX('Equipment Type'!$T$4:$T$53,MATCH('Analysis 103L'!K40,'Equipment Type'!$A$4:$A$53,0)))","v":""},"",null,{"$f":"IF(RIGHT(I40, 4)=\"Case\", \"\", IF(P40=\"\",\"\",(IF(ISNUMBER(SEARCH(\"exit\",J40)),8760,IF(B40=\"Exterior\",4380,'Analysis 103L'!$J$3)))))","v":""},null,"","","","","","","","",{"$f":"IF('100L Information'!$Z$5=\"Yes\",0,IF('100L Information'!$Z$4=\"Yes\",(MIN($Y$232-(-$Y$227),6000)*0.5)*(Y40/$Y$232),$Y$232*(Y40/($Y$230+$Y$231))))","v":{"$error":"#VALUE!"}},"",{"$error":"#VALUE!"},"No requirement",0,{"$f":"IF(OR(Z40=\"Does not meet requirement\",AND('100L Information'!$AA$21=\"No\",AL40=\"Y\"),AND('100L Information'!$AS$21=FALSE,AL40=\"Y\")),0,IF(ISNUMBER(R40*Incent_Cost_Fixture_Rx),MIN(R40*Incent_Cost_Fixture_Rx,(MAX(AE40,AK40))),0))","v":0},"FAIL","0","0","0",0,"N","0","0",null,"","",0,"",{"$f":"IF(RIGHT(I40,4)=\"Case\",W40,IF(AND(AL40=\"Y\",AF40<1),0,IF(OR(LEFT(D40,2)=\"T5\",LEFT(D40,3)=\"CFL\",'Analysis 103L'!AS40=\"Less\"),'Analysis 103L'!AR40,'Analysis 103L'!W40)))","v":""},null,0,0,null,{"$f":"IF(RIGHT(I40,4)=\"Case\",\"\",((G40*H40)-(N40*P40))/1000)","v":{"$error":"#VALUE!"}},{"$f":"IF(RIGHT(I40,4)=\"Case\",\"\", IF(W40=0,0,W40/U40))","v":{"$error":"#VALUE!"}},{"$f":"IF(RIGHT(I40,4)=\"Case\",IF(W40=0,0,R40/(W40*$F$9)),IF(W40=0,0,S40/(W40*$F$9)))","v":{"$error":"#VALUE!"}},null,null,{"$f":"IF(RIGHT(I40,4)=\"Case\",'LED Case Lighting'!$AY$1,IF(J40=\"\",\"\",VLOOKUP(J40,Lookups!$A$30:$J$172,VLOOKUP('100L Information'!$AI$46,Lookups!$J$3:$L$6,3,FALSE),FALSE)))","v":""},{"$error":"#N/A"},"","",{"$error":"#VALUE!"},{"$error":"#VALUE!"},{"$error":"#VALUE!"},{"$error":"#N/A"},0,{"$error":"#N/A"},0,{"$error":"#VALUE!"},{"$error":"#VALUE!"},{"$error":"#VALUE!"},"FAIL",null,9,"Office","Large Office Interior Lights","Large Office Exterior Lights",0.23,null,"N",null,"",null,{"$f":"IF(RIGHT(I40,4)=\"Case\",(INDEX('LED Case Lighting'!$AZ$3:$AZ$36,MATCH('Analysis 103L'!$CK40,'LED Case Lighting'!$AS$3:$AS$36,0))),IF(CB40=0,0,IF(CB40=\"lamp\",((Q40/VLOOKUP(B40,Int_Ext,2,FALSE))*VLOOKUP(E40,NEB,16,FALSE)),IF(CB40=\"fixture\",((Q40/VLOOKUP(B40,Int_Ext,2,FALSE))*VLOOKUP(E40,NEB,14,FALSE)),\"\"))))","v":""},null,{"$f":"IF(RIGHT(I40,4)=\"Case\",INDEX('Equipment Type'!$V$4:$V$53, MATCH('Analysis 103L'!$K40, 'Equipment Type'!$A$4:$A$53, 0)), \"\")","v":""},"","","","","",{"$f":"IF(CK40=\"\", \"\", INDEX('LED Case Lighting'!$AR$3:$AR$36, MATCH('Analysis 103L'!CK40, 'LED Case Lighting'!$AS$3:$AS$36, 0)))","v":""},{"$f":"IF(CK40=\"\", \"\", INDEX('LED Case Lighting'!$AW$3:$AW$36, MATCH('Analysis 103L'!CK40, 'LED Case Lighting'!$AS$3:$AS$36, 0)))","v":""},{"$f":"IF(CK40=\"\", \"\", INDEX('LED Case Lighting'!$AX$3:$AX$36, MATCH('Analysis 103L'!CK40, 'LED Case Lighting'!$AS$3:$AS$36, 0)))","v":""},""]
[14,null,null,null,null,null,"",null,{"$f":"IF(K41=\"\",\"\",VLOOKUP(K41,'Equipment Type'!$A$1:$F$53,5,FALSE))","v":""},{"$f":"IF(K41=\"\",\"\",VLOOKUP(K41,'Equipment Type'!$A$1:$F$53,6,FALSE))","v":""},null,{"$f":"IF(K41=\"\",\"\",VLOOKUP(K41,'Equipment Type'!$A$1:$F$53,4,FALSE))","v":""},null,{"$f":"IF(K41=\"\",\"\",INDEX('Equipment Type'!$T$4:$T$53,MATCH('Analysis 103L'!K41,'Equipment Type'!$A$4:$A$53,0)))","v":""},"",null,{"$f":"IF(RIGHT(I41, 4)=\"Case\", \"\", IF(P41=\"\",\"\",(IF(ISNUMBER(SEARCH(\"exit\",J41)),8760,IF(B41=\"Exterior\",4380,'Analysis 103L'!$J$3)))))","v":""},null,"","","","","","","","",{"$f":"IF('100L Information'!$Z$5=\"Yes\",0,IF('100L Information'!$Z$4=\"Yes\",(MIN($Y$232-(-$Y$227),6000)*0.5)*(Y41/$Y$232),$Y$232*(Y41/($Y$230+$Y$231))))","v":{"$error":"#VALUE!"}},"",{"$error":"#VALUE!"},"No requirement",0,{"$f":"IF(OR(Z41=\"Does not meet requirement\",AND('100L Information'!$AA$21=\"No\",AL41=\"Y\"),AND('100L Information'!$AS$21=FALSE,AL41=\"Y\")),0,IF(ISNUMBER(R41*Incent_Cost_Fixture_Rx),MIN(R41*Incent_Cost_Fixture_Rx,(MAX(AE41,AK41))),0))","v":0},"FAIL","0","0","0",0,"N","0","0",null,"","",0,"",{"$f":"IF(RIGHT(I41,4)=\"Case\",W41,IF(AND(AL41=\"Y\",AF41<1),0,IF(OR(LEFT(D41,2)=\"T5\",LEFT(D41,3)=\"CFL\",'Analysis 103L'!AS41=\"Less\"),'Analysis 103L'!AR41,'Analysis 103L'!W41)))","v":""},null,0,0,null,{"$error":"#VALUE!"},{"$error":"#VALUE!"},{"$error":"#VALUE!"},null,null,{"$f":"IF(RIGHT(I41,4)=\"Case\",'LED Case Lighting'!$AY$1,IF(J41=\"\",\"\",VLOOKUP(J41,Lookups!$A$30:$J$172,VLOOKUP('100L Information'!$AI$46,Lookups!$J$3:$L$6,3,FALSE),FALSE)))","v":""},{"$error":"#N/A"},"","",{"$error":"#VALUE!"},{"$error":"#VALUE!"},{"$error":"#VALUE!"},{"$error":"#N/A"},0,{"$error":"#N/A"},0,{"$error":"#VALUE!"},{"$error":"#VALUE!"},{"$error":"#VALUE!"},"FAIL",null,11,"Place of Worship","Other Interior Lights","Other Exterior Lights",0.25,null,null,null,"",null,{"$f":"IF(RIGHT(I41,4)=\"Case\",(INDEX('LED Case Lighting'!$AZ$3:$AZ$36,MATCH('Analysis 103L'!$CK41,'LED Case Lighting'!$AS$3:$AS$36,0))),IF(CB41=0,0,IF(CB41=\"lamp\",((Q41/VLOOKUP(B41,Int_Ext,2,FALSE))*VLOOKUP(E41,NEB,16,FALSE)),IF(CB41=\"fixture\",((Q41/VLOOKUP(B41,Int_Ext,2,FALSE))*VLOOKUP(E41,NEB,14,FALSE)),\"\"))))","v":""},null,{"$f":"IF(RIGHT(I41,4)=\"Case\",INDEX('Equipment Type'!$V$4:$V$53, MATCH('Analysis 103L'!$K41, 'Equipment Type'!$A$4:$A$53, 0)), \"\")","v":""},"","","","","",{"$f":"IF(CK41=\"\", \"\", INDEX('LED Case Lighting'!$AR$3:$AR$36, MATCH('Analysis 103L'!CK41, 'LED Case Lighting'!$AS$3:$AS$36, 0)))","v":""},{"$f":"IF(CK41=\"\", \"\", INDEX('LED Case Lighting'!$AW$3:$AW$36, MATCH('Analysis 103L'!CK41, 'LED Case Lighting'!$AS$3:$AS$36, 0)))","v":""},{"$f":"IF(CK41=\"\", \"\", INDEX('LED Case Lighting'!$AX$3:$AX$36, MATCH('Analysis 103L'!CK41, 'LED Case Lighting'!$AS$3:$AS$36, 0)))","v":""},""]
[15,null,null,null,null,null,"",null,{"$f":"IF(K42=\"\",\"\",VLOOKUP(K42,'Equipment Type'!$A$1:$F$53,5,FALSE))","v":""},{"$f":"IF(K42=\"\",\"\",VLOOKUP(K42,'Equipment Type'!$A$1:$F$53,6,FALSE))","v":""},null,{"$f":"IF(K42=\"\",\"\",VLOOKUP(K42,'Equipment Type'!$A$1:$F$53,4,FALSE))","v":""},null,{"$f":"IF(K42=\"\",\"\",INDEX('Equipment Type'!$T$4:$T$53,MATCH('Analysis 103L'!K42,'Equipment Type'!$A$4:$A$53,0)))","v":""},"",null,{"$f":"IF(RIGHT(I42, 4)=\"Case\", \"\", IF(P42=\"\",\"\",(IF(ISNUMBER(SEARCH(\"exit\",J42)),8760,IF(B42=\"Exterior\",4380,'Analysis 103L'!$J$3)))))","v":""},null,"","","","","","","","",{"$f":"IF('100L Information'!$Z$5=\"Yes\",0,IF('100L Information'!$Z$4=\"Yes\",(MIN($Y$232-(-$Y$227),6000)*0.5)*(Y42/$Y$232),$Y$232*(Y42/($Y$230+$Y$231))))","v":{"$error":"#VALUE!"}},"",{"$error":"#VALUE!"},"No requirement",0,{"$f":"IF(OR(Z42=\"Does not meet requirement\",AND('100L Information'!$AA$21=\"No\",AL42=\"Y\"),AND('100L Information'!$AS$21=FALSE,AL42=\"Y\")),0,IF(ISNUMBER(R42*Incent_Cost_Fixture_Rx),MIN(R42*Incent_Cost_Fixture_Rx,(MAX(AE42,AK42))),0))","v":0},"FAIL","0","0","0",0,"N","0","0",null,"","",0,"",{"$f":"IF(RIGHT(I42,4)=\"Case\",W42,IF(AND(AL42=\"Y\",AF42<1),0,IF(OR(LEFT(D42,2)=\"T5\",LEFT(D42,3)=\"CFL\",'Analysis 103L'!AS42=\"Less\"),'Analysis 103L'!AR42,'Analysis 103L'!W42)))","v":""},null,0,0,null,{"$error":"#VALUE!"},{"$error":"#VALUE!"},{"$error":"#VALUE!"},null,null,{"$f":"IF(RIGHT(I42,4)=\"Case\",'LED Case Lighting'!$AY$1,IF(J42=\"\",\"\",VLOOKUP(J42,Lookups!$A$30:$J$172,VLOOKUP('100L Information'!$AI$46,Lookups!$J$3:$L$6,3,FALSE),FALSE)))","v":""},{"$error":"#N/A"},{"$f":"IF(BD42=\"\",\"\",VLOOKUP(BE42, avoided_costs, ROUND($BD42,0)+2, FALSE))","v":""},"",{"$error":"#VALUE!"},{"$f":"BF42/BH42","v":{"$error":"#VALUE!"}},{"$f":"IF(ROUND(BI42,1)>=1, \"PASS\", \"FAIL\")","v":{"$error":"#VALUE!"}},{"$error":"#N/A"},0,{"$error":"#N/A"},0,{"$error":"#VALUE!"},{"$f":"BG42/BO42","v":{"$error":"#VALUE!"}},{"$f":"IF(ROUND(BP42,1)>=1, \"PASS\", \"FAIL\")","v":{"$error":"#VALUE!"}},{"$f":"IF(OR(NOT(ISERROR(BQ42)),NOT(ISERROR(BJ42))),BJ42&\"/\"&BQ42,\"FAIL\")","v":"FAIL"},null,null,"Private School/Child Care ","School Interior Lights","School Exterior Lights",0.31,null,"Interior / Exterior",null,"",null,{"$f":"IF(RIGHT(I42,4)=\"Case\",(INDEX('LED Case Lighting'!$AZ$3:$AZ$36,MATCH('Analysis 103L'!$CK42,'LED Case Lighting'!$AS$3:$AS$36,0))),IF(CB42=0,0,IF(CB42=\"lamp\",((Q42/VLOOKUP(B42,Int_Ext,2,FALSE))*VLOOKUP(E42,NEB,16,FALSE)),IF(CB42=\"fixture\",((Q42/VLOOKUP(B42,Int_Ext,2,FALSE))*VLOOKUP(E42,NEB,14,FALSE)),\"\"))))","v":""},null,{"$f":"IF(RIGHT(I42,4)=\"Case\",INDEX('Equipment Type'!$V$4:$V$53, MATCH('Analysis 103L'!$K42, 'Equipment Type'!$A$4:$A$53, 0)), \"\")","v":""},"","","","","",{"$f":"IF(CK42=\"\", \"\", INDEX('LED Case Lighting'!$AR$3:$AR$36, MATCH('Analysis 103L'!CK42, 'LED Case Lighting'!$AS$3:$AS$36, 0)))","v":""},{"$f":"IF(CK42=\"\", \"\", INDEX('LED Case Lighting'!$AW$3:$AW$36, MATCH('Analysis 103L'!CK42, 'LED Case Lighting'!$AS$3:$AS$36, 0)))","v":""},{"$f":"IF(CK42=\"\", \"\", INDEX('LED Case Lighting'!$AX$3:$AX$36, MATCH('Analysis 103L'!CK42, 'LED Case Lighting'!$AS$3:$AS$36, 0)))","v":""},""]
[16,null,null,null,null,null,"",null,{"$f":"IF(K43=\"\",\"\",VLOOKUP(K43,'Equipment Type'!$A$1:$F$53,5,FALSE))","v":""},{"$f":"IF(K43=\"\",\"\",VLOOKUP(K43,'Equipment Type'!$A$1:$F$53,6,FALSE))","v":""},null,{"$f":"IF(K43=\"\",\"\",VLOOKUP(K43,'Equipment Type'!$A$1:$F$53,4,FALSE))","v":""},null,{"$f":"IF(K43=\"\",\"\",INDEX('Equipment Type'!$T$4:$T$53,MATCH('Analysis 103L'!K43,'Equipment Type'!$A$4:$A$53,0)))","v":""},"",null,{"$f":"IF(RIGHT(I43, 4)=\"Case\", \"\", IF(P43=\"\",\"\",(IF(ISNUMBER(SEARCH(\"exit\",J43)),8760,IF(B43=\"Exterior\",4380,'Analysis 103L'!$J$3)))))","v":""},null,"","","","","","","","",{"$f":"IF('100L Information'!$Z$5=\"Yes\",0,IF('100L Information'!$Z$4=\"Yes\",(MIN($Y$232-(-$Y$227),6000)*0.5)*(Y43/$Y$232),$Y$232*(Y43/($Y$230+$Y$231))))","v":{"$error":"#VALUE!"}},"",{"$error":"#VALUE!"},"No requirement",0,{"$f":"IF(OR(Z43=\"Does not meet requirement\",AND('100L Information'!$AA$21=\"No\",AL43=\"Y\"),AND('100L Information'!$AS$21=FALSE,AL43=\"Y\")),0,IF(ISNUMBER(R43*Incent_Cost_Fixture_Rx),MIN(R43*Incent_Cost_Fixture_Rx,(MAX(AE43,AK43))),0))","v":0},"FAIL",{"$f":"IF(AG43=\"PASS/PASS\",S43,\"0\")","v":"0"},{"$f":"IF(AG43=\"PASS/PASS\",U43,\"0\")","v":"0"},{"$f":"IF(AG43=\"PASS/PASS\",V43,\"0\")","v":"0"},0,"N","0","0",null,"","",0,"",{"$f":"IF(RIGHT(I43,4)=\"Case\",W43,IF(AND(AL43=\"Y\",AF43<1),0,IF(OR(LEFT(D43,2)=\"T5\",LEFT(D43,3)=\"CFL\",'Analysis 103L'!AS43=\"Less\"),'Analysis 103L'!AR43,'Analysis 103L'!W43)))","v":""},null,0,0,null,{"$error":"#VALUE!"},{"$error":"#VALUE!"},{"$error":"#VALUE!"},null,null,{"$f":"IF(RIGHT(I43,4)=\"Case\",'LED Case Lighting'!$AY$1,IF(J43=\"\",\"\",VLOOKUP(J43,Lookups!$A$30:$J$172,VLOOKUP('100L Information'!$AI$46,Lookups!$J$3:$L$6,3,FALSE),FALSE)))","v":""},{"$error":"#N/A"},"","",{"$error":"#VALUE!"},{"$error":"#VALUE!"},{"$error":"#VALUE!"},{"$error":"#N/A"},0,{"$error":"#N/A"},0,{"$error":"#VALUE!"},{"$error":"#VALUE!"},{"$error":"#VALUE!"},"FAIL",null,null,"Public K-12 School","School Interior Lights","School Exterior Lights",0.31,null,"Interior / Exterior",null,"",null,{"$f":"IF(RIGHT(I43,4)=\"Case\",(INDEX('LED Case Lighting'!$AZ$3:$AZ$36,MATCH('Analysis 103L'!$CK43,'LED Case Lighting'!$AS$3:$AS$36,0))),IF(CB43=0,0,IF(CB43=\"lamp\",((Q43/VLOOKUP(B43,Int_Ext,2,FALSE))*VLOOKUP(E43,NEB,16,FALSE)),IF(CB43=\"fixture\",((Q43/VLOOKUP(B43,Int_Ext,2,FALSE))*VLOOKUP(E43,NEB,14,FALSE)),\"\"))))","v":""},null,{"$f":"IF(RIGHT(I43,4)=\"Case\",INDEX('Equipment Type'!$V$4:$V$53, MATCH('Analysis 103L'!$K43, 'Equipment Type'!$A$4:$A$53, 0)), \"\")","v":""},"","","","","",{"$f":"IF(CK43=\"\", \"\", INDEX('LED Case Lighting'!$AR$3:$AR$36, MATCH('Analysis 103L'!CK43, 'LED Case Lighting'!$AS$3:$AS$36, 0)))","v":""},{"$f":"IF(CK43=\"\", \"\", INDEX('LED Case Lighting'!$AW$3:$AW$36, MATCH('Analysis 103L'!CK43, 'LED Case Lighting'!$AS$3:$AS$36, 0)))","v":""},{"$f":"IF(CK43=\"\", \"\", INDEX('LED Case Lighting'!$AX$3:$AX$36, MATCH('Analysis 103L'!CK43, 'LED Case Lighting'!$AS$3:$AS$36, 0)))","v":""},""]
[17,null,null,null,null,null,"",null,{"$f":"IF(K44=\"\",\"\",VLOOKUP(K44,'Equipment Type'!$A$1:$F$53,5,FALSE))","v":""},{"$f":"IF(K44=\"\",\"\",VLOOKUP(K44,'Equipment Type'!$A$1:$F$53,6,FALSE))","v":""},null,{"$f":"IF(K44=\"\",\"\",VLOOKUP(K44,'Equipment Type'!$A$1:$F$53,4,FALSE))","v":""},null,{"$f":"IF(K44=\"\",\"\",INDEX('Equipment Type'!$T$4:$T$53,MATCH('Analysis 103L'!K44,'Equipment Type'!$A$4:$A$53,0)))","v":""},"",null,{"$f":"IF(RIGHT(I44, 4)=\"Case\", \"\", IF(P44=\"\",\"\",(IF(ISNUMBER(SEARCH(\"exit\",J44)),8760,IF(B44=\"Exterior\",4380,'Analysis 103L'!$J$3)))))","v":""},null,{"$f":"IF(RIGHT(I44, 4)=\"Case\", IF(LEFT(J44, 6)=\"Motion\", \"\", \"<-- Enter total cost.\"), IF(P44=\"\",\"\",IF(AND(AL44=\"Y\",X44=\"\"),\"\",P44*R44)))","v":""},{"$f":"IF(RIGHT(I44, 4)=\"Case\", \"\", IF(P44=\"\",\"\",IF(ISERROR(AY44),0,AY44)))","v":""},{"$f":"IF(RIGHT(I44, 4)=\"Case\", \"\", IF(H44=\"\",\"\",(G44*H44)*Q44/1000))","v":""},{"$f":"IF(RIGHT(I44, 4)=\"Case\", \"\", IF(P44=\"\",\"\",(N44*P44)*Q44/1000))","v":""},{"$f":"IF(RIGHT(I44, 4)=\"Case\", IF(LEFT(J44, 6)=\"Motion\", \"\", CM44*P44), IF(U44=\"\",\"\",IF(AND(ISNUMBER(U44),ISNUMBER(V44)),U44-V44,\"\")))","v":""},"","","",{"$f":"IF('100L Information'!$Z$5=\"Yes\",0,IF('100L Information'!$Z$4=\"Yes\",(MIN($Y$232-(-$Y$227),6000)*0.5)*(Y44/$Y$232),$Y$232*(Y44/($Y$230+$Y$231))))","v":{"$error":"#VALUE!"}},"",{"$error":"#VALUE!"},"No requirement",0,{"$f":"IF(OR(Z44=\"Does not meet requirement\",AND('100L Information'!$AA$21=\"No\",AL44=\"Y\"),AND('100L Information'!$AS$21=FALSE,AL44=\"Y\")),0,IF(ISNUMBER(R44*Incent_Cost_Fixture_Rx),MIN(R44*Incent_Cost_Fixture_Rx,(MAX(AE44,AK44))),0))","v":0},"FAIL","0","0","0",0,"N","0","0",null,"","",0,"",{"$f":"IF(RIGHT(I44,4)=\"Case\",W44,IF(AND(AL44=\"Y\",AF44<1),0,IF(OR(LEFT(D44,2)=\"T5\",LEFT(D44,3)=\"CFL\",'Analysis 103L'!AS44=\"Less\"),'Analysis 103L'!AR44,'Analysis 103L'!W44)))","v":""},null,0,0,null,{"$error":"#VALUE!"},{"$error":"#VALUE!"},{"$error":"#VALUE!"},null,null,{"$f":"IF(RIGHT(I44,4)=\"Case\",'LED Case Lighting'!$AY$1,IF(J44=\"\",\"\",VLOOKUP(J44,Lookups!$A$30:$J$172,VLOOKUP('100L Information'!$AI$46,Lookups!$J$3:$L$6,3,FALSE),FALSE)))","v":""},{"$error":"#N/A"},"","",{"$error":"#VALUE!"},{"$error":"#VALUE!"},{"$error":"#VALUE!"},{"$error":"#N/A"},0,{"$error":"#N/A"},0,{"$error":"#VALUE!"},{"$error":"#VALUE!"},{"$error":"#VALUE!"},"FAIL",null,null,"Retail","Retail Interior Lights","Retail Exterior Lights",0.05,null,"Interior / Exterior",null,"",null,{"$f":"IF(RIGHT(I44,4)=\"Case\",(INDEX('LED Case Lighting'!$AZ$3:$AZ$36,MATCH('Analysis 103L'!$CK44,'LED Case Lighting'!$AS$3:$AS$36,0))),IF(CB44=0,0,IF(CB44=\"lamp\",((Q44/VLOOKUP(B44,Int_Ext,2,FALSE))*VLOOKUP(E44,NEB,16,FALSE)),IF(CB44=\"fixture\",((Q44/VLOOKUP(B44,Int_Ext,2,FALSE))*VLOOKUP(E44,NEB,14,FALSE)),\"\"))))","v":""},null,{"$f":"IF(RIGHT(I44,4)=\"Case\",INDEX('Equipment Type'!$V$4:$V$53, MATCH('Analysis 103L'!$K44, 'Equipment Type'!$A$4:$A$53, 0)), \"\")","v":""},"","","","","",{"$f":"IF(CK44=\"\", \"\", INDEX('LED Case Lighting'!$AR$3:$AR$36, MATCH('Analysis 103L'!CK44, 'LED Case Lighting'!$AS$3:$AS$36, 0)))","v":""},{"$f":"IF(CK44=\"\", \"\", INDEX('LED Case Lighting'!$AW$3:$AW$36, MATCH('Analysis 103L'!CK44, 'LED Case Lighting'!$AS$3:$AS$36, 0)))","v":""},{"$f":"IF(CK44=\"\", \"\", INDEX('LED Case Lighting'!$AX$3:$AX$36, MATCH('Analysis 103L'!CK44, 'LED Case Lighting'!$AS$3:$AS$36, 0)))","v":""},""]
[18,null,null,null,null,null,"",null,{"$f":"IF(K45=\"\",\"\",VLOOKUP(K45,'Equipment Type'!$A$1:$F$53,5,FALSE))","v":""},{"$f":"IF(K45=\"\",\"\",VLOOKUP(K45,'Equipment Type'!$A$1:$F$53,6,FALSE))","v":""},null,{"$f":"IF(K45=\"\",\"\",VLOOKUP(K45,'Equipment Type'!$A$1:$F$53,4,FALSE))","v":""},null,{"$f":"IF(K45=\"\",\"\",INDEX('Equipment Type'!$T$4:$T$53,MATCH('Analysis 103L'!K45,'Equipment Type'!$A$4:$A$53,0)))","v":""},"",null,{"$f":"IF(RIGHT(I45, 4)=\"Case\", \"\", IF(P45=\"\",\"\",(IF(ISNUMBER(SEARCH(\"exit\",J45)),8760,IF(B45=\"Exterior\",4380,'Analysis 103L'!$J$3)))))","v":""},null,"","","","","","","","",{"$f":"IF('100L Information'!$Z$5=\"Yes\",0,IF('100L Information'!$Z$4=\"Yes\",(MIN($Y$232-(-$Y$227),6000)*0.5)*(Y45/$Y$232),$Y$232*(Y45/($Y$230+$Y$231))))","v":{"$error":"#VALUE!"}},"",{"$error":"#VALUE!"},"No requirement",0,{"$f":"IF(OR(Z45=\"Does not meet requirement\",AND('100L Information'!$AA$21=\"No\",AL45=\"Y\"),AND('100L Information'!$AS$21=FALSE,AL45=\"Y\")),0,IF(ISNUMBER(R45*Incent_Cost_Fixture_Rx),MIN(R45*Incent_Cost_Fixture_Rx,(MAX(AE45,AK45))),0))","v":0},"FAIL","0","0","0",0,"N","0","0",null,"","",0,"",{"$f":"IF(RIGHT(I45,4)=\"Case\",W45,IF(AND(AL45=\"Y\",AF45<1),0,IF(OR(LEFT(D45,2)=\"T5\",LEFT(D45,3)=\"CFL\",'Analysis 103L'!AS45=\"Less\"),'Analysis 103L'!AR45,'Analysis 103L'!W45)))","v":""},null,0,0,null,{"$error":"#VALUE!"},{"$error":"#VALUE!"},{"$error":"#VALUE!"},null,null,{"$f":"IF(RIGHT(I45,4)=\"Case\",'LED Case Lighting'!$AY$1,IF(J45=\"\",\"\",VLOOKUP(J45,Lookups!$A$30:$J$172,VLOOKUP('100L Information'!$AI$46,Lookups!$J$3:$L$6,3,FALSE),FALSE)))","v":""},{"$error":"#N/A"},"","",{"$error":"#VALUE!"},{"$error":"#VALUE!"},{"$error":"#VALUE!"},{"$error":"#N/A"},0,{"$error":"#N/A"},0,{"$error":"#VALUE!"},{"$error":"#VALUE!"},{"$error":"#VALUE!"},"FAIL",null,null,"Street Lighting","Street Lighting","Street Lighting",0.25,null,"Interior / Exterior",null,"",null,{"$f":"IF(RIGHT(I45,4)=\"Case\",(INDEX('LED Case Lighting'!$AZ$3:$AZ$36,MATCH('Analysis 103L'!$CK45,'LED Case Lighting'!$AS$3:$AS$36,0))),IF(CB45=0,0,IF(CB45=\"lamp\",((Q45/VLOOKUP(B45,Int_Ext,2,FALSE))*VLOOKUP(E45,NEB,16,FALSE)),IF(CB45=\"fixture\",((Q45/VLOOKUP(B45,Int_Ext,2,FALSE))*VLOOKUP(E45,NEB,14,FALSE)),\"\"))))","v":""},null,{"$f":"IF(RIGHT(I45,4)=\"Case\",INDEX('Equipment Type'!$V$4:$V$53, MATCH('Analysis 103L'!$K45, 'Equipment Type'!$A$4:$A$53, 0)), \"\")","v":""},"","","","","",{"$f":"IF(CK45=\"\", \"\", INDEX('LED Case Lighting'!$AR$3:$AR$36, MATCH('Analysis 103L'!CK45, 'LED Case Lighting'!$AS$3:$AS$36, 0)))","v":""},{"$f":"IF(CK45=\"\", \"\", INDEX('LED Case Lighting'!$AW$3:$AW$36, MATCH('Analysis 103L'!CK45, 'LED Case Lighting'!$AS$3:$AS$36, 0)))","v":""},{"$f":"IF(CK45=\"\", \"\", INDEX('LED Case Lighting'!$AX$3:$AX$36, MATCH('Analysis 103L'!CK45, 'LED Case Lighting'!$AS$3:$AS$36, 0)))","v":""},""]
[19,null,null,null,null,null,"",null,{"$f":"IF(K46=\"\",\"\",VLOOKUP(K46,'Equipment Type'!$A$1:$F$53,5,FALSE))","v":""},{"$f":"IF(K46=\"\",\"\",VLOOKUP(K46,'Equipment Type'!$A$1:$F$53,6,FALSE))","v":""},null,{"$f":"IF(K46=\"\",\"\",VLOOKUP(K46,'Equipment Type'!$A$1:$F$53,4,FALSE))","v":""},null,{"$f":"IF(K46=\"\",\"\",INDEX('Equipment Type'!$T$4:$T$53,MATCH('Analysis 103L'!K46,'Equipment Type'!$A$4:$A$53,0)))","v":""},"",null,{"$f":"IF(RIGHT(I46, 4)=\"Case\", \"\", IF(P46=\"\",\"\",(IF(ISNUMBER(SEARCH(\"exit\",J46)),8760,IF(B46=\"Exterior\",4380,'Analysis 103L'!$J$3)))))","v":""},null,"","","","","","","","",{"$f":"IF('100L Information'!$Z$5=\"Yes\",0,IF('100L Information'!$Z$4=\"Yes\",(MIN($Y$232-(-$Y$227),6000)*0.5)*(Y46/$Y$232),$Y$232*(Y46/($Y$230+$Y$231))))","v":{"$error":"#VALUE!"}},"",{"$error":"#VALUE!"},"No requirement",0,{"$f":"IF(OR(Z46=\"Does not meet requirement\",AND('100L Information'!$AA$21=\"No\",AL46=\"Y\"),AND('100L Information'!$AS$21=FALSE,AL46=\"Y\")),0,IF(ISNUMBER(R46*Incent_Cost_Fixture_Rx),MIN(R46*Incent_Cost_Fixture_Rx,(MAX(AE46,AK46))),0))","v":0},"FAIL","0","0","0",0,"N","0","0",null,"","",0,"",{"$f":"IF(RIGHT(I46,4)=\"Case\",W46,IF(AND(AL46=\"Y\",AF46<1),0,IF(OR(LEFT(D46,2)=\"T5\",LEFT(D46,3)=\"CFL\",'Analysis 103L'!AS46=\"Less\"),'Analysis 103L'!AR46,'Analysis 103L'!W46)))","v":""},null,0,0,null,{"$error":"#VALUE!"},{"$error":"#VALUE!"},{"$error":"#VALUE!"},null,null,{"$f":"IF(RIGHT(I46,4)=\"Case\",'LED Case Lighting'!$AY$1,IF(J46=\"\",\"\",VLOOKUP(J46,Lookups!$A$30:$J$172,VLOOKUP('100L Information'!$AI$46,Lookups!$J$3:$L$6,3,FALSE),FALSE)))","v":""},{"$error":"#N/A"},"","",{"$error":"#VALUE!"},{"$error":"#VALUE!"},{"$error":"#VALUE!"},{"$error":"#N/A"},0,{"$error":"#N/A"},0,{"$error":"#VALUE!"},{"$error":"#VALUE!"},{"$error":"#VALUE!"},"FAIL",null,null,"Warehouse/Storage","Warehouse Interior Lights","Warehouse Exterior Lights",0.35,null,"Interior / Exterior",null,"",null,{"$f":"IF(RIGHT(I46,4)=\"Case\",(INDEX('LED Case Lighting'!$AZ$3:$AZ$36,MATCH('Analysis 103L'!$CK46,'LED Case Lighting'!$AS$3:$AS$36,0))),IF(CB46=0,0,IF(CB46=\"lamp\",((Q46/VLOOKUP(B46,Int_Ext,2,FALSE))*VLOOKUP(E46,NEB,16,FALSE)),IF(CB46=\"fixture\",((Q46/VLOOKUP(B46,Int_Ext,2,FALSE))*VLOOKUP(E46,NEB,14,FALSE)),\"\"))))","v":""},null,{"$f":"IF(RIGHT(I46,4)=\"Case\",INDEX('Equipment Type'!$V$4:$V$53, MATCH('Analysis 103L'!$K46, 'Equipment Type'!$A$4:$A$53, 0)), \"\")","v":""},"","","","","",{"$f":"IF(CK46=\"\", \"\", INDEX('LED Case Lighting'!$AR$3:$AR$36, MATCH('Analysis 103L'!CK46, 'LED Case Lighting'!$AS$3:$AS$36, 0)))","v":""},{"$f":"IF(CK46=\"\", \"\", INDEX('LED Case Lighting'!$AW$3:$AW$36, MATCH('Analysis 103L'!CK46, 'LED Case Lighting'!$AS$3:$AS$36, 0)))","v":""},{"$f":"IF(CK46=\"\", \"\", INDEX('LED Case Lighting'!$AX$3:$AX$36, MATCH('Analysis 103L'!CK46, 'LED Case Lighting'!$AS$3:$AS$36, 0)))","v":""},""]
[20,null,null,null,null,null,"",null,{"$f":"IF(K47=\"\",\"\",VLOOKUP(K47,'Equipment Type'!$A$1:$F$53,5,FALSE))","v":""},{"$f":"IF(K47=\"\",\"\",VLOOKUP(K47,'Equipment Type'!$A$1:$F$53,6,FALSE))","v":""},null,{"$f":"IF(K47=\"\",\"\",VLOOKUP(K47,'Equipment Type'!$A$1:$F$53,4,FALSE))","v":""},null,{"$f":"IF(K47=\"\",\"\",INDEX('Equipment Type'!$T$4:$T$53,MATCH('Analysis 103L'!K47,'Equipment Type'!$A$4:$A$53,0)))","v":""},"",null,{"$f":"IF(RIGHT(I47, 4)=\"Case\", \"\", IF(P47=\"\",\"\",(IF(ISNUMBER(SEARCH(\"exit\",J47)),8760,IF(B47=\"Exterior\",4380,'Analysis 103L'!$J$3)))))","v":""},null,"","","","","","","","",{"$f":"IF('100L Information'!$Z$5=\"Yes\",0,IF('100L Information'!$Z$4=\"Yes\",(MIN($Y$232-(-$Y$227),6000)*0.5)*(Y47/$Y$232),$Y$232*(Y47/($Y$230+$Y$231))))","v":{"$error":"#VALUE!"}},"",{"$error":"#VALUE!"},"No requirement",0,{"$f":"IF(OR(Z47=\"Does not meet requirement\",AND('100L Information'!$AA$21=\"No\",AL47=\"Y\"),AND('100L Information'!$AS$21=FALSE,AL47=\"Y\")),0,IF(ISNUMBER(R47*Incent_Cost_Fixture_Rx),MIN(R47*Incent_Cost_Fixture_Rx,(MAX(AE47,AK47))),0))","v":0},"FAIL","0","0","0",0,"N","0","0",null,"","",0,"",{"$f":"IF(RIGHT(I47,4)=\"Case\",W47,IF(AND(AL47=\"Y\",AF47<1),0,IF(OR(LEFT(D47,2)=\"T5\",LEFT(D47,3)=\"CFL\",'Analysis 103L'!AS47=\"Less\"),'Analysis 103L'!AR47,'Analysis 103L'!W47)))","v":""},null,0,0,null,{"$error":"#VALUE!"},{"$error":"#VALUE!"},{"$error":"#VALUE!"},null,null,{"$f":"IF(RIGHT(I47,4)=\"Case\",'LED Case Lighting'!$AY$1,IF(J47=\"\",\"\",VLOOKUP(J47,Lookups!$A$30:$J$172,VLOOKUP('100L Information'!$AI$46,Lookups!$J$3:$L$6,3,FALSE),FALSE)))","v":""},{"$error":"#N/A"},"","",{"$error":"#VALUE!"},{"$error":"#VALUE!"},{"$error":"#VALUE!"},{"$error":"#N/A"},0,{"$error":"#N/A"},0,{"$error":"#VALUE!"},{"$error":"#VALUE!"},{"$error":"#VALUE!"},"FAIL",null,null,"Other","Other Interior Lights","Other Exterior Lights",0.25,null,"Interior / Exterior",null,"",null,{"$f":"IF(RIGHT(I47,4)=\"Case\",(INDEX('LED Case Lighting'!$AZ$3:$AZ$36,MATCH('Analysis 103L'!$CK47,'LED Case Lighting'!$AS$3:$AS$36,0))),IF(CB47=0,0,IF(CB47=\"lamp\",((Q47/VLOOKUP(B47,Int_Ext,2,FALSE))*VLOOKUP(E47,NEB,16,FALSE)),IF(CB47=\"fixture\",((Q47/VLOOKUP(B47,Int_Ext,2,FALSE))*VLOOKUP(E47,NEB,14,FALSE)),\"\"))))","v":""},null,{"$f":"IF(RIGHT(I47,4)=\"Case\",INDEX('Equipment Type'!$V$4:$V$53, MATCH('Analysis 103L'!$K47, 'Equipment Type'!$A$4:$A$53, 0)), \"\")","v":""},"","","","","",{"$f":"IF(CK47=\"\", \"\", INDEX('LED Case Lighting'!$AR$3:$AR$36, MATCH('Analysis 103L'!CK47, 'LED Case Lighting'!$AS$3:$AS$36, 0)))","v":""},{"$f":"IF(CK47=\"\", \"\", INDEX('LED Case Lighting'!$AW$3:$AW$36, MATCH('Analysis 103L'!CK47, 'LED Case Lighting'!$AS$3:$AS$36, 0)))","v":""},{"$f":"IF(CK47=\"\", \"\", INDEX('LED Case Lighting'!$AX$3:$AX$36, MATCH('Analysis 103L'!CK47, 'LED Case Lighting'!$AS$3:$AS$36, 0)))","v":""},""]
[21,null,null,null,null,null,"",null,{"$f":"IF(K48=\"\",\"\",VLOOKUP(K48,'Equipment Type'!$A$1:$F$53,5,FALSE))","v":""},{"$f":"IF(K48=\"\",\"\",VLOOKUP(K48,'Equipment Type'!$A$1:$F$53,6,FALSE))","v":""},null,{"$f":"IF(K48=\"\",\"\",VLOOKUP(K48,'Equipment Type'!$A$1:$F$53,4,FALSE))","v":""},null,{"$f":"IF(K48=\"\",\"\",INDEX('Equipment Type'!$T$4:$T$53,MATCH('Analysis 103L'!K48,'Equipment Type'!$A$4:$A$53,0)))","v":""},"",null,{"$f":"IF(RIGHT(I48, 4)=\"Case\", \"\", IF(P48=\"\",\"\",(IF(ISNUMBER(SEARCH(\"exit\",J48)),8760,IF(B48=\"Exterior\",4380,'Analysis 103L'!$J$3)))))","v":""},null,"","","","","","","","",{"$f":"IF('100L Information'!$Z$5=\"Yes\",0,IF('100L Information'!$Z$4=\"Yes\",(MIN($Y$232-(-$Y$227),6000)*0.5)*(Y48/$Y$232),$Y$232*(Y48/($Y$230+$Y$231))))","v":{"$error":"#VALUE!"}},"",{"$error":"#VALUE!"},"No requirement",0,{"$f":"IF(OR(Z48=\"Does not meet requirement\",AND('100L Information'!$AA$21=\"No\",AL48=\"Y\"),AND('100L Information'!$AS$21=FALSE,AL48=\"Y\")),0,IF(ISNUMBER(R48*Incent_Cost_Fixture_Rx),MIN(R48*Incent_Cost_Fixture_Rx,(MAX(AE48,AK48))),0))","v":0},"FAIL","0","0","0",0,"N","0","0",null,"","",0,"",{"$f":"IF(RIGHT(I48,4)=\"Case\",W48,IF(AND(AL48=\"Y\",AF48<1),0,IF(OR(LEFT(D48,2)=\"T5\",LEFT(D48,3)=\"CFL\",'Analysis 103L'!AS48=\"Less\"),'Analysis 103L'!AR48,'Analysis 103L'!W48)))","v":""},null,0,0,null,{"$error":"#VALUE!"},{"$error":"#VALUE!"},{"$error":"#VALUE!"},null,null,{"$f":"IF(RIGHT(I48,4)=\"Case\",'LED Case Lighting'!$AY$1,IF(J48=\"\",\"\",VLOOKUP(J48,Lookups!$A$30:$J$172,VLOOKUP('100L Information'!$AI$46,Lookups!$J$3:$L$6,3,FALSE),FALSE)))","v":""},{"$error":"#N/A"},"","",{"$error":"#VALUE!"},{"$error":"#VALUE!"},{"$error":"#VALUE!"},{"$error":"#N/A"},0,{"$error":"#N/A"},0,{"$error":"#VALUE!"},{"$error":"#VALUE!"},{"$error":"#VALUE!"},"FAIL",null,null,null,null,null,null,null,"Interior / Exterior",null,"",null,{"$f":"IF(RIGHT(I48,4)=\"Case\",(INDEX('LED Case Lighting'!$AZ$3:$AZ$36,MATCH('Analysis 103L'!$CK48,'LED Case Lighting'!$AS$3:$AS$36,0))),IF(CB48=0,0,IF(CB48=\"lamp\",((Q48/VLOOKUP(B48,Int_Ext,2,FALSE))*VLOOKUP(E48,NEB,16,FALSE)),IF(CB48=\"fixture\",((Q48/VLOOKUP(B48,Int_Ext,2,FALSE))*VLOOKUP(E48,NEB,14,FALSE)),\"\"))))","v":""},null,{"$f":"IF(RIGHT(I48,4)=\"Case\",INDEX('Equipment Type'!$V$4:$V$53, MATCH('Analysis 103L'!$K48, 'Equipment Type'!$A$4:$A$53, 0)), \"\")","v":""},"","","","","",{"$f":"IF(CK48=\"\", \"\", INDEX('LED Case Lighting'!$AR$3:$AR$36, MATCH('Analysis 103L'!CK48, 'LED Case Lighting'!$AS$3:$AS$36, 0)))","v":""},{"$f":"IF(CK48=\"\", \"\", INDEX('LED Case Lighting'!$AW$3:$AW$36, MATCH('Analysis 103L'!CK48, 'LED Case Lighting'!$AS$3:$AS$36, 0)))","v":""},{"$f":"IF(CK48=\"\", \"\", INDEX('LED Case Lighting'!$AX$3:$AX$36, MATCH('Analysis 103L'!CK48, 'LED Case Lighting'!$AS$3:$AS$36, 0)))","v":""},""]
[22,null,null,null,null,null,"",null,{"$f":"IF(K49=\"\",\"\",VLOOKUP(K49,'Equipment Type'!$A$1:$F$53,5,FALSE))","v":""},{"$f":"IF(K49=\"\",\"\",VLOOKUP(K49,'Equipment Type'!$A$1:$F$53,6,FALSE))","v":""},null,{"$f":"IF(K49=\"\",\"\",VLOOKUP(K49,'Equipment Type'!$A$1:$F$53,4,FALSE))","v":""},null,{"$f":"IF(K49=\"\",\"\",INDEX('Equipment Type'!$T$4:$T$53,MATCH('Analysis 103L'!K49,'Equipment Type'!$A$4:$A$53,0)))","v":""},"",null,{"$f":"IF(RIGHT(I49, 4)=\"Case\", \"\", IF(P49=\"\",\"\",(IF(ISNUMBER(SEARCH(\"exit\",J49)),8760,IF(B49=\"Exterior\",4380,'Analysis 103L'!$J$3)))))","v":""},null,"","","","","","","","",{"$f":"IF('100L Information'!$Z$5=\"Yes\",0,IF('100L Information'!$Z$4=\"Yes\",(MIN($Y$232-(-$Y$227),6000)*0.5)*(Y49/$Y$232),$Y$232*(Y49/($Y$230+$Y$231))))","v":{"$error":"#VALUE!"}},"",{"$error":"#VALUE!"},"No requirement",0,{"$f":"IF(OR(Z49=\"Does not meet requirement\",AND('100L Information'!$AA$21=\"No\",AL49=\"Y\"),AND('100L Information'!$AS$21=FALSE,AL49=\"Y\")),0,IF(ISNUMBER(R49*Incent_Cost_Fixture_Rx),MIN(R49*Incent_Cost_Fixture_Rx,(MAX(AE49,AK49))),0))","v":0},"FAIL","0","0","0",0,"N","0","0",null,"","",0,"",{"$f":"IF(RIGHT(I49,4)=\"Case\",W49,IF(AND(AL49=\"Y\",AF49<1),0,IF(OR(LEFT(D49,2)=\"T5\",LEFT(D49,3)=\"CFL\",'Analysis 103L'!AS49=\"Less\"),'Analysis 103L'!AR49,'Analysis 103L'!W49)))","v":""},null,0,0,null,{"$error":"#VALUE!"},{"$error":"#VALUE!"},{"$error":"#VALUE!"},null,null,{"$f":"IF(RIGHT(I49,4)=\"Case\",'LED Case Lighting'!$AY$1,IF(J49=\"\",\"\",VLOOKUP(J49,Lookups!$A$30:$J$172,VLOOKUP('100L Information'!$AI$46,Lookups!$J$3:$L$6,3,FALSE),FALSE)))","v":""},{"$error":"#N/A"},"","",{"$error":"#VALUE!"},{"$error":"#VALUE!"},{"$error":"#VALUE!"},{"$error":"#N/A"},0,{"$error":"#N/A"},0,{"$error":"#VALUE!"},{"$error":"#VALUE!"},{"$error":"#VALUE!"},"FAIL",null,null,null,null,null,null,null,"Interior / Exterior",null,"",null,{"$f":"IF(RIGHT(I49,4)=\"Case\",(INDEX('LED Case Lighting'!$AZ$3:$AZ$36,MATCH('Analysis 103L'!$CK49,'LED Case Lighting'!$AS$3:$AS$36,0))),IF(CB49=0,0,IF(CB49=\"lamp\",((Q49/VLOOKUP(B49,Int_Ext,2,FALSE))*VLOOKUP(E49,NEB,16,FALSE)),IF(CB49=\"fixture\",((Q49/VLOOKUP(B49,Int_Ext,2,FALSE))*VLOOKUP(E49,NEB,14,FALSE)),\"\"))))","v":""},null,{"$f":"IF(RIGHT(I49,4)=\"Case\",INDEX('Equipment Type'!$V$4:$V$53, MATCH('Analysis 103L'!$K49, 'Equipment Type'!$A$4:$A$53, 0)), \"\")","v":""},"","","","","",{"$f":"IF(CK49=\"\", \"\", INDEX('LED Case Lighting'!$AR$3:$AR$36, MATCH('Analysis 103L'!CK49, 'LED Case Lighting'!$AS$3:$AS$36, 0)))","v":""},{"$f":"IF(CK49=\"\", \"\", INDEX('LED Case Lighting'!$AW$3:$AW$36, MATCH('Analysis 103L'!CK49, 'LED Case Lighting'!$AS$3:$AS$36, 0)))","v":""},{"$f":"IF(CK49=\"\", \"\", INDEX('LED Case Lighting'!$AX$3:$AX$36, MATCH('Analysis 103L'!CK49, 'LED Case Lighting'!$AS$3:$AS$36, 0)))","v":""},""]
[23,null,null,null,null,null,"",null,{"$f":"IF(K50=\"\",\"\",VLOOKUP(K50,'Equipment Type'!$A$1:$F$53,5,FALSE))","v":""},{"$f":"IF(K50=\"\",\"\",VLOOKUP(K50,'Equipment Type'!$A$1:$F$53,6,FALSE))","v":""},null,{"$f":"IF(K50=\"\",\"\",VLOOKUP(K50,'Equipment Type'!$A$1:$F$53,4,FALSE))","v":""},null,{"$f":"IF(K50=\"\",\"\",INDEX('Equipment Type'!$T$4:$T$53,MATCH('Analysis 103L'!K50,'Equipment Type'!$A$4:$A$53,0)))","v":""},"",null,{"$f":"IF(RIGHT(I50, 4)=\"Case\", \"\", IF(P50=\"\",\"\",(IF(ISNUMBER(SEARCH(\"exit\",J50)),8760,IF(B50=\"Exterior\",4380,'Analysis 103L'!$J$3)))))","v":""},null,"","","","","","","","",{"$f":"IF('100L Information'!$Z$5=\"Yes\",0,IF('100L Information'!$Z$4=\"Yes\",(MIN($Y$232-(-$Y$227),6000)*0.5)*(Y50/$Y$232),$Y$232*(Y50/($Y$230+$Y$231))))","v":{"$error":"#VALUE!"}},"",{"$error":"#VALUE!"},"No requirement",0,{"$f":"IF(OR(Z50=\"Does not meet requirement\",AND('100L Information'!$AA$21=\"No\",AL50=\"Y\"),AND('100L Information'!$AS$21=FALSE,AL50=\"Y\")),0,IF(ISNUMBER(R50*Incent_Cost_Fixture_Rx),MIN(R50*Incent_Cost_Fixture_Rx,(MAX(AE50,AK50))),0))","v":0},"FAIL","0","0","0",0,"N","0","0",null,"","",0,"",{"$f":"IF(RIGHT(I50,4)=\"Case\",W50,IF(AND(AL50=\"Y\",AF50<1),0,IF(OR(LEFT(D50,2)=\"T5\",LEFT(D50,3)=\"CFL\",'Analysis 103L'!AS50=\"Less\"),'Analysis 103L'!AR50,'Analysis 103L'!W50)))","v":""},null,0,0,null,{"$error":"#VALUE!"},{"$error":"#VALUE!"},{"$error":"#VALUE!"},null,null,{"$f":"IF(RIGHT(I50,4)=\"Case\",'LED Case Lighting'!$AY$1,IF(J50=\"\",\"\",VLOOKUP(J50,Lookups!$A$30:$J$172,VLOOKUP('100L Information'!$AI$46,Lookups!$J$3:$L$6,3,FALSE),FALSE)))","v":""},{"$error":"#N/A"},"","",{"$error":"#VALUE!"},{"$error":"#VALUE!"},{"$error":"#VALUE!"},{"$error":"#N/A"},0,{"$error":"#N/A"},0,{"$error":"#VALUE!"},{"$error":"#VALUE!"},{"$error":"#VALUE!"},"FAIL",null,null,null,null,null,null,null,"Interior / Exterior",null,"",null,{"$f":"IF(RIGHT(I50,4)=\"Case\",(INDEX('LED Case Lighting'!$AZ$3:$AZ$36,MATCH('Analysis 103L'!$CK50,'LED Case Lighting'!$AS$3:$AS$36,0))),IF(CB50=0,0,IF(CB50=\"lamp\",((Q50/VLOOKUP(B50,Int_Ext,2,FALSE))*VLOOKUP(E50,NEB,16,FALSE)),IF(CB50=\"fixture\",((Q50/VLOOKUP(B50,Int_Ext,2,FALSE))*VLOOKUP(E50,NEB,14,FALSE)),\"\"))))","v":""},null,{"$f":"IF(RIGHT(I50,4)=\"Case\",INDEX('Equipment Type'!$V$4:$V$53, MATCH('Analysis 103L'!$K50, 'Equipment Type'!$A$4:$A$53, 0)), \"\")","v":""},"","","","","",{"$f":"IF(CK50=\"\", \"\", INDEX('LED Case Lighting'!$AR$3:$AR$36, MATCH('Analysis 103L'!CK50, 'LED Case Lighting'!$AS$3:$AS$36, 0)))","v":""},{"$f":"IF(CK50=\"\", \"\", INDEX('LED Case Lighting'!$AW$3:$AW$36, MATCH('Analysis 103L'!CK50, 'LED Case Lighting'!$AS$3:$AS$36, 0)))","v":""},{"$f":"IF(CK50=\"\", \"\", INDEX('LED Case Lighting'!$AX$3:$AX$36, MATCH('Analysis 103L'!CK50, 'LED Case Lighting'!$AS$3:$AS$36, 0)))","v":""},""]
[24,null,null,null,null,null,"",null,{"$f":"IF(K51=\"\",\"\",VLOOKUP(K51,'Equipment Type'!$A$1:$F$53,5,FALSE))","v":""},{"$f":"IF(K51=\"\",\"\",VLOOKUP(K51,'Equipment Type'!$A$1:$F$53,6,FALSE))","v":""},null,{"$f":"IF(K51=\"\",\"\",VLOOKUP(K51,'Equipment Type'!$A$1:$F$53,4,FALSE))","v":""},null,{"$f":"IF(K51=\"\",\"\",INDEX('Equipment Type'!$T$4:$T$53,MATCH('Analysis 103L'!K51,'Equipment Type'!$A$4:$A$53,0)))","v":""},"",null,{"$f":"IF(RIGHT(I51, 4)=\"Case\", \"\", IF(P51=\"\",\"\",(IF(ISNUMBER(SEARCH(\"exit\",J51)),8760,IF(B51=\"Exterior\",4380,'Analysis 103L'!$J$3)))))","v":""},null,"","","","","","","","",{"$f":"IF('100L Information'!$Z$5=\"Yes\",0,IF('100L Information'!$Z$4=\"Yes\",(MIN($Y$232-(-$Y$227),6000)*0.5)*(Y51/$Y$232),$Y$232*(Y51/($Y$230+$Y$231))))","v":{"$error":"#VALUE!"}},"",{"$error":"#VALUE!"},"No requirement",0,{"$f":"IF(OR(Z51=\"Does not meet requirement\",AND('100L Information'!$AA$21=\"No\",AL51=\"Y\"),AND('100L Information'!$AS$21=FALSE,AL51=\"Y\")),0,IF(ISNUMBER(R51*Incent_Cost_Fixture_Rx),MIN(R51*Incent_Cost_Fixture_Rx,(MAX(AE51,AK51))),0))","v":0},"FAIL","0","0","0",0,"N","0","0",null,"","",0,"",{"$f":"IF(RIGHT(I51,4)=\"Case\",W51,IF(AND(AL51=\"Y\",AF51<1),0,IF(OR(LEFT(D51,2)=\"T5\",LEFT(D51,3)=\"CFL\",'Analysis 103L'!AS51=\"Less\"),'Analysis 103L'!AR51,'Analysis 103L'!W51)))","v":""},null,0,0,null,{"$error":"#VALUE!"},{"$error":"#VALUE!"},{"$error":"#VALUE!"},null,null,{"$f":"IF(RIGHT(I51,4)=\"Case\",'LED Case Lighting'!$AY$1,IF(J51=\"\",\"\",VLOOKUP(J51,Lookups!$A$30:$J$172,VLOOKUP('100L Information'!$AI$46,Lookups!$J$3:$L$6,3,FALSE),FALSE)))","v":""},{"$error":"#N/A"},"","",{"$error":"#VALUE!"},{"$error":"#VALUE!"},{"$error":"#VALUE!"},{"$error":"#N/A"},0,{"$error":"#N/A"},0,{"$error":"#VALUE!"},{"$error":"#VALUE!"},{"$error":"#VALUE!"},"FAIL",null,null,null,null,null,null,null,"Interior / Exterior",null,"",null,{"$f":"IF(RIGHT(I51,4)=\"Case\",(INDEX('LED Case Lighting'!$AZ$3:$AZ$36,MATCH('Analysis 103L'!$CK51,'LED Case Lighting'!$AS$3:$AS$36,0))),IF(CB51=0,0,IF(CB51=\"lamp\",((Q51/VLOOKUP(B51,Int_Ext,2,FALSE))*VLOOKUP(E51,NEB,16,FALSE)),IF(CB51=\"fixture\",((Q51/VLOOKUP(B51,Int_Ext,2,FALSE))*VLOOKUP(E51,NEB,14,FALSE)),\"\"))))","v":""},null,{"$f":"IF(RIGHT(I51,4)=\"Case\",INDEX('Equipment Type'!$V$4:$V$53, MATCH('Analysis 103L'!$K51, 'Equipment Type'!$A$4:$A$53, 0)), \"\")","v":""},"","","","","",{"$f":"IF(CK51=\"\", \"\", INDEX('LED Case Lighting'!$AR$3:$AR$36, MATCH('Analysis 103L'!CK51, 'LED Case Lighting'!$AS$3:$AS$36, 0)))","v":""},{"$f":"IF(CK51=\"\", \"\", INDEX('LED Case Lighting'!$AW$3:$AW$36, MATCH('Analysis 103L'!CK51, 'LED Case Lighting'!$AS$3:$AS$36, 0)))","v":""},{"$f":"IF(CK51=\"\", \"\", INDEX('LED Case Lighting'!$AX$3:$AX$36, MATCH('Analysis 103L'!CK51, 'LED Case Lighting'!$AS$3:$AS$36, 0)))","v":""},""]
[25,null,null,null,null,null,"",null,{"$f":"IF(K52=\"\",\"\",VLOOKUP(K52,'Equipment Type'!$A$1:$F$53,5,FALSE))","v":""},{"$f":"IF(K52=\"\",\"\",VLOOKUP(K52,'Equipment Type'!$A$1:$F$53,6,FALSE))","v":""},null,{"$f":"IF(K52=\"\",\"\",VLOOKUP(K52,'Equipment Type'!$A$1:$F$53,4,FALSE))","v":""},null,{"$f":"IF(K52=\"\",\"\",INDEX('Equipment Type'!$T$4:$T$53,MATCH('Analysis 103L'!K52,'Equipment Type'!$A$4:$A$53,0)))","v":""},"",null,{"$f":"IF(RIGHT(I52, 4)=\"Case\", \"\", IF(P52=\"\",\"\",(IF(ISNUMBER(SEARCH(\"exit\",J52)),8760,IF(B52=\"Exterior\",4380,'Analysis 103L'!$J$3)))))","v":""},null,"","","","","","","","",{"$f":"IF('100L Information'!$Z$5=\"Yes\",0,IF('100L Information'!$Z$4=\"Yes\",(MIN($Y$232-(-$Y$227),6000)*0.5)*(Y52/$Y$232),$Y$232*(Y52/($Y$230+$Y$231))))","v":{"$error":"#VALUE!"}},"",{"$error":"#VALUE!"},"No requirement",0,{"$f":"IF(OR(Z52=\"Does not meet requirement\",AND('100L Information'!$AA$21=\"No\",AL52=\"Y\"),AND('100L Information'!$AS$21=FALSE,AL52=\"Y\")),0,IF(ISNUMBER(R52*Incent_Cost_Fixture_Rx),MIN(R52*Incent_Cost_Fixture_Rx,(MAX(AE52,AK52))),0))","v":0},"FAIL","0","0","0",0,"N","0","0",null,"","",0,"",{"$f":"IF(RIGHT(I52,4)=\"Case\",W52,IF(AND(AL52=\"Y\",AF52<1),0,IF(OR(LEFT(D52,2)=\"T5\",LEFT(D52,3)=\"CFL\",'Analysis 103L'!AS52=\"Less\"),'Analysis 103L'!AR52,'Analysis 103L'!W52)))","v":""},null,0,0,null,{"$error":"#VALUE!"},{"$error":"#VALUE!"},{"$error":"#VALUE!"},null,null,{"$f":"IF(RIGHT(I52,4)=\"Case\",'LED Case Lighting'!$AY$1,IF(J52=\"\",\"\",VLOOKUP(J52,Lookups!$A$30:$J$172,VLOOKUP('100L Information'!$AI$46,Lookups!$J$3:$L$6,3,FALSE),FALSE)))","v":""},{"$error":"#N/A"},"","",{"$error":"#VALUE!"},{"$error":"#VALUE!"},{"$error":"#VALUE!"},{"$error":"#N/A"},0,{"$error":"#N/A"},0,{"$error":"#VALUE!"},{"$error":"#VALUE!"},{"$error":"#VALUE!"},"FAIL",null,null,null,null,null,null,null,"Interior / Exterior",null,"",null,{"$f":"IF(RIGHT(I52,4)=\"Case\",(INDEX('LED Case Lighting'!$AZ$3:$AZ$36,MATCH('Analysis 103L'!$CK52,'LED Case Lighting'!$AS$3:$AS$36,0))),IF(CB52=0,0,IF(CB52=\"lamp\",((Q52/VLOOKUP(B52,Int_Ext,2,FALSE))*VLOOKUP(E52,NEB,16,FALSE)),IF(CB52=\"fixture\",((Q52/VLOOKUP(B52,Int_Ext,2,FALSE))*VLOOKUP(E52,NEB,14,FALSE)),\"\"))))","v":""},null,{"$f":"IF(RIGHT(I52,4)=\"Case\",INDEX('Equipment Type'!$V$4:$V$53, MATCH('Analysis 103L'!$K52, 'Equipment Type'!$A$4:$A$53, 0)), \"\")","v":""},"","","","","",{"$f":"IF(CK52=\"\", \"\", INDEX('LED Case Lighting'!$AR$3:$AR$36, MATCH('Analysis 103L'!CK52, 'LED Case Lighting'!$AS$3:$AS$36, 0)))","v":""},{"$f":"IF(CK52=\"\", \"\", INDEX('LED Case Lighting'!$AW$3:$AW$36, MATCH('Analysis 103L'!CK52, 'LED Case Lighting'!$AS$3:$AS$36, 0)))","v":""},{"$f":"IF(CK52=\"\", \"\", INDEX('LED Case Lighting'!$AX$3:$AX$36, MATCH('Analysis 103L'!CK52, 'LED Case Lighting'!$AS$3:$AS$36, 0)))","v":""},""]
[26,null,null,null,null,null,"",null,{"$f":"IF(K53=\"\",\"\",VLOOKUP(K53,'Equipment Type'!$A$1:$F$53,5,FALSE))","v":""},{"$f":"IF(K53=\"\",\"\",VLOOKUP(K53,'Equipment Type'!$A$1:$F$53,6,FALSE))","v":""},null,{"$f":"IF(K53=\"\",\"\",VLOOKUP(K53,'Equipment Type'!$A$1:$F$53,4,FALSE))","v":""},null,{"$f":"IF(K53=\"\",\"\",INDEX('Equipment Type'!$T$4:$T$53,MATCH('Analysis 103L'!K53,'Equipment Type'!$A$4:$A$53,0)))","v":""},"",null,{"$f":"IF(RIGHT(I53, 4)=\"Case\", \"\", IF(P53=\"\",\"\",(IF(ISNUMBER(SEARCH(\"exit\",J53)),8760,IF(B53=\"Exterior\",4380,'Analysis 103L'!$J$3)))))","v":""},null,"","","","","","","","",{"$f":"IF('100L Information'!$Z$5=\"Yes\",0,IF('100L Information'!$Z$4=\"Yes\",(MIN($Y$232-(-$Y$227),6000)*0.5)*(Y53/$Y$232),$Y$232*(Y53/($Y$230+$Y$231))))","v":{"$error":"#VALUE!"}},"",{"$error":"#VALUE!"},"No requirement",0,{"$f":"IF(OR(Z53=\"Does not meet requirement\",AND('100L Information'!$AA$21=\"No\",AL53=\"Y\"),AND('100L Information'!$AS$21=FALSE,AL53=\"Y\")),0,IF(ISNUMBER(R53*Incent_Cost_Fixture_Rx),MIN(R53*Incent_Cost_Fixture_Rx,(MAX(AE53,AK53))),0))","v":0},"FAIL","0","0","0",0,"N","0","0",null,"","",0,"",{"$f":"IF(RIGHT(I53,4)=\"Case\",W53,IF(AND(AL53=\"Y\",AF53<1),0,IF(OR(LEFT(D53,2)=\"T5\",LEFT(D53,3)=\"CFL\",'Analysis 103L'!AS53=\"Less\"),'Analysis 103L'!AR53,'Analysis 103L'!W53)))","v":""},null,0,0,null,{"$error":"#VALUE!"},{"$error":"#VALUE!"},{"$error":"#VALUE!"},null,null,{"$f":"IF(RIGHT(I53,4)=\"Case\",'LED Case Lighting'!$AY$1,IF(J53=\"\",\"\",VLOOKUP(J53,Lookups!$A$30:$J$172,VLOOKUP('100L Information'!$AI$46,Lookups!$J$3:$L$6,3,FALSE),FALSE)))","v":""},{"$error":"#N/A"},"","",{"$error":"#VALUE!"},{"$error":"#VALUE!"},{"$error":"#VALUE!"},{"$error":"#N/A"},0,{"$error":"#N/A"},0,{"$error":"#VALUE!"},{"$error":"#VALUE!"},{"$error":"#VALUE!"},"FAIL",null,null,null,null,null,null,null,"Interior / Exterior",null,"",null,{"$f":"IF(RIGHT(I53,4)=\"Case\",(INDEX('LED Case Lighting'!$AZ$3:$AZ$36,MATCH('Analysis 103L'!$CK53,'LED Case Lighting'!$AS$3:$AS$36,0))),IF(CB53=0,0,IF(CB53=\"lamp\",((Q53/VLOOKUP(B53,Int_Ext,2,FALSE))*VLOOKUP(E53,NEB,16,FALSE)),IF(CB53=\"fixture\",((Q53/VLOOKUP(B53,Int_Ext,2,FALSE))*VLOOKUP(E53,NEB,14,FALSE)),\"\"))))","v":""},null,{"$f":"IF(RIGHT(I53,4)=\"Case\",INDEX('Equipment Type'!$V$4:$V$53, MATCH('Analysis 103L'!$K53, 'Equipment Type'!$A$4:$A$53, 0)), \"\")","v":""},"","","","","",{"$f":"IF(CK53=\"\", \"\", INDEX('LED Case Lighting'!$AR$3:$AR$36, MATCH('Analysis 103L'!CK53, 'LED Case Lighting'!$AS$3:$AS$36, 0)))","v":""},{"$f":"IF(CK53=\"\", \"\", INDEX('LED Case Lighting'!$AW$3:$AW$36, MATCH('Analysis 103L'!CK53, 'LED Case Lighting'!$AS$3:$AS$36, 0)))","v":""},{"$f":"IF(CK53=\"\", \"\", INDEX('LED Case Lighting'!$AX$3:$AX$36, MATCH('Analysis 103L'!CK53, 'LED Case Lighting'!$AS$3:$AS$36, 0)))","v":""},""]
[27,null,null,null,null,null,"",null,{"$f":"IF(K54=\"\",\"\",VLOOKUP(K54,'Equipment Type'!$A$1:$F$53,5,FALSE))","v":""},{"$f":"IF(K54=\"\",\"\",VLOOKUP(K54,'Equipment Type'!$A$1:$F$53,6,FALSE))","v":""},null,{"$f":"IF(K54=\"\",\"\",VLOOKUP(K54,'Equipment Type'!$A$1:$F$53,4,FALSE))","v":""},null,{"$f":"IF(K54=\"\",\"\",INDEX('Equipment Type'!$T$4:$T$53,MATCH('Analysis 103L'!K54,'Equipment Type'!$A$4:$A$53,0)))","v":""},"",null,{"$f":"IF(RIGHT(I54, 4)=\"Case\", \"\", IF(P54=\"\",\"\",(IF(ISNUMBER(SEARCH(\"exit\",J54)),8760,IF(B54=\"Exterior\",4380,'Analysis 103L'!$J$3)))))","v":""},null,"","","","","","","","",{"$f":"IF('100L Information'!$Z$5=\"Yes\",0,IF('100L Information'!$Z$4=\"Yes\",(MIN($Y$232-(-$Y$227),6000)*0.5)*(Y54/$Y$232),$Y$232*(Y54/($Y$230+$Y$231))))","v":{"$error":"#VALUE!"}},"",{"$error":"#VALUE!"},"No requirement",0,{"$f":"IF(OR(Z54=\"Does not meet requirement\",AND('100L Information'!$AA$21=\"No\",AL54=\"Y\"),AND('100L Information'!$AS$21=FALSE,AL54=\"Y\")),0,IF(ISNUMBER(R54*Incent_Cost_Fixture_Rx),MIN(R54*Incent_Cost_Fixture_Rx,(MAX(AE54,AK54))),0))","v":0},"FAIL","0","0","0",0,"N","0","0",null,"","",0,"",{"$f":"IF(RIGHT(I54,4)=\"Case\",W54,IF(AND(AL54=\"Y\",AF54<1),0,IF(OR(LEFT(D54,2)=\"T5\",LEFT(D54,3)=\"CFL\",'Analysis 103L'!AS54=\"Less\"),'Analysis 103L'!AR54,'Analysis 103L'!W54)))","v":""},null,0,0,null,{"$error":"#VALUE!"},{"$error":"#VALUE!"},{"$error":"#VALUE!"},null,null,{"$f":"IF(RIGHT(I54,4)=\"Case\",'LED Case Lighting'!$AY$1,IF(J54=\"\",\"\",VLOOKUP(J54,Lookups!$A$30:$J$172,VLOOKUP('100L Information'!$AI$46,Lookups!$J$3:$L$6,3,FALSE),FALSE)))","v":""},{"$error":"#N/A"},"","",{"$error":"#VALUE!"},{"$error":"#VALUE!"},{"$error":"#VALUE!"},{"$error":"#N/A"},0,{"$error":"#N/A"},0,{"$error":"#VALUE!"},{"$error":"#VALUE!"},{"$error":"#VALUE!"},"FAIL",null,null,null,null,null,null,null,"Interior / Exterior",null,"",null,{"$f":"IF(RIGHT(I54,4)=\"Case\",(INDEX('LED Case Lighting'!$AZ$3:$AZ$36,MATCH('Analysis 103L'!$CK54,'LED Case Lighting'!$AS$3:$AS$36,0))),IF(CB54=0,0,IF(CB54=\"lamp\",((Q54/VLOOKUP(B54,Int_Ext,2,FALSE))*VLOOKUP(E54,NEB,16,FALSE)),IF(CB54=\"fixture\",((Q54/VLOOKUP(B54,Int_Ext,2,FALSE))*VLOOKUP(E54,NEB,14,FALSE)),\"\"))))","v":""},null,{"$f":"IF(RIGHT(I54,4)=\"Case\",INDEX('Equipment Type'!$V$4:$V$53, MATCH('Analysis 103L'!$K54, 'Equipment Type'!$A$4:$A$53, 0)), \"\")","v":""},"","","","","",{"$f":"IF(CK54=\"\", \"\", INDEX('LED Case Lighting'!$AR$3:$AR$36, MATCH('Analysis 103L'!CK54, 'LED Case Lighting'!$AS$3:$AS$36, 0)))","v":""},{"$f":"IF(CK54=\"\", \"\", INDEX('LED Case Lighting'!$AW$3:$AW$36, MATCH('Analysis 103L'!CK54, 'LED Case Lighting'!$AS$3:$AS$36, 0)))","v":""},{"$f":"IF(CK54=\"\", \"\", INDEX('LED Case Lighting'!$AX$3:$AX$36, MATCH('Analysis 103L'!CK54, 'LED Case Lighting'!$AS$3:$AS$36, 0)))","v":""},""]
[28,null,null,null,null,null,"",null,{"$f":"IF(K55=\"\",\"\",VLOOKUP(K55,'Equipment Type'!$A$1:$F$53,5,FALSE))","v":""},{"$f":"IF(K55=\"\",\"\",VLOOKUP(K55,'Equipment Type'!$A$1:$F$53,6,FALSE))","v":""},null,{"$f":"IF(K55=\"\",\"\",VLOOKUP(K55,'Equipment Type'!$A$1:$F$53,4,FALSE))","v":""},null,{"$f":"IF(K55=\"\",\"\",INDEX('Equipment Type'!$T$4:$T$53,MATCH('Analysis 103L'!K55,'Equipment Type'!$A$4:$A$53,0)))","v":""},"",null,{"$f":"IF(RIGHT(I55, 4)=\"Case\", \"\", IF(P55=\"\",\"\",(IF(ISNUMBER(SEARCH(\"exit\",J55)),8760,IF(B55=\"Exterior\",4380,'Analysis 103L'!$J$3)))))","v":""},null,"","","","","","","","",{"$f":"IF('100L Information'!$Z$5=\"Yes\",0,IF('100L Information'!$Z$4=\"Yes\",(MIN($Y$232-(-$Y$227),6000)*0.5)*(Y55/$Y$232),$Y$232*(Y55/($Y$230+$Y$231))))","v":{"$error":"#VALUE!"}},"",{"$error":"#VALUE!"},"No requirement",0,{"$f":"IF(OR(Z55=\"Does not meet requirement\",AND('100L Information'!$AA$21=\"No\",AL55=\"Y\"),AND('100L Information'!$AS$21=FALSE,AL55=\"Y\")),0,IF(ISNUMBER(R55*Incent_Cost_Fixture_Rx),MIN(R55*Incent_Cost_Fixture_Rx,(MAX(AE55,AK55))),0))","v":0},"FAIL","0","0","0",0,"N","0","0",null,"","",0,"",{"$f":"IF(RIGHT(I55,4)=\"Case\",W55,IF(AND(AL55=\"Y\",AF55<1),0,IF(OR(LEFT(D55,2)=\"T5\",LEFT(D55,3)=\"CFL\",'Analysis 103L'!AS55=\"Less\"),'Analysis 103L'!AR55,'Analysis 103L'!W55)))","v":""},null,0,0,null,{"$error":"#VALUE!"},{"$error":"#VALUE!"},{"$error":"#VALUE!"},null,null,{"$f":"IF(RIGHT(I55,4)=\"Case\",'LED Case Lighting'!$AY$1,IF(J55=\"\",\"\",VLOOKUP(J55,Lookups!$A$30:$J$172,VLOOKUP('100L Information'!$AI$46,Lookups!$J$3:$L$6,3,FALSE),FALSE)))","v":""},{"$error":"#N/A"},"","",{"$error":"#VALUE!"},{"$error":"#VALUE!"},{"$error":"#VALUE!"},{"$error":"#N/A"},0,{"$error":"#N/A"},0,{"$error":"#VALUE!"},{"$error":"#VALUE!"},{"$error":"#VALUE!"},"FAIL",null,null,null,null,null,null,null,"Interior / Exterior",null,"",null,{"$f":"IF(RIGHT(I55,4)=\"Case\",(INDEX('LED Case Lighting'!$AZ$3:$AZ$36,MATCH('Analysis 103L'!$CK55,'LED Case Lighting'!$AS$3:$AS$36,0))),IF(CB55=0,0,IF(CB55=\"lamp\",((Q55/VLOOKUP(B55,Int_Ext,2,FALSE))*VLOOKUP(E55,NEB,16,FALSE)),IF(CB55=\"fixture\",((Q55/VLOOKUP(B55,Int_Ext,2,FALSE))*VLOOKUP(E55,NEB,14,FALSE)),\"\"))))","v":""},null,{"$f":"IF(RIGHT(I55,4)=\"Case\",INDEX('Equipment Type'!$V$4:$V$53, MATCH('Analysis 103L'!$K55, 'Equipment Type'!$A$4:$A$53, 0)), \"\")","v":""},"","","","","",{"$f":"IF(CK55=\"\", \"\", INDEX('LED Case Lighting'!$AR$3:$AR$36, MATCH('Analysis 103L'!CK55, 'LED Case Lighting'!$AS$3:$AS$36, 0)))","v":""},{"$f":"IF(CK55=\"\", \"\", INDEX('LED Case Lighting'!$AW$3:$AW$36, MATCH('Analysis 103L'!CK55, 'LED Case Lighting'!$AS$3:$AS$36, 0)))","v":""},{"$f":"IF(CK55=\"\", \"\", INDEX('LED Case Lighting'!$AX$3:$AX$36, MATCH('Analysis 103L'!CK55, 'LED Case Lighting'!$AS$3:$AS$36, 0)))","v":""},""]
[29,null,null,null,null,null,"",null,{"$f":"IF(K56=\"\",\"\",VLOOKUP(K56,'Equipment Type'!$A$1:$F$53,5,FALSE))","v":""},{"$f":"IF(K56=\"\",\"\",VLOOKUP(K56,'Equipment Type'!$A$1:$F$53,6,FALSE))","v":""},null,{"$f":"IF(K56=\"\",\"\",VLOOKUP(K56,'Equipment Type'!$A$1:$F$53,4,FALSE))","v":""},null,{"$f":"IF(K56=\"\",\"\",INDEX('Equipment Type'!$T$4:$T$53,MATCH('Analysis 103L'!K56,'Equipment Type'!$A$4:$A$53,0)))","v":""},"",null,{"$f":"IF(RIGHT(I56, 4)=\"Case\", \"\", IF(P56=\"\",\"\",(IF(ISNUMBER(SEARCH(\"exit\",J56)),8760,IF(B56=\"Exterior\",4380,'Analysis 103L'!$J$3)))))","v":""},null,"","","","","","","","",{"$f":"IF('100L Information'!$Z$5=\"Yes\",0,IF('100L Information'!$Z$4=\"Yes\",(MIN($Y$232-(-$Y$227),6000)*0.5)*(Y56/$Y$232),$Y$232*(Y56/($Y$230+$Y$231))))","v":{"$error":"#VALUE!"}},"",{"$error":"#VALUE!"},"No requirement",0,{"$f":"IF(OR(Z56=\"Does not meet requirement\",AND('100L Information'!$AA$21=\"No\",AL56=\"Y\"),AND('100L Information'!$AS$21=FALSE,AL56=\"Y\")),0,IF(ISNUMBER(R56*Incent_Cost_Fixture_Rx),MIN(R56*Incent_Cost_Fixture_Rx,(MAX(AE56,AK56))),0))","v":0},"FAIL","0","0","0",0,"N","0","0",null,"","",0,"",{"$f":"IF(RIGHT(I56,4)=\"Case\",W56,IF(AND(AL56=\"Y\",AF56<1),0,IF(OR(LEFT(D56,2)=\"T5\",LEFT(D56,3)=\"CFL\",'Analysis 103L'!AS56=\"Less\"),'Analysis 103L'!AR56,'Analysis 103L'!W56)))","v":""},null,0,0,null,{"$error":"#VALUE!"},{"$error":"#VALUE!"},{"$error":"#VALUE!"},null,null,{"$f":"IF(RIGHT(I56,4)=\"Case\",'LED Case Lighting'!$AY$1,IF(J56=\"\",\"\",VLOOKUP(J56,Lookups!$A$30:$J$172,VLOOKUP('100L Information'!$AI$46,Lookups!$J$3:$L$6,3,FALSE),FALSE)))","v":""},{"$error":"#N/A"},"","",{"$error":"#VALUE!"},{"$error":"#VALUE!"},{"$error":"#VALUE!"},{"$error":"#N/A"},0,{"$error":"#N/A"},0,{"$error":"#VALUE!"},{"$error":"#VALUE!"},{"$error":"#VALUE!"},"FAIL",null,null,null,null,null,null,null,"Interior / Exterior",null,"",null,{"$f":"IF(RIGHT(I56,4)=\"Case\",(INDEX('LED Case Lighting'!$AZ$3:$AZ$36,MATCH('Analysis 103L'!$CK56,'LED Case Lighting'!$AS$3:$AS$36,0))),IF(CB56=0,0,IF(CB56=\"lamp\",((Q56/VLOOKUP(B56,Int_Ext,2,FALSE))*VLOOKUP(E56,NEB,16,FALSE)),IF(CB56=\"fixture\",((Q56/VLOOKUP(B56,Int_Ext,2,FALSE))*VLOOKUP(E56,NEB,14,FALSE)),\"\"))))","v":""},null,{"$f":"IF(RIGHT(I56,4)=\"Case\",INDEX('Equipment Type'!$V$4:$V$53, MATCH('Analysis 103L'!$K56, 'Equipment Type'!$A$4:$A$53, 0)), \"\")","v":""},"","","","","",{"$f":"IF(CK56=\"\", \"\", INDEX('LED Case Lighting'!$AR$3:$AR$36, MATCH('Analysis 103L'!CK56, 'LED Case Lighting'!$AS$3:$AS$36, 0)))","v":""},{"$f":"IF(CK56=\"\", \"\", INDEX('LED Case Lighting'!$AW$3:$AW$36, MATCH('Analysis 103L'!CK56, 'LED Case Lighting'!$AS$3:$AS$36, 0)))","v":""},{"$f":"IF(CK56=\"\", \"\", INDEX('LED Case Lighting'!$AX$3:$AX$36, MATCH('Analysis 103L'!CK56, 'LED Case Lighting'!$AS$3:$AS$36, 0)))","v":""},""]
[30,null,null,null,null,null,"",null,{"$f":"IF(K57=\"\",\"\",VLOOKUP(K57,'Equipment Type'!$A$1:$F$53,5,FALSE))","v":""},{"$f":"IF(K57=\"\",\"\",VLOOKUP(K57,'Equipment Type'!$A$1:$F$53,6,FALSE))","v":""},null,{"$f":"IF(K57=\"\",\"\",VLOOKUP(K57,'Equipment Type'!$A$1:$F$53,4,FALSE))","v":""},null,{"$f":"IF(K57=\"\",\"\",INDEX('Equipment Type'!$T$4:$T$53,MATCH('Analysis 103L'!K57,'Equipment Type'!$A$4:$A$53,0)))","v":""},"",null,{"$f":"IF(RIGHT(I57, 4)=\"Case\", \"\", IF(P57=\"\",\"\",(IF(ISNUMBER(SEARCH(\"exit\",J57)),8760,IF(B57=\"Exterior\",4380,'Analysis 103L'!$J$3)))))","v":""},null,"","","","","","","","",{"$f":"IF('100L Information'!$Z$5=\"Yes\",0,IF('100L Information'!$Z$4=\"Yes\",(MIN($Y$232-(-$Y$227),6000)*0.5)*(Y57/$Y$232),$Y$232*(Y57/($Y$230+$Y$231))))","v":{"$error":"#VALUE!"}},"",{"$error":"#VALUE!"},"No requirement",0,{"$f":"IF(OR(Z57=\"Does not meet requirement\",AND('100L Information'!$AA$21=\"No\",AL57=\"Y\"),AND('100L Information'!$AS$21=FALSE,AL57=\"Y\")),0,IF(ISNUMBER(R57*Incent_Cost_Fixture_Rx),MIN(R57*Incent_Cost_Fixture_Rx,(MAX(AE57,AK57))),0))","v":0},"FAIL","0","0","0",0,"N","0","0",null,"","",0,"",{"$f":"IF(RIGHT(I57,4)=\"Case\",W57,IF(AND(AL57=\"Y\",AF57<1),0,IF(OR(LEFT(D57,2)=\"T5\",LEFT(D57,3)=\"CFL\",'Analysis 103L'!AS57=\"Less\"),'Analysis 103L'!AR57,'Analysis 103L'!W57)))","v":""},null,0,0,null,{"$error":"#VALUE!"},{"$error":"#VALUE!"},{"$error":"#VALUE!"},null,null,{"$f":"IF(RIGHT(I57,4)=\"Case\",'LED Case Lighting'!$AY$1,IF(J57=\"\",\"\",VLOOKUP(J57,Lookups!$A$30:$J$172,VLOOKUP('100L Information'!$AI$46,Lookups!$J$3:$L$6,3,FALSE),FALSE)))","v":""},{"$error":"#N/A"},"","",{"$error":"#VALUE!"},{"$error":"#VALUE!"},{"$error":"#VALUE!"},{"$error":"#N/A"},0,{"$error":"#N/A"},0,{"$error":"#VALUE!"},{"$error":"#VALUE!"},{"$error":"#VALUE!"},"FAIL",null,null,null,null,null,null,null,"Interior / Exterior",null,"",null,{"$f":"IF(RIGHT(I57,4)=\"Case\",(INDEX('LED Case Lighting'!$AZ$3:$AZ$36,MATCH('Analysis 103L'!$CK57,'LED Case Lighting'!$AS$3:$AS$36,0))),IF(CB57=0,0,IF(CB57=\"lamp\",((Q57/VLOOKUP(B57,Int_Ext,2,FALSE))*VLOOKUP(E57,NEB,16,FALSE)),IF(CB57=\"fixture\",((Q57/VLOOKUP(B57,Int_Ext,2,FALSE))*VLOOKUP(E57,NEB,14,FALSE)),\"\"))))","v":""},null,{"$f":"IF(RIGHT(I57,4)=\"Case\",INDEX('Equipment Type'!$V$4:$V$53, MATCH('Analysis 103L'!$K57, 'Equipment Type'!$A$4:$A$53, 0)), \"\")","v":""},"","","","","",{"$f":"IF(CK57=\"\", \"\", INDEX('LED Case Lighting'!$AR$3:$AR$36, MATCH('Analysis 103L'!CK57, 'LED Case Lighting'!$AS$3:$AS$36, 0)))","v":""},{"$f":"IF(CK57=\"\", \"\", INDEX('LED Case Lighting'!$AW$3:$AW$36, MATCH('Analysis 103L'!CK57, 'LED Case Lighting'!$AS$3:$AS$36, 0)))","v":""},{"$f":"IF(CK57=\"\", \"\", INDEX('LED Case Lighting'!$AX$3:$AX$36, MATCH('Analysis 103L'!CK57, 'LED Case Lighting'!$AS$3:$AS$36, 0)))","v":""},""]
[31,null,null,null,null,null,"",null,{"$f":"IF(K58=\"\",\"\",VLOOKUP(K58,'Equipment Type'!$A$1:$F$53,5,FALSE))","v":""},{"$f":"IF(K58=\"\",\"\",VLOOKUP(K58,'Equipment Type'!$A$1:$F$53,6,FALSE))","v":""},null,{"$f":"IF(K58=\"\",\"\",VLOOKUP(K58,'Equipment Type'!$A$1:$F$53,4,FALSE))","v":""},null,{"$f":"IF(K58=\"\",\"\",INDEX('Equipment Type'!$T$4:$T$53,MATCH('Analysis 103L'!K58,'Equipment Type'!$A$4:$A$53,0)))","v":""},"",null,{"$f":"IF(RIGHT(I58, 4)=\"Case\", \"\", IF(P58=\"\",\"\",(IF(ISNUMBER(SEARCH(\"exit\",J58)),8760,IF(B58=\"Exterior\",4380,'Analysis 103L'!$J$3)))))","v":""},null,"","","","","","","","",{"$f":"IF('100L Information'!$Z$5=\"Yes\",0,IF('100L Information'!$Z$4=\"Yes\",(MIN($Y$232-(-$Y$227),6000)*0.5)*(Y58/$Y$232),$Y$232*(Y58/($Y$230+$Y$231))))","v":{"$error":"#VALUE!"}},"",{"$error":"#VALUE!"},"No requirement",0,{"$f":"IF(OR(Z58=\"Does not meet requirement\",AND('100L Information'!$AA$21=\"No\",AL58=\"Y\"),AND('100L Information'!$AS$21=FALSE,AL58=\"Y\")),0,IF(ISNUMBER(R58*Incent_Cost_Fixture_Rx),MIN(R58*Incent_Cost_Fixture_Rx,(MAX(AE58,AK58))),0))","v":0},"FAIL","0","0","0",0,"N","0","0",null,"","",0,"",{"$f":"IF(RIGHT(I58,4)=\"Case\",W58,IF(AND(AL58=\"Y\",AF58<1),0,IF(OR(LEFT(D58,2)=\"T5\",LEFT(D58,3)=\"CFL\",'Analysis 103L'!AS58=\"Less\"),'Analysis 103L'!AR58,'Analysis 103L'!W58)))","v":""},null,0,0,null,{"$error":"#VALUE!"},{"$error":"#VALUE!"},{"$error":"#VALUE!"},null,null,{"$f":"IF(RIGHT(I58,4)=\"Case\",'LED Case Lighting'!$AY$1,IF(J58=\"\",\"\",VLOOKUP(J58,Lookups!$A$30:$J$172,VLOOKUP('100L Information'!$AI$46,Lookups!$J$3:$L$6,3,FALSE),FALSE)))","v":""},{"$error":"#N/A"},"","",{"$error":"#VALUE!"},{"$error":"#VALUE!"},{"$error":"#VALUE!"},{"$error":"#N/A"},0,{"$error":"#N/A"},0,{"$error":"#VALUE!"},{"$error":"#VALUE!"},{"$error":"#VALUE!"},"FAIL",null,null,null,null,null,null,null,"Interior / Exterior",null,"",null,{"$f":"IF(RIGHT(I58,4)=\"Case\",(INDEX('LED Case Lighting'!$AZ$3:$AZ$36,MATCH('Analysis 103L'!$CK58,'LED Case Lighting'!$AS$3:$AS$36,0))),IF(CB58=0,0,IF(CB58=\"lamp\",((Q58/VLOOKUP(B58,Int_Ext,2,FALSE))*VLOOKUP(E58,NEB,16,FALSE)),IF(CB58=\"fixture\",((Q58/VLOOKUP(B58,Int_Ext,2,FALSE))*VLOOKUP(E58,NEB,14,FALSE)),\"\"))))","v":""},null,{"$f":"IF(RIGHT(I58,4)=\"Case\",INDEX('Equipment Type'!$V$4:$V$53, MATCH('Analysis 103L'!$K58, 'Equipment Type'!$A$4:$A$53, 0)), \"\")","v":""},"","","","","",{"$f":"IF(CK58=\"\", \"\", INDEX('LED Case Lighting'!$AR$3:$AR$36, MATCH('Analysis 103L'!CK58, 'LED Case Lighting'!$AS$3:$AS$36, 0)))","v":""},{"$f":"IF(CK58=\"\", \"\", INDEX('LED Case Lighting'!$AW$3:$AW$36, MATCH('Analysis 103L'!CK58, 'LED Case Lighting'!$AS$3:$AS$36, 0)))","v":""},{"$f":"IF(CK58=\"\", \"\", INDEX('LED Case Lighting'!$AX$3:$AX$36, MATCH('Analysis 103L'!CK58, 'LED Case Lighting'!$AS$3:$AS$36, 0)))","v":""},""]
[32,null,null,null,null,null,"",null,{"$f":"IF(K59=\"\",\"\",VLOOKUP(K59,'Equipment Type'!$A$1:$F$53,5,FALSE))","v":""},{"$f":"IF(K59=\"\",\"\",VLOOKUP(K59,'Equipment Type'!$A$1:$F$53,6,FALSE))","v":""},null,{"$f":"IF(K59=\"\",\"\",VLOOKUP(K59,'Equipment Type'!$A$1:$F$53,4,FALSE))","v":""},null,{"$f":"IF(K59=\"\",\"\",INDEX('Equipment Type'!$T$4:$T$53,MATCH('Analysis 103L'!K59,'Equipment Type'!$A$4:$A$53,0)))","v":""},"",null,{"$f":"IF(RIGHT(I59, 4)=\"Case\", \"\", IF(P59=\"\",\"\",(IF(ISNUMBER(SEARCH(\"exit\",J59)),8760,IF(B59=\"Exterior\",4380,'Analysis 103L'!$J$3)))))","v":""},null,"","","","","","","","",{"$f":"IF('100L Information'!$Z$5=\"Yes\",0,IF('100L Information'!$Z$4=\"Yes\",(MIN($Y$232-(-$Y$227),6000)*0.5)*(Y59/$Y$232),$Y$232*(Y59/($Y$230+$Y$231))))","v":{"$error":"#VALUE!"}},"",{"$error":"#VALUE!"},"No requirement",0,{"$f":"IF(OR(Z59=\"Does not meet requirement\",AND('100L Information'!$AA$21=\"No\",AL59=\"Y\"),AND('100L Information'!$AS$21=FALSE,AL59=\"Y\")),0,IF(ISNUMBER(R59*Incent_Cost_Fixture_Rx),MIN(R59*Incent_Cost_Fixture_Rx,(MAX(AE59,AK59))),0))","v":0},"FAIL","0","0","0",0,"N","0","0",null,"","",0,"",{"$f":"IF(RIGHT(I59,4)=\"Case\",W59,IF(AND(AL59=\"Y\",AF59<1),0,IF(OR(LEFT(D59,2)=\"T5\",LEFT(D59,3)=\"CFL\",'Analysis 103L'!AS59=\"Less\"),'Analysis 103L'!AR59,'Analysis 103L'!W59)))","v":""},null,0,0,null,{"$error":"#VALUE!"},{"$error":"#VALUE!"},{"$error":"#VALUE!"},null,null,{"$f":"IF(RIGHT(I59,4)=\"Case\",'LED Case Lighting'!$AY$1,IF(J59=\"\",\"\",VLOOKUP(J59,Lookups!$A$30:$J$172,VLOOKUP('100L Information'!$AI$46,Lookups!$J$3:$L$6,3,FALSE),FALSE)))","v":""},{"$error":"#N/A"},"","",{"$error":"#VALUE!"},{"$error":"#VALUE!"},{"$error":"#VALUE!"},{"$error":"#N/A"},0,{"$error":"#N/A"},0,{"$error":"#VALUE!"},{"$error":"#VALUE!"},{"$error":"#VALUE!"},"FAIL",null,null,null,null,null,null,null,"Interior / Exterior",null,"",null,{"$f":"IF(RIGHT(I59,4)=\"Case\",(INDEX('LED Case Lighting'!$AZ$3:$AZ$36,MATCH('Analysis 103L'!$CK59,'LED Case Lighting'!$AS$3:$AS$36,0))),IF(CB59=0,0,IF(CB59=\"lamp\",((Q59/VLOOKUP(B59,Int_Ext,2,FALSE))*VLOOKUP(E59,NEB,16,FALSE)),IF(CB59=\"fixture\",((Q59/VLOOKUP(B59,Int_Ext,2,FALSE))*VLOOKUP(E59,NEB,14,FALSE)),\"\"))))","v":""},null,{"$f":"IF(RIGHT(I59,4)=\"Case\",INDEX('Equipment Type'!$V$4:$V$53, MATCH('Analysis 103L'!$K59, 'Equipment Type'!$A$4:$A$53, 0)), \"\")","v":""},"","","","","",{"$f":"IF(CK59=\"\", \"\", INDEX('LED Case Lighting'!$AR$3:$AR$36, MATCH('Analysis 103L'!CK59, 'LED Case Lighting'!$AS$3:$AS$36, 0)))","v":""},{"$f":"IF(CK59=\"\", \"\", INDEX('LED Case Lighting'!$AW$3:$AW$36, MATCH('Analysis 103L'!CK59, 'LED Case Lighting'!$AS$3:$AS$36, 0)))","v":""},{"$f":"IF(CK59=\"\", \"\", INDEX('LED Case Lighting'!$AX$3:$AX$36, MATCH('Analysis 103L'!CK59, 'LED Case Lighting'!$AS$3:$AS$36, 0)))","v":""},""]
[33,null,null,null,null,null,"",null,{"$f":"IF(K60=\"\",\"\",VLOOKUP(K60,'Equipment Type'!$A$1:$F$53,5,FALSE))","v":""},{"$f":"IF(K60=\"\",\"\",VLOOKUP(K60,'Equipment Type'!$A$1:$F$53,6,FALSE))","v":""},null,{"$f":"IF(K60=\"\",\"\",VLOOKUP(K60,'Equipment Type'!$A$1:$F$53,4,FALSE))","v":""},null,{"$f":"IF(K60=\"\",\"\",INDEX('Equipment Type'!$T$4:$T$53,MATCH('Analysis 103L'!K60,'Equipment Type'!$A$4:$A$53,0)))","v":""},"",null,{"$f":"IF(RIGHT(I60, 4)=\"Case\", \"\", IF(P60=\"\",\"\",(IF(ISNUMBER(SEARCH(\"exit\",J60)),8760,IF(B60=\"Exterior\",4380,'Analysis 103L'!$J$3)))))","v":""},null,"","","","","","","",{"$f":"IF(M60 = \"Y\",IF(AND(M60=\"Y\",AG60=\"FAIL\"),\"Not Cost Effective\",\"\"),IF(AD60=1,\"Does not meet requirement\",\"\"))","v":""},{"$f":"IF('100L Information'!$Z$5=\"Yes\",0,IF('100L Information'!$Z$4=\"Yes\",(MIN($Y$232-(-$Y$227),6000)*0.5)*(Y60/$Y$232),$Y$232*(Y60/($Y$230+$Y$231))))","v":{"$error":"#VALUE!"}},"",{"$f":"IF(RIGHT(I60,4)=\"Case\",\"\",IF(I60=\"GROW\",MIN(W60*RunRateMax_CustomMeasures_Horti,P60*Cap_GROW_fixture,S60*Incent_Cost_Fixture_Cust),MIN(W60*IF(I60=\"Street_Lighting\",RunRateMax_Streetlighting,RunRateMax_CustomMeasures_fixtures),S60*Incent_Cost_Fixture_Cust)))","v":{"$error":"#VALUE!"}},"No requirement",{"$f":"MAX(IF(ISERROR(VLOOKUP(CONCATENATE(J60,\" from \",VLOOKUP(D60,ExistFixtCat,4,FALSE)),PropFixtIncent,2,FALSE)),0,VLOOKUP(CONCATENATE(J60,\" from \",VLOOKUP(D60,ExistFixtCat,4,FALSE)),PropFixtIncent,2,FALSE)),IF(ISERROR(VLOOKUP(CONCATENATE(J60,\" from ANY\"),PropFixtIncent,2,FALSE)),0,VLOOKUP(CONCATENATE(J60,\" from ANY\"),PropFixtIncent,2,FALSE)))","v":0},{"$f":"IF(OR(Z60=\"Does not meet requirement\",AND('100L Information'!$AA$21=\"No\",AL60=\"Y\"),AND('100L Information'!$AS$21=FALSE,AL60=\"Y\")),0,IF(ISNUMBER(R60*Incent_Cost_Fixture_Rx),MIN(R60*Incent_Cost_Fixture_Rx,(MAX(AE60,AK60))),0))","v":0},{"$f":"IF(AND(M60=\"Y\",BR60=\"PASS/PASS\"),\"PASS/PASS\",\"FAIL\")","v":"FAIL"},"0","0","0",{"$f":"IF(AE60=0,MAX(IF(ISERROR(VLOOKUP(CONCATENATE(J60,\" from \",VLOOKUP(E60,ExistFixtCat,4,FALSE)),PropFixtIncent,2,FALSE)),0,VLOOKUP(CONCATENATE(J60,\" from \",VLOOKUP(E60,ExistFixtCat,4,FALSE)),PropFixtIncent,2,FALSE)),IF(ISERROR(VLOOKUP(CONCATENATE(J60,\" from ANY\"),PropFixtIncent,2,FALSE)),0,VLOOKUP(CONCATENATE(J60,\" from ANY\"),PropFixtIncent,2,FALSE))),0)","v":0},"N",{"$f":"IF(AG60=\"PASS/PASS\",W60,\"0\")","v":"0"},{"$f":"IF(AG60=\"PASS/PASS\",Y60,\"0\")","v":"0"},null,{"$f":"IF(AND($CB60=\"fixture\",OR($D60=\"CFL\",$D60=\"INCAN\")),VLOOKUP(E60,Incan_Lookup,7,FALSE)*$G60*H60+VLOOKUP(E60,Incan_Lookup,6,FALSE)*$N60*P60,IF(AND($CB60=\"lamp\",OR($D60=\"CFL\",$D60=\"INCAN\")),VLOOKUP(E60,Incan_Lookup,10,FALSE)*$G60*H60+VLOOKUP(E60,Incan_Lookup,9,FALSE)*$N60*P60,IF($D60=\"OTHER\",$G60*$H60,IF($CB60=\"lamp\",(VLOOKUP($E60,ExistFixtLookup,10,FALSE)*H60+VLOOKUP($E60,ExistFixtLookup,9,FALSE)*N60*P60),IF($CB60=\"fixture\",(VLOOKUP($E60,ExistFixtLookup,7,FALSE)*H60+VLOOKUP($E60,ExistFixtLookup,6,FALSE)*N60*P60),$G60)))))","v":""},"",{"$f":"IF(AND(ISNUMBER(BD60),ISNUMBER(W60),$CB60=\"lamp\"),(W60*VLOOKUP(E60,ExistFixtLookup,11,FALSE)+AQ60*(BD60-VLOOKUP(E60,ExistFixtLookup,11,FALSE)))/BD60,IF(AND(ISNUMBER(BD60),ISNUMBER(W60),$CB60=\"fixture\"),(W60*VLOOKUP(E60,ExistFixtLookup,8,FALSE)+AQ60*(BD60-VLOOKUP(E60,ExistFixtLookup,8,FALSE)))/BD60,IF(ISNUMBER(W60),W60,0)))","v":0},"",{"$f":"IF(RIGHT(I60,4)=\"Case\",W60,IF(AND(AL60=\"Y\",AF60<1),0,IF(OR(LEFT(D60,2)=\"T5\",LEFT(D60,3)=\"CFL\",'Analysis 103L'!AS60=\"Less\"),'Analysis 103L'!AR60,'Analysis 103L'!W60)))","v":""},null,0,0,null,{"$error":"#VALUE!"},{"$error":"#VALUE!"},{"$error":"#VALUE!"},null,null,{"$f":"IF(RIGHT(I60,4)=\"Case\",'LED Case Lighting'!$AY$1,IF(J60=\"\",\"\",VLOOKUP(J60,Lookups!$A$30:$J$172,VLOOKUP('100L Information'!$AI$46,Lookups!$J$3:$L$6,3,FALSE),FALSE)))","v":""},{"$f":"IF(B60=\"Exterior\", INDEX($BW$28:$BW$48, $BX$229), IF(OR(BusType=\"Manufacturing\",BusType=\"Indoor Agriculture\",BusType=\"Ag/Dairy/Livestock\",BusType=\"Food/Beverage Production\",BusType=\"Industrial Fabrication\"), IF(Q60<3500, \"1-Shift Industrial\", IF(Q60<5500, \"2-Shift Industrial\", IF(Q60<8000, \"3-Shift Industrial\", \"Flat - ele\"))), INDEX($BV$28:$BV$48, $BX$229)))","v":{"$error":"#N/A"}},"","",{"$error":"#VALUE!"},{"$error":"#VALUE!"},{"$error":"#VALUE!"},{"$f":"VLOOKUP(E60,ExistFixtCat,3,FALSE)/(H60*IF(ISNUMBER(VALUE(MID(E60,5,1))),VALUE(MID(E60,5,1)),1)*Q60)","v":{"$error":"#N/A"}},{"$f":"IF(ISERROR(-PV(POWER(1+Discount_Rate,$BK60)-1,$BD60/$BK60,10+VLOOKUP($E60,ExistFixtCat,2,FALSE))),0,-PV(POWER(1+Discount_Rate,$BK60)-1,$BD60/$BK60,10+VLOOKUP($E60,ExistFixtCat,2,FALSE)))","v":0},{"$f":"VLOOKUP($J60,PropOpLife,3,FALSE)/($P60*IF(ISNUMBER(VALUE(MID($J60,5,1))),VALUE(MID($J60,5,1)),1)*$Q60)","v":{"$error":"#N/A"}},{"$f":"IF(OR(ISERROR(-PV(POWER(1+Discount_Rate,$BM60)-1,$BD60/$BM60,MIN(R60,10+0.5*VLOOKUP($J60,PropOpLife,2,FALSE)))),BL60=0),0,-PV(POWER(1+Discount_Rate,$BM60)-1,$BD60/$BM60,MIN(R60,10+0.5*VLOOKUP($J60,PropOpLife,2,FALSE))))","v":0},{"$error":"#VALUE!"},{"$error":"#VALUE!"},{"$error":"#VALUE!"},"FAIL",null,null,null,null,null,null,null,"Interior / Exterior",null,{"$f":"IF(I60=\"\",\"\",VLOOKUP(I60,FixVsLamp,2,FALSE))","v":""},null,{"$f":"IF(RIGHT(I60,4)=\"Case\",(INDEX('LED Case Lighting'!$AZ$3:$AZ$36,MATCH('Analysis 103L'!$CK60,'LED Case Lighting'!$AS$3:$AS$36,0))),IF(CB60=0,0,IF(CB60=\"lamp\",((Q60/VLOOKUP(B60,Int_Ext,2,FALSE))*VLOOKUP(E60,NEB,16,FALSE)),IF(CB60=\"fixture\",((Q60/VLOOKUP(B60,Int_Ext,2,FALSE))*VLOOKUP(E60,NEB,14,FALSE)),\"\"))))","v":""},null,{"$f":"IF(RIGHT(I60,4)=\"Case\",INDEX('Equipment Type'!$V$4:$V$53, MATCH('Analysis 103L'!$K60, 'Equipment Type'!$A$4:$A$53, 0)), \"\")","v":""},"","","","","",{"$f":"IF(CK60=\"\", \"\", INDEX('LED Case Lighting'!$AR$3:$AR$36, MATCH('Analysis 103L'!CK60, 'LED Case Lighting'!$AS$3:$AS$36, 0)))","v":""},{"$f":"IF(CK60=\"\", \"\", INDEX('LED Case Lighting'!$AW$3:$AW$36, MATCH('Analysis 103L'!CK60, 'LED Case Lighting'!$AS$3:$AS$36, 0)))","v":""},{"$f":"IF(CK60=\"\", \"\", INDEX('LED Case Lighting'!$AX$3:$AX$36, MATCH('Analysis 103L'!CK60, 'LED Case Lighting'!$AS$3:$AS$36, 0)))","v":""},""]
[34,null,null,null,null,null,"",null,{"$f":"IF(K61=\"\",\"\",VLOOKUP(K61,'Equipment Type'!$A$1:$F$53,5,FALSE))","v":""},{"$f":"IF(K61=\"\",\"\",VLOOKUP(K61,'Equipment Type'!$A$1:$F$53,6,FALSE))","v":""},null,{"$f":"IF(K61=\"\",\"\",VLOOKUP(K61,'Equipment Type'!$A$1:$F$53,4,FALSE))","v":""},null,{"$f":"IF(K61=\"\",\"\",INDEX('Equipment Type'!$T$4:$T$53,MATCH('Analysis 103L'!K61,'Equipment Type'!$A$4:$A$53,0)))","v":""},"",null,{"$f":"IF(RIGHT(I61, 4)=\"Case\", \"\", IF(P61=\"\",\"\",(IF(ISNUMBER(SEARCH(\"exit\",J61)),8760,IF(B61=\"Exterior\",4380,'Analysis 103L'!$J$3)))))","v":""},null,"","","","","","","","",{"$f":"IF('100L Information'!$Z$5=\"Yes\",0,IF('100L Information'!$Z$4=\"Yes\",(MIN($Y$232-(-$Y$227),6000)*0.5)*(Y61/$Y$232),$Y$232*(Y61/($Y$230+$Y$231))))","v":{"$error":"#VALUE!"}},"",{"$error":"#VALUE!"},"No requirement",0,{"$f":"IF(OR(Z61=\"Does not meet requirement\",AND('100L Information'!$AA$21=\"No\",AL61=\"Y\"),AND('100L Information'!$AS$21=FALSE,AL61=\"Y\")),0,IF(ISNUMBER(R61*Incent_Cost_Fixture_Rx),MIN(R61*Incent_Cost_Fixture_Rx,(MAX(AE61,AK61))),0))","v":0},"FAIL","0","0","0",0,{"$f":"IF(ISNUMBER(VLOOKUP(J61,PublicSector,13,FALSE)),\"Y\",\"N\")","v":"N"},"0","0",null,"","",0,"",{"$f":"IF(RIGHT(I61,4)=\"Case\",W61,IF(AND(AL61=\"Y\",AF61<1),0,IF(OR(LEFT(D61,2)=\"T5\",LEFT(D61,3)=\"CFL\",'Analysis 103L'!AS61=\"Less\"),'Analysis 103L'!AR61,'Analysis 103L'!W61)))","v":""},null,0,0,null,{"$error":"#VALUE!"},{"$error":"#VALUE!"},{"$error":"#VALUE!"},null,null,{"$f":"IF(RIGHT(I61,4)=\"Case\",'LED Case Lighting'!$AY$1,IF(J61=\"\",\"\",VLOOKUP(J61,Lookups!$A$30:$J$172,VLOOKUP('100L Information'!$AI$46,Lookups!$J$3:$L$6,3,FALSE),FALSE)))","v":""},{"$error":"#N/A"},"","",{"$error":"#VALUE!"},{"$error":"#VALUE!"},{"$error":"#VALUE!"},{"$error":"#N/A"},0,{"$error":"#N/A"},0,{"$error":"#VALUE!"},{"$error":"#VALUE!"},{"$error":"#VALUE!"},"FAIL",null,null,null,null,null,null,null,"Interior / Exterior",null,"",null,{"$f":"IF(RIGHT(I61,4)=\"Case\",(INDEX('LED Case Lighting'!$AZ$3:$AZ$36,MATCH('Analysis 103L'!$CK61,'LED Case Lighting'!$AS$3:$AS$36,0))),IF(CB61=0,0,IF(CB61=\"lamp\",((Q61/VLOOKUP(B61,Int_Ext,2,FALSE))*VLOOKUP(E61,NEB,16,FALSE)),IF(CB61=\"fixture\",((Q61/VLOOKUP(B61,Int_Ext,2,FALSE))*VLOOKUP(E61,NEB,14,FALSE)),\"\"))))","v":""},null,{"$f":"IF(RIGHT(I61,4)=\"Case\",INDEX('Equipment Type'!$V$4:$V$53, MATCH('Analysis 103L'!$K61, 'Equipment Type'!$A$4:$A$53, 0)), \"\")","v":""},"","","","","",{"$f":"IF(CK61=\"\", \"\", INDEX('LED Case Lighting'!$AR$3:$AR$36, MATCH('Analysis 103L'!CK61, 'LED Case Lighting'!$AS$3:$AS$36, 0)))","v":""},{"$f":"IF(CK61=\"\", \"\", INDEX('LED Case Lighting'!$AW$3:$AW$36, MATCH('Analysis 103L'!CK61, 'LED Case Lighting'!$AS$3:$AS$36, 0)))","v":""},{"$f":"IF(CK61=\"\", \"\", INDEX('LED Case Lighting'!$AX$3:$AX$36, MATCH('Analysis 103L'!CK61, 'LED Case Lighting'!$AS$3:$AS$36, 0)))","v":""},""]
[35,null,null,null,null,null,"",null,{"$f":"IF(K62=\"\",\"\",VLOOKUP(K62,'Equipment Type'!$A$1:$F$53,5,FALSE))","v":""},{"$f":"IF(K62=\"\",\"\",VLOOKUP(K62,'Equipment Type'!$A$1:$F$53,6,FALSE))","v":""},null,{"$f":"IF(K62=\"\",\"\",VLOOKUP(K62,'Equipment Type'!$A$1:$F$53,4,FALSE))","v":""},null,{"$f":"IF(K62=\"\",\"\",INDEX('Equipment Type'!$T$4:$T$53,MATCH('Analysis 103L'!K62,'Equipment Type'!$A$4:$A$53,0)))","v":""},"",null,{"$f":"IF(RIGHT(I62, 4)=\"Case\", \"\", IF(P62=\"\",\"\",(IF(ISNUMBER(SEARCH(\"exit\",J62)),8760,IF(B62=\"Exterior\",4380,'Analysis 103L'!$J$3)))))","v":""},null,"","","","","","","","",{"$f":"IF('100L Information'!$Z$5=\"Yes\",0,IF('100L Information'!$Z$4=\"Yes\",(MIN($Y$232-(-$Y$227),6000)*0.5)*(Y62/$Y$232),$Y$232*(Y62/($Y$230+$Y$231))))","v":{"$error":"#VALUE!"}},"",{"$error":"#VALUE!"},"No requirement",0,{"$f":"IF(OR(Z62=\"Does not meet requirement\",AND('100L Information'!$AA$21=\"No\",AL62=\"Y\"),AND('100L Information'!$AS$21=FALSE,AL62=\"Y\")),0,IF(ISNUMBER(R62*Incent_Cost_Fixture_Rx),MIN(R62*Incent_Cost_Fixture_Rx,(MAX(AE62,AK62))),0))","v":0},"FAIL","0","0","0",0,"N","0","0",null,"","",0,"",{"$f":"IF(RIGHT(I62,4)=\"Case\",W62,IF(AND(AL62=\"Y\",AF62<1),0,IF(OR(LEFT(D62,2)=\"T5\",LEFT(D62,3)=\"CFL\",'Analysis 103L'!AS62=\"Less\"),'Analysis 103L'!AR62,'Analysis 103L'!W62)))","v":""},null,0,0,null,{"$error":"#VALUE!"},{"$error":"#VALUE!"},{"$error":"#VALUE!"},null,null,{"$f":"IF(RIGHT(I62,4)=\"Case\",'LED Case Lighting'!$AY$1,IF(J62=\"\",\"\",VLOOKUP(J62,Lookups!$A$30:$J$172,VLOOKUP('100L Information'!$AI$46,Lookups!$J$3:$L$6,3,FALSE),FALSE)))","v":""},{"$error":"#N/A"},"","",{"$error":"#VALUE!"},{"$error":"#VALUE!"},{"$error":"#VALUE!"},{"$error":"#N/A"},0,{"$error":"#N/A"},0,{"$error":"#VALUE!"},{"$error":"#VALUE!"},{"$error":"#VALUE!"},"FAIL",null,null,null,null,null,null,null,"Interior / Exterior",null,"",null,{"$f":"IF(RIGHT(I62,4)=\"Case\",(INDEX('LED Case Lighting'!$AZ$3:$AZ$36,MATCH('Analysis 103L'!$CK62,'LED Case Lighting'!$AS$3:$AS$36,0))),IF(CB62=0,0,IF(CB62=\"lamp\",((Q62/VLOOKUP(B62,Int_Ext,2,FALSE))*VLOOKUP(E62,NEB,16,FALSE)),IF(CB62=\"fixture\",((Q62/VLOOKUP(B62,Int_Ext,2,FALSE))*VLOOKUP(E62,NEB,14,FALSE)),\"\"))))","v":""},null,{"$f":"IF(RIGHT(I62,4)=\"Case\",INDEX('Equipment Type'!$V$4:$V$53, MATCH('Analysis 103L'!$K62, 'Equipment Type'!$A$4:$A$53, 0)), \"\")","v":""},"","","","","",{"$f":"IF(CK62=\"\", \"\", INDEX('LED Case Lighting'!$AR$3:$AR$36, MATCH('Analysis 103L'!CK62, 'LED Case Lighting'!$AS$3:$AS$36, 0)))","v":""},{"$f":"IF(CK62=\"\", \"\", INDEX('LED Case Lighting'!$AW$3:$AW$36, MATCH('Analysis 103L'!CK62, 'LED Case Lighting'!$AS$3:$AS$36, 0)))","v":""},{"$f":"IF(CK62=\"\", \"\", INDEX('LED Case Lighting'!$AX$3:$AX$36, MATCH('Analysis 103L'!CK62, 'LED Case Lighting'!$AS$3:$AS$36, 0)))","v":""},""]
[36,null,null,null,null,null,"",null,{"$f":"IF(K63=\"\",\"\",VLOOKUP(K63,'Equipment Type'!$A$1:$F$53,5,FALSE))","v":""},{"$f":"IF(K63=\"\",\"\",VLOOKUP(K63,'Equipment Type'!$A$1:$F$53,6,FALSE))","v":""},null,{"$f":"IF(K63=\"\",\"\",VLOOKUP(K63,'Equipment Type'!$A$1:$F$53,4,FALSE))","v":""},null,{"$f":"IF(K63=\"\",\"\",INDEX('Equipment Type'!$T$4:$T$53,MATCH('Analysis 103L'!K63,'Equipment Type'!$A$4:$A$53,0)))","v":""},"",null,{"$f":"IF(RIGHT(I63, 4)=\"Case\", \"\", IF(P63=\"\",\"\",(IF(ISNUMBER(SEARCH(\"exit\",J63)),8760,IF(B63=\"Exterior\",4380,'Analysis 103L'!$J$3)))))","v":""},null,"","","","","","","","",{"$f":"IF('100L Information'!$Z$5=\"Yes\",0,IF('100L Information'!$Z$4=\"Yes\",(MIN($Y$232-(-$Y$227),6000)*0.5)*(Y63/$Y$232),$Y$232*(Y63/($Y$230+$Y$231))))","v":{"$error":"#VALUE!"}},"",{"$error":"#VALUE!"},"No requirement",0,{"$f":"IF(OR(Z63=\"Does not meet requirement\",AND('100L Information'!$AA$21=\"No\",AL63=\"Y\"),AND('100L Information'!$AS$21=FALSE,AL63=\"Y\")),0,IF(ISNUMBER(R63*Incent_Cost_Fixture_Rx),MIN(R63*Incent_Cost_Fixture_Rx,(MAX(AE63,AK63))),0))","v":0},"FAIL","0","0","0",0,"N","0","0",null,"","",0,"",{"$f":"IF(RIGHT(I63,4)=\"Case\",W63,IF(AND(AL63=\"Y\",AF63<1),0,IF(OR(LEFT(D63,2)=\"T5\",LEFT(D63,3)=\"CFL\",'Analysis 103L'!AS63=\"Less\"),'Analysis 103L'!AR63,'Analysis 103L'!W63)))","v":""},null,0,0,null,{"$error":"#VALUE!"},{"$error":"#VALUE!"},{"$error":"#VALUE!"},null,null,{"$f":"IF(RIGHT(I63,4)=\"Case\",'LED Case Lighting'!$AY$1,IF(J63=\"\",\"\",VLOOKUP(J63,Lookups!$A$30:$J$172,VLOOKUP('100L Information'!$AI$46,Lookups!$J$3:$L$6,3,FALSE),FALSE)))","v":""},{"$error":"#N/A"},"","",{"$error":"#VALUE!"},{"$error":"#VALUE!"},{"$error":"#VALUE!"},{"$error":"#N/A"},0,{"$error":"#N/A"},0,{"$error":"#VALUE!"},{"$error":"#VALUE!"},{"$error":"#VALUE!"},"FAIL",null,null,null,null,null,null,null,"Interior / Exterior",null,"",null,{"$f":"IF(RIGHT(I63,4)=\"Case\",(INDEX('LED Case Lighting'!$AZ$3:$AZ$36,MATCH('Analysis 103L'!$CK63,'LED Case Lighting'!$AS$3:$AS$36,0))),IF(CB63=0,0,IF(CB63=\"lamp\",((Q63/VLOOKUP(B63,Int_Ext,2,FALSE))*VLOOKUP(E63,NEB,16,FALSE)),IF(CB63=\"fixture\",((Q63/VLOOKUP(B63,Int_Ext,2,FALSE))*VLOOKUP(E63,NEB,14,FALSE)),\"\"))))","v":""},null,{"$f":"IF(RIGHT(I63,4)=\"Case\",INDEX('Equipment Type'!$V$4:$V$53, MATCH('Analysis 103L'!$K63, 'Equipment Type'!$A$4:$A$53, 0)), \"\")","v":""},"","","","","",{"$f":"IF(CK63=\"\", \"\", INDEX('LED Case Lighting'!$AR$3:$AR$36, MATCH('Analysis 103L'!CK63, 'LED Case Lighting'!$AS$3:$AS$36, 0)))","v":""},{"$f":"IF(CK63=\"\", \"\", INDEX('LED Case Lighting'!$AW$3:$AW$36, MATCH('Analysis 103L'!CK63, 'LED Case Lighting'!$AS$3:$AS$36, 0)))","v":""},{"$f":"IF(CK63=\"\", \"\", INDEX('LED Case Lighting'!$AX$3:$AX$36, MATCH('Analysis 103L'!CK63, 'LED Case Lighting'!$AS$3:$AS$36, 0)))","v":""},""]
[37,null,null,null,null,null,"",null,{"$f":"IF(K64=\"\",\"\",VLOOKUP(K64,'Equipment Type'!$A$1:$F$53,5,FALSE))","v":""},{"$f":"IF(K64=\"\",\"\",VLOOKUP(K64,'Equipment Type'!$A$1:$F$53,6,FALSE))","v":""},null,{"$f":"IF(K64=\"\",\"\",VLOOKUP(K64,'Equipment Type'!$A$1:$F$53,4,FALSE))","v":""},null,{"$f":"IF(K64=\"\",\"\",INDEX('Equipment Type'!$T$4:$T$53,MATCH('Analysis 103L'!K64,'Equipment Type'!$A$4:$A$53,0)))","v":""},"",null,{"$f":"IF(RIGHT(I64, 4)=\"Case\", \"\", IF(P64=\"\",\"\",(IF(ISNUMBER(SEARCH(\"exit\",J64)),8760,IF(B64=\"Exterior\",4380,'Analysis 103L'!$J$3)))))","v":""},null,"","","","","","","","",{"$f":"IF('100L Information'!$Z$5=\"Yes\",0,IF('100L Information'!$Z$4=\"Yes\",(MIN($Y$232-(-$Y$227),6000)*0.5)*(Y64/$Y$232),$Y$232*(Y64/($Y$230+$Y$231))))","v":{"$error":"#VALUE!"}},"",{"$error":"#VALUE!"},"No requirement",0,{"$f":"IF(OR(Z64=\"Does not meet requirement\",AND('100L Information'!$AA$21=\"No\",AL64=\"Y\"),AND('100L Information'!$AS$21=FALSE,AL64=\"Y\")),0,IF(ISNUMBER(R64*Incent_Cost_Fixture_Rx),MIN(R64*Incent_Cost_Fixture_Rx,(MAX(AE64,AK64))),0))","v":0},"FAIL","0","0","0",0,"N","0","0",null,"","",0,"",{"$f":"IF(RIGHT(I64,4)=\"Case\",W64,IF(AND(AL64=\"Y\",AF64<1),0,IF(OR(LEFT(D64,2)=\"T5\",LEFT(D64,3)=\"CFL\",'Analysis 103L'!AS64=\"Less\"),'Analysis 103L'!AR64,'Analysis 103L'!W64)))","v":""},null,0,0,null,{"$error":"#VALUE!"},{"$error":"#VALUE!"},{"$error":"#VALUE!"},null,null,{"$f":"IF(RIGHT(I64,4)=\"Case\",'LED Case Lighting'!$AY$1,IF(J64=\"\",\"\",VLOOKUP(J64,Lookups!$A$30:$J$172,VLOOKUP('100L Information'!$AI$46,Lookups!$J$3:$L$6,3,FALSE),FALSE)))","v":""},{"$error":"#N/A"},"","",{"$error":"#VALUE!"},{"$error":"#VALUE!"},{"$error":"#VALUE!"},{"$error":"#N/A"},0,{"$error":"#N/A"},0,{"$error":"#VALUE!"},{"$error":"#VALUE!"},{"$error":"#VALUE!"},"FAIL",null,null,null,null,null,null,null,"Interior / Exterior",null,"",null,{"$f":"IF(RIGHT(I64,4)=\"Case\",(INDEX('LED Case Lighting'!$AZ$3:$AZ$36,MATCH('Analysis 103L'!$CK64,'LED Case Lighting'!$AS$3:$AS$36,0))),IF(CB64=0,0,IF(CB64=\"lamp\",((Q64/VLOOKUP(B64,Int_Ext,2,FALSE))*VLOOKUP(E64,NEB,16,FALSE)),IF(CB64=\"fixture\",((Q64/VLOOKUP(B64,Int_Ext,2,FALSE))*VLOOKUP(E64,NEB,14,FALSE)),\"\"))))","v":""},null,{"$f":"IF(RIGHT(I64,4)=\"Case\",INDEX('Equipment Type'!$V$4:$V$53, MATCH('Analysis 103L'!$K64, 'Equipment Type'!$A$4:$A$53, 0)), \"\")","v":""},"","","","","",{"$f":"IF(CK64=\"\", \"\", INDEX('LED Case Lighting'!$AR$3:$AR$36, MATCH('Analysis 103L'!CK64, 'LED Case Lighting'!$AS$3:$AS$36, 0)))","v":""},{"$f":"IF(CK64=\"\", \"\", INDEX('LED Case Lighting'!$AW$3:$AW$36, MATCH('Analysis 103L'!CK64, 'LED Case Lighting'!$AS$3:$AS$36, 0)))","v":""},{"$f":"IF(CK64=\"\", \"\", INDEX('LED Case Lighting'!$AX$3:$AX$36, MATCH('Analysis 103L'!CK64, 'LED Case Lighting'!$AS$3:$AS$36, 0)))","v":""},""]
[38,null,null,null,null,null,"",null,{"$f":"IF(K65=\"\",\"\",VLOOKUP(K65,'Equipment Type'!$A$1:$F$53,5,FALSE))","v":""},{"$f":"IF(K65=\"\",\"\",VLOOKUP(K65,'Equipment Type'!$A$1:$F$53,6,FALSE))","v":""},null,{"$f":"IF(K65=\"\",\"\",VLOOKUP(K65,'Equipment Type'!$A$1:$F$53,4,FALSE))","v":""},null,{"$f":"IF(K65=\"\",\"\",INDEX('Equipment Type'!$T$4:$T$53,MATCH('Analysis 103L'!K65,'Equipment Type'!$A$4:$A$53,0)))","v":""},"",null,{"$f":"IF(RIGHT(I65, 4)=\"Case\", \"\", IF(P65=\"\",\"\",(IF(ISNUMBER(SEARCH(\"exit\",J65)),8760,IF(B65=\"Exterior\",4380,'Analysis 103L'!$J$3)))))","v":""},null,"","","","","","","","",{"$f":"IF('100L Information'!$Z$5=\"Yes\",0,IF('100L Information'!$Z$4=\"Yes\",(MIN($Y$232-(-$Y$227),6000)*0.5)*(Y65/$Y$232),$Y$232*(Y65/($Y$230+$Y$231))))","v":{"$error":"#VALUE!"}},"",{"$error":"#VALUE!"},"No requirement",0,{"$f":"IF(OR(Z65=\"Does not meet requirement\",AND('100L Information'!$AA$21=\"No\",AL65=\"Y\"),AND('100L Information'!$AS$21=FALSE,AL65=\"Y\")),0,IF(ISNUMBER(R65*Incent_Cost_Fixture_Rx),MIN(R65*Incent_Cost_Fixture_Rx,(MAX(AE65,AK65))),0))","v":0},"FAIL","0","0","0",0,"N","0","0",null,"","",0,"",{"$f":"IF(RIGHT(I65,4)=\"Case\",W65,IF(AND(AL65=\"Y\",AF65<1),0,IF(OR(LEFT(D65,2)=\"T5\",LEFT(D65,3)=\"CFL\",'Analysis 103L'!AS65=\"Less\"),'Analysis 103L'!AR65,'Analysis 103L'!W65)))","v":""},null,0,0,null,{"$error":"#VALUE!"},{"$error":"#VALUE!"},{"$error":"#VALUE!"},null,null,{"$f":"IF(RIGHT(I65,4)=\"Case\",'LED Case Lighting'!$AY$1,IF(J65=\"\",\"\",VLOOKUP(J65,Lookups!$A$30:$J$172,VLOOKUP('100L Information'!$AI$46,Lookups!$J$3:$L$6,3,FALSE),FALSE)))","v":""},{"$error":"#N/A"},"","",{"$error":"#VALUE!"},{"$error":"#VALUE!"},{"$error":"#VALUE!"},{"$error":"#N/A"},0,{"$error":"#N/A"},0,{"$error":"#VALUE!"},{"$error":"#VALUE!"},{"$error":"#VALUE!"},"FAIL",null,null,null,null,null,null,null,"Interior / Exterior",null,"",null,{"$f":"IF(RIGHT(I65,4)=\"Case\",(INDEX('LED Case Lighting'!$AZ$3:$AZ$36,MATCH('Analysis 103L'!$CK65,'LED Case Lighting'!$AS$3:$AS$36,0))),IF(CB65=0,0,IF(CB65=\"lamp\",((Q65/VLOOKUP(B65,Int_Ext,2,FALSE))*VLOOKUP(E65,NEB,16,FALSE)),IF(CB65=\"fixture\",((Q65/VLOOKUP(B65,Int_Ext,2,FALSE))*VLOOKUP(E65,NEB,14,FALSE)),\"\"))))","v":""},null,{"$f":"IF(RIGHT(I65,4)=\"Case\",INDEX('Equipment Type'!$V$4:$V$53, MATCH('Analysis 103L'!$K65, 'Equipment Type'!$A$4:$A$53, 0)), \"\")","v":""},"","","","","",{"$f":"IF(CK65=\"\", \"\", INDEX('LED Case Lighting'!$AR$3:$AR$36, MATCH('Analysis 103L'!CK65, 'LED Case Lighting'!$AS$3:$AS$36, 0)))","v":""},{"$f":"IF(CK65=\"\", \"\", INDEX('LED Case Lighting'!$AW$3:$AW$36, MATCH('Analysis 103L'!CK65, 'LED Case Lighting'!$AS$3:$AS$36, 0)))","v":""},{"$f":"IF(CK65=\"\", \"\", INDEX('LED Case Lighting'!$AX$3:$AX$36, MATCH('Analysis 103L'!CK65, 'LED Case Lighting'!$AS$3:$AS$36, 0)))","v":""},""]
[39,null,null,null,null,null,"",null,{"$f":"IF(K66=\"\",\"\",VLOOKUP(K66,'Equipment Type'!$A$1:$F$53,5,FALSE))","v":""},{"$f":"IF(K66=\"\",\"\",VLOOKUP(K66,'Equipment Type'!$A$1:$F$53,6,FALSE))","v":""},null,{"$f":"IF(K66=\"\",\"\",VLOOKUP(K66,'Equipment Type'!$A$1:$F$53,4,FALSE))","v":""},null,{"$f":"IF(K66=\"\",\"\",INDEX('Equipment Type'!$T$4:$T$53,MATCH('Analysis 103L'!K66,'Equipment Type'!$A$4:$A$53,0)))","v":""},"",null,{"$f":"IF(RIGHT(I66, 4)=\"Case\", \"\", IF(P66=\"\",\"\",(IF(ISNUMBER(SEARCH(\"exit\",J66)),8760,IF(B66=\"Exterior\",4380,'Analysis 103L'!$J$3)))))","v":""},null,"","","","","","","","",{"$f":"IF('100L Information'!$Z$5=\"Yes\",0,IF('100L Information'!$Z$4=\"Yes\",(MIN($Y$232-(-$Y$227),6000)*0.5)*(Y66/$Y$232),$Y$232*(Y66/($Y$230+$Y$231))))","v":{"$error":"#VALUE!"}},"",{"$error":"#VALUE!"},"No requirement",0,{"$f":"IF(OR(Z66=\"Does not meet requirement\",AND('100L Information'!$AA$21=\"No\",AL66=\"Y\"),AND('100L Information'!$AS$21=FALSE,AL66=\"Y\")),0,IF(ISNUMBER(R66*Incent_Cost_Fixture_Rx),MIN(R66*Incent_Cost_Fixture_Rx,(MAX(AE66,AK66))),0))","v":0},"FAIL","0","0","0",0,"N","0","0",null,"","",0,"",{"$f":"IF(RIGHT(I66,4)=\"Case\",W66,IF(AND(AL66=\"Y\",AF66<1),0,IF(OR(LEFT(D66,2)=\"T5\",LEFT(D66,3)=\"CFL\",'Analysis 103L'!AS66=\"Less\"),'Analysis 103L'!AR66,'Analysis 103L'!W66)))","v":""},null,0,0,null,{"$error":"#VALUE!"},{"$error":"#VALUE!"},{"$error":"#VALUE!"},null,null,{"$f":"IF(RIGHT(I66,4)=\"Case\",'LED Case Lighting'!$AY$1,IF(J66=\"\",\"\",VLOOKUP(J66,Lookups!$A$30:$J$172,VLOOKUP('100L Information'!$AI$46,Lookups!$J$3:$L$6,3,FALSE),FALSE)))","v":""},{"$error":"#N/A"},"","",{"$error":"#VALUE!"},{"$error":"#VALUE!"},{"$error":"#VALUE!"},{"$error":"#N/A"},0,{"$error":"#N/A"},0,{"$error":"#VALUE!"},{"$error":"#VALUE!"},{"$error":"#VALUE!"},"FAIL",null,null,null,null,null,null,null,"Interior / Exterior",null,"",null,{"$f":"IF(RIGHT(I66,4)=\"Case\",(INDEX('LED Case Lighting'!$AZ$3:$AZ$36,MATCH('Analysis 103L'!$CK66,'LED Case Lighting'!$AS$3:$AS$36,0))),IF(CB66=0,0,IF(CB66=\"lamp\",((Q66/VLOOKUP(B66,Int_Ext,2,FALSE))*VLOOKUP(E66,NEB,16,FALSE)),IF(CB66=\"fixture\",((Q66/VLOOKUP(B66,Int_Ext,2,FALSE))*VLOOKUP(E66,NEB,14,FALSE)),\"\"))))","v":""},null,{"$f":"IF(RIGHT(I66,4)=\"Case\",INDEX('Equipment Type'!$V$4:$V$53, MATCH('Analysis 103L'!$K66, 'Equipment Type'!$A$4:$A$53, 0)), \"\")","v":""},"","","","","",{"$f":"IF(CK66=\"\", \"\", INDEX('LED Case Lighting'!$AR$3:$AR$36, MATCH('Analysis 103L'!CK66, 'LED Case Lighting'!$AS$3:$AS$36, 0)))","v":""},{"$f":"IF(CK66=\"\", \"\", INDEX('LED Case Lighting'!$AW$3:$AW$36, MATCH('Analysis 103L'!CK66, 'LED Case Lighting'!$AS$3:$AS$36, 0)))","v":""},{"$f":"IF(CK66=\"\", \"\", INDEX('LED Case Lighting'!$AX$3:$AX$36, MATCH('Analysis 103L'!CK66, 'LED Case Lighting'!$AS$3:$AS$36, 0)))","v":""},""]
[40,null,null,null,null,null,"",null,{"$f":"IF(K67=\"\",\"\",VLOOKUP(K67,'Equipment Type'!$A$1:$F$53,5,FALSE))","v":""},{"$f":"IF(K67=\"\",\"\",VLOOKUP(K67,'Equipment Type'!$A$1:$F$53,6,FALSE))","v":""},null,{"$f":"IF(K67=\"\",\"\",VLOOKUP(K67,'Equipment Type'!$A$1:$F$53,4,FALSE))","v":""},null,{"$f":"IF(K67=\"\",\"\",INDEX('Equipment Type'!$T$4:$T$53,MATCH('Analysis 103L'!K67,'Equipment Type'!$A$4:$A$53,0)))","v":""},"",null,{"$f":"IF(RIGHT(I67, 4)=\"Case\", \"\", IF(P67=\"\",\"\",(IF(ISNUMBER(SEARCH(\"exit\",J67)),8760,IF(B67=\"Exterior\",4380,'Analysis 103L'!$J$3)))))","v":""},null,"","","","","","","","",{"$f":"IF('100L Information'!$Z$5=\"Yes\",0,IF('100L Information'!$Z$4=\"Yes\",(MIN($Y$232-(-$Y$227),6000)*0.5)*(Y67/$Y$232),$Y$232*(Y67/($Y$230+$Y$231))))","v":{"$error":"#VALUE!"}},"",{"$error":"#VALUE!"},"No requirement",0,{"$f":"IF(OR(Z67=\"Does not meet requirement\",AND('100L Information'!$AA$21=\"No\",AL67=\"Y\"),AND('100L Information'!$AS$21=FALSE,AL67=\"Y\")),0,IF(ISNUMBER(R67*Incent_Cost_Fixture_Rx),MIN(R67*Incent_Cost_Fixture_Rx,(MAX(AE67,AK67))),0))","v":0},"FAIL","0","0","0",0,"N","0","0",null,"","",0,"",{"$f":"IF(RIGHT(I67,4)=\"Case\",W67,IF(AND(AL67=\"Y\",AF67<1),0,IF(OR(LEFT(D67,2)=\"T5\",LEFT(D67,3)=\"CFL\",'Analysis 103L'!AS67=\"Less\"),'Analysis 103L'!AR67,'Analysis 103L'!W67)))","v":""},null,0,0,null,{"$error":"#VALUE!"},{"$error":"#VALUE!"},{"$error":"#VALUE!"},null,null,{"$f":"IF(RIGHT(I67,4)=\"Case\",'LED Case Lighting'!$AY$1,IF(J67=\"\",\"\",VLOOKUP(J67,Lookups!$A$30:$J$172,VLOOKUP('100L Information'!$AI$46,Lookups!$J$3:$L$6,3,FALSE),FALSE)))","v":""},{"$error":"#N/A"},"","",{"$error":"#VALUE!"},{"$error":"#VALUE!"},{"$error":"#VALUE!"},{"$error":"#N/A"},0,{"$error":"#N/A"},0,{"$error":"#VALUE!"},{"$error":"#VALUE!"},{"$error":"#VALUE!"},"FAIL",null,null,null,null,null,null,null,"Interior / Exterior",null,"",null,{"$f":"IF(RIGHT(I67,4)=\"Case\",(INDEX('LED Case Lighting'!$AZ$3:$AZ$36,MATCH('Analysis 103L'!$CK67,'LED Case Lighting'!$AS$3:$AS$36,0))),IF(CB67=0,0,IF(CB67=\"lamp\",((Q67/VLOOKUP(B67,Int_Ext,2,FALSE))*VLOOKUP(E67,NEB,16,FALSE)),IF(CB67=\"fixture\",((Q67/VLOOKUP(B67,Int_Ext,2,FALSE))*VLOOKUP(E67,NEB,14,FALSE)),\"\"))))","v":""},null,{"$f":"IF(RIGHT(I67,4)=\"Case\",INDEX('Equipment Type'!$V$4:$V$53, MATCH('Analysis 103L'!$K67, 'Equipment Type'!$A$4:$A$53, 0)), \"\")","v":""},"","","","","",{"$f":"IF(CK67=\"\", \"\", INDEX('LED Case Lighting'!$AR$3:$AR$36, MATCH('Analysis 103L'!CK67, 'LED Case Lighting'!$AS$3:$AS$36, 0)))","v":""},{"$f":"IF(CK67=\"\", \"\", INDEX('LED Case Lighting'!$AW$3:$AW$36, MATCH('Analysis 103L'!CK67, 'LED Case Lighting'!$AS$3:$AS$36, 0)))","v":""},{"$f":"IF(CK67=\"\", \"\", INDEX('LED Case Lighting'!$AX$3:$AX$36, MATCH('Analysis 103L'!CK67, 'LED Case Lighting'!$AS$3:$AS$36, 0)))","v":""},""]
[41,null,null,null,null,null,"",null,{"$f":"IF(K68=\"\",\"\",VLOOKUP(K68,'Equipment Type'!$A$1:$F$53,5,FALSE))","v":""},{"$f":"IF(K68=\"\",\"\",VLOOKUP(K68,'Equipment Type'!$A$1:$F$53,6,FALSE))","v":""},null,{"$f":"IF(K68=\"\",\"\",VLOOKUP(K68,'Equipment Type'!$A$1:$F$53,4,FALSE))","v":""},null,{"$f":"IF(K68=\"\",\"\",INDEX('Equipment Type'!$T$4:$T$53,MATCH('Analysis 103L'!K68,'Equipment Type'!$A$4:$A$53,0)))","v":""},"",null,{"$f":"IF(RIGHT(I68, 4)=\"Case\", \"\", IF(P68=\"\",\"\",(IF(ISNUMBER(SEARCH(\"exit\",J68)),8760,IF(B68=\"Exterior\",4380,'Analysis 103L'!$J$3)))))","v":""},null,"","","","","","","","",{"$f":"IF('100L Information'!$Z$5=\"Yes\",0,IF('100L Information'!$Z$4=\"Yes\",(MIN($Y$232-(-$Y$227),6000)*0.5)*(Y68/$Y$232),$Y$232*(Y68/($Y$230+$Y$231))))","v":{"$error":"#VALUE!"}},"",{"$error":"#VALUE!"},"No requirement",0,{"$f":"IF(OR(Z68=\"Does not meet requirement\",AND('100L Information'!$AA$21=\"No\",AL68=\"Y\"),AND('100L Information'!$AS$21=FALSE,AL68=\"Y\")),0,IF(ISNUMBER(R68*Incent_Cost_Fixture_Rx),MIN(R68*Incent_Cost_Fixture_Rx,(MAX(AE68,AK68))),0))","v":0},"FAIL","0","0","0",0,"N","0","0",null,"","",0,"",{"$f":"IF(RIGHT(I68,4)=\"Case\",W68,IF(AND(AL68=\"Y\",AF68<1),0,IF(OR(LEFT(D68,2)=\"T5\",LEFT(D68,3)=\"CFL\",'Analysis 103L'!AS68=\"Less\"),'Analysis 103L'!AR68,'Analysis 103L'!W68)))","v":""},null,0,0,null,{"$error":"#VALUE!"},{"$error":"#VALUE!"},{"$error":"#VALUE!"},null,null,{"$f":"IF(RIGHT(I68,4)=\"Case\",'LED Case Lighting'!$AY$1,IF(J68=\"\",\"\",VLOOKUP(J68,Lookups!$A$30:$J$172,VLOOKUP('100L Information'!$AI$46,Lookups!$J$3:$L$6,3,FALSE),FALSE)))","v":""},{"$error":"#N/A"},"","",{"$error":"#VALUE!"},{"$error":"#VALUE!"},{"$error":"#VALUE!"},{"$error":"#N/A"},0,{"$error":"#N/A"},0,{"$error":"#VALUE!"},{"$error":"#VALUE!"},{"$error":"#VALUE!"},"FAIL",null,null,null,null,null,null,null,"Interior / Exterior",null,"",null,{"$f":"IF(RIGHT(I68,4)=\"Case\",(INDEX('LED Case Lighting'!$AZ$3:$AZ$36,MATCH('Analysis 103L'!$CK68,'LED Case Lighting'!$AS$3:$AS$36,0))),IF(CB68=0,0,IF(CB68=\"lamp\",((Q68/VLOOKUP(B68,Int_Ext,2,FALSE))*VLOOKUP(E68,NEB,16,FALSE)),IF(CB68=\"fixture\",((Q68/VLOOKUP(B68,Int_Ext,2,FALSE))*VLOOKUP(E68,NEB,14,FALSE)),\"\"))))","v":""},null,{"$f":"IF(RIGHT(I68,4)=\"Case\",INDEX('Equipment Type'!$V$4:$V$53, MATCH('Analysis 103L'!$K68, 'Equipment Type'!$A$4:$A$53, 0)), \"\")","v":""},"","","","","",{"$f":"IF(CK68=\"\", \"\", INDEX('LED Case Lighting'!$AR$3:$AR$36, MATCH('Analysis 103L'!CK68, 'LED Case Lighting'!$AS$3:$AS$36, 0)))","v":""},{"$f":"IF(CK68=\"\", \"\", INDEX('LED Case Lighting'!$AW$3:$AW$36, MATCH('Analysis 103L'!CK68, 'LED Case Lighting'!$AS$3:$AS$36, 0)))","v":""},{"$f":"IF(CK68=\"\", \"\", INDEX('LED Case Lighting'!$AX$3:$AX$36, MATCH('Analysis 103L'!CK68, 'LED Case Lighting'!$AS$3:$AS$36, 0)))","v":""},""]
[42,null,null,null,null,null,"",null,{"$f":"IF(K69=\"\",\"\",VLOOKUP(K69,'Equipment Type'!$A$1:$F$53,5,FALSE))","v":""},{"$f":"IF(K69=\"\",\"\",VLOOKUP(K69,'Equipment Type'!$A$1:$F$53,6,FALSE))","v":""},null,{"$f":"IF(K69=\"\",\"\",VLOOKUP(K69,'Equipment Type'!$A$1:$F$53,4,FALSE))","v":""},null,{"$f":"IF(K69=\"\",\"\",INDEX('Equipment Type'!$T$4:$T$53,MATCH('Analysis 103L'!K69,'Equipment Type'!$A$4:$A$53,0)))","v":""},"",null,{"$f":"IF(RIGHT(I69, 4)=\"Case\", \"\", IF(P69=\"\",\"\",(IF(ISNUMBER(SEARCH(\"exit\",J69)),8760,IF(B69=\"Exterior\",4380,'Analysis 103L'!$J$3)))))","v":""},null,"","","","","","","","",{"$f":"IF('100L Information'!$Z$5=\"Yes\",0,IF('100L Information'!$Z$4=\"Yes\",(MIN($Y$232-(-$Y$227),6000)*0.5)*(Y69/$Y$232),$Y$232*(Y69/($Y$230+$Y$231))))","v":{"$error":"#VALUE!"}},"",{"$error":"#VALUE!"},"No requirement",0,{"$f":"IF(OR(Z69=\"Does not meet requirement\",AND('100L Information'!$AA$21=\"No\",AL69=\"Y\"),AND('100L Information'!$AS$21=FALSE,AL69=\"Y\")),0,IF(ISNUMBER(R69*Incent_Cost_Fixture_Rx),MIN(R69*Incent_Cost_Fixture_Rx,(MAX(AE69,AK69))),0))","v":0},"FAIL","0","0","0",0,"N","0","0",null,"","",0,"",{"$f":"IF(RIGHT(I69,4)=\"Case\",W69,IF(AND(AL69=\"Y\",AF69<1),0,IF(OR(LEFT(D69,2)=\"T5\",LEFT(D69,3)=\"CFL\",'Analysis 103L'!AS69=\"Less\"),'Analysis 103L'!AR69,'Analysis 103L'!W69)))","v":""},null,0,0,null,{"$error":"#VALUE!"},{"$error":"#VALUE!"},{"$error":"#VALUE!"},null,null,{"$f":"IF(RIGHT(I69,4)=\"Case\",'LED Case Lighting'!$AY$1,IF(J69=\"\",\"\",VLOOKUP(J69,Lookups!$A$30:$J$172,VLOOKUP('100L Information'!$AI$46,Lookups!$J$3:$L$6,3,FALSE),FALSE)))","v":""},{"$error":"#N/A"},"","",{"$error":"#VALUE!"},{"$error":"#VALUE!"},{"$error":"#VALUE!"},{"$error":"#N/A"},0,{"$error":"#N/A"},0,{"$error":"#VALUE!"},{"$error":"#VALUE!"},{"$error":"#VALUE!"},"FAIL",null,null,null,null,null,null,null,"Interior / Exterior",null,"",null,{"$f":"IF(RIGHT(I69,4)=\"Case\",(INDEX('LED Case Lighting'!$AZ$3:$AZ$36,MATCH('Analysis 103L'!$CK69,'LED Case Lighting'!$AS$3:$AS$36,0))),IF(CB69=0,0,IF(CB69=\"lamp\",((Q69/VLOOKUP(B69,Int_Ext,2,FALSE))*VLOOKUP(E69,NEB,16,FALSE)),IF(CB69=\"fixture\",((Q69/VLOOKUP(B69,Int_Ext,2,FALSE))*VLOOKUP(E69,NEB,14,FALSE)),\"\"))))","v":""},null,{"$f":"IF(RIGHT(I69,4)=\"Case\",INDEX('Equipment Type'!$V$4:$V$53, MATCH('Analysis 103L'!$K69, 'Equipment Type'!$A$4:$A$53, 0)), \"\")","v":""},"","","","","",{"$f":"IF(CK69=\"\", \"\", INDEX('LED Case Lighting'!$AR$3:$AR$36, MATCH('Analysis 103L'!CK69, 'LED Case Lighting'!$AS$3:$AS$36, 0)))","v":""},{"$f":"IF(CK69=\"\", \"\", INDEX('LED Case Lighting'!$AW$3:$AW$36, MATCH('Analysis 103L'!CK69, 'LED Case Lighting'!$AS$3:$AS$36, 0)))","v":""},{"$f":"IF(CK69=\"\", \"\", INDEX('LED Case Lighting'!$AX$3:$AX$36, MATCH('Analysis 103L'!CK69, 'LED Case Lighting'!$AS$3:$AS$36, 0)))","v":""},""]
[43,null,null,null,null,null,"",null,{"$f":"IF(K70=\"\",\"\",VLOOKUP(K70,'Equipment Type'!$A$1:$F$53,5,FALSE))","v":""},{"$f":"IF(K70=\"\",\"\",VLOOKUP(K70,'Equipment Type'!$A$1:$F$53,6,FALSE))","v":""},null,{"$f":"IF(K70=\"\",\"\",VLOOKUP(K70,'Equipment Type'!$A$1:$F$53,4,FALSE))","v":""},null,{"$f":"IF(K70=\"\",\"\",INDEX('Equipment Type'!$T$4:$T$53,MATCH('Analysis 103L'!K70,'Equipment Type'!$A$4:$A$53,0)))","v":""},"",null,{"$f":"IF(RIGHT(I70, 4)=\"Case\", \"\", IF(P70=\"\",\"\",(IF(ISNUMBER(SEARCH(\"exit\",J70)),8760,IF(B70=\"Exterior\",4380,'Analysis 103L'!$J$3)))))","v":""},null,"","","","","","","","",{"$f":"IF('100L Information'!$Z$5=\"Yes\",0,IF('100L Information'!$Z$4=\"Yes\",(MIN($Y$232-(-$Y$227),6000)*0.5)*(Y70/$Y$232),$Y$232*(Y70/($Y$230+$Y$231))))","v":{"$error":"#VALUE!"}},"",{"$error":"#VALUE!"},"No requirement",0,{"$f":"IF(OR(Z70=\"Does not meet requirement\",AND('100L Information'!$AA$21=\"No\",AL70=\"Y\"),AND('100L Information'!$AS$21=FALSE,AL70=\"Y\")),0,IF(ISNUMBER(R70*Incent_Cost_Fixture_Rx),MIN(R70*Incent_Cost_Fixture_Rx,(MAX(AE70,AK70))),0))","v":0},"FAIL","0","0","0",0,"N","0","0",null,"","",0,"",{"$f":"IF(RIGHT(I70,4)=\"Case\",W70,IF(AND(AL70=\"Y\",AF70<1),0,IF(OR(LEFT(D70,2)=\"T5\",LEFT(D70,3)=\"CFL\",'Analysis 103L'!AS70=\"Less\"),'Analysis 103L'!AR70,'Analysis 103L'!W70)))","v":""},null,0,0,null,{"$error":"#VALUE!"},{"$error":"#VALUE!"},{"$error":"#VALUE!"},null,null,{"$f":"IF(RIGHT(I70,4)=\"Case\",'LED Case Lighting'!$AY$1,IF(J70=\"\",\"\",VLOOKUP(J70,Lookups!$A$30:$J$172,VLOOKUP('100L Information'!$AI$46,Lookups!$J$3:$L$6,3,FALSE),FALSE)))","v":""},{"$error":"#N/A"},"","",{"$error":"#VALUE!"},{"$error":"#VALUE!"},{"$error":"#VALUE!"},{"$error":"#N/A"},0,{"$error":"#N/A"},0,{"$error":"#VALUE!"},{"$error":"#VALUE!"},{"$error":"#VALUE!"},"FAIL",null,null,null,null,null,null,null,"Interior / Exterior",null,"",null,{"$f":"IF(RIGHT(I70,4)=\"Case\",(INDEX('LED Case Lighting'!$AZ$3:$AZ$36,MATCH('Analysis 103L'!$CK70,'LED Case Lighting'!$AS$3:$AS$36,0))),IF(CB70=0,0,IF(CB70=\"lamp\",((Q70/VLOOKUP(B70,Int_Ext,2,FALSE))*VLOOKUP(E70,NEB,16,FALSE)),IF(CB70=\"fixture\",((Q70/VLOOKUP(B70,Int_Ext,2,FALSE))*VLOOKUP(E70,NEB,14,FALSE)),\"\"))))","v":""},null,{"$f":"IF(RIGHT(I70,4)=\"Case\",INDEX('Equipment Type'!$V$4:$V$53, MATCH('Analysis 103L'!$K70, 'Equipment Type'!$A$4:$A$53, 0)), \"\")","v":""},"","","","","",{"$f":"IF(CK70=\"\", \"\", INDEX('LED Case Lighting'!$AR$3:$AR$36, MATCH('Analysis 103L'!CK70, 'LED Case Lighting'!$AS$3:$AS$36, 0)))","v":""},{"$f":"IF(CK70=\"\", \"\", INDEX('LED Case Lighting'!$AW$3:$AW$36, MATCH('Analysis 103L'!CK70, 'LED Case Lighting'!$AS$3:$AS$36, 0)))","v":""},{"$f":"IF(CK70=\"\", \"\", INDEX('LED Case Lighting'!$AX$3:$AX$36, MATCH('Analysis 103L'!CK70, 'LED Case Lighting'!$AS$3:$AS$36, 0)))","v":""},""]
[44,null,null,null,null,null,"",null,{"$f":"IF(K71=\"\",\"\",VLOOKUP(K71,'Equipment Type'!$A$1:$F$53,5,FALSE))","v":""},{"$f":"IF(K71=\"\",\"\",VLOOKUP(K71,'Equipment Type'!$A$1:$F$53,6,FALSE))","v":""},null,{"$f":"IF(K71=\"\",\"\",VLOOKUP(K71,'Equipment Type'!$A$1:$F$53,4,FALSE))","v":""},null,{"$f":"IF(K71=\"\",\"\",INDEX('Equipment Type'!$T$4:$T$53,MATCH('Analysis 103L'!K71,'Equipment Type'!$A$4:$A$53,0)))","v":""},"",null,{"$f":"IF(RIGHT(I71, 4)=\"Case\", \"\", IF(P71=\"\",\"\",(IF(ISNUMBER(SEARCH(\"exit\",J71)),8760,IF(B71=\"Exterior\",4380,'Analysis 103L'!$J$3)))))","v":""},null,"","","","","","","","",{"$f":"IF('100L Information'!$Z$5=\"Yes\",0,IF('100L Information'!$Z$4=\"Yes\",(MIN($Y$232-(-$Y$227),6000)*0.5)*(Y71/$Y$232),$Y$232*(Y71/($Y$230+$Y$231))))","v":{"$error":"#VALUE!"}},"",{"$error":"#VALUE!"},"No requirement",0,{"$f":"IF(OR(Z71=\"Does not meet requirement\",AND('100L Information'!$AA$21=\"No\",AL71=\"Y\"),AND('100L Information'!$AS$21=FALSE,AL71=\"Y\")),0,IF(ISNUMBER(R71*Incent_Cost_Fixture_Rx),MIN(R71*Incent_Cost_Fixture_Rx,(MAX(AE71,AK71))),0))","v":0},"FAIL","0","0","0",0,"N","0","0",null,"","",0,"",{"$f":"IF(RIGHT(I71,4)=\"Case\",W71,IF(AND(AL71=\"Y\",AF71<1),0,IF(OR(LEFT(D71,2)=\"T5\",LEFT(D71,3)=\"CFL\",'Analysis 103L'!AS71=\"Less\"),'Analysis 103L'!AR71,'Analysis 103L'!W71)))","v":""},null,0,0,null,{"$error":"#VALUE!"},{"$error":"#VALUE!"},{"$error":"#VALUE!"},null,null,{"$f":"IF(RIGHT(I71,4)=\"Case\",'LED Case Lighting'!$AY$1,IF(J71=\"\",\"\",VLOOKUP(J71,Lookups!$A$30:$J$172,VLOOKUP('100L Information'!$AI$46,Lookups!$J$3:$L$6,3,FALSE),FALSE)))","v":""},{"$error":"#N/A"},"","",{"$error":"#VALUE!"},{"$error":"#VALUE!"},{"$error":"#VALUE!"},{"$error":"#N/A"},0,{"$error":"#N/A"},0,{"$error":"#VALUE!"},{"$error":"#VALUE!"},{"$error":"#VALUE!"},"FAIL",null,null,null,null,null,null,null,"Interior / Exterior",null,"",null,{"$f":"IF(RIGHT(I71,4)=\"Case\",(INDEX('LED Case Lighting'!$AZ$3:$AZ$36,MATCH('Analysis 103L'!$CK71,'LED Case Lighting'!$AS$3:$AS$36,0))),IF(CB71=0,0,IF(CB71=\"lamp\",((Q71/VLOOKUP(B71,Int_Ext,2,FALSE))*VLOOKUP(E71,NEB,16,FALSE)),IF(CB71=\"fixture\",((Q71/VLOOKUP(B71,Int_Ext,2,FALSE))*VLOOKUP(E71,NEB,14,FALSE)),\"\"))))","v":""},null,{"$f":"IF(RIGHT(I71,4)=\"Case\",INDEX('Equipment Type'!$V$4:$V$53, MATCH('Analysis 103L'!$K71, 'Equipment Type'!$A$4:$A$53, 0)), \"\")","v":""},"","","","","",{"$f":"IF(CK71=\"\", \"\", INDEX('LED Case Lighting'!$AR$3:$AR$36, MATCH('Analysis 103L'!CK71, 'LED Case Lighting'!$AS$3:$AS$36, 0)))","v":""},{"$f":"IF(CK71=\"\", \"\", INDEX('LED Case Lighting'!$AW$3:$AW$36, MATCH('Analysis 103L'!CK71, 'LED Case Lighting'!$AS$3:$AS$36, 0)))","v":""},{"$f":"IF(CK71=\"\", \"\", INDEX('LED Case Lighting'!$AX$3:$AX$36, MATCH('Analysis 103L'!CK71, 'LED Case Lighting'!$AS$3:$AS$36, 0)))","v":""},""]
[45,null,null,null,null,null,"",null,{"$f":"IF(K72=\"\",\"\",VLOOKUP(K72,'Equipment Type'!$A$1:$F$53,5,FALSE))","v":""},{"$f":"IF(K72=\"\",\"\",VLOOKUP(K72,'Equipment Type'!$A$1:$F$53,6,FALSE))","v":""},null,{"$f":"IF(K72=\"\",\"\",VLOOKUP(K72,'Equipment Type'!$A$1:$F$53,4,FALSE))","v":""},null,{"$f":"IF(K72=\"\",\"\",INDEX('Equipment Type'!$T$4:$T$53,MATCH('Analysis 103L'!K72,'Equipment Type'!$A$4:$A$53,0)))","v":""},"",null,{"$f":"IF(RIGHT(I72, 4)=\"Case\", \"\", IF(P72=\"\",\"\",(IF(ISNUMBER(SEARCH(\"exit\",J72)),8760,IF(B72=\"Exterior\",4380,'Analysis 103L'!$J$3)))))","v":""},null,"","","","","","","","",{"$f":"IF('100L Information'!$Z$5=\"Yes\",0,IF('100L Information'!$Z$4=\"Yes\",(MIN($Y$232-(-$Y$227),6000)*0.5)*(Y72/$Y$232),$Y$232*(Y72/($Y$230+$Y$231))))","v":{"$error":"#VALUE!"}},"",{"$error":"#VALUE!"},"No requirement",0,{"$f":"IF(OR(Z72=\"Does not meet requirement\",AND('100L Information'!$AA$21=\"No\",AL72=\"Y\"),AND('100L Information'!$AS$21=FALSE,AL72=\"Y\")),0,IF(ISNUMBER(R72*Incent_Cost_Fixture_Rx),MIN(R72*Incent_Cost_Fixture_Rx,(MAX(AE72,AK72))),0))","v":0},"FAIL","0","0","0",0,"N","0","0",null,"","",0,"",{"$f":"IF(RIGHT(I72,4)=\"Case\",W72,IF(AND(AL72=\"Y\",AF72<1),0,IF(OR(LEFT(D72,2)=\"T5\",LEFT(D72,3)=\"CFL\",'Analysis 103L'!AS72=\"Less\"),'Analysis 103L'!AR72,'Analysis 103L'!W72)))","v":""},null,0,0,null,{"$error":"#VALUE!"},{"$error":"#VALUE!"},{"$error":"#VALUE!"},null,null,{"$f":"IF(RIGHT(I72,4)=\"Case\",'LED Case Lighting'!$AY$1,IF(J72=\"\",\"\",VLOOKUP(J72,Lookups!$A$30:$J$172,VLOOKUP('100L Information'!$AI$46,Lookups!$J$3:$L$6,3,FALSE),FALSE)))","v":""},{"$error":"#N/A"},"","",{"$error":"#VALUE!"},{"$error":"#VALUE!"},{"$error":"#VALUE!"},{"$error":"#N/A"},0,{"$error":"#N/A"},0,{"$error":"#VALUE!"},{"$error":"#VALUE!"},{"$error":"#VALUE!"},"FAIL",null,null,null,null,null,null,null,"Interior / Exterior",null,"",null,{"$f":"IF(RIGHT(I72,4)=\"Case\",(INDEX('LED Case Lighting'!$AZ$3:$AZ$36,MATCH('Analysis 103L'!$CK72,'LED Case Lighting'!$AS$3:$AS$36,0))),IF(CB72=0,0,IF(CB72=\"lamp\",((Q72/VLOOKUP(B72,Int_Ext,2,FALSE))*VLOOKUP(E72,NEB,16,FALSE)),IF(CB72=\"fixture\",((Q72/VLOOKUP(B72,Int_Ext,2,FALSE))*VLOOKUP(E72,NEB,14,FALSE)),\"\"))))","v":""},null,{"$f":"IF(RIGHT(I72,4)=\"Case\",INDEX('Equipment Type'!$V$4:$V$53, MATCH('Analysis 103L'!$K72, 'Equipment Type'!$A$4:$A$53, 0)), \"\")","v":""},"","","","","",{"$f":"IF(CK72=\"\", \"\", INDEX('LED Case Lighting'!$AR$3:$AR$36, MATCH('Analysis 103L'!CK72, 'LED Case Lighting'!$AS$3:$AS$36, 0)))","v":""},{"$f":"IF(CK72=\"\", \"\", INDEX('LED Case Lighting'!$AW$3:$AW$36, MATCH('Analysis 103L'!CK72, 'LED Case Lighting'!$AS$3:$AS$36, 0)))","v":""},{"$f":"IF(CK72=\"\", \"\", INDEX('LED Case Lighting'!$AX$3:$AX$36, MATCH('Analysis 103L'!CK72, 'LED Case Lighting'!$AS$3:$AS$36, 0)))","v":""},""]
[46,null,null,null,null,null,"",null,{"$f":"IF(K73=\"\",\"\",VLOOKUP(K73,'Equipment Type'!$A$1:$F$53,5,FALSE))","v":""},{"$f":"IF(K73=\"\",\"\",VLOOKUP(K73,'Equipment Type'!$A$1:$F$53,6,FALSE))","v":""},null,{"$f":"IF(K73=\"\",\"\",VLOOKUP(K73,'Equipment Type'!$A$1:$F$53,4,FALSE))","v":""},null,{"$f":"IF(K73=\"\",\"\",INDEX('Equipment Type'!$T$4:$T$53,MATCH('Analysis 103L'!K73,'Equipment Type'!$A$4:$A$53,0)))","v":""},"",null,{"$f":"IF(RIGHT(I73, 4)=\"Case\", \"\", IF(P73=\"\",\"\",(IF(ISNUMBER(SEARCH(\"exit\",J73)),8760,IF(B73=\"Exterior\",4380,'Analysis 103L'!$J$3)))))","v":""},null,"","","","","","","","",{"$f":"IF('100L Information'!$Z$5=\"Yes\",0,IF('100L Information'!$Z$4=\"Yes\",(MIN($Y$232-(-$Y$227),6000)*0.5)*(Y73/$Y$232),$Y$232*(Y73/($Y$230+$Y$231))))","v":{"$error":"#VALUE!"}},"",{"$error":"#VALUE!"},"No requirement",0,{"$f":"IF(OR(Z73=\"Does not meet requirement\",AND('100L Information'!$AA$21=\"No\",AL73=\"Y\"),AND('100L Information'!$AS$21=FALSE,AL73=\"Y\")),0,IF(ISNUMBER(R73*Incent_Cost_Fixture_Rx),MIN(R73*Incent_Cost_Fixture_Rx,(MAX(AE73,AK73))),0))","v":0},"FAIL","0","0","0",0,"N","0","0",null,"","",0,"",{"$f":"IF(RIGHT(I73,4)=\"Case\",W73,IF(AND(AL73=\"Y\",AF73<1),0,IF(OR(LEFT(D73,2)=\"T5\",LEFT(D73,3)=\"CFL\",'Analysis 103L'!AS73=\"Less\"),'Analysis 103L'!AR73,'Analysis 103L'!W73)))","v":""},null,0,0,null,{"$error":"#VALUE!"},{"$error":"#VALUE!"},{"$error":"#VALUE!"},null,null,{"$f":"IF(RIGHT(I73,4)=\"Case\",'LED Case Lighting'!$AY$1,IF(J73=\"\",\"\",VLOOKUP(J73,Lookups!$A$30:$J$172,VLOOKUP('100L Information'!$AI$46,Lookups!$J$3:$L$6,3,FALSE),FALSE)))","v":""},{"$error":"#N/A"},"","",{"$error":"#VALUE!"},{"$error":"#VALUE!"},{"$error":"#VALUE!"},{"$error":"#N/A"},0,{"$error":"#N/A"},0,{"$error":"#VALUE!"},{"$error":"#VALUE!"},{"$error":"#VALUE!"},"FAIL",null,null,null,null,null,null,null,"Interior / Exterior",null,"",null,{"$f":"IF(RIGHT(I73,4)=\"Case\",(INDEX('LED Case Lighting'!$AZ$3:$AZ$36,MATCH('Analysis 103L'!$CK73,'LED Case Lighting'!$AS$3:$AS$36,0))),IF(CB73=0,0,IF(CB73=\"lamp\",((Q73/VLOOKUP(B73,Int_Ext,2,FALSE))*VLOOKUP(E73,NEB,16,FALSE)),IF(CB73=\"fixture\",((Q73/VLOOKUP(B73,Int_Ext,2,FALSE))*VLOOKUP(E73,NEB,14,FALSE)),\"\"))))","v":""},null,{"$f":"IF(RIGHT(I73,4)=\"Case\",INDEX('Equipment Type'!$V$4:$V$53, MATCH('Analysis 103L'!$K73, 'Equipment Type'!$A$4:$A$53, 0)), \"\")","v":""},"","","","","",{"$f":"IF(CK73=\"\", \"\", INDEX('LED Case Lighting'!$AR$3:$AR$36, MATCH('Analysis 103L'!CK73, 'LED Case Lighting'!$AS$3:$AS$36, 0)))","v":""},{"$f":"IF(CK73=\"\", \"\", INDEX('LED Case Lighting'!$AW$3:$AW$36, MATCH('Analysis 103L'!CK73, 'LED Case Lighting'!$AS$3:$AS$36, 0)))","v":""},{"$f":"IF(CK73=\"\", \"\", INDEX('LED Case Lighting'!$AX$3:$AX$36, MATCH('Analysis 103L'!CK73, 'LED Case Lighting'!$AS$3:$AS$36, 0)))","v":""},""]
[47,null,null,null,null,null,"",null,{"$f":"IF(K74=\"\",\"\",VLOOKUP(K74,'Equipment Type'!$A$1:$F$53,5,FALSE))","v":""},{"$f":"IF(K74=\"\",\"\",VLOOKUP(K74,'Equipment Type'!$A$1:$F$53,6,FALSE))","v":""},null,{"$f":"IF(K74=\"\",\"\",VLOOKUP(K74,'Equipment Type'!$A$1:$F$53,4,FALSE))","v":""},null,{"$f":"IF(K74=\"\",\"\",INDEX('Equipment Type'!$T$4:$T$53,MATCH('Analysis 103L'!K74,'Equipment Type'!$A$4:$A$53,0)))","v":""},"",null,{"$f":"IF(RIGHT(I74, 4)=\"Case\", \"\", IF(P74=\"\",\"\",(IF(ISNUMBER(SEARCH(\"exit\",J74)),8760,IF(B74=\"Exterior\",4380,'Analysis 103L'!$J$3)))))","v":""},null,"","","","","","","","",{"$f":"IF('100L Information'!$Z$5=\"Yes\",0,IF('100L Information'!$Z$4=\"Yes\",(MIN($Y$232-(-$Y$227),6000)*0.5)*(Y74/$Y$232),$Y$232*(Y74/($Y$230+$Y$231))))","v":{"$error":"#VALUE!"}},"",{"$error":"#VALUE!"},"No requirement",0,{"$f":"IF(OR(Z74=\"Does not meet requirement\",AND('100L Information'!$AA$21=\"No\",AL74=\"Y\"),AND('100L Information'!$AS$21=FALSE,AL74=\"Y\")),0,IF(ISNUMBER(R74*Incent_Cost_Fixture_Rx),MIN(R74*Incent_Cost_Fixture_Rx,(MAX(AE74,AK74))),0))","v":0},"FAIL","0","0","0",0,"N","0","0",null,"","",0,"",{"$f":"IF(RIGHT(I74,4)=\"Case\",W74,IF(AND(AL74=\"Y\",AF74<1),0,IF(OR(LEFT(D74,2)=\"T5\",LEFT(D74,3)=\"CFL\",'Analysis 103L'!AS74=\"Less\"),'Analysis 103L'!AR74,'Analysis 103L'!W74)))","v":""},null,0,0,null,{"$error":"#VALUE!"},{"$error":"#VALUE!"},{"$error":"#VALUE!"},null,null,{"$f":"IF(RIGHT(I74,4)=\"Case\",'LED Case Lighting'!$AY$1,IF(J74=\"\",\"\",VLOOKUP(J74,Lookups!$A$30:$J$172,VLOOKUP('100L Information'!$AI$46,Lookups!$J$3:$L$6,3,FALSE),FALSE)))","v":""},{"$error":"#N/A"},"","",{"$error":"#VALUE!"},{"$error":"#VALUE!"},{"$error":"#VALUE!"},{"$error":"#N/A"},0,{"$error":"#N/A"},0,{"$error":"#VALUE!"},{"$error":"#VALUE!"},{"$error":"#VALUE!"},"FAIL",null,null,null,null,null,null,null,"Interior / Exterior",null,"",null,{"$f":"IF(RIGHT(I74,4)=\"Case\",(INDEX('LED Case Lighting'!$AZ$3:$AZ$36,MATCH('Analysis 103L'!$CK74,'LED Case Lighting'!$AS$3:$AS$36,0))),IF(CB74=0,0,IF(CB74=\"lamp\",((Q74/VLOOKUP(B74,Int_Ext,2,FALSE))*VLOOKUP(E74,NEB,16,FALSE)),IF(CB74=\"fixture\",((Q74/VLOOKUP(B74,Int_Ext,2,FALSE))*VLOOKUP(E74,NEB,14,FALSE)),\"\"))))","v":""},null,{"$f":"IF(RIGHT(I74,4)=\"Case\",INDEX('Equipment Type'!$V$4:$V$53, MATCH('Analysis 103L'!$K74, 'Equipment Type'!$A$4:$A$53, 0)), \"\")","v":""},"","","","","",{"$f":"IF(CK74=\"\", \"\", INDEX('LED Case Lighting'!$AR$3:$AR$36, MATCH('Analysis 103L'!CK74, 'LED Case Lighting'!$AS$3:$AS$36, 0)))","v":""},{"$f":"IF(CK74=\"\", \"\", INDEX('LED Case Lighting'!$AW$3:$AW$36, MATCH('Analysis 103L'!CK74, 'LED Case Lighting'!$AS$3:$AS$36, 0)))","v":""},{"$f":"IF(CK74=\"\", \"\", INDEX('LED Case Lighting'!$AX$3:$AX$36, MATCH('Analysis 103L'!CK74, 'LED Case Lighting'!$AS$3:$AS$36, 0)))","v":""},""]
[48,null,null,null,null,null,"",null,{"$f":"IF(K75=\"\",\"\",VLOOKUP(K75,'Equipment Type'!$A$1:$F$53,5,FALSE))","v":""},{"$f":"IF(K75=\"\",\"\",VLOOKUP(K75,'Equipment Type'!$A$1:$F$53,6,FALSE))","v":""},null,{"$f":"IF(K75=\"\",\"\",VLOOKUP(K75,'Equipment Type'!$A$1:$F$53,4,FALSE))","v":""},null,{"$f":"IF(K75=\"\",\"\",INDEX('Equipment Type'!$T$4:$T$53,MATCH('Analysis 103L'!K75,'Equipment Type'!$A$4:$A$53,0)))","v":""},"",null,{"$f":"IF(RIGHT(I75, 4)=\"Case\", \"\", IF(P75=\"\",\"\",(IF(ISNUMBER(SEARCH(\"exit\",J75)),8760,IF(B75=\"Exterior\",4380,'Analysis 103L'!$J$3)))))","v":""},null,"","","","","","","","",{"$f":"IF('100L Information'!$Z$5=\"Yes\",0,IF('100L Information'!$Z$4=\"Yes\",(MIN($Y$232-(-$Y$227),6000)*0.5)*(Y75/$Y$232),$Y$232*(Y75/($Y$230+$Y$231))))","v":{"$error":"#VALUE!"}},"",{"$error":"#VALUE!"},"No requirement",0,{"$f":"IF(OR(Z75=\"Does not meet requirement\",AND('100L Information'!$AA$21=\"No\",AL75=\"Y\"),AND('100L Information'!$AS$21=FALSE,AL75=\"Y\")),0,IF(ISNUMBER(R75*Incent_Cost_Fixture_Rx),MIN(R75*Incent_Cost_Fixture_Rx,(MAX(AE75,AK75))),0))","v":0},"FAIL","0","0","0",0,"N","0","0",null,"","",0,"",{"$f":"IF(RIGHT(I75,4)=\"Case\",W75,IF(AND(AL75=\"Y\",AF75<1),0,IF(OR(LEFT(D75,2)=\"T5\",LEFT(D75,3)=\"CFL\",'Analysis 103L'!AS75=\"Less\"),'Analysis 103L'!AR75,'Analysis 103L'!W75)))","v":""},null,0,0,null,{"$error":"#VALUE!"},{"$error":"#VALUE!"},{"$error":"#VALUE!"},null,null,{"$f":"IF(RIGHT(I75,4)=\"Case\",'LED Case Lighting'!$AY$1,IF(J75=\"\",\"\",VLOOKUP(J75,Lookups!$A$30:$J$172,VLOOKUP('100L Information'!$AI$46,Lookups!$J$3:$L$6,3,FALSE),FALSE)))","v":""},{"$error":"#N/A"},"","",{"$error":"#VALUE!"},{"$error":"#VALUE!"},{"$error":"#VALUE!"},{"$error":"#N/A"},0,{"$error":"#N/A"},0,{"$error":"#VALUE!"},{"$error":"#VALUE!"},{"$error":"#VALUE!"},"FAIL",null,null,null,null,null,null,null,"Interior / Exterior",null,"",null,{"$f":"IF(RIGHT(I75,4)=\"Case\",(INDEX('LED Case Lighting'!$AZ$3:$AZ$36,MATCH('Analysis 103L'!$CK75,'LED Case Lighting'!$AS$3:$AS$36,0))),IF(CB75=0,0,IF(CB75=\"lamp\",((Q75/VLOOKUP(B75,Int_Ext,2,FALSE))*VLOOKUP(E75,NEB,16,FALSE)),IF(CB75=\"fixture\",((Q75/VLOOKUP(B75,Int_Ext,2,FALSE))*VLOOKUP(E75,NEB,14,FALSE)),\"\"))))","v":""},null,{"$f":"IF(RIGHT(I75,4)=\"Case\",INDEX('Equipment Type'!$V$4:$V$53, MATCH('Analysis 103L'!$K75, 'Equipment Type'!$A$4:$A$53, 0)), \"\")","v":""},"","","","","",{"$f":"IF(CK75=\"\", \"\", INDEX('LED Case Lighting'!$AR$3:$AR$36, MATCH('Analysis 103L'!CK75, 'LED Case Lighting'!$AS$3:$AS$36, 0)))","v":""},{"$f":"IF(CK75=\"\", \"\", INDEX('LED Case Lighting'!$AW$3:$AW$36, MATCH('Analysis 103L'!CK75, 'LED Case Lighting'!$AS$3:$AS$36, 0)))","v":""},{"$f":"IF(CK75=\"\", \"\", INDEX('LED Case Lighting'!$AX$3:$AX$36, MATCH('Analysis 103L'!CK75, 'LED Case Lighting'!$AS$3:$AS$36, 0)))","v":""},""]
[49,null,null,null,null,null,"",null,{"$f":"IF(K76=\"\",\"\",VLOOKUP(K76,'Equipment Type'!$A$1:$F$53,5,FALSE))","v":""},{"$f":"IF(K76=\"\",\"\",VLOOKUP(K76,'Equipment Type'!$A$1:$F$53,6,FALSE))","v":""},null,{"$f":"IF(K76=\"\",\"\",VLOOKUP(K76,'Equipment Type'!$A$1:$F$53,4,FALSE))","v":""},null,{"$f":"IF(K76=\"\",\"\",INDEX('Equipment Type'!$T$4:$T$53,MATCH('Analysis 103L'!K76,'Equipment Type'!$A$4:$A$53,0)))","v":""},"",null,{"$f":"IF(RIGHT(I76, 4)=\"Case\", \"\", IF(P76=\"\",\"\",(IF(ISNUMBER(SEARCH(\"exit\",J76)),8760,IF(B76=\"Exterior\",4380,'Analysis 103L'!$J$3)))))","v":""},null,"","","","","","","","",{"$f":"IF('100L Information'!$Z$5=\"Yes\",0,IF('100L Information'!$Z$4=\"Yes\",(MIN($Y$232-(-$Y$227),6000)*0.5)*(Y76/$Y$232),$Y$232*(Y76/($Y$230+$Y$231))))","v":{"$error":"#VALUE!"}},"",{"$error":"#VALUE!"},"No requirement",0,{"$f":"IF(OR(Z76=\"Does not meet requirement\",AND('100L Information'!$AA$21=\"No\",AL76=\"Y\"),AND('100L Information'!$AS$21=FALSE,AL76=\"Y\")),0,IF(ISNUMBER(R76*Incent_Cost_Fixture_Rx),MIN(R76*Incent_Cost_Fixture_Rx,(MAX(AE76,AK76))),0))","v":0},"FAIL","0","0","0",0,"N","0","0",null,"","",0,"",{"$f":"IF(RIGHT(I76,4)=\"Case\",W76,IF(AND(AL76=\"Y\",AF76<1),0,IF(OR(LEFT(D76,2)=\"T5\",LEFT(D76,3)=\"CFL\",'Analysis 103L'!AS76=\"Less\"),'Analysis 103L'!AR76,'Analysis 103L'!W76)))","v":""},null,0,0,null,{"$error":"#VALUE!"},{"$error":"#VALUE!"},{"$error":"#VALUE!"},null,null,{"$f":"IF(RIGHT(I76,4)=\"Case\",'LED Case Lighting'!$AY$1,IF(J76=\"\",\"\",VLOOKUP(J76,Lookups!$A$30:$J$172,VLOOKUP('100L Information'!$AI$46,Lookups!$J$3:$L$6,3,FALSE),FALSE)))","v":""},{"$error":"#N/A"},"","",{"$error":"#VALUE!"},{"$error":"#VALUE!"},{"$error":"#VALUE!"},{"$error":"#N/A"},0,{"$error":"#N/A"},0,{"$error":"#VALUE!"},{"$error":"#VALUE!"},{"$error":"#VALUE!"},"FAIL",null,null,null,null,null,null,null,"Interior / Exterior",null,"",null,{"$f":"IF(RIGHT(I76,4)=\"Case\",(INDEX('LED Case Lighting'!$AZ$3:$AZ$36,MATCH('Analysis 103L'!$CK76,'LED Case Lighting'!$AS$3:$AS$36,0))),IF(CB76=0,0,IF(CB76=\"lamp\",((Q76/VLOOKUP(B76,Int_Ext,2,FALSE))*VLOOKUP(E76,NEB,16,FALSE)),IF(CB76=\"fixture\",((Q76/VLOOKUP(B76,Int_Ext,2,FALSE))*VLOOKUP(E76,NEB,14,FALSE)),\"\"))))","v":""},null,{"$f":"IF(RIGHT(I76,4)=\"Case\",INDEX('Equipment Type'!$V$4:$V$53, MATCH('Analysis 103L'!$K76, 'Equipment Type'!$A$4:$A$53, 0)), \"\")","v":""},"","","","","",{"$f":"IF(CK76=\"\", \"\", INDEX('LED Case Lighting'!$AR$3:$AR$36, MATCH('Analysis 103L'!CK76, 'LED Case Lighting'!$AS$3:$AS$36, 0)))","v":""},{"$f":"IF(CK76=\"\", \"\", INDEX('LED Case Lighting'!$AW$3:$AW$36, MATCH('Analysis 103L'!CK76, 'LED Case Lighting'!$AS$3:$AS$36, 0)))","v":""},{"$f":"IF(CK76=\"\", \"\", INDEX('LED Case Lighting'!$AX$3:$AX$36, MATCH('Analysis 103L'!CK76, 'LED Case Lighting'!$AS$3:$AS$36, 0)))","v":""},""]
[50,null,null,null,null,null,"",null,{"$f":"IF(K77=\"\",\"\",VLOOKUP(K77,'Equipment Type'!$A$1:$F$53,5,FALSE))","v":""},{"$f":"IF(K77=\"\",\"\",VLOOKUP(K77,'Equipment Type'!$A$1:$F$53,6,FALSE))","v":""},null,{"$f":"IF(K77=\"\",\"\",VLOOKUP(K77,'Equipment Type'!$A$1:$F$53,4,FALSE))","v":""},null,{"$f":"IF(K77=\"\",\"\",INDEX('Equipment Type'!$T$4:$T$53,MATCH('Analysis 103L'!K77,'Equipment Type'!$A$4:$A$53,0)))","v":""},"",null,{"$f":"IF(RIGHT(I77, 4)=\"Case\", \"\", IF(P77=\"\",\"\",(IF(ISNUMBER(SEARCH(\"exit\",J77)),8760,IF(B77=\"Exterior\",4380,'Analysis 103L'!$J$3)))))","v":""},null,"","","","","","","","",{"$f":"IF('100L Information'!$Z$5=\"Yes\",0,IF('100L Information'!$Z$4=\"Yes\",(MIN($Y$232-(-$Y$227),6000)*0.5)*(Y77/$Y$232),$Y$232*(Y77/($Y$230+$Y$231))))","v":{"$error":"#VALUE!"}},"",{"$error":"#VALUE!"},"No requirement",0,{"$f":"IF(OR(Z77=\"Does not meet requirement\",AND('100L Information'!$AA$21=\"No\",AL77=\"Y\"),AND('100L Information'!$AS$21=FALSE,AL77=\"Y\")),0,IF(ISNUMBER(R77*Incent_Cost_Fixture_Rx),MIN(R77*Incent_Cost_Fixture_Rx,(MAX(AE77,AK77))),0))","v":0},"FAIL","0","0","0",0,"N","0","0",null,"","",0,"",{"$f":"IF(RIGHT(I77,4)=\"Case\",W77,IF(AND(AL77=\"Y\",AF77<1),0,IF(OR(LEFT(D77,2)=\"T5\",LEFT(D77,3)=\"CFL\",'Analysis 103L'!AS77=\"Less\"),'Analysis 103L'!AR77,'Analysis 103L'!W77)))","v":""},null,0,0,null,{"$error":"#VALUE!"},{"$error":"#VALUE!"},{"$error":"#VALUE!"},null,null,{"$f":"IF(RIGHT(I77,4)=\"Case\",'LED Case Lighting'!$AY$1,IF(J77=\"\",\"\",VLOOKUP(J77,Lookups!$A$30:$J$172,VLOOKUP('100L Information'!$AI$46,Lookups!$J$3:$L$6,3,FALSE),FALSE)))","v":""},{"$error":"#N/A"},"","",{"$error":"#VALUE!"},{"$error":"#VALUE!"},{"$error":"#VALUE!"},{"$error":"#N/A"},0,{"$error":"#N/A"},0,{"$error":"#VALUE!"},{"$error":"#VALUE!"},{"$error":"#VALUE!"},"FAIL",null,null,null,null,null,null,null,"Interior / Exterior",null,"",null,{"$f":"IF(RIGHT(I77,4)=\"Case\",(INDEX('LED Case Lighting'!$AZ$3:$AZ$36,MATCH('Analysis 103L'!$CK77,'LED Case Lighting'!$AS$3:$AS$36,0))),IF(CB77=0,0,IF(CB77=\"lamp\",((Q77/VLOOKUP(B77,Int_Ext,2,FALSE))*VLOOKUP(E77,NEB,16,FALSE)),IF(CB77=\"fixture\",((Q77/VLOOKUP(B77,Int_Ext,2,FALSE))*VLOOKUP(E77,NEB,14,FALSE)),\"\"))))","v":""},null,{"$f":"IF(RIGHT(I77,4)=\"Case\",INDEX('Equipment Type'!$V$4:$V$53, MATCH('Analysis 103L'!$K77, 'Equipment Type'!$A$4:$A$53, 0)), \"\")","v":""},"","","","","",{"$f":"IF(CK77=\"\", \"\", INDEX('LED Case Lighting'!$AR$3:$AR$36, MATCH('Analysis 103L'!CK77, 'LED Case Lighting'!$AS$3:$AS$36, 0)))","v":""},{"$f":"IF(CK77=\"\", \"\", INDEX('LED Case Lighting'!$AW$3:$AW$36, MATCH('Analysis 103L'!CK77, 'LED Case Lighting'!$AS$3:$AS$36, 0)))","v":""},{"$f":"IF(CK77=\"\", \"\", INDEX('LED Case Lighting'!$AX$3:$AX$36, MATCH('Analysis 103L'!CK77, 'LED Case Lighting'!$AS$3:$AS$36, 0)))","v":""},""]
[51,null,null,null,null,null,"",null,{"$f":"IF(K78=\"\",\"\",VLOOKUP(K78,'Equipment Type'!$A$1:$F$53,5,FALSE))","v":""},{"$f":"IF(K78=\"\",\"\",VLOOKUP(K78,'Equipment Type'!$A$1:$F$53,6,FALSE))","v":""},null,{"$f":"IF(K78=\"\",\"\",VLOOKUP(K78,'Equipment Type'!$A$1:$F$53,4,FALSE))","v":""},null,{"$f":"IF(K78=\"\",\"\",INDEX('Equipment Type'!$T$4:$T$53,MATCH('Analysis 103L'!K78,'Equipment Type'!$A$4:$A$53,0)))","v":""},"",null,{"$f":"IF(RIGHT(I78, 4)=\"Case\", \"\", IF(P78=\"\",\"\",(IF(ISNUMBER(SEARCH(\"exit\",J78)),8760,IF(B78=\"Exterior\",4380,'Analysis 103L'!$J$3)))))","v":""},null,"","","","","","","","",{"$f":"IF('100L Information'!$Z$5=\"Yes\",0,IF('100L Information'!$Z$4=\"Yes\",(MIN($Y$232-(-$Y$227),6000)*0.5)*(Y78/$Y$232),$Y$232*(Y78/($Y$230+$Y$231))))","v":{"$error":"#VALUE!"}},"",{"$error":"#VALUE!"},"No requirement",0,{"$f":"IF(OR(Z78=\"Does not meet requirement\",AND('100L Information'!$AA$21=\"No\",AL78=\"Y\"),AND('100L Information'!$AS$21=FALSE,AL78=\"Y\")),0,IF(ISNUMBER(R78*Incent_Cost_Fixture_Rx),MIN(R78*Incent_Cost_Fixture_Rx,(MAX(AE78,AK78))),0))","v":0},"FAIL","0","0","0",0,"N","0","0",null,"","",0,"",{"$f":"IF(RIGHT(I78,4)=\"Case\",W78,IF(AND(AL78=\"Y\",AF78<1),0,IF(OR(LEFT(D78,2)=\"T5\",LEFT(D78,3)=\"CFL\",'Analysis 103L'!AS78=\"Less\"),'Analysis 103L'!AR78,'Analysis 103L'!W78)))","v":""},null,0,0,null,{"$error":"#VALUE!"},{"$error":"#VALUE!"},{"$error":"#VALUE!"},null,null,{"$f":"IF(RIGHT(I78,4)=\"Case\",'LED Case Lighting'!$AY$1,IF(J78=\"\",\"\",VLOOKUP(J78,Lookups!$A$30:$J$172,VLOOKUP('100L Information'!$AI$46,Lookups!$J$3:$L$6,3,FALSE),FALSE)))","v":""},{"$error":"#N/A"},"","",{"$error":"#VALUE!"},{"$error":"#VALUE!"},{"$error":"#VALUE!"},{"$error":"#N/A"},0,{"$error":"#N/A"},0,{"$error":"#VALUE!"},{"$error":"#VALUE!"},{"$error":"#VALUE!"},"FAIL",null,null,null,null,null,null,null,"Interior / Exterior",null,"",null,{"$f":"IF(RIGHT(I78,4)=\"Case\",(INDEX('LED Case Lighting'!$AZ$3:$AZ$36,MATCH('Analysis 103L'!$CK78,'LED Case Lighting'!$AS$3:$AS$36,0))),IF(CB78=0,0,IF(CB78=\"lamp\",((Q78/VLOOKUP(B78,Int_Ext,2,FALSE))*VLOOKUP(E78,NEB,16,FALSE)),IF(CB78=\"fixture\",((Q78/VLOOKUP(B78,Int_Ext,2,FALSE))*VLOOKUP(E78,NEB,14,FALSE)),\"\"))))","v":""},null,{"$f":"IF(RIGHT(I78,4)=\"Case\",INDEX('Equipment Type'!$V$4:$V$53, MATCH('Analysis 103L'!$K78, 'Equipment Type'!$A$4:$A$53, 0)), \"\")","v":""},"","","","","",{"$f":"IF(CK78=\"\", \"\", INDEX('LED Case Lighting'!$AR$3:$AR$36, MATCH('Analysis 103L'!CK78, 'LED Case Lighting'!$AS$3:$AS$36, 0)))","v":""},{"$f":"IF(CK78=\"\", \"\", INDEX('LED Case Lighting'!$AW$3:$AW$36, MATCH('Analysis 103L'!CK78, 'LED Case Lighting'!$AS$3:$AS$36, 0)))","v":""},{"$f":"IF(CK78=\"\", \"\", INDEX('LED Case Lighting'!$AX$3:$AX$36, MATCH('Analysis 103L'!CK78, 'LED Case Lighting'!$AS$3:$AS$36, 0)))","v":""},""]
[52,null,null,null,null,null,"",null,{"$f":"IF(K79=\"\",\"\",VLOOKUP(K79,'Equipment Type'!$A$1:$F$53,5,FALSE))","v":""},{"$f":"IF(K79=\"\",\"\",VLOOKUP(K79,'Equipment Type'!$A$1:$F$53,6,FALSE))","v":""},null,{"$f":"IF(K79=\"\",\"\",VLOOKUP(K79,'Equipment Type'!$A$1:$F$53,4,FALSE))","v":""},null,{"$f":"IF(K79=\"\",\"\",INDEX('Equipment Type'!$T$4:$T$53,MATCH('Analysis 103L'!K79,'Equipment Type'!$A$4:$A$53,0)))","v":""},"",null,{"$f":"IF(RIGHT(I79, 4)=\"Case\", \"\", IF(P79=\"\",\"\",(IF(ISNUMBER(SEARCH(\"exit\",J79)),8760,IF(B79=\"Exterior\",4380,'Analysis 103L'!$J$3)))))","v":""},null,"","","","","","","","",{"$f":"IF('100L Information'!$Z$5=\"Yes\",0,IF('100L Information'!$Z$4=\"Yes\",(MIN($Y$232-(-$Y$227),6000)*0.5)*(Y79/$Y$232),$Y$232*(Y79/($Y$230+$Y$231))))","v":{"$error":"#VALUE!"}},"",{"$error":"#VALUE!"},"No requirement",0,{"$f":"IF(OR(Z79=\"Does not meet requirement\",AND('100L Information'!$AA$21=\"No\",AL79=\"Y\"),AND('100L Information'!$AS$21=FALSE,AL79=\"Y\")),0,IF(ISNUMBER(R79*Incent_Cost_Fixture_Rx),MIN(R79*Incent_Cost_Fixture_Rx,(MAX(AE79,AK79))),0))","v":0},"FAIL","0","0","0",0,"N","0","0",null,"","",0,"",{"$f":"IF(RIGHT(I79,4)=\"Case\",W79,IF(AND(AL79=\"Y\",AF79<1),0,IF(OR(LEFT(D79,2)=\"T5\",LEFT(D79,3)=\"CFL\",'Analysis 103L'!AS79=\"Less\"),'Analysis 103L'!AR79,'Analysis 103L'!W79)))","v":""},null,0,0,null,{"$error":"#VALUE!"},{"$error":"#VALUE!"},{"$error":"#VALUE!"},null,null,{"$f":"IF(RIGHT(I79,4)=\"Case\",'LED Case Lighting'!$AY$1,IF(J79=\"\",\"\",VLOOKUP(J79,Lookups!$A$30:$J$172,VLOOKUP('100L Information'!$AI$46,Lookups!$J$3:$L$6,3,FALSE),FALSE)))","v":""},{"$error":"#N/A"},"","",{"$error":"#VALUE!"},{"$error":"#VALUE!"},{"$error":"#VALUE!"},{"$error":"#N/A"},0,{"$error":"#N/A"},0,{"$error":"#VALUE!"},{"$error":"#VALUE!"},{"$error":"#VALUE!"},"FAIL",null,null,null,null,null,null,null,"Interior / Exterior",null,"",null,{"$f":"IF(RIGHT(I79,4)=\"Case\",(INDEX('LED Case Lighting'!$AZ$3:$AZ$36,MATCH('Analysis 103L'!$CK79,'LED Case Lighting'!$AS$3:$AS$36,0))),IF(CB79=0,0,IF(CB79=\"lamp\",((Q79/VLOOKUP(B79,Int_Ext,2,FALSE))*VLOOKUP(E79,NEB,16,FALSE)),IF(CB79=\"fixture\",((Q79/VLOOKUP(B79,Int_Ext,2,FALSE))*VLOOKUP(E79,NEB,14,FALSE)),\"\"))))","v":""},null,{"$f":"IF(RIGHT(I79,4)=\"Case\",INDEX('Equipment Type'!$V$4:$V$53, MATCH('Analysis 103L'!$K79, 'Equipment Type'!$A$4:$A$53, 0)), \"\")","v":""},"","","","","",{"$f":"IF(CK79=\"\", \"\", INDEX('LED Case Lighting'!$AR$3:$AR$36, MATCH('Analysis 103L'!CK79, 'LED Case Lighting'!$AS$3:$AS$36, 0)))","v":""},{"$f":"IF(CK79=\"\", \"\", INDEX('LED Case Lighting'!$AW$3:$AW$36, MATCH('Analysis 103L'!CK79, 'LED Case Lighting'!$AS$3:$AS$36, 0)))","v":""},{"$f":"IF(CK79=\"\", \"\", INDEX('LED Case Lighting'!$AX$3:$AX$36, MATCH('Analysis 103L'!CK79, 'LED Case Lighting'!$AS$3:$AS$36, 0)))","v":""},""]
[53,null,null,null,null,null,"",null,{"$f":"IF(K80=\"\",\"\",VLOOKUP(K80,'Equipment Type'!$A$1:$F$53,5,FALSE))","v":""},{"$f":"IF(K80=\"\",\"\",VLOOKUP(K80,'Equipment Type'!$A$1:$F$53,6,FALSE))","v":""},null,{"$f":"IF(K80=\"\",\"\",VLOOKUP(K80,'Equipment Type'!$A$1:$F$53,4,FALSE))","v":""},null,{"$f":"IF(K80=\"\",\"\",INDEX('Equipment Type'!$T$4:$T$53,MATCH('Analysis 103L'!K80,'Equipment Type'!$A$4:$A$53,0)))","v":""},"",null,{"$f":"IF(RIGHT(I80, 4)=\"Case\", \"\", IF(P80=\"\",\"\",(IF(ISNUMBER(SEARCH(\"exit\",J80)),8760,IF(B80=\"Exterior\",4380,'Analysis 103L'!$J$3)))))","v":""},null,"","","","","","","","",{"$f":"IF('100L Information'!$Z$5=\"Yes\",0,IF('100L Information'!$Z$4=\"Yes\",(MIN($Y$232-(-$Y$227),6000)*0.5)*(Y80/$Y$232),$Y$232*(Y80/($Y$230+$Y$231))))","v":{"$error":"#VALUE!"}},"",{"$error":"#VALUE!"},"No requirement",0,{"$f":"IF(OR(Z80=\"Does not meet requirement\",AND('100L Information'!$AA$21=\"No\",AL80=\"Y\"),AND('100L Information'!$AS$21=FALSE,AL80=\"Y\")),0,IF(ISNUMBER(R80*Incent_Cost_Fixture_Rx),MIN(R80*Incent_Cost_Fixture_Rx,(MAX(AE80,AK80))),0))","v":0},"FAIL","0","0","0",0,"N","0","0",null,"","",0,"",{"$f":"IF(RIGHT(I80,4)=\"Case\",W80,IF(AND(AL80=\"Y\",AF80<1),0,IF(OR(LEFT(D80,2)=\"T5\",LEFT(D80,3)=\"CFL\",'Analysis 103L'!AS80=\"Less\"),'Analysis 103L'!AR80,'Analysis 103L'!W80)))","v":""},null,0,0,null,{"$error":"#VALUE!"},{"$error":"#VALUE!"},{"$error":"#VALUE!"},null,null,{"$f":"IF(RIGHT(I80,4)=\"Case\",'LED Case Lighting'!$AY$1,IF(J80=\"\",\"\",VLOOKUP(J80,Lookups!$A$30:$J$172,VLOOKUP('100L Information'!$AI$46,Lookups!$J$3:$L$6,3,FALSE),FALSE)))","v":""},{"$error":"#N/A"},"","",{"$error":"#VALUE!"},{"$error":"#VALUE!"},{"$error":"#VALUE!"},{"$error":"#N/A"},0,{"$error":"#N/A"},0,{"$error":"#VALUE!"},{"$error":"#VALUE!"},{"$error":"#VALUE!"},"FAIL",null,null,null,null,null,null,null,"Interior / Exterior",null,"",null,{"$f":"IF(RIGHT(I80,4)=\"Case\",(INDEX('LED Case Lighting'!$AZ$3:$AZ$36,MATCH('Analysis 103L'!$CK80,'LED Case Lighting'!$AS$3:$AS$36,0))),IF(CB80=0,0,IF(CB80=\"lamp\",((Q80/VLOOKUP(B80,Int_Ext,2,FALSE))*VLOOKUP(E80,NEB,16,FALSE)),IF(CB80=\"fixture\",((Q80/VLOOKUP(B80,Int_Ext,2,FALSE))*VLOOKUP(E80,NEB,14,FALSE)),\"\"))))","v":""},null,{"$f":"IF(RIGHT(I80,4)=\"Case\",INDEX('Equipment Type'!$V$4:$V$53, MATCH('Analysis 103L'!$K80, 'Equipment Type'!$A$4:$A$53, 0)), \"\")","v":""},"","","","","",{"$f":"IF(CK80=\"\", \"\", INDEX('LED Case Lighting'!$AR$3:$AR$36, MATCH('Analysis 103L'!CK80, 'LED Case Lighting'!$AS$3:$AS$36, 0)))","v":""},{"$f":"IF(CK80=\"\", \"\", INDEX('LED Case Lighting'!$AW$3:$AW$36, MATCH('Analysis 103L'!CK80, 'LED Case Lighting'!$AS$3:$AS$36, 0)))","v":""},{"$f":"IF(CK80=\"\", \"\", INDEX('LED Case Lighting'!$AX$3:$AX$36, MATCH('Analysis 103L'!CK80, 'LED Case Lighting'!$AS$3:$AS$36, 0)))","v":""},""]
[54,null,null,null,null,null,"",null,{"$f":"IF(K81=\"\",\"\",VLOOKUP(K81,'Equipment Type'!$A$1:$F$53,5,FALSE))","v":""},{"$f":"IF(K81=\"\",\"\",VLOOKUP(K81,'Equipment Type'!$A$1:$F$53,6,FALSE))","v":""},null,{"$f":"IF(K81=\"\",\"\",VLOOKUP(K81,'Equipment Type'!$A$1:$F$53,4,FALSE))","v":""},null,{"$f":"IF(K81=\"\",\"\",INDEX('Equipment Type'!$T$4:$T$53,MATCH('Analysis 103L'!K81,'Equipment Type'!$A$4:$A$53,0)))","v":""},"",null,{"$f":"IF(RIGHT(I81, 4)=\"Case\", \"\", IF(P81=\"\",\"\",(IF(ISNUMBER(SEARCH(\"exit\",J81)),8760,IF(B81=\"Exterior\",4380,'Analysis 103L'!$J$3)))))","v":""},null,"","","","","","","","",{"$f":"IF('100L Information'!$Z$5=\"Yes\",0,IF('100L Information'!$Z$4=\"Yes\",(MIN($Y$232-(-$Y$227),6000)*0.5)*(Y81/$Y$232),$Y$232*(Y81/($Y$230+$Y$231))))","v":{"$error":"#VALUE!"}},"",{"$error":"#VALUE!"},"No requirement",0,{"$f":"IF(OR(Z81=\"Does not meet requirement\",AND('100L Information'!$AA$21=\"No\",AL81=\"Y\"),AND('100L Information'!$AS$21=FALSE,AL81=\"Y\")),0,IF(ISNUMBER(R81*Incent_Cost_Fixture_Rx),MIN(R81*Incent_Cost_Fixture_Rx,(MAX(AE81,AK81))),0))","v":0},"FAIL","0","0","0",0,"N","0","0",null,"","",0,"",{"$f":"IF(RIGHT(I81,4)=\"Case\",W81,IF(AND(AL81=\"Y\",AF81<1),0,IF(OR(LEFT(D81,2)=\"T5\",LEFT(D81,3)=\"CFL\",'Analysis 103L'!AS81=\"Less\"),'Analysis 103L'!AR81,'Analysis 103L'!W81)))","v":""},null,0,0,null,{"$error":"#VALUE!"},{"$error":"#VALUE!"},{"$error":"#VALUE!"},null,null,{"$f":"IF(RIGHT(I81,4)=\"Case\",'LED Case Lighting'!$AY$1,IF(J81=\"\",\"\",VLOOKUP(J81,Lookups!$A$30:$J$172,VLOOKUP('100L Information'!$AI$46,Lookups!$J$3:$L$6,3,FALSE),FALSE)))","v":""},{"$error":"#N/A"},"","",{"$error":"#VALUE!"},{"$error":"#VALUE!"},{"$error":"#VALUE!"},{"$error":"#N/A"},0,{"$error":"#N/A"},0,{"$error":"#VALUE!"},{"$error":"#VALUE!"},{"$error":"#VALUE!"},"FAIL",null,null,null,null,null,null,null,"Interior / Exterior",null,"",null,{"$f":"IF(RIGHT(I81,4)=\"Case\",(INDEX('LED Case Lighting'!$AZ$3:$AZ$36,MATCH('Analysis 103L'!$CK81,'LED Case Lighting'!$AS$3:$AS$36,0))),IF(CB81=0,0,IF(CB81=\"lamp\",((Q81/VLOOKUP(B81,Int_Ext,2,FALSE))*VLOOKUP(E81,NEB,16,FALSE)),IF(CB81=\"fixture\",((Q81/VLOOKUP(B81,Int_Ext,2,FALSE))*VLOOKUP(E81,NEB,14,FALSE)),\"\"))))","v":""},null,{"$f":"IF(RIGHT(I81,4)=\"Case\",INDEX('Equipment Type'!$V$4:$V$53, MATCH('Analysis 103L'!$K81, 'Equipment Type'!$A$4:$A$53, 0)), \"\")","v":""},"","","","","",{"$f":"IF(CK81=\"\", \"\", INDEX('LED Case Lighting'!$AR$3:$AR$36, MATCH('Analysis 103L'!CK81, 'LED Case Lighting'!$AS$3:$AS$36, 0)))","v":""},{"$f":"IF(CK81=\"\", \"\", INDEX('LED Case Lighting'!$AW$3:$AW$36, MATCH('Analysis 103L'!CK81, 'LED Case Lighting'!$AS$3:$AS$36, 0)))","v":""},{"$f":"IF(CK81=\"\", \"\", INDEX('LED Case Lighting'!$AX$3:$AX$36, MATCH('Analysis 103L'!CK81, 'LED Case Lighting'!$AS$3:$AS$36, 0)))","v":""},""]
[55,null,null,null,null,null,"",null,{"$f":"IF(K82=\"\",\"\",VLOOKUP(K82,'Equipment Type'!$A$1:$F$53,5,FALSE))","v":""},{"$f":"IF(K82=\"\",\"\",VLOOKUP(K82,'Equipment Type'!$A$1:$F$53,6,FALSE))","v":""},null,{"$f":"IF(K82=\"\",\"\",VLOOKUP(K82,'Equipment Type'!$A$1:$F$53,4,FALSE))","v":""},null,{"$f":"IF(K82=\"\",\"\",INDEX('Equipment Type'!$T$4:$T$53,MATCH('Analysis 103L'!K82,'Equipment Type'!$A$4:$A$53,0)))","v":""},"",null,{"$f":"IF(RIGHT(I82, 4)=\"Case\", \"\", IF(P82=\"\",\"\",(IF(ISNUMBER(SEARCH(\"exit\",J82)),8760,IF(B82=\"Exterior\",4380,'Analysis 103L'!$J$3)))))","v":""},null,"","","","","","","","",{"$f":"IF('100L Information'!$Z$5=\"Yes\",0,IF('100L Information'!$Z$4=\"Yes\",(MIN($Y$232-(-$Y$227),6000)*0.5)*(Y82/$Y$232),$Y$232*(Y82/($Y$230+$Y$231))))","v":{"$error":"#VALUE!"}},"",{"$error":"#VALUE!"},"No requirement",0,{"$f":"IF(OR(Z82=\"Does not meet requirement\",AND('100L Information'!$AA$21=\"No\",AL82=\"Y\"),AND('100L Information'!$AS$21=FALSE,AL82=\"Y\")),0,IF(ISNUMBER(R82*Incent_Cost_Fixture_Rx),MIN(R82*Incent_Cost_Fixture_Rx,(MAX(AE82,AK82))),0))","v":0},"FAIL","0","0","0",0,"N","0","0",null,"","",0,"",{"$f":"IF(RIGHT(I82,4)=\"Case\",W82,IF(AND(AL82=\"Y\",AF82<1),0,IF(OR(LEFT(D82,2)=\"T5\",LEFT(D82,3)=\"CFL\",'Analysis 103L'!AS82=\"Less\"),'Analysis 103L'!AR82,'Analysis 103L'!W82)))","v":""},null,0,0,null,{"$error":"#VALUE!"},{"$error":"#VALUE!"},{"$error":"#VALUE!"},null,null,{"$f":"IF(RIGHT(I82,4)=\"Case\",'LED Case Lighting'!$AY$1,IF(J82=\"\",\"\",VLOOKUP(J82,Lookups!$A$30:$J$172,VLOOKUP('100L Information'!$AI$46,Lookups!$J$3:$L$6,3,FALSE),FALSE)))","v":""},{"$error":"#N/A"},"","",{"$error":"#VALUE!"},{"$error":"#VALUE!"},{"$error":"#VALUE!"},{"$error":"#N/A"},0,{"$error":"#N/A"},0,{"$error":"#VALUE!"},{"$error":"#VALUE!"},{"$error":"#VALUE!"},"FAIL",null,null,null,null,null,null,null,"Interior / Exterior",null,"",null,{"$f":"IF(RIGHT(I82,4)=\"Case\",(INDEX('LED Case Lighting'!$AZ$3:$AZ$36,MATCH('Analysis 103L'!$CK82,'LED Case Lighting'!$AS$3:$AS$36,0))),IF(CB82=0,0,IF(CB82=\"lamp\",((Q82/VLOOKUP(B82,Int_Ext,2,FALSE))*VLOOKUP(E82,NEB,16,FALSE)),IF(CB82=\"fixture\",((Q82/VLOOKUP(B82,Int_Ext,2,FALSE))*VLOOKUP(E82,NEB,14,FALSE)),\"\"))))","v":""},null,{"$f":"IF(RIGHT(I82,4)=\"Case\",INDEX('Equipment Type'!$V$4:$V$53, MATCH('Analysis 103L'!$K82, 'Equipment Type'!$A$4:$A$53, 0)), \"\")","v":""},"","","","","",{"$f":"IF(CK82=\"\", \"\", INDEX('LED Case Lighting'!$AR$3:$AR$36, MATCH('Analysis 103L'!CK82, 'LED Case Lighting'!$AS$3:$AS$36, 0)))","v":""},{"$f":"IF(CK82=\"\", \"\", INDEX('LED Case Lighting'!$AW$3:$AW$36, MATCH('Analysis 103L'!CK82, 'LED Case Lighting'!$AS$3:$AS$36, 0)))","v":""},{"$f":"IF(CK82=\"\", \"\", INDEX('LED Case Lighting'!$AX$3:$AX$36, MATCH('Analysis 103L'!CK82, 'LED Case Lighting'!$AS$3:$AS$36, 0)))","v":""},""]
[56,null,null,null,null,null,"",null,{"$f":"IF(K83=\"\",\"\",VLOOKUP(K83,'Equipment Type'!$A$1:$F$53,5,FALSE))","v":""},{"$f":"IF(K83=\"\",\"\",VLOOKUP(K83,'Equipment Type'!$A$1:$F$53,6,FALSE))","v":""},null,{"$f":"IF(K83=\"\",\"\",VLOOKUP(K83,'Equipment Type'!$A$1:$F$53,4,FALSE))","v":""},null,{"$f":"IF(K83=\"\",\"\",INDEX('Equipment Type'!$T$4:$T$53,MATCH('Analysis 103L'!K83,'Equipment Type'!$A$4:$A$53,0)))","v":""},"",null,{"$f":"IF(RIGHT(I83, 4)=\"Case\", \"\", IF(P83=\"\",\"\",(IF(ISNUMBER(SEARCH(\"exit\",J83)),8760,IF(B83=\"Exterior\",4380,'Analysis 103L'!$J$3)))))","v":""},null,"","","","","","","","",{"$f":"IF('100L Information'!$Z$5=\"Yes\",0,IF('100L Information'!$Z$4=\"Yes\",(MIN($Y$232-(-$Y$227),6000)*0.5)*(Y83/$Y$232),$Y$232*(Y83/($Y$230+$Y$231))))","v":{"$error":"#VALUE!"}},"",{"$error":"#VALUE!"},"No requirement",0,{"$f":"IF(OR(Z83=\"Does not meet requirement\",AND('100L Information'!$AA$21=\"No\",AL83=\"Y\"),AND('100L Information'!$AS$21=FALSE,AL83=\"Y\")),0,IF(ISNUMBER(R83*Incent_Cost_Fixture_Rx),MIN(R83*Incent_Cost_Fixture_Rx,(MAX(AE83,AK83))),0))","v":0},"FAIL","0","0","0",0,"N","0","0",null,"","",0,"",{"$f":"IF(RIGHT(I83,4)=\"Case\",W83,IF(AND(AL83=\"Y\",AF83<1),0,IF(OR(LEFT(D83,2)=\"T5\",LEFT(D83,3)=\"CFL\",'Analysis 103L'!AS83=\"Less\"),'Analysis 103L'!AR83,'Analysis 103L'!W83)))","v":""},null,0,0,null,{"$error":"#VALUE!"},{"$error":"#VALUE!"},{"$error":"#VALUE!"},null,null,{"$f":"IF(RIGHT(I83,4)=\"Case\",'LED Case Lighting'!$AY$1,IF(J83=\"\",\"\",VLOOKUP(J83,Lookups!$A$30:$J$172,VLOOKUP('100L Information'!$AI$46,Lookups!$J$3:$L$6,3,FALSE),FALSE)))","v":""},{"$error":"#N/A"},"","",{"$error":"#VALUE!"},{"$error":"#VALUE!"},{"$error":"#VALUE!"},{"$error":"#N/A"},0,{"$error":"#N/A"},0,{"$error":"#VALUE!"},{"$error":"#VALUE!"},{"$error":"#VALUE!"},"FAIL",null,null,null,null,null,null,null,"Interior / Exterior",null,"",null,{"$f":"IF(RIGHT(I83,4)=\"Case\",(INDEX('LED Case Lighting'!$AZ$3:$AZ$36,MATCH('Analysis 103L'!$CK83,'LED Case Lighting'!$AS$3:$AS$36,0))),IF(CB83=0,0,IF(CB83=\"lamp\",((Q83/VLOOKUP(B83,Int_Ext,2,FALSE))*VLOOKUP(E83,NEB,16,FALSE)),IF(CB83=\"fixture\",((Q83/VLOOKUP(B83,Int_Ext,2,FALSE))*VLOOKUP(E83,NEB,14,FALSE)),\"\"))))","v":""},null,{"$f":"IF(RIGHT(I83,4)=\"Case\",INDEX('Equipment Type'!$V$4:$V$53, MATCH('Analysis 103L'!$K83, 'Equipment Type'!$A$4:$A$53, 0)), \"\")","v":""},"","","","","",{"$f":"IF(CK83=\"\", \"\", INDEX('LED Case Lighting'!$AR$3:$AR$36, MATCH('Analysis 103L'!CK83, 'LED Case Lighting'!$AS$3:$AS$36, 0)))","v":""},{"$f":"IF(CK83=\"\", \"\", INDEX('LED Case Lighting'!$AW$3:$AW$36, MATCH('Analysis 103L'!CK83, 'LED Case Lighting'!$AS$3:$AS$36, 0)))","v":""},{"$f":"IF(CK83=\"\", \"\", INDEX('LED Case Lighting'!$AX$3:$AX$36, MATCH('Analysis 103L'!CK83, 'LED Case Lighting'!$AS$3:$AS$36, 0)))","v":""},""]
[57,null,null,null,null,null,"",null,{"$f":"IF(K84=\"\",\"\",VLOOKUP(K84,'Equipment Type'!$A$1:$F$53,5,FALSE))","v":""},{"$f":"IF(K84=\"\",\"\",VLOOKUP(K84,'Equipment Type'!$A$1:$F$53,6,FALSE))","v":""},null,{"$f":"IF(K84=\"\",\"\",VLOOKUP(K84,'Equipment Type'!$A$1:$F$53,4,FALSE))","v":""},null,{"$f":"IF(K84=\"\",\"\",INDEX('Equipment Type'!$T$4:$T$53,MATCH('Analysis 103L'!K84,'Equipment Type'!$A$4:$A$53,0)))","v":""},"",null,{"$f":"IF(RIGHT(I84, 4)=\"Case\", \"\", IF(P84=\"\",\"\",(IF(ISNUMBER(SEARCH(\"exit\",J84)),8760,IF(B84=\"Exterior\",4380,'Analysis 103L'!$J$3)))))","v":""},null,"","","","","","","","",{"$f":"IF('100L Information'!$Z$5=\"Yes\",0,IF('100L Information'!$Z$4=\"Yes\",(MIN($Y$232-(-$Y$227),6000)*0.5)*(Y84/$Y$232),$Y$232*(Y84/($Y$230+$Y$231))))","v":{"$error":"#VALUE!"}},"",{"$error":"#VALUE!"},"No requirement",0,{"$f":"IF(OR(Z84=\"Does not meet requirement\",AND('100L Information'!$AA$21=\"No\",AL84=\"Y\"),AND('100L Information'!$AS$21=FALSE,AL84=\"Y\")),0,IF(ISNUMBER(R84*Incent_Cost_Fixture_Rx),MIN(R84*Incent_Cost_Fixture_Rx,(MAX(AE84,AK84))),0))","v":0},"FAIL","0","0","0",0,"N","0","0",null,"","",0,"",{"$f":"IF(RIGHT(I84,4)=\"Case\",W84,IF(AND(AL84=\"Y\",AF84<1),0,IF(OR(LEFT(D84,2)=\"T5\",LEFT(D84,3)=\"CFL\",'Analysis 103L'!AS84=\"Less\"),'Analysis 103L'!AR84,'Analysis 103L'!W84)))","v":""},null,0,0,null,{"$error":"#VALUE!"},{"$error":"#VALUE!"},{"$error":"#VALUE!"},null,null,{"$f":"IF(RIGHT(I84,4)=\"Case\",'LED Case Lighting'!$AY$1,IF(J84=\"\",\"\",VLOOKUP(J84,Lookups!$A$30:$J$172,VLOOKUP('100L Information'!$AI$46,Lookups!$J$3:$L$6,3,FALSE),FALSE)))","v":""},{"$error":"#N/A"},"","",{"$error":"#VALUE!"},{"$error":"#VALUE!"},{"$error":"#VALUE!"},{"$error":"#N/A"},0,{"$error":"#N/A"},0,{"$error":"#VALUE!"},{"$error":"#VALUE!"},{"$error":"#VALUE!"},"FAIL",null,null,null,null,null,null,null,"Interior / Exterior",null,"",null,{"$f":"IF(RIGHT(I84,4)=\"Case\",(INDEX('LED Case Lighting'!$AZ$3:$AZ$36,MATCH('Analysis 103L'!$CK84,'LED Case Lighting'!$AS$3:$AS$36,0))),IF(CB84=0,0,IF(CB84=\"lamp\",((Q84/VLOOKUP(B84,Int_Ext,2,FALSE))*VLOOKUP(E84,NEB,16,FALSE)),IF(CB84=\"fixture\",((Q84/VLOOKUP(B84,Int_Ext,2,FALSE))*VLOOKUP(E84,NEB,14,FALSE)),\"\"))))","v":""},null,{"$f":"IF(RIGHT(I84,4)=\"Case\",INDEX('Equipment Type'!$V$4:$V$53, MATCH('Analysis 103L'!$K84, 'Equipment Type'!$A$4:$A$53, 0)), \"\")","v":""},"","","","","",{"$f":"IF(CK84=\"\", \"\", INDEX('LED Case Lighting'!$AR$3:$AR$36, MATCH('Analysis 103L'!CK84, 'LED Case Lighting'!$AS$3:$AS$36, 0)))","v":""},{"$f":"IF(CK84=\"\", \"\", INDEX('LED Case Lighting'!$AW$3:$AW$36, MATCH('Analysis 103L'!CK84, 'LED Case Lighting'!$AS$3:$AS$36, 0)))","v":""},{"$f":"IF(CK84=\"\", \"\", INDEX('LED Case Lighting'!$AX$3:$AX$36, MATCH('Analysis 103L'!CK84, 'LED Case Lighting'!$AS$3:$AS$36, 0)))","v":""},""]
[58,null,null,null,null,null,"",null,{"$f":"IF(K85=\"\",\"\",VLOOKUP(K85,'Equipment Type'!$A$1:$F$53,5,FALSE))","v":""},{"$f":"IF(K85=\"\",\"\",VLOOKUP(K85,'Equipment Type'!$A$1:$F$53,6,FALSE))","v":""},null,{"$f":"IF(K85=\"\",\"\",VLOOKUP(K85,'Equipment Type'!$A$1:$F$53,4,FALSE))","v":""},null,{"$f":"IF(K85=\"\",\"\",INDEX('Equipment Type'!$T$4:$T$53,MATCH('Analysis 103L'!K85,'Equipment Type'!$A$4:$A$53,0)))","v":""},"",null,{"$f":"IF(RIGHT(I85, 4)=\"Case\", \"\", IF(P85=\"\",\"\",(IF(ISNUMBER(SEARCH(\"exit\",J85)),8760,IF(B85=\"Exterior\",4380,'Analysis 103L'!$J$3)))))","v":""},null,"","","","","","","","",{"$f":"IF('100L Information'!$Z$5=\"Yes\",0,IF('100L Information'!$Z$4=\"Yes\",(MIN($Y$232-(-$Y$227),6000)*0.5)*(Y85/$Y$232),$Y$232*(Y85/($Y$230+$Y$231))))","v":{"$error":"#VALUE!"}},"",{"$error":"#VALUE!"},"No requirement",0,{"$f":"IF(OR(Z85=\"Does not meet requirement\",AND('100L Information'!$AA$21=\"No\",AL85=\"Y\"),AND('100L Information'!$AS$21=FALSE,AL85=\"Y\")),0,IF(ISNUMBER(R85*Incent_Cost_Fixture_Rx),MIN(R85*Incent_Cost_Fixture_Rx,(MAX(AE85,AK85))),0))","v":0},"FAIL","0","0","0",0,"N","0","0",null,"","",0,"",{"$f":"IF(RIGHT(I85,4)=\"Case\",W85,IF(AND(AL85=\"Y\",AF85<1),0,IF(OR(LEFT(D85,2)=\"T5\",LEFT(D85,3)=\"CFL\",'Analysis 103L'!AS85=\"Less\"),'Analysis 103L'!AR85,'Analysis 103L'!W85)))","v":""},null,0,0,null,{"$error":"#VALUE!"},{"$error":"#VALUE!"},{"$error":"#VALUE!"},null,null,{"$f":"IF(RIGHT(I85,4)=\"Case\",'LED Case Lighting'!$AY$1,IF(J85=\"\",\"\",VLOOKUP(J85,Lookups!$A$30:$J$172,VLOOKUP('100L Information'!$AI$46,Lookups!$J$3:$L$6,3,FALSE),FALSE)))","v":""},{"$error":"#N/A"},"","",{"$error":"#VALUE!"},{"$error":"#VALUE!"},{"$error":"#VALUE!"},{"$error":"#N/A"},0,{"$error":"#N/A"},0,{"$error":"#VALUE!"},{"$error":"#VALUE!"},{"$error":"#VALUE!"},"FAIL",null,null,null,null,null,null,null,"Interior / Exterior",null,"",null,{"$f":"IF(RIGHT(I85,4)=\"Case\",(INDEX('LED Case Lighting'!$AZ$3:$AZ$36,MATCH('Analysis 103L'!$CK85,'LED Case Lighting'!$AS$3:$AS$36,0))),IF(CB85=0,0,IF(CB85=\"lamp\",((Q85/VLOOKUP(B85,Int_Ext,2,FALSE))*VLOOKUP(E85,NEB,16,FALSE)),IF(CB85=\"fixture\",((Q85/VLOOKUP(B85,Int_Ext,2,FALSE))*VLOOKUP(E85,NEB,14,FALSE)),\"\"))))","v":""},null,{"$f":"IF(RIGHT(I85,4)=\"Case\",INDEX('Equipment Type'!$V$4:$V$53, MATCH('Analysis 103L'!$K85, 'Equipment Type'!$A$4:$A$53, 0)), \"\")","v":""},"","","","","",{"$f":"IF(CK85=\"\", \"\", INDEX('LED Case Lighting'!$AR$3:$AR$36, MATCH('Analysis 103L'!CK85, 'LED Case Lighting'!$AS$3:$AS$36, 0)))","v":""},{"$f":"IF(CK85=\"\", \"\", INDEX('LED Case Lighting'!$AW$3:$AW$36, MATCH('Analysis 103L'!CK85, 'LED Case Lighting'!$AS$3:$AS$36, 0)))","v":""},{"$f":"IF(CK85=\"\", \"\", INDEX('LED Case Lighting'!$AX$3:$AX$36, MATCH('Analysis 103L'!CK85, 'LED Case Lighting'!$AS$3:$AS$36, 0)))","v":""},""]
[59,null,null,null,null,null,"",null,{"$f":"IF(K86=\"\",\"\",VLOOKUP(K86,'Equipment Type'!$A$1:$F$53,5,FALSE))","v":""},{"$f":"IF(K86=\"\",\"\",VLOOKUP(K86,'Equipment Type'!$A$1:$F$53,6,FALSE))","v":""},null,{"$f":"IF(K86=\"\",\"\",VLOOKUP(K86,'Equipment Type'!$A$1:$F$53,4,FALSE))","v":""},null,{"$f":"IF(K86=\"\",\"\",INDEX('Equipment Type'!$T$4:$T$53,MATCH('Analysis 103L'!K86,'Equipment Type'!$A$4:$A$53,0)))","v":""},"",null,{"$f":"IF(RIGHT(I86, 4)=\"Case\", \"\", IF(P86=\"\",\"\",(IF(ISNUMBER(SEARCH(\"exit\",J86)),8760,IF(B86=\"Exterior\",4380,'Analysis 103L'!$J$3)))))","v":""},null,"","","","","","","","",{"$f":"IF('100L Information'!$Z$5=\"Yes\",0,IF('100L Information'!$Z$4=\"Yes\",(MIN($Y$232-(-$Y$227),6000)*0.5)*(Y86/$Y$232),$Y$232*(Y86/($Y$230+$Y$231))))","v":{"$error":"#VALUE!"}},"",{"$error":"#VALUE!"},"No requirement",0,{"$f":"IF(OR(Z86=\"Does not meet requirement\",AND('100L Information'!$AA$21=\"No\",AL86=\"Y\"),AND('100L Information'!$AS$21=FALSE,AL86=\"Y\")),0,IF(ISNUMBER(R86*Incent_Cost_Fixture_Rx),MIN(R86*Incent_Cost_Fixture_Rx,(MAX(AE86,AK86))),0))","v":0},"FAIL","0","0","0",0,"N","0","0",null,"","",0,"",{"$f":"IF(RIGHT(I86,4)=\"Case\",W86,IF(AND(AL86=\"Y\",AF86<1),0,IF(OR(LEFT(D86,2)=\"T5\",LEFT(D86,3)=\"CFL\",'Analysis 103L'!AS86=\"Less\"),'Analysis 103L'!AR86,'Analysis 103L'!W86)))","v":""},null,0,0,null,{"$error":"#VALUE!"},{"$error":"#VALUE!"},{"$error":"#VALUE!"},null,null,{"$f":"IF(RIGHT(I86,4)=\"Case\",'LED Case Lighting'!$AY$1,IF(J86=\"\",\"\",VLOOKUP(J86,Lookups!$A$30:$J$172,VLOOKUP('100L Information'!$AI$46,Lookups!$J$3:$L$6,3,FALSE),FALSE)))","v":""},{"$error":"#N/A"},"","",{"$error":"#VALUE!"},{"$error":"#VALUE!"},{"$error":"#VALUE!"},{"$error":"#N/A"},0,{"$error":"#N/A"},0,{"$error":"#VALUE!"},{"$error":"#VALUE!"},{"$error":"#VALUE!"},"FAIL",null,null,null,null,null,null,null,"Interior / Exterior",null,"",null,{"$f":"IF(RIGHT(I86,4)=\"Case\",(INDEX('LED Case Lighting'!$AZ$3:$AZ$36,MATCH('Analysis 103L'!$CK86,'LED Case Lighting'!$AS$3:$AS$36,0))),IF(CB86=0,0,IF(CB86=\"lamp\",((Q86/VLOOKUP(B86,Int_Ext,2,FALSE))*VLOOKUP(E86,NEB,16,FALSE)),IF(CB86=\"fixture\",((Q86/VLOOKUP(B86,Int_Ext,2,FALSE))*VLOOKUP(E86,NEB,14,FALSE)),\"\"))))","v":""},null,{"$f":"IF(RIGHT(I86,4)=\"Case\",INDEX('Equipment Type'!$V$4:$V$53, MATCH('Analysis 103L'!$K86, 'Equipment Type'!$A$4:$A$53, 0)), \"\")","v":""},"","","","","",{"$f":"IF(CK86=\"\", \"\", INDEX('LED Case Lighting'!$AR$3:$AR$36, MATCH('Analysis 103L'!CK86, 'LED Case Lighting'!$AS$3:$AS$36, 0)))","v":""},{"$f":"IF(CK86=\"\", \"\", INDEX('LED Case Lighting'!$AW$3:$AW$36, MATCH('Analysis 103L'!CK86, 'LED Case Lighting'!$AS$3:$AS$36, 0)))","v":""},{"$f":"IF(CK86=\"\", \"\", INDEX('LED Case Lighting'!$AX$3:$AX$36, MATCH('Analysis 103L'!CK86, 'LED Case Lighting'!$AS$3:$AS$36, 0)))","v":""},""]
[60,null,null,null,null,null,"",null,{"$f":"IF(K87=\"\",\"\",VLOOKUP(K87,'Equipment Type'!$A$1:$F$53,5,FALSE))","v":""},{"$f":"IF(K87=\"\",\"\",VLOOKUP(K87,'Equipment Type'!$A$1:$F$53,6,FALSE))","v":""},null,{"$f":"IF(K87=\"\",\"\",VLOOKUP(K87,'Equipment Type'!$A$1:$F$53,4,FALSE))","v":""},null,{"$f":"IF(K87=\"\",\"\",INDEX('Equipment Type'!$T$4:$T$53,MATCH('Analysis 103L'!K87,'Equipment Type'!$A$4:$A$53,0)))","v":""},"",null,{"$f":"IF(RIGHT(I87, 4)=\"Case\", \"\", IF(P87=\"\",\"\",(IF(ISNUMBER(SEARCH(\"exit\",J87)),8760,IF(B87=\"Exterior\",4380,'Analysis 103L'!$J$3)))))","v":""},null,"","","","","","","","",{"$f":"IF('100L Information'!$Z$5=\"Yes\",0,IF('100L Information'!$Z$4=\"Yes\",(MIN($Y$232-(-$Y$227),6000)*0.5)*(Y87/$Y$232),$Y$232*(Y87/($Y$230+$Y$231))))","v":{"$error":"#VALUE!"}},"",{"$error":"#VALUE!"},"No requirement",0,{"$f":"IF(OR(Z87=\"Does not meet requirement\",AND('100L Information'!$AA$21=\"No\",AL87=\"Y\"),AND('100L Information'!$AS$21=FALSE,AL87=\"Y\")),0,IF(ISNUMBER(R87*Incent_Cost_Fixture_Rx),MIN(R87*Incent_Cost_Fixture_Rx,(MAX(AE87,AK87))),0))","v":0},"FAIL","0","0","0",0,"N","0","0",null,"","",0,"",{"$f":"IF(RIGHT(I87,4)=\"Case\",W87,IF(AND(AL87=\"Y\",AF87<1),0,IF(OR(LEFT(D87,2)=\"T5\",LEFT(D87,3)=\"CFL\",'Analysis 103L'!AS87=\"Less\"),'Analysis 103L'!AR87,'Analysis 103L'!W87)))","v":""},null,0,0,null,{"$error":"#VALUE!"},{"$error":"#VALUE!"},{"$error":"#VALUE!"},null,null,{"$f":"IF(RIGHT(I87,4)=\"Case\",'LED Case Lighting'!$AY$1,IF(J87=\"\",\"\",VLOOKUP(J87,Lookups!$A$30:$J$172,VLOOKUP('100L Information'!$AI$46,Lookups!$J$3:$L$6,3,FALSE),FALSE)))","v":""},{"$error":"#N/A"},"","",{"$error":"#VALUE!"},{"$error":"#VALUE!"},{"$error":"#VALUE!"},{"$error":"#N/A"},0,{"$error":"#N/A"},0,{"$error":"#VALUE!"},{"$error":"#VALUE!"},{"$error":"#VALUE!"},"FAIL",null,null,null,null,null,null,null,"Interior / Exterior",null,"",null,{"$f":"IF(RIGHT(I87,4)=\"Case\",(INDEX('LED Case Lighting'!$AZ$3:$AZ$36,MATCH('Analysis 103L'!$CK87,'LED Case Lighting'!$AS$3:$AS$36,0))),IF(CB87=0,0,IF(CB87=\"lamp\",((Q87/VLOOKUP(B87,Int_Ext,2,FALSE))*VLOOKUP(E87,NEB,16,FALSE)),IF(CB87=\"fixture\",((Q87/VLOOKUP(B87,Int_Ext,2,FALSE))*VLOOKUP(E87,NEB,14,FALSE)),\"\"))))","v":""},null,{"$f":"IF(RIGHT(I87,4)=\"Case\",INDEX('Equipment Type'!$V$4:$V$53, MATCH('Analysis 103L'!$K87, 'Equipment Type'!$A$4:$A$53, 0)), \"\")","v":""},"","","","","",{"$f":"IF(CK87=\"\", \"\", INDEX('LED Case Lighting'!$AR$3:$AR$36, MATCH('Analysis 103L'!CK87, 'LED Case Lighting'!$AS$3:$AS$36, 0)))","v":""},{"$f":"IF(CK87=\"\", \"\", INDEX('LED Case Lighting'!$AW$3:$AW$36, MATCH('Analysis 103L'!CK87, 'LED Case Lighting'!$AS$3:$AS$36, 0)))","v":""},{"$f":"IF(CK87=\"\", \"\", INDEX('LED Case Lighting'!$AX$3:$AX$36, MATCH('Analysis 103L'!CK87, 'LED Case Lighting'!$AS$3:$AS$36, 0)))","v":""},""]
[61,null,null,null,null,null,"",null,{"$f":"IF(K88=\"\",\"\",VLOOKUP(K88,'Equipment Type'!$A$1:$F$53,5,FALSE))","v":""},{"$f":"IF(K88=\"\",\"\",VLOOKUP(K88,'Equipment Type'!$A$1:$F$53,6,FALSE))","v":""},null,{"$f":"IF(K88=\"\",\"\",VLOOKUP(K88,'Equipment Type'!$A$1:$F$53,4,FALSE))","v":""},null,{"$f":"IF(K88=\"\",\"\",INDEX('Equipment Type'!$T$4:$T$53,MATCH('Analysis 103L'!K88,'Equipment Type'!$A$4:$A$53,0)))","v":""},"",null,{"$f":"IF(RIGHT(I88, 4)=\"Case\", \"\", IF(P88=\"\",\"\",(IF(ISNUMBER(SEARCH(\"exit\",J88)),8760,IF(B88=\"Exterior\",4380,'Analysis 103L'!$J$3)))))","v":""},null,"","","","","","","","",{"$f":"IF('100L Information'!$Z$5=\"Yes\",0,IF('100L Information'!$Z$4=\"Yes\",(MIN($Y$232-(-$Y$227),6000)*0.5)*(Y88/$Y$232),$Y$232*(Y88/($Y$230+$Y$231))))","v":{"$error":"#VALUE!"}},"",{"$error":"#VALUE!"},"No requirement",0,{"$f":"IF(OR(Z88=\"Does not meet requirement\",AND('100L Information'!$AA$21=\"No\",AL88=\"Y\"),AND('100L Information'!$AS$21=FALSE,AL88=\"Y\")),0,IF(ISNUMBER(R88*Incent_Cost_Fixture_Rx),MIN(R88*Incent_Cost_Fixture_Rx,(MAX(AE88,AK88))),0))","v":0},"FAIL","0","0","0",0,"N","0","0",null,"","",0,"",{"$f":"IF(RIGHT(I88,4)=\"Case\",W88,IF(AND(AL88=\"Y\",AF88<1),0,IF(OR(LEFT(D88,2)=\"T5\",LEFT(D88,3)=\"CFL\",'Analysis 103L'!AS88=\"Less\"),'Analysis 103L'!AR88,'Analysis 103L'!W88)))","v":""},null,0,0,null,{"$error":"#VALUE!"},{"$error":"#VALUE!"},{"$error":"#VALUE!"},null,null,{"$f":"IF(RIGHT(I88,4)=\"Case\",'LED Case Lighting'!$AY$1,IF(J88=\"\",\"\",VLOOKUP(J88,Lookups!$A$30:$J$172,VLOOKUP('100L Information'!$AI$46,Lookups!$J$3:$L$6,3,FALSE),FALSE)))","v":""},{"$error":"#N/A"},"","",{"$error":"#VALUE!"},{"$error":"#VALUE!"},{"$error":"#VALUE!"},{"$error":"#N/A"},0,{"$error":"#N/A"},0,{"$error":"#VALUE!"},{"$error":"#VALUE!"},{"$error":"#VALUE!"},"FAIL",null,null,null,null,null,null,null,"Interior / Exterior",null,"",null,{"$f":"IF(RIGHT(I88,4)=\"Case\",(INDEX('LED Case Lighting'!$AZ$3:$AZ$36,MATCH('Analysis 103L'!$CK88,'LED Case Lighting'!$AS$3:$AS$36,0))),IF(CB88=0,0,IF(CB88=\"lamp\",((Q88/VLOOKUP(B88,Int_Ext,2,FALSE))*VLOOKUP(E88,NEB,16,FALSE)),IF(CB88=\"fixture\",((Q88/VLOOKUP(B88,Int_Ext,2,FALSE))*VLOOKUP(E88,NEB,14,FALSE)),\"\"))))","v":""},null,{"$f":"IF(RIGHT(I88,4)=\"Case\",INDEX('Equipment Type'!$V$4:$V$53, MATCH('Analysis 103L'!$K88, 'Equipment Type'!$A$4:$A$53, 0)), \"\")","v":""},"","","","","",{"$f":"IF(CK88=\"\", \"\", INDEX('LED Case Lighting'!$AR$3:$AR$36, MATCH('Analysis 103L'!CK88, 'LED Case Lighting'!$AS$3:$AS$36, 0)))","v":""},{"$f":"IF(CK88=\"\", \"\", INDEX('LED Case Lighting'!$AW$3:$AW$36, MATCH('Analysis 103L'!CK88, 'LED Case Lighting'!$AS$3:$AS$36, 0)))","v":""},{"$f":"IF(CK88=\"\", \"\", INDEX('LED Case Lighting'!$AX$3:$AX$36, MATCH('Analysis 103L'!CK88, 'LED Case Lighting'!$AS$3:$AS$36, 0)))","v":""},""]
[62,null,null,null,null,null,"",null,{"$f":"IF(K89=\"\",\"\",VLOOKUP(K89,'Equipment Type'!$A$1:$F$53,5,FALSE))","v":""},{"$f":"IF(K89=\"\",\"\",VLOOKUP(K89,'Equipment Type'!$A$1:$F$53,6,FALSE))","v":""},null,{"$f":"IF(K89=\"\",\"\",VLOOKUP(K89,'Equipment Type'!$A$1:$F$53,4,FALSE))","v":""},null,{"$f":"IF(K89=\"\",\"\",INDEX('Equipment Type'!$T$4:$T$53,MATCH('Analysis 103L'!K89,'Equipment Type'!$A$4:$A$53,0)))","v":""},"",null,{"$f":"IF(RIGHT(I89, 4)=\"Case\", \"\", IF(P89=\"\",\"\",(IF(ISNUMBER(SEARCH(\"exit\",J89)),8760,IF(B89=\"Exterior\",4380,'Analysis 103L'!$J$3)))))","v":""},null,"","","","","","","","",{"$f":"IF('100L Information'!$Z$5=\"Yes\",0,IF('100L Information'!$Z$4=\"Yes\",(MIN($Y$232-(-$Y$227),6000)*0.5)*(Y89/$Y$232),$Y$232*(Y89/($Y$230+$Y$231))))","v":{"$error":"#VALUE!"}},"",{"$error":"#VALUE!"},"No requirement",0,{"$f":"IF(OR(Z89=\"Does not meet requirement\",AND('100L Information'!$AA$21=\"No\",AL89=\"Y\"),AND('100L Information'!$AS$21=FALSE,AL89=\"Y\")),0,IF(ISNUMBER(R89*Incent_Cost_Fixture_Rx),MIN(R89*Incent_Cost_Fixture_Rx,(MAX(AE89,AK89))),0))","v":0},"FAIL","0","0","0",0,"N","0","0",null,"","",0,"",{"$f":"IF(RIGHT(I89,4)=\"Case\",W89,IF(AND(AL89=\"Y\",AF89<1),0,IF(OR(LEFT(D89,2)=\"T5\",LEFT(D89,3)=\"CFL\",'Analysis 103L'!AS89=\"Less\"),'Analysis 103L'!AR89,'Analysis 103L'!W89)))","v":""},null,0,0,null,{"$error":"#VALUE!"},{"$error":"#VALUE!"},{"$error":"#VALUE!"},null,null,{"$f":"IF(RIGHT(I89,4)=\"Case\",'LED Case Lighting'!$AY$1,IF(J89=\"\",\"\",VLOOKUP(J89,Lookups!$A$30:$J$172,VLOOKUP('100L Information'!$AI$46,Lookups!$J$3:$L$6,3,FALSE),FALSE)))","v":""},{"$error":"#N/A"},"","",{"$error":"#VALUE!"},{"$error":"#VALUE!"},{"$error":"#VALUE!"},{"$error":"#N/A"},0,{"$error":"#N/A"},0,{"$error":"#VALUE!"},{"$error":"#VALUE!"},{"$error":"#VALUE!"},"FAIL",null,null,null,null,null,null,null,"Interior / Exterior",null,"",null,{"$f":"IF(RIGHT(I89,4)=\"Case\",(INDEX('LED Case Lighting'!$AZ$3:$AZ$36,MATCH('Analysis 103L'!$CK89,'LED Case Lighting'!$AS$3:$AS$36,0))),IF(CB89=0,0,IF(CB89=\"lamp\",((Q89/VLOOKUP(B89,Int_Ext,2,FALSE))*VLOOKUP(E89,NEB,16,FALSE)),IF(CB89=\"fixture\",((Q89/VLOOKUP(B89,Int_Ext,2,FALSE))*VLOOKUP(E89,NEB,14,FALSE)),\"\"))))","v":""},null,{"$f":"IF(RIGHT(I89,4)=\"Case\",INDEX('Equipment Type'!$V$4:$V$53, MATCH('Analysis 103L'!$K89, 'Equipment Type'!$A$4:$A$53, 0)), \"\")","v":""},"","","","","",{"$f":"IF(CK89=\"\", \"\", INDEX('LED Case Lighting'!$AR$3:$AR$36, MATCH('Analysis 103L'!CK89, 'LED Case Lighting'!$AS$3:$AS$36, 0)))","v":""},{"$f":"IF(CK89=\"\", \"\", INDEX('LED Case Lighting'!$AW$3:$AW$36, MATCH('Analysis 103L'!CK89, 'LED Case Lighting'!$AS$3:$AS$36, 0)))","v":""},{"$f":"IF(CK89=\"\", \"\", INDEX('LED Case Lighting'!$AX$3:$AX$36, MATCH('Analysis 103L'!CK89, 'LED Case Lighting'!$AS$3:$AS$36, 0)))","v":""},""]
[63,null,null,null,null,null,"",null,{"$f":"IF(K90=\"\",\"\",VLOOKUP(K90,'Equipment Type'!$A$1:$F$53,5,FALSE))","v":""},{"$f":"IF(K90=\"\",\"\",VLOOKUP(K90,'Equipment Type'!$A$1:$F$53,6,FALSE))","v":""},null,{"$f":"IF(K90=\"\",\"\",VLOOKUP(K90,'Equipment Type'!$A$1:$F$53,4,FALSE))","v":""},null,{"$f":"IF(K90=\"\",\"\",INDEX('Equipment Type'!$T$4:$T$53,MATCH('Analysis 103L'!K90,'Equipment Type'!$A$4:$A$53,0)))","v":""},"",null,{"$f":"IF(RIGHT(I90, 4)=\"Case\", \"\", IF(P90=\"\",\"\",(IF(ISNUMBER(SEARCH(\"exit\",J90)),8760,IF(B90=\"Exterior\",4380,'Analysis 103L'!$J$3)))))","v":""},null,"","","","","","","","",{"$f":"IF('100L Information'!$Z$5=\"Yes\",0,IF('100L Information'!$Z$4=\"Yes\",(MIN($Y$232-(-$Y$227),6000)*0.5)*(Y90/$Y$232),$Y$232*(Y90/($Y$230+$Y$231))))","v":{"$error":"#VALUE!"}},"",{"$error":"#VALUE!"},"No requirement",0,{"$f":"IF(OR(Z90=\"Does not meet requirement\",AND('100L Information'!$AA$21=\"No\",AL90=\"Y\"),AND('100L Information'!$AS$21=FALSE,AL90=\"Y\")),0,IF(ISNUMBER(R90*Incent_Cost_Fixture_Rx),MIN(R90*Incent_Cost_Fixture_Rx,(MAX(AE90,AK90))),0))","v":0},"FAIL","0","0","0",0,"N","0","0",null,"","",0,"",{"$f":"IF(RIGHT(I90,4)=\"Case\",W90,IF(AND(AL90=\"Y\",AF90<1),0,IF(OR(LEFT(D90,2)=\"T5\",LEFT(D90,3)=\"CFL\",'Analysis 103L'!AS90=\"Less\"),'Analysis 103L'!AR90,'Analysis 103L'!W90)))","v":""},null,0,0,null,{"$error":"#VALUE!"},{"$error":"#VALUE!"},{"$error":"#VALUE!"},null,null,{"$f":"IF(RIGHT(I90,4)=\"Case\",'LED Case Lighting'!$AY$1,IF(J90=\"\",\"\",VLOOKUP(J90,Lookups!$A$30:$J$172,VLOOKUP('100L Information'!$AI$46,Lookups!$J$3:$L$6,3,FALSE),FALSE)))","v":""},{"$error":"#N/A"},"","",{"$error":"#VALUE!"},{"$error":"#VALUE!"},{"$error":"#VALUE!"},{"$error":"#N/A"},0,{"$error":"#N/A"},0,{"$error":"#VALUE!"},{"$error":"#VALUE!"},{"$error":"#VALUE!"},"FAIL",null,null,null,null,null,null,null,"Interior / Exterior",null,"",null,{"$f":"IF(RIGHT(I90,4)=\"Case\",(INDEX('LED Case Lighting'!$AZ$3:$AZ$36,MATCH('Analysis 103L'!$CK90,'LED Case Lighting'!$AS$3:$AS$36,0))),IF(CB90=0,0,IF(CB90=\"lamp\",((Q90/VLOOKUP(B90,Int_Ext,2,FALSE))*VLOOKUP(E90,NEB,16,FALSE)),IF(CB90=\"fixture\",((Q90/VLOOKUP(B90,Int_Ext,2,FALSE))*VLOOKUP(E90,NEB,14,FALSE)),\"\"))))","v":""},null,{"$f":"IF(RIGHT(I90,4)=\"Case\",INDEX('Equipment Type'!$V$4:$V$53, MATCH('Analysis 103L'!$K90, 'Equipment Type'!$A$4:$A$53, 0)), \"\")","v":""},"","","","","",{"$f":"IF(CK90=\"\", \"\", INDEX('LED Case Lighting'!$AR$3:$AR$36, MATCH('Analysis 103L'!CK90, 'LED Case Lighting'!$AS$3:$AS$36, 0)))","v":""},{"$f":"IF(CK90=\"\", \"\", INDEX('LED Case Lighting'!$AW$3:$AW$36, MATCH('Analysis 103L'!CK90, 'LED Case Lighting'!$AS$3:$AS$36, 0)))","v":""},{"$f":"IF(CK90=\"\", \"\", INDEX('LED Case Lighting'!$AX$3:$AX$36, MATCH('Analysis 103L'!CK90, 'LED Case Lighting'!$AS$3:$AS$36, 0)))","v":""},""]
[64,null,null,null,null,null,"",null,{"$f":"IF(K91=\"\",\"\",VLOOKUP(K91,'Equipment Type'!$A$1:$F$53,5,FALSE))","v":""},{"$f":"IF(K91=\"\",\"\",VLOOKUP(K91,'Equipment Type'!$A$1:$F$53,6,FALSE))","v":""},null,{"$f":"IF(K91=\"\",\"\",VLOOKUP(K91,'Equipment Type'!$A$1:$F$53,4,FALSE))","v":""},null,{"$f":"IF(K91=\"\",\"\",INDEX('Equipment Type'!$T$4:$T$53,MATCH('Analysis 103L'!K91,'Equipment Type'!$A$4:$A$53,0)))","v":""},"",null,{"$f":"IF(RIGHT(I91, 4)=\"Case\", \"\", IF(P91=\"\",\"\",(IF(ISNUMBER(SEARCH(\"exit\",J91)),8760,IF(B91=\"Exterior\",4380,'Analysis 103L'!$J$3)))))","v":""},null,"","","","","","","","",{"$f":"IF('100L Information'!$Z$5=\"Yes\",0,IF('100L Information'!$Z$4=\"Yes\",(MIN($Y$232-(-$Y$227),6000)*0.5)*(Y91/$Y$232),$Y$232*(Y91/($Y$230+$Y$231))))","v":{"$error":"#VALUE!"}},"",{"$error":"#VALUE!"},"No requirement",0,{"$f":"IF(OR(Z91=\"Does not meet requirement\",AND('100L Information'!$AA$21=\"No\",AL91=\"Y\"),AND('100L Information'!$AS$21=FALSE,AL91=\"Y\")),0,IF(ISNUMBER(R91*Incent_Cost_Fixture_Rx),MIN(R91*Incent_Cost_Fixture_Rx,(MAX(AE91,AK91))),0))","v":0},"FAIL","0","0","0",0,"N","0","0",null,"","",0,"",{"$f":"IF(RIGHT(I91,4)=\"Case\",W91,IF(AND(AL91=\"Y\",AF91<1),0,IF(OR(LEFT(D91,2)=\"T5\",LEFT(D91,3)=\"CFL\",'Analysis 103L'!AS91=\"Less\"),'Analysis 103L'!AR91,'Analysis 103L'!W91)))","v":""},null,0,0,null,{"$error":"#VALUE!"},{"$error":"#VALUE!"},{"$error":"#VALUE!"},null,null,{"$f":"IF(RIGHT(I91,4)=\"Case\",'LED Case Lighting'!$AY$1,IF(J91=\"\",\"\",VLOOKUP(J91,Lookups!$A$30:$J$172,VLOOKUP('100L Information'!$AI$46,Lookups!$J$3:$L$6,3,FALSE),FALSE)))","v":""},{"$error":"#N/A"},"","",{"$error":"#VALUE!"},{"$error":"#VALUE!"},{"$error":"#VALUE!"},{"$error":"#N/A"},0,{"$error":"#N/A"},0,{"$error":"#VALUE!"},{"$error":"#VALUE!"},{"$error":"#VALUE!"},"FAIL",null,null,null,null,null,null,null,"Interior / Exterior",null,"",null,{"$f":"IF(RIGHT(I91,4)=\"Case\",(INDEX('LED Case Lighting'!$AZ$3:$AZ$36,MATCH('Analysis 103L'!$CK91,'LED Case Lighting'!$AS$3:$AS$36,0))),IF(CB91=0,0,IF(CB91=\"lamp\",((Q91/VLOOKUP(B91,Int_Ext,2,FALSE))*VLOOKUP(E91,NEB,16,FALSE)),IF(CB91=\"fixture\",((Q91/VLOOKUP(B91,Int_Ext,2,FALSE))*VLOOKUP(E91,NEB,14,FALSE)),\"\"))))","v":""},null,{"$f":"IF(RIGHT(I91,4)=\"Case\",INDEX('Equipment Type'!$V$4:$V$53, MATCH('Analysis 103L'!$K91, 'Equipment Type'!$A$4:$A$53, 0)), \"\")","v":""},"","","","","",{"$f":"IF(CK91=\"\", \"\", INDEX('LED Case Lighting'!$AR$3:$AR$36, MATCH('Analysis 103L'!CK91, 'LED Case Lighting'!$AS$3:$AS$36, 0)))","v":""},{"$f":"IF(CK91=\"\", \"\", INDEX('LED Case Lighting'!$AW$3:$AW$36, MATCH('Analysis 103L'!CK91, 'LED Case Lighting'!$AS$3:$AS$36, 0)))","v":""},{"$f":"IF(CK91=\"\", \"\", INDEX('LED Case Lighting'!$AX$3:$AX$36, MATCH('Analysis 103L'!CK91, 'LED Case Lighting'!$AS$3:$AS$36, 0)))","v":""},""]
[65,null,null,null,null,null,"",null,{"$f":"IF(K92=\"\",\"\",VLOOKUP(K92,'Equipment Type'!$A$1:$F$53,5,FALSE))","v":""},{"$f":"IF(K92=\"\",\"\",VLOOKUP(K92,'Equipment Type'!$A$1:$F$53,6,FALSE))","v":""},null,{"$f":"IF(K92=\"\",\"\",VLOOKUP(K92,'Equipment Type'!$A$1:$F$53,4,FALSE))","v":""},null,{"$f":"IF(K92=\"\",\"\",INDEX('Equipment Type'!$T$4:$T$53,MATCH('Analysis 103L'!K92,'Equipment Type'!$A$4:$A$53,0)))","v":""},"",null,{"$f":"IF(RIGHT(I92, 4)=\"Case\", \"\", IF(P92=\"\",\"\",(IF(ISNUMBER(SEARCH(\"exit\",J92)),8760,IF(B92=\"Exterior\",4380,'Analysis 103L'!$J$3)))))","v":""},null,"","","","","",{"$f":"IF(M92=\"Y\",\"CustomCalc\",IF(RIGHT(I92, 4)=\"Case\", \"\",IF(AD92=1,\"\",IF(AF92>0,AF92,\"\"))))","v":""},"",{"$f":"IF(M92 = \"Y\",IF(AND(M92=\"Y\",AG92=\"FAIL\"),\"Not Cost Effective\",\"\"),IF(AD92=1,\"Does not meet requirement\",\"\"))","v":""},{"$f":"IF('100L Information'!$Z$5=\"Yes\",0,IF('100L Information'!$Z$4=\"Yes\",(MIN($Y$232-(-$Y$227),6000)*0.5)*(Y92/$Y$232),$Y$232*(Y92/($Y$230+$Y$231))))","v":{"$error":"#VALUE!"}},"",{"$f":"IF(RIGHT(I92,4)=\"Case\",\"\",IF(I92=\"GROW\",MIN(W92*RunRateMax_CustomMeasures_Horti,P92*Cap_GROW_fixture,S92*Incent_Cost_Fixture_Cust),MIN(W92*IF(I92=\"Street_Lighting\",RunRateMax_Streetlighting,RunRateMax_CustomMeasures_fixtures),S92*Incent_Cost_Fixture_Cust)))","v":{"$error":"#VALUE!"}},"No requirement",{"$f":"MAX(IF(ISERROR(VLOOKUP(CONCATENATE(J92,\" from \",VLOOKUP(D92,ExistFixtCat,4,FALSE)),PropFixtIncent,2,FALSE)),0,VLOOKUP(CONCATENATE(J92,\" from \",VLOOKUP(D92,ExistFixtCat,4,FALSE)),PropFixtIncent,2,FALSE)),IF(ISERROR(VLOOKUP(CONCATENATE(J92,\" from ANY\"),PropFixtIncent,2,FALSE)),0,VLOOKUP(CONCATENATE(J92,\" from ANY\"),PropFixtIncent,2,FALSE)))","v":0},{"$f":"IF(OR(Z92=\"Does not meet requirement\",AND('100L Information'!$AA$21=\"No\",AL92=\"Y\"),AND('100L Information'!$AS$21=FALSE,AL92=\"Y\")),0,IF(ISNUMBER(R92*Incent_Cost_Fixture_Rx),MIN(R92*Incent_Cost_Fixture_Rx,(MAX(AE92,AK92))),0))","v":0},{"$f":"IF(AND(M92=\"Y\",BR92=\"PASS/PASS\"),\"PASS/PASS\",\"FAIL\")","v":"FAIL"},"0","0","0",{"$f":"IF(AE92=0,MAX(IF(ISERROR(VLOOKUP(CONCATENATE(J92,\" from \",VLOOKUP(E92,ExistFixtCat,4,FALSE)),PropFixtIncent,2,FALSE)),0,VLOOKUP(CONCATENATE(J92,\" from \",VLOOKUP(E92,ExistFixtCat,4,FALSE)),PropFixtIncent,2,FALSE)),IF(ISERROR(VLOOKUP(CONCATENATE(J92,\" from ANY\"),PropFixtIncent,2,FALSE)),0,VLOOKUP(CONCATENATE(J92,\" from ANY\"),PropFixtIncent,2,FALSE))),0)","v":0},"N",{"$f":"IF(AG92=\"PASS/PASS\",W92,\"0\")","v":"0"},{"$f":"IF(AG92=\"PASS/PASS\",Y92,\"0\")","v":"0"},null,{"$f":"IF(AND($CB92=\"fixture\",OR($D92=\"CFL\",$D92=\"INCAN\")),VLOOKUP(E92,Incan_Lookup,7,FALSE)*$G92*H92+VLOOKUP(E92,Incan_Lookup,6,FALSE)*$N92*P92,IF(AND($CB92=\"lamp\",OR($D92=\"CFL\",$D92=\"INCAN\")),VLOOKUP(E92,Incan_Lookup,10,FALSE)*$G92*H92+VLOOKUP(E92,Incan_Lookup,9,FALSE)*$N92*P92,IF($D92=\"OTHER\",$G92*$H92,IF($CB92=\"lamp\",(VLOOKUP($E92,ExistFixtLookup,10,FALSE)*H92+VLOOKUP($E92,ExistFixtLookup,9,FALSE)*N92*P92),IF($CB92=\"fixture\",(VLOOKUP($E92,ExistFixtLookup,7,FALSE)*H92+VLOOKUP($E92,ExistFixtLookup,6,FALSE)*N92*P92),$G92)))))","v":""},"",{"$f":"IF(AND(ISNUMBER(BD92),ISNUMBER(W92),$CB92=\"lamp\"),(W92*VLOOKUP(E92,ExistFixtLookup,11,FALSE)+AQ92*(BD92-VLOOKUP(E92,ExistFixtLookup,11,FALSE)))/BD92,IF(AND(ISNUMBER(BD92),ISNUMBER(W92),$CB92=\"fixture\"),(W92*VLOOKUP(E92,ExistFixtLookup,8,FALSE)+AQ92*(BD92-VLOOKUP(E92,ExistFixtLookup,8,FALSE)))/BD92,IF(ISNUMBER(W92),W92,0)))","v":0},"",{"$f":"IF(RIGHT(I92,4)=\"Case\",W92,IF(AND(AL92=\"Y\",AF92<1),0,IF(OR(LEFT(D92,2)=\"T5\",LEFT(D92,3)=\"CFL\",'Analysis 103L'!AS92=\"Less\"),'Analysis 103L'!AR92,'Analysis 103L'!W92)))","v":""},null,0,0,null,{"$error":"#VALUE!"},{"$error":"#VALUE!"},{"$error":"#VALUE!"},null,null,{"$f":"IF(RIGHT(I92,4)=\"Case\",'LED Case Lighting'!$AY$1,IF(J92=\"\",\"\",VLOOKUP(J92,Lookups!$A$30:$J$172,VLOOKUP('100L Information'!$AI$46,Lookups!$J$3:$L$6,3,FALSE),FALSE)))","v":""},{"$f":"IF(B92=\"Exterior\", INDEX($BW$28:$BW$48, $BX$229), IF(OR(BusType=\"Manufacturing\",BusType=\"Indoor Agriculture\",BusType=\"Ag/Dairy/Livestock\",BusType=\"Food/Beverage Production\",BusType=\"Industrial Fabrication\"), IF(Q92<3500, \"1-Shift Industrial\", IF(Q92<5500, \"2-Shift Industrial\", IF(Q92<8000, \"3-Shift Industrial\", \"Flat - ele\"))), INDEX($BV$28:$BV$48, $BX$229)))","v":{"$error":"#N/A"}},"","",{"$error":"#VALUE!"},{"$error":"#VALUE!"},{"$error":"#VALUE!"},{"$f":"VLOOKUP(E92,ExistFixtCat,3,FALSE)/(H92*IF(ISNUMBER(VALUE(MID(E92,5,1))),VALUE(MID(E92,5,1)),1)*Q92)","v":{"$error":"#N/A"}},{"$f":"IF(ISERROR(-PV(POWER(1+Discount_Rate,$BK92)-1,$BD92/$BK92,10+VLOOKUP($E92,ExistFixtCat,2,FALSE))),0,-PV(POWER(1+Discount_Rate,$BK92)-1,$BD92/$BK92,10+VLOOKUP($E92,ExistFixtCat,2,FALSE)))","v":0},{"$f":"VLOOKUP($J92,PropOpLife,3,FALSE)/($P92*IF(ISNUMBER(VALUE(MID($J92,5,1))),VALUE(MID($J92,5,1)),1)*$Q92)","v":{"$error":"#N/A"}},{"$f":"IF(OR(ISERROR(-PV(POWER(1+Discount_Rate,$BM92)-1,$BD92/$BM92,MIN(R92,10+0.5*VLOOKUP($J92,PropOpLife,2,FALSE)))),BL92=0),0,-PV(POWER(1+Discount_Rate,$BM92)-1,$BD92/$BM92,MIN(R92,10+0.5*VLOOKUP($J92,PropOpLife,2,FALSE))))","v":0},{"$error":"#VALUE!"},{"$error":"#VALUE!"},{"$error":"#VALUE!"},"FAIL",null,null,null,null,null,null,null,"Interior / Exterior",null,{"$f":"IF(I92=\"\",\"\",VLOOKUP(I92,FixVsLamp,2,FALSE))","v":""},null,{"$f":"IF(RIGHT(I92,4)=\"Case\",(INDEX('LED Case Lighting'!$AZ$3:$AZ$36,MATCH('Analysis 103L'!$CK92,'LED Case Lighting'!$AS$3:$AS$36,0))),IF(CB92=0,0,IF(CB92=\"lamp\",((Q92/VLOOKUP(B92,Int_Ext,2,FALSE))*VLOOKUP(E92,NEB,16,FALSE)),IF(CB92=\"fixture\",((Q92/VLOOKUP(B92,Int_Ext,2,FALSE))*VLOOKUP(E92,NEB,14,FALSE)),\"\"))))","v":""},null,{"$f":"IF(RIGHT(I92,4)=\"Case\",INDEX('Equipment Type'!$V$4:$V$53, MATCH('Analysis 103L'!$K92, 'Equipment Type'!$A$4:$A$53, 0)), \"\")","v":""},"","","","","",{"$f":"IF(CK92=\"\", \"\", INDEX('LED Case Lighting'!$AR$3:$AR$36, MATCH('Analysis 103L'!CK92, 'LED Case Lighting'!$AS$3:$AS$36, 0)))","v":""},{"$f":"IF(CK92=\"\", \"\", INDEX('LED Case Lighting'!$AW$3:$AW$36, MATCH('Analysis 103L'!CK92, 'LED Case Lighting'!$AS$3:$AS$36, 0)))","v":""},{"$f":"IF(CK92=\"\", \"\", INDEX('LED Case Lighting'!$AX$3:$AX$36, MATCH('Analysis 103L'!CK92, 'LED Case Lighting'!$AS$3:$AS$36, 0)))","v":""},""]
[66,null,null,null,null,null,"",null,{"$f":"IF(K93=\"\",\"\",VLOOKUP(K93,'Equipment Type'!$A$1:$F$53,5,FALSE))","v":""},{"$f":"IF(K93=\"\",\"\",VLOOKUP(K93,'Equipment Type'!$A$1:$F$53,6,FALSE))","v":""},null,{"$f":"IF(K93=\"\",\"\",VLOOKUP(K93,'Equipment Type'!$A$1:$F$53,4,FALSE))","v":""},null,{"$f":"IF(K93=\"\",\"\",INDEX('Equipment Type'!$T$4:$T$53,MATCH('Analysis 103L'!K93,'Equipment Type'!$A$4:$A$53,0)))","v":""},"",null,{"$f":"IF(RIGHT(I93, 4)=\"Case\", \"\", IF(P93=\"\",\"\",(IF(ISNUMBER(SEARCH(\"exit\",J93)),8760,IF(B93=\"Exterior\",4380,'Analysis 103L'!$J$3)))))","v":""},null,"","","","","","","","",{"$f":"IF('100L Information'!$Z$5=\"Yes\",0,IF('100L Information'!$Z$4=\"Yes\",(MIN($Y$232-(-$Y$227),6000)*0.5)*(Y93/$Y$232),$Y$232*(Y93/($Y$230+$Y$231))))","v":{"$error":"#VALUE!"}},"",{"$error":"#VALUE!"},{"$f":"IF(OR(I93=\"TLED\",I93=\"Relamp\",I93=\"LED_High_Bay\",I93=\"LED_Lamps\",I93=\"LED_Exterior_Fixtures\",I93=\"Street_Lighting\",I93=\"LLLC\"),IF(((U93-V93)/U93)>=0.4,0,1),IF(LEFT(J93,3)=\"HID\",IF(((U93-V93)/U93)>=0.5,0,1),IF(I93=\"LED_Interior_Fixtures\",IF(((U93-V93)/U93)>=0.45,0,1),\"No requirement\")))","v":"No requirement"},0,{"$f":"IF(OR(Z93=\"Does not meet requirement\",AND('100L Information'!$AA$21=\"No\",AL93=\"Y\"),AND('100L Information'!$AS$21=FALSE,AL93=\"Y\")),0,IF(ISNUMBER(R93*Incent_Cost_Fixture_Rx),MIN(R93*Incent_Cost_Fixture_Rx,(MAX(AE93,AK93))),0))","v":0},"FAIL","0","0","0",0,{"$f":"IF(ISNUMBER(VLOOKUP(J93,PublicSector,13,FALSE)),\"Y\",\"N\")","v":"N"},"0","0",null,"",{"$f":"IF(ISNUMBER((AP93-N93*P93)*Q93/1000),(AP93-N93*P93)*Q93/1000,W93)","v":""},0,{"$f":"IF(ISNUMBER(AP93),IF(AP93>G93*H93,\"Greater\",\"Less\"),\"\")","v":""},{"$f":"IF(RIGHT(I93,4)=\"Case\",W93,IF(AND(AL93=\"Y\",AF93<1),0,IF(OR(LEFT(D93,2)=\"T5\",LEFT(D93,3)=\"CFL\",'Analysis 103L'!AS93=\"Less\"),'Analysis 103L'!AR93,'Analysis 103L'!W93)))","v":""},null,0,0,null,{"$error":"#VALUE!"},{"$error":"#VALUE!"},{"$error":"#VALUE!"},null,null,{"$f":"IF(RIGHT(I93,4)=\"Case\",'LED Case Lighting'!$AY$1,IF(J93=\"\",\"\",VLOOKUP(J93,Lookups!$A$30:$J$172,VLOOKUP('100L Information'!$AI$46,Lookups!$J$3:$L$6,3,FALSE),FALSE)))","v":""},{"$error":"#N/A"},"","",{"$error":"#VALUE!"},{"$error":"#VALUE!"},{"$error":"#VALUE!"},{"$error":"#N/A"},0,{"$error":"#N/A"},0,{"$error":"#VALUE!"},{"$error":"#VALUE!"},{"$error":"#VALUE!"},"FAIL",null,null,null,null,null,null,null,"Interior / Exterior",null,"",null,{"$f":"IF(RIGHT(I93,4)=\"Case\",(INDEX('LED Case Lighting'!$AZ$3:$AZ$36,MATCH('Analysis 103L'!$CK93,'LED Case Lighting'!$AS$3:$AS$36,0))),IF(CB93=0,0,IF(CB93=\"lamp\",((Q93/VLOOKUP(B93,Int_Ext,2,FALSE))*VLOOKUP(E93,NEB,16,FALSE)),IF(CB93=\"fixture\",((Q93/VLOOKUP(B93,Int_Ext,2,FALSE))*VLOOKUP(E93,NEB,14,FALSE)),\"\"))))","v":""},null,{"$f":"IF(RIGHT(I93,4)=\"Case\",INDEX('Equipment Type'!$V$4:$V$53, MATCH('Analysis 103L'!$K93, 'Equipment Type'!$A$4:$A$53, 0)), \"\")","v":""},{"$f":"IF(RIGHT(I93,4)=\"Case\",IF(ISERROR(FIND(\"T12\",D93)),\"\",\"T12\") & IF(ISERROR(FIND(\"T8\",D93)),\"\",\"T8\") & IF(ISERROR(FIND(\"T5\",D93)),\"\",\"T5\"),\"\")","v":""},{"$f":"IF(RIGHT(I93,4)=\"Case\",IF(ISERROR(FIND(\"Cooler\",B93)),\"\",\"MED\") & IF(ISERROR(FIND(\"Freezer\",B93)),\"\",\"LOW\"),\"\")","v":""},{"$f":"IF(RIGHT(I93,4)=\"Case\",IF(ISERROR(FIND(\"Open\",B93)),\"\",\"OPEN\") & IF(ISERROR(FIND(\"Closed\",B93)),\"\",\"CLSD\"),\"\")","v":""},{"$f":"IF(RIGHT(I93,4)=\"Case\",IF(ISERROR(FIND(\"Remote\",B93)),\"\",\"RC\") & IF(ISERROR(FIND(\"Self\",B93)),\"\",\"SC\"),\"\")","v":""},{"$f":"IF(RIGHT(I93,4)=\"Case\",IF(OR(CF93=\"NE\", LEFT(J93, 6)=\"Motion\"), \"\", \"CL\" & CF93 & CG93 &  IF(CF93=\"SR\",\"LOW\",\"HIGH\") & CH93 & CI93 & CJ93 ), \"\")","v":""},{"$f":"IF(CK93=\"\", \"\", INDEX('LED Case Lighting'!$AR$3:$AR$36, MATCH('Analysis 103L'!CK93, 'LED Case Lighting'!$AS$3:$AS$36, 0)))","v":""},{"$f":"IF(CK93=\"\", \"\", INDEX('LED Case Lighting'!$AW$3:$AW$36, MATCH('Analysis 103L'!CK93, 'LED Case Lighting'!$AS$3:$AS$36, 0)))","v":""},{"$f":"IF(CK93=\"\", \"\", INDEX('LED Case Lighting'!$AX$3:$AX$36, MATCH('Analysis 103L'!CK93, 'LED Case Lighting'!$AS$3:$AS$36, 0)))","v":""},""]
[67,null,null,null,null,null,{"$f":"IF(E94=\"\",\"\",VLOOKUP(E94,ExistFixtLookup,2,FALSE))","v":""},null,{"$f":"IF(K94=\"\",\"\",VLOOKUP(K94,'Equipment Type'!$A$1:$F$53,5,FALSE))","v":""},{"$f":"IF(K94=\"\",\"\",VLOOKUP(K94,'Equipment Type'!$A$1:$F$53,6,FALSE))","v":""},null,{"$f":"IF(K94=\"\",\"\",VLOOKUP(K94,'Equipment Type'!$A$1:$F$53,4,FALSE))","v":""},null,{"$f":"IF(K94=\"\",\"\",INDEX('Equipment Type'!$T$4:$T$53,MATCH('Analysis 103L'!K94,'Equipment Type'!$A$4:$A$53,0)))","v":""},"",null,{"$f":"IF(RIGHT(I94, 4)=\"Case\", \"\", IF(P94=\"\",\"\",(IF(ISNUMBER(SEARCH(\"exit\",J94)),8760,IF(B94=\"Exterior\",4380,'Analysis 103L'!$J$3)))))","v":""},null,"","","","","","","","",{"$f":"IF('100L Information'!$Z$5=\"Yes\",0,IF('100L Information'!$Z$4=\"Yes\",(MIN($Y$232-(-$Y$227),6000)*0.5)*(Y94/$Y$232),$Y$232*(Y94/($Y$230+$Y$231))))","v":{"$error":"#VALUE!"}},{"$f":"IF(W94=\"\",\"\",W94*$D$23)","v":""},{"$error":"#VALUE!"},"No requirement",0,{"$f":"IF(OR(Z94=\"Does not meet requirement\",AND('100L Information'!$AA$21=\"No\",AL94=\"Y\"),AND('100L Information'!$AS$21=FALSE,AL94=\"Y\")),0,IF(ISNUMBER(R94*Incent_Cost_Fixture_Rx),MIN(R94*Incent_Cost_Fixture_Rx,(MAX(AE94,AK94))),0))","v":0},"FAIL","0","0","0",0,"N","0","0",null,"","",0,"",{"$f":"IF(RIGHT(I94,4)=\"Case\",W94,IF(AND(AL94=\"Y\",AF94<1),0,IF(OR(LEFT(D94,2)=\"T5\",LEFT(D94,3)=\"CFL\",'Analysis 103L'!AS94=\"Less\"),'Analysis 103L'!AR94,'Analysis 103L'!W94)))","v":""},null,0,0,null,{"$error":"#VALUE!"},{"$error":"#VALUE!"},{"$error":"#VALUE!"},null,null,{"$f":"IF(RIGHT(I94,4)=\"Case\",'LED Case Lighting'!$AY$1,IF(J94=\"\",\"\",VLOOKUP(J94,Lookups!$A$30:$J$172,VLOOKUP('100L Information'!$AI$46,Lookups!$J$3:$L$6,3,FALSE),FALSE)))","v":""},{"$error":"#N/A"},"",{"$f":"IF(BD94=\"\",\"\",$BF94+-PV(4.5%,BD94,CD94)/$AR94*$P94)","v":""},{"$f":"IF(RIGHT(I94,4)=\"Case\",0.5*R94/AR94, 0.5*S94/AR94)","v":{"$error":"#VALUE!"}},{"$error":"#VALUE!"},{"$error":"#VALUE!"},{"$error":"#N/A"},0,{"$error":"#N/A"},0,{"$error":"#VALUE!"},{"$error":"#VALUE!"},{"$error":"#VALUE!"},"FAIL",null,null,null,null,null,null,null,"Interior / Exterior",null,"",null,{"$f":"IF(RIGHT(I94,4)=\"Case\",(INDEX('LED Case Lighting'!$AZ$3:$AZ$36,MATCH('Analysis 103L'!$CK94,'LED Case Lighting'!$AS$3:$AS$36,0))),IF(CB94=0,0,IF(CB94=\"lamp\",((Q94/VLOOKUP(B94,Int_Ext,2,FALSE))*VLOOKUP(E94,NEB,16,FALSE)),IF(CB94=\"fixture\",((Q94/VLOOKUP(B94,Int_Ext,2,FALSE))*VLOOKUP(E94,NEB,14,FALSE)),\"\"))))","v":""},null,{"$f":"IF(RIGHT(I94,4)=\"Case\",INDEX('Equipment Type'!$V$4:$V$53, MATCH('Analysis 103L'!$K94, 'Equipment Type'!$A$4:$A$53, 0)), \"\")","v":""},"","","","","",{"$f":"IF(CK94=\"\", \"\", INDEX('LED Case Lighting'!$AR$3:$AR$36, MATCH('Analysis 103L'!CK94, 'LED Case Lighting'!$AS$3:$AS$36, 0)))","v":""},{"$f":"IF(CK94=\"\", \"\", INDEX('LED Case Lighting'!$AW$3:$AW$36, MATCH('Analysis 103L'!CK94, 'LED Case Lighting'!$AS$3:$AS$36, 0)))","v":""},{"$f":"IF(CK94=\"\", \"\", INDEX('LED Case Lighting'!$AX$3:$AX$36, MATCH('Analysis 103L'!CK94, 'LED Case Lighting'!$AS$3:$AS$36, 0)))","v":""},""]
[68,null,null,null,null,null,"",null,{"$f":"IF(K95=\"\",\"\",VLOOKUP(K95,'Equipment Type'!$A$1:$F$53,5,FALSE))","v":""},{"$f":"IF(K95=\"\",\"\",VLOOKUP(K95,'Equipment Type'!$A$1:$F$53,6,FALSE))","v":""},null,{"$f":"IF(K95=\"\",\"\",VLOOKUP(K95,'Equipment Type'!$A$1:$F$53,4,FALSE))","v":""},null,{"$f":"IF(K95=\"\",\"\",INDEX('Equipment Type'!$T$4:$T$53,MATCH('Analysis 103L'!K95,'Equipment Type'!$A$4:$A$53,0)))","v":""},"",null,{"$f":"IF(RIGHT(I95, 4)=\"Case\", \"\", IF(P95=\"\",\"\",(IF(ISNUMBER(SEARCH(\"exit\",J95)),8760,IF(B95=\"Exterior\",4380,'Analysis 103L'!$J$3)))))","v":""},null,"","","","","","","","",{"$f":"IF('100L Information'!$Z$5=\"Yes\",0,IF('100L Information'!$Z$4=\"Yes\",(MIN($Y$232-(-$Y$227),6000)*0.5)*(Y95/$Y$232),$Y$232*(Y95/($Y$230+$Y$231))))","v":{"$error":"#VALUE!"}},"",{"$error":"#VALUE!"},"No requirement",0,{"$f":"IF(OR(Z95=\"Does not meet requirement\",AND('100L Information'!$AA$21=\"No\",AL95=\"Y\"),AND('100L Information'!$AS$21=FALSE,AL95=\"Y\")),0,IF(ISNUMBER(R95*Incent_Cost_Fixture_Rx),MIN(R95*Incent_Cost_Fixture_Rx,(MAX(AE95,AK95))),0))","v":0},"FAIL","0","0","0",0,"N","0","0",null,"","",0,"",{"$f":"IF(RIGHT(I95,4)=\"Case\",W95,IF(AND(AL95=\"Y\",AF95<1),0,IF(OR(LEFT(D95,2)=\"T5\",LEFT(D95,3)=\"CFL\",'Analysis 103L'!AS95=\"Less\"),'Analysis 103L'!AR95,'Analysis 103L'!W95)))","v":""},null,0,0,null,{"$error":"#VALUE!"},{"$error":"#VALUE!"},{"$error":"#VALUE!"},null,null,{"$f":"IF(RIGHT(I95,4)=\"Case\",'LED Case Lighting'!$AY$1,IF(J95=\"\",\"\",VLOOKUP(J95,Lookups!$A$30:$J$172,VLOOKUP('100L Information'!$AI$46,Lookups!$J$3:$L$6,3,FALSE),FALSE)))","v":""},{"$error":"#N/A"},"","",{"$error":"#VALUE!"},{"$error":"#VALUE!"},{"$error":"#VALUE!"},{"$error":"#N/A"},0,{"$error":"#N/A"},0,{"$error":"#VALUE!"},{"$error":"#VALUE!"},{"$error":"#VALUE!"},"FAIL",null,null,null,null,null,null,null,"Interior / Exterior",null,"",null,{"$f":"IF(RIGHT(I95,4)=\"Case\",(INDEX('LED Case Lighting'!$AZ$3:$AZ$36,MATCH('Analysis 103L'!$CK95,'LED Case Lighting'!$AS$3:$AS$36,0))),IF(CB95=0,0,IF(CB95=\"lamp\",((Q95/VLOOKUP(B95,Int_Ext,2,FALSE))*VLOOKUP(E95,NEB,16,FALSE)),IF(CB95=\"fixture\",((Q95/VLOOKUP(B95,Int_Ext,2,FALSE))*VLOOKUP(E95,NEB,14,FALSE)),\"\"))))","v":""},null,{"$f":"IF(RIGHT(I95,4)=\"Case\",INDEX('Equipment Type'!$V$4:$V$53, MATCH('Analysis 103L'!$K95, 'Equipment Type'!$A$4:$A$53, 0)), \"\")","v":""},"","","","","",{"$f":"IF(CK95=\"\", \"\", INDEX('LED Case Lighting'!$AR$3:$AR$36, MATCH('Analysis 103L'!CK95, 'LED Case Lighting'!$AS$3:$AS$36, 0)))","v":""},{"$f":"IF(CK95=\"\", \"\", INDEX('LED Case Lighting'!$AW$3:$AW$36, MATCH('Analysis 103L'!CK95, 'LED Case Lighting'!$AS$3:$AS$36, 0)))","v":""},{"$f":"IF(CK95=\"\", \"\", INDEX('LED Case Lighting'!$AX$3:$AX$36, MATCH('Analysis 103L'!CK95, 'LED Case Lighting'!$AS$3:$AS$36, 0)))","v":""},""]
[69,null,null,null,null,null,"",null,{"$f":"IF(K96=\"\",\"\",VLOOKUP(K96,'Equipment Type'!$A$1:$F$53,5,FALSE))","v":""},{"$f":"IF(K96=\"\",\"\",VLOOKUP(K96,'Equipment Type'!$A$1:$F$53,6,FALSE))","v":""},null,{"$f":"IF(K96=\"\",\"\",VLOOKUP(K96,'Equipment Type'!$A$1:$F$53,4,FALSE))","v":""},null,{"$f":"IF(K96=\"\",\"\",INDEX('Equipment Type'!$T$4:$T$53,MATCH('Analysis 103L'!K96,'Equipment Type'!$A$4:$A$53,0)))","v":""},{"$f":"IF(RIGHT(I96, 4)=\"Case\", \"\", IF(G96=\"\",\"\",((G96*H96)-(N96*P96))/(G96*H96)))","v":""},null,{"$f":"IF(RIGHT(I96, 4)=\"Case\", \"\", IF(P96=\"\",\"\",(IF(ISNUMBER(SEARCH(\"exit\",J96)),8760,IF(B96=\"Exterior\",4380,'Analysis 103L'!$J$3)))))","v":""},null,"","","","","","","","",{"$f":"IF('100L Information'!$Z$5=\"Yes\",0,IF('100L Information'!$Z$4=\"Yes\",(MIN($Y$232-(-$Y$227),6000)*0.5)*(Y96/$Y$232),$Y$232*(Y96/($Y$230+$Y$231))))","v":{"$error":"#VALUE!"}},"",{"$error":"#VALUE!"},"No requirement",0,{"$f":"IF(OR(Z96=\"Does not meet requirement\",AND('100L Information'!$AA$21=\"No\",AL96=\"Y\"),AND('100L Information'!$AS$21=FALSE,AL96=\"Y\")),0,IF(ISNUMBER(R96*Incent_Cost_Fixture_Rx),MIN(R96*Incent_Cost_Fixture_Rx,(MAX(AE96,AK96))),0))","v":0},"FAIL","0","0","0",0,"N","0","0",null,"","",0,"",{"$f":"IF(RIGHT(I96,4)=\"Case\",W96,IF(AND(AL96=\"Y\",AF96<1),0,IF(OR(LEFT(D96,2)=\"T5\",LEFT(D96,3)=\"CFL\",'Analysis 103L'!AS96=\"Less\"),'Analysis 103L'!AR96,'Analysis 103L'!W96)))","v":""},null,{"$f":"IF($B96=\"Interior\",IF(ISNUMBER($G96*$H96),$G96*$H96,0), 0)","v":0},{"$f":"IF($B96=\"Interior\",IF(ISNUMBER($N96*$P96),$N96*$P96,0), 0)","v":0},null,{"$error":"#VALUE!"},{"$error":"#VALUE!"},{"$error":"#VALUE!"},null,null,{"$f":"IF(RIGHT(I96,4)=\"Case\",'LED Case Lighting'!$AY$1,IF(J96=\"\",\"\",VLOOKUP(J96,Lookups!$A$30:$J$172,VLOOKUP('100L Information'!$AI$46,Lookups!$J$3:$L$6,3,FALSE),FALSE)))","v":""},{"$error":"#N/A"},"","",{"$error":"#VALUE!"},{"$error":"#VALUE!"},{"$error":"#VALUE!"},{"$error":"#N/A"},0,{"$error":"#N/A"},0,{"$f":"IF(RIGHT(I96,4)=\"Case\",R96/AR96,S96/AR96)","v":{"$error":"#VALUE!"}},{"$error":"#VALUE!"},{"$error":"#VALUE!"},"FAIL",null,null,null,null,null,null,null,"Interior / Exterior",null,"",null,{"$f":"IF(RIGHT(I96,4)=\"Case\",(INDEX('LED Case Lighting'!$AZ$3:$AZ$36,MATCH('Analysis 103L'!$CK96,'LED Case Lighting'!$AS$3:$AS$36,0))),IF(CB96=0,0,IF(CB96=\"lamp\",((Q96/VLOOKUP(B96,Int_Ext,2,FALSE))*VLOOKUP(E96,NEB,16,FALSE)),IF(CB96=\"fixture\",((Q96/VLOOKUP(B96,Int_Ext,2,FALSE))*VLOOKUP(E96,NEB,14,FALSE)),\"\"))))","v":""},null,{"$f":"IF(RIGHT(I96,4)=\"Case\",INDEX('Equipment Type'!$V$4:$V$53, MATCH('Analysis 103L'!$K96, 'Equipment Type'!$A$4:$A$53, 0)), \"\")","v":""},"","","","","",{"$f":"IF(CK96=\"\", \"\", INDEX('LED Case Lighting'!$AR$3:$AR$36, MATCH('Analysis 103L'!CK96, 'LED Case Lighting'!$AS$3:$AS$36, 0)))","v":""},{"$f":"IF(CK96=\"\", \"\", INDEX('LED Case Lighting'!$AW$3:$AW$36, MATCH('Analysis 103L'!CK96, 'LED Case Lighting'!$AS$3:$AS$36, 0)))","v":""},{"$f":"IF(CK96=\"\", \"\", INDEX('LED Case Lighting'!$AX$3:$AX$36, MATCH('Analysis 103L'!CK96, 'LED Case Lighting'!$AS$3:$AS$36, 0)))","v":""},""]
[70,null,null,null,null,null,"",null,{"$f":"IF(K97=\"\",\"\",VLOOKUP(K97,'Equipment Type'!$A$1:$F$53,5,FALSE))","v":""},{"$f":"IF(K97=\"\",\"\",VLOOKUP(K97,'Equipment Type'!$A$1:$F$53,6,FALSE))","v":""},null,{"$f":"IF(K97=\"\",\"\",VLOOKUP(K97,'Equipment Type'!$A$1:$F$53,4,FALSE))","v":""},null,{"$f":"IF(K97=\"\",\"\",INDEX('Equipment Type'!$T$4:$T$53,MATCH('Analysis 103L'!K97,'Equipment Type'!$A$4:$A$53,0)))","v":""},"",null,{"$f":"IF(RIGHT(I97, 4)=\"Case\", \"\", IF(P97=\"\",\"\",(IF(ISNUMBER(SEARCH(\"exit\",J97)),8760,IF(B97=\"Exterior\",4380,'Analysis 103L'!$J$3)))))","v":""},null,"","","","","","","","",{"$f":"IF('100L Information'!$Z$5=\"Yes\",0,IF('100L Information'!$Z$4=\"Yes\",(MIN($Y$232-(-$Y$227),6000)*0.5)*(Y97/$Y$232),$Y$232*(Y97/($Y$230+$Y$231))))","v":{"$error":"#VALUE!"}},"",{"$error":"#VALUE!"},"No requirement",0,{"$f":"IF(OR(Z97=\"Does not meet requirement\",AND('100L Information'!$AA$21=\"No\",AL97=\"Y\"),AND('100L Information'!$AS$21=FALSE,AL97=\"Y\")),0,IF(ISNUMBER(R97*Incent_Cost_Fixture_Rx),MIN(R97*Incent_Cost_Fixture_Rx,(MAX(AE97,AK97))),0))","v":0},"FAIL","0","0","0",0,"N","0","0",null,"","",0,"",{"$f":"IF(RIGHT(I97,4)=\"Case\",W97,IF(AND(AL97=\"Y\",AF97<1),0,IF(OR(LEFT(D97,2)=\"T5\",LEFT(D97,3)=\"CFL\",'Analysis 103L'!AS97=\"Less\"),'Analysis 103L'!AR97,'Analysis 103L'!W97)))","v":""},null,0,0,null,{"$error":"#VALUE!"},{"$error":"#VALUE!"},{"$error":"#VALUE!"},null,null,{"$f":"IF(RIGHT(I97,4)=\"Case\",'LED Case Lighting'!$AY$1,IF(J97=\"\",\"\",VLOOKUP(J97,Lookups!$A$30:$J$172,VLOOKUP('100L Information'!$AI$46,Lookups!$J$3:$L$6,3,FALSE),FALSE)))","v":""},{"$error":"#N/A"},"","",{"$error":"#VALUE!"},{"$error":"#VALUE!"},{"$error":"#VALUE!"},{"$error":"#N/A"},0,{"$error":"#N/A"},0,{"$error":"#VALUE!"},{"$error":"#VALUE!"},{"$error":"#VALUE!"},"FAIL",null,null,null,null,null,null,null,"Interior / Exterior",null,"",null,{"$f":"IF(RIGHT(I97,4)=\"Case\",(INDEX('LED Case Lighting'!$AZ$3:$AZ$36,MATCH('Analysis 103L'!$CK97,'LED Case Lighting'!$AS$3:$AS$36,0))),IF(CB97=0,0,IF(CB97=\"lamp\",((Q97/VLOOKUP(B97,Int_Ext,2,FALSE))*VLOOKUP(E97,NEB,16,FALSE)),IF(CB97=\"fixture\",((Q97/VLOOKUP(B97,Int_Ext,2,FALSE))*VLOOKUP(E97,NEB,14,FALSE)),\"\"))))","v":""},null,{"$f":"IF(RIGHT(I97,4)=\"Case\",INDEX('Equipment Type'!$V$4:$V$53, MATCH('Analysis 103L'!$K97, 'Equipment Type'!$A$4:$A$53, 0)), \"\")","v":""},"","","","","",{"$f":"IF(CK97=\"\", \"\", INDEX('LED Case Lighting'!$AR$3:$AR$36, MATCH('Analysis 103L'!CK97, 'LED Case Lighting'!$AS$3:$AS$36, 0)))","v":""},{"$f":"IF(CK97=\"\", \"\", INDEX('LED Case Lighting'!$AW$3:$AW$36, MATCH('Analysis 103L'!CK97, 'LED Case Lighting'!$AS$3:$AS$36, 0)))","v":""},{"$f":"IF(CK97=\"\", \"\", INDEX('LED Case Lighting'!$AX$3:$AX$36, MATCH('Analysis 103L'!CK97, 'LED Case Lighting'!$AS$3:$AS$36, 0)))","v":""},""]
[71,null,null,null,null,null,"",null,{"$f":"IF(K98=\"\",\"\",VLOOKUP(K98,'Equipment Type'!$A$1:$F$53,5,FALSE))","v":""},{"$f":"IF(K98=\"\",\"\",VLOOKUP(K98,'Equipment Type'!$A$1:$F$53,6,FALSE))","v":""},null,{"$f":"IF(K98=\"\",\"\",VLOOKUP(K98,'Equipment Type'!$A$1:$F$53,4,FALSE))","v":""},null,{"$f":"IF(K98=\"\",\"\",INDEX('Equipment Type'!$T$4:$T$53,MATCH('Analysis 103L'!K98,'Equipment Type'!$A$4:$A$53,0)))","v":""},"",null,{"$f":"IF(RIGHT(I98, 4)=\"Case\", \"\", IF(P98=\"\",\"\",(IF(ISNUMBER(SEARCH(\"exit\",J98)),8760,IF(B98=\"Exterior\",4380,'Analysis 103L'!$J$3)))))","v":""},null,"","","","","","",{"$f":"IF(RIGHT(I98, 4)=\"Case\", IF(LEFT(J98, 6)=\"Motion\", \"\", CO98), IF(AND(W98>0,ISNUMBER(X98)),X98*P98,IF(P98=\"\",\"\",IF(RIGHT(I98, 4)=\"Case\", IF(LEFT(J98, 6)=\"Motion\", \"\", CO98),IF(AND(X98=\"CustomCalc\",AG98=\"PASS/PASS\"),AC98,0)))))","v":""},"",{"$f":"IF('100L Information'!$Z$5=\"Yes\",0,IF('100L Information'!$Z$4=\"Yes\",(MIN($Y$232-(-$Y$227),6000)*0.5)*(Y98/$Y$232),$Y$232*(Y98/($Y$230+$Y$231))))","v":{"$error":"#VALUE!"}},"",{"$error":"#VALUE!"},"No requirement",0,{"$f":"IF(OR(Z98=\"Does not meet requirement\",AND('100L Information'!$AA$21=\"No\",AL98=\"Y\"),AND('100L Information'!$AS$21=FALSE,AL98=\"Y\")),0,IF(ISNUMBER(R98*Incent_Cost_Fixture_Rx),MIN(R98*Incent_Cost_Fixture_Rx,(MAX(AE98,AK98))),0))","v":0},"FAIL","0","0","0",0,"N","0","0",null,"","",0,"",{"$f":"IF(RIGHT(I98,4)=\"Case\",W98,IF(AND(AL98=\"Y\",AF98<1),0,IF(OR(LEFT(D98,2)=\"T5\",LEFT(D98,3)=\"CFL\",'Analysis 103L'!AS98=\"Less\"),'Analysis 103L'!AR98,'Analysis 103L'!W98)))","v":""},null,0,0,null,{"$error":"#VALUE!"},{"$error":"#VALUE!"},{"$error":"#VALUE!"},null,null,{"$f":"IF(RIGHT(I98,4)=\"Case\",'LED Case Lighting'!$AY$1,IF(J98=\"\",\"\",VLOOKUP(J98,Lookups!$A$30:$J$172,VLOOKUP('100L Information'!$AI$46,Lookups!$J$3:$L$6,3,FALSE),FALSE)))","v":""},{"$error":"#N/A"},"","",{"$error":"#VALUE!"},{"$error":"#VALUE!"},{"$error":"#VALUE!"},{"$error":"#N/A"},0,{"$error":"#N/A"},0,{"$error":"#VALUE!"},{"$error":"#VALUE!"},{"$error":"#VALUE!"},"FAIL",null,null,null,null,null,null,null,"Interior / Exterior",null,"",null,{"$f":"IF(RIGHT(I98,4)=\"Case\",(INDEX('LED Case Lighting'!$AZ$3:$AZ$36,MATCH('Analysis 103L'!$CK98,'LED Case Lighting'!$AS$3:$AS$36,0))),IF(CB98=0,0,IF(CB98=\"lamp\",((Q98/VLOOKUP(B98,Int_Ext,2,FALSE))*VLOOKUP(E98,NEB,16,FALSE)),IF(CB98=\"fixture\",((Q98/VLOOKUP(B98,Int_Ext,2,FALSE))*VLOOKUP(E98,NEB,14,FALSE)),\"\"))))","v":""},null,{"$f":"IF(RIGHT(I98,4)=\"Case\",INDEX('Equipment Type'!$V$4:$V$53, MATCH('Analysis 103L'!$K98, 'Equipment Type'!$A$4:$A$53, 0)), \"\")","v":""},"","","","","",{"$f":"IF(CK98=\"\", \"\", INDEX('LED Case Lighting'!$AR$3:$AR$36, MATCH('Analysis 103L'!CK98, 'LED Case Lighting'!$AS$3:$AS$36, 0)))","v":""},{"$f":"IF(CK98=\"\", \"\", INDEX('LED Case Lighting'!$AW$3:$AW$36, MATCH('Analysis 103L'!CK98, 'LED Case Lighting'!$AS$3:$AS$36, 0)))","v":""},{"$f":"IF(CK98=\"\", \"\", INDEX('LED Case Lighting'!$AX$3:$AX$36, MATCH('Analysis 103L'!CK98, 'LED Case Lighting'!$AS$3:$AS$36, 0)))","v":""},""]
[72,null,null,null,null,null,"",null,{"$f":"IF(K99=\"\",\"\",VLOOKUP(K99,'Equipment Type'!$A$1:$F$53,5,FALSE))","v":""},{"$f":"IF(K99=\"\",\"\",VLOOKUP(K99,'Equipment Type'!$A$1:$F$53,6,FALSE))","v":""},null,{"$f":"IF(K99=\"\",\"\",VLOOKUP(K99,'Equipment Type'!$A$1:$F$53,4,FALSE))","v":""},null,{"$f":"IF(K99=\"\",\"\",INDEX('Equipment Type'!$T$4:$T$53,MATCH('Analysis 103L'!K99,'Equipment Type'!$A$4:$A$53,0)))","v":""},"",null,{"$f":"IF(RIGHT(I99, 4)=\"Case\", \"\", IF(P99=\"\",\"\",(IF(ISNUMBER(SEARCH(\"exit\",J99)),8760,IF(B99=\"Exterior\",4380,'Analysis 103L'!$J$3)))))","v":""},null,"","","","","","","","",{"$f":"IF('100L Information'!$Z$5=\"Yes\",0,IF('100L Information'!$Z$4=\"Yes\",(MIN($Y$232-(-$Y$227),6000)*0.5)*(Y99/$Y$232),$Y$232*(Y99/($Y$230+$Y$231))))","v":{"$error":"#VALUE!"}},"",{"$error":"#VALUE!"},"No requirement",0,{"$f":"IF(OR(Z99=\"Does not meet requirement\",AND('100L Information'!$AA$21=\"No\",AL99=\"Y\"),AND('100L Information'!$AS$21=FALSE,AL99=\"Y\")),0,IF(ISNUMBER(R99*Incent_Cost_Fixture_Rx),MIN(R99*Incent_Cost_Fixture_Rx,(MAX(AE99,AK99))),0))","v":0},"FAIL","0","0","0",0,"N","0","0",null,"","",0,"",{"$f":"IF(RIGHT(I99,4)=\"Case\",W99,IF(AND(AL99=\"Y\",AF99<1),0,IF(OR(LEFT(D99,2)=\"T5\",LEFT(D99,3)=\"CFL\",'Analysis 103L'!AS99=\"Less\"),'Analysis 103L'!AR99,'Analysis 103L'!W99)))","v":""},null,0,0,null,{"$error":"#VALUE!"},{"$error":"#VALUE!"},{"$error":"#VALUE!"},null,null,{"$f":"IF(RIGHT(I99,4)=\"Case\",'LED Case Lighting'!$AY$1,IF(J99=\"\",\"\",VLOOKUP(J99,Lookups!$A$30:$J$172,VLOOKUP('100L Information'!$AI$46,Lookups!$J$3:$L$6,3,FALSE),FALSE)))","v":""},{"$error":"#N/A"},"","",{"$error":"#VALUE!"},{"$error":"#VALUE!"},{"$error":"#VALUE!"},{"$error":"#N/A"},0,{"$error":"#N/A"},0,{"$error":"#VALUE!"},{"$error":"#VALUE!"},{"$error":"#VALUE!"},"FAIL",null,null,null,null,null,null,null,"Interior / Exterior",null,"",null,{"$f":"IF(RIGHT(I99,4)=\"Case\",(INDEX('LED Case Lighting'!$AZ$3:$AZ$36,MATCH('Analysis 103L'!$CK99,'LED Case Lighting'!$AS$3:$AS$36,0))),IF(CB99=0,0,IF(CB99=\"lamp\",((Q99/VLOOKUP(B99,Int_Ext,2,FALSE))*VLOOKUP(E99,NEB,16,FALSE)),IF(CB99=\"fixture\",((Q99/VLOOKUP(B99,Int_Ext,2,FALSE))*VLOOKUP(E99,NEB,14,FALSE)),\"\"))))","v":""},null,{"$f":"IF(RIGHT(I99,4)=\"Case\",INDEX('Equipment Type'!$V$4:$V$53, MATCH('Analysis 103L'!$K99, 'Equipment Type'!$A$4:$A$53, 0)), \"\")","v":""},"","","","","",{"$f":"IF(CK99=\"\", \"\", INDEX('LED Case Lighting'!$AR$3:$AR$36, MATCH('Analysis 103L'!CK99, 'LED Case Lighting'!$AS$3:$AS$36, 0)))","v":""},{"$f":"IF(CK99=\"\", \"\", INDEX('LED Case Lighting'!$AW$3:$AW$36, MATCH('Analysis 103L'!CK99, 'LED Case Lighting'!$AS$3:$AS$36, 0)))","v":""},{"$f":"IF(CK99=\"\", \"\", INDEX('LED Case Lighting'!$AX$3:$AX$36, MATCH('Analysis 103L'!CK99, 'LED Case Lighting'!$AS$3:$AS$36, 0)))","v":""},{"$f":"IF(CN99=\"\",\"\",MIN(R99*Incent_Cost_Case,(P99*CN99)))","v":""}]
[73,null,null,null,null,null,"",null,{"$f":"IF(K100=\"\",\"\",VLOOKUP(K100,'Equipment Type'!$A$1:$F$53,5,FALSE))","v":""},{"$f":"IF(K100=\"\",\"\",VLOOKUP(K100,'Equipment Type'!$A$1:$F$53,6,FALSE))","v":""},null,{"$f":"IF(K100=\"\",\"\",VLOOKUP(K100,'Equipment Type'!$A$1:$F$53,4,FALSE))","v":""},null,{"$f":"IF(K100=\"\",\"\",INDEX('Equipment Type'!$T$4:$T$53,MATCH('Analysis 103L'!K100,'Equipment Type'!$A$4:$A$53,0)))","v":""},"",null,{"$f":"IF(RIGHT(I100, 4)=\"Case\", \"\", IF(P100=\"\",\"\",(IF(ISNUMBER(SEARCH(\"exit\",J100)),8760,IF(B100=\"Exterior\",4380,'Analysis 103L'!$J$3)))))","v":""},null,"","","","","","","","",{"$f":"IF('100L Information'!$Z$5=\"Yes\",0,IF('100L Information'!$Z$4=\"Yes\",(MIN($Y$232-(-$Y$227),6000)*0.5)*(Y100/$Y$232),$Y$232*(Y100/($Y$230+$Y$231))))","v":{"$error":"#VALUE!"}},"",{"$error":"#VALUE!"},"No requirement",0,{"$f":"IF(OR(Z100=\"Does not meet requirement\",AND('100L Information'!$AA$21=\"No\",AL100=\"Y\"),AND('100L Information'!$AS$21=FALSE,AL100=\"Y\")),0,IF(ISNUMBER(R100*Incent_Cost_Fixture_Rx),MIN(R100*Incent_Cost_Fixture_Rx,(MAX(AE100,AK100))),0))","v":0},"FAIL","0","0","0",0,"N","0","0",null,"","",0,"",{"$f":"IF(RIGHT(I100,4)=\"Case\",W100,IF(AND(AL100=\"Y\",AF100<1),0,IF(OR(LEFT(D100,2)=\"T5\",LEFT(D100,3)=\"CFL\",'Analysis 103L'!AS100=\"Less\"),'Analysis 103L'!AR100,'Analysis 103L'!W100)))","v":""},null,0,0,null,{"$error":"#VALUE!"},{"$error":"#VALUE!"},{"$error":"#VALUE!"},null,null,{"$f":"IF(RIGHT(I100,4)=\"Case\",'LED Case Lighting'!$AY$1,IF(J100=\"\",\"\",VLOOKUP(J100,Lookups!$A$30:$J$172,VLOOKUP('100L Information'!$AI$46,Lookups!$J$3:$L$6,3,FALSE),FALSE)))","v":""},{"$error":"#N/A"},"","",{"$error":"#VALUE!"},{"$error":"#VALUE!"},{"$error":"#VALUE!"},{"$error":"#N/A"},0,{"$error":"#N/A"},0,{"$error":"#VALUE!"},{"$error":"#VALUE!"},{"$error":"#VALUE!"},"FAIL",null,null,null,null,null,null,null,"Interior / Exterior",null,"",null,{"$f":"IF(RIGHT(I100,4)=\"Case\",(INDEX('LED Case Lighting'!$AZ$3:$AZ$36,MATCH('Analysis 103L'!$CK100,'LED Case Lighting'!$AS$3:$AS$36,0))),IF(CB100=0,0,IF(CB100=\"lamp\",((Q100/VLOOKUP(B100,Int_Ext,2,FALSE))*VLOOKUP(E100,NEB,16,FALSE)),IF(CB100=\"fixture\",((Q100/VLOOKUP(B100,Int_Ext,2,FALSE))*VLOOKUP(E100,NEB,14,FALSE)),\"\"))))","v":""},null,{"$f":"IF(RIGHT(I100,4)=\"Case\",INDEX('Equipment Type'!$V$4:$V$53, MATCH('Analysis 103L'!$K100, 'Equipment Type'!$A$4:$A$53, 0)), \"\")","v":""},"","","","","",{"$f":"IF(CK100=\"\", \"\", INDEX('LED Case Lighting'!$AR$3:$AR$36, MATCH('Analysis 103L'!CK100, 'LED Case Lighting'!$AS$3:$AS$36, 0)))","v":""},{"$f":"IF(CK100=\"\", \"\", INDEX('LED Case Lighting'!$AW$3:$AW$36, MATCH('Analysis 103L'!CK100, 'LED Case Lighting'!$AS$3:$AS$36, 0)))","v":""},{"$f":"IF(CK100=\"\", \"\", INDEX('LED Case Lighting'!$AX$3:$AX$36, MATCH('Analysis 103L'!CK100, 'LED Case Lighting'!$AS$3:$AS$36, 0)))","v":""},""]
[74,null,null,null,null,null,"",null,{"$f":"IF(K101=\"\",\"\",VLOOKUP(K101,'Equipment Type'!$A$1:$F$53,5,FALSE))","v":""},{"$f":"IF(K101=\"\",\"\",VLOOKUP(K101,'Equipment Type'!$A$1:$F$53,6,FALSE))","v":""},null,{"$f":"IF(K101=\"\",\"\",VLOOKUP(K101,'Equipment Type'!$A$1:$F$53,4,FALSE))","v":""},null,{"$f":"IF(K101=\"\",\"\",INDEX('Equipment Type'!$T$4:$T$53,MATCH('Analysis 103L'!K101,'Equipment Type'!$A$4:$A$53,0)))","v":""},"",null,{"$f":"IF(RIGHT(I101, 4)=\"Case\", \"\", IF(P101=\"\",\"\",(IF(ISNUMBER(SEARCH(\"exit\",J101)),8760,IF(B101=\"Exterior\",4380,'Analysis 103L'!$J$3)))))","v":""},null,"","","","","","","","",{"$f":"IF('100L Information'!$Z$5=\"Yes\",0,IF('100L Information'!$Z$4=\"Yes\",(MIN($Y$232-(-$Y$227),6000)*0.5)*(Y101/$Y$232),$Y$232*(Y101/($Y$230+$Y$231))))","v":{"$error":"#VALUE!"}},"",{"$error":"#VALUE!"},"No requirement",{"$f":"MAX(IF(ISERROR(VLOOKUP(CONCATENATE(J101,\" from \",VLOOKUP(D101,ExistFixtCat,4,FALSE)),PropFixtIncent,2,FALSE)),0,VLOOKUP(CONCATENATE(J101,\" from \",VLOOKUP(D101,ExistFixtCat,4,FALSE)),PropFixtIncent,2,FALSE)),IF(ISERROR(VLOOKUP(CONCATENATE(J101,\" from ANY\"),PropFixtIncent,2,FALSE)),0,VLOOKUP(CONCATENATE(J101,\" from ANY\"),PropFixtIncent,2,FALSE)))","v":0},{"$f":"IF(OR(Z101=\"Does not meet requirement\",AND('100L Information'!$AA$21=\"No\",AL101=\"Y\"),AND('100L Information'!$AS$21=FALSE,AL101=\"Y\")),0,IF(ISNUMBER(R101*Incent_Cost_Fixture_Rx),MIN(R101*Incent_Cost_Fixture_Rx,(MAX(AE101,AK101))),0))","v":0},"FAIL","0","0","0",0,"N","0","0",null,"","",0,"",{"$f":"IF(RIGHT(I101,4)=\"Case\",W101,IF(AND(AL101=\"Y\",AF101<1),0,IF(OR(LEFT(D101,2)=\"T5\",LEFT(D101,3)=\"CFL\",'Analysis 103L'!AS101=\"Less\"),'Analysis 103L'!AR101,'Analysis 103L'!W101)))","v":""},null,0,0,null,{"$error":"#VALUE!"},{"$error":"#VALUE!"},{"$error":"#VALUE!"},null,null,{"$f":"IF(RIGHT(I101,4)=\"Case\",'LED Case Lighting'!$AY$1,IF(J101=\"\",\"\",VLOOKUP(J101,Lookups!$A$30:$J$172,VLOOKUP('100L Information'!$AI$46,Lookups!$J$3:$L$6,3,FALSE),FALSE)))","v":""},{"$error":"#N/A"},"","",{"$error":"#VALUE!"},{"$error":"#VALUE!"},{"$error":"#VALUE!"},{"$error":"#N/A"},0,{"$error":"#N/A"},0,{"$error":"#VALUE!"},{"$error":"#VALUE!"},{"$error":"#VALUE!"},"FAIL",null,null,null,null,null,null,null,"Interior / Exterior",null,"",null,{"$f":"IF(RIGHT(I101,4)=\"Case\",(INDEX('LED Case Lighting'!$AZ$3:$AZ$36,MATCH('Analysis 103L'!$CK101,'LED Case Lighting'!$AS$3:$AS$36,0))),IF(CB101=0,0,IF(CB101=\"lamp\",((Q101/VLOOKUP(B101,Int_Ext,2,FALSE))*VLOOKUP(E101,NEB,16,FALSE)),IF(CB101=\"fixture\",((Q101/VLOOKUP(B101,Int_Ext,2,FALSE))*VLOOKUP(E101,NEB,14,FALSE)),\"\"))))","v":""},null,{"$f":"IF(RIGHT(I101,4)=\"Case\",INDEX('Equipment Type'!$V$4:$V$53, MATCH('Analysis 103L'!$K101, 'Equipment Type'!$A$4:$A$53, 0)), \"\")","v":""},"","","","","",{"$f":"IF(CK101=\"\", \"\", INDEX('LED Case Lighting'!$AR$3:$AR$36, MATCH('Analysis 103L'!CK101, 'LED Case Lighting'!$AS$3:$AS$36, 0)))","v":""},{"$f":"IF(CK101=\"\", \"\", INDEX('LED Case Lighting'!$AW$3:$AW$36, MATCH('Analysis 103L'!CK101, 'LED Case Lighting'!$AS$3:$AS$36, 0)))","v":""},{"$f":"IF(CK101=\"\", \"\", INDEX('LED Case Lighting'!$AX$3:$AX$36, MATCH('Analysis 103L'!CK101, 'LED Case Lighting'!$AS$3:$AS$36, 0)))","v":""},""]
[75,null,null,null,null,null,"",null,{"$f":"IF(K102=\"\",\"\",VLOOKUP(K102,'Equipment Type'!$A$1:$F$53,5,FALSE))","v":""},{"$f":"IF(K102=\"\",\"\",VLOOKUP(K102,'Equipment Type'!$A$1:$F$53,6,FALSE))","v":""},null,{"$f":"IF(K102=\"\",\"\",VLOOKUP(K102,'Equipment Type'!$A$1:$F$53,4,FALSE))","v":""},null,{"$f":"IF(K102=\"\",\"\",INDEX('Equipment Type'!$T$4:$T$53,MATCH('Analysis 103L'!K102,'Equipment Type'!$A$4:$A$53,0)))","v":""},"",null,{"$f":"IF(RIGHT(I102, 4)=\"Case\", \"\", IF(P102=\"\",\"\",(IF(ISNUMBER(SEARCH(\"exit\",J102)),8760,IF(B102=\"Exterior\",4380,'Analysis 103L'!$J$3)))))","v":""},null,"","","","","","","","",{"$f":"IF('100L Information'!$Z$5=\"Yes\",0,IF('100L Information'!$Z$4=\"Yes\",(MIN($Y$232-(-$Y$227),6000)*0.5)*(Y102/$Y$232),$Y$232*(Y102/($Y$230+$Y$231))))","v":{"$error":"#VALUE!"}},"",{"$error":"#VALUE!"},"No requirement",0,{"$f":"IF(OR(Z102=\"Does not meet requirement\",AND('100L Information'!$AA$21=\"No\",AL102=\"Y\"),AND('100L Information'!$AS$21=FALSE,AL102=\"Y\")),0,IF(ISNUMBER(R102*Incent_Cost_Fixture_Rx),MIN(R102*Incent_Cost_Fixture_Rx,(MAX(AE102,AK102))),0))","v":0},"FAIL","0","0","0",0,"N","0","0",null,"","",0,"",{"$f":"IF(RIGHT(I102,4)=\"Case\",W102,IF(AND(AL102=\"Y\",AF102<1),0,IF(OR(LEFT(D102,2)=\"T5\",LEFT(D102,3)=\"CFL\",'Analysis 103L'!AS102=\"Less\"),'Analysis 103L'!AR102,'Analysis 103L'!W102)))","v":""},null,0,0,null,{"$error":"#VALUE!"},{"$error":"#VALUE!"},{"$error":"#VALUE!"},null,null,{"$f":"IF(RIGHT(I102,4)=\"Case\",'LED Case Lighting'!$AY$1,IF(J102=\"\",\"\",VLOOKUP(J102,Lookups!$A$30:$J$172,VLOOKUP('100L Information'!$AI$46,Lookups!$J$3:$L$6,3,FALSE),FALSE)))","v":""},{"$error":"#N/A"},"","",{"$error":"#VALUE!"},{"$error":"#VALUE!"},{"$error":"#VALUE!"},{"$error":"#N/A"},0,{"$error":"#N/A"},0,{"$error":"#VALUE!"},{"$error":"#VALUE!"},{"$error":"#VALUE!"},"FAIL",null,null,null,null,null,null,null,"Interior / Exterior",null,"",null,{"$f":"IF(RIGHT(I102,4)=\"Case\",(INDEX('LED Case Lighting'!$AZ$3:$AZ$36,MATCH('Analysis 103L'!$CK102,'LED Case Lighting'!$AS$3:$AS$36,0))),IF(CB102=0,0,IF(CB102=\"lamp\",((Q102/VLOOKUP(B102,Int_Ext,2,FALSE))*VLOOKUP(E102,NEB,16,FALSE)),IF(CB102=\"fixture\",((Q102/VLOOKUP(B102,Int_Ext,2,FALSE))*VLOOKUP(E102,NEB,14,FALSE)),\"\"))))","v":""},null,{"$f":"IF(RIGHT(I102,4)=\"Case\",INDEX('Equipment Type'!$V$4:$V$53, MATCH('Analysis 103L'!$K102, 'Equipment Type'!$A$4:$A$53, 0)), \"\")","v":""},"","","","","",{"$f":"IF(CK102=\"\", \"\", INDEX('LED Case Lighting'!$AR$3:$AR$36, MATCH('Analysis 103L'!CK102, 'LED Case Lighting'!$AS$3:$AS$36, 0)))","v":""},{"$f":"IF(CK102=\"\", \"\", INDEX('LED Case Lighting'!$AW$3:$AW$36, MATCH('Analysis 103L'!CK102, 'LED Case Lighting'!$AS$3:$AS$36, 0)))","v":""},{"$f":"IF(CK102=\"\", \"\", INDEX('LED Case Lighting'!$AX$3:$AX$36, MATCH('Analysis 103L'!CK102, 'LED Case Lighting'!$AS$3:$AS$36, 0)))","v":""},""]
[76,null,null,null,null,null,"",null,{"$f":"IF(K103=\"\",\"\",VLOOKUP(K103,'Equipment Type'!$A$1:$F$53,5,FALSE))","v":""},{"$f":"IF(K103=\"\",\"\",VLOOKUP(K103,'Equipment Type'!$A$1:$F$53,6,FALSE))","v":""},null,{"$f":"IF(K103=\"\",\"\",VLOOKUP(K103,'Equipment Type'!$A$1:$F$53,4,FALSE))","v":""},null,{"$f":"IF(K103=\"\",\"\",INDEX('Equipment Type'!$T$4:$T$53,MATCH('Analysis 103L'!K103,'Equipment Type'!$A$4:$A$53,0)))","v":""},"",null,{"$f":"IF(RIGHT(I103, 4)=\"Case\", \"\", IF(P103=\"\",\"\",(IF(ISNUMBER(SEARCH(\"exit\",J103)),8760,IF(B103=\"Exterior\",4380,'Analysis 103L'!$J$3)))))","v":""},null,"","","","","","","","",{"$f":"IF('100L Information'!$Z$5=\"Yes\",0,IF('100L Information'!$Z$4=\"Yes\",(MIN($Y$232-(-$Y$227),6000)*0.5)*(Y103/$Y$232),$Y$232*(Y103/($Y$230+$Y$231))))","v":{"$error":"#VALUE!"}},"",{"$error":"#VALUE!"},"No requirement",0,{"$f":"IF(OR(Z103=\"Does not meet requirement\",AND('100L Information'!$AA$21=\"No\",AL103=\"Y\"),AND('100L Information'!$AS$21=FALSE,AL103=\"Y\")),0,IF(ISNUMBER(R103*Incent_Cost_Fixture_Rx),MIN(R103*Incent_Cost_Fixture_Rx,(MAX(AE103,AK103))),0))","v":0},"FAIL","0","0","0",0,"N","0","0",null,"","",0,"",{"$f":"IF(RIGHT(I103,4)=\"Case\",W103,IF(AND(AL103=\"Y\",AF103<1),0,IF(OR(LEFT(D103,2)=\"T5\",LEFT(D103,3)=\"CFL\",'Analysis 103L'!AS103=\"Less\"),'Analysis 103L'!AR103,'Analysis 103L'!W103)))","v":""},null,0,0,null,{"$error":"#VALUE!"},{"$error":"#VALUE!"},{"$error":"#VALUE!"},null,null,{"$f":"IF(RIGHT(I103,4)=\"Case\",'LED Case Lighting'!$AY$1,IF(J103=\"\",\"\",VLOOKUP(J103,Lookups!$A$30:$J$172,VLOOKUP('100L Information'!$AI$46,Lookups!$J$3:$L$6,3,FALSE),FALSE)))","v":""},{"$error":"#N/A"},"","",{"$error":"#VALUE!"},{"$error":"#VALUE!"},{"$error":"#VALUE!"},{"$error":"#N/A"},0,{"$error":"#N/A"},0,{"$error":"#VALUE!"},{"$error":"#VALUE!"},{"$error":"#VALUE!"},"FAIL",null,null,null,null,null,null,null,"Interior / Exterior",null,"",null,{"$f":"IF(RIGHT(I103,4)=\"Case\",(INDEX('LED Case Lighting'!$AZ$3:$AZ$36,MATCH('Analysis 103L'!$CK103,'LED Case Lighting'!$AS$3:$AS$36,0))),IF(CB103=0,0,IF(CB103=\"lamp\",((Q103/VLOOKUP(B103,Int_Ext,2,FALSE))*VLOOKUP(E103,NEB,16,FALSE)),IF(CB103=\"fixture\",((Q103/VLOOKUP(B103,Int_Ext,2,FALSE))*VLOOKUP(E103,NEB,14,FALSE)),\"\"))))","v":""},null,{"$f":"IF(RIGHT(I103,4)=\"Case\",INDEX('Equipment Type'!$V$4:$V$53, MATCH('Analysis 103L'!$K103, 'Equipment Type'!$A$4:$A$53, 0)), \"\")","v":""},"","","","","",{"$f":"IF(CK103=\"\", \"\", INDEX('LED Case Lighting'!$AR$3:$AR$36, MATCH('Analysis 103L'!CK103, 'LED Case Lighting'!$AS$3:$AS$36, 0)))","v":""},{"$f":"IF(CK103=\"\", \"\", INDEX('LED Case Lighting'!$AW$3:$AW$36, MATCH('Analysis 103L'!CK103, 'LED Case Lighting'!$AS$3:$AS$36, 0)))","v":""},{"$f":"IF(CK103=\"\", \"\", INDEX('LED Case Lighting'!$AX$3:$AX$36, MATCH('Analysis 103L'!CK103, 'LED Case Lighting'!$AS$3:$AS$36, 0)))","v":""},""]
[77,null,null,null,null,null,"",null,{"$f":"IF(K104=\"\",\"\",VLOOKUP(K104,'Equipment Type'!$A$1:$F$53,5,FALSE))","v":""},{"$f":"IF(K104=\"\",\"\",VLOOKUP(K104,'Equipment Type'!$A$1:$F$53,6,FALSE))","v":""},null,{"$f":"IF(K104=\"\",\"\",VLOOKUP(K104,'Equipment Type'!$A$1:$F$53,4,FALSE))","v":""},null,{"$f":"IF(K104=\"\",\"\",INDEX('Equipment Type'!$T$4:$T$53,MATCH('Analysis 103L'!K104,'Equipment Type'!$A$4:$A$53,0)))","v":""},"",null,{"$f":"IF(RIGHT(I104, 4)=\"Case\", \"\", IF(P104=\"\",\"\",(IF(ISNUMBER(SEARCH(\"exit\",J104)),8760,IF(B104=\"Exterior\",4380,'Analysis 103L'!$J$3)))))","v":""},null,"","","","","","","","",{"$f":"IF('100L Information'!$Z$5=\"Yes\",0,IF('100L Information'!$Z$4=\"Yes\",(MIN($Y$232-(-$Y$227),6000)*0.5)*(Y104/$Y$232),$Y$232*(Y104/($Y$230+$Y$231))))","v":{"$error":"#VALUE!"}},"",{"$error":"#VALUE!"},"No requirement",0,{"$f":"IF(OR(Z104=\"Does not meet requirement\",AND('100L Information'!$AA$21=\"No\",AL104=\"Y\"),AND('100L Information'!$AS$21=FALSE,AL104=\"Y\")),0,IF(ISNUMBER(R104*Incent_Cost_Fixture_Rx),MIN(R104*Incent_Cost_Fixture_Rx,(MAX(AE104,AK104))),0))","v":0},"FAIL","0","0","0",0,"N","0","0",null,"","",0,"",{"$f":"IF(RIGHT(I104,4)=\"Case\",W104,IF(AND(AL104=\"Y\",AF104<1),0,IF(OR(LEFT(D104,2)=\"T5\",LEFT(D104,3)=\"CFL\",'Analysis 103L'!AS104=\"Less\"),'Analysis 103L'!AR104,'Analysis 103L'!W104)))","v":""},null,0,0,null,{"$f":"IF(RIGHT(I104,4)=\"Case\",\"\",((G104*H104)-(N104*P104))/1000)","v":{"$error":"#VALUE!"}},{"$f":"IF(RIGHT(I104,4)=\"Case\",\"\", IF(W104=0,0,W104/U104))","v":{"$error":"#VALUE!"}},{"$f":"IF(RIGHT(I104,4)=\"Case\",IF(W104=0,0,R104/(W104*$F$9)),IF(W104=0,0,S104/(W104*$F$9)))","v":{"$error":"#VALUE!"}},null,null,{"$f":"IF(RIGHT(I104,4)=\"Case\",'LED Case Lighting'!$AY$1,IF(J104=\"\",\"\",VLOOKUP(J104,Lookups!$A$30:$J$172,VLOOKUP('100L Information'!$AI$46,Lookups!$J$3:$L$6,3,FALSE),FALSE)))","v":""},{"$error":"#N/A"},"","",{"$error":"#VALUE!"},{"$error":"#VALUE!"},{"$error":"#VALUE!"},{"$error":"#N/A"},0,{"$error":"#N/A"},0,{"$error":"#VALUE!"},{"$error":"#VALUE!"},{"$error":"#VALUE!"},"FAIL",null,null,null,null,null,null,null,"Interior / Exterior",null,"",null,{"$f":"IF(RIGHT(I104,4)=\"Case\",(INDEX('LED Case Lighting'!$AZ$3:$AZ$36,MATCH('Analysis 103L'!$CK104,'LED Case Lighting'!$AS$3:$AS$36,0))),IF(CB104=0,0,IF(CB104=\"lamp\",((Q104/VLOOKUP(B104,Int_Ext,2,FALSE))*VLOOKUP(E104,NEB,16,FALSE)),IF(CB104=\"fixture\",((Q104/VLOOKUP(B104,Int_Ext,2,FALSE))*VLOOKUP(E104,NEB,14,FALSE)),\"\"))))","v":""},null,{"$f":"IF(RIGHT(I104,4)=\"Case\",INDEX('Equipment Type'!$V$4:$V$53, MATCH('Analysis 103L'!$K104, 'Equipment Type'!$A$4:$A$53, 0)), \"\")","v":""},"","","","","",{"$f":"IF(CK104=\"\", \"\", INDEX('LED Case Lighting'!$AR$3:$AR$36, MATCH('Analysis 103L'!CK104, 'LED Case Lighting'!$AS$3:$AS$36, 0)))","v":""},{"$f":"IF(CK104=\"\", \"\", INDEX('LED Case Lighting'!$AW$3:$AW$36, MATCH('Analysis 103L'!CK104, 'LED Case Lighting'!$AS$3:$AS$36, 0)))","v":""},{"$f":"IF(CK104=\"\", \"\", INDEX('LED Case Lighting'!$AX$3:$AX$36, MATCH('Analysis 103L'!CK104, 'LED Case Lighting'!$AS$3:$AS$36, 0)))","v":""},""]
[78,null,null,null,null,null,"",null,{"$f":"IF(K105=\"\",\"\",VLOOKUP(K105,'Equipment Type'!$A$1:$F$53,5,FALSE))","v":""},{"$f":"IF(K105=\"\",\"\",VLOOKUP(K105,'Equipment Type'!$A$1:$F$53,6,FALSE))","v":""},null,{"$f":"IF(K105=\"\",\"\",VLOOKUP(K105,'Equipment Type'!$A$1:$F$53,4,FALSE))","v":""},null,{"$f":"IF(K105=\"\",\"\",INDEX('Equipment Type'!$T$4:$T$53,MATCH('Analysis 103L'!K105,'Equipment Type'!$A$4:$A$53,0)))","v":""},"",null,{"$f":"IF(RIGHT(I105, 4)=\"Case\", \"\", IF(P105=\"\",\"\",(IF(ISNUMBER(SEARCH(\"exit\",J105)),8760,IF(B105=\"Exterior\",4380,'Analysis 103L'!$J$3)))))","v":""},null,"","","","","","","","",{"$f":"IF('100L Information'!$Z$5=\"Yes\",0,IF('100L Information'!$Z$4=\"Yes\",(MIN($Y$232-(-$Y$227),6000)*0.5)*(Y105/$Y$232),$Y$232*(Y105/($Y$230+$Y$231))))","v":{"$error":"#VALUE!"}},"",{"$error":"#VALUE!"},"No requirement",0,{"$f":"IF(OR(Z105=\"Does not meet requirement\",AND('100L Information'!$AA$21=\"No\",AL105=\"Y\"),AND('100L Information'!$AS$21=FALSE,AL105=\"Y\")),0,IF(ISNUMBER(R105*Incent_Cost_Fixture_Rx),MIN(R105*Incent_Cost_Fixture_Rx,(MAX(AE105,AK105))),0))","v":0},"FAIL","0","0","0",0,"N","0","0",null,"","",0,"",{"$f":"IF(RIGHT(I105,4)=\"Case\",W105,IF(AND(AL105=\"Y\",AF105<1),0,IF(OR(LEFT(D105,2)=\"T5\",LEFT(D105,3)=\"CFL\",'Analysis 103L'!AS105=\"Less\"),'Analysis 103L'!AR105,'Analysis 103L'!W105)))","v":""},null,0,0,null,{"$error":"#VALUE!"},{"$error":"#VALUE!"},{"$error":"#VALUE!"},null,null,{"$f":"IF(RIGHT(I105,4)=\"Case\",'LED Case Lighting'!$AY$1,IF(J105=\"\",\"\",VLOOKUP(J105,Lookups!$A$30:$J$172,VLOOKUP('100L Information'!$AI$46,Lookups!$J$3:$L$6,3,FALSE),FALSE)))","v":""},{"$error":"#N/A"},"","",{"$error":"#VALUE!"},{"$error":"#VALUE!"},{"$error":"#VALUE!"},{"$error":"#N/A"},0,{"$error":"#N/A"},0,{"$error":"#VALUE!"},{"$error":"#VALUE!"},{"$error":"#VALUE!"},"FAIL",null,null,null,null,null,null,null,"Interior / Exterior",null,"",null,{"$f":"IF(RIGHT(I105,4)=\"Case\",(INDEX('LED Case Lighting'!$AZ$3:$AZ$36,MATCH('Analysis 103L'!$CK105,'LED Case Lighting'!$AS$3:$AS$36,0))),IF(CB105=0,0,IF(CB105=\"lamp\",((Q105/VLOOKUP(B105,Int_Ext,2,FALSE))*VLOOKUP(E105,NEB,16,FALSE)),IF(CB105=\"fixture\",((Q105/VLOOKUP(B105,Int_Ext,2,FALSE))*VLOOKUP(E105,NEB,14,FALSE)),\"\"))))","v":""},null,{"$f":"IF(RIGHT(I105,4)=\"Case\",INDEX('Equipment Type'!$V$4:$V$53, MATCH('Analysis 103L'!$K105, 'Equipment Type'!$A$4:$A$53, 0)), \"\")","v":""},"","","","","",{"$f":"IF(CK105=\"\", \"\", INDEX('LED Case Lighting'!$AR$3:$AR$36, MATCH('Analysis 103L'!CK105, 'LED Case Lighting'!$AS$3:$AS$36, 0)))","v":""},{"$f":"IF(CK105=\"\", \"\", INDEX('LED Case Lighting'!$AW$3:$AW$36, MATCH('Analysis 103L'!CK105, 'LED Case Lighting'!$AS$3:$AS$36, 0)))","v":""},{"$f":"IF(CK105=\"\", \"\", INDEX('LED Case Lighting'!$AX$3:$AX$36, MATCH('Analysis 103L'!CK105, 'LED Case Lighting'!$AS$3:$AS$36, 0)))","v":""},""]
[79,null,null,null,null,null,"",null,{"$f":"IF(K106=\"\",\"\",VLOOKUP(K106,'Equipment Type'!$A$1:$F$53,5,FALSE))","v":""},{"$f":"IF(K106=\"\",\"\",VLOOKUP(K106,'Equipment Type'!$A$1:$F$53,6,FALSE))","v":""},null,{"$f":"IF(K106=\"\",\"\",VLOOKUP(K106,'Equipment Type'!$A$1:$F$53,4,FALSE))","v":""},null,{"$f":"IF(K106=\"\",\"\",INDEX('Equipment Type'!$T$4:$T$53,MATCH('Analysis 103L'!K106,'Equipment Type'!$A$4:$A$53,0)))","v":""},"",null,{"$f":"IF(RIGHT(I106, 4)=\"Case\", \"\", IF(P106=\"\",\"\",(IF(ISNUMBER(SEARCH(\"exit\",J106)),8760,IF(B106=\"Exterior\",4380,'Analysis 103L'!$J$3)))))","v":""},null,"","","","","","","","",{"$f":"IF('100L Information'!$Z$5=\"Yes\",0,IF('100L Information'!$Z$4=\"Yes\",(MIN($Y$232-(-$Y$227),6000)*0.5)*(Y106/$Y$232),$Y$232*(Y106/($Y$230+$Y$231))))","v":{"$error":"#VALUE!"}},"",{"$error":"#VALUE!"},"No requirement",0,{"$f":"IF(OR(Z106=\"Does not meet requirement\",AND('100L Information'!$AA$21=\"No\",AL106=\"Y\"),AND('100L Information'!$AS$21=FALSE,AL106=\"Y\")),0,IF(ISNUMBER(R106*Incent_Cost_Fixture_Rx),MIN(R106*Incent_Cost_Fixture_Rx,(MAX(AE106,AK106))),0))","v":0},"FAIL","0","0","0",0,"N","0","0",null,"","",0,"",{"$f":"IF(RIGHT(I106,4)=\"Case\",W106,IF(AND(AL106=\"Y\",AF106<1),0,IF(OR(LEFT(D106,2)=\"T5\",LEFT(D106,3)=\"CFL\",'Analysis 103L'!AS106=\"Less\"),'Analysis 103L'!AR106,'Analysis 103L'!W106)))","v":""},null,0,0,null,{"$error":"#VALUE!"},{"$error":"#VALUE!"},{"$error":"#VALUE!"},null,null,{"$f":"IF(RIGHT(I106,4)=\"Case\",'LED Case Lighting'!$AY$1,IF(J106=\"\",\"\",VLOOKUP(J106,Lookups!$A$30:$J$172,VLOOKUP('100L Information'!$AI$46,Lookups!$J$3:$L$6,3,FALSE),FALSE)))","v":""},{"$error":"#N/A"},{"$f":"IF(BD106=\"\",\"\",VLOOKUP(BE106, avoided_costs, ROUND($BD106,0)+2, FALSE))","v":""},"",{"$error":"#VALUE!"},{"$f":"BF106/BH106","v":{"$error":"#VALUE!"}},{"$f":"IF(ROUND(BI106,1)>=1, \"PASS\", \"FAIL\")","v":{"$error":"#VALUE!"}},{"$error":"#N/A"},0,{"$error":"#N/A"},0,{"$error":"#VALUE!"},{"$f":"BG106/BO106","v":{"$error":"#VALUE!"}},{"$f":"IF(ROUND(BP106,1)>=1, \"PASS\", \"FAIL\")","v":{"$error":"#VALUE!"}},{"$f":"IF(OR(NOT(ISERROR(BQ106)),NOT(ISERROR(BJ106))),BJ106&\"/\"&BQ106,\"FAIL\")","v":"FAIL"},null,null,null,null,null,null,null,"Interior / Exterior",null,"",null,{"$f":"IF(RIGHT(I106,4)=\"Case\",(INDEX('LED Case Lighting'!$AZ$3:$AZ$36,MATCH('Analysis 103L'!$CK106,'LED Case Lighting'!$AS$3:$AS$36,0))),IF(CB106=0,0,IF(CB106=\"lamp\",((Q106/VLOOKUP(B106,Int_Ext,2,FALSE))*VLOOKUP(E106,NEB,16,FALSE)),IF(CB106=\"fixture\",((Q106/VLOOKUP(B106,Int_Ext,2,FALSE))*VLOOKUP(E106,NEB,14,FALSE)),\"\"))))","v":""},null,{"$f":"IF(RIGHT(I106,4)=\"Case\",INDEX('Equipment Type'!$V$4:$V$53, MATCH('Analysis 103L'!$K106, 'Equipment Type'!$A$4:$A$53, 0)), \"\")","v":""},"","","","","",{"$f":"IF(CK106=\"\", \"\", INDEX('LED Case Lighting'!$AR$3:$AR$36, MATCH('Analysis 103L'!CK106, 'LED Case Lighting'!$AS$3:$AS$36, 0)))","v":""},{"$f":"IF(CK106=\"\", \"\", INDEX('LED Case Lighting'!$AW$3:$AW$36, MATCH('Analysis 103L'!CK106, 'LED Case Lighting'!$AS$3:$AS$36, 0)))","v":""},{"$f":"IF(CK106=\"\", \"\", INDEX('LED Case Lighting'!$AX$3:$AX$36, MATCH('Analysis 103L'!CK106, 'LED Case Lighting'!$AS$3:$AS$36, 0)))","v":""},""]
[80,null,null,null,null,null,"",null,{"$f":"IF(K107=\"\",\"\",VLOOKUP(K107,'Equipment Type'!$A$1:$F$53,5,FALSE))","v":""},{"$f":"IF(K107=\"\",\"\",VLOOKUP(K107,'Equipment Type'!$A$1:$F$53,6,FALSE))","v":""},null,{"$f":"IF(K107=\"\",\"\",VLOOKUP(K107,'Equipment Type'!$A$1:$F$53,4,FALSE))","v":""},null,{"$f":"IF(K107=\"\",\"\",INDEX('Equipment Type'!$T$4:$T$53,MATCH('Analysis 103L'!K107,'Equipment Type'!$A$4:$A$53,0)))","v":""},"",null,{"$f":"IF(RIGHT(I107, 4)=\"Case\", \"\", IF(P107=\"\",\"\",(IF(ISNUMBER(SEARCH(\"exit\",J107)),8760,IF(B107=\"Exterior\",4380,'Analysis 103L'!$J$3)))))","v":""},null,"","","","","","","","",{"$f":"IF('100L Information'!$Z$5=\"Yes\",0,IF('100L Information'!$Z$4=\"Yes\",(MIN($Y$232-(-$Y$227),6000)*0.5)*(Y107/$Y$232),$Y$232*(Y107/($Y$230+$Y$231))))","v":{"$error":"#VALUE!"}},"",{"$error":"#VALUE!"},"No requirement",0,{"$f":"IF(OR(Z107=\"Does not meet requirement\",AND('100L Information'!$AA$21=\"No\",AL107=\"Y\"),AND('100L Information'!$AS$21=FALSE,AL107=\"Y\")),0,IF(ISNUMBER(R107*Incent_Cost_Fixture_Rx),MIN(R107*Incent_Cost_Fixture_Rx,(MAX(AE107,AK107))),0))","v":0},"FAIL",{"$f":"IF(AG107=\"PASS/PASS\",S107,\"0\")","v":"0"},{"$f":"IF(AG107=\"PASS/PASS\",U107,\"0\")","v":"0"},{"$f":"IF(AG107=\"PASS/PASS\",V107,\"0\")","v":"0"},0,"N","0","0",null,"","",0,"",{"$f":"IF(RIGHT(I107,4)=\"Case\",W107,IF(AND(AL107=\"Y\",AF107<1),0,IF(OR(LEFT(D107,2)=\"T5\",LEFT(D107,3)=\"CFL\",'Analysis 103L'!AS107=\"Less\"),'Analysis 103L'!AR107,'Analysis 103L'!W107)))","v":""},null,0,0,null,{"$error":"#VALUE!"},{"$error":"#VALUE!"},{"$error":"#VALUE!"},null,null,{"$f":"IF(RIGHT(I107,4)=\"Case\",'LED Case Lighting'!$AY$1,IF(J107=\"\",\"\",VLOOKUP(J107,Lookups!$A$30:$J$172,VLOOKUP('100L Information'!$AI$46,Lookups!$J$3:$L$6,3,FALSE),FALSE)))","v":""},{"$error":"#N/A"},"","",{"$error":"#VALUE!"},{"$error":"#VALUE!"},{"$error":"#VALUE!"},{"$error":"#N/A"},0,{"$error":"#N/A"},0,{"$error":"#VALUE!"},{"$error":"#VALUE!"},{"$error":"#VALUE!"},"FAIL",null,null,null,null,null,null,null,"Interior / Exterior",null,"",null,{"$f":"IF(RIGHT(I107,4)=\"Case\",(INDEX('LED Case Lighting'!$AZ$3:$AZ$36,MATCH('Analysis 103L'!$CK107,'LED Case Lighting'!$AS$3:$AS$36,0))),IF(CB107=0,0,IF(CB107=\"lamp\",((Q107/VLOOKUP(B107,Int_Ext,2,FALSE))*VLOOKUP(E107,NEB,16,FALSE)),IF(CB107=\"fixture\",((Q107/VLOOKUP(B107,Int_Ext,2,FALSE))*VLOOKUP(E107,NEB,14,FALSE)),\"\"))))","v":""},null,{"$f":"IF(RIGHT(I107,4)=\"Case\",INDEX('Equipment Type'!$V$4:$V$53, MATCH('Analysis 103L'!$K107, 'Equipment Type'!$A$4:$A$53, 0)), \"\")","v":""},"","","","","",{"$f":"IF(CK107=\"\", \"\", INDEX('LED Case Lighting'!$AR$3:$AR$36, MATCH('Analysis 103L'!CK107, 'LED Case Lighting'!$AS$3:$AS$36, 0)))","v":""},{"$f":"IF(CK107=\"\", \"\", INDEX('LED Case Lighting'!$AW$3:$AW$36, MATCH('Analysis 103L'!CK107, 'LED Case Lighting'!$AS$3:$AS$36, 0)))","v":""},{"$f":"IF(CK107=\"\", \"\", INDEX('LED Case Lighting'!$AX$3:$AX$36, MATCH('Analysis 103L'!CK107, 'LED Case Lighting'!$AS$3:$AS$36, 0)))","v":""},""]
[81,null,null,null,null,null,"",null,{"$f":"IF(K108=\"\",\"\",VLOOKUP(K108,'Equipment Type'!$A$1:$F$53,5,FALSE))","v":""},{"$f":"IF(K108=\"\",\"\",VLOOKUP(K108,'Equipment Type'!$A$1:$F$53,6,FALSE))","v":""},null,{"$f":"IF(K108=\"\",\"\",VLOOKUP(K108,'Equipment Type'!$A$1:$F$53,4,FALSE))","v":""},null,{"$f":"IF(K108=\"\",\"\",INDEX('Equipment Type'!$T$4:$T$53,MATCH('Analysis 103L'!K108,'Equipment Type'!$A$4:$A$53,0)))","v":""},"",null,{"$f":"IF(RIGHT(I108, 4)=\"Case\", \"\", IF(P108=\"\",\"\",(IF(ISNUMBER(SEARCH(\"exit\",J108)),8760,IF(B108=\"Exterior\",4380,'Analysis 103L'!$J$3)))))","v":""},null,{"$f":"IF(RIGHT(I108, 4)=\"Case\", IF(LEFT(J108, 6)=\"Motion\", \"\", \"<-- Enter total cost.\"), IF(P108=\"\",\"\",IF(AND(AL108=\"Y\",X108=\"\"),\"\",P108*R108)))","v":""},{"$f":"IF(RIGHT(I108, 4)=\"Case\", \"\", IF(P108=\"\",\"\",IF(ISERROR(AY108),0,AY108)))","v":""},{"$f":"IF(RIGHT(I108, 4)=\"Case\", \"\", IF(H108=\"\",\"\",(G108*H108)*Q108/1000))","v":""},{"$f":"IF(RIGHT(I108, 4)=\"Case\", \"\", IF(P108=\"\",\"\",(N108*P108)*Q108/1000))","v":""},{"$f":"IF(RIGHT(I108, 4)=\"Case\", IF(LEFT(J108, 6)=\"Motion\", \"\", CM108*P108), IF(U108=\"\",\"\",IF(AND(ISNUMBER(U108),ISNUMBER(V108)),U108-V108,\"\")))","v":""},"","","",{"$f":"IF('100L Information'!$Z$5=\"Yes\",0,IF('100L Information'!$Z$4=\"Yes\",(MIN($Y$232-(-$Y$227),6000)*0.5)*(Y108/$Y$232),$Y$232*(Y108/($Y$230+$Y$231))))","v":{"$error":"#VALUE!"}},"",{"$error":"#VALUE!"},"No requirement",0,{"$f":"IF(OR(Z108=\"Does not meet requirement\",AND('100L Information'!$AA$21=\"No\",AL108=\"Y\"),AND('100L Information'!$AS$21=FALSE,AL108=\"Y\")),0,IF(ISNUMBER(R108*Incent_Cost_Fixture_Rx),MIN(R108*Incent_Cost_Fixture_Rx,(MAX(AE108,AK108))),0))","v":0},"FAIL","0","0","0",0,"N","0","0",null,"","",0,"",{"$f":"IF(RIGHT(I108,4)=\"Case\",W108,IF(AND(AL108=\"Y\",AF108<1),0,IF(OR(LEFT(D108,2)=\"T5\",LEFT(D108,3)=\"CFL\",'Analysis 103L'!AS108=\"Less\"),'Analysis 103L'!AR108,'Analysis 103L'!W108)))","v":""},null,0,0,null,{"$error":"#VALUE!"},{"$error":"#VALUE!"},{"$error":"#VALUE!"},null,null,{"$f":"IF(RIGHT(I108,4)=\"Case\",'LED Case Lighting'!$AY$1,IF(J108=\"\",\"\",VLOOKUP(J108,Lookups!$A$30:$J$172,VLOOKUP('100L Information'!$AI$46,Lookups!$J$3:$L$6,3,FALSE),FALSE)))","v":""},{"$error":"#N/A"},"","",{"$error":"#VALUE!"},{"$error":"#VALUE!"},{"$error":"#VALUE!"},{"$error":"#N/A"},0,{"$error":"#N/A"},0,{"$error":"#VALUE!"},{"$error":"#VALUE!"},{"$error":"#VALUE!"},"FAIL",null,null,null,null,null,null,null,"Interior / Exterior",null,"",null,{"$f":"IF(RIGHT(I108,4)=\"Case\",(INDEX('LED Case Lighting'!$AZ$3:$AZ$36,MATCH('Analysis 103L'!$CK108,'LED Case Lighting'!$AS$3:$AS$36,0))),IF(CB108=0,0,IF(CB108=\"lamp\",((Q108/VLOOKUP(B108,Int_Ext,2,FALSE))*VLOOKUP(E108,NEB,16,FALSE)),IF(CB108=\"fixture\",((Q108/VLOOKUP(B108,Int_Ext,2,FALSE))*VLOOKUP(E108,NEB,14,FALSE)),\"\"))))","v":""},null,{"$f":"IF(RIGHT(I108,4)=\"Case\",INDEX('Equipment Type'!$V$4:$V$53, MATCH('Analysis 103L'!$K108, 'Equipment Type'!$A$4:$A$53, 0)), \"\")","v":""},"","","","","",{"$f":"IF(CK108=\"\", \"\", INDEX('LED Case Lighting'!$AR$3:$AR$36, MATCH('Analysis 103L'!CK108, 'LED Case Lighting'!$AS$3:$AS$36, 0)))","v":""},{"$f":"IF(CK108=\"\", \"\", INDEX('LED Case Lighting'!$AW$3:$AW$36, MATCH('Analysis 103L'!CK108, 'LED Case Lighting'!$AS$3:$AS$36, 0)))","v":""},{"$f":"IF(CK108=\"\", \"\", INDEX('LED Case Lighting'!$AX$3:$AX$36, MATCH('Analysis 103L'!CK108, 'LED Case Lighting'!$AS$3:$AS$36, 0)))","v":""},""]
[82,null,null,null,null,null,"",null,{"$f":"IF(K109=\"\",\"\",VLOOKUP(K109,'Equipment Type'!$A$1:$F$53,5,FALSE))","v":""},{"$f":"IF(K109=\"\",\"\",VLOOKUP(K109,'Equipment Type'!$A$1:$F$53,6,FALSE))","v":""},null,{"$f":"IF(K109=\"\",\"\",VLOOKUP(K109,'Equipment Type'!$A$1:$F$53,4,FALSE))","v":""},null,{"$f":"IF(K109=\"\",\"\",INDEX('Equipment Type'!$T$4:$T$53,MATCH('Analysis 103L'!K109,'Equipment Type'!$A$4:$A$53,0)))","v":""},"",null,{"$f":"IF(RIGHT(I109, 4)=\"Case\", \"\", IF(P109=\"\",\"\",(IF(ISNUMBER(SEARCH(\"exit\",J109)),8760,IF(B109=\"Exterior\",4380,'Analysis 103L'!$J$3)))))","v":""},null,"","","","","","","","",{"$f":"IF('100L Information'!$Z$5=\"Yes\",0,IF('100L Information'!$Z$4=\"Yes\",(MIN($Y$232-(-$Y$227),6000)*0.5)*(Y109/$Y$232),$Y$232*(Y109/($Y$230+$Y$231))))","v":{"$error":"#VALUE!"}},"",{"$error":"#VALUE!"},"No requirement",0,{"$f":"IF(OR(Z109=\"Does not meet requirement\",AND('100L Information'!$AA$21=\"No\",AL109=\"Y\"),AND('100L Information'!$AS$21=FALSE,AL109=\"Y\")),0,IF(ISNUMBER(R109*Incent_Cost_Fixture_Rx),MIN(R109*Incent_Cost_Fixture_Rx,(MAX(AE109,AK109))),0))","v":0},"FAIL","0","0","0",0,"N","0","0",null,"","",0,"",{"$f":"IF(RIGHT(I109,4)=\"Case\",W109,IF(AND(AL109=\"Y\",AF109<1),0,IF(OR(LEFT(D109,2)=\"T5\",LEFT(D109,3)=\"CFL\",'Analysis 103L'!AS109=\"Less\"),'Analysis 103L'!AR109,'Analysis 103L'!W109)))","v":""},null,0,0,null,{"$error":"#VALUE!"},{"$error":"#VALUE!"},{"$error":"#VALUE!"},null,null,{"$f":"IF(RIGHT(I109,4)=\"Case\",'LED Case Lighting'!$AY$1,IF(J109=\"\",\"\",VLOOKUP(J109,Lookups!$A$30:$J$172,VLOOKUP('100L Information'!$AI$46,Lookups!$J$3:$L$6,3,FALSE),FALSE)))","v":""},{"$error":"#N/A"},"","",{"$error":"#VALUE!"},{"$error":"#VALUE!"},{"$error":"#VALUE!"},{"$error":"#N/A"},0,{"$error":"#N/A"},0,{"$error":"#VALUE!"},{"$error":"#VALUE!"},{"$error":"#VALUE!"},"FAIL",null,null,null,null,null,null,null,"Interior / Exterior",null,"",null,{"$f":"IF(RIGHT(I109,4)=\"Case\",(INDEX('LED Case Lighting'!$AZ$3:$AZ$36,MATCH('Analysis 103L'!$CK109,'LED Case Lighting'!$AS$3:$AS$36,0))),IF(CB109=0,0,IF(CB109=\"lamp\",((Q109/VLOOKUP(B109,Int_Ext,2,FALSE))*VLOOKUP(E109,NEB,16,FALSE)),IF(CB109=\"fixture\",((Q109/VLOOKUP(B109,Int_Ext,2,FALSE))*VLOOKUP(E109,NEB,14,FALSE)),\"\"))))","v":""},null,{"$f":"IF(RIGHT(I109,4)=\"Case\",INDEX('Equipment Type'!$V$4:$V$53, MATCH('Analysis 103L'!$K109, 'Equipment Type'!$A$4:$A$53, 0)), \"\")","v":""},"","","","","",{"$f":"IF(CK109=\"\", \"\", INDEX('LED Case Lighting'!$AR$3:$AR$36, MATCH('Analysis 103L'!CK109, 'LED Case Lighting'!$AS$3:$AS$36, 0)))","v":""},{"$f":"IF(CK109=\"\", \"\", INDEX('LED Case Lighting'!$AW$3:$AW$36, MATCH('Analysis 103L'!CK109, 'LED Case Lighting'!$AS$3:$AS$36, 0)))","v":""},{"$f":"IF(CK109=\"\", \"\", INDEX('LED Case Lighting'!$AX$3:$AX$36, MATCH('Analysis 103L'!CK109, 'LED Case Lighting'!$AS$3:$AS$36, 0)))","v":""},""]
[83,null,null,null,null,null,"",null,{"$f":"IF(K110=\"\",\"\",VLOOKUP(K110,'Equipment Type'!$A$1:$F$53,5,FALSE))","v":""},{"$f":"IF(K110=\"\",\"\",VLOOKUP(K110,'Equipment Type'!$A$1:$F$53,6,FALSE))","v":""},null,{"$f":"IF(K110=\"\",\"\",VLOOKUP(K110,'Equipment Type'!$A$1:$F$53,4,FALSE))","v":""},null,{"$f":"IF(K110=\"\",\"\",INDEX('Equipment Type'!$T$4:$T$53,MATCH('Analysis 103L'!K110,'Equipment Type'!$A$4:$A$53,0)))","v":""},"",null,{"$f":"IF(RIGHT(I110, 4)=\"Case\", \"\", IF(P110=\"\",\"\",(IF(ISNUMBER(SEARCH(\"exit\",J110)),8760,IF(B110=\"Exterior\",4380,'Analysis 103L'!$J$3)))))","v":""},null,"","","","","","","","",{"$f":"IF('100L Information'!$Z$5=\"Yes\",0,IF('100L Information'!$Z$4=\"Yes\",(MIN($Y$232-(-$Y$227),6000)*0.5)*(Y110/$Y$232),$Y$232*(Y110/($Y$230+$Y$231))))","v":{"$error":"#VALUE!"}},"",{"$error":"#VALUE!"},"No requirement",0,{"$f":"IF(OR(Z110=\"Does not meet requirement\",AND('100L Information'!$AA$21=\"No\",AL110=\"Y\"),AND('100L Information'!$AS$21=FALSE,AL110=\"Y\")),0,IF(ISNUMBER(R110*Incent_Cost_Fixture_Rx),MIN(R110*Incent_Cost_Fixture_Rx,(MAX(AE110,AK110))),0))","v":0},"FAIL","0","0","0",0,"N","0","0",null,"","",0,"",{"$f":"IF(RIGHT(I110,4)=\"Case\",W110,IF(AND(AL110=\"Y\",AF110<1),0,IF(OR(LEFT(D110,2)=\"T5\",LEFT(D110,3)=\"CFL\",'Analysis 103L'!AS110=\"Less\"),'Analysis 103L'!AR110,'Analysis 103L'!W110)))","v":""},null,0,0,null,{"$error":"#VALUE!"},{"$error":"#VALUE!"},{"$error":"#VALUE!"},null,null,{"$f":"IF(RIGHT(I110,4)=\"Case\",'LED Case Lighting'!$AY$1,IF(J110=\"\",\"\",VLOOKUP(J110,Lookups!$A$30:$J$172,VLOOKUP('100L Information'!$AI$46,Lookups!$J$3:$L$6,3,FALSE),FALSE)))","v":""},{"$error":"#N/A"},"","",{"$error":"#VALUE!"},{"$error":"#VALUE!"},{"$error":"#VALUE!"},{"$error":"#N/A"},0,{"$error":"#N/A"},0,{"$error":"#VALUE!"},{"$error":"#VALUE!"},{"$error":"#VALUE!"},"FAIL",null,null,null,null,null,null,null,"Interior / Exterior",null,"",null,{"$f":"IF(RIGHT(I110,4)=\"Case\",(INDEX('LED Case Lighting'!$AZ$3:$AZ$36,MATCH('Analysis 103L'!$CK110,'LED Case Lighting'!$AS$3:$AS$36,0))),IF(CB110=0,0,IF(CB110=\"lamp\",((Q110/VLOOKUP(B110,Int_Ext,2,FALSE))*VLOOKUP(E110,NEB,16,FALSE)),IF(CB110=\"fixture\",((Q110/VLOOKUP(B110,Int_Ext,2,FALSE))*VLOOKUP(E110,NEB,14,FALSE)),\"\"))))","v":""},null,{"$f":"IF(RIGHT(I110,4)=\"Case\",INDEX('Equipment Type'!$V$4:$V$53, MATCH('Analysis 103L'!$K110, 'Equipment Type'!$A$4:$A$53, 0)), \"\")","v":""},"","","","","",{"$f":"IF(CK110=\"\", \"\", INDEX('LED Case Lighting'!$AR$3:$AR$36, MATCH('Analysis 103L'!CK110, 'LED Case Lighting'!$AS$3:$AS$36, 0)))","v":""},{"$f":"IF(CK110=\"\", \"\", INDEX('LED Case Lighting'!$AW$3:$AW$36, MATCH('Analysis 103L'!CK110, 'LED Case Lighting'!$AS$3:$AS$36, 0)))","v":""},{"$f":"IF(CK110=\"\", \"\", INDEX('LED Case Lighting'!$AX$3:$AX$36, MATCH('Analysis 103L'!CK110, 'LED Case Lighting'!$AS$3:$AS$36, 0)))","v":""},""]
[84,null,null,null,null,null,"",null,{"$f":"IF(K111=\"\",\"\",VLOOKUP(K111,'Equipment Type'!$A$1:$F$53,5,FALSE))","v":""},{"$f":"IF(K111=\"\",\"\",VLOOKUP(K111,'Equipment Type'!$A$1:$F$53,6,FALSE))","v":""},null,{"$f":"IF(K111=\"\",\"\",VLOOKUP(K111,'Equipment Type'!$A$1:$F$53,4,FALSE))","v":""},null,{"$f":"IF(K111=\"\",\"\",INDEX('Equipment Type'!$T$4:$T$53,MATCH('Analysis 103L'!K111,'Equipment Type'!$A$4:$A$53,0)))","v":""},"",null,{"$f":"IF(RIGHT(I111, 4)=\"Case\", \"\", IF(P111=\"\",\"\",(IF(ISNUMBER(SEARCH(\"exit\",J111)),8760,IF(B111=\"Exterior\",4380,'Analysis 103L'!$J$3)))))","v":""},null,"","","","","","","","",{"$f":"IF('100L Information'!$Z$5=\"Yes\",0,IF('100L Information'!$Z$4=\"Yes\",(MIN($Y$232-(-$Y$227),6000)*0.5)*(Y111/$Y$232),$Y$232*(Y111/($Y$230+$Y$231))))","v":{"$error":"#VALUE!"}},"",{"$error":"#VALUE!"},"No requirement",0,{"$f":"IF(OR(Z111=\"Does not meet requirement\",AND('100L Information'!$AA$21=\"No\",AL111=\"Y\"),AND('100L Information'!$AS$21=FALSE,AL111=\"Y\")),0,IF(ISNUMBER(R111*Incent_Cost_Fixture_Rx),MIN(R111*Incent_Cost_Fixture_Rx,(MAX(AE111,AK111))),0))","v":0},"FAIL","0","0","0",0,"N","0","0",null,"","",0,"",{"$f":"IF(RIGHT(I111,4)=\"Case\",W111,IF(AND(AL111=\"Y\",AF111<1),0,IF(OR(LEFT(D111,2)=\"T5\",LEFT(D111,3)=\"CFL\",'Analysis 103L'!AS111=\"Less\"),'Analysis 103L'!AR111,'Analysis 103L'!W111)))","v":""},null,0,0,null,{"$error":"#VALUE!"},{"$error":"#VALUE!"},{"$error":"#VALUE!"},null,null,{"$f":"IF(RIGHT(I111,4)=\"Case\",'LED Case Lighting'!$AY$1,IF(J111=\"\",\"\",VLOOKUP(J111,Lookups!$A$30:$J$172,VLOOKUP('100L Information'!$AI$46,Lookups!$J$3:$L$6,3,FALSE),FALSE)))","v":""},{"$error":"#N/A"},"","",{"$error":"#VALUE!"},{"$error":"#VALUE!"},{"$error":"#VALUE!"},{"$error":"#N/A"},0,{"$error":"#N/A"},0,{"$error":"#VALUE!"},{"$error":"#VALUE!"},{"$error":"#VALUE!"},"FAIL",null,null,null,null,null,null,null,"Interior / Exterior",null,"",null,{"$f":"IF(RIGHT(I111,4)=\"Case\",(INDEX('LED Case Lighting'!$AZ$3:$AZ$36,MATCH('Analysis 103L'!$CK111,'LED Case Lighting'!$AS$3:$AS$36,0))),IF(CB111=0,0,IF(CB111=\"lamp\",((Q111/VLOOKUP(B111,Int_Ext,2,FALSE))*VLOOKUP(E111,NEB,16,FALSE)),IF(CB111=\"fixture\",((Q111/VLOOKUP(B111,Int_Ext,2,FALSE))*VLOOKUP(E111,NEB,14,FALSE)),\"\"))))","v":""},null,{"$f":"IF(RIGHT(I111,4)=\"Case\",INDEX('Equipment Type'!$V$4:$V$53, MATCH('Analysis 103L'!$K111, 'Equipment Type'!$A$4:$A$53, 0)), \"\")","v":""},"","","","","",{"$f":"IF(CK111=\"\", \"\", INDEX('LED Case Lighting'!$AR$3:$AR$36, MATCH('Analysis 103L'!CK111, 'LED Case Lighting'!$AS$3:$AS$36, 0)))","v":""},{"$f":"IF(CK111=\"\", \"\", INDEX('LED Case Lighting'!$AW$3:$AW$36, MATCH('Analysis 103L'!CK111, 'LED Case Lighting'!$AS$3:$AS$36, 0)))","v":""},{"$f":"IF(CK111=\"\", \"\", INDEX('LED Case Lighting'!$AX$3:$AX$36, MATCH('Analysis 103L'!CK111, 'LED Case Lighting'!$AS$3:$AS$36, 0)))","v":""},""]
[85,null,null,null,null,null,"",null,{"$f":"IF(K112=\"\",\"\",VLOOKUP(K112,'Equipment Type'!$A$1:$F$53,5,FALSE))","v":""},{"$f":"IF(K112=\"\",\"\",VLOOKUP(K112,'Equipment Type'!$A$1:$F$53,6,FALSE))","v":""},null,{"$f":"IF(K112=\"\",\"\",VLOOKUP(K112,'Equipment Type'!$A$1:$F$53,4,FALSE))","v":""},null,{"$f":"IF(K112=\"\",\"\",INDEX('Equipment Type'!$T$4:$T$53,MATCH('Analysis 103L'!K112,'Equipment Type'!$A$4:$A$53,0)))","v":""},"",null,{"$f":"IF(RIGHT(I112, 4)=\"Case\", \"\", IF(P112=\"\",\"\",(IF(ISNUMBER(SEARCH(\"exit\",J112)),8760,IF(B112=\"Exterior\",4380,'Analysis 103L'!$J$3)))))","v":""},null,"","","","","","","","",{"$f":"IF('100L Information'!$Z$5=\"Yes\",0,IF('100L Information'!$Z$4=\"Yes\",(MIN($Y$232-(-$Y$227),6000)*0.5)*(Y112/$Y$232),$Y$232*(Y112/($Y$230+$Y$231))))","v":{"$error":"#VALUE!"}},"",{"$error":"#VALUE!"},"No requirement",0,{"$f":"IF(OR(Z112=\"Does not meet requirement\",AND('100L Information'!$AA$21=\"No\",AL112=\"Y\"),AND('100L Information'!$AS$21=FALSE,AL112=\"Y\")),0,IF(ISNUMBER(R112*Incent_Cost_Fixture_Rx),MIN(R112*Incent_Cost_Fixture_Rx,(MAX(AE112,AK112))),0))","v":0},"FAIL","0","0","0",0,"N","0","0",null,"","",0,"",{"$f":"IF(RIGHT(I112,4)=\"Case\",W112,IF(AND(AL112=\"Y\",AF112<1),0,IF(OR(LEFT(D112,2)=\"T5\",LEFT(D112,3)=\"CFL\",'Analysis 103L'!AS112=\"Less\"),'Analysis 103L'!AR112,'Analysis 103L'!W112)))","v":""},null,0,0,null,{"$error":"#VALUE!"},{"$error":"#VALUE!"},{"$error":"#VALUE!"},null,null,{"$f":"IF(RIGHT(I112,4)=\"Case\",'LED Case Lighting'!$AY$1,IF(J112=\"\",\"\",VLOOKUP(J112,Lookups!$A$30:$J$172,VLOOKUP('100L Information'!$AI$46,Lookups!$J$3:$L$6,3,FALSE),FALSE)))","v":""},{"$error":"#N/A"},"","",{"$error":"#VALUE!"},{"$error":"#VALUE!"},{"$error":"#VALUE!"},{"$error":"#N/A"},0,{"$error":"#N/A"},0,{"$error":"#VALUE!"},{"$error":"#VALUE!"},{"$error":"#VALUE!"},"FAIL",null,null,null,null,null,null,null,"Interior / Exterior",null,"",null,{"$f":"IF(RIGHT(I112,4)=\"Case\",(INDEX('LED Case Lighting'!$AZ$3:$AZ$36,MATCH('Analysis 103L'!$CK112,'LED Case Lighting'!$AS$3:$AS$36,0))),IF(CB112=0,0,IF(CB112=\"lamp\",((Q112/VLOOKUP(B112,Int_Ext,2,FALSE))*VLOOKUP(E112,NEB,16,FALSE)),IF(CB112=\"fixture\",((Q112/VLOOKUP(B112,Int_Ext,2,FALSE))*VLOOKUP(E112,NEB,14,FALSE)),\"\"))))","v":""},null,{"$f":"IF(RIGHT(I112,4)=\"Case\",INDEX('Equipment Type'!$V$4:$V$53, MATCH('Analysis 103L'!$K112, 'Equipment Type'!$A$4:$A$53, 0)), \"\")","v":""},"","","","","",{"$f":"IF(CK112=\"\", \"\", INDEX('LED Case Lighting'!$AR$3:$AR$36, MATCH('Analysis 103L'!CK112, 'LED Case Lighting'!$AS$3:$AS$36, 0)))","v":""},{"$f":"IF(CK112=\"\", \"\", INDEX('LED Case Lighting'!$AW$3:$AW$36, MATCH('Analysis 103L'!CK112, 'LED Case Lighting'!$AS$3:$AS$36, 0)))","v":""},{"$f":"IF(CK112=\"\", \"\", INDEX('LED Case Lighting'!$AX$3:$AX$36, MATCH('Analysis 103L'!CK112, 'LED Case Lighting'!$AS$3:$AS$36, 0)))","v":""},""]
[86,null,null,null,null,null,"",null,{"$f":"IF(K113=\"\",\"\",VLOOKUP(K113,'Equipment Type'!$A$1:$F$53,5,FALSE))","v":""},{"$f":"IF(K113=\"\",\"\",VLOOKUP(K113,'Equipment Type'!$A$1:$F$53,6,FALSE))","v":""},null,{"$f":"IF(K113=\"\",\"\",VLOOKUP(K113,'Equipment Type'!$A$1:$F$53,4,FALSE))","v":""},null,{"$f":"IF(K113=\"\",\"\",INDEX('Equipment Type'!$T$4:$T$53,MATCH('Analysis 103L'!K113,'Equipment Type'!$A$4:$A$53,0)))","v":""},"",null,{"$f":"IF(RIGHT(I113, 4)=\"Case\", \"\", IF(P113=\"\",\"\",(IF(ISNUMBER(SEARCH(\"exit\",J113)),8760,IF(B113=\"Exterior\",4380,'Analysis 103L'!$J$3)))))","v":""},null,"","","","","","","","",{"$f":"IF('100L Information'!$Z$5=\"Yes\",0,IF('100L Information'!$Z$4=\"Yes\",(MIN($Y$232-(-$Y$227),6000)*0.5)*(Y113/$Y$232),$Y$232*(Y113/($Y$230+$Y$231))))","v":{"$error":"#VALUE!"}},"",{"$error":"#VALUE!"},"No requirement",0,{"$f":"IF(OR(Z113=\"Does not meet requirement\",AND('100L Information'!$AA$21=\"No\",AL113=\"Y\"),AND('100L Information'!$AS$21=FALSE,AL113=\"Y\")),0,IF(ISNUMBER(R113*Incent_Cost_Fixture_Rx),MIN(R113*Incent_Cost_Fixture_Rx,(MAX(AE113,AK113))),0))","v":0},"FAIL","0","0","0",0,"N","0","0",null,"","",0,"",{"$f":"IF(RIGHT(I113,4)=\"Case\",W113,IF(AND(AL113=\"Y\",AF113<1),0,IF(OR(LEFT(D113,2)=\"T5\",LEFT(D113,3)=\"CFL\",'Analysis 103L'!AS113=\"Less\"),'Analysis 103L'!AR113,'Analysis 103L'!W113)))","v":""},null,0,0,null,{"$error":"#VALUE!"},{"$error":"#VALUE!"},{"$error":"#VALUE!"},null,null,{"$f":"IF(RIGHT(I113,4)=\"Case\",'LED Case Lighting'!$AY$1,IF(J113=\"\",\"\",VLOOKUP(J113,Lookups!$A$30:$J$172,VLOOKUP('100L Information'!$AI$46,Lookups!$J$3:$L$6,3,FALSE),FALSE)))","v":""},{"$error":"#N/A"},"","",{"$error":"#VALUE!"},{"$error":"#VALUE!"},{"$error":"#VALUE!"},{"$error":"#N/A"},0,{"$error":"#N/A"},0,{"$error":"#VALUE!"},{"$error":"#VALUE!"},{"$error":"#VALUE!"},"FAIL",null,null,null,null,null,null,null,"Interior / Exterior",null,"",null,{"$f":"IF(RIGHT(I113,4)=\"Case\",(INDEX('LED Case Lighting'!$AZ$3:$AZ$36,MATCH('Analysis 103L'!$CK113,'LED Case Lighting'!$AS$3:$AS$36,0))),IF(CB113=0,0,IF(CB113=\"lamp\",((Q113/VLOOKUP(B113,Int_Ext,2,FALSE))*VLOOKUP(E113,NEB,16,FALSE)),IF(CB113=\"fixture\",((Q113/VLOOKUP(B113,Int_Ext,2,FALSE))*VLOOKUP(E113,NEB,14,FALSE)),\"\"))))","v":""},null,{"$f":"IF(RIGHT(I113,4)=\"Case\",INDEX('Equipment Type'!$V$4:$V$53, MATCH('Analysis 103L'!$K113, 'Equipment Type'!$A$4:$A$53, 0)), \"\")","v":""},"","","","","",{"$f":"IF(CK113=\"\", \"\", INDEX('LED Case Lighting'!$AR$3:$AR$36, MATCH('Analysis 103L'!CK113, 'LED Case Lighting'!$AS$3:$AS$36, 0)))","v":""},{"$f":"IF(CK113=\"\", \"\", INDEX('LED Case Lighting'!$AW$3:$AW$36, MATCH('Analysis 103L'!CK113, 'LED Case Lighting'!$AS$3:$AS$36, 0)))","v":""},{"$f":"IF(CK113=\"\", \"\", INDEX('LED Case Lighting'!$AX$3:$AX$36, MATCH('Analysis 103L'!CK113, 'LED Case Lighting'!$AS$3:$AS$36, 0)))","v":""},""]
[87,null,null,null,null,null,"",null,{"$f":"IF(K114=\"\",\"\",VLOOKUP(K114,'Equipment Type'!$A$1:$F$53,5,FALSE))","v":""},{"$f":"IF(K114=\"\",\"\",VLOOKUP(K114,'Equipment Type'!$A$1:$F$53,6,FALSE))","v":""},null,{"$f":"IF(K114=\"\",\"\",VLOOKUP(K114,'Equipment Type'!$A$1:$F$53,4,FALSE))","v":""},null,{"$f":"IF(K114=\"\",\"\",INDEX('Equipment Type'!$T$4:$T$53,MATCH('Analysis 103L'!K114,'Equipment Type'!$A$4:$A$53,0)))","v":""},"",null,{"$f":"IF(RIGHT(I114, 4)=\"Case\", \"\", IF(P114=\"\",\"\",(IF(ISNUMBER(SEARCH(\"exit\",J114)),8760,IF(B114=\"Exterior\",4380,'Analysis 103L'!$J$3)))))","v":""},null,"","","","","","","","",{"$f":"IF('100L Information'!$Z$5=\"Yes\",0,IF('100L Information'!$Z$4=\"Yes\",(MIN($Y$232-(-$Y$227),6000)*0.5)*(Y114/$Y$232),$Y$232*(Y114/($Y$230+$Y$231))))","v":{"$error":"#VALUE!"}},"",{"$error":"#VALUE!"},"No requirement",0,{"$f":"IF(OR(Z114=\"Does not meet requirement\",AND('100L Information'!$AA$21=\"No\",AL114=\"Y\"),AND('100L Information'!$AS$21=FALSE,AL114=\"Y\")),0,IF(ISNUMBER(R114*Incent_Cost_Fixture_Rx),MIN(R114*Incent_Cost_Fixture_Rx,(MAX(AE114,AK114))),0))","v":0},"FAIL","0","0","0",0,"N","0","0",null,"","",0,"",{"$f":"IF(RIGHT(I114,4)=\"Case\",W114,IF(AND(AL114=\"Y\",AF114<1),0,IF(OR(LEFT(D114,2)=\"T5\",LEFT(D114,3)=\"CFL\",'Analysis 103L'!AS114=\"Less\"),'Analysis 103L'!AR114,'Analysis 103L'!W114)))","v":""},null,0,0,null,{"$error":"#VALUE!"},{"$error":"#VALUE!"},{"$error":"#VALUE!"},null,null,{"$f":"IF(RIGHT(I114,4)=\"Case\",'LED Case Lighting'!$AY$1,IF(J114=\"\",\"\",VLOOKUP(J114,Lookups!$A$30:$J$172,VLOOKUP('100L Information'!$AI$46,Lookups!$J$3:$L$6,3,FALSE),FALSE)))","v":""},{"$error":"#N/A"},"","",{"$error":"#VALUE!"},{"$error":"#VALUE!"},{"$error":"#VALUE!"},{"$error":"#N/A"},0,{"$error":"#N/A"},0,{"$error":"#VALUE!"},{"$error":"#VALUE!"},{"$error":"#VALUE!"},"FAIL",null,null,null,null,null,null,null,"Interior / Exterior",null,"",null,{"$f":"IF(RIGHT(I114,4)=\"Case\",(INDEX('LED Case Lighting'!$AZ$3:$AZ$36,MATCH('Analysis 103L'!$CK114,'LED Case Lighting'!$AS$3:$AS$36,0))),IF(CB114=0,0,IF(CB114=\"lamp\",((Q114/VLOOKUP(B114,Int_Ext,2,FALSE))*VLOOKUP(E114,NEB,16,FALSE)),IF(CB114=\"fixture\",((Q114/VLOOKUP(B114,Int_Ext,2,FALSE))*VLOOKUP(E114,NEB,14,FALSE)),\"\"))))","v":""},null,{"$f":"IF(RIGHT(I114,4)=\"Case\",INDEX('Equipment Type'!$V$4:$V$53, MATCH('Analysis 103L'!$K114, 'Equipment Type'!$A$4:$A$53, 0)), \"\")","v":""},"","","","","",{"$f":"IF(CK114=\"\", \"\", INDEX('LED Case Lighting'!$AR$3:$AR$36, MATCH('Analysis 103L'!CK114, 'LED Case Lighting'!$AS$3:$AS$36, 0)))","v":""},{"$f":"IF(CK114=\"\", \"\", INDEX('LED Case Lighting'!$AW$3:$AW$36, MATCH('Analysis 103L'!CK114, 'LED Case Lighting'!$AS$3:$AS$36, 0)))","v":""},{"$f":"IF(CK114=\"\", \"\", INDEX('LED Case Lighting'!$AX$3:$AX$36, MATCH('Analysis 103L'!CK114, 'LED Case Lighting'!$AS$3:$AS$36, 0)))","v":""},""]
[88,null,null,null,null,null,"",null,{"$f":"IF(K115=\"\",\"\",VLOOKUP(K115,'Equipment Type'!$A$1:$F$53,5,FALSE))","v":""},{"$f":"IF(K115=\"\",\"\",VLOOKUP(K115,'Equipment Type'!$A$1:$F$53,6,FALSE))","v":""},null,{"$f":"IF(K115=\"\",\"\",VLOOKUP(K115,'Equipment Type'!$A$1:$F$53,4,FALSE))","v":""},null,{"$f":"IF(K115=\"\",\"\",INDEX('Equipment Type'!$T$4:$T$53,MATCH('Analysis 103L'!K115,'Equipment Type'!$A$4:$A$53,0)))","v":""},"",null,{"$f":"IF(RIGHT(I115, 4)=\"Case\", \"\", IF(P115=\"\",\"\",(IF(ISNUMBER(SEARCH(\"exit\",J115)),8760,IF(B115=\"Exterior\",4380,'Analysis 103L'!$J$3)))))","v":""},null,"","","","","","","","",{"$f":"IF('100L Information'!$Z$5=\"Yes\",0,IF('100L Information'!$Z$4=\"Yes\",(MIN($Y$232-(-$Y$227),6000)*0.5)*(Y115/$Y$232),$Y$232*(Y115/($Y$230+$Y$231))))","v":{"$error":"#VALUE!"}},"",{"$error":"#VALUE!"},"No requirement",0,{"$f":"IF(OR(Z115=\"Does not meet requirement\",AND('100L Information'!$AA$21=\"No\",AL115=\"Y\"),AND('100L Information'!$AS$21=FALSE,AL115=\"Y\")),0,IF(ISNUMBER(R115*Incent_Cost_Fixture_Rx),MIN(R115*Incent_Cost_Fixture_Rx,(MAX(AE115,AK115))),0))","v":0},"FAIL","0","0","0",0,"N","0","0",null,"","",0,"",{"$f":"IF(RIGHT(I115,4)=\"Case\",W115,IF(AND(AL115=\"Y\",AF115<1),0,IF(OR(LEFT(D115,2)=\"T5\",LEFT(D115,3)=\"CFL\",'Analysis 103L'!AS115=\"Less\"),'Analysis 103L'!AR115,'Analysis 103L'!W115)))","v":""},null,0,0,null,{"$error":"#VALUE!"},{"$error":"#VALUE!"},{"$error":"#VALUE!"},null,null,{"$f":"IF(RIGHT(I115,4)=\"Case\",'LED Case Lighting'!$AY$1,IF(J115=\"\",\"\",VLOOKUP(J115,Lookups!$A$30:$J$172,VLOOKUP('100L Information'!$AI$46,Lookups!$J$3:$L$6,3,FALSE),FALSE)))","v":""},{"$error":"#N/A"},"","",{"$error":"#VALUE!"},{"$error":"#VALUE!"},{"$error":"#VALUE!"},{"$error":"#N/A"},0,{"$error":"#N/A"},0,{"$error":"#VALUE!"},{"$error":"#VALUE!"},{"$error":"#VALUE!"},"FAIL",null,null,null,null,null,null,null,"Interior / Exterior",null,"",null,{"$f":"IF(RIGHT(I115,4)=\"Case\",(INDEX('LED Case Lighting'!$AZ$3:$AZ$36,MATCH('Analysis 103L'!$CK115,'LED Case Lighting'!$AS$3:$AS$36,0))),IF(CB115=0,0,IF(CB115=\"lamp\",((Q115/VLOOKUP(B115,Int_Ext,2,FALSE))*VLOOKUP(E115,NEB,16,FALSE)),IF(CB115=\"fixture\",((Q115/VLOOKUP(B115,Int_Ext,2,FALSE))*VLOOKUP(E115,NEB,14,FALSE)),\"\"))))","v":""},null,{"$f":"IF(RIGHT(I115,4)=\"Case\",INDEX('Equipment Type'!$V$4:$V$53, MATCH('Analysis 103L'!$K115, 'Equipment Type'!$A$4:$A$53, 0)), \"\")","v":""},"","","","","",{"$f":"IF(CK115=\"\", \"\", INDEX('LED Case Lighting'!$AR$3:$AR$36, MATCH('Analysis 103L'!CK115, 'LED Case Lighting'!$AS$3:$AS$36, 0)))","v":""},{"$f":"IF(CK115=\"\", \"\", INDEX('LED Case Lighting'!$AW$3:$AW$36, MATCH('Analysis 103L'!CK115, 'LED Case Lighting'!$AS$3:$AS$36, 0)))","v":""},{"$f":"IF(CK115=\"\", \"\", INDEX('LED Case Lighting'!$AX$3:$AX$36, MATCH('Analysis 103L'!CK115, 'LED Case Lighting'!$AS$3:$AS$36, 0)))","v":""},""]
[89,null,null,null,null,null,"",null,{"$f":"IF(K116=\"\",\"\",VLOOKUP(K116,'Equipment Type'!$A$1:$F$53,5,FALSE))","v":""},{"$f":"IF(K116=\"\",\"\",VLOOKUP(K116,'Equipment Type'!$A$1:$F$53,6,FALSE))","v":""},null,{"$f":"IF(K116=\"\",\"\",VLOOKUP(K116,'Equipment Type'!$A$1:$F$53,4,FALSE))","v":""},null,{"$f":"IF(K116=\"\",\"\",INDEX('Equipment Type'!$T$4:$T$53,MATCH('Analysis 103L'!K116,'Equipment Type'!$A$4:$A$53,0)))","v":""},"",null,{"$f":"IF(RIGHT(I116, 4)=\"Case\", \"\", IF(P116=\"\",\"\",(IF(ISNUMBER(SEARCH(\"exit\",J116)),8760,IF(B116=\"Exterior\",4380,'Analysis 103L'!$J$3)))))","v":""},null,"","","","","","","","",{"$f":"IF('100L Information'!$Z$5=\"Yes\",0,IF('100L Information'!$Z$4=\"Yes\",(MIN($Y$232-(-$Y$227),6000)*0.5)*(Y116/$Y$232),$Y$232*(Y116/($Y$230+$Y$231))))","v":{"$error":"#VALUE!"}},"",{"$error":"#VALUE!"},"No requirement",0,{"$f":"IF(OR(Z116=\"Does not meet requirement\",AND('100L Information'!$AA$21=\"No\",AL116=\"Y\"),AND('100L Information'!$AS$21=FALSE,AL116=\"Y\")),0,IF(ISNUMBER(R116*Incent_Cost_Fixture_Rx),MIN(R116*Incent_Cost_Fixture_Rx,(MAX(AE116,AK116))),0))","v":0},"FAIL","0","0","0",0,"N","0","0",null,"","",0,"",{"$f":"IF(RIGHT(I116,4)=\"Case\",W116,IF(AND(AL116=\"Y\",AF116<1),0,IF(OR(LEFT(D116,2)=\"T5\",LEFT(D116,3)=\"CFL\",'Analysis 103L'!AS116=\"Less\"),'Analysis 103L'!AR116,'Analysis 103L'!W116)))","v":""},null,0,0,null,{"$error":"#VALUE!"},{"$error":"#VALUE!"},{"$error":"#VALUE!"},null,null,{"$f":"IF(RIGHT(I116,4)=\"Case\",'LED Case Lighting'!$AY$1,IF(J116=\"\",\"\",VLOOKUP(J116,Lookups!$A$30:$J$172,VLOOKUP('100L Information'!$AI$46,Lookups!$J$3:$L$6,3,FALSE),FALSE)))","v":""},{"$error":"#N/A"},"","",{"$error":"#VALUE!"},{"$error":"#VALUE!"},{"$error":"#VALUE!"},{"$error":"#N/A"},0,{"$error":"#N/A"},0,{"$error":"#VALUE!"},{"$error":"#VALUE!"},{"$error":"#VALUE!"},"FAIL",null,null,null,null,null,null,null,"Interior / Exterior",null,"",null,{"$f":"IF(RIGHT(I116,4)=\"Case\",(INDEX('LED Case Lighting'!$AZ$3:$AZ$36,MATCH('Analysis 103L'!$CK116,'LED Case Lighting'!$AS$3:$AS$36,0))),IF(CB116=0,0,IF(CB116=\"lamp\",((Q116/VLOOKUP(B116,Int_Ext,2,FALSE))*VLOOKUP(E116,NEB,16,FALSE)),IF(CB116=\"fixture\",((Q116/VLOOKUP(B116,Int_Ext,2,FALSE))*VLOOKUP(E116,NEB,14,FALSE)),\"\"))))","v":""},null,{"$f":"IF(RIGHT(I116,4)=\"Case\",INDEX('Equipment Type'!$V$4:$V$53, MATCH('Analysis 103L'!$K116, 'Equipment Type'!$A$4:$A$53, 0)), \"\")","v":""},"","","","","",{"$f":"IF(CK116=\"\", \"\", INDEX('LED Case Lighting'!$AR$3:$AR$36, MATCH('Analysis 103L'!CK116, 'LED Case Lighting'!$AS$3:$AS$36, 0)))","v":""},{"$f":"IF(CK116=\"\", \"\", INDEX('LED Case Lighting'!$AW$3:$AW$36, MATCH('Analysis 103L'!CK116, 'LED Case Lighting'!$AS$3:$AS$36, 0)))","v":""},{"$f":"IF(CK116=\"\", \"\", INDEX('LED Case Lighting'!$AX$3:$AX$36, MATCH('Analysis 103L'!CK116, 'LED Case Lighting'!$AS$3:$AS$36, 0)))","v":""},""]
[90,null,null,null,null,null,"",null,{"$f":"IF(K117=\"\",\"\",VLOOKUP(K117,'Equipment Type'!$A$1:$F$53,5,FALSE))","v":""},{"$f":"IF(K117=\"\",\"\",VLOOKUP(K117,'Equipment Type'!$A$1:$F$53,6,FALSE))","v":""},null,{"$f":"IF(K117=\"\",\"\",VLOOKUP(K117,'Equipment Type'!$A$1:$F$53,4,FALSE))","v":""},null,{"$f":"IF(K117=\"\",\"\",INDEX('Equipment Type'!$T$4:$T$53,MATCH('Analysis 103L'!K117,'Equipment Type'!$A$4:$A$53,0)))","v":""},"",null,{"$f":"IF(RIGHT(I117, 4)=\"Case\", \"\", IF(P117=\"\",\"\",(IF(ISNUMBER(SEARCH(\"exit\",J117)),8760,IF(B117=\"Exterior\",4380,'Analysis 103L'!$J$3)))))","v":""},null,"","","","","","","","",{"$f":"IF('100L Information'!$Z$5=\"Yes\",0,IF('100L Information'!$Z$4=\"Yes\",(MIN($Y$232-(-$Y$227),6000)*0.5)*(Y117/$Y$232),$Y$232*(Y117/($Y$230+$Y$231))))","v":{"$error":"#VALUE!"}},"",{"$error":"#VALUE!"},"No requirement",0,{"$f":"IF(OR(Z117=\"Does not meet requirement\",AND('100L Information'!$AA$21=\"No\",AL117=\"Y\"),AND('100L Information'!$AS$21=FALSE,AL117=\"Y\")),0,IF(ISNUMBER(R117*Incent_Cost_Fixture_Rx),MIN(R117*Incent_Cost_Fixture_Rx,(MAX(AE117,AK117))),0))","v":0},"FAIL","0","0","0",0,"N","0","0",null,"","",0,"",{"$f":"IF(RIGHT(I117,4)=\"Case\",W117,IF(AND(AL117=\"Y\",AF117<1),0,IF(OR(LEFT(D117,2)=\"T5\",LEFT(D117,3)=\"CFL\",'Analysis 103L'!AS117=\"Less\"),'Analysis 103L'!AR117,'Analysis 103L'!W117)))","v":""},null,0,0,null,{"$error":"#VALUE!"},{"$error":"#VALUE!"},{"$error":"#VALUE!"},null,null,{"$f":"IF(RIGHT(I117,4)=\"Case\",'LED Case Lighting'!$AY$1,IF(J117=\"\",\"\",VLOOKUP(J117,Lookups!$A$30:$J$172,VLOOKUP('100L Information'!$AI$46,Lookups!$J$3:$L$6,3,FALSE),FALSE)))","v":""},{"$error":"#N/A"},"","",{"$error":"#VALUE!"},{"$error":"#VALUE!"},{"$error":"#VALUE!"},{"$error":"#N/A"},0,{"$error":"#N/A"},0,{"$error":"#VALUE!"},{"$error":"#VALUE!"},{"$error":"#VALUE!"},"FAIL",null,null,null,null,null,null,null,"Interior / Exterior",null,"",null,{"$f":"IF(RIGHT(I117,4)=\"Case\",(INDEX('LED Case Lighting'!$AZ$3:$AZ$36,MATCH('Analysis 103L'!$CK117,'LED Case Lighting'!$AS$3:$AS$36,0))),IF(CB117=0,0,IF(CB117=\"lamp\",((Q117/VLOOKUP(B117,Int_Ext,2,FALSE))*VLOOKUP(E117,NEB,16,FALSE)),IF(CB117=\"fixture\",((Q117/VLOOKUP(B117,Int_Ext,2,FALSE))*VLOOKUP(E117,NEB,14,FALSE)),\"\"))))","v":""},null,{"$f":"IF(RIGHT(I117,4)=\"Case\",INDEX('Equipment Type'!$V$4:$V$53, MATCH('Analysis 103L'!$K117, 'Equipment Type'!$A$4:$A$53, 0)), \"\")","v":""},"","","","","",{"$f":"IF(CK117=\"\", \"\", INDEX('LED Case Lighting'!$AR$3:$AR$36, MATCH('Analysis 103L'!CK117, 'LED Case Lighting'!$AS$3:$AS$36, 0)))","v":""},{"$f":"IF(CK117=\"\", \"\", INDEX('LED Case Lighting'!$AW$3:$AW$36, MATCH('Analysis 103L'!CK117, 'LED Case Lighting'!$AS$3:$AS$36, 0)))","v":""},{"$f":"IF(CK117=\"\", \"\", INDEX('LED Case Lighting'!$AX$3:$AX$36, MATCH('Analysis 103L'!CK117, 'LED Case Lighting'!$AS$3:$AS$36, 0)))","v":""},""]
[91,null,null,null,null,null,"",null,{"$f":"IF(K118=\"\",\"\",VLOOKUP(K118,'Equipment Type'!$A$1:$F$53,5,FALSE))","v":""},{"$f":"IF(K118=\"\",\"\",VLOOKUP(K118,'Equipment Type'!$A$1:$F$53,6,FALSE))","v":""},null,{"$f":"IF(K118=\"\",\"\",VLOOKUP(K118,'Equipment Type'!$A$1:$F$53,4,FALSE))","v":""},null,{"$f":"IF(K118=\"\",\"\",INDEX('Equipment Type'!$T$4:$T$53,MATCH('Analysis 103L'!K118,'Equipment Type'!$A$4:$A$53,0)))","v":""},"",null,{"$f":"IF(RIGHT(I118, 4)=\"Case\", \"\", IF(P118=\"\",\"\",(IF(ISNUMBER(SEARCH(\"exit\",J118)),8760,IF(B118=\"Exterior\",4380,'Analysis 103L'!$J$3)))))","v":""},null,"","","","","","","","",{"$f":"IF('100L Information'!$Z$5=\"Yes\",0,IF('100L Information'!$Z$4=\"Yes\",(MIN($Y$232-(-$Y$227),6000)*0.5)*(Y118/$Y$232),$Y$232*(Y118/($Y$230+$Y$231))))","v":{"$error":"#VALUE!"}},"",{"$error":"#VALUE!"},"No requirement",0,{"$f":"IF(OR(Z118=\"Does not meet requirement\",AND('100L Information'!$AA$21=\"No\",AL118=\"Y\"),AND('100L Information'!$AS$21=FALSE,AL118=\"Y\")),0,IF(ISNUMBER(R118*Incent_Cost_Fixture_Rx),MIN(R118*Incent_Cost_Fixture_Rx,(MAX(AE118,AK118))),0))","v":0},"FAIL","0","0","0",0,"N","0","0",null,"","",0,"",{"$f":"IF(RIGHT(I118,4)=\"Case\",W118,IF(AND(AL118=\"Y\",AF118<1),0,IF(OR(LEFT(D118,2)=\"T5\",LEFT(D118,3)=\"CFL\",'Analysis 103L'!AS118=\"Less\"),'Analysis 103L'!AR118,'Analysis 103L'!W118)))","v":""},null,0,0,null,{"$error":"#VALUE!"},{"$error":"#VALUE!"},{"$error":"#VALUE!"},null,null,{"$f":"IF(RIGHT(I118,4)=\"Case\",'LED Case Lighting'!$AY$1,IF(J118=\"\",\"\",VLOOKUP(J118,Lookups!$A$30:$J$172,VLOOKUP('100L Information'!$AI$46,Lookups!$J$3:$L$6,3,FALSE),FALSE)))","v":""},{"$error":"#N/A"},"","",{"$error":"#VALUE!"},{"$error":"#VALUE!"},{"$error":"#VALUE!"},{"$error":"#N/A"},0,{"$error":"#N/A"},0,{"$error":"#VALUE!"},{"$error":"#VALUE!"},{"$error":"#VALUE!"},"FAIL",null,null,null,null,null,null,null,"Interior / Exterior",null,"",null,{"$f":"IF(RIGHT(I118,4)=\"Case\",(INDEX('LED Case Lighting'!$AZ$3:$AZ$36,MATCH('Analysis 103L'!$CK118,'LED Case Lighting'!$AS$3:$AS$36,0))),IF(CB118=0,0,IF(CB118=\"lamp\",((Q118/VLOOKUP(B118,Int_Ext,2,FALSE))*VLOOKUP(E118,NEB,16,FALSE)),IF(CB118=\"fixture\",((Q118/VLOOKUP(B118,Int_Ext,2,FALSE))*VLOOKUP(E118,NEB,14,FALSE)),\"\"))))","v":""},null,{"$f":"IF(RIGHT(I118,4)=\"Case\",INDEX('Equipment Type'!$V$4:$V$53, MATCH('Analysis 103L'!$K118, 'Equipment Type'!$A$4:$A$53, 0)), \"\")","v":""},"","","","","",{"$f":"IF(CK118=\"\", \"\", INDEX('LED Case Lighting'!$AR$3:$AR$36, MATCH('Analysis 103L'!CK118, 'LED Case Lighting'!$AS$3:$AS$36, 0)))","v":""},{"$f":"IF(CK118=\"\", \"\", INDEX('LED Case Lighting'!$AW$3:$AW$36, MATCH('Analysis 103L'!CK118, 'LED Case Lighting'!$AS$3:$AS$36, 0)))","v":""},{"$f":"IF(CK118=\"\", \"\", INDEX('LED Case Lighting'!$AX$3:$AX$36, MATCH('Analysis 103L'!CK118, 'LED Case Lighting'!$AS$3:$AS$36, 0)))","v":""},""]
[92,null,null,null,null,null,"",null,{"$f":"IF(K119=\"\",\"\",VLOOKUP(K119,'Equipment Type'!$A$1:$F$53,5,FALSE))","v":""},{"$f":"IF(K119=\"\",\"\",VLOOKUP(K119,'Equipment Type'!$A$1:$F$53,6,FALSE))","v":""},null,{"$f":"IF(K119=\"\",\"\",VLOOKUP(K119,'Equipment Type'!$A$1:$F$53,4,FALSE))","v":""},null,{"$f":"IF(K119=\"\",\"\",INDEX('Equipment Type'!$T$4:$T$53,MATCH('Analysis 103L'!K119,'Equipment Type'!$A$4:$A$53,0)))","v":""},"",null,{"$f":"IF(RIGHT(I119, 4)=\"Case\", \"\", IF(P119=\"\",\"\",(IF(ISNUMBER(SEARCH(\"exit\",J119)),8760,IF(B119=\"Exterior\",4380,'Analysis 103L'!$J$3)))))","v":""},null,"","","","","","","","",{"$f":"IF('100L Information'!$Z$5=\"Yes\",0,IF('100L Information'!$Z$4=\"Yes\",(MIN($Y$232-(-$Y$227),6000)*0.5)*(Y119/$Y$232),$Y$232*(Y119/($Y$230+$Y$231))))","v":{"$error":"#VALUE!"}},"",{"$error":"#VALUE!"},"No requirement",0,{"$f":"IF(OR(Z119=\"Does not meet requirement\",AND('100L Information'!$AA$21=\"No\",AL119=\"Y\"),AND('100L Information'!$AS$21=FALSE,AL119=\"Y\")),0,IF(ISNUMBER(R119*Incent_Cost_Fixture_Rx),MIN(R119*Incent_Cost_Fixture_Rx,(MAX(AE119,AK119))),0))","v":0},"FAIL","0","0","0",0,"N","0","0",null,"","",0,"",{"$f":"IF(RIGHT(I119,4)=\"Case\",W119,IF(AND(AL119=\"Y\",AF119<1),0,IF(OR(LEFT(D119,2)=\"T5\",LEFT(D119,3)=\"CFL\",'Analysis 103L'!AS119=\"Less\"),'Analysis 103L'!AR119,'Analysis 103L'!W119)))","v":""},null,0,0,null,{"$error":"#VALUE!"},{"$error":"#VALUE!"},{"$error":"#VALUE!"},null,null,{"$f":"IF(RIGHT(I119,4)=\"Case\",'LED Case Lighting'!$AY$1,IF(J119=\"\",\"\",VLOOKUP(J119,Lookups!$A$30:$J$172,VLOOKUP('100L Information'!$AI$46,Lookups!$J$3:$L$6,3,FALSE),FALSE)))","v":""},{"$error":"#N/A"},"","",{"$error":"#VALUE!"},{"$error":"#VALUE!"},{"$error":"#VALUE!"},{"$error":"#N/A"},0,{"$error":"#N/A"},0,{"$error":"#VALUE!"},{"$error":"#VALUE!"},{"$error":"#VALUE!"},"FAIL",null,null,null,null,null,null,null,"Interior / Exterior",null,"",null,{"$f":"IF(RIGHT(I119,4)=\"Case\",(INDEX('LED Case Lighting'!$AZ$3:$AZ$36,MATCH('Analysis 103L'!$CK119,'LED Case Lighting'!$AS$3:$AS$36,0))),IF(CB119=0,0,IF(CB119=\"lamp\",((Q119/VLOOKUP(B119,Int_Ext,2,FALSE))*VLOOKUP(E119,NEB,16,FALSE)),IF(CB119=\"fixture\",((Q119/VLOOKUP(B119,Int_Ext,2,FALSE))*VLOOKUP(E119,NEB,14,FALSE)),\"\"))))","v":""},null,{"$f":"IF(RIGHT(I119,4)=\"Case\",INDEX('Equipment Type'!$V$4:$V$53, MATCH('Analysis 103L'!$K119, 'Equipment Type'!$A$4:$A$53, 0)), \"\")","v":""},"","","","","",{"$f":"IF(CK119=\"\", \"\", INDEX('LED Case Lighting'!$AR$3:$AR$36, MATCH('Analysis 103L'!CK119, 'LED Case Lighting'!$AS$3:$AS$36, 0)))","v":""},{"$f":"IF(CK119=\"\", \"\", INDEX('LED Case Lighting'!$AW$3:$AW$36, MATCH('Analysis 103L'!CK119, 'LED Case Lighting'!$AS$3:$AS$36, 0)))","v":""},{"$f":"IF(CK119=\"\", \"\", INDEX('LED Case Lighting'!$AX$3:$AX$36, MATCH('Analysis 103L'!CK119, 'LED Case Lighting'!$AS$3:$AS$36, 0)))","v":""},""]
[93,null,null,null,null,null,"",null,{"$f":"IF(K120=\"\",\"\",VLOOKUP(K120,'Equipment Type'!$A$1:$F$53,5,FALSE))","v":""},{"$f":"IF(K120=\"\",\"\",VLOOKUP(K120,'Equipment Type'!$A$1:$F$53,6,FALSE))","v":""},null,{"$f":"IF(K120=\"\",\"\",VLOOKUP(K120,'Equipment Type'!$A$1:$F$53,4,FALSE))","v":""},null,{"$f":"IF(K120=\"\",\"\",INDEX('Equipment Type'!$T$4:$T$53,MATCH('Analysis 103L'!K120,'Equipment Type'!$A$4:$A$53,0)))","v":""},"",null,{"$f":"IF(RIGHT(I120, 4)=\"Case\", \"\", IF(P120=\"\",\"\",(IF(ISNUMBER(SEARCH(\"exit\",J120)),8760,IF(B120=\"Exterior\",4380,'Analysis 103L'!$J$3)))))","v":""},null,"","","","","","","","",{"$f":"IF('100L Information'!$Z$5=\"Yes\",0,IF('100L Information'!$Z$4=\"Yes\",(MIN($Y$232-(-$Y$227),6000)*0.5)*(Y120/$Y$232),$Y$232*(Y120/($Y$230+$Y$231))))","v":{"$error":"#VALUE!"}},"",{"$error":"#VALUE!"},"No requirement",0,{"$f":"IF(OR(Z120=\"Does not meet requirement\",AND('100L Information'!$AA$21=\"No\",AL120=\"Y\"),AND('100L Information'!$AS$21=FALSE,AL120=\"Y\")),0,IF(ISNUMBER(R120*Incent_Cost_Fixture_Rx),MIN(R120*Incent_Cost_Fixture_Rx,(MAX(AE120,AK120))),0))","v":0},"FAIL","0","0","0",0,"N","0","0",null,"","",0,"",{"$f":"IF(RIGHT(I120,4)=\"Case\",W120,IF(AND(AL120=\"Y\",AF120<1),0,IF(OR(LEFT(D120,2)=\"T5\",LEFT(D120,3)=\"CFL\",'Analysis 103L'!AS120=\"Less\"),'Analysis 103L'!AR120,'Analysis 103L'!W120)))","v":""},null,0,0,null,{"$error":"#VALUE!"},{"$error":"#VALUE!"},{"$error":"#VALUE!"},null,null,{"$f":"IF(RIGHT(I120,4)=\"Case\",'LED Case Lighting'!$AY$1,IF(J120=\"\",\"\",VLOOKUP(J120,Lookups!$A$30:$J$172,VLOOKUP('100L Information'!$AI$46,Lookups!$J$3:$L$6,3,FALSE),FALSE)))","v":""},{"$error":"#N/A"},"","",{"$error":"#VALUE!"},{"$error":"#VALUE!"},{"$error":"#VALUE!"},{"$error":"#N/A"},0,{"$error":"#N/A"},0,{"$error":"#VALUE!"},{"$error":"#VALUE!"},{"$error":"#VALUE!"},"FAIL",null,null,null,null,null,null,null,"Interior / Exterior",null,"",null,{"$f":"IF(RIGHT(I120,4)=\"Case\",(INDEX('LED Case Lighting'!$AZ$3:$AZ$36,MATCH('Analysis 103L'!$CK120,'LED Case Lighting'!$AS$3:$AS$36,0))),IF(CB120=0,0,IF(CB120=\"lamp\",((Q120/VLOOKUP(B120,Int_Ext,2,FALSE))*VLOOKUP(E120,NEB,16,FALSE)),IF(CB120=\"fixture\",((Q120/VLOOKUP(B120,Int_Ext,2,FALSE))*VLOOKUP(E120,NEB,14,FALSE)),\"\"))))","v":""},null,{"$f":"IF(RIGHT(I120,4)=\"Case\",INDEX('Equipment Type'!$V$4:$V$53, MATCH('Analysis 103L'!$K120, 'Equipment Type'!$A$4:$A$53, 0)), \"\")","v":""},"","","","","",{"$f":"IF(CK120=\"\", \"\", INDEX('LED Case Lighting'!$AR$3:$AR$36, MATCH('Analysis 103L'!CK120, 'LED Case Lighting'!$AS$3:$AS$36, 0)))","v":""},{"$f":"IF(CK120=\"\", \"\", INDEX('LED Case Lighting'!$AW$3:$AW$36, MATCH('Analysis 103L'!CK120, 'LED Case Lighting'!$AS$3:$AS$36, 0)))","v":""},{"$f":"IF(CK120=\"\", \"\", INDEX('LED Case Lighting'!$AX$3:$AX$36, MATCH('Analysis 103L'!CK120, 'LED Case Lighting'!$AS$3:$AS$36, 0)))","v":""},""]
[94,null,null,null,null,null,"",null,{"$f":"IF(K121=\"\",\"\",VLOOKUP(K121,'Equipment Type'!$A$1:$F$53,5,FALSE))","v":""},{"$f":"IF(K121=\"\",\"\",VLOOKUP(K121,'Equipment Type'!$A$1:$F$53,6,FALSE))","v":""},null,{"$f":"IF(K121=\"\",\"\",VLOOKUP(K121,'Equipment Type'!$A$1:$F$53,4,FALSE))","v":""},null,{"$f":"IF(K121=\"\",\"\",INDEX('Equipment Type'!$T$4:$T$53,MATCH('Analysis 103L'!K121,'Equipment Type'!$A$4:$A$53,0)))","v":""},"",null,{"$f":"IF(RIGHT(I121, 4)=\"Case\", \"\", IF(P121=\"\",\"\",(IF(ISNUMBER(SEARCH(\"exit\",J121)),8760,IF(B121=\"Exterior\",4380,'Analysis 103L'!$J$3)))))","v":""},null,"","","","","","","","",{"$f":"IF('100L Information'!$Z$5=\"Yes\",0,IF('100L Information'!$Z$4=\"Yes\",(MIN($Y$232-(-$Y$227),6000)*0.5)*(Y121/$Y$232),$Y$232*(Y121/($Y$230+$Y$231))))","v":{"$error":"#VALUE!"}},"",{"$error":"#VALUE!"},"No requirement",0,{"$f":"IF(OR(Z121=\"Does not meet requirement\",AND('100L Information'!$AA$21=\"No\",AL121=\"Y\"),AND('100L Information'!$AS$21=FALSE,AL121=\"Y\")),0,IF(ISNUMBER(R121*Incent_Cost_Fixture_Rx),MIN(R121*Incent_Cost_Fixture_Rx,(MAX(AE121,AK121))),0))","v":0},"FAIL","0","0","0",0,"N","0","0",null,"","",0,"",{"$f":"IF(RIGHT(I121,4)=\"Case\",W121,IF(AND(AL121=\"Y\",AF121<1),0,IF(OR(LEFT(D121,2)=\"T5\",LEFT(D121,3)=\"CFL\",'Analysis 103L'!AS121=\"Less\"),'Analysis 103L'!AR121,'Analysis 103L'!W121)))","v":""},null,0,0,null,{"$error":"#VALUE!"},{"$error":"#VALUE!"},{"$error":"#VALUE!"},null,null,{"$f":"IF(RIGHT(I121,4)=\"Case\",'LED Case Lighting'!$AY$1,IF(J121=\"\",\"\",VLOOKUP(J121,Lookups!$A$30:$J$172,VLOOKUP('100L Information'!$AI$46,Lookups!$J$3:$L$6,3,FALSE),FALSE)))","v":""},{"$error":"#N/A"},"","",{"$error":"#VALUE!"},{"$error":"#VALUE!"},{"$error":"#VALUE!"},{"$error":"#N/A"},0,{"$error":"#N/A"},0,{"$error":"#VALUE!"},{"$error":"#VALUE!"},{"$error":"#VALUE!"},"FAIL",null,null,null,null,null,null,null,"Interior / Exterior",null,"",null,{"$f":"IF(RIGHT(I121,4)=\"Case\",(INDEX('LED Case Lighting'!$AZ$3:$AZ$36,MATCH('Analysis 103L'!$CK121,'LED Case Lighting'!$AS$3:$AS$36,0))),IF(CB121=0,0,IF(CB121=\"lamp\",((Q121/VLOOKUP(B121,Int_Ext,2,FALSE))*VLOOKUP(E121,NEB,16,FALSE)),IF(CB121=\"fixture\",((Q121/VLOOKUP(B121,Int_Ext,2,FALSE))*VLOOKUP(E121,NEB,14,FALSE)),\"\"))))","v":""},null,{"$f":"IF(RIGHT(I121,4)=\"Case\",INDEX('Equipment Type'!$V$4:$V$53, MATCH('Analysis 103L'!$K121, 'Equipment Type'!$A$4:$A$53, 0)), \"\")","v":""},"","","","","",{"$f":"IF(CK121=\"\", \"\", INDEX('LED Case Lighting'!$AR$3:$AR$36, MATCH('Analysis 103L'!CK121, 'LED Case Lighting'!$AS$3:$AS$36, 0)))","v":""},{"$f":"IF(CK121=\"\", \"\", INDEX('LED Case Lighting'!$AW$3:$AW$36, MATCH('Analysis 103L'!CK121, 'LED Case Lighting'!$AS$3:$AS$36, 0)))","v":""},{"$f":"IF(CK121=\"\", \"\", INDEX('LED Case Lighting'!$AX$3:$AX$36, MATCH('Analysis 103L'!CK121, 'LED Case Lighting'!$AS$3:$AS$36, 0)))","v":""},""]
[95,null,null,null,null,null,"",null,{"$f":"IF(K122=\"\",\"\",VLOOKUP(K122,'Equipment Type'!$A$1:$F$53,5,FALSE))","v":""},{"$f":"IF(K122=\"\",\"\",VLOOKUP(K122,'Equipment Type'!$A$1:$F$53,6,FALSE))","v":""},null,{"$f":"IF(K122=\"\",\"\",VLOOKUP(K122,'Equipment Type'!$A$1:$F$53,4,FALSE))","v":""},null,{"$f":"IF(K122=\"\",\"\",INDEX('Equipment Type'!$T$4:$T$53,MATCH('Analysis 103L'!K122,'Equipment Type'!$A$4:$A$53,0)))","v":""},"",null,{"$f":"IF(RIGHT(I122, 4)=\"Case\", \"\", IF(P122=\"\",\"\",(IF(ISNUMBER(SEARCH(\"exit\",J122)),8760,IF(B122=\"Exterior\",4380,'Analysis 103L'!$J$3)))))","v":""},null,"","","","","","","","",{"$f":"IF('100L Information'!$Z$5=\"Yes\",0,IF('100L Information'!$Z$4=\"Yes\",(MIN($Y$232-(-$Y$227),6000)*0.5)*(Y122/$Y$232),$Y$232*(Y122/($Y$230+$Y$231))))","v":{"$error":"#VALUE!"}},"",{"$error":"#VALUE!"},"No requirement",0,{"$f":"IF(OR(Z122=\"Does not meet requirement\",AND('100L Information'!$AA$21=\"No\",AL122=\"Y\"),AND('100L Information'!$AS$21=FALSE,AL122=\"Y\")),0,IF(ISNUMBER(R122*Incent_Cost_Fixture_Rx),MIN(R122*Incent_Cost_Fixture_Rx,(MAX(AE122,AK122))),0))","v":0},"FAIL","0","0","0",0,"N","0","0",null,"","",0,"",{"$f":"IF(RIGHT(I122,4)=\"Case\",W122,IF(AND(AL122=\"Y\",AF122<1),0,IF(OR(LEFT(D122,2)=\"T5\",LEFT(D122,3)=\"CFL\",'Analysis 103L'!AS122=\"Less\"),'Analysis 103L'!AR122,'Analysis 103L'!W122)))","v":""},null,0,0,null,{"$error":"#VALUE!"},{"$error":"#VALUE!"},{"$error":"#VALUE!"},null,null,{"$f":"IF(RIGHT(I122,4)=\"Case\",'LED Case Lighting'!$AY$1,IF(J122=\"\",\"\",VLOOKUP(J122,Lookups!$A$30:$J$172,VLOOKUP('100L Information'!$AI$46,Lookups!$J$3:$L$6,3,FALSE),FALSE)))","v":""},{"$error":"#N/A"},"","",{"$error":"#VALUE!"},{"$error":"#VALUE!"},{"$error":"#VALUE!"},{"$error":"#N/A"},0,{"$error":"#N/A"},0,{"$error":"#VALUE!"},{"$error":"#VALUE!"},{"$error":"#VALUE!"},"FAIL",null,null,null,null,null,null,null,"Interior / Exterior",null,"",null,{"$f":"IF(RIGHT(I122,4)=\"Case\",(INDEX('LED Case Lighting'!$AZ$3:$AZ$36,MATCH('Analysis 103L'!$CK122,'LED Case Lighting'!$AS$3:$AS$36,0))),IF(CB122=0,0,IF(CB122=\"lamp\",((Q122/VLOOKUP(B122,Int_Ext,2,FALSE))*VLOOKUP(E122,NEB,16,FALSE)),IF(CB122=\"fixture\",((Q122/VLOOKUP(B122,Int_Ext,2,FALSE))*VLOOKUP(E122,NEB,14,FALSE)),\"\"))))","v":""},null,{"$f":"IF(RIGHT(I122,4)=\"Case\",INDEX('Equipment Type'!$V$4:$V$53, MATCH('Analysis 103L'!$K122, 'Equipment Type'!$A$4:$A$53, 0)), \"\")","v":""},"","","","","",{"$f":"IF(CK122=\"\", \"\", INDEX('LED Case Lighting'!$AR$3:$AR$36, MATCH('Analysis 103L'!CK122, 'LED Case Lighting'!$AS$3:$AS$36, 0)))","v":""},{"$f":"IF(CK122=\"\", \"\", INDEX('LED Case Lighting'!$AW$3:$AW$36, MATCH('Analysis 103L'!CK122, 'LED Case Lighting'!$AS$3:$AS$36, 0)))","v":""},{"$f":"IF(CK122=\"\", \"\", INDEX('LED Case Lighting'!$AX$3:$AX$36, MATCH('Analysis 103L'!CK122, 'LED Case Lighting'!$AS$3:$AS$36, 0)))","v":""},""]
[96,null,null,null,null,null,"",null,{"$f":"IF(K123=\"\",\"\",VLOOKUP(K123,'Equipment Type'!$A$1:$F$53,5,FALSE))","v":""},{"$f":"IF(K123=\"\",\"\",VLOOKUP(K123,'Equipment Type'!$A$1:$F$53,6,FALSE))","v":""},null,{"$f":"IF(K123=\"\",\"\",VLOOKUP(K123,'Equipment Type'!$A$1:$F$53,4,FALSE))","v":""},null,{"$f":"IF(K123=\"\",\"\",INDEX('Equipment Type'!$T$4:$T$53,MATCH('Analysis 103L'!K123,'Equipment Type'!$A$4:$A$53,0)))","v":""},"",null,{"$f":"IF(RIGHT(I123, 4)=\"Case\", \"\", IF(P123=\"\",\"\",(IF(ISNUMBER(SEARCH(\"exit\",J123)),8760,IF(B123=\"Exterior\",4380,'Analysis 103L'!$J$3)))))","v":""},null,"","","","","","","","",{"$f":"IF('100L Information'!$Z$5=\"Yes\",0,IF('100L Information'!$Z$4=\"Yes\",(MIN($Y$232-(-$Y$227),6000)*0.5)*(Y123/$Y$232),$Y$232*(Y123/($Y$230+$Y$231))))","v":{"$error":"#VALUE!"}},"",{"$error":"#VALUE!"},"No requirement",0,{"$f":"IF(OR(Z123=\"Does not meet requirement\",AND('100L Information'!$AA$21=\"No\",AL123=\"Y\"),AND('100L Information'!$AS$21=FALSE,AL123=\"Y\")),0,IF(ISNUMBER(R123*Incent_Cost_Fixture_Rx),MIN(R123*Incent_Cost_Fixture_Rx,(MAX(AE123,AK123))),0))","v":0},"FAIL","0","0","0",0,"N","0","0",null,"","",0,"",{"$f":"IF(RIGHT(I123,4)=\"Case\",W123,IF(AND(AL123=\"Y\",AF123<1),0,IF(OR(LEFT(D123,2)=\"T5\",LEFT(D123,3)=\"CFL\",'Analysis 103L'!AS123=\"Less\"),'Analysis 103L'!AR123,'Analysis 103L'!W123)))","v":""},null,0,0,null,{"$error":"#VALUE!"},{"$error":"#VALUE!"},{"$error":"#VALUE!"},null,null,{"$f":"IF(RIGHT(I123,4)=\"Case\",'LED Case Lighting'!$AY$1,IF(J123=\"\",\"\",VLOOKUP(J123,Lookups!$A$30:$J$172,VLOOKUP('100L Information'!$AI$46,Lookups!$J$3:$L$6,3,FALSE),FALSE)))","v":""},{"$error":"#N/A"},"","",{"$error":"#VALUE!"},{"$error":"#VALUE!"},{"$error":"#VALUE!"},{"$error":"#N/A"},0,{"$error":"#N/A"},0,{"$error":"#VALUE!"},{"$error":"#VALUE!"},{"$error":"#VALUE!"},"FAIL",null,null,null,null,null,null,null,"Interior / Exterior",null,"",null,{"$f":"IF(RIGHT(I123,4)=\"Case\",(INDEX('LED Case Lighting'!$AZ$3:$AZ$36,MATCH('Analysis 103L'!$CK123,'LED Case Lighting'!$AS$3:$AS$36,0))),IF(CB123=0,0,IF(CB123=\"lamp\",((Q123/VLOOKUP(B123,Int_Ext,2,FALSE))*VLOOKUP(E123,NEB,16,FALSE)),IF(CB123=\"fixture\",((Q123/VLOOKUP(B123,Int_Ext,2,FALSE))*VLOOKUP(E123,NEB,14,FALSE)),\"\"))))","v":""},null,{"$f":"IF(RIGHT(I123,4)=\"Case\",INDEX('Equipment Type'!$V$4:$V$53, MATCH('Analysis 103L'!$K123, 'Equipment Type'!$A$4:$A$53, 0)), \"\")","v":""},"","","","","",{"$f":"IF(CK123=\"\", \"\", INDEX('LED Case Lighting'!$AR$3:$AR$36, MATCH('Analysis 103L'!CK123, 'LED Case Lighting'!$AS$3:$AS$36, 0)))","v":""},{"$f":"IF(CK123=\"\", \"\", INDEX('LED Case Lighting'!$AW$3:$AW$36, MATCH('Analysis 103L'!CK123, 'LED Case Lighting'!$AS$3:$AS$36, 0)))","v":""},{"$f":"IF(CK123=\"\", \"\", INDEX('LED Case Lighting'!$AX$3:$AX$36, MATCH('Analysis 103L'!CK123, 'LED Case Lighting'!$AS$3:$AS$36, 0)))","v":""},""]
[97,null,null,null,null,null,"",null,{"$f":"IF(K124=\"\",\"\",VLOOKUP(K124,'Equipment Type'!$A$1:$F$53,5,FALSE))","v":""},{"$f":"IF(K124=\"\",\"\",VLOOKUP(K124,'Equipment Type'!$A$1:$F$53,6,FALSE))","v":""},null,{"$f":"IF(K124=\"\",\"\",VLOOKUP(K124,'Equipment Type'!$A$1:$F$53,4,FALSE))","v":""},null,{"$f":"IF(K124=\"\",\"\",INDEX('Equipment Type'!$T$4:$T$53,MATCH('Analysis 103L'!K124,'Equipment Type'!$A$4:$A$53,0)))","v":""},"",null,{"$f":"IF(RIGHT(I124, 4)=\"Case\", \"\", IF(P124=\"\",\"\",(IF(ISNUMBER(SEARCH(\"exit\",J124)),8760,IF(B124=\"Exterior\",4380,'Analysis 103L'!$J$3)))))","v":""},null,"","","","","","","",{"$f":"IF(M124 = \"Y\",IF(AND(M124=\"Y\",AG124=\"FAIL\"),\"Not Cost Effective\",\"\"),IF(AD124=1,\"Does not meet requirement\",\"\"))","v":""},{"$f":"IF('100L Information'!$Z$5=\"Yes\",0,IF('100L Information'!$Z$4=\"Yes\",(MIN($Y$232-(-$Y$227),6000)*0.5)*(Y124/$Y$232),$Y$232*(Y124/($Y$230+$Y$231))))","v":{"$error":"#VALUE!"}},"",{"$f":"IF(RIGHT(I124,4)=\"Case\",\"\",IF(I124=\"GROW\",MIN(W124*RunRateMax_CustomMeasures_Horti,P124*Cap_GROW_fixture,S124*Incent_Cost_Fixture_Cust),MIN(W124*IF(I124=\"Street_Lighting\",RunRateMax_Streetlighting,RunRateMax_CustomMeasures_fixtures),S124*Incent_Cost_Fixture_Cust)))","v":{"$error":"#VALUE!"}},"No requirement",0,{"$f":"IF(OR(Z124=\"Does not meet requirement\",AND('100L Information'!$AA$21=\"No\",AL124=\"Y\"),AND('100L Information'!$AS$21=FALSE,AL124=\"Y\")),0,IF(ISNUMBER(R124*Incent_Cost_Fixture_Rx),MIN(R124*Incent_Cost_Fixture_Rx,(MAX(AE124,AK124))),0))","v":0},{"$f":"IF(AND(M124=\"Y\",BR124=\"PASS/PASS\"),\"PASS/PASS\",\"FAIL\")","v":"FAIL"},"0","0","0",{"$f":"IF(AE124=0,MAX(IF(ISERROR(VLOOKUP(CONCATENATE(J124,\" from \",VLOOKUP(E124,ExistFixtCat,4,FALSE)),PropFixtIncent,2,FALSE)),0,VLOOKUP(CONCATENATE(J124,\" from \",VLOOKUP(E124,ExistFixtCat,4,FALSE)),PropFixtIncent,2,FALSE)),IF(ISERROR(VLOOKUP(CONCATENATE(J124,\" from ANY\"),PropFixtIncent,2,FALSE)),0,VLOOKUP(CONCATENATE(J124,\" from ANY\"),PropFixtIncent,2,FALSE))),0)","v":0},"N",{"$f":"IF(AG124=\"PASS/PASS\",W124,\"0\")","v":"0"},{"$f":"IF(AG124=\"PASS/PASS\",Y124,\"0\")","v":"0"},null,{"$f":"IF(AND($CB124=\"fixture\",OR($D124=\"CFL\",$D124=\"INCAN\")),VLOOKUP(E124,Incan_Lookup,7,FALSE)*$G124*H124+VLOOKUP(E124,Incan_Lookup,6,FALSE)*$N124*P124,IF(AND($CB124=\"lamp\",OR($D124=\"CFL\",$D124=\"INCAN\")),VLOOKUP(E124,Incan_Lookup,10,FALSE)*$G124*H124+VLOOKUP(E124,Incan_Lookup,9,FALSE)*$N124*P124,IF($D124=\"OTHER\",$G124*$H124,IF($CB124=\"lamp\",(VLOOKUP($E124,ExistFixtLookup,10,FALSE)*H124+VLOOKUP($E124,ExistFixtLookup,9,FALSE)*N124*P124),IF($CB124=\"fixture\",(VLOOKUP($E124,ExistFixtLookup,7,FALSE)*H124+VLOOKUP($E124,ExistFixtLookup,6,FALSE)*N124*P124),$G124)))))","v":""},"",{"$f":"IF(AND(ISNUMBER(BD124),ISNUMBER(W124),$CB124=\"lamp\"),(W124*VLOOKUP(E124,ExistFixtLookup,11,FALSE)+AQ124*(BD124-VLOOKUP(E124,ExistFixtLookup,11,FALSE)))/BD124,IF(AND(ISNUMBER(BD124),ISNUMBER(W124),$CB124=\"fixture\"),(W124*VLOOKUP(E124,ExistFixtLookup,8,FALSE)+AQ124*(BD124-VLOOKUP(E124,ExistFixtLookup,8,FALSE)))/BD124,IF(ISNUMBER(W124),W124,0)))","v":0},"",{"$f":"IF(RIGHT(I124,4)=\"Case\",W124,IF(AND(AL124=\"Y\",AF124<1),0,IF(OR(LEFT(D124,2)=\"T5\",LEFT(D124,3)=\"CFL\",'Analysis 103L'!AS124=\"Less\"),'Analysis 103L'!AR124,'Analysis 103L'!W124)))","v":""},null,0,0,null,{"$error":"#VALUE!"},{"$error":"#VALUE!"},{"$error":"#VALUE!"},null,null,{"$f":"IF(RIGHT(I124,4)=\"Case\",'LED Case Lighting'!$AY$1,IF(J124=\"\",\"\",VLOOKUP(J124,Lookups!$A$30:$J$172,VLOOKUP('100L Information'!$AI$46,Lookups!$J$3:$L$6,3,FALSE),FALSE)))","v":""},{"$f":"IF(B124=\"Exterior\", INDEX($BW$28:$BW$48, $BX$229), IF(OR(BusType=\"Manufacturing\",BusType=\"Indoor Agriculture\",BusType=\"Ag/Dairy/Livestock\",BusType=\"Food/Beverage Production\",BusType=\"Industrial Fabrication\"), IF(Q124<3500, \"1-Shift Industrial\", IF(Q124<5500, \"2-Shift Industrial\", IF(Q124<8000, \"3-Shift Industrial\", \"Flat - ele\"))), INDEX($BV$28:$BV$48, $BX$229)))","v":{"$error":"#N/A"}},"","",{"$error":"#VALUE!"},{"$error":"#VALUE!"},{"$error":"#VALUE!"},{"$f":"VLOOKUP(E124,ExistFixtCat,3,FALSE)/(H124*IF(ISNUMBER(VALUE(MID(E124,5,1))),VALUE(MID(E124,5,1)),1)*Q124)","v":{"$error":"#N/A"}},{"$f":"IF(ISERROR(-PV(POWER(1+Discount_Rate,$BK124)-1,$BD124/$BK124,10+VLOOKUP($E124,ExistFixtCat,2,FALSE))),0,-PV(POWER(1+Discount_Rate,$BK124)-1,$BD124/$BK124,10+VLOOKUP($E124,ExistFixtCat,2,FALSE)))","v":0},{"$f":"VLOOKUP($J124,PropOpLife,3,FALSE)/($P124*IF(ISNUMBER(VALUE(MID($J124,5,1))),VALUE(MID($J124,5,1)),1)*$Q124)","v":{"$error":"#N/A"}},{"$f":"IF(OR(ISERROR(-PV(POWER(1+Discount_Rate,$BM124)-1,$BD124/$BM124,MIN(R124,10+0.5*VLOOKUP($J124,PropOpLife,2,FALSE)))),BL124=0),0,-PV(POWER(1+Discount_Rate,$BM124)-1,$BD124/$BM124,MIN(R124,10+0.5*VLOOKUP($J124,PropOpLife,2,FALSE))))","v":0},{"$error":"#VALUE!"},{"$error":"#VALUE!"},{"$error":"#VALUE!"},"FAIL",null,null,null,null,null,null,null,"Interior / Exterior",null,{"$f":"IF(I124=\"\",\"\",VLOOKUP(I124,FixVsLamp,2,FALSE))","v":""},null,{"$f":"IF(RIGHT(I124,4)=\"Case\",(INDEX('LED Case Lighting'!$AZ$3:$AZ$36,MATCH('Analysis 103L'!$CK124,'LED Case Lighting'!$AS$3:$AS$36,0))),IF(CB124=0,0,IF(CB124=\"lamp\",((Q124/VLOOKUP(B124,Int_Ext,2,FALSE))*VLOOKUP(E124,NEB,16,FALSE)),IF(CB124=\"fixture\",((Q124/VLOOKUP(B124,Int_Ext,2,FALSE))*VLOOKUP(E124,NEB,14,FALSE)),\"\"))))","v":""},null,{"$f":"IF(RIGHT(I124,4)=\"Case\",INDEX('Equipment Type'!$V$4:$V$53, MATCH('Analysis 103L'!$K124, 'Equipment Type'!$A$4:$A$53, 0)), \"\")","v":""},"","","","","",{"$f":"IF(CK124=\"\", \"\", INDEX('LED Case Lighting'!$AR$3:$AR$36, MATCH('Analysis 103L'!CK124, 'LED Case Lighting'!$AS$3:$AS$36, 0)))","v":""},{"$f":"IF(CK124=\"\", \"\", INDEX('LED Case Lighting'!$AW$3:$AW$36, MATCH('Analysis 103L'!CK124, 'LED Case Lighting'!$AS$3:$AS$36, 0)))","v":""},{"$f":"IF(CK124=\"\", \"\", INDEX('LED Case Lighting'!$AX$3:$AX$36, MATCH('Analysis 103L'!CK124, 'LED Case Lighting'!$AS$3:$AS$36, 0)))","v":""},""]
[98,null,null,null,null,null,"",null,{"$f":"IF(K125=\"\",\"\",VLOOKUP(K125,'Equipment Type'!$A$1:$F$53,5,FALSE))","v":""},{"$f":"IF(K125=\"\",\"\",VLOOKUP(K125,'Equipment Type'!$A$1:$F$53,6,FALSE))","v":""},null,{"$f":"IF(K125=\"\",\"\",VLOOKUP(K125,'Equipment Type'!$A$1:$F$53,4,FALSE))","v":""},null,{"$f":"IF(K125=\"\",\"\",INDEX('Equipment Type'!$T$4:$T$53,MATCH('Analysis 103L'!K125,'Equipment Type'!$A$4:$A$53,0)))","v":""},"",null,{"$f":"IF(RIGHT(I125, 4)=\"Case\", \"\", IF(P125=\"\",\"\",(IF(ISNUMBER(SEARCH(\"exit\",J125)),8760,IF(B125=\"Exterior\",4380,'Analysis 103L'!$J$3)))))","v":""},null,"","","","","","","","",{"$f":"IF('100L Information'!$Z$5=\"Yes\",0,IF('100L Information'!$Z$4=\"Yes\",(MIN($Y$232-(-$Y$227),6000)*0.5)*(Y125/$Y$232),$Y$232*(Y125/($Y$230+$Y$231))))","v":{"$error":"#VALUE!"}},"",{"$error":"#VALUE!"},"No requirement",0,{"$f":"IF(OR(Z125=\"Does not meet requirement\",AND('100L Information'!$AA$21=\"No\",AL125=\"Y\"),AND('100L Information'!$AS$21=FALSE,AL125=\"Y\")),0,IF(ISNUMBER(R125*Incent_Cost_Fixture_Rx),MIN(R125*Incent_Cost_Fixture_Rx,(MAX(AE125,AK125))),0))","v":0},"FAIL","0","0","0",0,"N","0","0",null,"","",0,"",{"$f":"IF(RIGHT(I125,4)=\"Case\",W125,IF(AND(AL125=\"Y\",AF125<1),0,IF(OR(LEFT(D125,2)=\"T5\",LEFT(D125,3)=\"CFL\",'Analysis 103L'!AS125=\"Less\"),'Analysis 103L'!AR125,'Analysis 103L'!W125)))","v":""},null,0,0,null,{"$error":"#VALUE!"},{"$error":"#VALUE!"},{"$error":"#VALUE!"},null,null,{"$f":"IF(RIGHT(I125,4)=\"Case\",'LED Case Lighting'!$AY$1,IF(J125=\"\",\"\",VLOOKUP(J125,Lookups!$A$30:$J$172,VLOOKUP('100L Information'!$AI$46,Lookups!$J$3:$L$6,3,FALSE),FALSE)))","v":""},{"$error":"#N/A"},"","",{"$error":"#VALUE!"},{"$error":"#VALUE!"},{"$error":"#VALUE!"},{"$error":"#N/A"},0,{"$error":"#N/A"},0,{"$error":"#VALUE!"},{"$error":"#VALUE!"},{"$error":"#VALUE!"},"FAIL",null,null,null,null,null,null,null,"Interior / Exterior",null,"",null,{"$f":"IF(RIGHT(I125,4)=\"Case\",(INDEX('LED Case Lighting'!$AZ$3:$AZ$36,MATCH('Analysis 103L'!$CK125,'LED Case Lighting'!$AS$3:$AS$36,0))),IF(CB125=0,0,IF(CB125=\"lamp\",((Q125/VLOOKUP(B125,Int_Ext,2,FALSE))*VLOOKUP(E125,NEB,16,FALSE)),IF(CB125=\"fixture\",((Q125/VLOOKUP(B125,Int_Ext,2,FALSE))*VLOOKUP(E125,NEB,14,FALSE)),\"\"))))","v":""},null,{"$f":"IF(RIGHT(I125,4)=\"Case\",INDEX('Equipment Type'!$V$4:$V$53, MATCH('Analysis 103L'!$K125, 'Equipment Type'!$A$4:$A$53, 0)), \"\")","v":""},"","","","","",{"$f":"IF(CK125=\"\", \"\", INDEX('LED Case Lighting'!$AR$3:$AR$36, MATCH('Analysis 103L'!CK125, 'LED Case Lighting'!$AS$3:$AS$36, 0)))","v":""},{"$f":"IF(CK125=\"\", \"\", INDEX('LED Case Lighting'!$AW$3:$AW$36, MATCH('Analysis 103L'!CK125, 'LED Case Lighting'!$AS$3:$AS$36, 0)))","v":""},{"$f":"IF(CK125=\"\", \"\", INDEX('LED Case Lighting'!$AX$3:$AX$36, MATCH('Analysis 103L'!CK125, 'LED Case Lighting'!$AS$3:$AS$36, 0)))","v":""},""]
[99,null,null,null,null,null,"",null,{"$f":"IF(K126=\"\",\"\",VLOOKUP(K126,'Equipment Type'!$A$1:$F$53,5,FALSE))","v":""},{"$f":"IF(K126=\"\",\"\",VLOOKUP(K126,'Equipment Type'!$A$1:$F$53,6,FALSE))","v":""},null,{"$f":"IF(K126=\"\",\"\",VLOOKUP(K126,'Equipment Type'!$A$1:$F$53,4,FALSE))","v":""},null,{"$f":"IF(K126=\"\",\"\",INDEX('Equipment Type'!$T$4:$T$53,MATCH('Analysis 103L'!K126,'Equipment Type'!$A$4:$A$53,0)))","v":""},"",null,{"$f":"IF(RIGHT(I126, 4)=\"Case\", \"\", IF(P126=\"\",\"\",(IF(ISNUMBER(SEARCH(\"exit\",J126)),8760,IF(B126=\"Exterior\",4380,'Analysis 103L'!$J$3)))))","v":""},null,"","","","","","","","",{"$f":"IF('100L Information'!$Z$5=\"Yes\",0,IF('100L Information'!$Z$4=\"Yes\",(MIN($Y$232-(-$Y$227),6000)*0.5)*(Y126/$Y$232),$Y$232*(Y126/($Y$230+$Y$231))))","v":{"$error":"#VALUE!"}},"",{"$error":"#VALUE!"},"No requirement",0,{"$f":"IF(OR(Z126=\"Does not meet requirement\",AND('100L Information'!$AA$21=\"No\",AL126=\"Y\"),AND('100L Information'!$AS$21=FALSE,AL126=\"Y\")),0,IF(ISNUMBER(R126*Incent_Cost_Fixture_Rx),MIN(R126*Incent_Cost_Fixture_Rx,(MAX(AE126,AK126))),0))","v":0},"FAIL","0","0","0",0,"N","0","0",null,"","",0,"",{"$f":"IF(RIGHT(I126,4)=\"Case\",W126,IF(AND(AL126=\"Y\",AF126<1),0,IF(OR(LEFT(D126,2)=\"T5\",LEFT(D126,3)=\"CFL\",'Analysis 103L'!AS126=\"Less\"),'Analysis 103L'!AR126,'Analysis 103L'!W126)))","v":""},null,0,0,null,{"$error":"#VALUE!"},{"$error":"#VALUE!"},{"$error":"#VALUE!"},null,null,{"$f":"IF(RIGHT(I126,4)=\"Case\",'LED Case Lighting'!$AY$1,IF(J126=\"\",\"\",VLOOKUP(J126,Lookups!$A$30:$J$172,VLOOKUP('100L Information'!$AI$46,Lookups!$J$3:$L$6,3,FALSE),FALSE)))","v":""},{"$error":"#N/A"},"","",{"$error":"#VALUE!"},{"$error":"#VALUE!"},{"$error":"#VALUE!"},{"$error":"#N/A"},0,{"$error":"#N/A"},0,{"$error":"#VALUE!"},{"$error":"#VALUE!"},{"$error":"#VALUE!"},"FAIL",null,null,null,null,null,null,null,"Interior / Exterior",null,"",null,{"$f":"IF(RIGHT(I126,4)=\"Case\",(INDEX('LED Case Lighting'!$AZ$3:$AZ$36,MATCH('Analysis 103L'!$CK126,'LED Case Lighting'!$AS$3:$AS$36,0))),IF(CB126=0,0,IF(CB126=\"lamp\",((Q126/VLOOKUP(B126,Int_Ext,2,FALSE))*VLOOKUP(E126,NEB,16,FALSE)),IF(CB126=\"fixture\",((Q126/VLOOKUP(B126,Int_Ext,2,FALSE))*VLOOKUP(E126,NEB,14,FALSE)),\"\"))))","v":""},null,{"$f":"IF(RIGHT(I126,4)=\"Case\",INDEX('Equipment Type'!$V$4:$V$53, MATCH('Analysis 103L'!$K126, 'Equipment Type'!$A$4:$A$53, 0)), \"\")","v":""},"","","","","",{"$f":"IF(CK126=\"\", \"\", INDEX('LED Case Lighting'!$AR$3:$AR$36, MATCH('Analysis 103L'!CK126, 'LED Case Lighting'!$AS$3:$AS$36, 0)))","v":""},{"$f":"IF(CK126=\"\", \"\", INDEX('LED Case Lighting'!$AW$3:$AW$36, MATCH('Analysis 103L'!CK126, 'LED Case Lighting'!$AS$3:$AS$36, 0)))","v":""},{"$f":"IF(CK126=\"\", \"\", INDEX('LED Case Lighting'!$AX$3:$AX$36, MATCH('Analysis 103L'!CK126, 'LED Case Lighting'!$AS$3:$AS$36, 0)))","v":""},""]
[100,null,null,null,null,null,"",null,{"$f":"IF(K127=\"\",\"\",VLOOKUP(K127,'Equipment Type'!$A$1:$F$53,5,FALSE))","v":""},{"$f":"IF(K127=\"\",\"\",VLOOKUP(K127,'Equipment Type'!$A$1:$F$53,6,FALSE))","v":""},null,{"$f":"IF(K127=\"\",\"\",VLOOKUP(K127,'Equipment Type'!$A$1:$F$53,4,FALSE))","v":""},null,{"$f":"IF(K127=\"\",\"\",INDEX('Equipment Type'!$T$4:$T$53,MATCH('Analysis 103L'!K127,'Equipment Type'!$A$4:$A$53,0)))","v":""},"",null,{"$f":"IF(RIGHT(I127, 4)=\"Case\", \"\", IF(P127=\"\",\"\",(IF(ISNUMBER(SEARCH(\"exit\",J127)),8760,IF(B127=\"Exterior\",4380,'Analysis 103L'!$J$3)))))","v":""},null,"","","","","","","","",{"$f":"IF('100L Information'!$Z$5=\"Yes\",0,IF('100L Information'!$Z$4=\"Yes\",(MIN($Y$232-(-$Y$227),6000)*0.5)*(Y127/$Y$232),$Y$232*(Y127/($Y$230+$Y$231))))","v":{"$error":"#VALUE!"}},"",{"$error":"#VALUE!"},"No requirement",0,{"$f":"IF(OR(Z127=\"Does not meet requirement\",AND('100L Information'!$AA$21=\"No\",AL127=\"Y\"),AND('100L Information'!$AS$21=FALSE,AL127=\"Y\")),0,IF(ISNUMBER(R127*Incent_Cost_Fixture_Rx),MIN(R127*Incent_Cost_Fixture_Rx,(MAX(AE127,AK127))),0))","v":0},"FAIL","0","0","0",0,"N","0","0",null,"","",0,"",{"$f":"IF(RIGHT(I127,4)=\"Case\",W127,IF(AND(AL127=\"Y\",AF127<1),0,IF(OR(LEFT(D127,2)=\"T5\",LEFT(D127,3)=\"CFL\",'Analysis 103L'!AS127=\"Less\"),'Analysis 103L'!AR127,'Analysis 103L'!W127)))","v":""},null,0,0,null,{"$error":"#VALUE!"},{"$error":"#VALUE!"},{"$error":"#VALUE!"},null,null,{"$f":"IF(RIGHT(I127,4)=\"Case\",'LED Case Lighting'!$AY$1,IF(J127=\"\",\"\",VLOOKUP(J127,Lookups!$A$30:$J$172,VLOOKUP('100L Information'!$AI$46,Lookups!$J$3:$L$6,3,FALSE),FALSE)))","v":""},{"$error":"#N/A"},"","",{"$error":"#VALUE!"},{"$error":"#VALUE!"},{"$error":"#VALUE!"},{"$error":"#N/A"},0,{"$error":"#N/A"},0,{"$error":"#VALUE!"},{"$error":"#VALUE!"},{"$error":"#VALUE!"},"FAIL",null,null,null,null,null,null,null,"Interior / Exterior",null,"",null,{"$f":"IF(RIGHT(I127,4)=\"Case\",(INDEX('LED Case Lighting'!$AZ$3:$AZ$36,MATCH('Analysis 103L'!$CK127,'LED Case Lighting'!$AS$3:$AS$36,0))),IF(CB127=0,0,IF(CB127=\"lamp\",((Q127/VLOOKUP(B127,Int_Ext,2,FALSE))*VLOOKUP(E127,NEB,16,FALSE)),IF(CB127=\"fixture\",((Q127/VLOOKUP(B127,Int_Ext,2,FALSE))*VLOOKUP(E127,NEB,14,FALSE)),\"\"))))","v":""},null,{"$f":"IF(RIGHT(I127,4)=\"Case\",INDEX('Equipment Type'!$V$4:$V$53, MATCH('Analysis 103L'!$K127, 'Equipment Type'!$A$4:$A$53, 0)), \"\")","v":""},"","","","","",{"$f":"IF(CK127=\"\", \"\", INDEX('LED Case Lighting'!$AR$3:$AR$36, MATCH('Analysis 103L'!CK127, 'LED Case Lighting'!$AS$3:$AS$36, 0)))","v":""},{"$f":"IF(CK127=\"\", \"\", INDEX('LED Case Lighting'!$AW$3:$AW$36, MATCH('Analysis 103L'!CK127, 'LED Case Lighting'!$AS$3:$AS$36, 0)))","v":""},{"$f":"IF(CK127=\"\", \"\", INDEX('LED Case Lighting'!$AX$3:$AX$36, MATCH('Analysis 103L'!CK127, 'LED Case Lighting'!$AS$3:$AS$36, 0)))","v":""},""]
[101,null,null,null,null,null,{"$f":"IF(E128=\"\",\"\",VLOOKUP(E128,ExistFixtLookup,2,FALSE))","v":""},null,{"$f":"IF(K128=\"\",\"\",VLOOKUP(K128,'Equipment Type'!$A$1:$F$53,5,FALSE))","v":""},{"$f":"IF(K128=\"\",\"\",VLOOKUP(K128,'Equipment Type'!$A$1:$F$53,6,FALSE))","v":""},null,{"$f":"IF(K128=\"\",\"\",VLOOKUP(K128,'Equipment Type'!$A$1:$F$53,4,FALSE))","v":""},null,{"$f":"IF(K128=\"\",\"\",INDEX('Equipment Type'!$T$4:$T$53,MATCH('Analysis 103L'!K128,'Equipment Type'!$A$4:$A$53,0)))","v":""},"",null,{"$f":"IF(RIGHT(I128, 4)=\"Case\", \"\", IF(P128=\"\",\"\",(IF(ISNUMBER(SEARCH(\"exit\",J128)),8760,IF(B128=\"Exterior\",4380,'Analysis 103L'!$J$3)))))","v":""},null,"","","","","","","","",{"$f":"IF('100L Information'!$Z$5=\"Yes\",0,IF('100L Information'!$Z$4=\"Yes\",(MIN($Y$232-(-$Y$227),6000)*0.5)*(Y128/$Y$232),$Y$232*(Y128/($Y$230+$Y$231))))","v":{"$error":"#VALUE!"}},"",{"$error":"#VALUE!"},"No requirement",0,{"$f":"IF(OR(Z128=\"Does not meet requirement\",AND('100L Information'!$AA$21=\"No\",AL128=\"Y\"),AND('100L Information'!$AS$21=FALSE,AL128=\"Y\")),0,IF(ISNUMBER(R128*Incent_Cost_Fixture_Rx),MIN(R128*Incent_Cost_Fixture_Rx,(MAX(AE128,AK128))),0))","v":0},"FAIL","0","0","0",0,"N","0","0",null,"","",0,"",{"$f":"IF(RIGHT(I128,4)=\"Case\",W128,IF(AND(AL128=\"Y\",AF128<1),0,IF(OR(LEFT(D128,2)=\"T5\",LEFT(D128,3)=\"CFL\",'Analysis 103L'!AS128=\"Less\"),'Analysis 103L'!AR128,'Analysis 103L'!W128)))","v":""},null,0,0,null,{"$error":"#VALUE!"},{"$error":"#VALUE!"},{"$error":"#VALUE!"},null,null,{"$f":"IF(RIGHT(I128,4)=\"Case\",'LED Case Lighting'!$AY$1,IF(J128=\"\",\"\",VLOOKUP(J128,Lookups!$A$30:$J$172,VLOOKUP('100L Information'!$AI$46,Lookups!$J$3:$L$6,3,FALSE),FALSE)))","v":""},{"$error":"#N/A"},"","",{"$error":"#VALUE!"},{"$error":"#VALUE!"},{"$error":"#VALUE!"},{"$error":"#N/A"},0,{"$error":"#N/A"},0,{"$error":"#VALUE!"},{"$error":"#VALUE!"},{"$error":"#VALUE!"},"FAIL",null,null,null,null,null,null,null,"Interior / Exterior",null,"",null,{"$f":"IF(RIGHT(I128,4)=\"Case\",(INDEX('LED Case Lighting'!$AZ$3:$AZ$36,MATCH('Analysis 103L'!$CK128,'LED Case Lighting'!$AS$3:$AS$36,0))),IF(CB128=0,0,IF(CB128=\"lamp\",((Q128/VLOOKUP(B128,Int_Ext,2,FALSE))*VLOOKUP(E128,NEB,16,FALSE)),IF(CB128=\"fixture\",((Q128/VLOOKUP(B128,Int_Ext,2,FALSE))*VLOOKUP(E128,NEB,14,FALSE)),\"\"))))","v":""},null,{"$f":"IF(RIGHT(I128,4)=\"Case\",INDEX('Equipment Type'!$V$4:$V$53, MATCH('Analysis 103L'!$K128, 'Equipment Type'!$A$4:$A$53, 0)), \"\")","v":""},"","","","","",{"$f":"IF(CK128=\"\", \"\", INDEX('LED Case Lighting'!$AR$3:$AR$36, MATCH('Analysis 103L'!CK128, 'LED Case Lighting'!$AS$3:$AS$36, 0)))","v":""},{"$f":"IF(CK128=\"\", \"\", INDEX('LED Case Lighting'!$AW$3:$AW$36, MATCH('Analysis 103L'!CK128, 'LED Case Lighting'!$AS$3:$AS$36, 0)))","v":""},{"$f":"IF(CK128=\"\", \"\", INDEX('LED Case Lighting'!$AX$3:$AX$36, MATCH('Analysis 103L'!CK128, 'LED Case Lighting'!$AS$3:$AS$36, 0)))","v":""},""]
[102,null,null,null,null,null,"",null,{"$f":"IF(K129=\"\",\"\",VLOOKUP(K129,'Equipment Type'!$A$1:$F$53,5,FALSE))","v":""},{"$f":"IF(K129=\"\",\"\",VLOOKUP(K129,'Equipment Type'!$A$1:$F$53,6,FALSE))","v":""},null,{"$f":"IF(K129=\"\",\"\",VLOOKUP(K129,'Equipment Type'!$A$1:$F$53,4,FALSE))","v":""},null,{"$f":"IF(K129=\"\",\"\",INDEX('Equipment Type'!$T$4:$T$53,MATCH('Analysis 103L'!K129,'Equipment Type'!$A$4:$A$53,0)))","v":""},"",null,{"$f":"IF(RIGHT(I129, 4)=\"Case\", \"\", IF(P129=\"\",\"\",(IF(ISNUMBER(SEARCH(\"exit\",J129)),8760,IF(B129=\"Exterior\",4380,'Analysis 103L'!$J$3)))))","v":""},null,"","","","","","","","",{"$f":"IF('100L Information'!$Z$5=\"Yes\",0,IF('100L Information'!$Z$4=\"Yes\",(MIN($Y$232-(-$Y$227),6000)*0.5)*(Y129/$Y$232),$Y$232*(Y129/($Y$230+$Y$231))))","v":{"$error":"#VALUE!"}},"",{"$error":"#VALUE!"},"No requirement",0,{"$f":"IF(OR(Z129=\"Does not meet requirement\",AND('100L Information'!$AA$21=\"No\",AL129=\"Y\"),AND('100L Information'!$AS$21=FALSE,AL129=\"Y\")),0,IF(ISNUMBER(R129*Incent_Cost_Fixture_Rx),MIN(R129*Incent_Cost_Fixture_Rx,(MAX(AE129,AK129))),0))","v":0},"FAIL","0","0","0",0,"N","0","0",null,"","",0,"",{"$f":"IF(RIGHT(I129,4)=\"Case\",W129,IF(AND(AL129=\"Y\",AF129<1),0,IF(OR(LEFT(D129,2)=\"T5\",LEFT(D129,3)=\"CFL\",'Analysis 103L'!AS129=\"Less\"),'Analysis 103L'!AR129,'Analysis 103L'!W129)))","v":""},null,0,0,null,{"$error":"#VALUE!"},{"$error":"#VALUE!"},{"$error":"#VALUE!"},null,null,{"$f":"IF(RIGHT(I129,4)=\"Case\",'LED Case Lighting'!$AY$1,IF(J129=\"\",\"\",VLOOKUP(J129,Lookups!$A$30:$J$172,VLOOKUP('100L Information'!$AI$46,Lookups!$J$3:$L$6,3,FALSE),FALSE)))","v":""},{"$error":"#N/A"},"","",{"$error":"#VALUE!"},{"$error":"#VALUE!"},{"$error":"#VALUE!"},{"$error":"#N/A"},0,{"$error":"#N/A"},0,{"$error":"#VALUE!"},{"$error":"#VALUE!"},{"$error":"#VALUE!"},"FAIL",null,null,null,null,null,null,null,"Interior / Exterior",null,"",null,{"$f":"IF(RIGHT(I129,4)=\"Case\",(INDEX('LED Case Lighting'!$AZ$3:$AZ$36,MATCH('Analysis 103L'!$CK129,'LED Case Lighting'!$AS$3:$AS$36,0))),IF(CB129=0,0,IF(CB129=\"lamp\",((Q129/VLOOKUP(B129,Int_Ext,2,FALSE))*VLOOKUP(E129,NEB,16,FALSE)),IF(CB129=\"fixture\",((Q129/VLOOKUP(B129,Int_Ext,2,FALSE))*VLOOKUP(E129,NEB,14,FALSE)),\"\"))))","v":""},null,{"$f":"IF(RIGHT(I129,4)=\"Case\",INDEX('Equipment Type'!$V$4:$V$53, MATCH('Analysis 103L'!$K129, 'Equipment Type'!$A$4:$A$53, 0)), \"\")","v":""},"","","","","",{"$f":"IF(CK129=\"\", \"\", INDEX('LED Case Lighting'!$AR$3:$AR$36, MATCH('Analysis 103L'!CK129, 'LED Case Lighting'!$AS$3:$AS$36, 0)))","v":""},{"$f":"IF(CK129=\"\", \"\", INDEX('LED Case Lighting'!$AW$3:$AW$36, MATCH('Analysis 103L'!CK129, 'LED Case Lighting'!$AS$3:$AS$36, 0)))","v":""},{"$f":"IF(CK129=\"\", \"\", INDEX('LED Case Lighting'!$AX$3:$AX$36, MATCH('Analysis 103L'!CK129, 'LED Case Lighting'!$AS$3:$AS$36, 0)))","v":""},""]
[103,null,null,null,null,null,"",null,{"$f":"IF(K130=\"\",\"\",VLOOKUP(K130,'Equipment Type'!$A$1:$F$53,5,FALSE))","v":""},{"$f":"IF(K130=\"\",\"\",VLOOKUP(K130,'Equipment Type'!$A$1:$F$53,6,FALSE))","v":""},null,{"$f":"IF(K130=\"\",\"\",VLOOKUP(K130,'Equipment Type'!$A$1:$F$53,4,FALSE))","v":""},null,{"$f":"IF(K130=\"\",\"\",INDEX('Equipment Type'!$T$4:$T$53,MATCH('Analysis 103L'!K130,'Equipment Type'!$A$4:$A$53,0)))","v":""},"",null,{"$f":"IF(RIGHT(I130, 4)=\"Case\", \"\", IF(P130=\"\",\"\",(IF(ISNUMBER(SEARCH(\"exit\",J130)),8760,IF(B130=\"Exterior\",4380,'Analysis 103L'!$J$3)))))","v":""},null,"","","","","","","","",{"$f":"IF('100L Information'!$Z$5=\"Yes\",0,IF('100L Information'!$Z$4=\"Yes\",(MIN($Y$232-(-$Y$227),6000)*0.5)*(Y130/$Y$232),$Y$232*(Y130/($Y$230+$Y$231))))","v":{"$error":"#VALUE!"}},"",{"$error":"#VALUE!"},"No requirement",0,{"$f":"IF(OR(Z130=\"Does not meet requirement\",AND('100L Information'!$AA$21=\"No\",AL130=\"Y\"),AND('100L Information'!$AS$21=FALSE,AL130=\"Y\")),0,IF(ISNUMBER(R130*Incent_Cost_Fixture_Rx),MIN(R130*Incent_Cost_Fixture_Rx,(MAX(AE130,AK130))),0))","v":0},"FAIL","0","0","0",0,"N","0","0",null,"","",0,"",{"$f":"IF(RIGHT(I130,4)=\"Case\",W130,IF(AND(AL130=\"Y\",AF130<1),0,IF(OR(LEFT(D130,2)=\"T5\",LEFT(D130,3)=\"CFL\",'Analysis 103L'!AS130=\"Less\"),'Analysis 103L'!AR130,'Analysis 103L'!W130)))","v":""},null,0,0,null,{"$error":"#VALUE!"},{"$error":"#VALUE!"},{"$error":"#VALUE!"},null,null,{"$f":"IF(RIGHT(I130,4)=\"Case\",'LED Case Lighting'!$AY$1,IF(J130=\"\",\"\",VLOOKUP(J130,Lookups!$A$30:$J$172,VLOOKUP('100L Information'!$AI$46,Lookups!$J$3:$L$6,3,FALSE),FALSE)))","v":""},{"$error":"#N/A"},"","",{"$error":"#VALUE!"},{"$error":"#VALUE!"},{"$error":"#VALUE!"},{"$error":"#N/A"},0,{"$error":"#N/A"},0,{"$error":"#VALUE!"},{"$error":"#VALUE!"},{"$error":"#VALUE!"},"FAIL",null,null,null,null,null,null,null,"Interior / Exterior",null,"",null,{"$f":"IF(RIGHT(I130,4)=\"Case\",(INDEX('LED Case Lighting'!$AZ$3:$AZ$36,MATCH('Analysis 103L'!$CK130,'LED Case Lighting'!$AS$3:$AS$36,0))),IF(CB130=0,0,IF(CB130=\"lamp\",((Q130/VLOOKUP(B130,Int_Ext,2,FALSE))*VLOOKUP(E130,NEB,16,FALSE)),IF(CB130=\"fixture\",((Q130/VLOOKUP(B130,Int_Ext,2,FALSE))*VLOOKUP(E130,NEB,14,FALSE)),\"\"))))","v":""},null,{"$f":"IF(RIGHT(I130,4)=\"Case\",INDEX('Equipment Type'!$V$4:$V$53, MATCH('Analysis 103L'!$K130, 'Equipment Type'!$A$4:$A$53, 0)), \"\")","v":""},"","","","","",{"$f":"IF(CK130=\"\", \"\", INDEX('LED Case Lighting'!$AR$3:$AR$36, MATCH('Analysis 103L'!CK130, 'LED Case Lighting'!$AS$3:$AS$36, 0)))","v":""},{"$f":"IF(CK130=\"\", \"\", INDEX('LED Case Lighting'!$AW$3:$AW$36, MATCH('Analysis 103L'!CK130, 'LED Case Lighting'!$AS$3:$AS$36, 0)))","v":""},{"$f":"IF(CK130=\"\", \"\", INDEX('LED Case Lighting'!$AX$3:$AX$36, MATCH('Analysis 103L'!CK130, 'LED Case Lighting'!$AS$3:$AS$36, 0)))","v":""},""]
[104,null,null,null,null,null,"",null,{"$f":"IF(K131=\"\",\"\",VLOOKUP(K131,'Equipment Type'!$A$1:$F$53,5,FALSE))","v":""},{"$f":"IF(K131=\"\",\"\",VLOOKUP(K131,'Equipment Type'!$A$1:$F$53,6,FALSE))","v":""},null,{"$f":"IF(K131=\"\",\"\",VLOOKUP(K131,'Equipment Type'!$A$1:$F$53,4,FALSE))","v":""},null,{"$f":"IF(K131=\"\",\"\",INDEX('Equipment Type'!$T$4:$T$53,MATCH('Analysis 103L'!K131,'Equipment Type'!$A$4:$A$53,0)))","v":""},"",null,{"$f":"IF(RIGHT(I131, 4)=\"Case\", \"\", IF(P131=\"\",\"\",(IF(ISNUMBER(SEARCH(\"exit\",J131)),8760,IF(B131=\"Exterior\",4380,'Analysis 103L'!$J$3)))))","v":""},null,"","","","","","","","",{"$f":"IF('100L Information'!$Z$5=\"Yes\",0,IF('100L Information'!$Z$4=\"Yes\",(MIN($Y$232-(-$Y$227),6000)*0.5)*(Y131/$Y$232),$Y$232*(Y131/($Y$230+$Y$231))))","v":{"$error":"#VALUE!"}},"",{"$error":"#VALUE!"},"No requirement",0,{"$f":"IF(OR(Z131=\"Does not meet requirement\",AND('100L Information'!$AA$21=\"No\",AL131=\"Y\"),AND('100L Information'!$AS$21=FALSE,AL131=\"Y\")),0,IF(ISNUMBER(R131*Incent_Cost_Fixture_Rx),MIN(R131*Incent_Cost_Fixture_Rx,(MAX(AE131,AK131))),0))","v":0},"FAIL","0","0","0",0,"N","0","0",null,"","",0,"",{"$f":"IF(RIGHT(I131,4)=\"Case\",W131,IF(AND(AL131=\"Y\",AF131<1),0,IF(OR(LEFT(D131,2)=\"T5\",LEFT(D131,3)=\"CFL\",'Analysis 103L'!AS131=\"Less\"),'Analysis 103L'!AR131,'Analysis 103L'!W131)))","v":""},null,0,0,null,{"$error":"#VALUE!"},{"$error":"#VALUE!"},{"$error":"#VALUE!"},null,null,{"$f":"IF(RIGHT(I131,4)=\"Case\",'LED Case Lighting'!$AY$1,IF(J131=\"\",\"\",VLOOKUP(J131,Lookups!$A$30:$J$172,VLOOKUP('100L Information'!$AI$46,Lookups!$J$3:$L$6,3,FALSE),FALSE)))","v":""},{"$error":"#N/A"},"","",{"$error":"#VALUE!"},{"$error":"#VALUE!"},{"$error":"#VALUE!"},{"$error":"#N/A"},0,{"$error":"#N/A"},0,{"$error":"#VALUE!"},{"$error":"#VALUE!"},{"$error":"#VALUE!"},"FAIL",null,null,null,null,null,null,null,"Interior / Exterior",null,"",null,{"$f":"IF(RIGHT(I131,4)=\"Case\",(INDEX('LED Case Lighting'!$AZ$3:$AZ$36,MATCH('Analysis 103L'!$CK131,'LED Case Lighting'!$AS$3:$AS$36,0))),IF(CB131=0,0,IF(CB131=\"lamp\",((Q131/VLOOKUP(B131,Int_Ext,2,FALSE))*VLOOKUP(E131,NEB,16,FALSE)),IF(CB131=\"fixture\",((Q131/VLOOKUP(B131,Int_Ext,2,FALSE))*VLOOKUP(E131,NEB,14,FALSE)),\"\"))))","v":""},null,{"$f":"IF(RIGHT(I131,4)=\"Case\",INDEX('Equipment Type'!$V$4:$V$53, MATCH('Analysis 103L'!$K131, 'Equipment Type'!$A$4:$A$53, 0)), \"\")","v":""},"","","","","",{"$f":"IF(CK131=\"\", \"\", INDEX('LED Case Lighting'!$AR$3:$AR$36, MATCH('Analysis 103L'!CK131, 'LED Case Lighting'!$AS$3:$AS$36, 0)))","v":""},{"$f":"IF(CK131=\"\", \"\", INDEX('LED Case Lighting'!$AW$3:$AW$36, MATCH('Analysis 103L'!CK131, 'LED Case Lighting'!$AS$3:$AS$36, 0)))","v":""},{"$f":"IF(CK131=\"\", \"\", INDEX('LED Case Lighting'!$AX$3:$AX$36, MATCH('Analysis 103L'!CK131, 'LED Case Lighting'!$AS$3:$AS$36, 0)))","v":""},""]
[105,null,null,null,null,null,"",null,{"$f":"IF(K132=\"\",\"\",VLOOKUP(K132,'Equipment Type'!$A$1:$F$53,5,FALSE))","v":""},{"$f":"IF(K132=\"\",\"\",VLOOKUP(K132,'Equipment Type'!$A$1:$F$53,6,FALSE))","v":""},null,{"$f":"IF(K132=\"\",\"\",VLOOKUP(K132,'Equipment Type'!$A$1:$F$53,4,FALSE))","v":""},null,{"$f":"IF(K132=\"\",\"\",INDEX('Equipment Type'!$T$4:$T$53,MATCH('Analysis 103L'!K132,'Equipment Type'!$A$4:$A$53,0)))","v":""},"",null,{"$f":"IF(RIGHT(I132, 4)=\"Case\", \"\", IF(P132=\"\",\"\",(IF(ISNUMBER(SEARCH(\"exit\",J132)),8760,IF(B132=\"Exterior\",4380,'Analysis 103L'!$J$3)))))","v":""},null,"","","","","","","","",{"$f":"IF('100L Information'!$Z$5=\"Yes\",0,IF('100L Information'!$Z$4=\"Yes\",(MIN($Y$232-(-$Y$227),6000)*0.5)*(Y132/$Y$232),$Y$232*(Y132/($Y$230+$Y$231))))","v":{"$error":"#VALUE!"}},"",{"$error":"#VALUE!"},"No requirement",0,{"$f":"IF(OR(Z132=\"Does not meet requirement\",AND('100L Information'!$AA$21=\"No\",AL132=\"Y\"),AND('100L Information'!$AS$21=FALSE,AL132=\"Y\")),0,IF(ISNUMBER(R132*Incent_Cost_Fixture_Rx),MIN(R132*Incent_Cost_Fixture_Rx,(MAX(AE132,AK132))),0))","v":0},"FAIL","0","0","0",0,"N","0","0",null,"","",0,"",{"$f":"IF(RIGHT(I132,4)=\"Case\",W132,IF(AND(AL132=\"Y\",AF132<1),0,IF(OR(LEFT(D132,2)=\"T5\",LEFT(D132,3)=\"CFL\",'Analysis 103L'!AS132=\"Less\"),'Analysis 103L'!AR132,'Analysis 103L'!W132)))","v":""},null,0,0,null,{"$error":"#VALUE!"},{"$error":"#VALUE!"},{"$error":"#VALUE!"},null,null,{"$f":"IF(RIGHT(I132,4)=\"Case\",'LED Case Lighting'!$AY$1,IF(J132=\"\",\"\",VLOOKUP(J132,Lookups!$A$30:$J$172,VLOOKUP('100L Information'!$AI$46,Lookups!$J$3:$L$6,3,FALSE),FALSE)))","v":""},{"$error":"#N/A"},"","",{"$error":"#VALUE!"},{"$error":"#VALUE!"},{"$error":"#VALUE!"},{"$error":"#N/A"},0,{"$error":"#N/A"},0,{"$error":"#VALUE!"},{"$error":"#VALUE!"},{"$error":"#VALUE!"},"FAIL",null,null,null,null,null,null,null,"Interior / Exterior",null,"",null,{"$f":"IF(RIGHT(I132,4)=\"Case\",(INDEX('LED Case Lighting'!$AZ$3:$AZ$36,MATCH('Analysis 103L'!$CK132,'LED Case Lighting'!$AS$3:$AS$36,0))),IF(CB132=0,0,IF(CB132=\"lamp\",((Q132/VLOOKUP(B132,Int_Ext,2,FALSE))*VLOOKUP(E132,NEB,16,FALSE)),IF(CB132=\"fixture\",((Q132/VLOOKUP(B132,Int_Ext,2,FALSE))*VLOOKUP(E132,NEB,14,FALSE)),\"\"))))","v":""},null,{"$f":"IF(RIGHT(I132,4)=\"Case\",INDEX('Equipment Type'!$V$4:$V$53, MATCH('Analysis 103L'!$K132, 'Equipment Type'!$A$4:$A$53, 0)), \"\")","v":""},"","","","","",{"$f":"IF(CK132=\"\", \"\", INDEX('LED Case Lighting'!$AR$3:$AR$36, MATCH('Analysis 103L'!CK132, 'LED Case Lighting'!$AS$3:$AS$36, 0)))","v":""},{"$f":"IF(CK132=\"\", \"\", INDEX('LED Case Lighting'!$AW$3:$AW$36, MATCH('Analysis 103L'!CK132, 'LED Case Lighting'!$AS$3:$AS$36, 0)))","v":""},{"$f":"IF(CK132=\"\", \"\", INDEX('LED Case Lighting'!$AX$3:$AX$36, MATCH('Analysis 103L'!CK132, 'LED Case Lighting'!$AS$3:$AS$36, 0)))","v":""},""]
[106,null,null,null,null,null,"",null,{"$f":"IF(K133=\"\",\"\",VLOOKUP(K133,'Equipment Type'!$A$1:$F$53,5,FALSE))","v":""},{"$f":"IF(K133=\"\",\"\",VLOOKUP(K133,'Equipment Type'!$A$1:$F$53,6,FALSE))","v":""},null,{"$f":"IF(K133=\"\",\"\",VLOOKUP(K133,'Equipment Type'!$A$1:$F$53,4,FALSE))","v":""},null,{"$f":"IF(K133=\"\",\"\",INDEX('Equipment Type'!$T$4:$T$53,MATCH('Analysis 103L'!K133,'Equipment Type'!$A$4:$A$53,0)))","v":""},"",null,{"$f":"IF(RIGHT(I133, 4)=\"Case\", \"\", IF(P133=\"\",\"\",(IF(ISNUMBER(SEARCH(\"exit\",J133)),8760,IF(B133=\"Exterior\",4380,'Analysis 103L'!$J$3)))))","v":""},null,"","","","","","","","",{"$f":"IF('100L Information'!$Z$5=\"Yes\",0,IF('100L Information'!$Z$4=\"Yes\",(MIN($Y$232-(-$Y$227),6000)*0.5)*(Y133/$Y$232),$Y$232*(Y133/($Y$230+$Y$231))))","v":{"$error":"#VALUE!"}},"",{"$error":"#VALUE!"},"No requirement",0,{"$f":"IF(OR(Z133=\"Does not meet requirement\",AND('100L Information'!$AA$21=\"No\",AL133=\"Y\"),AND('100L Information'!$AS$21=FALSE,AL133=\"Y\")),0,IF(ISNUMBER(R133*Incent_Cost_Fixture_Rx),MIN(R133*Incent_Cost_Fixture_Rx,(MAX(AE133,AK133))),0))","v":0},"FAIL","0","0","0",0,"N","0","0",null,"","",0,"",{"$f":"IF(RIGHT(I133,4)=\"Case\",W133,IF(AND(AL133=\"Y\",AF133<1),0,IF(OR(LEFT(D133,2)=\"T5\",LEFT(D133,3)=\"CFL\",'Analysis 103L'!AS133=\"Less\"),'Analysis 103L'!AR133,'Analysis 103L'!W133)))","v":""},null,0,0,null,{"$error":"#VALUE!"},{"$error":"#VALUE!"},{"$error":"#VALUE!"},null,null,{"$f":"IF(RIGHT(I133,4)=\"Case\",'LED Case Lighting'!$AY$1,IF(J133=\"\",\"\",VLOOKUP(J133,Lookups!$A$30:$J$172,VLOOKUP('100L Information'!$AI$46,Lookups!$J$3:$L$6,3,FALSE),FALSE)))","v":""},{"$error":"#N/A"},"","",{"$error":"#VALUE!"},{"$error":"#VALUE!"},{"$error":"#VALUE!"},{"$error":"#N/A"},0,{"$error":"#N/A"},0,{"$error":"#VALUE!"},{"$error":"#VALUE!"},{"$error":"#VALUE!"},"FAIL",null,null,null,null,null,null,null,"Interior / Exterior",null,"",null,{"$f":"IF(RIGHT(I133,4)=\"Case\",(INDEX('LED Case Lighting'!$AZ$3:$AZ$36,MATCH('Analysis 103L'!$CK133,'LED Case Lighting'!$AS$3:$AS$36,0))),IF(CB133=0,0,IF(CB133=\"lamp\",((Q133/VLOOKUP(B133,Int_Ext,2,FALSE))*VLOOKUP(E133,NEB,16,FALSE)),IF(CB133=\"fixture\",((Q133/VLOOKUP(B133,Int_Ext,2,FALSE))*VLOOKUP(E133,NEB,14,FALSE)),\"\"))))","v":""},null,{"$f":"IF(RIGHT(I133,4)=\"Case\",INDEX('Equipment Type'!$V$4:$V$53, MATCH('Analysis 103L'!$K133, 'Equipment Type'!$A$4:$A$53, 0)), \"\")","v":""},"","","","","",{"$f":"IF(CK133=\"\", \"\", INDEX('LED Case Lighting'!$AR$3:$AR$36, MATCH('Analysis 103L'!CK133, 'LED Case Lighting'!$AS$3:$AS$36, 0)))","v":""},{"$f":"IF(CK133=\"\", \"\", INDEX('LED Case Lighting'!$AW$3:$AW$36, MATCH('Analysis 103L'!CK133, 'LED Case Lighting'!$AS$3:$AS$36, 0)))","v":""},{"$f":"IF(CK133=\"\", \"\", INDEX('LED Case Lighting'!$AX$3:$AX$36, MATCH('Analysis 103L'!CK133, 'LED Case Lighting'!$AS$3:$AS$36, 0)))","v":""},""]
[107,null,null,null,null,null,"",null,{"$f":"IF(K134=\"\",\"\",VLOOKUP(K134,'Equipment Type'!$A$1:$F$53,5,FALSE))","v":""},{"$f":"IF(K134=\"\",\"\",VLOOKUP(K134,'Equipment Type'!$A$1:$F$53,6,FALSE))","v":""},null,{"$f":"IF(K134=\"\",\"\",VLOOKUP(K134,'Equipment Type'!$A$1:$F$53,4,FALSE))","v":""},null,{"$f":"IF(K134=\"\",\"\",INDEX('Equipment Type'!$T$4:$T$53,MATCH('Analysis 103L'!K134,'Equipment Type'!$A$4:$A$53,0)))","v":""},"",null,{"$f":"IF(RIGHT(I134, 4)=\"Case\", \"\", IF(P134=\"\",\"\",(IF(ISNUMBER(SEARCH(\"exit\",J134)),8760,IF(B134=\"Exterior\",4380,'Analysis 103L'!$J$3)))))","v":""},null,"","","","","","","","",{"$f":"IF('100L Information'!$Z$5=\"Yes\",0,IF('100L Information'!$Z$4=\"Yes\",(MIN($Y$232-(-$Y$227),6000)*0.5)*(Y134/$Y$232),$Y$232*(Y134/($Y$230+$Y$231))))","v":{"$error":"#VALUE!"}},"",{"$error":"#VALUE!"},"No requirement",0,{"$f":"IF(OR(Z134=\"Does not meet requirement\",AND('100L Information'!$AA$21=\"No\",AL134=\"Y\"),AND('100L Information'!$AS$21=FALSE,AL134=\"Y\")),0,IF(ISNUMBER(R134*Incent_Cost_Fixture_Rx),MIN(R134*Incent_Cost_Fixture_Rx,(MAX(AE134,AK134))),0))","v":0},"FAIL","0","0","0",0,"N","0","0",null,"","",0,"",{"$f":"IF(RIGHT(I134,4)=\"Case\",W134,IF(AND(AL134=\"Y\",AF134<1),0,IF(OR(LEFT(D134,2)=\"T5\",LEFT(D134,3)=\"CFL\",'Analysis 103L'!AS134=\"Less\"),'Analysis 103L'!AR134,'Analysis 103L'!W134)))","v":""},null,0,0,null,{"$error":"#VALUE!"},{"$error":"#VALUE!"},{"$error":"#VALUE!"},null,null,{"$f":"IF(RIGHT(I134,4)=\"Case\",'LED Case Lighting'!$AY$1,IF(J134=\"\",\"\",VLOOKUP(J134,Lookups!$A$30:$J$172,VLOOKUP('100L Information'!$AI$46,Lookups!$J$3:$L$6,3,FALSE),FALSE)))","v":""},{"$error":"#N/A"},"","",{"$error":"#VALUE!"},{"$error":"#VALUE!"},{"$error":"#VALUE!"},{"$error":"#N/A"},0,{"$error":"#N/A"},0,{"$error":"#VALUE!"},{"$error":"#VALUE!"},{"$error":"#VALUE!"},"FAIL",null,null,null,null,null,null,null,"Interior / Exterior",null,"",null,{"$f":"IF(RIGHT(I134,4)=\"Case\",(INDEX('LED Case Lighting'!$AZ$3:$AZ$36,MATCH('Analysis 103L'!$CK134,'LED Case Lighting'!$AS$3:$AS$36,0))),IF(CB134=0,0,IF(CB134=\"lamp\",((Q134/VLOOKUP(B134,Int_Ext,2,FALSE))*VLOOKUP(E134,NEB,16,FALSE)),IF(CB134=\"fixture\",((Q134/VLOOKUP(B134,Int_Ext,2,FALSE))*VLOOKUP(E134,NEB,14,FALSE)),\"\"))))","v":""},null,{"$f":"IF(RIGHT(I134,4)=\"Case\",INDEX('Equipment Type'!$V$4:$V$53, MATCH('Analysis 103L'!$K134, 'Equipment Type'!$A$4:$A$53, 0)), \"\")","v":""},"","","","","",{"$f":"IF(CK134=\"\", \"\", INDEX('LED Case Lighting'!$AR$3:$AR$36, MATCH('Analysis 103L'!CK134, 'LED Case Lighting'!$AS$3:$AS$36, 0)))","v":""},{"$f":"IF(CK134=\"\", \"\", INDEX('LED Case Lighting'!$AW$3:$AW$36, MATCH('Analysis 103L'!CK134, 'LED Case Lighting'!$AS$3:$AS$36, 0)))","v":""},{"$f":"IF(CK134=\"\", \"\", INDEX('LED Case Lighting'!$AX$3:$AX$36, MATCH('Analysis 103L'!CK134, 'LED Case Lighting'!$AS$3:$AS$36, 0)))","v":""},""]
[108,null,null,null,null,null,"",null,{"$f":"IF(K135=\"\",\"\",VLOOKUP(K135,'Equipment Type'!$A$1:$F$53,5,FALSE))","v":""},{"$f":"IF(K135=\"\",\"\",VLOOKUP(K135,'Equipment Type'!$A$1:$F$53,6,FALSE))","v":""},null,{"$f":"IF(K135=\"\",\"\",VLOOKUP(K135,'Equipment Type'!$A$1:$F$53,4,FALSE))","v":""},null,{"$f":"IF(K135=\"\",\"\",INDEX('Equipment Type'!$T$4:$T$53,MATCH('Analysis 103L'!K135,'Equipment Type'!$A$4:$A$53,0)))","v":""},"",null,{"$f":"IF(RIGHT(I135, 4)=\"Case\", \"\", IF(P135=\"\",\"\",(IF(ISNUMBER(SEARCH(\"exit\",J135)),8760,IF(B135=\"Exterior\",4380,'Analysis 103L'!$J$3)))))","v":""},null,"","","","","","","","",{"$f":"IF('100L Information'!$Z$5=\"Yes\",0,IF('100L Information'!$Z$4=\"Yes\",(MIN($Y$232-(-$Y$227),6000)*0.5)*(Y135/$Y$232),$Y$232*(Y135/($Y$230+$Y$231))))","v":{"$error":"#VALUE!"}},"",{"$error":"#VALUE!"},"No requirement",0,{"$f":"IF(OR(Z135=\"Does not meet requirement\",AND('100L Information'!$AA$21=\"No\",AL135=\"Y\"),AND('100L Information'!$AS$21=FALSE,AL135=\"Y\")),0,IF(ISNUMBER(R135*Incent_Cost_Fixture_Rx),MIN(R135*Incent_Cost_Fixture_Rx,(MAX(AE135,AK135))),0))","v":0},"FAIL","0","0","0",0,"N","0","0",null,"","",0,"",{"$f":"IF(RIGHT(I135,4)=\"Case\",W135,IF(AND(AL135=\"Y\",AF135<1),0,IF(OR(LEFT(D135,2)=\"T5\",LEFT(D135,3)=\"CFL\",'Analysis 103L'!AS135=\"Less\"),'Analysis 103L'!AR135,'Analysis 103L'!W135)))","v":""},null,0,0,null,{"$error":"#VALUE!"},{"$error":"#VALUE!"},{"$error":"#VALUE!"},null,null,{"$f":"IF(RIGHT(I135,4)=\"Case\",'LED Case Lighting'!$AY$1,IF(J135=\"\",\"\",VLOOKUP(J135,Lookups!$A$30:$J$172,VLOOKUP('100L Information'!$AI$46,Lookups!$J$3:$L$6,3,FALSE),FALSE)))","v":""},{"$error":"#N/A"},"","",{"$error":"#VALUE!"},{"$error":"#VALUE!"},{"$error":"#VALUE!"},{"$error":"#N/A"},0,{"$error":"#N/A"},0,{"$error":"#VALUE!"},{"$error":"#VALUE!"},{"$error":"#VALUE!"},"FAIL",null,null,null,null,null,null,null,"Interior / Exterior",null,"",null,{"$f":"IF(RIGHT(I135,4)=\"Case\",(INDEX('LED Case Lighting'!$AZ$3:$AZ$36,MATCH('Analysis 103L'!$CK135,'LED Case Lighting'!$AS$3:$AS$36,0))),IF(CB135=0,0,IF(CB135=\"lamp\",((Q135/VLOOKUP(B135,Int_Ext,2,FALSE))*VLOOKUP(E135,NEB,16,FALSE)),IF(CB135=\"fixture\",((Q135/VLOOKUP(B135,Int_Ext,2,FALSE))*VLOOKUP(E135,NEB,14,FALSE)),\"\"))))","v":""},null,{"$f":"IF(RIGHT(I135,4)=\"Case\",INDEX('Equipment Type'!$V$4:$V$53, MATCH('Analysis 103L'!$K135, 'Equipment Type'!$A$4:$A$53, 0)), \"\")","v":""},"","","","","",{"$f":"IF(CK135=\"\", \"\", INDEX('LED Case Lighting'!$AR$3:$AR$36, MATCH('Analysis 103L'!CK135, 'LED Case Lighting'!$AS$3:$AS$36, 0)))","v":""},{"$f":"IF(CK135=\"\", \"\", INDEX('LED Case Lighting'!$AW$3:$AW$36, MATCH('Analysis 103L'!CK135, 'LED Case Lighting'!$AS$3:$AS$36, 0)))","v":""},{"$f":"IF(CK135=\"\", \"\", INDEX('LED Case Lighting'!$AX$3:$AX$36, MATCH('Analysis 103L'!CK135, 'LED Case Lighting'!$AS$3:$AS$36, 0)))","v":""},""]
[109,null,null,null,null,null,"",null,{"$f":"IF(K136=\"\",\"\",VLOOKUP(K136,'Equipment Type'!$A$1:$F$53,5,FALSE))","v":""},{"$f":"IF(K136=\"\",\"\",VLOOKUP(K136,'Equipment Type'!$A$1:$F$53,6,FALSE))","v":""},null,{"$f":"IF(K136=\"\",\"\",VLOOKUP(K136,'Equipment Type'!$A$1:$F$53,4,FALSE))","v":""},null,{"$f":"IF(K136=\"\",\"\",INDEX('Equipment Type'!$T$4:$T$53,MATCH('Analysis 103L'!K136,'Equipment Type'!$A$4:$A$53,0)))","v":""},"",null,{"$f":"IF(RIGHT(I136, 4)=\"Case\", \"\", IF(P136=\"\",\"\",(IF(ISNUMBER(SEARCH(\"exit\",J136)),8760,IF(B136=\"Exterior\",4380,'Analysis 103L'!$J$3)))))","v":""},null,"","","","","","","","",{"$f":"IF('100L Information'!$Z$5=\"Yes\",0,IF('100L Information'!$Z$4=\"Yes\",(MIN($Y$232-(-$Y$227),6000)*0.5)*(Y136/$Y$232),$Y$232*(Y136/($Y$230+$Y$231))))","v":{"$error":"#VALUE!"}},"",{"$error":"#VALUE!"},"No requirement",0,{"$f":"IF(OR(Z136=\"Does not meet requirement\",AND('100L Information'!$AA$21=\"No\",AL136=\"Y\"),AND('100L Information'!$AS$21=FALSE,AL136=\"Y\")),0,IF(ISNUMBER(R136*Incent_Cost_Fixture_Rx),MIN(R136*Incent_Cost_Fixture_Rx,(MAX(AE136,AK136))),0))","v":0},"FAIL","0","0","0",0,"N","0","0",null,"","",0,"",{"$f":"IF(RIGHT(I136,4)=\"Case\",W136,IF(AND(AL136=\"Y\",AF136<1),0,IF(OR(LEFT(D136,2)=\"T5\",LEFT(D136,3)=\"CFL\",'Analysis 103L'!AS136=\"Less\"),'Analysis 103L'!AR136,'Analysis 103L'!W136)))","v":""},null,0,0,null,{"$error":"#VALUE!"},{"$error":"#VALUE!"},{"$error":"#VALUE!"},null,null,{"$f":"IF(RIGHT(I136,4)=\"Case\",'LED Case Lighting'!$AY$1,IF(J136=\"\",\"\",VLOOKUP(J136,Lookups!$A$30:$J$172,VLOOKUP('100L Information'!$AI$46,Lookups!$J$3:$L$6,3,FALSE),FALSE)))","v":""},{"$error":"#N/A"},"","",{"$error":"#VALUE!"},{"$error":"#VALUE!"},{"$error":"#VALUE!"},{"$error":"#N/A"},0,{"$error":"#N/A"},0,{"$error":"#VALUE!"},{"$error":"#VALUE!"},{"$error":"#VALUE!"},"FAIL",null,null,null,null,null,null,null,"Interior / Exterior",null,"",null,{"$f":"IF(RIGHT(I136,4)=\"Case\",(INDEX('LED Case Lighting'!$AZ$3:$AZ$36,MATCH('Analysis 103L'!$CK136,'LED Case Lighting'!$AS$3:$AS$36,0))),IF(CB136=0,0,IF(CB136=\"lamp\",((Q136/VLOOKUP(B136,Int_Ext,2,FALSE))*VLOOKUP(E136,NEB,16,FALSE)),IF(CB136=\"fixture\",((Q136/VLOOKUP(B136,Int_Ext,2,FALSE))*VLOOKUP(E136,NEB,14,FALSE)),\"\"))))","v":""},null,{"$f":"IF(RIGHT(I136,4)=\"Case\",INDEX('Equipment Type'!$V$4:$V$53, MATCH('Analysis 103L'!$K136, 'Equipment Type'!$A$4:$A$53, 0)), \"\")","v":""},"","","","","",{"$f":"IF(CK136=\"\", \"\", INDEX('LED Case Lighting'!$AR$3:$AR$36, MATCH('Analysis 103L'!CK136, 'LED Case Lighting'!$AS$3:$AS$36, 0)))","v":""},{"$f":"IF(CK136=\"\", \"\", INDEX('LED Case Lighting'!$AW$3:$AW$36, MATCH('Analysis 103L'!CK136, 'LED Case Lighting'!$AS$3:$AS$36, 0)))","v":""},{"$f":"IF(CK136=\"\", \"\", INDEX('LED Case Lighting'!$AX$3:$AX$36, MATCH('Analysis 103L'!CK136, 'LED Case Lighting'!$AS$3:$AS$36, 0)))","v":""},""]
[110,null,null,null,null,null,"",null,{"$f":"IF(K137=\"\",\"\",VLOOKUP(K137,'Equipment Type'!$A$1:$F$53,5,FALSE))","v":""},{"$f":"IF(K137=\"\",\"\",VLOOKUP(K137,'Equipment Type'!$A$1:$F$53,6,FALSE))","v":""},null,{"$f":"IF(K137=\"\",\"\",VLOOKUP(K137,'Equipment Type'!$A$1:$F$53,4,FALSE))","v":""},null,{"$f":"IF(K137=\"\",\"\",INDEX('Equipment Type'!$T$4:$T$53,MATCH('Analysis 103L'!K137,'Equipment Type'!$A$4:$A$53,0)))","v":""},"",null,{"$f":"IF(RIGHT(I137, 4)=\"Case\", \"\", IF(P137=\"\",\"\",(IF(ISNUMBER(SEARCH(\"exit\",J137)),8760,IF(B137=\"Exterior\",4380,'Analysis 103L'!$J$3)))))","v":""},null,"","","","","","","","",{"$f":"IF('100L Information'!$Z$5=\"Yes\",0,IF('100L Information'!$Z$4=\"Yes\",(MIN($Y$232-(-$Y$227),6000)*0.5)*(Y137/$Y$232),$Y$232*(Y137/($Y$230+$Y$231))))","v":{"$error":"#VALUE!"}},"",{"$error":"#VALUE!"},"No requirement",0,{"$f":"IF(OR(Z137=\"Does not meet requirement\",AND('100L Information'!$AA$21=\"No\",AL137=\"Y\"),AND('100L Information'!$AS$21=FALSE,AL137=\"Y\")),0,IF(ISNUMBER(R137*Incent_Cost_Fixture_Rx),MIN(R137*Incent_Cost_Fixture_Rx,(MAX(AE137,AK137))),0))","v":0},"FAIL","0","0","0",0,"N","0","0",null,"","",0,"",{"$f":"IF(RIGHT(I137,4)=\"Case\",W137,IF(AND(AL137=\"Y\",AF137<1),0,IF(OR(LEFT(D137,2)=\"T5\",LEFT(D137,3)=\"CFL\",'Analysis 103L'!AS137=\"Less\"),'Analysis 103L'!AR137,'Analysis 103L'!W137)))","v":""},null,0,0,null,{"$error":"#VALUE!"},{"$error":"#VALUE!"},{"$error":"#VALUE!"},null,null,{"$f":"IF(RIGHT(I137,4)=\"Case\",'LED Case Lighting'!$AY$1,IF(J137=\"\",\"\",VLOOKUP(J137,Lookups!$A$30:$J$172,VLOOKUP('100L Information'!$AI$46,Lookups!$J$3:$L$6,3,FALSE),FALSE)))","v":""},{"$error":"#N/A"},"","",{"$error":"#VALUE!"},{"$error":"#VALUE!"},{"$error":"#VALUE!"},{"$error":"#N/A"},0,{"$error":"#N/A"},0,{"$error":"#VALUE!"},{"$error":"#VALUE!"},{"$error":"#VALUE!"},"FAIL",null,null,null,null,null,null,null,"Interior / Exterior",null,"",null,{"$f":"IF(RIGHT(I137,4)=\"Case\",(INDEX('LED Case Lighting'!$AZ$3:$AZ$36,MATCH('Analysis 103L'!$CK137,'LED Case Lighting'!$AS$3:$AS$36,0))),IF(CB137=0,0,IF(CB137=\"lamp\",((Q137/VLOOKUP(B137,Int_Ext,2,FALSE))*VLOOKUP(E137,NEB,16,FALSE)),IF(CB137=\"fixture\",((Q137/VLOOKUP(B137,Int_Ext,2,FALSE))*VLOOKUP(E137,NEB,14,FALSE)),\"\"))))","v":""},null,{"$f":"IF(RIGHT(I137,4)=\"Case\",INDEX('Equipment Type'!$V$4:$V$53, MATCH('Analysis 103L'!$K137, 'Equipment Type'!$A$4:$A$53, 0)), \"\")","v":""},"","","","","",{"$f":"IF(CK137=\"\", \"\", INDEX('LED Case Lighting'!$AR$3:$AR$36, MATCH('Analysis 103L'!CK137, 'LED Case Lighting'!$AS$3:$AS$36, 0)))","v":""},{"$f":"IF(CK137=\"\", \"\", INDEX('LED Case Lighting'!$AW$3:$AW$36, MATCH('Analysis 103L'!CK137, 'LED Case Lighting'!$AS$3:$AS$36, 0)))","v":""},{"$f":"IF(CK137=\"\", \"\", INDEX('LED Case Lighting'!$AX$3:$AX$36, MATCH('Analysis 103L'!CK137, 'LED Case Lighting'!$AS$3:$AS$36, 0)))","v":""},""]
[111,null,null,null,null,null,"",null,{"$f":"IF(K138=\"\",\"\",VLOOKUP(K138,'Equipment Type'!$A$1:$F$53,5,FALSE))","v":""},{"$f":"IF(K138=\"\",\"\",VLOOKUP(K138,'Equipment Type'!$A$1:$F$53,6,FALSE))","v":""},null,{"$f":"IF(K138=\"\",\"\",VLOOKUP(K138,'Equipment Type'!$A$1:$F$53,4,FALSE))","v":""},null,{"$f":"IF(K138=\"\",\"\",INDEX('Equipment Type'!$T$4:$T$53,MATCH('Analysis 103L'!K138,'Equipment Type'!$A$4:$A$53,0)))","v":""},"",null,{"$f":"IF(RIGHT(I138, 4)=\"Case\", \"\", IF(P138=\"\",\"\",(IF(ISNUMBER(SEARCH(\"exit\",J138)),8760,IF(B138=\"Exterior\",4380,'Analysis 103L'!$J$3)))))","v":""},null,"","","","","","","","",{"$f":"IF('100L Information'!$Z$5=\"Yes\",0,IF('100L Information'!$Z$4=\"Yes\",(MIN($Y$232-(-$Y$227),6000)*0.5)*(Y138/$Y$232),$Y$232*(Y138/($Y$230+$Y$231))))","v":{"$error":"#VALUE!"}},"",{"$error":"#VALUE!"},"No requirement",0,{"$f":"IF(OR(Z138=\"Does not meet requirement\",AND('100L Information'!$AA$21=\"No\",AL138=\"Y\"),AND('100L Information'!$AS$21=FALSE,AL138=\"Y\")),0,IF(ISNUMBER(R138*Incent_Cost_Fixture_Rx),MIN(R138*Incent_Cost_Fixture_Rx,(MAX(AE138,AK138))),0))","v":0},"FAIL","0","0","0",0,"N","0","0",null,"","",0,"",{"$f":"IF(RIGHT(I138,4)=\"Case\",W138,IF(AND(AL138=\"Y\",AF138<1),0,IF(OR(LEFT(D138,2)=\"T5\",LEFT(D138,3)=\"CFL\",'Analysis 103L'!AS138=\"Less\"),'Analysis 103L'!AR138,'Analysis 103L'!W138)))","v":""},null,0,0,null,{"$error":"#VALUE!"},{"$error":"#VALUE!"},{"$error":"#VALUE!"},null,null,{"$f":"IF(RIGHT(I138,4)=\"Case\",'LED Case Lighting'!$AY$1,IF(J138=\"\",\"\",VLOOKUP(J138,Lookups!$A$30:$J$172,VLOOKUP('100L Information'!$AI$46,Lookups!$J$3:$L$6,3,FALSE),FALSE)))","v":""},{"$error":"#N/A"},"","",{"$error":"#VALUE!"},{"$error":"#VALUE!"},{"$error":"#VALUE!"},{"$error":"#N/A"},0,{"$error":"#N/A"},0,{"$error":"#VALUE!"},{"$error":"#VALUE!"},{"$error":"#VALUE!"},"FAIL",null,null,null,null,null,null,null,"Interior / Exterior",null,"",null,{"$f":"IF(RIGHT(I138,4)=\"Case\",(INDEX('LED Case Lighting'!$AZ$3:$AZ$36,MATCH('Analysis 103L'!$CK138,'LED Case Lighting'!$AS$3:$AS$36,0))),IF(CB138=0,0,IF(CB138=\"lamp\",((Q138/VLOOKUP(B138,Int_Ext,2,FALSE))*VLOOKUP(E138,NEB,16,FALSE)),IF(CB138=\"fixture\",((Q138/VLOOKUP(B138,Int_Ext,2,FALSE))*VLOOKUP(E138,NEB,14,FALSE)),\"\"))))","v":""},null,{"$f":"IF(RIGHT(I138,4)=\"Case\",INDEX('Equipment Type'!$V$4:$V$53, MATCH('Analysis 103L'!$K138, 'Equipment Type'!$A$4:$A$53, 0)), \"\")","v":""},"","","","","",{"$f":"IF(CK138=\"\", \"\", INDEX('LED Case Lighting'!$AR$3:$AR$36, MATCH('Analysis 103L'!CK138, 'LED Case Lighting'!$AS$3:$AS$36, 0)))","v":""},{"$f":"IF(CK138=\"\", \"\", INDEX('LED Case Lighting'!$AW$3:$AW$36, MATCH('Analysis 103L'!CK138, 'LED Case Lighting'!$AS$3:$AS$36, 0)))","v":""},{"$f":"IF(CK138=\"\", \"\", INDEX('LED Case Lighting'!$AX$3:$AX$36, MATCH('Analysis 103L'!CK138, 'LED Case Lighting'!$AS$3:$AS$36, 0)))","v":""},""]
[112,null,null,null,null,null,"",null,{"$f":"IF(K139=\"\",\"\",VLOOKUP(K139,'Equipment Type'!$A$1:$F$53,5,FALSE))","v":""},{"$f":"IF(K139=\"\",\"\",VLOOKUP(K139,'Equipment Type'!$A$1:$F$53,6,FALSE))","v":""},null,{"$f":"IF(K139=\"\",\"\",VLOOKUP(K139,'Equipment Type'!$A$1:$F$53,4,FALSE))","v":""},null,{"$f":"IF(K139=\"\",\"\",INDEX('Equipment Type'!$T$4:$T$53,MATCH('Analysis 103L'!K139,'Equipment Type'!$A$4:$A$53,0)))","v":""},"",null,{"$f":"IF(RIGHT(I139, 4)=\"Case\", \"\", IF(P139=\"\",\"\",(IF(ISNUMBER(SEARCH(\"exit\",J139)),8760,IF(B139=\"Exterior\",4380,'Analysis 103L'!$J$3)))))","v":""},null,"","","","","","","","",{"$f":"IF('100L Information'!$Z$5=\"Yes\",0,IF('100L Information'!$Z$4=\"Yes\",(MIN($Y$232-(-$Y$227),6000)*0.5)*(Y139/$Y$232),$Y$232*(Y139/($Y$230+$Y$231))))","v":{"$error":"#VALUE!"}},"",{"$error":"#VALUE!"},"No requirement",0,{"$f":"IF(OR(Z139=\"Does not meet requirement\",AND('100L Information'!$AA$21=\"No\",AL139=\"Y\"),AND('100L Information'!$AS$21=FALSE,AL139=\"Y\")),0,IF(ISNUMBER(R139*Incent_Cost_Fixture_Rx),MIN(R139*Incent_Cost_Fixture_Rx,(MAX(AE139,AK139))),0))","v":0},"FAIL","0","0","0",0,"N","0","0",null,"","",0,"",{"$f":"IF(RIGHT(I139,4)=\"Case\",W139,IF(AND(AL139=\"Y\",AF139<1),0,IF(OR(LEFT(D139,2)=\"T5\",LEFT(D139,3)=\"CFL\",'Analysis 103L'!AS139=\"Less\"),'Analysis 103L'!AR139,'Analysis 103L'!W139)))","v":""},null,0,0,null,{"$error":"#VALUE!"},{"$error":"#VALUE!"},{"$error":"#VALUE!"},null,null,{"$f":"IF(RIGHT(I139,4)=\"Case\",'LED Case Lighting'!$AY$1,IF(J139=\"\",\"\",VLOOKUP(J139,Lookups!$A$30:$J$172,VLOOKUP('100L Information'!$AI$46,Lookups!$J$3:$L$6,3,FALSE),FALSE)))","v":""},{"$error":"#N/A"},"","",{"$error":"#VALUE!"},{"$error":"#VALUE!"},{"$error":"#VALUE!"},{"$error":"#N/A"},0,{"$error":"#N/A"},0,{"$error":"#VALUE!"},{"$error":"#VALUE!"},{"$error":"#VALUE!"},"FAIL",null,null,null,null,null,null,null,"Interior / Exterior",null,"",null,{"$f":"IF(RIGHT(I139,4)=\"Case\",(INDEX('LED Case Lighting'!$AZ$3:$AZ$36,MATCH('Analysis 103L'!$CK139,'LED Case Lighting'!$AS$3:$AS$36,0))),IF(CB139=0,0,IF(CB139=\"lamp\",((Q139/VLOOKUP(B139,Int_Ext,2,FALSE))*VLOOKUP(E139,NEB,16,FALSE)),IF(CB139=\"fixture\",((Q139/VLOOKUP(B139,Int_Ext,2,FALSE))*VLOOKUP(E139,NEB,14,FALSE)),\"\"))))","v":""},null,{"$f":"IF(RIGHT(I139,4)=\"Case\",INDEX('Equipment Type'!$V$4:$V$53, MATCH('Analysis 103L'!$K139, 'Equipment Type'!$A$4:$A$53, 0)), \"\")","v":""},"","","","","",{"$f":"IF(CK139=\"\", \"\", INDEX('LED Case Lighting'!$AR$3:$AR$36, MATCH('Analysis 103L'!CK139, 'LED Case Lighting'!$AS$3:$AS$36, 0)))","v":""},{"$f":"IF(CK139=\"\", \"\", INDEX('LED Case Lighting'!$AW$3:$AW$36, MATCH('Analysis 103L'!CK139, 'LED Case Lighting'!$AS$3:$AS$36, 0)))","v":""},{"$f":"IF(CK139=\"\", \"\", INDEX('LED Case Lighting'!$AX$3:$AX$36, MATCH('Analysis 103L'!CK139, 'LED Case Lighting'!$AS$3:$AS$36, 0)))","v":""},""]
[113,null,null,null,null,null,"",null,{"$f":"IF(K140=\"\",\"\",VLOOKUP(K140,'Equipment Type'!$A$1:$F$53,5,FALSE))","v":""},{"$f":"IF(K140=\"\",\"\",VLOOKUP(K140,'Equipment Type'!$A$1:$F$53,6,FALSE))","v":""},null,{"$f":"IF(K140=\"\",\"\",VLOOKUP(K140,'Equipment Type'!$A$1:$F$53,4,FALSE))","v":""},null,{"$f":"IF(K140=\"\",\"\",INDEX('Equipment Type'!$T$4:$T$53,MATCH('Analysis 103L'!K140,'Equipment Type'!$A$4:$A$53,0)))","v":""},"",null,{"$f":"IF(RIGHT(I140, 4)=\"Case\", \"\", IF(P140=\"\",\"\",(IF(ISNUMBER(SEARCH(\"exit\",J140)),8760,IF(B140=\"Exterior\",4380,'Analysis 103L'!$J$3)))))","v":""},null,"","","","","","","","",{"$f":"IF('100L Information'!$Z$5=\"Yes\",0,IF('100L Information'!$Z$4=\"Yes\",(MIN($Y$232-(-$Y$227),6000)*0.5)*(Y140/$Y$232),$Y$232*(Y140/($Y$230+$Y$231))))","v":{"$error":"#VALUE!"}},"",{"$error":"#VALUE!"},"No requirement",0,{"$f":"IF(OR(Z140=\"Does not meet requirement\",AND('100L Information'!$AA$21=\"No\",AL140=\"Y\"),AND('100L Information'!$AS$21=FALSE,AL140=\"Y\")),0,IF(ISNUMBER(R140*Incent_Cost_Fixture_Rx),MIN(R140*Incent_Cost_Fixture_Rx,(MAX(AE140,AK140))),0))","v":0},"FAIL","0","0","0",0,"N","0","0",null,"","",0,"",{"$f":"IF(RIGHT(I140,4)=\"Case\",W140,IF(AND(AL140=\"Y\",AF140<1),0,IF(OR(LEFT(D140,2)=\"T5\",LEFT(D140,3)=\"CFL\",'Analysis 103L'!AS140=\"Less\"),'Analysis 103L'!AR140,'Analysis 103L'!W140)))","v":""},null,0,0,null,{"$error":"#VALUE!"},{"$error":"#VALUE!"},{"$error":"#VALUE!"},null,null,{"$f":"IF(RIGHT(I140,4)=\"Case\",'LED Case Lighting'!$AY$1,IF(J140=\"\",\"\",VLOOKUP(J140,Lookups!$A$30:$J$172,VLOOKUP('100L Information'!$AI$46,Lookups!$J$3:$L$6,3,FALSE),FALSE)))","v":""},{"$error":"#N/A"},"","",{"$error":"#VALUE!"},{"$error":"#VALUE!"},{"$error":"#VALUE!"},{"$error":"#N/A"},0,{"$error":"#N/A"},0,{"$error":"#VALUE!"},{"$error":"#VALUE!"},{"$error":"#VALUE!"},"FAIL",null,null,null,null,null,null,null,"Interior / Exterior",null,"",null,{"$f":"IF(RIGHT(I140,4)=\"Case\",(INDEX('LED Case Lighting'!$AZ$3:$AZ$36,MATCH('Analysis 103L'!$CK140,'LED Case Lighting'!$AS$3:$AS$36,0))),IF(CB140=0,0,IF(CB140=\"lamp\",((Q140/VLOOKUP(B140,Int_Ext,2,FALSE))*VLOOKUP(E140,NEB,16,FALSE)),IF(CB140=\"fixture\",((Q140/VLOOKUP(B140,Int_Ext,2,FALSE))*VLOOKUP(E140,NEB,14,FALSE)),\"\"))))","v":""},null,{"$f":"IF(RIGHT(I140,4)=\"Case\",INDEX('Equipment Type'!$V$4:$V$53, MATCH('Analysis 103L'!$K140, 'Equipment Type'!$A$4:$A$53, 0)), \"\")","v":""},"","","","","",{"$f":"IF(CK140=\"\", \"\", INDEX('LED Case Lighting'!$AR$3:$AR$36, MATCH('Analysis 103L'!CK140, 'LED Case Lighting'!$AS$3:$AS$36, 0)))","v":""},{"$f":"IF(CK140=\"\", \"\", INDEX('LED Case Lighting'!$AW$3:$AW$36, MATCH('Analysis 103L'!CK140, 'LED Case Lighting'!$AS$3:$AS$36, 0)))","v":""},{"$f":"IF(CK140=\"\", \"\", INDEX('LED Case Lighting'!$AX$3:$AX$36, MATCH('Analysis 103L'!CK140, 'LED Case Lighting'!$AS$3:$AS$36, 0)))","v":""},""]
[114,null,null,null,null,null,"",null,{"$f":"IF(K141=\"\",\"\",VLOOKUP(K141,'Equipment Type'!$A$1:$F$53,5,FALSE))","v":""},{"$f":"IF(K141=\"\",\"\",VLOOKUP(K141,'Equipment Type'!$A$1:$F$53,6,FALSE))","v":""},null,{"$f":"IF(K141=\"\",\"\",VLOOKUP(K141,'Equipment Type'!$A$1:$F$53,4,FALSE))","v":""},null,{"$f":"IF(K141=\"\",\"\",INDEX('Equipment Type'!$T$4:$T$53,MATCH('Analysis 103L'!K141,'Equipment Type'!$A$4:$A$53,0)))","v":""},"",null,{"$f":"IF(RIGHT(I141, 4)=\"Case\", \"\", IF(P141=\"\",\"\",(IF(ISNUMBER(SEARCH(\"exit\",J141)),8760,IF(B141=\"Exterior\",4380,'Analysis 103L'!$J$3)))))","v":""},null,"","","","","","","","",{"$f":"IF('100L Information'!$Z$5=\"Yes\",0,IF('100L Information'!$Z$4=\"Yes\",(MIN($Y$232-(-$Y$227),6000)*0.5)*(Y141/$Y$232),$Y$232*(Y141/($Y$230+$Y$231))))","v":{"$error":"#VALUE!"}},"",{"$error":"#VALUE!"},"No requirement",0,{"$f":"IF(OR(Z141=\"Does not meet requirement\",AND('100L Information'!$AA$21=\"No\",AL141=\"Y\"),AND('100L Information'!$AS$21=FALSE,AL141=\"Y\")),0,IF(ISNUMBER(R141*Incent_Cost_Fixture_Rx),MIN(R141*Incent_Cost_Fixture_Rx,(MAX(AE141,AK141))),0))","v":0},"FAIL","0","0","0",0,"N","0","0",null,"","",0,"",{"$f":"IF(RIGHT(I141,4)=\"Case\",W141,IF(AND(AL141=\"Y\",AF141<1),0,IF(OR(LEFT(D141,2)=\"T5\",LEFT(D141,3)=\"CFL\",'Analysis 103L'!AS141=\"Less\"),'Analysis 103L'!AR141,'Analysis 103L'!W141)))","v":""},null,0,0,null,{"$error":"#VALUE!"},{"$error":"#VALUE!"},{"$error":"#VALUE!"},null,null,{"$f":"IF(RIGHT(I141,4)=\"Case\",'LED Case Lighting'!$AY$1,IF(J141=\"\",\"\",VLOOKUP(J141,Lookups!$A$30:$J$172,VLOOKUP('100L Information'!$AI$46,Lookups!$J$3:$L$6,3,FALSE),FALSE)))","v":""},{"$error":"#N/A"},"","",{"$error":"#VALUE!"},{"$error":"#VALUE!"},{"$error":"#VALUE!"},{"$error":"#N/A"},0,{"$error":"#N/A"},0,{"$error":"#VALUE!"},{"$error":"#VALUE!"},{"$error":"#VALUE!"},"FAIL",null,null,null,null,null,null,null,"Interior / Exterior",null,"",null,{"$f":"IF(RIGHT(I141,4)=\"Case\",(INDEX('LED Case Lighting'!$AZ$3:$AZ$36,MATCH('Analysis 103L'!$CK141,'LED Case Lighting'!$AS$3:$AS$36,0))),IF(CB141=0,0,IF(CB141=\"lamp\",((Q141/VLOOKUP(B141,Int_Ext,2,FALSE))*VLOOKUP(E141,NEB,16,FALSE)),IF(CB141=\"fixture\",((Q141/VLOOKUP(B141,Int_Ext,2,FALSE))*VLOOKUP(E141,NEB,14,FALSE)),\"\"))))","v":""},null,{"$f":"IF(RIGHT(I141,4)=\"Case\",INDEX('Equipment Type'!$V$4:$V$53, MATCH('Analysis 103L'!$K141, 'Equipment Type'!$A$4:$A$53, 0)), \"\")","v":""},"","","","","",{"$f":"IF(CK141=\"\", \"\", INDEX('LED Case Lighting'!$AR$3:$AR$36, MATCH('Analysis 103L'!CK141, 'LED Case Lighting'!$AS$3:$AS$36, 0)))","v":""},{"$f":"IF(CK141=\"\", \"\", INDEX('LED Case Lighting'!$AW$3:$AW$36, MATCH('Analysis 103L'!CK141, 'LED Case Lighting'!$AS$3:$AS$36, 0)))","v":""},{"$f":"IF(CK141=\"\", \"\", INDEX('LED Case Lighting'!$AX$3:$AX$36, MATCH('Analysis 103L'!CK141, 'LED Case Lighting'!$AS$3:$AS$36, 0)))","v":""},""]
[115,null,null,null,null,null,"",null,{"$f":"IF(K142=\"\",\"\",VLOOKUP(K142,'Equipment Type'!$A$1:$F$53,5,FALSE))","v":""},{"$f":"IF(K142=\"\",\"\",VLOOKUP(K142,'Equipment Type'!$A$1:$F$53,6,FALSE))","v":""},null,{"$f":"IF(K142=\"\",\"\",VLOOKUP(K142,'Equipment Type'!$A$1:$F$53,4,FALSE))","v":""},null,{"$f":"IF(K142=\"\",\"\",INDEX('Equipment Type'!$T$4:$T$53,MATCH('Analysis 103L'!K142,'Equipment Type'!$A$4:$A$53,0)))","v":""},"",null,{"$f":"IF(RIGHT(I142, 4)=\"Case\", \"\", IF(P142=\"\",\"\",(IF(ISNUMBER(SEARCH(\"exit\",J142)),8760,IF(B142=\"Exterior\",4380,'Analysis 103L'!$J$3)))))","v":""},null,"","","","","","","","",{"$f":"IF('100L Information'!$Z$5=\"Yes\",0,IF('100L Information'!$Z$4=\"Yes\",(MIN($Y$232-(-$Y$227),6000)*0.5)*(Y142/$Y$232),$Y$232*(Y142/($Y$230+$Y$231))))","v":{"$error":"#VALUE!"}},"",{"$error":"#VALUE!"},"No requirement",0,{"$f":"IF(OR(Z142=\"Does not meet requirement\",AND('100L Information'!$AA$21=\"No\",AL142=\"Y\"),AND('100L Information'!$AS$21=FALSE,AL142=\"Y\")),0,IF(ISNUMBER(R142*Incent_Cost_Fixture_Rx),MIN(R142*Incent_Cost_Fixture_Rx,(MAX(AE142,AK142))),0))","v":0},"FAIL","0","0","0",0,"N","0","0",null,"","",0,"",{"$f":"IF(RIGHT(I142,4)=\"Case\",W142,IF(AND(AL142=\"Y\",AF142<1),0,IF(OR(LEFT(D142,2)=\"T5\",LEFT(D142,3)=\"CFL\",'Analysis 103L'!AS142=\"Less\"),'Analysis 103L'!AR142,'Analysis 103L'!W142)))","v":""},null,0,0,null,{"$error":"#VALUE!"},{"$error":"#VALUE!"},{"$error":"#VALUE!"},null,null,{"$f":"IF(RIGHT(I142,4)=\"Case\",'LED Case Lighting'!$AY$1,IF(J142=\"\",\"\",VLOOKUP(J142,Lookups!$A$30:$J$172,VLOOKUP('100L Information'!$AI$46,Lookups!$J$3:$L$6,3,FALSE),FALSE)))","v":""},{"$error":"#N/A"},"","",{"$error":"#VALUE!"},{"$error":"#VALUE!"},{"$error":"#VALUE!"},{"$error":"#N/A"},0,{"$error":"#N/A"},0,{"$error":"#VALUE!"},{"$error":"#VALUE!"},{"$error":"#VALUE!"},"FAIL",null,null,null,null,null,null,null,"Interior / Exterior",null,"",null,{"$f":"IF(RIGHT(I142,4)=\"Case\",(INDEX('LED Case Lighting'!$AZ$3:$AZ$36,MATCH('Analysis 103L'!$CK142,'LED Case Lighting'!$AS$3:$AS$36,0))),IF(CB142=0,0,IF(CB142=\"lamp\",((Q142/VLOOKUP(B142,Int_Ext,2,FALSE))*VLOOKUP(E142,NEB,16,FALSE)),IF(CB142=\"fixture\",((Q142/VLOOKUP(B142,Int_Ext,2,FALSE))*VLOOKUP(E142,NEB,14,FALSE)),\"\"))))","v":""},null,{"$f":"IF(RIGHT(I142,4)=\"Case\",INDEX('Equipment Type'!$V$4:$V$53, MATCH('Analysis 103L'!$K142, 'Equipment Type'!$A$4:$A$53, 0)), \"\")","v":""},"","","","","",{"$f":"IF(CK142=\"\", \"\", INDEX('LED Case Lighting'!$AR$3:$AR$36, MATCH('Analysis 103L'!CK142, 'LED Case Lighting'!$AS$3:$AS$36, 0)))","v":""},{"$f":"IF(CK142=\"\", \"\", INDEX('LED Case Lighting'!$AW$3:$AW$36, MATCH('Analysis 103L'!CK142, 'LED Case Lighting'!$AS$3:$AS$36, 0)))","v":""},{"$f":"IF(CK142=\"\", \"\", INDEX('LED Case Lighting'!$AX$3:$AX$36, MATCH('Analysis 103L'!CK142, 'LED Case Lighting'!$AS$3:$AS$36, 0)))","v":""},""]
[116,null,null,null,null,null,"",null,{"$f":"IF(K143=\"\",\"\",VLOOKUP(K143,'Equipment Type'!$A$1:$F$53,5,FALSE))","v":""},{"$f":"IF(K143=\"\",\"\",VLOOKUP(K143,'Equipment Type'!$A$1:$F$53,6,FALSE))","v":""},null,{"$f":"IF(K143=\"\",\"\",VLOOKUP(K143,'Equipment Type'!$A$1:$F$53,4,FALSE))","v":""},null,{"$f":"IF(K143=\"\",\"\",INDEX('Equipment Type'!$T$4:$T$53,MATCH('Analysis 103L'!K143,'Equipment Type'!$A$4:$A$53,0)))","v":""},"",null,{"$f":"IF(RIGHT(I143, 4)=\"Case\", \"\", IF(P143=\"\",\"\",(IF(ISNUMBER(SEARCH(\"exit\",J143)),8760,IF(B143=\"Exterior\",4380,'Analysis 103L'!$J$3)))))","v":""},null,"","","","","","","","",{"$f":"IF('100L Information'!$Z$5=\"Yes\",0,IF('100L Information'!$Z$4=\"Yes\",(MIN($Y$232-(-$Y$227),6000)*0.5)*(Y143/$Y$232),$Y$232*(Y143/($Y$230+$Y$231))))","v":{"$error":"#VALUE!"}},"",{"$error":"#VALUE!"},"No requirement",0,{"$f":"IF(OR(Z143=\"Does not meet requirement\",AND('100L Information'!$AA$21=\"No\",AL143=\"Y\"),AND('100L Information'!$AS$21=FALSE,AL143=\"Y\")),0,IF(ISNUMBER(R143*Incent_Cost_Fixture_Rx),MIN(R143*Incent_Cost_Fixture_Rx,(MAX(AE143,AK143))),0))","v":0},"FAIL","0","0","0",0,"N","0","0",null,"","",0,"",{"$f":"IF(RIGHT(I143,4)=\"Case\",W143,IF(AND(AL143=\"Y\",AF143<1),0,IF(OR(LEFT(D143,2)=\"T5\",LEFT(D143,3)=\"CFL\",'Analysis 103L'!AS143=\"Less\"),'Analysis 103L'!AR143,'Analysis 103L'!W143)))","v":""},null,0,0,null,{"$error":"#VALUE!"},{"$error":"#VALUE!"},{"$error":"#VALUE!"},null,null,{"$f":"IF(RIGHT(I143,4)=\"Case\",'LED Case Lighting'!$AY$1,IF(J143=\"\",\"\",VLOOKUP(J143,Lookups!$A$30:$J$172,VLOOKUP('100L Information'!$AI$46,Lookups!$J$3:$L$6,3,FALSE),FALSE)))","v":""},{"$error":"#N/A"},"","",{"$error":"#VALUE!"},{"$error":"#VALUE!"},{"$error":"#VALUE!"},{"$error":"#N/A"},0,{"$error":"#N/A"},0,{"$error":"#VALUE!"},{"$error":"#VALUE!"},{"$error":"#VALUE!"},"FAIL",null,null,null,null,null,null,null,"Interior / Exterior",null,"",null,{"$f":"IF(RIGHT(I143,4)=\"Case\",(INDEX('LED Case Lighting'!$AZ$3:$AZ$36,MATCH('Analysis 103L'!$CK143,'LED Case Lighting'!$AS$3:$AS$36,0))),IF(CB143=0,0,IF(CB143=\"lamp\",((Q143/VLOOKUP(B143,Int_Ext,2,FALSE))*VLOOKUP(E143,NEB,16,FALSE)),IF(CB143=\"fixture\",((Q143/VLOOKUP(B143,Int_Ext,2,FALSE))*VLOOKUP(E143,NEB,14,FALSE)),\"\"))))","v":""},null,{"$f":"IF(RIGHT(I143,4)=\"Case\",INDEX('Equipment Type'!$V$4:$V$53, MATCH('Analysis 103L'!$K143, 'Equipment Type'!$A$4:$A$53, 0)), \"\")","v":""},"","","","","",{"$f":"IF(CK143=\"\", \"\", INDEX('LED Case Lighting'!$AR$3:$AR$36, MATCH('Analysis 103L'!CK143, 'LED Case Lighting'!$AS$3:$AS$36, 0)))","v":""},{"$f":"IF(CK143=\"\", \"\", INDEX('LED Case Lighting'!$AW$3:$AW$36, MATCH('Analysis 103L'!CK143, 'LED Case Lighting'!$AS$3:$AS$36, 0)))","v":""},{"$f":"IF(CK143=\"\", \"\", INDEX('LED Case Lighting'!$AX$3:$AX$36, MATCH('Analysis 103L'!CK143, 'LED Case Lighting'!$AS$3:$AS$36, 0)))","v":""},""]
[117,null,null,null,null,null,"",null,{"$f":"IF(K144=\"\",\"\",VLOOKUP(K144,'Equipment Type'!$A$1:$F$53,5,FALSE))","v":""},{"$f":"IF(K144=\"\",\"\",VLOOKUP(K144,'Equipment Type'!$A$1:$F$53,6,FALSE))","v":""},null,{"$f":"IF(K144=\"\",\"\",VLOOKUP(K144,'Equipment Type'!$A$1:$F$53,4,FALSE))","v":""},null,{"$f":"IF(K144=\"\",\"\",INDEX('Equipment Type'!$T$4:$T$53,MATCH('Analysis 103L'!K144,'Equipment Type'!$A$4:$A$53,0)))","v":""},"",null,{"$f":"IF(RIGHT(I144, 4)=\"Case\", \"\", IF(P144=\"\",\"\",(IF(ISNUMBER(SEARCH(\"exit\",J144)),8760,IF(B144=\"Exterior\",4380,'Analysis 103L'!$J$3)))))","v":""},null,"","","","","","","","",{"$f":"IF('100L Information'!$Z$5=\"Yes\",0,IF('100L Information'!$Z$4=\"Yes\",(MIN($Y$232-(-$Y$227),6000)*0.5)*(Y144/$Y$232),$Y$232*(Y144/($Y$230+$Y$231))))","v":{"$error":"#VALUE!"}},"",{"$error":"#VALUE!"},"No requirement",0,{"$f":"IF(OR(Z144=\"Does not meet requirement\",AND('100L Information'!$AA$21=\"No\",AL144=\"Y\"),AND('100L Information'!$AS$21=FALSE,AL144=\"Y\")),0,IF(ISNUMBER(R144*Incent_Cost_Fixture_Rx),MIN(R144*Incent_Cost_Fixture_Rx,(MAX(AE144,AK144))),0))","v":0},"FAIL","0","0","0",0,"N","0","0",null,"","",0,"",{"$f":"IF(RIGHT(I144,4)=\"Case\",W144,IF(AND(AL144=\"Y\",AF144<1),0,IF(OR(LEFT(D144,2)=\"T5\",LEFT(D144,3)=\"CFL\",'Analysis 103L'!AS144=\"Less\"),'Analysis 103L'!AR144,'Analysis 103L'!W144)))","v":""},null,0,0,null,{"$error":"#VALUE!"},{"$error":"#VALUE!"},{"$error":"#VALUE!"},null,null,{"$f":"IF(RIGHT(I144,4)=\"Case\",'LED Case Lighting'!$AY$1,IF(J144=\"\",\"\",VLOOKUP(J144,Lookups!$A$30:$J$172,VLOOKUP('100L Information'!$AI$46,Lookups!$J$3:$L$6,3,FALSE),FALSE)))","v":""},{"$error":"#N/A"},"","",{"$error":"#VALUE!"},{"$error":"#VALUE!"},{"$error":"#VALUE!"},{"$error":"#N/A"},0,{"$error":"#N/A"},0,{"$error":"#VALUE!"},{"$error":"#VALUE!"},{"$error":"#VALUE!"},"FAIL",null,null,null,null,null,null,null,"Interior / Exterior",null,"",null,{"$f":"IF(RIGHT(I144,4)=\"Case\",(INDEX('LED Case Lighting'!$AZ$3:$AZ$36,MATCH('Analysis 103L'!$CK144,'LED Case Lighting'!$AS$3:$AS$36,0))),IF(CB144=0,0,IF(CB144=\"lamp\",((Q144/VLOOKUP(B144,Int_Ext,2,FALSE))*VLOOKUP(E144,NEB,16,FALSE)),IF(CB144=\"fixture\",((Q144/VLOOKUP(B144,Int_Ext,2,FALSE))*VLOOKUP(E144,NEB,14,FALSE)),\"\"))))","v":""},null,{"$f":"IF(RIGHT(I144,4)=\"Case\",INDEX('Equipment Type'!$V$4:$V$53, MATCH('Analysis 103L'!$K144, 'Equipment Type'!$A$4:$A$53, 0)), \"\")","v":""},"","","","","",{"$f":"IF(CK144=\"\", \"\", INDEX('LED Case Lighting'!$AR$3:$AR$36, MATCH('Analysis 103L'!CK144, 'LED Case Lighting'!$AS$3:$AS$36, 0)))","v":""},{"$f":"IF(CK144=\"\", \"\", INDEX('LED Case Lighting'!$AW$3:$AW$36, MATCH('Analysis 103L'!CK144, 'LED Case Lighting'!$AS$3:$AS$36, 0)))","v":""},{"$f":"IF(CK144=\"\", \"\", INDEX('LED Case Lighting'!$AX$3:$AX$36, MATCH('Analysis 103L'!CK144, 'LED Case Lighting'!$AS$3:$AS$36, 0)))","v":""},""]
[118,null,null,null,null,null,"",null,{"$f":"IF(K145=\"\",\"\",VLOOKUP(K145,'Equipment Type'!$A$1:$F$53,5,FALSE))","v":""},{"$f":"IF(K145=\"\",\"\",VLOOKUP(K145,'Equipment Type'!$A$1:$F$53,6,FALSE))","v":""},null,{"$f":"IF(K145=\"\",\"\",VLOOKUP(K145,'Equipment Type'!$A$1:$F$53,4,FALSE))","v":""},null,{"$f":"IF(K145=\"\",\"\",INDEX('Equipment Type'!$T$4:$T$53,MATCH('Analysis 103L'!K145,'Equipment Type'!$A$4:$A$53,0)))","v":""},"",null,{"$f":"IF(RIGHT(I145, 4)=\"Case\", \"\", IF(P145=\"\",\"\",(IF(ISNUMBER(SEARCH(\"exit\",J145)),8760,IF(B145=\"Exterior\",4380,'Analysis 103L'!$J$3)))))","v":""},null,"","","","","","","","",{"$f":"IF('100L Information'!$Z$5=\"Yes\",0,IF('100L Information'!$Z$4=\"Yes\",(MIN($Y$232-(-$Y$227),6000)*0.5)*(Y145/$Y$232),$Y$232*(Y145/($Y$230+$Y$231))))","v":{"$error":"#VALUE!"}},"",{"$error":"#VALUE!"},"No requirement",0,{"$f":"IF(OR(Z145=\"Does not meet requirement\",AND('100L Information'!$AA$21=\"No\",AL145=\"Y\"),AND('100L Information'!$AS$21=FALSE,AL145=\"Y\")),0,IF(ISNUMBER(R145*Incent_Cost_Fixture_Rx),MIN(R145*Incent_Cost_Fixture_Rx,(MAX(AE145,AK145))),0))","v":0},"FAIL","0","0","0",0,"N","0","0",null,"","",0,"",{"$f":"IF(RIGHT(I145,4)=\"Case\",W145,IF(AND(AL145=\"Y\",AF145<1),0,IF(OR(LEFT(D145,2)=\"T5\",LEFT(D145,3)=\"CFL\",'Analysis 103L'!AS145=\"Less\"),'Analysis 103L'!AR145,'Analysis 103L'!W145)))","v":""},null,0,0,null,{"$error":"#VALUE!"},{"$error":"#VALUE!"},{"$error":"#VALUE!"},null,null,{"$f":"IF(RIGHT(I145,4)=\"Case\",'LED Case Lighting'!$AY$1,IF(J145=\"\",\"\",VLOOKUP(J145,Lookups!$A$30:$J$172,VLOOKUP('100L Information'!$AI$46,Lookups!$J$3:$L$6,3,FALSE),FALSE)))","v":""},{"$error":"#N/A"},"","",{"$error":"#VALUE!"},{"$error":"#VALUE!"},{"$error":"#VALUE!"},{"$error":"#N/A"},0,{"$error":"#N/A"},0,{"$error":"#VALUE!"},{"$error":"#VALUE!"},{"$error":"#VALUE!"},"FAIL",null,null,null,null,null,null,null,"Interior / Exterior",null,"",null,{"$f":"IF(RIGHT(I145,4)=\"Case\",(INDEX('LED Case Lighting'!$AZ$3:$AZ$36,MATCH('Analysis 103L'!$CK145,'LED Case Lighting'!$AS$3:$AS$36,0))),IF(CB145=0,0,IF(CB145=\"lamp\",((Q145/VLOOKUP(B145,Int_Ext,2,FALSE))*VLOOKUP(E145,NEB,16,FALSE)),IF(CB145=\"fixture\",((Q145/VLOOKUP(B145,Int_Ext,2,FALSE))*VLOOKUP(E145,NEB,14,FALSE)),\"\"))))","v":""},null,{"$f":"IF(RIGHT(I145,4)=\"Case\",INDEX('Equipment Type'!$V$4:$V$53, MATCH('Analysis 103L'!$K145, 'Equipment Type'!$A$4:$A$53, 0)), \"\")","v":""},"","","","","",{"$f":"IF(CK145=\"\", \"\", INDEX('LED Case Lighting'!$AR$3:$AR$36, MATCH('Analysis 103L'!CK145, 'LED Case Lighting'!$AS$3:$AS$36, 0)))","v":""},{"$f":"IF(CK145=\"\", \"\", INDEX('LED Case Lighting'!$AW$3:$AW$36, MATCH('Analysis 103L'!CK145, 'LED Case Lighting'!$AS$3:$AS$36, 0)))","v":""},{"$f":"IF(CK145=\"\", \"\", INDEX('LED Case Lighting'!$AX$3:$AX$36, MATCH('Analysis 103L'!CK145, 'LED Case Lighting'!$AS$3:$AS$36, 0)))","v":""},""]
[119,null,null,null,null,null,"",null,{"$f":"IF(K146=\"\",\"\",VLOOKUP(K146,'Equipment Type'!$A$1:$F$53,5,FALSE))","v":""},{"$f":"IF(K146=\"\",\"\",VLOOKUP(K146,'Equipment Type'!$A$1:$F$53,6,FALSE))","v":""},null,{"$f":"IF(K146=\"\",\"\",VLOOKUP(K146,'Equipment Type'!$A$1:$F$53,4,FALSE))","v":""},null,{"$f":"IF(K146=\"\",\"\",INDEX('Equipment Type'!$T$4:$T$53,MATCH('Analysis 103L'!K146,'Equipment Type'!$A$4:$A$53,0)))","v":""},"",null,{"$f":"IF(RIGHT(I146, 4)=\"Case\", \"\", IF(P146=\"\",\"\",(IF(ISNUMBER(SEARCH(\"exit\",J146)),8760,IF(B146=\"Exterior\",4380,'Analysis 103L'!$J$3)))))","v":""},null,"","","","","","","","",{"$f":"IF('100L Information'!$Z$5=\"Yes\",0,IF('100L Information'!$Z$4=\"Yes\",(MIN($Y$232-(-$Y$227),6000)*0.5)*(Y146/$Y$232),$Y$232*(Y146/($Y$230+$Y$231))))","v":{"$error":"#VALUE!"}},"",{"$error":"#VALUE!"},"No requirement",0,{"$f":"IF(OR(Z146=\"Does not meet requirement\",AND('100L Information'!$AA$21=\"No\",AL146=\"Y\"),AND('100L Information'!$AS$21=FALSE,AL146=\"Y\")),0,IF(ISNUMBER(R146*Incent_Cost_Fixture_Rx),MIN(R146*Incent_Cost_Fixture_Rx,(MAX(AE146,AK146))),0))","v":0},"FAIL","0","0","0",0,"N","0","0",null,"","",0,"",{"$f":"IF(RIGHT(I146,4)=\"Case\",W146,IF(AND(AL146=\"Y\",AF146<1),0,IF(OR(LEFT(D146,2)=\"T5\",LEFT(D146,3)=\"CFL\",'Analysis 103L'!AS146=\"Less\"),'Analysis 103L'!AR146,'Analysis 103L'!W146)))","v":""},null,0,0,null,{"$error":"#VALUE!"},{"$error":"#VALUE!"},{"$error":"#VALUE!"},null,null,{"$f":"IF(RIGHT(I146,4)=\"Case\",'LED Case Lighting'!$AY$1,IF(J146=\"\",\"\",VLOOKUP(J146,Lookups!$A$30:$J$172,VLOOKUP('100L Information'!$AI$46,Lookups!$J$3:$L$6,3,FALSE),FALSE)))","v":""},{"$error":"#N/A"},"","",{"$error":"#VALUE!"},{"$error":"#VALUE!"},{"$error":"#VALUE!"},{"$error":"#N/A"},0,{"$error":"#N/A"},0,{"$error":"#VALUE!"},{"$error":"#VALUE!"},{"$error":"#VALUE!"},"FAIL",null,null,null,null,null,null,null,"Interior / Exterior",null,"",null,{"$f":"IF(RIGHT(I146,4)=\"Case\",(INDEX('LED Case Lighting'!$AZ$3:$AZ$36,MATCH('Analysis 103L'!$CK146,'LED Case Lighting'!$AS$3:$AS$36,0))),IF(CB146=0,0,IF(CB146=\"lamp\",((Q146/VLOOKUP(B146,Int_Ext,2,FALSE))*VLOOKUP(E146,NEB,16,FALSE)),IF(CB146=\"fixture\",((Q146/VLOOKUP(B146,Int_Ext,2,FALSE))*VLOOKUP(E146,NEB,14,FALSE)),\"\"))))","v":""},null,{"$f":"IF(RIGHT(I146,4)=\"Case\",INDEX('Equipment Type'!$V$4:$V$53, MATCH('Analysis 103L'!$K146, 'Equipment Type'!$A$4:$A$53, 0)), \"\")","v":""},"","","","","",{"$f":"IF(CK146=\"\", \"\", INDEX('LED Case Lighting'!$AR$3:$AR$36, MATCH('Analysis 103L'!CK146, 'LED Case Lighting'!$AS$3:$AS$36, 0)))","v":""},{"$f":"IF(CK146=\"\", \"\", INDEX('LED Case Lighting'!$AW$3:$AW$36, MATCH('Analysis 103L'!CK146, 'LED Case Lighting'!$AS$3:$AS$36, 0)))","v":""},{"$f":"IF(CK146=\"\", \"\", INDEX('LED Case Lighting'!$AX$3:$AX$36, MATCH('Analysis 103L'!CK146, 'LED Case Lighting'!$AS$3:$AS$36, 0)))","v":""},""]
[120,null,null,null,null,null,"",null,{"$f":"IF(K147=\"\",\"\",VLOOKUP(K147,'Equipment Type'!$A$1:$F$53,5,FALSE))","v":""},{"$f":"IF(K147=\"\",\"\",VLOOKUP(K147,'Equipment Type'!$A$1:$F$53,6,FALSE))","v":""},null,{"$f":"IF(K147=\"\",\"\",VLOOKUP(K147,'Equipment Type'!$A$1:$F$53,4,FALSE))","v":""},null,{"$f":"IF(K147=\"\",\"\",INDEX('Equipment Type'!$T$4:$T$53,MATCH('Analysis 103L'!K147,'Equipment Type'!$A$4:$A$53,0)))","v":""},"",null,{"$f":"IF(RIGHT(I147, 4)=\"Case\", \"\", IF(P147=\"\",\"\",(IF(ISNUMBER(SEARCH(\"exit\",J147)),8760,IF(B147=\"Exterior\",4380,'Analysis 103L'!$J$3)))))","v":""},null,"","","","","","","","",{"$f":"IF('100L Information'!$Z$5=\"Yes\",0,IF('100L Information'!$Z$4=\"Yes\",(MIN($Y$232-(-$Y$227),6000)*0.5)*(Y147/$Y$232),$Y$232*(Y147/($Y$230+$Y$231))))","v":{"$error":"#VALUE!"}},"",{"$error":"#VALUE!"},"No requirement",0,{"$f":"IF(OR(Z147=\"Does not meet requirement\",AND('100L Information'!$AA$21=\"No\",AL147=\"Y\"),AND('100L Information'!$AS$21=FALSE,AL147=\"Y\")),0,IF(ISNUMBER(R147*Incent_Cost_Fixture_Rx),MIN(R147*Incent_Cost_Fixture_Rx,(MAX(AE147,AK147))),0))","v":0},"FAIL","0","0","0",0,"N","0","0",null,"","",0,"",{"$f":"IF(RIGHT(I147,4)=\"Case\",W147,IF(AND(AL147=\"Y\",AF147<1),0,IF(OR(LEFT(D147,2)=\"T5\",LEFT(D147,3)=\"CFL\",'Analysis 103L'!AS147=\"Less\"),'Analysis 103L'!AR147,'Analysis 103L'!W147)))","v":""},null,0,0,null,{"$error":"#VALUE!"},{"$error":"#VALUE!"},{"$error":"#VALUE!"},null,null,{"$f":"IF(RIGHT(I147,4)=\"Case\",'LED Case Lighting'!$AY$1,IF(J147=\"\",\"\",VLOOKUP(J147,Lookups!$A$30:$J$172,VLOOKUP('100L Information'!$AI$46,Lookups!$J$3:$L$6,3,FALSE),FALSE)))","v":""},{"$error":"#N/A"},"","",{"$error":"#VALUE!"},{"$error":"#VALUE!"},{"$error":"#VALUE!"},{"$error":"#N/A"},0,{"$error":"#N/A"},0,{"$error":"#VALUE!"},{"$error":"#VALUE!"},{"$error":"#VALUE!"},"FAIL",null,null,null,null,null,null,null,"Interior / Exterior",null,"",null,{"$f":"IF(RIGHT(I147,4)=\"Case\",(INDEX('LED Case Lighting'!$AZ$3:$AZ$36,MATCH('Analysis 103L'!$CK147,'LED Case Lighting'!$AS$3:$AS$36,0))),IF(CB147=0,0,IF(CB147=\"lamp\",((Q147/VLOOKUP(B147,Int_Ext,2,FALSE))*VLOOKUP(E147,NEB,16,FALSE)),IF(CB147=\"fixture\",((Q147/VLOOKUP(B147,Int_Ext,2,FALSE))*VLOOKUP(E147,NEB,14,FALSE)),\"\"))))","v":""},null,{"$f":"IF(RIGHT(I147,4)=\"Case\",INDEX('Equipment Type'!$V$4:$V$53, MATCH('Analysis 103L'!$K147, 'Equipment Type'!$A$4:$A$53, 0)), \"\")","v":""},"","","","","",{"$f":"IF(CK147=\"\", \"\", INDEX('LED Case Lighting'!$AR$3:$AR$36, MATCH('Analysis 103L'!CK147, 'LED Case Lighting'!$AS$3:$AS$36, 0)))","v":""},{"$f":"IF(CK147=\"\", \"\", INDEX('LED Case Lighting'!$AW$3:$AW$36, MATCH('Analysis 103L'!CK147, 'LED Case Lighting'!$AS$3:$AS$36, 0)))","v":""},{"$f":"IF(CK147=\"\", \"\", INDEX('LED Case Lighting'!$AX$3:$AX$36, MATCH('Analysis 103L'!CK147, 'LED Case Lighting'!$AS$3:$AS$36, 0)))","v":""},""]
[121,null,null,null,null,null,"",null,{"$f":"IF(K148=\"\",\"\",VLOOKUP(K148,'Equipment Type'!$A$1:$F$53,5,FALSE))","v":""},{"$f":"IF(K148=\"\",\"\",VLOOKUP(K148,'Equipment Type'!$A$1:$F$53,6,FALSE))","v":""},null,{"$f":"IF(K148=\"\",\"\",VLOOKUP(K148,'Equipment Type'!$A$1:$F$53,4,FALSE))","v":""},null,{"$f":"IF(K148=\"\",\"\",INDEX('Equipment Type'!$T$4:$T$53,MATCH('Analysis 103L'!K148,'Equipment Type'!$A$4:$A$53,0)))","v":""},"",null,{"$f":"IF(RIGHT(I148, 4)=\"Case\", \"\", IF(P148=\"\",\"\",(IF(ISNUMBER(SEARCH(\"exit\",J148)),8760,IF(B148=\"Exterior\",4380,'Analysis 103L'!$J$3)))))","v":""},null,"","","","","","","","",{"$f":"IF('100L Information'!$Z$5=\"Yes\",0,IF('100L Information'!$Z$4=\"Yes\",(MIN($Y$232-(-$Y$227),6000)*0.5)*(Y148/$Y$232),$Y$232*(Y148/($Y$230+$Y$231))))","v":{"$error":"#VALUE!"}},"",{"$error":"#VALUE!"},"No requirement",0,{"$f":"IF(OR(Z148=\"Does not meet requirement\",AND('100L Information'!$AA$21=\"No\",AL148=\"Y\"),AND('100L Information'!$AS$21=FALSE,AL148=\"Y\")),0,IF(ISNUMBER(R148*Incent_Cost_Fixture_Rx),MIN(R148*Incent_Cost_Fixture_Rx,(MAX(AE148,AK148))),0))","v":0},"FAIL","0","0","0",0,"N","0","0",null,"","",0,"",{"$f":"IF(RIGHT(I148,4)=\"Case\",W148,IF(AND(AL148=\"Y\",AF148<1),0,IF(OR(LEFT(D148,2)=\"T5\",LEFT(D148,3)=\"CFL\",'Analysis 103L'!AS148=\"Less\"),'Analysis 103L'!AR148,'Analysis 103L'!W148)))","v":""},null,0,0,null,{"$error":"#VALUE!"},{"$error":"#VALUE!"},{"$error":"#VALUE!"},null,null,{"$f":"IF(RIGHT(I148,4)=\"Case\",'LED Case Lighting'!$AY$1,IF(J148=\"\",\"\",VLOOKUP(J148,Lookups!$A$30:$J$172,VLOOKUP('100L Information'!$AI$46,Lookups!$J$3:$L$6,3,FALSE),FALSE)))","v":""},{"$error":"#N/A"},"","",{"$error":"#VALUE!"},{"$error":"#VALUE!"},{"$error":"#VALUE!"},{"$error":"#N/A"},0,{"$error":"#N/A"},0,{"$error":"#VALUE!"},{"$error":"#VALUE!"},{"$error":"#VALUE!"},"FAIL",null,null,null,null,null,null,null,"Interior / Exterior",null,"",null,{"$f":"IF(RIGHT(I148,4)=\"Case\",(INDEX('LED Case Lighting'!$AZ$3:$AZ$36,MATCH('Analysis 103L'!$CK148,'LED Case Lighting'!$AS$3:$AS$36,0))),IF(CB148=0,0,IF(CB148=\"lamp\",((Q148/VLOOKUP(B148,Int_Ext,2,FALSE))*VLOOKUP(E148,NEB,16,FALSE)),IF(CB148=\"fixture\",((Q148/VLOOKUP(B148,Int_Ext,2,FALSE))*VLOOKUP(E148,NEB,14,FALSE)),\"\"))))","v":""},null,{"$f":"IF(RIGHT(I148,4)=\"Case\",INDEX('Equipment Type'!$V$4:$V$53, MATCH('Analysis 103L'!$K148, 'Equipment Type'!$A$4:$A$53, 0)), \"\")","v":""},"","","","","",{"$f":"IF(CK148=\"\", \"\", INDEX('LED Case Lighting'!$AR$3:$AR$36, MATCH('Analysis 103L'!CK148, 'LED Case Lighting'!$AS$3:$AS$36, 0)))","v":""},{"$f":"IF(CK148=\"\", \"\", INDEX('LED Case Lighting'!$AW$3:$AW$36, MATCH('Analysis 103L'!CK148, 'LED Case Lighting'!$AS$3:$AS$36, 0)))","v":""},{"$f":"IF(CK148=\"\", \"\", INDEX('LED Case Lighting'!$AX$3:$AX$36, MATCH('Analysis 103L'!CK148, 'LED Case Lighting'!$AS$3:$AS$36, 0)))","v":""},""]
[122,null,null,null,null,null,"",null,{"$f":"IF(K149=\"\",\"\",VLOOKUP(K149,'Equipment Type'!$A$1:$F$53,5,FALSE))","v":""},{"$f":"IF(K149=\"\",\"\",VLOOKUP(K149,'Equipment Type'!$A$1:$F$53,6,FALSE))","v":""},null,{"$f":"IF(K149=\"\",\"\",VLOOKUP(K149,'Equipment Type'!$A$1:$F$53,4,FALSE))","v":""},null,{"$f":"IF(K149=\"\",\"\",INDEX('Equipment Type'!$T$4:$T$53,MATCH('Analysis 103L'!K149,'Equipment Type'!$A$4:$A$53,0)))","v":""},"",null,{"$f":"IF(RIGHT(I149, 4)=\"Case\", \"\", IF(P149=\"\",\"\",(IF(ISNUMBER(SEARCH(\"exit\",J149)),8760,IF(B149=\"Exterior\",4380,'Analysis 103L'!$J$3)))))","v":""},null,"","","","","","","","",{"$f":"IF('100L Information'!$Z$5=\"Yes\",0,IF('100L Information'!$Z$4=\"Yes\",(MIN($Y$232-(-$Y$227),6000)*0.5)*(Y149/$Y$232),$Y$232*(Y149/($Y$230+$Y$231))))","v":{"$error":"#VALUE!"}},"",{"$error":"#VALUE!"},"No requirement",0,{"$f":"IF(OR(Z149=\"Does not meet requirement\",AND('100L Information'!$AA$21=\"No\",AL149=\"Y\"),AND('100L Information'!$AS$21=FALSE,AL149=\"Y\")),0,IF(ISNUMBER(R149*Incent_Cost_Fixture_Rx),MIN(R149*Incent_Cost_Fixture_Rx,(MAX(AE149,AK149))),0))","v":0},"FAIL","0","0","0",0,"N","0","0",null,"","",0,"",{"$f":"IF(RIGHT(I149,4)=\"Case\",W149,IF(AND(AL149=\"Y\",AF149<1),0,IF(OR(LEFT(D149,2)=\"T5\",LEFT(D149,3)=\"CFL\",'Analysis 103L'!AS149=\"Less\"),'Analysis 103L'!AR149,'Analysis 103L'!W149)))","v":""},null,0,0,null,{"$error":"#VALUE!"},{"$error":"#VALUE!"},{"$error":"#VALUE!"},null,null,{"$f":"IF(RIGHT(I149,4)=\"Case\",'LED Case Lighting'!$AY$1,IF(J149=\"\",\"\",VLOOKUP(J149,Lookups!$A$30:$J$172,VLOOKUP('100L Information'!$AI$46,Lookups!$J$3:$L$6,3,FALSE),FALSE)))","v":""},{"$error":"#N/A"},"","",{"$error":"#VALUE!"},{"$error":"#VALUE!"},{"$error":"#VALUE!"},{"$error":"#N/A"},0,{"$error":"#N/A"},0,{"$error":"#VALUE!"},{"$error":"#VALUE!"},{"$error":"#VALUE!"},"FAIL",null,null,null,null,null,null,null,"Interior / Exterior",null,"",null,{"$f":"IF(RIGHT(I149,4)=\"Case\",(INDEX('LED Case Lighting'!$AZ$3:$AZ$36,MATCH('Analysis 103L'!$CK149,'LED Case Lighting'!$AS$3:$AS$36,0))),IF(CB149=0,0,IF(CB149=\"lamp\",((Q149/VLOOKUP(B149,Int_Ext,2,FALSE))*VLOOKUP(E149,NEB,16,FALSE)),IF(CB149=\"fixture\",((Q149/VLOOKUP(B149,Int_Ext,2,FALSE))*VLOOKUP(E149,NEB,14,FALSE)),\"\"))))","v":""},null,{"$f":"IF(RIGHT(I149,4)=\"Case\",INDEX('Equipment Type'!$V$4:$V$53, MATCH('Analysis 103L'!$K149, 'Equipment Type'!$A$4:$A$53, 0)), \"\")","v":""},"","","","","",{"$f":"IF(CK149=\"\", \"\", INDEX('LED Case Lighting'!$AR$3:$AR$36, MATCH('Analysis 103L'!CK149, 'LED Case Lighting'!$AS$3:$AS$36, 0)))","v":""},{"$f":"IF(CK149=\"\", \"\", INDEX('LED Case Lighting'!$AW$3:$AW$36, MATCH('Analysis 103L'!CK149, 'LED Case Lighting'!$AS$3:$AS$36, 0)))","v":""},{"$f":"IF(CK149=\"\", \"\", INDEX('LED Case Lighting'!$AX$3:$AX$36, MATCH('Analysis 103L'!CK149, 'LED Case Lighting'!$AS$3:$AS$36, 0)))","v":""},""]
[123,null,null,null,null,null,"",null,{"$f":"IF(K150=\"\",\"\",VLOOKUP(K150,'Equipment Type'!$A$1:$F$53,5,FALSE))","v":""},{"$f":"IF(K150=\"\",\"\",VLOOKUP(K150,'Equipment Type'!$A$1:$F$53,6,FALSE))","v":""},null,{"$f":"IF(K150=\"\",\"\",VLOOKUP(K150,'Equipment Type'!$A$1:$F$53,4,FALSE))","v":""},null,{"$f":"IF(K150=\"\",\"\",INDEX('Equipment Type'!$T$4:$T$53,MATCH('Analysis 103L'!K150,'Equipment Type'!$A$4:$A$53,0)))","v":""},"",null,{"$f":"IF(RIGHT(I150, 4)=\"Case\", \"\", IF(P150=\"\",\"\",(IF(ISNUMBER(SEARCH(\"exit\",J150)),8760,IF(B150=\"Exterior\",4380,'Analysis 103L'!$J$3)))))","v":""},null,"","","","","","","","",{"$f":"IF('100L Information'!$Z$5=\"Yes\",0,IF('100L Information'!$Z$4=\"Yes\",(MIN($Y$232-(-$Y$227),6000)*0.5)*(Y150/$Y$232),$Y$232*(Y150/($Y$230+$Y$231))))","v":{"$error":"#VALUE!"}},"",{"$error":"#VALUE!"},"No requirement",0,{"$f":"IF(OR(Z150=\"Does not meet requirement\",AND('100L Information'!$AA$21=\"No\",AL150=\"Y\"),AND('100L Information'!$AS$21=FALSE,AL150=\"Y\")),0,IF(ISNUMBER(R150*Incent_Cost_Fixture_Rx),MIN(R150*Incent_Cost_Fixture_Rx,(MAX(AE150,AK150))),0))","v":0},"FAIL","0","0","0",0,"N","0","0",null,"","",0,"",{"$f":"IF(RIGHT(I150,4)=\"Case\",W150,IF(AND(AL150=\"Y\",AF150<1),0,IF(OR(LEFT(D150,2)=\"T5\",LEFT(D150,3)=\"CFL\",'Analysis 103L'!AS150=\"Less\"),'Analysis 103L'!AR150,'Analysis 103L'!W150)))","v":""},null,0,0,null,{"$error":"#VALUE!"},{"$error":"#VALUE!"},{"$error":"#VALUE!"},null,null,{"$f":"IF(RIGHT(I150,4)=\"Case\",'LED Case Lighting'!$AY$1,IF(J150=\"\",\"\",VLOOKUP(J150,Lookups!$A$30:$J$172,VLOOKUP('100L Information'!$AI$46,Lookups!$J$3:$L$6,3,FALSE),FALSE)))","v":""},{"$error":"#N/A"},"","",{"$error":"#VALUE!"},{"$error":"#VALUE!"},{"$error":"#VALUE!"},{"$error":"#N/A"},0,{"$error":"#N/A"},0,{"$error":"#VALUE!"},{"$error":"#VALUE!"},{"$error":"#VALUE!"},"FAIL",null,null,null,null,null,null,null,"Interior / Exterior",null,"",null,{"$f":"IF(RIGHT(I150,4)=\"Case\",(INDEX('LED Case Lighting'!$AZ$3:$AZ$36,MATCH('Analysis 103L'!$CK150,'LED Case Lighting'!$AS$3:$AS$36,0))),IF(CB150=0,0,IF(CB150=\"lamp\",((Q150/VLOOKUP(B150,Int_Ext,2,FALSE))*VLOOKUP(E150,NEB,16,FALSE)),IF(CB150=\"fixture\",((Q150/VLOOKUP(B150,Int_Ext,2,FALSE))*VLOOKUP(E150,NEB,14,FALSE)),\"\"))))","v":""},null,{"$f":"IF(RIGHT(I150,4)=\"Case\",INDEX('Equipment Type'!$V$4:$V$53, MATCH('Analysis 103L'!$K150, 'Equipment Type'!$A$4:$A$53, 0)), \"\")","v":""},"","","","","",{"$f":"IF(CK150=\"\", \"\", INDEX('LED Case Lighting'!$AR$3:$AR$36, MATCH('Analysis 103L'!CK150, 'LED Case Lighting'!$AS$3:$AS$36, 0)))","v":""},{"$f":"IF(CK150=\"\", \"\", INDEX('LED Case Lighting'!$AW$3:$AW$36, MATCH('Analysis 103L'!CK150, 'LED Case Lighting'!$AS$3:$AS$36, 0)))","v":""},{"$f":"IF(CK150=\"\", \"\", INDEX('LED Case Lighting'!$AX$3:$AX$36, MATCH('Analysis 103L'!CK150, 'LED Case Lighting'!$AS$3:$AS$36, 0)))","v":""},""]
[124,null,null,null,null,null,"",null,{"$f":"IF(K151=\"\",\"\",VLOOKUP(K151,'Equipment Type'!$A$1:$F$53,5,FALSE))","v":""},{"$f":"IF(K151=\"\",\"\",VLOOKUP(K151,'Equipment Type'!$A$1:$F$53,6,FALSE))","v":""},null,{"$f":"IF(K151=\"\",\"\",VLOOKUP(K151,'Equipment Type'!$A$1:$F$53,4,FALSE))","v":""},null,{"$f":"IF(K151=\"\",\"\",INDEX('Equipment Type'!$T$4:$T$53,MATCH('Analysis 103L'!K151,'Equipment Type'!$A$4:$A$53,0)))","v":""},"",null,{"$f":"IF(RIGHT(I151, 4)=\"Case\", \"\", IF(P151=\"\",\"\",(IF(ISNUMBER(SEARCH(\"exit\",J151)),8760,IF(B151=\"Exterior\",4380,'Analysis 103L'!$J$3)))))","v":""},null,"","","","","","","","",{"$f":"IF('100L Information'!$Z$5=\"Yes\",0,IF('100L Information'!$Z$4=\"Yes\",(MIN($Y$232-(-$Y$227),6000)*0.5)*(Y151/$Y$232),$Y$232*(Y151/($Y$230+$Y$231))))","v":{"$error":"#VALUE!"}},"",{"$error":"#VALUE!"},"No requirement",0,{"$f":"IF(OR(Z151=\"Does not meet requirement\",AND('100L Information'!$AA$21=\"No\",AL151=\"Y\"),AND('100L Information'!$AS$21=FALSE,AL151=\"Y\")),0,IF(ISNUMBER(R151*Incent_Cost_Fixture_Rx),MIN(R151*Incent_Cost_Fixture_Rx,(MAX(AE151,AK151))),0))","v":0},"FAIL","0","0","0",0,"N","0","0",null,"","",0,"",{"$f":"IF(RIGHT(I151,4)=\"Case\",W151,IF(AND(AL151=\"Y\",AF151<1),0,IF(OR(LEFT(D151,2)=\"T5\",LEFT(D151,3)=\"CFL\",'Analysis 103L'!AS151=\"Less\"),'Analysis 103L'!AR151,'Analysis 103L'!W151)))","v":""},null,0,0,null,{"$error":"#VALUE!"},{"$error":"#VALUE!"},{"$error":"#VALUE!"},null,null,{"$f":"IF(RIGHT(I151,4)=\"Case\",'LED Case Lighting'!$AY$1,IF(J151=\"\",\"\",VLOOKUP(J151,Lookups!$A$30:$J$172,VLOOKUP('100L Information'!$AI$46,Lookups!$J$3:$L$6,3,FALSE),FALSE)))","v":""},{"$error":"#N/A"},"","",{"$error":"#VALUE!"},{"$error":"#VALUE!"},{"$error":"#VALUE!"},{"$error":"#N/A"},0,{"$error":"#N/A"},0,{"$error":"#VALUE!"},{"$error":"#VALUE!"},{"$error":"#VALUE!"},"FAIL",null,null,null,null,null,null,null,"Interior / Exterior",null,"",null,{"$f":"IF(RIGHT(I151,4)=\"Case\",(INDEX('LED Case Lighting'!$AZ$3:$AZ$36,MATCH('Analysis 103L'!$CK151,'LED Case Lighting'!$AS$3:$AS$36,0))),IF(CB151=0,0,IF(CB151=\"lamp\",((Q151/VLOOKUP(B151,Int_Ext,2,FALSE))*VLOOKUP(E151,NEB,16,FALSE)),IF(CB151=\"fixture\",((Q151/VLOOKUP(B151,Int_Ext,2,FALSE))*VLOOKUP(E151,NEB,14,FALSE)),\"\"))))","v":""},null,{"$f":"IF(RIGHT(I151,4)=\"Case\",INDEX('Equipment Type'!$V$4:$V$53, MATCH('Analysis 103L'!$K151, 'Equipment Type'!$A$4:$A$53, 0)), \"\")","v":""},"","","","","",{"$f":"IF(CK151=\"\", \"\", INDEX('LED Case Lighting'!$AR$3:$AR$36, MATCH('Analysis 103L'!CK151, 'LED Case Lighting'!$AS$3:$AS$36, 0)))","v":""},{"$f":"IF(CK151=\"\", \"\", INDEX('LED Case Lighting'!$AW$3:$AW$36, MATCH('Analysis 103L'!CK151, 'LED Case Lighting'!$AS$3:$AS$36, 0)))","v":""},{"$f":"IF(CK151=\"\", \"\", INDEX('LED Case Lighting'!$AX$3:$AX$36, MATCH('Analysis 103L'!CK151, 'LED Case Lighting'!$AS$3:$AS$36, 0)))","v":""},""]
[125,null,null,null,null,null,"",null,{"$f":"IF(K152=\"\",\"\",VLOOKUP(K152,'Equipment Type'!$A$1:$F$53,5,FALSE))","v":""},{"$f":"IF(K152=\"\",\"\",VLOOKUP(K152,'Equipment Type'!$A$1:$F$53,6,FALSE))","v":""},null,{"$f":"IF(K152=\"\",\"\",VLOOKUP(K152,'Equipment Type'!$A$1:$F$53,4,FALSE))","v":""},null,{"$f":"IF(K152=\"\",\"\",INDEX('Equipment Type'!$T$4:$T$53,MATCH('Analysis 103L'!K152,'Equipment Type'!$A$4:$A$53,0)))","v":""},"",null,{"$f":"IF(RIGHT(I152, 4)=\"Case\", \"\", IF(P152=\"\",\"\",(IF(ISNUMBER(SEARCH(\"exit\",J152)),8760,IF(B152=\"Exterior\",4380,'Analysis 103L'!$J$3)))))","v":""},null,"","","","","","","","",{"$f":"IF('100L Information'!$Z$5=\"Yes\",0,IF('100L Information'!$Z$4=\"Yes\",(MIN($Y$232-(-$Y$227),6000)*0.5)*(Y152/$Y$232),$Y$232*(Y152/($Y$230+$Y$231))))","v":{"$error":"#VALUE!"}},"",{"$error":"#VALUE!"},"No requirement",0,{"$f":"IF(OR(Z152=\"Does not meet requirement\",AND('100L Information'!$AA$21=\"No\",AL152=\"Y\"),AND('100L Information'!$AS$21=FALSE,AL152=\"Y\")),0,IF(ISNUMBER(R152*Incent_Cost_Fixture_Rx),MIN(R152*Incent_Cost_Fixture_Rx,(MAX(AE152,AK152))),0))","v":0},"FAIL","0","0","0",0,"N","0","0",null,"","",0,"",{"$f":"IF(RIGHT(I152,4)=\"Case\",W152,IF(AND(AL152=\"Y\",AF152<1),0,IF(OR(LEFT(D152,2)=\"T5\",LEFT(D152,3)=\"CFL\",'Analysis 103L'!AS152=\"Less\"),'Analysis 103L'!AR152,'Analysis 103L'!W152)))","v":""},null,0,0,null,{"$error":"#VALUE!"},{"$error":"#VALUE!"},{"$error":"#VALUE!"},null,null,{"$f":"IF(RIGHT(I152,4)=\"Case\",'LED Case Lighting'!$AY$1,IF(J152=\"\",\"\",VLOOKUP(J152,Lookups!$A$30:$J$172,VLOOKUP('100L Information'!$AI$46,Lookups!$J$3:$L$6,3,FALSE),FALSE)))","v":""},{"$error":"#N/A"},"","",{"$error":"#VALUE!"},{"$error":"#VALUE!"},{"$error":"#VALUE!"},{"$error":"#N/A"},0,{"$error":"#N/A"},0,{"$error":"#VALUE!"},{"$error":"#VALUE!"},{"$error":"#VALUE!"},"FAIL",null,null,null,null,null,null,null,"Interior / Exterior",null,"",null,{"$f":"IF(RIGHT(I152,4)=\"Case\",(INDEX('LED Case Lighting'!$AZ$3:$AZ$36,MATCH('Analysis 103L'!$CK152,'LED Case Lighting'!$AS$3:$AS$36,0))),IF(CB152=0,0,IF(CB152=\"lamp\",((Q152/VLOOKUP(B152,Int_Ext,2,FALSE))*VLOOKUP(E152,NEB,16,FALSE)),IF(CB152=\"fixture\",((Q152/VLOOKUP(B152,Int_Ext,2,FALSE))*VLOOKUP(E152,NEB,14,FALSE)),\"\"))))","v":""},null,{"$f":"IF(RIGHT(I152,4)=\"Case\",INDEX('Equipment Type'!$V$4:$V$53, MATCH('Analysis 103L'!$K152, 'Equipment Type'!$A$4:$A$53, 0)), \"\")","v":""},"","","","","",{"$f":"IF(CK152=\"\", \"\", INDEX('LED Case Lighting'!$AR$3:$AR$36, MATCH('Analysis 103L'!CK152, 'LED Case Lighting'!$AS$3:$AS$36, 0)))","v":""},{"$f":"IF(CK152=\"\", \"\", INDEX('LED Case Lighting'!$AW$3:$AW$36, MATCH('Analysis 103L'!CK152, 'LED Case Lighting'!$AS$3:$AS$36, 0)))","v":""},{"$f":"IF(CK152=\"\", \"\", INDEX('LED Case Lighting'!$AX$3:$AX$36, MATCH('Analysis 103L'!CK152, 'LED Case Lighting'!$AS$3:$AS$36, 0)))","v":""},""]
[126,null,null,null,null,null,"",null,{"$f":"IF(K153=\"\",\"\",VLOOKUP(K153,'Equipment Type'!$A$1:$F$53,5,FALSE))","v":""},{"$f":"IF(K153=\"\",\"\",VLOOKUP(K153,'Equipment Type'!$A$1:$F$53,6,FALSE))","v":""},null,{"$f":"IF(K153=\"\",\"\",VLOOKUP(K153,'Equipment Type'!$A$1:$F$53,4,FALSE))","v":""},null,{"$f":"IF(K153=\"\",\"\",INDEX('Equipment Type'!$T$4:$T$53,MATCH('Analysis 103L'!K153,'Equipment Type'!$A$4:$A$53,0)))","v":""},"",null,{"$f":"IF(RIGHT(I153, 4)=\"Case\", \"\", IF(P153=\"\",\"\",(IF(ISNUMBER(SEARCH(\"exit\",J153)),8760,IF(B153=\"Exterior\",4380,'Analysis 103L'!$J$3)))))","v":""},null,"","","","","","","","",{"$f":"IF('100L Information'!$Z$5=\"Yes\",0,IF('100L Information'!$Z$4=\"Yes\",(MIN($Y$232-(-$Y$227),6000)*0.5)*(Y153/$Y$232),$Y$232*(Y153/($Y$230+$Y$231))))","v":{"$error":"#VALUE!"}},"",{"$error":"#VALUE!"},"No requirement",0,{"$f":"IF(OR(Z153=\"Does not meet requirement\",AND('100L Information'!$AA$21=\"No\",AL153=\"Y\"),AND('100L Information'!$AS$21=FALSE,AL153=\"Y\")),0,IF(ISNUMBER(R153*Incent_Cost_Fixture_Rx),MIN(R153*Incent_Cost_Fixture_Rx,(MAX(AE153,AK153))),0))","v":0},"FAIL","0","0","0",0,"N","0","0",null,"","",0,"",{"$f":"IF(RIGHT(I153,4)=\"Case\",W153,IF(AND(AL153=\"Y\",AF153<1),0,IF(OR(LEFT(D153,2)=\"T5\",LEFT(D153,3)=\"CFL\",'Analysis 103L'!AS153=\"Less\"),'Analysis 103L'!AR153,'Analysis 103L'!W153)))","v":""},null,0,0,null,{"$error":"#VALUE!"},{"$error":"#VALUE!"},{"$error":"#VALUE!"},null,null,{"$f":"IF(RIGHT(I153,4)=\"Case\",'LED Case Lighting'!$AY$1,IF(J153=\"\",\"\",VLOOKUP(J153,Lookups!$A$30:$J$172,VLOOKUP('100L Information'!$AI$46,Lookups!$J$3:$L$6,3,FALSE),FALSE)))","v":""},{"$error":"#N/A"},"","",{"$error":"#VALUE!"},{"$error":"#VALUE!"},{"$error":"#VALUE!"},{"$error":"#N/A"},0,{"$error":"#N/A"},0,{"$error":"#VALUE!"},{"$error":"#VALUE!"},{"$error":"#VALUE!"},"FAIL",null,null,null,null,null,null,null,"Interior / Exterior",null,"",null,{"$f":"IF(RIGHT(I153,4)=\"Case\",(INDEX('LED Case Lighting'!$AZ$3:$AZ$36,MATCH('Analysis 103L'!$CK153,'LED Case Lighting'!$AS$3:$AS$36,0))),IF(CB153=0,0,IF(CB153=\"lamp\",((Q153/VLOOKUP(B153,Int_Ext,2,FALSE))*VLOOKUP(E153,NEB,16,FALSE)),IF(CB153=\"fixture\",((Q153/VLOOKUP(B153,Int_Ext,2,FALSE))*VLOOKUP(E153,NEB,14,FALSE)),\"\"))))","v":""},null,{"$f":"IF(RIGHT(I153,4)=\"Case\",INDEX('Equipment Type'!$V$4:$V$53, MATCH('Analysis 103L'!$K153, 'Equipment Type'!$A$4:$A$53, 0)), \"\")","v":""},"","","","","",{"$f":"IF(CK153=\"\", \"\", INDEX('LED Case Lighting'!$AR$3:$AR$36, MATCH('Analysis 103L'!CK153, 'LED Case Lighting'!$AS$3:$AS$36, 0)))","v":""},{"$f":"IF(CK153=\"\", \"\", INDEX('LED Case Lighting'!$AW$3:$AW$36, MATCH('Analysis 103L'!CK153, 'LED Case Lighting'!$AS$3:$AS$36, 0)))","v":""},{"$f":"IF(CK153=\"\", \"\", INDEX('LED Case Lighting'!$AX$3:$AX$36, MATCH('Analysis 103L'!CK153, 'LED Case Lighting'!$AS$3:$AS$36, 0)))","v":""},""]
[127,null,null,null,null,null,"",null,{"$f":"IF(K154=\"\",\"\",VLOOKUP(K154,'Equipment Type'!$A$1:$F$53,5,FALSE))","v":""},{"$f":"IF(K154=\"\",\"\",VLOOKUP(K154,'Equipment Type'!$A$1:$F$53,6,FALSE))","v":""},null,{"$f":"IF(K154=\"\",\"\",VLOOKUP(K154,'Equipment Type'!$A$1:$F$53,4,FALSE))","v":""},null,{"$f":"IF(K154=\"\",\"\",INDEX('Equipment Type'!$T$4:$T$53,MATCH('Analysis 103L'!K154,'Equipment Type'!$A$4:$A$53,0)))","v":""},"",null,{"$f":"IF(RIGHT(I154, 4)=\"Case\", \"\", IF(P154=\"\",\"\",(IF(ISNUMBER(SEARCH(\"exit\",J154)),8760,IF(B154=\"Exterior\",4380,'Analysis 103L'!$J$3)))))","v":""},null,"","","","","","","","",{"$f":"IF('100L Information'!$Z$5=\"Yes\",0,IF('100L Information'!$Z$4=\"Yes\",(MIN($Y$232-(-$Y$227),6000)*0.5)*(Y154/$Y$232),$Y$232*(Y154/($Y$230+$Y$231))))","v":{"$error":"#VALUE!"}},"",{"$error":"#VALUE!"},"No requirement",0,{"$f":"IF(OR(Z154=\"Does not meet requirement\",AND('100L Information'!$AA$21=\"No\",AL154=\"Y\"),AND('100L Information'!$AS$21=FALSE,AL154=\"Y\")),0,IF(ISNUMBER(R154*Incent_Cost_Fixture_Rx),MIN(R154*Incent_Cost_Fixture_Rx,(MAX(AE154,AK154))),0))","v":0},"FAIL","0","0","0",0,"N","0","0",null,"","",0,"",{"$f":"IF(RIGHT(I154,4)=\"Case\",W154,IF(AND(AL154=\"Y\",AF154<1),0,IF(OR(LEFT(D154,2)=\"T5\",LEFT(D154,3)=\"CFL\",'Analysis 103L'!AS154=\"Less\"),'Analysis 103L'!AR154,'Analysis 103L'!W154)))","v":""},null,0,0,null,{"$error":"#VALUE!"},{"$error":"#VALUE!"},{"$error":"#VALUE!"},null,null,{"$f":"IF(RIGHT(I154,4)=\"Case\",'LED Case Lighting'!$AY$1,IF(J154=\"\",\"\",VLOOKUP(J154,Lookups!$A$30:$J$172,VLOOKUP('100L Information'!$AI$46,Lookups!$J$3:$L$6,3,FALSE),FALSE)))","v":""},{"$error":"#N/A"},"","",{"$error":"#VALUE!"},{"$error":"#VALUE!"},{"$error":"#VALUE!"},{"$error":"#N/A"},0,{"$error":"#N/A"},0,{"$error":"#VALUE!"},{"$error":"#VALUE!"},{"$error":"#VALUE!"},"FAIL",null,null,null,null,null,null,null,"Interior / Exterior",null,"",null,{"$f":"IF(RIGHT(I154,4)=\"Case\",(INDEX('LED Case Lighting'!$AZ$3:$AZ$36,MATCH('Analysis 103L'!$CK154,'LED Case Lighting'!$AS$3:$AS$36,0))),IF(CB154=0,0,IF(CB154=\"lamp\",((Q154/VLOOKUP(B154,Int_Ext,2,FALSE))*VLOOKUP(E154,NEB,16,FALSE)),IF(CB154=\"fixture\",((Q154/VLOOKUP(B154,Int_Ext,2,FALSE))*VLOOKUP(E154,NEB,14,FALSE)),\"\"))))","v":""},null,{"$f":"IF(RIGHT(I154,4)=\"Case\",INDEX('Equipment Type'!$V$4:$V$53, MATCH('Analysis 103L'!$K154, 'Equipment Type'!$A$4:$A$53, 0)), \"\")","v":""},"","","","","",{"$f":"IF(CK154=\"\", \"\", INDEX('LED Case Lighting'!$AR$3:$AR$36, MATCH('Analysis 103L'!CK154, 'LED Case Lighting'!$AS$3:$AS$36, 0)))","v":""},{"$f":"IF(CK154=\"\", \"\", INDEX('LED Case Lighting'!$AW$3:$AW$36, MATCH('Analysis 103L'!CK154, 'LED Case Lighting'!$AS$3:$AS$36, 0)))","v":""},{"$f":"IF(CK154=\"\", \"\", INDEX('LED Case Lighting'!$AX$3:$AX$36, MATCH('Analysis 103L'!CK154, 'LED Case Lighting'!$AS$3:$AS$36, 0)))","v":""},""]
[128,null,null,null,null,null,"",null,{"$f":"IF(K155=\"\",\"\",VLOOKUP(K155,'Equipment Type'!$A$1:$F$53,5,FALSE))","v":""},{"$f":"IF(K155=\"\",\"\",VLOOKUP(K155,'Equipment Type'!$A$1:$F$53,6,FALSE))","v":""},null,{"$f":"IF(K155=\"\",\"\",VLOOKUP(K155,'Equipment Type'!$A$1:$F$53,4,FALSE))","v":""},null,{"$f":"IF(K155=\"\",\"\",INDEX('Equipment Type'!$T$4:$T$53,MATCH('Analysis 103L'!K155,'Equipment Type'!$A$4:$A$53,0)))","v":""},"",null,{"$f":"IF(RIGHT(I155, 4)=\"Case\", \"\", IF(P155=\"\",\"\",(IF(ISNUMBER(SEARCH(\"exit\",J155)),8760,IF(B155=\"Exterior\",4380,'Analysis 103L'!$J$3)))))","v":""},null,"","","","","","","","",{"$f":"IF('100L Information'!$Z$5=\"Yes\",0,IF('100L Information'!$Z$4=\"Yes\",(MIN($Y$232-(-$Y$227),6000)*0.5)*(Y155/$Y$232),$Y$232*(Y155/($Y$230+$Y$231))))","v":{"$error":"#VALUE!"}},"",{"$error":"#VALUE!"},"No requirement",0,{"$f":"IF(OR(Z155=\"Does not meet requirement\",AND('100L Information'!$AA$21=\"No\",AL155=\"Y\"),AND('100L Information'!$AS$21=FALSE,AL155=\"Y\")),0,IF(ISNUMBER(R155*Incent_Cost_Fixture_Rx),MIN(R155*Incent_Cost_Fixture_Rx,(MAX(AE155,AK155))),0))","v":0},"FAIL","0","0","0",0,"N","0","0",null,"","",0,"",{"$f":"IF(RIGHT(I155,4)=\"Case\",W155,IF(AND(AL155=\"Y\",AF155<1),0,IF(OR(LEFT(D155,2)=\"T5\",LEFT(D155,3)=\"CFL\",'Analysis 103L'!AS155=\"Less\"),'Analysis 103L'!AR155,'Analysis 103L'!W155)))","v":""},null,0,0,null,{"$error":"#VALUE!"},{"$error":"#VALUE!"},{"$error":"#VALUE!"},null,null,{"$f":"IF(RIGHT(I155,4)=\"Case\",'LED Case Lighting'!$AY$1,IF(J155=\"\",\"\",VLOOKUP(J155,Lookups!$A$30:$J$172,VLOOKUP('100L Information'!$AI$46,Lookups!$J$3:$L$6,3,FALSE),FALSE)))","v":""},{"$error":"#N/A"},"","",{"$error":"#VALUE!"},{"$error":"#VALUE!"},{"$error":"#VALUE!"},{"$error":"#N/A"},0,{"$error":"#N/A"},0,{"$error":"#VALUE!"},{"$error":"#VALUE!"},{"$error":"#VALUE!"},"FAIL",null,null,null,null,null,null,null,"Interior / Exterior",null,"",null,{"$f":"IF(RIGHT(I155,4)=\"Case\",(INDEX('LED Case Lighting'!$AZ$3:$AZ$36,MATCH('Analysis 103L'!$CK155,'LED Case Lighting'!$AS$3:$AS$36,0))),IF(CB155=0,0,IF(CB155=\"lamp\",((Q155/VLOOKUP(B155,Int_Ext,2,FALSE))*VLOOKUP(E155,NEB,16,FALSE)),IF(CB155=\"fixture\",((Q155/VLOOKUP(B155,Int_Ext,2,FALSE))*VLOOKUP(E155,NEB,14,FALSE)),\"\"))))","v":""},null,{"$f":"IF(RIGHT(I155,4)=\"Case\",INDEX('Equipment Type'!$V$4:$V$53, MATCH('Analysis 103L'!$K155, 'Equipment Type'!$A$4:$A$53, 0)), \"\")","v":""},"","","","","",{"$f":"IF(CK155=\"\", \"\", INDEX('LED Case Lighting'!$AR$3:$AR$36, MATCH('Analysis 103L'!CK155, 'LED Case Lighting'!$AS$3:$AS$36, 0)))","v":""},{"$f":"IF(CK155=\"\", \"\", INDEX('LED Case Lighting'!$AW$3:$AW$36, MATCH('Analysis 103L'!CK155, 'LED Case Lighting'!$AS$3:$AS$36, 0)))","v":""},{"$f":"IF(CK155=\"\", \"\", INDEX('LED Case Lighting'!$AX$3:$AX$36, MATCH('Analysis 103L'!CK155, 'LED Case Lighting'!$AS$3:$AS$36, 0)))","v":""},""]
[129,null,null,null,null,null,"",null,{"$f":"IF(K156=\"\",\"\",VLOOKUP(K156,'Equipment Type'!$A$1:$F$53,5,FALSE))","v":""},{"$f":"IF(K156=\"\",\"\",VLOOKUP(K156,'Equipment Type'!$A$1:$F$53,6,FALSE))","v":""},null,{"$f":"IF(K156=\"\",\"\",VLOOKUP(K156,'Equipment Type'!$A$1:$F$53,4,FALSE))","v":""},null,{"$f":"IF(K156=\"\",\"\",INDEX('Equipment Type'!$T$4:$T$53,MATCH('Analysis 103L'!K156,'Equipment Type'!$A$4:$A$53,0)))","v":""},"",null,{"$f":"IF(RIGHT(I156, 4)=\"Case\", \"\", IF(P156=\"\",\"\",(IF(ISNUMBER(SEARCH(\"exit\",J156)),8760,IF(B156=\"Exterior\",4380,'Analysis 103L'!$J$3)))))","v":""},null,"","","","","",{"$f":"IF(M156=\"Y\",\"CustomCalc\",IF(RIGHT(I156, 4)=\"Case\", \"\",IF(AD156=1,\"\",IF(AF156>0,AF156,\"\"))))","v":""},"",{"$f":"IF(M156 = \"Y\",IF(AND(M156=\"Y\",AG156=\"FAIL\"),\"Not Cost Effective\",\"\"),IF(AD156=1,\"Does not meet requirement\",\"\"))","v":""},{"$f":"IF('100L Information'!$Z$5=\"Yes\",0,IF('100L Information'!$Z$4=\"Yes\",(MIN($Y$232-(-$Y$227),6000)*0.5)*(Y156/$Y$232),$Y$232*(Y156/($Y$230+$Y$231))))","v":{"$error":"#VALUE!"}},"",{"$f":"IF(RIGHT(I156,4)=\"Case\",\"\",IF(I156=\"GROW\",MIN(W156*RunRateMax_CustomMeasures_Horti,P156*Cap_GROW_fixture,S156*Incent_Cost_Fixture_Cust),MIN(W156*IF(I156=\"Street_Lighting\",RunRateMax_Streetlighting,RunRateMax_CustomMeasures_fixtures),S156*Incent_Cost_Fixture_Cust)))","v":{"$error":"#VALUE!"}},"No requirement",0,{"$f":"IF(OR(Z156=\"Does not meet requirement\",AND('100L Information'!$AA$21=\"No\",AL156=\"Y\"),AND('100L Information'!$AS$21=FALSE,AL156=\"Y\")),0,IF(ISNUMBER(R156*Incent_Cost_Fixture_Rx),MIN(R156*Incent_Cost_Fixture_Rx,(MAX(AE156,AK156))),0))","v":0},{"$f":"IF(AND(M156=\"Y\",BR156=\"PASS/PASS\"),\"PASS/PASS\",\"FAIL\")","v":"FAIL"},"0","0","0",{"$f":"IF(AE156=0,MAX(IF(ISERROR(VLOOKUP(CONCATENATE(J156,\" from \",VLOOKUP(E156,ExistFixtCat,4,FALSE)),PropFixtIncent,2,FALSE)),0,VLOOKUP(CONCATENATE(J156,\" from \",VLOOKUP(E156,ExistFixtCat,4,FALSE)),PropFixtIncent,2,FALSE)),IF(ISERROR(VLOOKUP(CONCATENATE(J156,\" from ANY\"),PropFixtIncent,2,FALSE)),0,VLOOKUP(CONCATENATE(J156,\" from ANY\"),PropFixtIncent,2,FALSE))),0)","v":0},"N",{"$f":"IF(AG156=\"PASS/PASS\",W156,\"0\")","v":"0"},{"$f":"IF(AG156=\"PASS/PASS\",Y156,\"0\")","v":"0"},null,{"$f":"IF(AND($CB156=\"fixture\",OR($D156=\"CFL\",$D156=\"INCAN\")),VLOOKUP(E156,Incan_Lookup,7,FALSE)*$G156*H156+VLOOKUP(E156,Incan_Lookup,6,FALSE)*$N156*P156,IF(AND($CB156=\"lamp\",OR($D156=\"CFL\",$D156=\"INCAN\")),VLOOKUP(E156,Incan_Lookup,10,FALSE)*$G156*H156+VLOOKUP(E156,Incan_Lookup,9,FALSE)*$N156*P156,IF($D156=\"OTHER\",$G156*$H156,IF($CB156=\"lamp\",(VLOOKUP($E156,ExistFixtLookup,10,FALSE)*H156+VLOOKUP($E156,ExistFixtLookup,9,FALSE)*N156*P156),IF($CB156=\"fixture\",(VLOOKUP($E156,ExistFixtLookup,7,FALSE)*H156+VLOOKUP($E156,ExistFixtLookup,6,FALSE)*N156*P156),$G156)))))","v":""},"",0,"",{"$f":"IF(RIGHT(I156,4)=\"Case\",W156,IF(AND(AL156=\"Y\",AF156<1),0,IF(OR(LEFT(D156,2)=\"T5\",LEFT(D156,3)=\"CFL\",'Analysis 103L'!AS156=\"Less\"),'Analysis 103L'!AR156,'Analysis 103L'!W156)))","v":""},null,0,0,null,{"$error":"#VALUE!"},{"$error":"#VALUE!"},{"$error":"#VALUE!"},null,null,{"$f":"IF(RIGHT(I156,4)=\"Case\",'LED Case Lighting'!$AY$1,IF(J156=\"\",\"\",VLOOKUP(J156,Lookups!$A$30:$J$172,VLOOKUP('100L Information'!$AI$46,Lookups!$J$3:$L$6,3,FALSE),FALSE)))","v":""},{"$f":"IF(B156=\"Exterior\", INDEX($BW$28:$BW$48, $BX$229), IF(OR(BusType=\"Manufacturing\",BusType=\"Indoor Agriculture\",BusType=\"Ag/Dairy/Livestock\",BusType=\"Food/Beverage Production\",BusType=\"Industrial Fabrication\"), IF(Q156<3500, \"1-Shift Industrial\", IF(Q156<5500, \"2-Shift Industrial\", IF(Q156<8000, \"3-Shift Industrial\", \"Flat - ele\"))), INDEX($BV$28:$BV$48, $BX$229)))","v":{"$error":"#N/A"}},"","",{"$error":"#VALUE!"},{"$error":"#VALUE!"},{"$error":"#VALUE!"},{"$f":"VLOOKUP(E156,ExistFixtCat,3,FALSE)/(H156*IF(ISNUMBER(VALUE(MID(E156,5,1))),VALUE(MID(E156,5,1)),1)*Q156)","v":{"$error":"#N/A"}},{"$f":"IF(ISERROR(-PV(POWER(1+Discount_Rate,$BK156)-1,$BD156/$BK156,10+VLOOKUP($E156,ExistFixtCat,2,FALSE))),0,-PV(POWER(1+Discount_Rate,$BK156)-1,$BD156/$BK156,10+VLOOKUP($E156,ExistFixtCat,2,FALSE)))","v":0},{"$f":"VLOOKUP($J156,PropOpLife,3,FALSE)/($P156*IF(ISNUMBER(VALUE(MID($J156,5,1))),VALUE(MID($J156,5,1)),1)*$Q156)","v":{"$error":"#N/A"}},{"$f":"IF(OR(ISERROR(-PV(POWER(1+Discount_Rate,$BM156)-1,$BD156/$BM156,MIN(R156,10+0.5*VLOOKUP($J156,PropOpLife,2,FALSE)))),BL156=0),0,-PV(POWER(1+Discount_Rate,$BM156)-1,$BD156/$BM156,MIN(R156,10+0.5*VLOOKUP($J156,PropOpLife,2,FALSE))))","v":0},{"$error":"#VALUE!"},{"$error":"#VALUE!"},{"$error":"#VALUE!"},"FAIL",null,null,null,null,null,null,null,"Interior / Exterior",null,{"$f":"IF(I156=\"\",\"\",VLOOKUP(I156,FixVsLamp,2,FALSE))","v":""},null,{"$f":"IF(RIGHT(I156,4)=\"Case\",(INDEX('LED Case Lighting'!$AZ$3:$AZ$36,MATCH('Analysis 103L'!$CK156,'LED Case Lighting'!$AS$3:$AS$36,0))),IF(CB156=0,0,IF(CB156=\"lamp\",((Q156/VLOOKUP(B156,Int_Ext,2,FALSE))*VLOOKUP(E156,NEB,16,FALSE)),IF(CB156=\"fixture\",((Q156/VLOOKUP(B156,Int_Ext,2,FALSE))*VLOOKUP(E156,NEB,14,FALSE)),\"\"))))","v":""},null,{"$f":"IF(RIGHT(I156,4)=\"Case\",INDEX('Equipment Type'!$V$4:$V$53, MATCH('Analysis 103L'!$K156, 'Equipment Type'!$A$4:$A$53, 0)), \"\")","v":""},"","","","","",{"$f":"IF(CK156=\"\", \"\", INDEX('LED Case Lighting'!$AR$3:$AR$36, MATCH('Analysis 103L'!CK156, 'LED Case Lighting'!$AS$3:$AS$36, 0)))","v":""},{"$f":"IF(CK156=\"\", \"\", INDEX('LED Case Lighting'!$AW$3:$AW$36, MATCH('Analysis 103L'!CK156, 'LED Case Lighting'!$AS$3:$AS$36, 0)))","v":""},{"$f":"IF(CK156=\"\", \"\", INDEX('LED Case Lighting'!$AX$3:$AX$36, MATCH('Analysis 103L'!CK156, 'LED Case Lighting'!$AS$3:$AS$36, 0)))","v":""},""]
[130,null,null,null,null,null,"",null,{"$f":"IF(K157=\"\",\"\",VLOOKUP(K157,'Equipment Type'!$A$1:$F$53,5,FALSE))","v":""},{"$f":"IF(K157=\"\",\"\",VLOOKUP(K157,'Equipment Type'!$A$1:$F$53,6,FALSE))","v":""},null,{"$f":"IF(K157=\"\",\"\",VLOOKUP(K157,'Equipment Type'!$A$1:$F$53,4,FALSE))","v":""},null,{"$f":"IF(K157=\"\",\"\",INDEX('Equipment Type'!$T$4:$T$53,MATCH('Analysis 103L'!K157,'Equipment Type'!$A$4:$A$53,0)))","v":""},"",null,{"$f":"IF(RIGHT(I157, 4)=\"Case\", \"\", IF(P157=\"\",\"\",(IF(ISNUMBER(SEARCH(\"exit\",J157)),8760,IF(B157=\"Exterior\",4380,'Analysis 103L'!$J$3)))))","v":""},null,"","","","","","","","",{"$f":"IF('100L Information'!$Z$5=\"Yes\",0,IF('100L Information'!$Z$4=\"Yes\",(MIN($Y$232-(-$Y$227),6000)*0.5)*(Y157/$Y$232),$Y$232*(Y157/($Y$230+$Y$231))))","v":{"$error":"#VALUE!"}},"",{"$error":"#VALUE!"},{"$f":"IF(OR(I157=\"TLED\",I157=\"Relamp\",I157=\"LED_High_Bay\",I157=\"LED_Lamps\",I157=\"LED_Exterior_Fixtures\",I157=\"Street_Lighting\",I157=\"LLLC\"),IF(((U157-V157)/U157)>=0.4,0,1),IF(LEFT(J157,3)=\"HID\",IF(((U157-V157)/U157)>=0.5,0,1),IF(I157=\"LED_Interior_Fixtures\",IF(((U157-V157)/U157)>=0.45,0,1),\"No requirement\")))","v":"No requirement"},0,{"$f":"IF(OR(Z157=\"Does not meet requirement\",AND('100L Information'!$AA$21=\"No\",AL157=\"Y\"),AND('100L Information'!$AS$21=FALSE,AL157=\"Y\")),0,IF(ISNUMBER(R157*Incent_Cost_Fixture_Rx),MIN(R157*Incent_Cost_Fixture_Rx,(MAX(AE157,AK157))),0))","v":0},"FAIL","0","0","0",0,{"$f":"IF(ISNUMBER(VLOOKUP(J157,PublicSector,13,FALSE)),\"Y\",\"N\")","v":"N"},"0","0",null,"",{"$f":"IF(ISNUMBER((AP157-N157*P157)*Q157/1000),(AP157-N157*P157)*Q157/1000,W157)","v":""},0,{"$f":"IF(ISNUMBER(AP157),IF(AP157>G157*H157,\"Greater\",\"Less\"),\"\")","v":""},{"$f":"IF(RIGHT(I157,4)=\"Case\",W157,IF(AND(AL157=\"Y\",AF157<1),0,IF(OR(LEFT(D157,2)=\"T5\",LEFT(D157,3)=\"CFL\",'Analysis 103L'!AS157=\"Less\"),'Analysis 103L'!AR157,'Analysis 103L'!W157)))","v":""},null,0,0,null,{"$error":"#VALUE!"},{"$error":"#VALUE!"},{"$error":"#VALUE!"},null,null,{"$f":"IF(RIGHT(I157,4)=\"Case\",'LED Case Lighting'!$AY$1,IF(J157=\"\",\"\",VLOOKUP(J157,Lookups!$A$30:$J$172,VLOOKUP('100L Information'!$AI$46,Lookups!$J$3:$L$6,3,FALSE),FALSE)))","v":""},{"$error":"#N/A"},"","",{"$error":"#VALUE!"},{"$error":"#VALUE!"},{"$error":"#VALUE!"},{"$error":"#N/A"},0,{"$error":"#N/A"},0,{"$error":"#VALUE!"},{"$error":"#VALUE!"},{"$error":"#VALUE!"},"FAIL",null,null,null,null,null,null,null,"Interior / Exterior",null,"",null,{"$f":"IF(RIGHT(I157,4)=\"Case\",(INDEX('LED Case Lighting'!$AZ$3:$AZ$36,MATCH('Analysis 103L'!$CK157,'LED Case Lighting'!$AS$3:$AS$36,0))),IF(CB157=0,0,IF(CB157=\"lamp\",((Q157/VLOOKUP(B157,Int_Ext,2,FALSE))*VLOOKUP(E157,NEB,16,FALSE)),IF(CB157=\"fixture\",((Q157/VLOOKUP(B157,Int_Ext,2,FALSE))*VLOOKUP(E157,NEB,14,FALSE)),\"\"))))","v":""},null,{"$f":"IF(RIGHT(I157,4)=\"Case\",INDEX('Equipment Type'!$V$4:$V$53, MATCH('Analysis 103L'!$K157, 'Equipment Type'!$A$4:$A$53, 0)), \"\")","v":""},{"$f":"IF(RIGHT(I157,4)=\"Case\",IF(ISERROR(FIND(\"T12\",D157)),\"\",\"T12\") & IF(ISERROR(FIND(\"T8\",D157)),\"\",\"T8\") & IF(ISERROR(FIND(\"T5\",D157)),\"\",\"T5\"),\"\")","v":""},{"$f":"IF(RIGHT(I157,4)=\"Case\",IF(ISERROR(FIND(\"Cooler\",B157)),\"\",\"MED\") & IF(ISERROR(FIND(\"Freezer\",B157)),\"\",\"LOW\"),\"\")","v":""},{"$f":"IF(RIGHT(I157,4)=\"Case\",IF(ISERROR(FIND(\"Open\",B157)),\"\",\"OPEN\") & IF(ISERROR(FIND(\"Closed\",B157)),\"\",\"CLSD\"),\"\")","v":""},{"$f":"IF(RIGHT(I157,4)=\"Case\",IF(ISERROR(FIND(\"Remote\",B157)),\"\",\"RC\") & IF(ISERROR(FIND(\"Self\",B157)),\"\",\"SC\"),\"\")","v":""},{"$f":"IF(RIGHT(I157,4)=\"Case\",IF(OR(CF157=\"NE\", LEFT(J157, 6)=\"Motion\"), \"\", \"CL\" & CF157 & CG157 &  IF(CF157=\"SR\",\"LOW\",\"HIGH\") & CH157 & CI157 & CJ157 ), \"\")","v":""},{"$f":"IF(CK157=\"\", \"\", INDEX('LED Case Lighting'!$AR$3:$AR$36, MATCH('Analysis 103L'!CK157, 'LED Case Lighting'!$AS$3:$AS$36, 0)))","v":""},{"$f":"IF(CK157=\"\", \"\", INDEX('LED Case Lighting'!$AW$3:$AW$36, MATCH('Analysis 103L'!CK157, 'LED Case Lighting'!$AS$3:$AS$36, 0)))","v":""},{"$f":"IF(CK157=\"\", \"\", INDEX('LED Case Lighting'!$AX$3:$AX$36, MATCH('Analysis 103L'!CK157, 'LED Case Lighting'!$AS$3:$AS$36, 0)))","v":""},""]
[131,null,null,null,null,null,"",null,{"$f":"IF(K158=\"\",\"\",VLOOKUP(K158,'Equipment Type'!$A$1:$F$53,5,FALSE))","v":""},{"$f":"IF(K158=\"\",\"\",VLOOKUP(K158,'Equipment Type'!$A$1:$F$53,6,FALSE))","v":""},null,{"$f":"IF(K158=\"\",\"\",VLOOKUP(K158,'Equipment Type'!$A$1:$F$53,4,FALSE))","v":""},null,{"$f":"IF(K158=\"\",\"\",INDEX('Equipment Type'!$T$4:$T$53,MATCH('Analysis 103L'!K158,'Equipment Type'!$A$4:$A$53,0)))","v":""},"",null,{"$f":"IF(RIGHT(I158, 4)=\"Case\", \"\", IF(P158=\"\",\"\",(IF(ISNUMBER(SEARCH(\"exit\",J158)),8760,IF(B158=\"Exterior\",4380,'Analysis 103L'!$J$3)))))","v":""},null,"","","","","","","","",{"$f":"IF('100L Information'!$Z$5=\"Yes\",0,IF('100L Information'!$Z$4=\"Yes\",(MIN($Y$232-(-$Y$227),6000)*0.5)*(Y158/$Y$232),$Y$232*(Y158/($Y$230+$Y$231))))","v":{"$error":"#VALUE!"}},{"$f":"IF(W158=\"\",\"\",W158*$D$23)","v":""},{"$error":"#VALUE!"},"No requirement",0,{"$f":"IF(OR(Z158=\"Does not meet requirement\",AND('100L Information'!$AA$21=\"No\",AL158=\"Y\"),AND('100L Information'!$AS$21=FALSE,AL158=\"Y\")),0,IF(ISNUMBER(R158*Incent_Cost_Fixture_Rx),MIN(R158*Incent_Cost_Fixture_Rx,(MAX(AE158,AK158))),0))","v":0},"FAIL","0","0","0",0,"N","0","0",null,"","",0,"",{"$f":"IF(RIGHT(I158,4)=\"Case\",W158,IF(AND(AL158=\"Y\",AF158<1),0,IF(OR(LEFT(D158,2)=\"T5\",LEFT(D158,3)=\"CFL\",'Analysis 103L'!AS158=\"Less\"),'Analysis 103L'!AR158,'Analysis 103L'!W158)))","v":""},null,0,0,null,{"$error":"#VALUE!"},{"$error":"#VALUE!"},{"$error":"#VALUE!"},null,null,{"$f":"IF(RIGHT(I158,4)=\"Case\",'LED Case Lighting'!$AY$1,IF(J158=\"\",\"\",VLOOKUP(J158,Lookups!$A$30:$J$172,VLOOKUP('100L Information'!$AI$46,Lookups!$J$3:$L$6,3,FALSE),FALSE)))","v":""},{"$error":"#N/A"},"",{"$f":"IF(BD158=\"\",\"\",$BF158+-PV(4.5%,BD158,CD158)/$AR158*$P158)","v":""},{"$f":"IF(RIGHT(I158,4)=\"Case\",0.5*R158/AR158, 0.5*S158/AR158)","v":{"$error":"#VALUE!"}},{"$error":"#VALUE!"},{"$error":"#VALUE!"},{"$error":"#N/A"},0,{"$error":"#N/A"},0,{"$error":"#VALUE!"},{"$error":"#VALUE!"},{"$error":"#VALUE!"},"FAIL",null,null,null,null,null,null,null,"Interior / Exterior",null,"",null,{"$f":"IF(RIGHT(I158,4)=\"Case\",(INDEX('LED Case Lighting'!$AZ$3:$AZ$36,MATCH('Analysis 103L'!$CK158,'LED Case Lighting'!$AS$3:$AS$36,0))),IF(CB158=0,0,IF(CB158=\"lamp\",((Q158/VLOOKUP(B158,Int_Ext,2,FALSE))*VLOOKUP(E158,NEB,16,FALSE)),IF(CB158=\"fixture\",((Q158/VLOOKUP(B158,Int_Ext,2,FALSE))*VLOOKUP(E158,NEB,14,FALSE)),\"\"))))","v":""},null,{"$f":"IF(RIGHT(I158,4)=\"Case\",INDEX('Equipment Type'!$V$4:$V$53, MATCH('Analysis 103L'!$K158, 'Equipment Type'!$A$4:$A$53, 0)), \"\")","v":""},"","","","","",{"$f":"IF(CK158=\"\", \"\", INDEX('LED Case Lighting'!$AR$3:$AR$36, MATCH('Analysis 103L'!CK158, 'LED Case Lighting'!$AS$3:$AS$36, 0)))","v":""},{"$f":"IF(CK158=\"\", \"\", INDEX('LED Case Lighting'!$AW$3:$AW$36, MATCH('Analysis 103L'!CK158, 'LED Case Lighting'!$AS$3:$AS$36, 0)))","v":""},{"$f":"IF(CK158=\"\", \"\", INDEX('LED Case Lighting'!$AX$3:$AX$36, MATCH('Analysis 103L'!CK158, 'LED Case Lighting'!$AS$3:$AS$36, 0)))","v":""},""]
[132,null,null,null,null,null,"",null,{"$f":"IF(K159=\"\",\"\",VLOOKUP(K159,'Equipment Type'!$A$1:$F$53,5,FALSE))","v":""},{"$f":"IF(K159=\"\",\"\",VLOOKUP(K159,'Equipment Type'!$A$1:$F$53,6,FALSE))","v":""},null,{"$f":"IF(K159=\"\",\"\",VLOOKUP(K159,'Equipment Type'!$A$1:$F$53,4,FALSE))","v":""},null,{"$f":"IF(K159=\"\",\"\",INDEX('Equipment Type'!$T$4:$T$53,MATCH('Analysis 103L'!K159,'Equipment Type'!$A$4:$A$53,0)))","v":""},"",null,{"$f":"IF(RIGHT(I159, 4)=\"Case\", \"\", IF(P159=\"\",\"\",(IF(ISNUMBER(SEARCH(\"exit\",J159)),8760,IF(B159=\"Exterior\",4380,'Analysis 103L'!$J$3)))))","v":""},null,"","","","","","","","",{"$f":"IF('100L Information'!$Z$5=\"Yes\",0,IF('100L Information'!$Z$4=\"Yes\",(MIN($Y$232-(-$Y$227),6000)*0.5)*(Y159/$Y$232),$Y$232*(Y159/($Y$230+$Y$231))))","v":{"$error":"#VALUE!"}},"",{"$error":"#VALUE!"},"No requirement",0,{"$f":"IF(OR(Z159=\"Does not meet requirement\",AND('100L Information'!$AA$21=\"No\",AL159=\"Y\"),AND('100L Information'!$AS$21=FALSE,AL159=\"Y\")),0,IF(ISNUMBER(R159*Incent_Cost_Fixture_Rx),MIN(R159*Incent_Cost_Fixture_Rx,(MAX(AE159,AK159))),0))","v":0},"FAIL","0","0","0",0,"N","0","0",null,"","",0,"",{"$f":"IF(RIGHT(I159,4)=\"Case\",W159,IF(AND(AL159=\"Y\",AF159<1),0,IF(OR(LEFT(D159,2)=\"T5\",LEFT(D159,3)=\"CFL\",'Analysis 103L'!AS159=\"Less\"),'Analysis 103L'!AR159,'Analysis 103L'!W159)))","v":""},null,0,0,null,{"$error":"#VALUE!"},{"$error":"#VALUE!"},{"$error":"#VALUE!"},null,null,{"$f":"IF(RIGHT(I159,4)=\"Case\",'LED Case Lighting'!$AY$1,IF(J159=\"\",\"\",VLOOKUP(J159,Lookups!$A$30:$J$172,VLOOKUP('100L Information'!$AI$46,Lookups!$J$3:$L$6,3,FALSE),FALSE)))","v":""},{"$error":"#N/A"},"","",{"$error":"#VALUE!"},{"$error":"#VALUE!"},{"$error":"#VALUE!"},{"$error":"#N/A"},0,{"$error":"#N/A"},0,{"$error":"#VALUE!"},{"$error":"#VALUE!"},{"$error":"#VALUE!"},"FAIL",null,null,null,null,null,null,null,"Interior / Exterior",null,"",null,{"$f":"IF(RIGHT(I159,4)=\"Case\",(INDEX('LED Case Lighting'!$AZ$3:$AZ$36,MATCH('Analysis 103L'!$CK159,'LED Case Lighting'!$AS$3:$AS$36,0))),IF(CB159=0,0,IF(CB159=\"lamp\",((Q159/VLOOKUP(B159,Int_Ext,2,FALSE))*VLOOKUP(E159,NEB,16,FALSE)),IF(CB159=\"fixture\",((Q159/VLOOKUP(B159,Int_Ext,2,FALSE))*VLOOKUP(E159,NEB,14,FALSE)),\"\"))))","v":""},null,{"$f":"IF(RIGHT(I159,4)=\"Case\",INDEX('Equipment Type'!$V$4:$V$53, MATCH('Analysis 103L'!$K159, 'Equipment Type'!$A$4:$A$53, 0)), \"\")","v":""},"","","","","",{"$f":"IF(CK159=\"\", \"\", INDEX('LED Case Lighting'!$AR$3:$AR$36, MATCH('Analysis 103L'!CK159, 'LED Case Lighting'!$AS$3:$AS$36, 0)))","v":""},{"$f":"IF(CK159=\"\", \"\", INDEX('LED Case Lighting'!$AW$3:$AW$36, MATCH('Analysis 103L'!CK159, 'LED Case Lighting'!$AS$3:$AS$36, 0)))","v":""},{"$f":"IF(CK159=\"\", \"\", INDEX('LED Case Lighting'!$AX$3:$AX$36, MATCH('Analysis 103L'!CK159, 'LED Case Lighting'!$AS$3:$AS$36, 0)))","v":""},""]
[133,null,null,null,null,null,"",null,{"$f":"IF(K160=\"\",\"\",VLOOKUP(K160,'Equipment Type'!$A$1:$F$53,5,FALSE))","v":""},{"$f":"IF(K160=\"\",\"\",VLOOKUP(K160,'Equipment Type'!$A$1:$F$53,6,FALSE))","v":""},null,{"$f":"IF(K160=\"\",\"\",VLOOKUP(K160,'Equipment Type'!$A$1:$F$53,4,FALSE))","v":""},null,{"$f":"IF(K160=\"\",\"\",INDEX('Equipment Type'!$T$4:$T$53,MATCH('Analysis 103L'!K160,'Equipment Type'!$A$4:$A$53,0)))","v":""},{"$f":"IF(RIGHT(I160, 4)=\"Case\", \"\", IF(G160=\"\",\"\",((G160*H160)-(N160*P160))/(G160*H160)))","v":""},null,{"$f":"IF(RIGHT(I160, 4)=\"Case\", \"\", IF(P160=\"\",\"\",(IF(ISNUMBER(SEARCH(\"exit\",J160)),8760,IF(B160=\"Exterior\",4380,'Analysis 103L'!$J$3)))))","v":""},null,"","","","","","","","",{"$f":"IF('100L Information'!$Z$5=\"Yes\",0,IF('100L Information'!$Z$4=\"Yes\",(MIN($Y$232-(-$Y$227),6000)*0.5)*(Y160/$Y$232),$Y$232*(Y160/($Y$230+$Y$231))))","v":{"$error":"#VALUE!"}},"",{"$error":"#VALUE!"},"No requirement",0,{"$f":"IF(OR(Z160=\"Does not meet requirement\",AND('100L Information'!$AA$21=\"No\",AL160=\"Y\"),AND('100L Information'!$AS$21=FALSE,AL160=\"Y\")),0,IF(ISNUMBER(R160*Incent_Cost_Fixture_Rx),MIN(R160*Incent_Cost_Fixture_Rx,(MAX(AE160,AK160))),0))","v":0},"FAIL","0","0","0",0,"N","0","0",null,"","",0,"",{"$f":"IF(RIGHT(I160,4)=\"Case\",W160,IF(AND(AL160=\"Y\",AF160<1),0,IF(OR(LEFT(D160,2)=\"T5\",LEFT(D160,3)=\"CFL\",'Analysis 103L'!AS160=\"Less\"),'Analysis 103L'!AR160,'Analysis 103L'!W160)))","v":""},null,{"$f":"IF($B160=\"Interior\",IF(ISNUMBER($G160*$H160),$G160*$H160,0), 0)","v":0},{"$f":"IF($B160=\"Interior\",IF(ISNUMBER($N160*$P160),$N160*$P160,0), 0)","v":0},null,{"$error":"#VALUE!"},{"$error":"#VALUE!"},{"$error":"#VALUE!"},null,null,{"$f":"IF(RIGHT(I160,4)=\"Case\",'LED Case Lighting'!$AY$1,IF(J160=\"\",\"\",VLOOKUP(J160,Lookups!$A$30:$J$172,VLOOKUP('100L Information'!$AI$46,Lookups!$J$3:$L$6,3,FALSE),FALSE)))","v":""},{"$error":"#N/A"},"","",{"$error":"#VALUE!"},{"$error":"#VALUE!"},{"$error":"#VALUE!"},{"$error":"#N/A"},0,{"$error":"#N/A"},0,{"$f":"IF(RIGHT(I160,4)=\"Case\",R160/AR160,S160/AR160)","v":{"$error":"#VALUE!"}},{"$error":"#VALUE!"},{"$error":"#VALUE!"},"FAIL",null,null,null,null,null,null,null,"Interior / Exterior",null,"",null,{"$f":"IF(RIGHT(I160,4)=\"Case\",(INDEX('LED Case Lighting'!$AZ$3:$AZ$36,MATCH('Analysis 103L'!$CK160,'LED Case Lighting'!$AS$3:$AS$36,0))),IF(CB160=0,0,IF(CB160=\"lamp\",((Q160/VLOOKUP(B160,Int_Ext,2,FALSE))*VLOOKUP(E160,NEB,16,FALSE)),IF(CB160=\"fixture\",((Q160/VLOOKUP(B160,Int_Ext,2,FALSE))*VLOOKUP(E160,NEB,14,FALSE)),\"\"))))","v":""},null,{"$f":"IF(RIGHT(I160,4)=\"Case\",INDEX('Equipment Type'!$V$4:$V$53, MATCH('Analysis 103L'!$K160, 'Equipment Type'!$A$4:$A$53, 0)), \"\")","v":""},"","","","","",{"$f":"IF(CK160=\"\", \"\", INDEX('LED Case Lighting'!$AR$3:$AR$36, MATCH('Analysis 103L'!CK160, 'LED Case Lighting'!$AS$3:$AS$36, 0)))","v":""},{"$f":"IF(CK160=\"\", \"\", INDEX('LED Case Lighting'!$AW$3:$AW$36, MATCH('Analysis 103L'!CK160, 'LED Case Lighting'!$AS$3:$AS$36, 0)))","v":""},{"$f":"IF(CK160=\"\", \"\", INDEX('LED Case Lighting'!$AX$3:$AX$36, MATCH('Analysis 103L'!CK160, 'LED Case Lighting'!$AS$3:$AS$36, 0)))","v":""},""]
[134,null,null,null,null,null,"",null,{"$f":"IF(K161=\"\",\"\",VLOOKUP(K161,'Equipment Type'!$A$1:$F$53,5,FALSE))","v":""},{"$f":"IF(K161=\"\",\"\",VLOOKUP(K161,'Equipment Type'!$A$1:$F$53,6,FALSE))","v":""},null,{"$f":"IF(K161=\"\",\"\",VLOOKUP(K161,'Equipment Type'!$A$1:$F$53,4,FALSE))","v":""},null,{"$f":"IF(K161=\"\",\"\",INDEX('Equipment Type'!$T$4:$T$53,MATCH('Analysis 103L'!K161,'Equipment Type'!$A$4:$A$53,0)))","v":""},"",null,{"$f":"IF(RIGHT(I161, 4)=\"Case\", \"\", IF(P161=\"\",\"\",(IF(ISNUMBER(SEARCH(\"exit\",J161)),8760,IF(B161=\"Exterior\",4380,'Analysis 103L'!$J$3)))))","v":""},null,"","","","","","","","",{"$f":"IF('100L Information'!$Z$5=\"Yes\",0,IF('100L Information'!$Z$4=\"Yes\",(MIN($Y$232-(-$Y$227),6000)*0.5)*(Y161/$Y$232),$Y$232*(Y161/($Y$230+$Y$231))))","v":{"$error":"#VALUE!"}},"",{"$error":"#VALUE!"},"No requirement",0,{"$f":"IF(OR(Z161=\"Does not meet requirement\",AND('100L Information'!$AA$21=\"No\",AL161=\"Y\"),AND('100L Information'!$AS$21=FALSE,AL161=\"Y\")),0,IF(ISNUMBER(R161*Incent_Cost_Fixture_Rx),MIN(R161*Incent_Cost_Fixture_Rx,(MAX(AE161,AK161))),0))","v":0},"FAIL","0","0","0",0,"N","0","0",null,"","",0,"",{"$f":"IF(RIGHT(I161,4)=\"Case\",W161,IF(AND(AL161=\"Y\",AF161<1),0,IF(OR(LEFT(D161,2)=\"T5\",LEFT(D161,3)=\"CFL\",'Analysis 103L'!AS161=\"Less\"),'Analysis 103L'!AR161,'Analysis 103L'!W161)))","v":""},null,0,0,null,{"$error":"#VALUE!"},{"$error":"#VALUE!"},{"$error":"#VALUE!"},null,null,{"$f":"IF(RIGHT(I161,4)=\"Case\",'LED Case Lighting'!$AY$1,IF(J161=\"\",\"\",VLOOKUP(J161,Lookups!$A$30:$J$172,VLOOKUP('100L Information'!$AI$46,Lookups!$J$3:$L$6,3,FALSE),FALSE)))","v":""},{"$error":"#N/A"},"","",{"$error":"#VALUE!"},{"$error":"#VALUE!"},{"$error":"#VALUE!"},{"$error":"#N/A"},0,{"$error":"#N/A"},0,{"$error":"#VALUE!"},{"$error":"#VALUE!"},{"$error":"#VALUE!"},"FAIL",null,null,null,null,null,null,null,"Interior / Exterior",null,"",null,{"$f":"IF(RIGHT(I161,4)=\"Case\",(INDEX('LED Case Lighting'!$AZ$3:$AZ$36,MATCH('Analysis 103L'!$CK161,'LED Case Lighting'!$AS$3:$AS$36,0))),IF(CB161=0,0,IF(CB161=\"lamp\",((Q161/VLOOKUP(B161,Int_Ext,2,FALSE))*VLOOKUP(E161,NEB,16,FALSE)),IF(CB161=\"fixture\",((Q161/VLOOKUP(B161,Int_Ext,2,FALSE))*VLOOKUP(E161,NEB,14,FALSE)),\"\"))))","v":""},null,{"$f":"IF(RIGHT(I161,4)=\"Case\",INDEX('Equipment Type'!$V$4:$V$53, MATCH('Analysis 103L'!$K161, 'Equipment Type'!$A$4:$A$53, 0)), \"\")","v":""},"","","","","",{"$f":"IF(CK161=\"\", \"\", INDEX('LED Case Lighting'!$AR$3:$AR$36, MATCH('Analysis 103L'!CK161, 'LED Case Lighting'!$AS$3:$AS$36, 0)))","v":""},{"$f":"IF(CK161=\"\", \"\", INDEX('LED Case Lighting'!$AW$3:$AW$36, MATCH('Analysis 103L'!CK161, 'LED Case Lighting'!$AS$3:$AS$36, 0)))","v":""},{"$f":"IF(CK161=\"\", \"\", INDEX('LED Case Lighting'!$AX$3:$AX$36, MATCH('Analysis 103L'!CK161, 'LED Case Lighting'!$AS$3:$AS$36, 0)))","v":""},""]
[135,null,null,null,null,null,"",null,{"$f":"IF(K162=\"\",\"\",VLOOKUP(K162,'Equipment Type'!$A$1:$F$53,5,FALSE))","v":""},{"$f":"IF(K162=\"\",\"\",VLOOKUP(K162,'Equipment Type'!$A$1:$F$53,6,FALSE))","v":""},null,{"$f":"IF(K162=\"\",\"\",VLOOKUP(K162,'Equipment Type'!$A$1:$F$53,4,FALSE))","v":""},null,{"$f":"IF(K162=\"\",\"\",INDEX('Equipment Type'!$T$4:$T$53,MATCH('Analysis 103L'!K162,'Equipment Type'!$A$4:$A$53,0)))","v":""},"",null,{"$f":"IF(RIGHT(I162, 4)=\"Case\", \"\", IF(P162=\"\",\"\",(IF(ISNUMBER(SEARCH(\"exit\",J162)),8760,IF(B162=\"Exterior\",4380,'Analysis 103L'!$J$3)))))","v":""},null,"","","","","","",{"$f":"IF(RIGHT(I162, 4)=\"Case\", IF(LEFT(J162, 6)=\"Motion\", \"\", CO162), IF(AND(W162>0,ISNUMBER(X162)),X162*P162,IF(P162=\"\",\"\",IF(RIGHT(I162, 4)=\"Case\", IF(LEFT(J162, 6)=\"Motion\", \"\", CO162),IF(AND(X162=\"CustomCalc\",AG162=\"PASS/PASS\"),AC162,0)))))","v":""},"",{"$f":"IF('100L Information'!$Z$5=\"Yes\",0,IF('100L Information'!$Z$4=\"Yes\",(MIN($Y$232-(-$Y$227),6000)*0.5)*(Y162/$Y$232),$Y$232*(Y162/($Y$230+$Y$231))))","v":{"$error":"#VALUE!"}},"",{"$error":"#VALUE!"},"No requirement",0,{"$f":"IF(OR(Z162=\"Does not meet requirement\",AND('100L Information'!$AA$21=\"No\",AL162=\"Y\"),AND('100L Information'!$AS$21=FALSE,AL162=\"Y\")),0,IF(ISNUMBER(R162*Incent_Cost_Fixture_Rx),MIN(R162*Incent_Cost_Fixture_Rx,(MAX(AE162,AK162))),0))","v":0},"FAIL","0","0","0",0,"N","0","0",null,"","",0,"",{"$f":"IF(RIGHT(I162,4)=\"Case\",W162,IF(AND(AL162=\"Y\",AF162<1),0,IF(OR(LEFT(D162,2)=\"T5\",LEFT(D162,3)=\"CFL\",'Analysis 103L'!AS162=\"Less\"),'Analysis 103L'!AR162,'Analysis 103L'!W162)))","v":""},null,0,0,null,{"$error":"#VALUE!"},{"$error":"#VALUE!"},{"$error":"#VALUE!"},null,null,{"$f":"IF(RIGHT(I162,4)=\"Case\",'LED Case Lighting'!$AY$1,IF(J162=\"\",\"\",VLOOKUP(J162,Lookups!$A$30:$J$172,VLOOKUP('100L Information'!$AI$46,Lookups!$J$3:$L$6,3,FALSE),FALSE)))","v":""},{"$error":"#N/A"},"","",{"$error":"#VALUE!"},{"$error":"#VALUE!"},{"$error":"#VALUE!"},{"$error":"#N/A"},0,{"$error":"#N/A"},0,{"$error":"#VALUE!"},{"$error":"#VALUE!"},{"$error":"#VALUE!"},"FAIL",null,null,null,null,null,null,null,"Interior / Exterior",null,"",null,{"$f":"IF(RIGHT(I162,4)=\"Case\",(INDEX('LED Case Lighting'!$AZ$3:$AZ$36,MATCH('Analysis 103L'!$CK162,'LED Case Lighting'!$AS$3:$AS$36,0))),IF(CB162=0,0,IF(CB162=\"lamp\",((Q162/VLOOKUP(B162,Int_Ext,2,FALSE))*VLOOKUP(E162,NEB,16,FALSE)),IF(CB162=\"fixture\",((Q162/VLOOKUP(B162,Int_Ext,2,FALSE))*VLOOKUP(E162,NEB,14,FALSE)),\"\"))))","v":""},null,{"$f":"IF(RIGHT(I162,4)=\"Case\",INDEX('Equipment Type'!$V$4:$V$53, MATCH('Analysis 103L'!$K162, 'Equipment Type'!$A$4:$A$53, 0)), \"\")","v":""},"","","","","",{"$f":"IF(CK162=\"\", \"\", INDEX('LED Case Lighting'!$AR$3:$AR$36, MATCH('Analysis 103L'!CK162, 'LED Case Lighting'!$AS$3:$AS$36, 0)))","v":""},{"$f":"IF(CK162=\"\", \"\", INDEX('LED Case Lighting'!$AW$3:$AW$36, MATCH('Analysis 103L'!CK162, 'LED Case Lighting'!$AS$3:$AS$36, 0)))","v":""},{"$f":"IF(CK162=\"\", \"\", INDEX('LED Case Lighting'!$AX$3:$AX$36, MATCH('Analysis 103L'!CK162, 'LED Case Lighting'!$AS$3:$AS$36, 0)))","v":""},""]
[136,null,null,null,null,null,"",null,{"$f":"IF(K163=\"\",\"\",VLOOKUP(K163,'Equipment Type'!$A$1:$F$53,5,FALSE))","v":""},{"$f":"IF(K163=\"\",\"\",VLOOKUP(K163,'Equipment Type'!$A$1:$F$53,6,FALSE))","v":""},null,{"$f":"IF(K163=\"\",\"\",VLOOKUP(K163,'Equipment Type'!$A$1:$F$53,4,FALSE))","v":""},null,{"$f":"IF(K163=\"\",\"\",INDEX('Equipment Type'!$T$4:$T$53,MATCH('Analysis 103L'!K163,'Equipment Type'!$A$4:$A$53,0)))","v":""},"",null,{"$f":"IF(RIGHT(I163, 4)=\"Case\", \"\", IF(P163=\"\",\"\",(IF(ISNUMBER(SEARCH(\"exit\",J163)),8760,IF(B163=\"Exterior\",4380,'Analysis 103L'!$J$3)))))","v":""},null,"","","","","","","","",{"$f":"IF('100L Information'!$Z$5=\"Yes\",0,IF('100L Information'!$Z$4=\"Yes\",(MIN($Y$232-(-$Y$227),6000)*0.5)*(Y163/$Y$232),$Y$232*(Y163/($Y$230+$Y$231))))","v":{"$error":"#VALUE!"}},"",{"$error":"#VALUE!"},"No requirement",0,{"$f":"IF(OR(Z163=\"Does not meet requirement\",AND('100L Information'!$AA$21=\"No\",AL163=\"Y\"),AND('100L Information'!$AS$21=FALSE,AL163=\"Y\")),0,IF(ISNUMBER(R163*Incent_Cost_Fixture_Rx),MIN(R163*Incent_Cost_Fixture_Rx,(MAX(AE163,AK163))),0))","v":0},"FAIL","0","0","0",0,"N","0","0",null,"","",0,"",{"$f":"IF(RIGHT(I163,4)=\"Case\",W163,IF(AND(AL163=\"Y\",AF163<1),0,IF(OR(LEFT(D163,2)=\"T5\",LEFT(D163,3)=\"CFL\",'Analysis 103L'!AS163=\"Less\"),'Analysis 103L'!AR163,'Analysis 103L'!W163)))","v":""},null,0,0,null,{"$error":"#VALUE!"},{"$error":"#VALUE!"},{"$error":"#VALUE!"},null,null,{"$f":"IF(RIGHT(I163,4)=\"Case\",'LED Case Lighting'!$AY$1,IF(J163=\"\",\"\",VLOOKUP(J163,Lookups!$A$30:$J$172,VLOOKUP('100L Information'!$AI$46,Lookups!$J$3:$L$6,3,FALSE),FALSE)))","v":""},{"$error":"#N/A"},"","",{"$error":"#VALUE!"},{"$error":"#VALUE!"},{"$error":"#VALUE!"},{"$error":"#N/A"},0,{"$error":"#N/A"},0,{"$error":"#VALUE!"},{"$error":"#VALUE!"},{"$error":"#VALUE!"},"FAIL",null,null,null,null,null,null,null,"Interior / Exterior",null,"",null,{"$f":"IF(RIGHT(I163,4)=\"Case\",(INDEX('LED Case Lighting'!$AZ$3:$AZ$36,MATCH('Analysis 103L'!$CK163,'LED Case Lighting'!$AS$3:$AS$36,0))),IF(CB163=0,0,IF(CB163=\"lamp\",((Q163/VLOOKUP(B163,Int_Ext,2,FALSE))*VLOOKUP(E163,NEB,16,FALSE)),IF(CB163=\"fixture\",((Q163/VLOOKUP(B163,Int_Ext,2,FALSE))*VLOOKUP(E163,NEB,14,FALSE)),\"\"))))","v":""},null,{"$f":"IF(RIGHT(I163,4)=\"Case\",INDEX('Equipment Type'!$V$4:$V$53, MATCH('Analysis 103L'!$K163, 'Equipment Type'!$A$4:$A$53, 0)), \"\")","v":""},"","","","","",{"$f":"IF(CK163=\"\", \"\", INDEX('LED Case Lighting'!$AR$3:$AR$36, MATCH('Analysis 103L'!CK163, 'LED Case Lighting'!$AS$3:$AS$36, 0)))","v":""},{"$f":"IF(CK163=\"\", \"\", INDEX('LED Case Lighting'!$AW$3:$AW$36, MATCH('Analysis 103L'!CK163, 'LED Case Lighting'!$AS$3:$AS$36, 0)))","v":""},{"$f":"IF(CK163=\"\", \"\", INDEX('LED Case Lighting'!$AX$3:$AX$36, MATCH('Analysis 103L'!CK163, 'LED Case Lighting'!$AS$3:$AS$36, 0)))","v":""},{"$f":"IF(CN163=\"\",\"\",MIN(R163*Incent_Cost_Case,(P163*CN163)))","v":""}]
[137,null,null,null,null,null,"",null,{"$f":"IF(K164=\"\",\"\",VLOOKUP(K164,'Equipment Type'!$A$1:$F$53,5,FALSE))","v":""},{"$f":"IF(K164=\"\",\"\",VLOOKUP(K164,'Equipment Type'!$A$1:$F$53,6,FALSE))","v":""},null,{"$f":"IF(K164=\"\",\"\",VLOOKUP(K164,'Equipment Type'!$A$1:$F$53,4,FALSE))","v":""},null,{"$f":"IF(K164=\"\",\"\",INDEX('Equipment Type'!$T$4:$T$53,MATCH('Analysis 103L'!K164,'Equipment Type'!$A$4:$A$53,0)))","v":""},"",null,{"$f":"IF(RIGHT(I164, 4)=\"Case\", \"\", IF(P164=\"\",\"\",(IF(ISNUMBER(SEARCH(\"exit\",J164)),8760,IF(B164=\"Exterior\",4380,'Analysis 103L'!$J$3)))))","v":""},null,"","","","","","","","",{"$f":"IF('100L Information'!$Z$5=\"Yes\",0,IF('100L Information'!$Z$4=\"Yes\",(MIN($Y$232-(-$Y$227),6000)*0.5)*(Y164/$Y$232),$Y$232*(Y164/($Y$230+$Y$231))))","v":{"$error":"#VALUE!"}},"",{"$error":"#VALUE!"},"No requirement",0,{"$f":"IF(OR(Z164=\"Does not meet requirement\",AND('100L Information'!$AA$21=\"No\",AL164=\"Y\"),AND('100L Information'!$AS$21=FALSE,AL164=\"Y\")),0,IF(ISNUMBER(R164*Incent_Cost_Fixture_Rx),MIN(R164*Incent_Cost_Fixture_Rx,(MAX(AE164,AK164))),0))","v":0},"FAIL","0","0","0",0,"N","0","0",null,"","",0,"",{"$f":"IF(RIGHT(I164,4)=\"Case\",W164,IF(AND(AL164=\"Y\",AF164<1),0,IF(OR(LEFT(D164,2)=\"T5\",LEFT(D164,3)=\"CFL\",'Analysis 103L'!AS164=\"Less\"),'Analysis 103L'!AR164,'Analysis 103L'!W164)))","v":""},null,0,0,null,{"$error":"#VALUE!"},{"$error":"#VALUE!"},{"$error":"#VALUE!"},null,null,{"$f":"IF(RIGHT(I164,4)=\"Case\",'LED Case Lighting'!$AY$1,IF(J164=\"\",\"\",VLOOKUP(J164,Lookups!$A$30:$J$172,VLOOKUP('100L Information'!$AI$46,Lookups!$J$3:$L$6,3,FALSE),FALSE)))","v":""},{"$error":"#N/A"},"","",{"$error":"#VALUE!"},{"$error":"#VALUE!"},{"$error":"#VALUE!"},{"$error":"#N/A"},0,{"$error":"#N/A"},0,{"$error":"#VALUE!"},{"$error":"#VALUE!"},{"$error":"#VALUE!"},"FAIL",null,null,null,null,null,null,null,"Interior / Exterior",null,"",null,{"$f":"IF(RIGHT(I164,4)=\"Case\",(INDEX('LED Case Lighting'!$AZ$3:$AZ$36,MATCH('Analysis 103L'!$CK164,'LED Case Lighting'!$AS$3:$AS$36,0))),IF(CB164=0,0,IF(CB164=\"lamp\",((Q164/VLOOKUP(B164,Int_Ext,2,FALSE))*VLOOKUP(E164,NEB,16,FALSE)),IF(CB164=\"fixture\",((Q164/VLOOKUP(B164,Int_Ext,2,FALSE))*VLOOKUP(E164,NEB,14,FALSE)),\"\"))))","v":""},null,{"$f":"IF(RIGHT(I164,4)=\"Case\",INDEX('Equipment Type'!$V$4:$V$53, MATCH('Analysis 103L'!$K164, 'Equipment Type'!$A$4:$A$53, 0)), \"\")","v":""},"","","","","",{"$f":"IF(CK164=\"\", \"\", INDEX('LED Case Lighting'!$AR$3:$AR$36, MATCH('Analysis 103L'!CK164, 'LED Case Lighting'!$AS$3:$AS$36, 0)))","v":""},{"$f":"IF(CK164=\"\", \"\", INDEX('LED Case Lighting'!$AW$3:$AW$36, MATCH('Analysis 103L'!CK164, 'LED Case Lighting'!$AS$3:$AS$36, 0)))","v":""},{"$f":"IF(CK164=\"\", \"\", INDEX('LED Case Lighting'!$AX$3:$AX$36, MATCH('Analysis 103L'!CK164, 'LED Case Lighting'!$AS$3:$AS$36, 0)))","v":""},""]
[138,null,null,null,null,null,"",null,{"$f":"IF(K165=\"\",\"\",VLOOKUP(K165,'Equipment Type'!$A$1:$F$53,5,FALSE))","v":""},{"$f":"IF(K165=\"\",\"\",VLOOKUP(K165,'Equipment Type'!$A$1:$F$53,6,FALSE))","v":""},null,{"$f":"IF(K165=\"\",\"\",VLOOKUP(K165,'Equipment Type'!$A$1:$F$53,4,FALSE))","v":""},null,{"$f":"IF(K165=\"\",\"\",INDEX('Equipment Type'!$T$4:$T$53,MATCH('Analysis 103L'!K165,'Equipment Type'!$A$4:$A$53,0)))","v":""},"",null,{"$f":"IF(RIGHT(I165, 4)=\"Case\", \"\", IF(P165=\"\",\"\",(IF(ISNUMBER(SEARCH(\"exit\",J165)),8760,IF(B165=\"Exterior\",4380,'Analysis 103L'!$J$3)))))","v":""},null,"","","","","","","","",{"$f":"IF('100L Information'!$Z$5=\"Yes\",0,IF('100L Information'!$Z$4=\"Yes\",(MIN($Y$232-(-$Y$227),6000)*0.5)*(Y165/$Y$232),$Y$232*(Y165/($Y$230+$Y$231))))","v":{"$error":"#VALUE!"}},"",{"$error":"#VALUE!"},"No requirement",{"$f":"MAX(IF(ISERROR(VLOOKUP(CONCATENATE(J165,\" from \",VLOOKUP(D165,ExistFixtCat,4,FALSE)),PropFixtIncent,2,FALSE)),0,VLOOKUP(CONCATENATE(J165,\" from \",VLOOKUP(D165,ExistFixtCat,4,FALSE)),PropFixtIncent,2,FALSE)),IF(ISERROR(VLOOKUP(CONCATENATE(J165,\" from ANY\"),PropFixtIncent,2,FALSE)),0,VLOOKUP(CONCATENATE(J165,\" from ANY\"),PropFixtIncent,2,FALSE)))","v":0},{"$f":"IF(OR(Z165=\"Does not meet requirement\",AND('100L Information'!$AA$21=\"No\",AL165=\"Y\"),AND('100L Information'!$AS$21=FALSE,AL165=\"Y\")),0,IF(ISNUMBER(R165*Incent_Cost_Fixture_Rx),MIN(R165*Incent_Cost_Fixture_Rx,(MAX(AE165,AK165))),0))","v":0},"FAIL","0","0","0",0,"N","0","0",null,"","",0,"",{"$f":"IF(RIGHT(I165,4)=\"Case\",W165,IF(AND(AL165=\"Y\",AF165<1),0,IF(OR(LEFT(D165,2)=\"T5\",LEFT(D165,3)=\"CFL\",'Analysis 103L'!AS165=\"Less\"),'Analysis 103L'!AR165,'Analysis 103L'!W165)))","v":""},null,0,0,null,{"$error":"#VALUE!"},{"$error":"#VALUE!"},{"$error":"#VALUE!"},null,null,{"$f":"IF(RIGHT(I165,4)=\"Case\",'LED Case Lighting'!$AY$1,IF(J165=\"\",\"\",VLOOKUP(J165,Lookups!$A$30:$J$172,VLOOKUP('100L Information'!$AI$46,Lookups!$J$3:$L$6,3,FALSE),FALSE)))","v":""},{"$error":"#N/A"},"","",{"$error":"#VALUE!"},{"$error":"#VALUE!"},{"$error":"#VALUE!"},{"$error":"#N/A"},0,{"$error":"#N/A"},0,{"$error":"#VALUE!"},{"$error":"#VALUE!"},{"$error":"#VALUE!"},"FAIL",null,null,null,null,null,null,null,"Interior / Exterior",null,"",null,{"$f":"IF(RIGHT(I165,4)=\"Case\",(INDEX('LED Case Lighting'!$AZ$3:$AZ$36,MATCH('Analysis 103L'!$CK165,'LED Case Lighting'!$AS$3:$AS$36,0))),IF(CB165=0,0,IF(CB165=\"lamp\",((Q165/VLOOKUP(B165,Int_Ext,2,FALSE))*VLOOKUP(E165,NEB,16,FALSE)),IF(CB165=\"fixture\",((Q165/VLOOKUP(B165,Int_Ext,2,FALSE))*VLOOKUP(E165,NEB,14,FALSE)),\"\"))))","v":""},null,{"$f":"IF(RIGHT(I165,4)=\"Case\",INDEX('Equipment Type'!$V$4:$V$53, MATCH('Analysis 103L'!$K165, 'Equipment Type'!$A$4:$A$53, 0)), \"\")","v":""},"","","","","",{"$f":"IF(CK165=\"\", \"\", INDEX('LED Case Lighting'!$AR$3:$AR$36, MATCH('Analysis 103L'!CK165, 'LED Case Lighting'!$AS$3:$AS$36, 0)))","v":""},{"$f":"IF(CK165=\"\", \"\", INDEX('LED Case Lighting'!$AW$3:$AW$36, MATCH('Analysis 103L'!CK165, 'LED Case Lighting'!$AS$3:$AS$36, 0)))","v":""},{"$f":"IF(CK165=\"\", \"\", INDEX('LED Case Lighting'!$AX$3:$AX$36, MATCH('Analysis 103L'!CK165, 'LED Case Lighting'!$AS$3:$AS$36, 0)))","v":""},""]
[139,null,null,null,null,null,"",null,{"$f":"IF(K166=\"\",\"\",VLOOKUP(K166,'Equipment Type'!$A$1:$F$53,5,FALSE))","v":""},{"$f":"IF(K166=\"\",\"\",VLOOKUP(K166,'Equipment Type'!$A$1:$F$53,6,FALSE))","v":""},null,{"$f":"IF(K166=\"\",\"\",VLOOKUP(K166,'Equipment Type'!$A$1:$F$53,4,FALSE))","v":""},null,{"$f":"IF(K166=\"\",\"\",INDEX('Equipment Type'!$T$4:$T$53,MATCH('Analysis 103L'!K166,'Equipment Type'!$A$4:$A$53,0)))","v":""},"",null,{"$f":"IF(RIGHT(I166, 4)=\"Case\", \"\", IF(P166=\"\",\"\",(IF(ISNUMBER(SEARCH(\"exit\",J166)),8760,IF(B166=\"Exterior\",4380,'Analysis 103L'!$J$3)))))","v":""},null,"","","","","","","","",{"$f":"IF('100L Information'!$Z$5=\"Yes\",0,IF('100L Information'!$Z$4=\"Yes\",(MIN($Y$232-(-$Y$227),6000)*0.5)*(Y166/$Y$232),$Y$232*(Y166/($Y$230+$Y$231))))","v":{"$error":"#VALUE!"}},"",{"$error":"#VALUE!"},"No requirement",0,{"$f":"IF(OR(Z166=\"Does not meet requirement\",AND('100L Information'!$AA$21=\"No\",AL166=\"Y\"),AND('100L Information'!$AS$21=FALSE,AL166=\"Y\")),0,IF(ISNUMBER(R166*Incent_Cost_Fixture_Rx),MIN(R166*Incent_Cost_Fixture_Rx,(MAX(AE166,AK166))),0))","v":0},"FAIL",{"$f":"IF(AG166=\"PASS/PASS\",S166,\"0\")","v":"0"},{"$f":"IF(AG166=\"PASS/PASS\",U166,\"0\")","v":"0"},{"$f":"IF(AG166=\"PASS/PASS\",V166,\"0\")","v":"0"},0,"N","0","0",null,"","",0,"",{"$f":"IF(RIGHT(I166,4)=\"Case\",W166,IF(AND(AL166=\"Y\",AF166<1),0,IF(OR(LEFT(D166,2)=\"T5\",LEFT(D166,3)=\"CFL\",'Analysis 103L'!AS166=\"Less\"),'Analysis 103L'!AR166,'Analysis 103L'!W166)))","v":""},null,0,0,null,{"$error":"#VALUE!"},{"$error":"#VALUE!"},{"$error":"#VALUE!"},null,null,{"$f":"IF(RIGHT(I166,4)=\"Case\",'LED Case Lighting'!$AY$1,IF(J166=\"\",\"\",VLOOKUP(J166,Lookups!$A$30:$J$172,VLOOKUP('100L Information'!$AI$46,Lookups!$J$3:$L$6,3,FALSE),FALSE)))","v":""},{"$error":"#N/A"},"","",{"$error":"#VALUE!"},{"$error":"#VALUE!"},{"$error":"#VALUE!"},{"$error":"#N/A"},0,{"$error":"#N/A"},0,{"$error":"#VALUE!"},{"$error":"#VALUE!"},{"$error":"#VALUE!"},"FAIL",null,null,null,null,null,null,null,"Interior / Exterior",null,"",null,{"$f":"IF(RIGHT(I166,4)=\"Case\",(INDEX('LED Case Lighting'!$AZ$3:$AZ$36,MATCH('Analysis 103L'!$CK166,'LED Case Lighting'!$AS$3:$AS$36,0))),IF(CB166=0,0,IF(CB166=\"lamp\",((Q166/VLOOKUP(B166,Int_Ext,2,FALSE))*VLOOKUP(E166,NEB,16,FALSE)),IF(CB166=\"fixture\",((Q166/VLOOKUP(B166,Int_Ext,2,FALSE))*VLOOKUP(E166,NEB,14,FALSE)),\"\"))))","v":""},null,{"$f":"IF(RIGHT(I166,4)=\"Case\",INDEX('Equipment Type'!$V$4:$V$53, MATCH('Analysis 103L'!$K166, 'Equipment Type'!$A$4:$A$53, 0)), \"\")","v":""},"","","","","",{"$f":"IF(CK166=\"\", \"\", INDEX('LED Case Lighting'!$AR$3:$AR$36, MATCH('Analysis 103L'!CK166, 'LED Case Lighting'!$AS$3:$AS$36, 0)))","v":""},{"$f":"IF(CK166=\"\", \"\", INDEX('LED Case Lighting'!$AW$3:$AW$36, MATCH('Analysis 103L'!CK166, 'LED Case Lighting'!$AS$3:$AS$36, 0)))","v":""},{"$f":"IF(CK166=\"\", \"\", INDEX('LED Case Lighting'!$AX$3:$AX$36, MATCH('Analysis 103L'!CK166, 'LED Case Lighting'!$AS$3:$AS$36, 0)))","v":""},""]
[140,null,null,null,null,null,"",null,{"$f":"IF(K167=\"\",\"\",VLOOKUP(K167,'Equipment Type'!$A$1:$F$53,5,FALSE))","v":""},{"$f":"IF(K167=\"\",\"\",VLOOKUP(K167,'Equipment Type'!$A$1:$F$53,6,FALSE))","v":""},null,{"$f":"IF(K167=\"\",\"\",VLOOKUP(K167,'Equipment Type'!$A$1:$F$53,4,FALSE))","v":""},null,{"$f":"IF(K167=\"\",\"\",INDEX('Equipment Type'!$T$4:$T$53,MATCH('Analysis 103L'!K167,'Equipment Type'!$A$4:$A$53,0)))","v":""},"",null,{"$f":"IF(RIGHT(I167, 4)=\"Case\", \"\", IF(P167=\"\",\"\",(IF(ISNUMBER(SEARCH(\"exit\",J167)),8760,IF(B167=\"Exterior\",4380,'Analysis 103L'!$J$3)))))","v":""},null,"","","","","","","","",{"$f":"IF('100L Information'!$Z$5=\"Yes\",0,IF('100L Information'!$Z$4=\"Yes\",(MIN($Y$232-(-$Y$227),6000)*0.5)*(Y167/$Y$232),$Y$232*(Y167/($Y$230+$Y$231))))","v":{"$error":"#VALUE!"}},"",{"$error":"#VALUE!"},"No requirement",0,{"$f":"IF(OR(Z167=\"Does not meet requirement\",AND('100L Information'!$AA$21=\"No\",AL167=\"Y\"),AND('100L Information'!$AS$21=FALSE,AL167=\"Y\")),0,IF(ISNUMBER(R167*Incent_Cost_Fixture_Rx),MIN(R167*Incent_Cost_Fixture_Rx,(MAX(AE167,AK167))),0))","v":0},"FAIL","0","0","0",0,"N","0","0",null,"","",0,"",{"$f":"IF(RIGHT(I167,4)=\"Case\",W167,IF(AND(AL167=\"Y\",AF167<1),0,IF(OR(LEFT(D167,2)=\"T5\",LEFT(D167,3)=\"CFL\",'Analysis 103L'!AS167=\"Less\"),'Analysis 103L'!AR167,'Analysis 103L'!W167)))","v":""},null,0,0,null,{"$error":"#VALUE!"},{"$error":"#VALUE!"},{"$error":"#VALUE!"},null,null,{"$f":"IF(RIGHT(I167,4)=\"Case\",'LED Case Lighting'!$AY$1,IF(J167=\"\",\"\",VLOOKUP(J167,Lookups!$A$30:$J$172,VLOOKUP('100L Information'!$AI$46,Lookups!$J$3:$L$6,3,FALSE),FALSE)))","v":""},{"$error":"#N/A"},"","",{"$error":"#VALUE!"},{"$error":"#VALUE!"},{"$error":"#VALUE!"},{"$error":"#N/A"},0,{"$error":"#N/A"},0,{"$error":"#VALUE!"},{"$error":"#VALUE!"},{"$error":"#VALUE!"},"FAIL",null,null,null,null,null,null,null,"Interior / Exterior",null,"",null,{"$f":"IF(RIGHT(I167,4)=\"Case\",(INDEX('LED Case Lighting'!$AZ$3:$AZ$36,MATCH('Analysis 103L'!$CK167,'LED Case Lighting'!$AS$3:$AS$36,0))),IF(CB167=0,0,IF(CB167=\"lamp\",((Q167/VLOOKUP(B167,Int_Ext,2,FALSE))*VLOOKUP(E167,NEB,16,FALSE)),IF(CB167=\"fixture\",((Q167/VLOOKUP(B167,Int_Ext,2,FALSE))*VLOOKUP(E167,NEB,14,FALSE)),\"\"))))","v":""},null,{"$f":"IF(RIGHT(I167,4)=\"Case\",INDEX('Equipment Type'!$V$4:$V$53, MATCH('Analysis 103L'!$K167, 'Equipment Type'!$A$4:$A$53, 0)), \"\")","v":""},"","","","","",{"$f":"IF(CK167=\"\", \"\", INDEX('LED Case Lighting'!$AR$3:$AR$36, MATCH('Analysis 103L'!CK167, 'LED Case Lighting'!$AS$3:$AS$36, 0)))","v":""},{"$f":"IF(CK167=\"\", \"\", INDEX('LED Case Lighting'!$AW$3:$AW$36, MATCH('Analysis 103L'!CK167, 'LED Case Lighting'!$AS$3:$AS$36, 0)))","v":""},{"$f":"IF(CK167=\"\", \"\", INDEX('LED Case Lighting'!$AX$3:$AX$36, MATCH('Analysis 103L'!CK167, 'LED Case Lighting'!$AS$3:$AS$36, 0)))","v":""},""]
[141,null,null,null,null,null,"",null,{"$f":"IF(K168=\"\",\"\",VLOOKUP(K168,'Equipment Type'!$A$1:$F$53,5,FALSE))","v":""},{"$f":"IF(K168=\"\",\"\",VLOOKUP(K168,'Equipment Type'!$A$1:$F$53,6,FALSE))","v":""},null,{"$f":"IF(K168=\"\",\"\",VLOOKUP(K168,'Equipment Type'!$A$1:$F$53,4,FALSE))","v":""},null,{"$f":"IF(K168=\"\",\"\",INDEX('Equipment Type'!$T$4:$T$53,MATCH('Analysis 103L'!K168,'Equipment Type'!$A$4:$A$53,0)))","v":""},"",null,{"$f":"IF(RIGHT(I168, 4)=\"Case\", \"\", IF(P168=\"\",\"\",(IF(ISNUMBER(SEARCH(\"exit\",J168)),8760,IF(B168=\"Exterior\",4380,'Analysis 103L'!$J$3)))))","v":""},null,"","","","","","","","",{"$f":"IF('100L Information'!$Z$5=\"Yes\",0,IF('100L Information'!$Z$4=\"Yes\",(MIN($Y$232-(-$Y$227),6000)*0.5)*(Y168/$Y$232),$Y$232*(Y168/($Y$230+$Y$231))))","v":{"$error":"#VALUE!"}},"",{"$error":"#VALUE!"},"No requirement",0,{"$f":"IF(OR(Z168=\"Does not meet requirement\",AND('100L Information'!$AA$21=\"No\",AL168=\"Y\"),AND('100L Information'!$AS$21=FALSE,AL168=\"Y\")),0,IF(ISNUMBER(R168*Incent_Cost_Fixture_Rx),MIN(R168*Incent_Cost_Fixture_Rx,(MAX(AE168,AK168))),0))","v":0},"FAIL","0","0","0",0,"N","0","0",null,"","",0,"",{"$f":"IF(RIGHT(I168,4)=\"Case\",W168,IF(AND(AL168=\"Y\",AF168<1),0,IF(OR(LEFT(D168,2)=\"T5\",LEFT(D168,3)=\"CFL\",'Analysis 103L'!AS168=\"Less\"),'Analysis 103L'!AR168,'Analysis 103L'!W168)))","v":""},null,0,0,null,{"$f":"IF(RIGHT(I168,4)=\"Case\",\"\",((G168*H168)-(N168*P168))/1000)","v":{"$error":"#VALUE!"}},{"$f":"IF(RIGHT(I168,4)=\"Case\",\"\", IF(W168=0,0,W168/U168))","v":{"$error":"#VALUE!"}},{"$f":"IF(RIGHT(I168,4)=\"Case\",IF(W168=0,0,R168/(W168*$F$9)),IF(W168=0,0,S168/(W168*$F$9)))","v":{"$error":"#VALUE!"}},null,null,{"$f":"IF(RIGHT(I168,4)=\"Case\",'LED Case Lighting'!$AY$1,IF(J168=\"\",\"\",VLOOKUP(J168,Lookups!$A$30:$J$172,VLOOKUP('100L Information'!$AI$46,Lookups!$J$3:$L$6,3,FALSE),FALSE)))","v":""},{"$error":"#N/A"},"","",{"$error":"#VALUE!"},{"$error":"#VALUE!"},{"$error":"#VALUE!"},{"$error":"#N/A"},0,{"$error":"#N/A"},0,{"$error":"#VALUE!"},{"$error":"#VALUE!"},{"$error":"#VALUE!"},"FAIL",null,null,null,null,null,null,null,"Interior / Exterior",null,"",null,{"$f":"IF(RIGHT(I168,4)=\"Case\",(INDEX('LED Case Lighting'!$AZ$3:$AZ$36,MATCH('Analysis 103L'!$CK168,'LED Case Lighting'!$AS$3:$AS$36,0))),IF(CB168=0,0,IF(CB168=\"lamp\",((Q168/VLOOKUP(B168,Int_Ext,2,FALSE))*VLOOKUP(E168,NEB,16,FALSE)),IF(CB168=\"fixture\",((Q168/VLOOKUP(B168,Int_Ext,2,FALSE))*VLOOKUP(E168,NEB,14,FALSE)),\"\"))))","v":""},null,{"$f":"IF(RIGHT(I168,4)=\"Case\",INDEX('Equipment Type'!$V$4:$V$53, MATCH('Analysis 103L'!$K168, 'Equipment Type'!$A$4:$A$53, 0)), \"\")","v":""},"","","","","",{"$f":"IF(CK168=\"\", \"\", INDEX('LED Case Lighting'!$AR$3:$AR$36, MATCH('Analysis 103L'!CK168, 'LED Case Lighting'!$AS$3:$AS$36, 0)))","v":""},{"$f":"IF(CK168=\"\", \"\", INDEX('LED Case Lighting'!$AW$3:$AW$36, MATCH('Analysis 103L'!CK168, 'LED Case Lighting'!$AS$3:$AS$36, 0)))","v":""},{"$f":"IF(CK168=\"\", \"\", INDEX('LED Case Lighting'!$AX$3:$AX$36, MATCH('Analysis 103L'!CK168, 'LED Case Lighting'!$AS$3:$AS$36, 0)))","v":""},""]
[142,null,null,null,null,null,"",null,{"$f":"IF(K169=\"\",\"\",VLOOKUP(K169,'Equipment Type'!$A$1:$F$53,5,FALSE))","v":""},{"$f":"IF(K169=\"\",\"\",VLOOKUP(K169,'Equipment Type'!$A$1:$F$53,6,FALSE))","v":""},null,{"$f":"IF(K169=\"\",\"\",VLOOKUP(K169,'Equipment Type'!$A$1:$F$53,4,FALSE))","v":""},null,{"$f":"IF(K169=\"\",\"\",INDEX('Equipment Type'!$T$4:$T$53,MATCH('Analysis 103L'!K169,'Equipment Type'!$A$4:$A$53,0)))","v":""},"",null,{"$f":"IF(RIGHT(I169, 4)=\"Case\", \"\", IF(P169=\"\",\"\",(IF(ISNUMBER(SEARCH(\"exit\",J169)),8760,IF(B169=\"Exterior\",4380,'Analysis 103L'!$J$3)))))","v":""},null,"","","","","","","","",{"$f":"IF('100L Information'!$Z$5=\"Yes\",0,IF('100L Information'!$Z$4=\"Yes\",(MIN($Y$232-(-$Y$227),6000)*0.5)*(Y169/$Y$232),$Y$232*(Y169/($Y$230+$Y$231))))","v":{"$error":"#VALUE!"}},"",{"$error":"#VALUE!"},"No requirement",0,{"$f":"IF(OR(Z169=\"Does not meet requirement\",AND('100L Information'!$AA$21=\"No\",AL169=\"Y\"),AND('100L Information'!$AS$21=FALSE,AL169=\"Y\")),0,IF(ISNUMBER(R169*Incent_Cost_Fixture_Rx),MIN(R169*Incent_Cost_Fixture_Rx,(MAX(AE169,AK169))),0))","v":0},"FAIL","0","0","0",0,"N","0","0",null,"","",0,"",{"$f":"IF(RIGHT(I169,4)=\"Case\",W169,IF(AND(AL169=\"Y\",AF169<1),0,IF(OR(LEFT(D169,2)=\"T5\",LEFT(D169,3)=\"CFL\",'Analysis 103L'!AS169=\"Less\"),'Analysis 103L'!AR169,'Analysis 103L'!W169)))","v":""},null,0,0,null,{"$error":"#VALUE!"},{"$error":"#VALUE!"},{"$error":"#VALUE!"},null,null,{"$f":"IF(RIGHT(I169,4)=\"Case\",'LED Case Lighting'!$AY$1,IF(J169=\"\",\"\",VLOOKUP(J169,Lookups!$A$30:$J$172,VLOOKUP('100L Information'!$AI$46,Lookups!$J$3:$L$6,3,FALSE),FALSE)))","v":""},{"$error":"#N/A"},"","",{"$error":"#VALUE!"},{"$error":"#VALUE!"},{"$error":"#VALUE!"},{"$error":"#N/A"},0,{"$error":"#N/A"},0,{"$error":"#VALUE!"},{"$error":"#VALUE!"},{"$error":"#VALUE!"},"FAIL",null,null,null,null,null,null,null,"Interior / Exterior",null,"",null,{"$f":"IF(RIGHT(I169,4)=\"Case\",(INDEX('LED Case Lighting'!$AZ$3:$AZ$36,MATCH('Analysis 103L'!$CK169,'LED Case Lighting'!$AS$3:$AS$36,0))),IF(CB169=0,0,IF(CB169=\"lamp\",((Q169/VLOOKUP(B169,Int_Ext,2,FALSE))*VLOOKUP(E169,NEB,16,FALSE)),IF(CB169=\"fixture\",((Q169/VLOOKUP(B169,Int_Ext,2,FALSE))*VLOOKUP(E169,NEB,14,FALSE)),\"\"))))","v":""},null,{"$f":"IF(RIGHT(I169,4)=\"Case\",INDEX('Equipment Type'!$V$4:$V$53, MATCH('Analysis 103L'!$K169, 'Equipment Type'!$A$4:$A$53, 0)), \"\")","v":""},"","","","","",{"$f":"IF(CK169=\"\", \"\", INDEX('LED Case Lighting'!$AR$3:$AR$36, MATCH('Analysis 103L'!CK169, 'LED Case Lighting'!$AS$3:$AS$36, 0)))","v":""},{"$f":"IF(CK169=\"\", \"\", INDEX('LED Case Lighting'!$AW$3:$AW$36, MATCH('Analysis 103L'!CK169, 'LED Case Lighting'!$AS$3:$AS$36, 0)))","v":""},{"$f":"IF(CK169=\"\", \"\", INDEX('LED Case Lighting'!$AX$3:$AX$36, MATCH('Analysis 103L'!CK169, 'LED Case Lighting'!$AS$3:$AS$36, 0)))","v":""},""]
[143,null,null,null,null,null,"",null,{"$f":"IF(K170=\"\",\"\",VLOOKUP(K170,'Equipment Type'!$A$1:$F$53,5,FALSE))","v":""},{"$f":"IF(K170=\"\",\"\",VLOOKUP(K170,'Equipment Type'!$A$1:$F$53,6,FALSE))","v":""},null,{"$f":"IF(K170=\"\",\"\",VLOOKUP(K170,'Equipment Type'!$A$1:$F$53,4,FALSE))","v":""},null,{"$f":"IF(K170=\"\",\"\",INDEX('Equipment Type'!$T$4:$T$53,MATCH('Analysis 103L'!K170,'Equipment Type'!$A$4:$A$53,0)))","v":""},"",null,{"$f":"IF(RIGHT(I170, 4)=\"Case\", \"\", IF(P170=\"\",\"\",(IF(ISNUMBER(SEARCH(\"exit\",J170)),8760,IF(B170=\"Exterior\",4380,'Analysis 103L'!$J$3)))))","v":""},null,"","","","","","","","",{"$f":"IF('100L Information'!$Z$5=\"Yes\",0,IF('100L Information'!$Z$4=\"Yes\",(MIN($Y$232-(-$Y$227),6000)*0.5)*(Y170/$Y$232),$Y$232*(Y170/($Y$230+$Y$231))))","v":{"$error":"#VALUE!"}},"",{"$error":"#VALUE!"},"No requirement",0,{"$f":"IF(OR(Z170=\"Does not meet requirement\",AND('100L Information'!$AA$21=\"No\",AL170=\"Y\"),AND('100L Information'!$AS$21=FALSE,AL170=\"Y\")),0,IF(ISNUMBER(R170*Incent_Cost_Fixture_Rx),MIN(R170*Incent_Cost_Fixture_Rx,(MAX(AE170,AK170))),0))","v":0},"FAIL","0","0","0",0,"N","0","0",null,"","",0,"",{"$f":"IF(RIGHT(I170,4)=\"Case\",W170,IF(AND(AL170=\"Y\",AF170<1),0,IF(OR(LEFT(D170,2)=\"T5\",LEFT(D170,3)=\"CFL\",'Analysis 103L'!AS170=\"Less\"),'Analysis 103L'!AR170,'Analysis 103L'!W170)))","v":""},null,0,0,null,{"$error":"#VALUE!"},{"$error":"#VALUE!"},{"$error":"#VALUE!"},null,null,{"$f":"IF(RIGHT(I170,4)=\"Case\",'LED Case Lighting'!$AY$1,IF(J170=\"\",\"\",VLOOKUP(J170,Lookups!$A$30:$J$172,VLOOKUP('100L Information'!$AI$46,Lookups!$J$3:$L$6,3,FALSE),FALSE)))","v":""},{"$error":"#N/A"},{"$f":"IF(BD170=\"\",\"\",VLOOKUP(BE170, avoided_costs, ROUND($BD170,0)+2, FALSE))","v":""},"",{"$error":"#VALUE!"},{"$f":"BF170/BH170","v":{"$error":"#VALUE!"}},{"$f":"IF(ROUND(BI170,1)>=1, \"PASS\", \"FAIL\")","v":{"$error":"#VALUE!"}},{"$error":"#N/A"},0,{"$error":"#N/A"},0,{"$error":"#VALUE!"},{"$f":"BG170/BO170","v":{"$error":"#VALUE!"}},{"$f":"IF(ROUND(BP170,1)>=1, \"PASS\", \"FAIL\")","v":{"$error":"#VALUE!"}},{"$f":"IF(OR(NOT(ISERROR(BQ170)),NOT(ISERROR(BJ170))),BJ170&\"/\"&BQ170,\"FAIL\")","v":"FAIL"},null,null,null,null,null,null,null,"Interior / Exterior",null,"",null,{"$f":"IF(RIGHT(I170,4)=\"Case\",(INDEX('LED Case Lighting'!$AZ$3:$AZ$36,MATCH('Analysis 103L'!$CK170,'LED Case Lighting'!$AS$3:$AS$36,0))),IF(CB170=0,0,IF(CB170=\"lamp\",((Q170/VLOOKUP(B170,Int_Ext,2,FALSE))*VLOOKUP(E170,NEB,16,FALSE)),IF(CB170=\"fixture\",((Q170/VLOOKUP(B170,Int_Ext,2,FALSE))*VLOOKUP(E170,NEB,14,FALSE)),\"\"))))","v":""},null,{"$f":"IF(RIGHT(I170,4)=\"Case\",INDEX('Equipment Type'!$V$4:$V$53, MATCH('Analysis 103L'!$K170, 'Equipment Type'!$A$4:$A$53, 0)), \"\")","v":""},"","","","","",{"$f":"IF(CK170=\"\", \"\", INDEX('LED Case Lighting'!$AR$3:$AR$36, MATCH('Analysis 103L'!CK170, 'LED Case Lighting'!$AS$3:$AS$36, 0)))","v":""},{"$f":"IF(CK170=\"\", \"\", INDEX('LED Case Lighting'!$AW$3:$AW$36, MATCH('Analysis 103L'!CK170, 'LED Case Lighting'!$AS$3:$AS$36, 0)))","v":""},{"$f":"IF(CK170=\"\", \"\", INDEX('LED Case Lighting'!$AX$3:$AX$36, MATCH('Analysis 103L'!CK170, 'LED Case Lighting'!$AS$3:$AS$36, 0)))","v":""},""]
[144,null,null,null,null,null,"",null,{"$f":"IF(K171=\"\",\"\",VLOOKUP(K171,'Equipment Type'!$A$1:$F$53,5,FALSE))","v":""},{"$f":"IF(K171=\"\",\"\",VLOOKUP(K171,'Equipment Type'!$A$1:$F$53,6,FALSE))","v":""},null,{"$f":"IF(K171=\"\",\"\",VLOOKUP(K171,'Equipment Type'!$A$1:$F$53,4,FALSE))","v":""},null,{"$f":"IF(K171=\"\",\"\",INDEX('Equipment Type'!$T$4:$T$53,MATCH('Analysis 103L'!K171,'Equipment Type'!$A$4:$A$53,0)))","v":""},"",null,{"$f":"IF(RIGHT(I171, 4)=\"Case\", \"\", IF(P171=\"\",\"\",(IF(ISNUMBER(SEARCH(\"exit\",J171)),8760,IF(B171=\"Exterior\",4380,'Analysis 103L'!$J$3)))))","v":""},null,"","","","","","","","",{"$f":"IF('100L Information'!$Z$5=\"Yes\",0,IF('100L Information'!$Z$4=\"Yes\",(MIN($Y$232-(-$Y$227),6000)*0.5)*(Y171/$Y$232),$Y$232*(Y171/($Y$230+$Y$231))))","v":{"$error":"#VALUE!"}},"",{"$error":"#VALUE!"},"No requirement",0,{"$f":"IF(OR(Z171=\"Does not meet requirement\",AND('100L Information'!$AA$21=\"No\",AL171=\"Y\"),AND('100L Information'!$AS$21=FALSE,AL171=\"Y\")),0,IF(ISNUMBER(R171*Incent_Cost_Fixture_Rx),MIN(R171*Incent_Cost_Fixture_Rx,(MAX(AE171,AK171))),0))","v":0},"FAIL","0","0","0",0,"N","0","0",null,"","",0,"",{"$f":"IF(RIGHT(I171,4)=\"Case\",W171,IF(AND(AL171=\"Y\",AF171<1),0,IF(OR(LEFT(D171,2)=\"T5\",LEFT(D171,3)=\"CFL\",'Analysis 103L'!AS171=\"Less\"),'Analysis 103L'!AR171,'Analysis 103L'!W171)))","v":""},null,0,0,null,{"$error":"#VALUE!"},{"$error":"#VALUE!"},{"$error":"#VALUE!"},null,null,{"$f":"IF(RIGHT(I171,4)=\"Case\",'LED Case Lighting'!$AY$1,IF(J171=\"\",\"\",VLOOKUP(J171,Lookups!$A$30:$J$172,VLOOKUP('100L Information'!$AI$46,Lookups!$J$3:$L$6,3,FALSE),FALSE)))","v":""},{"$error":"#N/A"},"","",{"$error":"#VALUE!"},{"$error":"#VALUE!"},{"$error":"#VALUE!"},{"$error":"#N/A"},0,{"$error":"#N/A"},0,{"$error":"#VALUE!"},{"$error":"#VALUE!"},{"$error":"#VALUE!"},"FAIL",null,null,null,null,null,null,null,"Interior / Exterior",null,"",null,{"$f":"IF(RIGHT(I171,4)=\"Case\",(INDEX('LED Case Lighting'!$AZ$3:$AZ$36,MATCH('Analysis 103L'!$CK171,'LED Case Lighting'!$AS$3:$AS$36,0))),IF(CB171=0,0,IF(CB171=\"lamp\",((Q171/VLOOKUP(B171,Int_Ext,2,FALSE))*VLOOKUP(E171,NEB,16,FALSE)),IF(CB171=\"fixture\",((Q171/VLOOKUP(B171,Int_Ext,2,FALSE))*VLOOKUP(E171,NEB,14,FALSE)),\"\"))))","v":""},null,{"$f":"IF(RIGHT(I171,4)=\"Case\",INDEX('Equipment Type'!$V$4:$V$53, MATCH('Analysis 103L'!$K171, 'Equipment Type'!$A$4:$A$53, 0)), \"\")","v":""},"","","","","",{"$f":"IF(CK171=\"\", \"\", INDEX('LED Case Lighting'!$AR$3:$AR$36, MATCH('Analysis 103L'!CK171, 'LED Case Lighting'!$AS$3:$AS$36, 0)))","v":""},{"$f":"IF(CK171=\"\", \"\", INDEX('LED Case Lighting'!$AW$3:$AW$36, MATCH('Analysis 103L'!CK171, 'LED Case Lighting'!$AS$3:$AS$36, 0)))","v":""},{"$f":"IF(CK171=\"\", \"\", INDEX('LED Case Lighting'!$AX$3:$AX$36, MATCH('Analysis 103L'!CK171, 'LED Case Lighting'!$AS$3:$AS$36, 0)))","v":""},""]
[145,null,null,null,null,null,"",null,{"$f":"IF(K172=\"\",\"\",VLOOKUP(K172,'Equipment Type'!$A$1:$F$53,5,FALSE))","v":""},{"$f":"IF(K172=\"\",\"\",VLOOKUP(K172,'Equipment Type'!$A$1:$F$53,6,FALSE))","v":""},null,{"$f":"IF(K172=\"\",\"\",VLOOKUP(K172,'Equipment Type'!$A$1:$F$53,4,FALSE))","v":""},null,{"$f":"IF(K172=\"\",\"\",INDEX('Equipment Type'!$T$4:$T$53,MATCH('Analysis 103L'!K172,'Equipment Type'!$A$4:$A$53,0)))","v":""},"",null,{"$f":"IF(RIGHT(I172, 4)=\"Case\", \"\", IF(P172=\"\",\"\",(IF(ISNUMBER(SEARCH(\"exit\",J172)),8760,IF(B172=\"Exterior\",4380,'Analysis 103L'!$J$3)))))","v":""},null,{"$f":"IF(RIGHT(I172, 4)=\"Case\", IF(LEFT(J172, 6)=\"Motion\", \"\", \"<-- Enter total cost.\"), IF(P172=\"\",\"\",IF(AND(AL172=\"Y\",X172=\"\"),\"\",P172*R172)))","v":""},{"$f":"IF(RIGHT(I172, 4)=\"Case\", \"\", IF(P172=\"\",\"\",IF(ISERROR(AY172),0,AY172)))","v":""},{"$f":"IF(RIGHT(I172, 4)=\"Case\", \"\", IF(H172=\"\",\"\",(G172*H172)*Q172/1000))","v":""},{"$f":"IF(RIGHT(I172, 4)=\"Case\", \"\", IF(P172=\"\",\"\",(N172*P172)*Q172/1000))","v":""},{"$f":"IF(RIGHT(I172, 4)=\"Case\", IF(LEFT(J172, 6)=\"Motion\", \"\", CM172*P172), IF(U172=\"\",\"\",IF(AND(ISNUMBER(U172),ISNUMBER(V172)),U172-V172,\"\")))","v":""},"","","",{"$f":"IF('100L Information'!$Z$5=\"Yes\",0,IF('100L Information'!$Z$4=\"Yes\",(MIN($Y$232-(-$Y$227),6000)*0.5)*(Y172/$Y$232),$Y$232*(Y172/($Y$230+$Y$231))))","v":{"$error":"#VALUE!"}},"",{"$error":"#VALUE!"},"No requirement",0,{"$f":"IF(OR(Z172=\"Does not meet requirement\",AND('100L Information'!$AA$21=\"No\",AL172=\"Y\"),AND('100L Information'!$AS$21=FALSE,AL172=\"Y\")),0,IF(ISNUMBER(R172*Incent_Cost_Fixture_Rx),MIN(R172*Incent_Cost_Fixture_Rx,(MAX(AE172,AK172))),0))","v":0},"FAIL","0","0","0",0,"N","0","0",null,"","",0,"",{"$f":"IF(RIGHT(I172,4)=\"Case\",W172,IF(AND(AL172=\"Y\",AF172<1),0,IF(OR(LEFT(D172,2)=\"T5\",LEFT(D172,3)=\"CFL\",'Analysis 103L'!AS172=\"Less\"),'Analysis 103L'!AR172,'Analysis 103L'!W172)))","v":""},null,0,0,null,{"$error":"#VALUE!"},{"$error":"#VALUE!"},{"$error":"#VALUE!"},null,null,{"$f":"IF(RIGHT(I172,4)=\"Case\",'LED Case Lighting'!$AY$1,IF(J172=\"\",\"\",VLOOKUP(J172,Lookups!$A$30:$J$172,VLOOKUP('100L Information'!$AI$46,Lookups!$J$3:$L$6,3,FALSE),FALSE)))","v":""},{"$error":"#N/A"},"","",{"$error":"#VALUE!"},{"$error":"#VALUE!"},{"$error":"#VALUE!"},{"$error":"#N/A"},0,{"$error":"#N/A"},0,{"$error":"#VALUE!"},{"$error":"#VALUE!"},{"$error":"#VALUE!"},"FAIL",null,null,null,null,null,null,null,"Interior / Exterior",null,"",null,{"$f":"IF(RIGHT(I172,4)=\"Case\",(INDEX('LED Case Lighting'!$AZ$3:$AZ$36,MATCH('Analysis 103L'!$CK172,'LED Case Lighting'!$AS$3:$AS$36,0))),IF(CB172=0,0,IF(CB172=\"lamp\",((Q172/VLOOKUP(B172,Int_Ext,2,FALSE))*VLOOKUP(E172,NEB,16,FALSE)),IF(CB172=\"fixture\",((Q172/VLOOKUP(B172,Int_Ext,2,FALSE))*VLOOKUP(E172,NEB,14,FALSE)),\"\"))))","v":""},null,{"$f":"IF(RIGHT(I172,4)=\"Case\",INDEX('Equipment Type'!$V$4:$V$53, MATCH('Analysis 103L'!$K172, 'Equipment Type'!$A$4:$A$53, 0)), \"\")","v":""},"","","","","",{"$f":"IF(CK172=\"\", \"\", INDEX('LED Case Lighting'!$AR$3:$AR$36, MATCH('Analysis 103L'!CK172, 'LED Case Lighting'!$AS$3:$AS$36, 0)))","v":""},{"$f":"IF(CK172=\"\", \"\", INDEX('LED Case Lighting'!$AW$3:$AW$36, MATCH('Analysis 103L'!CK172, 'LED Case Lighting'!$AS$3:$AS$36, 0)))","v":""},{"$f":"IF(CK172=\"\", \"\", INDEX('LED Case Lighting'!$AX$3:$AX$36, MATCH('Analysis 103L'!CK172, 'LED Case Lighting'!$AS$3:$AS$36, 0)))","v":""},""]
[146,null,null,null,null,null,"",null,{"$f":"IF(K173=\"\",\"\",VLOOKUP(K173,'Equipment Type'!$A$1:$F$53,5,FALSE))","v":""},{"$f":"IF(K173=\"\",\"\",VLOOKUP(K173,'Equipment Type'!$A$1:$F$53,6,FALSE))","v":""},null,{"$f":"IF(K173=\"\",\"\",VLOOKUP(K173,'Equipment Type'!$A$1:$F$53,4,FALSE))","v":""},null,{"$f":"IF(K173=\"\",\"\",INDEX('Equipment Type'!$T$4:$T$53,MATCH('Analysis 103L'!K173,'Equipment Type'!$A$4:$A$53,0)))","v":""},"",null,{"$f":"IF(RIGHT(I173, 4)=\"Case\", \"\", IF(P173=\"\",\"\",(IF(ISNUMBER(SEARCH(\"exit\",J173)),8760,IF(B173=\"Exterior\",4380,'Analysis 103L'!$J$3)))))","v":""},null,"","","","","","","","",{"$f":"IF('100L Information'!$Z$5=\"Yes\",0,IF('100L Information'!$Z$4=\"Yes\",(MIN($Y$232-(-$Y$227),6000)*0.5)*(Y173/$Y$232),$Y$232*(Y173/($Y$230+$Y$231))))","v":{"$error":"#VALUE!"}},"",{"$error":"#VALUE!"},"No requirement",0,{"$f":"IF(OR(Z173=\"Does not meet requirement\",AND('100L Information'!$AA$21=\"No\",AL173=\"Y\"),AND('100L Information'!$AS$21=FALSE,AL173=\"Y\")),0,IF(ISNUMBER(R173*Incent_Cost_Fixture_Rx),MIN(R173*Incent_Cost_Fixture_Rx,(MAX(AE173,AK173))),0))","v":0},"FAIL","0","0","0",0,"N","0","0",null,"","",0,"",{"$f":"IF(RIGHT(I173,4)=\"Case\",W173,IF(AND(AL173=\"Y\",AF173<1),0,IF(OR(LEFT(D173,2)=\"T5\",LEFT(D173,3)=\"CFL\",'Analysis 103L'!AS173=\"Less\"),'Analysis 103L'!AR173,'Analysis 103L'!W173)))","v":""},null,0,0,null,{"$error":"#VALUE!"},{"$error":"#VALUE!"},{"$error":"#VALUE!"},null,null,{"$f":"IF(RIGHT(I173,4)=\"Case\",'LED Case Lighting'!$AY$1,IF(J173=\"\",\"\",VLOOKUP(J173,Lookups!$A$30:$J$172,VLOOKUP('100L Information'!$AI$46,Lookups!$J$3:$L$6,3,FALSE),FALSE)))","v":""},{"$error":"#N/A"},"","",{"$error":"#VALUE!"},{"$error":"#VALUE!"},{"$error":"#VALUE!"},{"$error":"#N/A"},0,{"$error":"#N/A"},0,{"$error":"#VALUE!"},{"$error":"#VALUE!"},{"$error":"#VALUE!"},"FAIL",null,null,null,null,null,null,null,"Interior / Exterior",null,"",null,{"$f":"IF(RIGHT(I173,4)=\"Case\",(INDEX('LED Case Lighting'!$AZ$3:$AZ$36,MATCH('Analysis 103L'!$CK173,'LED Case Lighting'!$AS$3:$AS$36,0))),IF(CB173=0,0,IF(CB173=\"lamp\",((Q173/VLOOKUP(B173,Int_Ext,2,FALSE))*VLOOKUP(E173,NEB,16,FALSE)),IF(CB173=\"fixture\",((Q173/VLOOKUP(B173,Int_Ext,2,FALSE))*VLOOKUP(E173,NEB,14,FALSE)),\"\"))))","v":""},null,{"$f":"IF(RIGHT(I173,4)=\"Case\",INDEX('Equipment Type'!$V$4:$V$53, MATCH('Analysis 103L'!$K173, 'Equipment Type'!$A$4:$A$53, 0)), \"\")","v":""},"","","","","",{"$f":"IF(CK173=\"\", \"\", INDEX('LED Case Lighting'!$AR$3:$AR$36, MATCH('Analysis 103L'!CK173, 'LED Case Lighting'!$AS$3:$AS$36, 0)))","v":""},{"$f":"IF(CK173=\"\", \"\", INDEX('LED Case Lighting'!$AW$3:$AW$36, MATCH('Analysis 103L'!CK173, 'LED Case Lighting'!$AS$3:$AS$36, 0)))","v":""},{"$f":"IF(CK173=\"\", \"\", INDEX('LED Case Lighting'!$AX$3:$AX$36, MATCH('Analysis 103L'!CK173, 'LED Case Lighting'!$AS$3:$AS$36, 0)))","v":""},""]
[147,null,null,null,null,null,"",null,{"$f":"IF(K174=\"\",\"\",VLOOKUP(K174,'Equipment Type'!$A$1:$F$53,5,FALSE))","v":""},{"$f":"IF(K174=\"\",\"\",VLOOKUP(K174,'Equipment Type'!$A$1:$F$53,6,FALSE))","v":""},null,{"$f":"IF(K174=\"\",\"\",VLOOKUP(K174,'Equipment Type'!$A$1:$F$53,4,FALSE))","v":""},null,{"$f":"IF(K174=\"\",\"\",INDEX('Equipment Type'!$T$4:$T$53,MATCH('Analysis 103L'!K174,'Equipment Type'!$A$4:$A$53,0)))","v":""},"",null,{"$f":"IF(RIGHT(I174, 4)=\"Case\", \"\", IF(P174=\"\",\"\",(IF(ISNUMBER(SEARCH(\"exit\",J174)),8760,IF(B174=\"Exterior\",4380,'Analysis 103L'!$J$3)))))","v":""},null,"","","","","","","","",{"$f":"IF('100L Information'!$Z$5=\"Yes\",0,IF('100L Information'!$Z$4=\"Yes\",(MIN($Y$232-(-$Y$227),6000)*0.5)*(Y174/$Y$232),$Y$232*(Y174/($Y$230+$Y$231))))","v":{"$error":"#VALUE!"}},"",{"$error":"#VALUE!"},"No requirement",0,{"$f":"IF(OR(Z174=\"Does not meet requirement\",AND('100L Information'!$AA$21=\"No\",AL174=\"Y\"),AND('100L Information'!$AS$21=FALSE,AL174=\"Y\")),0,IF(ISNUMBER(R174*Incent_Cost_Fixture_Rx),MIN(R174*Incent_Cost_Fixture_Rx,(MAX(AE174,AK174))),0))","v":0},"FAIL","0","0","0",0,"N","0","0",null,"","",0,"",{"$f":"IF(RIGHT(I174,4)=\"Case\",W174,IF(AND(AL174=\"Y\",AF174<1),0,IF(OR(LEFT(D174,2)=\"T5\",LEFT(D174,3)=\"CFL\",'Analysis 103L'!AS174=\"Less\"),'Analysis 103L'!AR174,'Analysis 103L'!W174)))","v":""},null,0,0,null,{"$error":"#VALUE!"},{"$error":"#VALUE!"},{"$error":"#VALUE!"},null,null,{"$f":"IF(RIGHT(I174,4)=\"Case\",'LED Case Lighting'!$AY$1,IF(J174=\"\",\"\",VLOOKUP(J174,Lookups!$A$30:$J$172,VLOOKUP('100L Information'!$AI$46,Lookups!$J$3:$L$6,3,FALSE),FALSE)))","v":""},{"$error":"#N/A"},"","",{"$error":"#VALUE!"},{"$error":"#VALUE!"},{"$error":"#VALUE!"},{"$error":"#N/A"},0,{"$error":"#N/A"},0,{"$error":"#VALUE!"},{"$error":"#VALUE!"},{"$error":"#VALUE!"},"FAIL",null,null,null,null,null,null,null,"Interior / Exterior",null,"",null,{"$f":"IF(RIGHT(I174,4)=\"Case\",(INDEX('LED Case Lighting'!$AZ$3:$AZ$36,MATCH('Analysis 103L'!$CK174,'LED Case Lighting'!$AS$3:$AS$36,0))),IF(CB174=0,0,IF(CB174=\"lamp\",((Q174/VLOOKUP(B174,Int_Ext,2,FALSE))*VLOOKUP(E174,NEB,16,FALSE)),IF(CB174=\"fixture\",((Q174/VLOOKUP(B174,Int_Ext,2,FALSE))*VLOOKUP(E174,NEB,14,FALSE)),\"\"))))","v":""},null,{"$f":"IF(RIGHT(I174,4)=\"Case\",INDEX('Equipment Type'!$V$4:$V$53, MATCH('Analysis 103L'!$K174, 'Equipment Type'!$A$4:$A$53, 0)), \"\")","v":""},"","","","","",{"$f":"IF(CK174=\"\", \"\", INDEX('LED Case Lighting'!$AR$3:$AR$36, MATCH('Analysis 103L'!CK174, 'LED Case Lighting'!$AS$3:$AS$36, 0)))","v":""},{"$f":"IF(CK174=\"\", \"\", INDEX('LED Case Lighting'!$AW$3:$AW$36, MATCH('Analysis 103L'!CK174, 'LED Case Lighting'!$AS$3:$AS$36, 0)))","v":""},{"$f":"IF(CK174=\"\", \"\", INDEX('LED Case Lighting'!$AX$3:$AX$36, MATCH('Analysis 103L'!CK174, 'LED Case Lighting'!$AS$3:$AS$36, 0)))","v":""},""]
[148,null,null,null,null,null,"",null,{"$f":"IF(K175=\"\",\"\",VLOOKUP(K175,'Equipment Type'!$A$1:$F$53,5,FALSE))","v":""},{"$f":"IF(K175=\"\",\"\",VLOOKUP(K175,'Equipment Type'!$A$1:$F$53,6,FALSE))","v":""},null,{"$f":"IF(K175=\"\",\"\",VLOOKUP(K175,'Equipment Type'!$A$1:$F$53,4,FALSE))","v":""},null,{"$f":"IF(K175=\"\",\"\",INDEX('Equipment Type'!$T$4:$T$53,MATCH('Analysis 103L'!K175,'Equipment Type'!$A$4:$A$53,0)))","v":""},"",null,{"$f":"IF(RIGHT(I175, 4)=\"Case\", \"\", IF(P175=\"\",\"\",(IF(ISNUMBER(SEARCH(\"exit\",J175)),8760,IF(B175=\"Exterior\",4380,'Analysis 103L'!$J$3)))))","v":""},null,"","","","","","","","",{"$f":"IF('100L Information'!$Z$5=\"Yes\",0,IF('100L Information'!$Z$4=\"Yes\",(MIN($Y$232-(-$Y$227),6000)*0.5)*(Y175/$Y$232),$Y$232*(Y175/($Y$230+$Y$231))))","v":{"$error":"#VALUE!"}},"",{"$error":"#VALUE!"},"No requirement",0,{"$f":"IF(OR(Z175=\"Does not meet requirement\",AND('100L Information'!$AA$21=\"No\",AL175=\"Y\"),AND('100L Information'!$AS$21=FALSE,AL175=\"Y\")),0,IF(ISNUMBER(R175*Incent_Cost_Fixture_Rx),MIN(R175*Incent_Cost_Fixture_Rx,(MAX(AE175,AK175))),0))","v":0},"FAIL","0","0","0",0,"N","0","0",null,"","",0,"",{"$f":"IF(RIGHT(I175,4)=\"Case\",W175,IF(AND(AL175=\"Y\",AF175<1),0,IF(OR(LEFT(D175,2)=\"T5\",LEFT(D175,3)=\"CFL\",'Analysis 103L'!AS175=\"Less\"),'Analysis 103L'!AR175,'Analysis 103L'!W175)))","v":""},null,0,0,null,{"$error":"#VALUE!"},{"$error":"#VALUE!"},{"$error":"#VALUE!"},null,null,{"$f":"IF(RIGHT(I175,4)=\"Case\",'LED Case Lighting'!$AY$1,IF(J175=\"\",\"\",VLOOKUP(J175,Lookups!$A$30:$J$172,VLOOKUP('100L Information'!$AI$46,Lookups!$J$3:$L$6,3,FALSE),FALSE)))","v":""},{"$error":"#N/A"},"","",{"$error":"#VALUE!"},{"$error":"#VALUE!"},{"$error":"#VALUE!"},{"$error":"#N/A"},0,{"$error":"#N/A"},0,{"$error":"#VALUE!"},{"$error":"#VALUE!"},{"$error":"#VALUE!"},"FAIL",null,null,null,null,null,null,null,"Interior / Exterior",null,"",null,{"$f":"IF(RIGHT(I175,4)=\"Case\",(INDEX('LED Case Lighting'!$AZ$3:$AZ$36,MATCH('Analysis 103L'!$CK175,'LED Case Lighting'!$AS$3:$AS$36,0))),IF(CB175=0,0,IF(CB175=\"lamp\",((Q175/VLOOKUP(B175,Int_Ext,2,FALSE))*VLOOKUP(E175,NEB,16,FALSE)),IF(CB175=\"fixture\",((Q175/VLOOKUP(B175,Int_Ext,2,FALSE))*VLOOKUP(E175,NEB,14,FALSE)),\"\"))))","v":""},null,{"$f":"IF(RIGHT(I175,4)=\"Case\",INDEX('Equipment Type'!$V$4:$V$53, MATCH('Analysis 103L'!$K175, 'Equipment Type'!$A$4:$A$53, 0)), \"\")","v":""},"","","","","",{"$f":"IF(CK175=\"\", \"\", INDEX('LED Case Lighting'!$AR$3:$AR$36, MATCH('Analysis 103L'!CK175, 'LED Case Lighting'!$AS$3:$AS$36, 0)))","v":""},{"$f":"IF(CK175=\"\", \"\", INDEX('LED Case Lighting'!$AW$3:$AW$36, MATCH('Analysis 103L'!CK175, 'LED Case Lighting'!$AS$3:$AS$36, 0)))","v":""},{"$f":"IF(CK175=\"\", \"\", INDEX('LED Case Lighting'!$AX$3:$AX$36, MATCH('Analysis 103L'!CK175, 'LED Case Lighting'!$AS$3:$AS$36, 0)))","v":""},""]
[149,null,null,null,null,null,"",null,{"$f":"IF(K176=\"\",\"\",VLOOKUP(K176,'Equipment Type'!$A$1:$F$53,5,FALSE))","v":""},{"$f":"IF(K176=\"\",\"\",VLOOKUP(K176,'Equipment Type'!$A$1:$F$53,6,FALSE))","v":""},null,{"$f":"IF(K176=\"\",\"\",VLOOKUP(K176,'Equipment Type'!$A$1:$F$53,4,FALSE))","v":""},null,{"$f":"IF(K176=\"\",\"\",INDEX('Equipment Type'!$T$4:$T$53,MATCH('Analysis 103L'!K176,'Equipment Type'!$A$4:$A$53,0)))","v":""},"",null,{"$f":"IF(RIGHT(I176, 4)=\"Case\", \"\", IF(P176=\"\",\"\",(IF(ISNUMBER(SEARCH(\"exit\",J176)),8760,IF(B176=\"Exterior\",4380,'Analysis 103L'!$J$3)))))","v":""},null,"","","","","","","","",{"$f":"IF('100L Information'!$Z$5=\"Yes\",0,IF('100L Information'!$Z$4=\"Yes\",(MIN($Y$232-(-$Y$227),6000)*0.5)*(Y176/$Y$232),$Y$232*(Y176/($Y$230+$Y$231))))","v":{"$error":"#VALUE!"}},"",{"$error":"#VALUE!"},"No requirement",0,{"$f":"IF(OR(Z176=\"Does not meet requirement\",AND('100L Information'!$AA$21=\"No\",AL176=\"Y\"),AND('100L Information'!$AS$21=FALSE,AL176=\"Y\")),0,IF(ISNUMBER(R176*Incent_Cost_Fixture_Rx),MIN(R176*Incent_Cost_Fixture_Rx,(MAX(AE176,AK176))),0))","v":0},"FAIL","0","0","0",0,"N","0","0",null,"","",0,"",{"$f":"IF(RIGHT(I176,4)=\"Case\",W176,IF(AND(AL176=\"Y\",AF176<1),0,IF(OR(LEFT(D176,2)=\"T5\",LEFT(D176,3)=\"CFL\",'Analysis 103L'!AS176=\"Less\"),'Analysis 103L'!AR176,'Analysis 103L'!W176)))","v":""},null,0,0,null,{"$error":"#VALUE!"},{"$error":"#VALUE!"},{"$error":"#VALUE!"},null,null,{"$f":"IF(RIGHT(I176,4)=\"Case\",'LED Case Lighting'!$AY$1,IF(J176=\"\",\"\",VLOOKUP(J176,Lookups!$A$30:$J$172,VLOOKUP('100L Information'!$AI$46,Lookups!$J$3:$L$6,3,FALSE),FALSE)))","v":""},{"$error":"#N/A"},"","",{"$error":"#VALUE!"},{"$error":"#VALUE!"},{"$error":"#VALUE!"},{"$error":"#N/A"},0,{"$error":"#N/A"},0,{"$error":"#VALUE!"},{"$error":"#VALUE!"},{"$error":"#VALUE!"},"FAIL",null,null,null,null,null,null,null,"Interior / Exterior",null,"",null,{"$f":"IF(RIGHT(I176,4)=\"Case\",(INDEX('LED Case Lighting'!$AZ$3:$AZ$36,MATCH('Analysis 103L'!$CK176,'LED Case Lighting'!$AS$3:$AS$36,0))),IF(CB176=0,0,IF(CB176=\"lamp\",((Q176/VLOOKUP(B176,Int_Ext,2,FALSE))*VLOOKUP(E176,NEB,16,FALSE)),IF(CB176=\"fixture\",((Q176/VLOOKUP(B176,Int_Ext,2,FALSE))*VLOOKUP(E176,NEB,14,FALSE)),\"\"))))","v":""},null,{"$f":"IF(RIGHT(I176,4)=\"Case\",INDEX('Equipment Type'!$V$4:$V$53, MATCH('Analysis 103L'!$K176, 'Equipment Type'!$A$4:$A$53, 0)), \"\")","v":""},"","","","","",{"$f":"IF(CK176=\"\", \"\", INDEX('LED Case Lighting'!$AR$3:$AR$36, MATCH('Analysis 103L'!CK176, 'LED Case Lighting'!$AS$3:$AS$36, 0)))","v":""},{"$f":"IF(CK176=\"\", \"\", INDEX('LED Case Lighting'!$AW$3:$AW$36, MATCH('Analysis 103L'!CK176, 'LED Case Lighting'!$AS$3:$AS$36, 0)))","v":""},{"$f":"IF(CK176=\"\", \"\", INDEX('LED Case Lighting'!$AX$3:$AX$36, MATCH('Analysis 103L'!CK176, 'LED Case Lighting'!$AS$3:$AS$36, 0)))","v":""},""]
[150,null,null,null,null,null,"",null,{"$f":"IF(K177=\"\",\"\",VLOOKUP(K177,'Equipment Type'!$A$1:$F$53,5,FALSE))","v":""},{"$f":"IF(K177=\"\",\"\",VLOOKUP(K177,'Equipment Type'!$A$1:$F$53,6,FALSE))","v":""},null,{"$f":"IF(K177=\"\",\"\",VLOOKUP(K177,'Equipment Type'!$A$1:$F$53,4,FALSE))","v":""},null,{"$f":"IF(K177=\"\",\"\",INDEX('Equipment Type'!$T$4:$T$53,MATCH('Analysis 103L'!K177,'Equipment Type'!$A$4:$A$53,0)))","v":""},"",null,{"$f":"IF(RIGHT(I177, 4)=\"Case\", \"\", IF(P177=\"\",\"\",(IF(ISNUMBER(SEARCH(\"exit\",J177)),8760,IF(B177=\"Exterior\",4380,'Analysis 103L'!$J$3)))))","v":""},null,"","","","","","","","",{"$f":"IF('100L Information'!$Z$5=\"Yes\",0,IF('100L Information'!$Z$4=\"Yes\",(MIN($Y$232-(-$Y$227),6000)*0.5)*(Y177/$Y$232),$Y$232*(Y177/($Y$230+$Y$231))))","v":{"$error":"#VALUE!"}},"",{"$error":"#VALUE!"},"No requirement",0,{"$f":"IF(OR(Z177=\"Does not meet requirement\",AND('100L Information'!$AA$21=\"No\",AL177=\"Y\"),AND('100L Information'!$AS$21=FALSE,AL177=\"Y\")),0,IF(ISNUMBER(R177*Incent_Cost_Fixture_Rx),MIN(R177*Incent_Cost_Fixture_Rx,(MAX(AE177,AK177))),0))","v":0},"FAIL","0","0","0",0,"N","0","0",null,"","",0,"",{"$f":"IF(RIGHT(I177,4)=\"Case\",W177,IF(AND(AL177=\"Y\",AF177<1),0,IF(OR(LEFT(D177,2)=\"T5\",LEFT(D177,3)=\"CFL\",'Analysis 103L'!AS177=\"Less\"),'Analysis 103L'!AR177,'Analysis 103L'!W177)))","v":""},null,0,0,null,{"$error":"#VALUE!"},{"$error":"#VALUE!"},{"$error":"#VALUE!"},null,null,{"$f":"IF(RIGHT(I177,4)=\"Case\",'LED Case Lighting'!$AY$1,IF(J177=\"\",\"\",VLOOKUP(J177,Lookups!$A$30:$J$172,VLOOKUP('100L Information'!$AI$46,Lookups!$J$3:$L$6,3,FALSE),FALSE)))","v":""},{"$error":"#N/A"},"","",{"$error":"#VALUE!"},{"$error":"#VALUE!"},{"$error":"#VALUE!"},{"$error":"#N/A"},0,{"$error":"#N/A"},0,{"$error":"#VALUE!"},{"$error":"#VALUE!"},{"$error":"#VALUE!"},"FAIL",null,null,null,null,null,null,null,"Interior / Exterior",null,"",null,{"$f":"IF(RIGHT(I177,4)=\"Case\",(INDEX('LED Case Lighting'!$AZ$3:$AZ$36,MATCH('Analysis 103L'!$CK177,'LED Case Lighting'!$AS$3:$AS$36,0))),IF(CB177=0,0,IF(CB177=\"lamp\",((Q177/VLOOKUP(B177,Int_Ext,2,FALSE))*VLOOKUP(E177,NEB,16,FALSE)),IF(CB177=\"fixture\",((Q177/VLOOKUP(B177,Int_Ext,2,FALSE))*VLOOKUP(E177,NEB,14,FALSE)),\"\"))))","v":""},null,{"$f":"IF(RIGHT(I177,4)=\"Case\",INDEX('Equipment Type'!$V$4:$V$53, MATCH('Analysis 103L'!$K177, 'Equipment Type'!$A$4:$A$53, 0)), \"\")","v":""},"","","","","",{"$f":"IF(CK177=\"\", \"\", INDEX('LED Case Lighting'!$AR$3:$AR$36, MATCH('Analysis 103L'!CK177, 'LED Case Lighting'!$AS$3:$AS$36, 0)))","v":""},{"$f":"IF(CK177=\"\", \"\", INDEX('LED Case Lighting'!$AW$3:$AW$36, MATCH('Analysis 103L'!CK177, 'LED Case Lighting'!$AS$3:$AS$36, 0)))","v":""},{"$f":"IF(CK177=\"\", \"\", INDEX('LED Case Lighting'!$AX$3:$AX$36, MATCH('Analysis 103L'!CK177, 'LED Case Lighting'!$AS$3:$AS$36, 0)))","v":""},""]
[151,null,null,null,null,null,"",null,{"$f":"IF(K178=\"\",\"\",VLOOKUP(K178,'Equipment Type'!$A$1:$F$53,5,FALSE))","v":""},{"$f":"IF(K178=\"\",\"\",VLOOKUP(K178,'Equipment Type'!$A$1:$F$53,6,FALSE))","v":""},null,{"$f":"IF(K178=\"\",\"\",VLOOKUP(K178,'Equipment Type'!$A$1:$F$53,4,FALSE))","v":""},null,{"$f":"IF(K178=\"\",\"\",INDEX('Equipment Type'!$T$4:$T$53,MATCH('Analysis 103L'!K178,'Equipment Type'!$A$4:$A$53,0)))","v":""},"",null,{"$f":"IF(RIGHT(I178, 4)=\"Case\", \"\", IF(P178=\"\",\"\",(IF(ISNUMBER(SEARCH(\"exit\",J178)),8760,IF(B178=\"Exterior\",4380,'Analysis 103L'!$J$3)))))","v":""},null,"","","","","","","","",{"$f":"IF('100L Information'!$Z$5=\"Yes\",0,IF('100L Information'!$Z$4=\"Yes\",(MIN($Y$232-(-$Y$227),6000)*0.5)*(Y178/$Y$232),$Y$232*(Y178/($Y$230+$Y$231))))","v":{"$error":"#VALUE!"}},"",{"$error":"#VALUE!"},"No requirement",0,{"$f":"IF(OR(Z178=\"Does not meet requirement\",AND('100L Information'!$AA$21=\"No\",AL178=\"Y\"),AND('100L Information'!$AS$21=FALSE,AL178=\"Y\")),0,IF(ISNUMBER(R178*Incent_Cost_Fixture_Rx),MIN(R178*Incent_Cost_Fixture_Rx,(MAX(AE178,AK178))),0))","v":0},"FAIL","0","0","0",0,"N","0","0",null,"","",0,"",{"$f":"IF(RIGHT(I178,4)=\"Case\",W178,IF(AND(AL178=\"Y\",AF178<1),0,IF(OR(LEFT(D178,2)=\"T5\",LEFT(D178,3)=\"CFL\",'Analysis 103L'!AS178=\"Less\"),'Analysis 103L'!AR178,'Analysis 103L'!W178)))","v":""},null,0,0,null,{"$error":"#VALUE!"},{"$error":"#VALUE!"},{"$error":"#VALUE!"},null,null,{"$f":"IF(RIGHT(I178,4)=\"Case\",'LED Case Lighting'!$AY$1,IF(J178=\"\",\"\",VLOOKUP(J178,Lookups!$A$30:$J$172,VLOOKUP('100L Information'!$AI$46,Lookups!$J$3:$L$6,3,FALSE),FALSE)))","v":""},{"$error":"#N/A"},"","",{"$error":"#VALUE!"},{"$error":"#VALUE!"},{"$error":"#VALUE!"},{"$error":"#N/A"},0,{"$error":"#N/A"},0,{"$error":"#VALUE!"},{"$error":"#VALUE!"},{"$error":"#VALUE!"},"FAIL",null,null,null,null,null,null,null,"Interior / Exterior",null,"",null,{"$f":"IF(RIGHT(I178,4)=\"Case\",(INDEX('LED Case Lighting'!$AZ$3:$AZ$36,MATCH('Analysis 103L'!$CK178,'LED Case Lighting'!$AS$3:$AS$36,0))),IF(CB178=0,0,IF(CB178=\"lamp\",((Q178/VLOOKUP(B178,Int_Ext,2,FALSE))*VLOOKUP(E178,NEB,16,FALSE)),IF(CB178=\"fixture\",((Q178/VLOOKUP(B178,Int_Ext,2,FALSE))*VLOOKUP(E178,NEB,14,FALSE)),\"\"))))","v":""},null,{"$f":"IF(RIGHT(I178,4)=\"Case\",INDEX('Equipment Type'!$V$4:$V$53, MATCH('Analysis 103L'!$K178, 'Equipment Type'!$A$4:$A$53, 0)), \"\")","v":""},"","","","","",{"$f":"IF(CK178=\"\", \"\", INDEX('LED Case Lighting'!$AR$3:$AR$36, MATCH('Analysis 103L'!CK178, 'LED Case Lighting'!$AS$3:$AS$36, 0)))","v":""},{"$f":"IF(CK178=\"\", \"\", INDEX('LED Case Lighting'!$AW$3:$AW$36, MATCH('Analysis 103L'!CK178, 'LED Case Lighting'!$AS$3:$AS$36, 0)))","v":""},{"$f":"IF(CK178=\"\", \"\", INDEX('LED Case Lighting'!$AX$3:$AX$36, MATCH('Analysis 103L'!CK178, 'LED Case Lighting'!$AS$3:$AS$36, 0)))","v":""},""]
[152,null,null,null,null,null,"",null,{"$f":"IF(K179=\"\",\"\",VLOOKUP(K179,'Equipment Type'!$A$1:$F$53,5,FALSE))","v":""},{"$f":"IF(K179=\"\",\"\",VLOOKUP(K179,'Equipment Type'!$A$1:$F$53,6,FALSE))","v":""},null,{"$f":"IF(K179=\"\",\"\",VLOOKUP(K179,'Equipment Type'!$A$1:$F$53,4,FALSE))","v":""},null,{"$f":"IF(K179=\"\",\"\",INDEX('Equipment Type'!$T$4:$T$53,MATCH('Analysis 103L'!K179,'Equipment Type'!$A$4:$A$53,0)))","v":""},"",null,{"$f":"IF(RIGHT(I179, 4)=\"Case\", \"\", IF(P179=\"\",\"\",(IF(ISNUMBER(SEARCH(\"exit\",J179)),8760,IF(B179=\"Exterior\",4380,'Analysis 103L'!$J$3)))))","v":""},null,"","","","","","","","",{"$f":"IF('100L Information'!$Z$5=\"Yes\",0,IF('100L Information'!$Z$4=\"Yes\",(MIN($Y$232-(-$Y$227),6000)*0.5)*(Y179/$Y$232),$Y$232*(Y179/($Y$230+$Y$231))))","v":{"$error":"#VALUE!"}},"",{"$error":"#VALUE!"},"No requirement",0,{"$f":"IF(OR(Z179=\"Does not meet requirement\",AND('100L Information'!$AA$21=\"No\",AL179=\"Y\"),AND('100L Information'!$AS$21=FALSE,AL179=\"Y\")),0,IF(ISNUMBER(R179*Incent_Cost_Fixture_Rx),MIN(R179*Incent_Cost_Fixture_Rx,(MAX(AE179,AK179))),0))","v":0},"FAIL","0","0","0",0,"N","0","0",null,"","",0,"",{"$f":"IF(RIGHT(I179,4)=\"Case\",W179,IF(AND(AL179=\"Y\",AF179<1),0,IF(OR(LEFT(D179,2)=\"T5\",LEFT(D179,3)=\"CFL\",'Analysis 103L'!AS179=\"Less\"),'Analysis 103L'!AR179,'Analysis 103L'!W179)))","v":""},null,0,0,null,{"$error":"#VALUE!"},{"$error":"#VALUE!"},{"$error":"#VALUE!"},null,null,{"$f":"IF(RIGHT(I179,4)=\"Case\",'LED Case Lighting'!$AY$1,IF(J179=\"\",\"\",VLOOKUP(J179,Lookups!$A$30:$J$172,VLOOKUP('100L Information'!$AI$46,Lookups!$J$3:$L$6,3,FALSE),FALSE)))","v":""},{"$error":"#N/A"},"","",{"$error":"#VALUE!"},{"$error":"#VALUE!"},{"$error":"#VALUE!"},{"$error":"#N/A"},0,{"$error":"#N/A"},0,{"$error":"#VALUE!"},{"$error":"#VALUE!"},{"$error":"#VALUE!"},"FAIL",null,null,null,null,null,null,null,"Interior / Exterior",null,"",null,{"$f":"IF(RIGHT(I179,4)=\"Case\",(INDEX('LED Case Lighting'!$AZ$3:$AZ$36,MATCH('Analysis 103L'!$CK179,'LED Case Lighting'!$AS$3:$AS$36,0))),IF(CB179=0,0,IF(CB179=\"lamp\",((Q179/VLOOKUP(B179,Int_Ext,2,FALSE))*VLOOKUP(E179,NEB,16,FALSE)),IF(CB179=\"fixture\",((Q179/VLOOKUP(B179,Int_Ext,2,FALSE))*VLOOKUP(E179,NEB,14,FALSE)),\"\"))))","v":""},null,{"$f":"IF(RIGHT(I179,4)=\"Case\",INDEX('Equipment Type'!$V$4:$V$53, MATCH('Analysis 103L'!$K179, 'Equipment Type'!$A$4:$A$53, 0)), \"\")","v":""},"","","","","",{"$f":"IF(CK179=\"\", \"\", INDEX('LED Case Lighting'!$AR$3:$AR$36, MATCH('Analysis 103L'!CK179, 'LED Case Lighting'!$AS$3:$AS$36, 0)))","v":""},{"$f":"IF(CK179=\"\", \"\", INDEX('LED Case Lighting'!$AW$3:$AW$36, MATCH('Analysis 103L'!CK179, 'LED Case Lighting'!$AS$3:$AS$36, 0)))","v":""},{"$f":"IF(CK179=\"\", \"\", INDEX('LED Case Lighting'!$AX$3:$AX$36, MATCH('Analysis 103L'!CK179, 'LED Case Lighting'!$AS$3:$AS$36, 0)))","v":""},""]
[153,null,null,null,null,null,"",null,{"$f":"IF(K180=\"\",\"\",VLOOKUP(K180,'Equipment Type'!$A$1:$F$53,5,FALSE))","v":""},{"$f":"IF(K180=\"\",\"\",VLOOKUP(K180,'Equipment Type'!$A$1:$F$53,6,FALSE))","v":""},null,{"$f":"IF(K180=\"\",\"\",VLOOKUP(K180,'Equipment Type'!$A$1:$F$53,4,FALSE))","v":""},null,{"$f":"IF(K180=\"\",\"\",INDEX('Equipment Type'!$T$4:$T$53,MATCH('Analysis 103L'!K180,'Equipment Type'!$A$4:$A$53,0)))","v":""},"",null,{"$f":"IF(RIGHT(I180, 4)=\"Case\", \"\", IF(P180=\"\",\"\",(IF(ISNUMBER(SEARCH(\"exit\",J180)),8760,IF(B180=\"Exterior\",4380,'Analysis 103L'!$J$3)))))","v":""},null,"","","","","","","","",{"$f":"IF('100L Information'!$Z$5=\"Yes\",0,IF('100L Information'!$Z$4=\"Yes\",(MIN($Y$232-(-$Y$227),6000)*0.5)*(Y180/$Y$232),$Y$232*(Y180/($Y$230+$Y$231))))","v":{"$error":"#VALUE!"}},"",{"$error":"#VALUE!"},"No requirement",0,{"$f":"IF(OR(Z180=\"Does not meet requirement\",AND('100L Information'!$AA$21=\"No\",AL180=\"Y\"),AND('100L Information'!$AS$21=FALSE,AL180=\"Y\")),0,IF(ISNUMBER(R180*Incent_Cost_Fixture_Rx),MIN(R180*Incent_Cost_Fixture_Rx,(MAX(AE180,AK180))),0))","v":0},"FAIL","0","0","0",0,"N","0","0",null,"","",0,"",{"$f":"IF(RIGHT(I180,4)=\"Case\",W180,IF(AND(AL180=\"Y\",AF180<1),0,IF(OR(LEFT(D180,2)=\"T5\",LEFT(D180,3)=\"CFL\",'Analysis 103L'!AS180=\"Less\"),'Analysis 103L'!AR180,'Analysis 103L'!W180)))","v":""},null,0,0,null,{"$error":"#VALUE!"},{"$error":"#VALUE!"},{"$error":"#VALUE!"},null,null,{"$f":"IF(RIGHT(I180,4)=\"Case\",'LED Case Lighting'!$AY$1,IF(J180=\"\",\"\",VLOOKUP(J180,Lookups!$A$30:$J$172,VLOOKUP('100L Information'!$AI$46,Lookups!$J$3:$L$6,3,FALSE),FALSE)))","v":""},{"$error":"#N/A"},"","",{"$error":"#VALUE!"},{"$error":"#VALUE!"},{"$error":"#VALUE!"},{"$error":"#N/A"},0,{"$error":"#N/A"},0,{"$error":"#VALUE!"},{"$error":"#VALUE!"},{"$error":"#VALUE!"},"FAIL",null,null,null,null,null,null,null,"Interior / Exterior",null,"",null,{"$f":"IF(RIGHT(I180,4)=\"Case\",(INDEX('LED Case Lighting'!$AZ$3:$AZ$36,MATCH('Analysis 103L'!$CK180,'LED Case Lighting'!$AS$3:$AS$36,0))),IF(CB180=0,0,IF(CB180=\"lamp\",((Q180/VLOOKUP(B180,Int_Ext,2,FALSE))*VLOOKUP(E180,NEB,16,FALSE)),IF(CB180=\"fixture\",((Q180/VLOOKUP(B180,Int_Ext,2,FALSE))*VLOOKUP(E180,NEB,14,FALSE)),\"\"))))","v":""},null,{"$f":"IF(RIGHT(I180,4)=\"Case\",INDEX('Equipment Type'!$V$4:$V$53, MATCH('Analysis 103L'!$K180, 'Equipment Type'!$A$4:$A$53, 0)), \"\")","v":""},"","","","","",{"$f":"IF(CK180=\"\", \"\", INDEX('LED Case Lighting'!$AR$3:$AR$36, MATCH('Analysis 103L'!CK180, 'LED Case Lighting'!$AS$3:$AS$36, 0)))","v":""},{"$f":"IF(CK180=\"\", \"\", INDEX('LED Case Lighting'!$AW$3:$AW$36, MATCH('Analysis 103L'!CK180, 'LED Case Lighting'!$AS$3:$AS$36, 0)))","v":""},{"$f":"IF(CK180=\"\", \"\", INDEX('LED Case Lighting'!$AX$3:$AX$36, MATCH('Analysis 103L'!CK180, 'LED Case Lighting'!$AS$3:$AS$36, 0)))","v":""},""]
[154,null,null,null,null,null,"",null,{"$f":"IF(K181=\"\",\"\",VLOOKUP(K181,'Equipment Type'!$A$1:$F$53,5,FALSE))","v":""},{"$f":"IF(K181=\"\",\"\",VLOOKUP(K181,'Equipment Type'!$A$1:$F$53,6,FALSE))","v":""},null,{"$f":"IF(K181=\"\",\"\",VLOOKUP(K181,'Equipment Type'!$A$1:$F$53,4,FALSE))","v":""},null,{"$f":"IF(K181=\"\",\"\",INDEX('Equipment Type'!$T$4:$T$53,MATCH('Analysis 103L'!K181,'Equipment Type'!$A$4:$A$53,0)))","v":""},"",null,{"$f":"IF(RIGHT(I181, 4)=\"Case\", \"\", IF(P181=\"\",\"\",(IF(ISNUMBER(SEARCH(\"exit\",J181)),8760,IF(B181=\"Exterior\",4380,'Analysis 103L'!$J$3)))))","v":""},null,"","","","","","","","",{"$f":"IF('100L Information'!$Z$5=\"Yes\",0,IF('100L Information'!$Z$4=\"Yes\",(MIN($Y$232-(-$Y$227),6000)*0.5)*(Y181/$Y$232),$Y$232*(Y181/($Y$230+$Y$231))))","v":{"$error":"#VALUE!"}},"",{"$error":"#VALUE!"},"No requirement",0,{"$f":"IF(OR(Z181=\"Does not meet requirement\",AND('100L Information'!$AA$21=\"No\",AL181=\"Y\"),AND('100L Information'!$AS$21=FALSE,AL181=\"Y\")),0,IF(ISNUMBER(R181*Incent_Cost_Fixture_Rx),MIN(R181*Incent_Cost_Fixture_Rx,(MAX(AE181,AK181))),0))","v":0},"FAIL","0","0","0",0,"N","0","0",null,"","",0,"",{"$f":"IF(RIGHT(I181,4)=\"Case\",W181,IF(AND(AL181=\"Y\",AF181<1),0,IF(OR(LEFT(D181,2)=\"T5\",LEFT(D181,3)=\"CFL\",'Analysis 103L'!AS181=\"Less\"),'Analysis 103L'!AR181,'Analysis 103L'!W181)))","v":""},null,0,0,null,{"$error":"#VALUE!"},{"$error":"#VALUE!"},{"$error":"#VALUE!"},null,null,{"$f":"IF(RIGHT(I181,4)=\"Case\",'LED Case Lighting'!$AY$1,IF(J181=\"\",\"\",VLOOKUP(J181,Lookups!$A$30:$J$172,VLOOKUP('100L Information'!$AI$46,Lookups!$J$3:$L$6,3,FALSE),FALSE)))","v":""},{"$error":"#N/A"},"","",{"$error":"#VALUE!"},{"$error":"#VALUE!"},{"$error":"#VALUE!"},{"$error":"#N/A"},0,{"$error":"#N/A"},0,{"$error":"#VALUE!"},{"$error":"#VALUE!"},{"$error":"#VALUE!"},"FAIL",null,null,null,null,null,null,null,"Interior / Exterior",null,"",null,{"$f":"IF(RIGHT(I181,4)=\"Case\",(INDEX('LED Case Lighting'!$AZ$3:$AZ$36,MATCH('Analysis 103L'!$CK181,'LED Case Lighting'!$AS$3:$AS$36,0))),IF(CB181=0,0,IF(CB181=\"lamp\",((Q181/VLOOKUP(B181,Int_Ext,2,FALSE))*VLOOKUP(E181,NEB,16,FALSE)),IF(CB181=\"fixture\",((Q181/VLOOKUP(B181,Int_Ext,2,FALSE))*VLOOKUP(E181,NEB,14,FALSE)),\"\"))))","v":""},null,{"$f":"IF(RIGHT(I181,4)=\"Case\",INDEX('Equipment Type'!$V$4:$V$53, MATCH('Analysis 103L'!$K181, 'Equipment Type'!$A$4:$A$53, 0)), \"\")","v":""},"","","","","",{"$f":"IF(CK181=\"\", \"\", INDEX('LED Case Lighting'!$AR$3:$AR$36, MATCH('Analysis 103L'!CK181, 'LED Case Lighting'!$AS$3:$AS$36, 0)))","v":""},{"$f":"IF(CK181=\"\", \"\", INDEX('LED Case Lighting'!$AW$3:$AW$36, MATCH('Analysis 103L'!CK181, 'LED Case Lighting'!$AS$3:$AS$36, 0)))","v":""},{"$f":"IF(CK181=\"\", \"\", INDEX('LED Case Lighting'!$AX$3:$AX$36, MATCH('Analysis 103L'!CK181, 'LED Case Lighting'!$AS$3:$AS$36, 0)))","v":""},""]
[155,null,null,null,null,null,"",null,{"$f":"IF(K182=\"\",\"\",VLOOKUP(K182,'Equipment Type'!$A$1:$F$53,5,FALSE))","v":""},{"$f":"IF(K182=\"\",\"\",VLOOKUP(K182,'Equipment Type'!$A$1:$F$53,6,FALSE))","v":""},null,{"$f":"IF(K182=\"\",\"\",VLOOKUP(K182,'Equipment Type'!$A$1:$F$53,4,FALSE))","v":""},null,{"$f":"IF(K182=\"\",\"\",INDEX('Equipment Type'!$T$4:$T$53,MATCH('Analysis 103L'!K182,'Equipment Type'!$A$4:$A$53,0)))","v":""},"",null,{"$f":"IF(RIGHT(I182, 4)=\"Case\", \"\", IF(P182=\"\",\"\",(IF(ISNUMBER(SEARCH(\"exit\",J182)),8760,IF(B182=\"Exterior\",4380,'Analysis 103L'!$J$3)))))","v":""},null,"","","","","","","","",{"$f":"IF('100L Information'!$Z$5=\"Yes\",0,IF('100L Information'!$Z$4=\"Yes\",(MIN($Y$232-(-$Y$227),6000)*0.5)*(Y182/$Y$232),$Y$232*(Y182/($Y$230+$Y$231))))","v":{"$error":"#VALUE!"}},"",{"$error":"#VALUE!"},"No requirement",0,{"$f":"IF(OR(Z182=\"Does not meet requirement\",AND('100L Information'!$AA$21=\"No\",AL182=\"Y\"),AND('100L Information'!$AS$21=FALSE,AL182=\"Y\")),0,IF(ISNUMBER(R182*Incent_Cost_Fixture_Rx),MIN(R182*Incent_Cost_Fixture_Rx,(MAX(AE182,AK182))),0))","v":0},"FAIL","0","0","0",0,"N","0","0",null,"","",0,"",{"$f":"IF(RIGHT(I182,4)=\"Case\",W182,IF(AND(AL182=\"Y\",AF182<1),0,IF(OR(LEFT(D182,2)=\"T5\",LEFT(D182,3)=\"CFL\",'Analysis 103L'!AS182=\"Less\"),'Analysis 103L'!AR182,'Analysis 103L'!W182)))","v":""},null,0,0,null,{"$error":"#VALUE!"},{"$error":"#VALUE!"},{"$error":"#VALUE!"},null,null,{"$f":"IF(RIGHT(I182,4)=\"Case\",'LED Case Lighting'!$AY$1,IF(J182=\"\",\"\",VLOOKUP(J182,Lookups!$A$30:$J$172,VLOOKUP('100L Information'!$AI$46,Lookups!$J$3:$L$6,3,FALSE),FALSE)))","v":""},{"$error":"#N/A"},"","",{"$error":"#VALUE!"},{"$error":"#VALUE!"},{"$error":"#VALUE!"},{"$error":"#N/A"},0,{"$error":"#N/A"},0,{"$error":"#VALUE!"},{"$error":"#VALUE!"},{"$error":"#VALUE!"},"FAIL",null,null,null,null,null,null,null,"Interior / Exterior",null,"",null,{"$f":"IF(RIGHT(I182,4)=\"Case\",(INDEX('LED Case Lighting'!$AZ$3:$AZ$36,MATCH('Analysis 103L'!$CK182,'LED Case Lighting'!$AS$3:$AS$36,0))),IF(CB182=0,0,IF(CB182=\"lamp\",((Q182/VLOOKUP(B182,Int_Ext,2,FALSE))*VLOOKUP(E182,NEB,16,FALSE)),IF(CB182=\"fixture\",((Q182/VLOOKUP(B182,Int_Ext,2,FALSE))*VLOOKUP(E182,NEB,14,FALSE)),\"\"))))","v":""},null,{"$f":"IF(RIGHT(I182,4)=\"Case\",INDEX('Equipment Type'!$V$4:$V$53, MATCH('Analysis 103L'!$K182, 'Equipment Type'!$A$4:$A$53, 0)), \"\")","v":""},"","","","","",{"$f":"IF(CK182=\"\", \"\", INDEX('LED Case Lighting'!$AR$3:$AR$36, MATCH('Analysis 103L'!CK182, 'LED Case Lighting'!$AS$3:$AS$36, 0)))","v":""},{"$f":"IF(CK182=\"\", \"\", INDEX('LED Case Lighting'!$AW$3:$AW$36, MATCH('Analysis 103L'!CK182, 'LED Case Lighting'!$AS$3:$AS$36, 0)))","v":""},{"$f":"IF(CK182=\"\", \"\", INDEX('LED Case Lighting'!$AX$3:$AX$36, MATCH('Analysis 103L'!CK182, 'LED Case Lighting'!$AS$3:$AS$36, 0)))","v":""},""]
[156,null,null,null,null,null,"",null,{"$f":"IF(K183=\"\",\"\",VLOOKUP(K183,'Equipment Type'!$A$1:$F$53,5,FALSE))","v":""},{"$f":"IF(K183=\"\",\"\",VLOOKUP(K183,'Equipment Type'!$A$1:$F$53,6,FALSE))","v":""},null,{"$f":"IF(K183=\"\",\"\",VLOOKUP(K183,'Equipment Type'!$A$1:$F$53,4,FALSE))","v":""},null,{"$f":"IF(K183=\"\",\"\",INDEX('Equipment Type'!$T$4:$T$53,MATCH('Analysis 103L'!K183,'Equipment Type'!$A$4:$A$53,0)))","v":""},"",null,{"$f":"IF(RIGHT(I183, 4)=\"Case\", \"\", IF(P183=\"\",\"\",(IF(ISNUMBER(SEARCH(\"exit\",J183)),8760,IF(B183=\"Exterior\",4380,'Analysis 103L'!$J$3)))))","v":""},null,"","","","","","","","",{"$f":"IF('100L Information'!$Z$5=\"Yes\",0,IF('100L Information'!$Z$4=\"Yes\",(MIN($Y$232-(-$Y$227),6000)*0.5)*(Y183/$Y$232),$Y$232*(Y183/($Y$230+$Y$231))))","v":{"$error":"#VALUE!"}},"",{"$error":"#VALUE!"},"No requirement",0,{"$f":"IF(OR(Z183=\"Does not meet requirement\",AND('100L Information'!$AA$21=\"No\",AL183=\"Y\"),AND('100L Information'!$AS$21=FALSE,AL183=\"Y\")),0,IF(ISNUMBER(R183*Incent_Cost_Fixture_Rx),MIN(R183*Incent_Cost_Fixture_Rx,(MAX(AE183,AK183))),0))","v":0},"FAIL","0","0","0",0,"N","0","0",null,"","",0,"",{"$f":"IF(RIGHT(I183,4)=\"Case\",W183,IF(AND(AL183=\"Y\",AF183<1),0,IF(OR(LEFT(D183,2)=\"T5\",LEFT(D183,3)=\"CFL\",'Analysis 103L'!AS183=\"Less\"),'Analysis 103L'!AR183,'Analysis 103L'!W183)))","v":""},null,0,0,null,{"$error":"#VALUE!"},{"$error":"#VALUE!"},{"$error":"#VALUE!"},null,null,{"$f":"IF(RIGHT(I183,4)=\"Case\",'LED Case Lighting'!$AY$1,IF(J183=\"\",\"\",VLOOKUP(J183,Lookups!$A$30:$J$172,VLOOKUP('100L Information'!$AI$46,Lookups!$J$3:$L$6,3,FALSE),FALSE)))","v":""},{"$error":"#N/A"},"","",{"$error":"#VALUE!"},{"$error":"#VALUE!"},{"$error":"#VALUE!"},{"$error":"#N/A"},0,{"$error":"#N/A"},0,{"$error":"#VALUE!"},{"$error":"#VALUE!"},{"$error":"#VALUE!"},"FAIL",null,null,null,null,null,null,null,"Interior / Exterior",null,"",null,{"$f":"IF(RIGHT(I183,4)=\"Case\",(INDEX('LED Case Lighting'!$AZ$3:$AZ$36,MATCH('Analysis 103L'!$CK183,'LED Case Lighting'!$AS$3:$AS$36,0))),IF(CB183=0,0,IF(CB183=\"lamp\",((Q183/VLOOKUP(B183,Int_Ext,2,FALSE))*VLOOKUP(E183,NEB,16,FALSE)),IF(CB183=\"fixture\",((Q183/VLOOKUP(B183,Int_Ext,2,FALSE))*VLOOKUP(E183,NEB,14,FALSE)),\"\"))))","v":""},null,{"$f":"IF(RIGHT(I183,4)=\"Case\",INDEX('Equipment Type'!$V$4:$V$53, MATCH('Analysis 103L'!$K183, 'Equipment Type'!$A$4:$A$53, 0)), \"\")","v":""},"","","","","",{"$f":"IF(CK183=\"\", \"\", INDEX('LED Case Lighting'!$AR$3:$AR$36, MATCH('Analysis 103L'!CK183, 'LED Case Lighting'!$AS$3:$AS$36, 0)))","v":""},{"$f":"IF(CK183=\"\", \"\", INDEX('LED Case Lighting'!$AW$3:$AW$36, MATCH('Analysis 103L'!CK183, 'LED Case Lighting'!$AS$3:$AS$36, 0)))","v":""},{"$f":"IF(CK183=\"\", \"\", INDEX('LED Case Lighting'!$AX$3:$AX$36, MATCH('Analysis 103L'!CK183, 'LED Case Lighting'!$AS$3:$AS$36, 0)))","v":""},""]
[157,null,null,null,null,null,"",null,{"$f":"IF(K184=\"\",\"\",VLOOKUP(K184,'Equipment Type'!$A$1:$F$53,5,FALSE))","v":""},{"$f":"IF(K184=\"\",\"\",VLOOKUP(K184,'Equipment Type'!$A$1:$F$53,6,FALSE))","v":""},null,{"$f":"IF(K184=\"\",\"\",VLOOKUP(K184,'Equipment Type'!$A$1:$F$53,4,FALSE))","v":""},null,{"$f":"IF(K184=\"\",\"\",INDEX('Equipment Type'!$T$4:$T$53,MATCH('Analysis 103L'!K184,'Equipment Type'!$A$4:$A$53,0)))","v":""},"",null,{"$f":"IF(RIGHT(I184, 4)=\"Case\", \"\", IF(P184=\"\",\"\",(IF(ISNUMBER(SEARCH(\"exit\",J184)),8760,IF(B184=\"Exterior\",4380,'Analysis 103L'!$J$3)))))","v":""},null,"","","","","","","","",{"$f":"IF('100L Information'!$Z$5=\"Yes\",0,IF('100L Information'!$Z$4=\"Yes\",(MIN($Y$232-(-$Y$227),6000)*0.5)*(Y184/$Y$232),$Y$232*(Y184/($Y$230+$Y$231))))","v":{"$error":"#VALUE!"}},"",{"$error":"#VALUE!"},"No requirement",0,{"$f":"IF(OR(Z184=\"Does not meet requirement\",AND('100L Information'!$AA$21=\"No\",AL184=\"Y\"),AND('100L Information'!$AS$21=FALSE,AL184=\"Y\")),0,IF(ISNUMBER(R184*Incent_Cost_Fixture_Rx),MIN(R184*Incent_Cost_Fixture_Rx,(MAX(AE184,AK184))),0))","v":0},"FAIL","0","0","0",0,"N","0","0",null,"","",0,"",{"$f":"IF(RIGHT(I184,4)=\"Case\",W184,IF(AND(AL184=\"Y\",AF184<1),0,IF(OR(LEFT(D184,2)=\"T5\",LEFT(D184,3)=\"CFL\",'Analysis 103L'!AS184=\"Less\"),'Analysis 103L'!AR184,'Analysis 103L'!W184)))","v":""},null,0,0,null,{"$error":"#VALUE!"},{"$error":"#VALUE!"},{"$error":"#VALUE!"},null,null,{"$f":"IF(RIGHT(I184,4)=\"Case\",'LED Case Lighting'!$AY$1,IF(J184=\"\",\"\",VLOOKUP(J184,Lookups!$A$30:$J$172,VLOOKUP('100L Information'!$AI$46,Lookups!$J$3:$L$6,3,FALSE),FALSE)))","v":""},{"$error":"#N/A"},"","",{"$error":"#VALUE!"},{"$error":"#VALUE!"},{"$error":"#VALUE!"},{"$error":"#N/A"},0,{"$error":"#N/A"},0,{"$error":"#VALUE!"},{"$error":"#VALUE!"},{"$error":"#VALUE!"},"FAIL",null,null,null,null,null,null,null,"Interior / Exterior",null,"",null,{"$f":"IF(RIGHT(I184,4)=\"Case\",(INDEX('LED Case Lighting'!$AZ$3:$AZ$36,MATCH('Analysis 103L'!$CK184,'LED Case Lighting'!$AS$3:$AS$36,0))),IF(CB184=0,0,IF(CB184=\"lamp\",((Q184/VLOOKUP(B184,Int_Ext,2,FALSE))*VLOOKUP(E184,NEB,16,FALSE)),IF(CB184=\"fixture\",((Q184/VLOOKUP(B184,Int_Ext,2,FALSE))*VLOOKUP(E184,NEB,14,FALSE)),\"\"))))","v":""},null,{"$f":"IF(RIGHT(I184,4)=\"Case\",INDEX('Equipment Type'!$V$4:$V$53, MATCH('Analysis 103L'!$K184, 'Equipment Type'!$A$4:$A$53, 0)), \"\")","v":""},"","","","","",{"$f":"IF(CK184=\"\", \"\", INDEX('LED Case Lighting'!$AR$3:$AR$36, MATCH('Analysis 103L'!CK184, 'LED Case Lighting'!$AS$3:$AS$36, 0)))","v":""},{"$f":"IF(CK184=\"\", \"\", INDEX('LED Case Lighting'!$AW$3:$AW$36, MATCH('Analysis 103L'!CK184, 'LED Case Lighting'!$AS$3:$AS$36, 0)))","v":""},{"$f":"IF(CK184=\"\", \"\", INDEX('LED Case Lighting'!$AX$3:$AX$36, MATCH('Analysis 103L'!CK184, 'LED Case Lighting'!$AS$3:$AS$36, 0)))","v":""},""]
[158,null,null,null,null,null,"",null,{"$f":"IF(K185=\"\",\"\",VLOOKUP(K185,'Equipment Type'!$A$1:$F$53,5,FALSE))","v":""},{"$f":"IF(K185=\"\",\"\",VLOOKUP(K185,'Equipment Type'!$A$1:$F$53,6,FALSE))","v":""},null,{"$f":"IF(K185=\"\",\"\",VLOOKUP(K185,'Equipment Type'!$A$1:$F$53,4,FALSE))","v":""},null,{"$f":"IF(K185=\"\",\"\",INDEX('Equipment Type'!$T$4:$T$53,MATCH('Analysis 103L'!K185,'Equipment Type'!$A$4:$A$53,0)))","v":""},"",null,{"$f":"IF(RIGHT(I185, 4)=\"Case\", \"\", IF(P185=\"\",\"\",(IF(ISNUMBER(SEARCH(\"exit\",J185)),8760,IF(B185=\"Exterior\",4380,'Analysis 103L'!$J$3)))))","v":""},null,"","","","","","","","",{"$f":"IF('100L Information'!$Z$5=\"Yes\",0,IF('100L Information'!$Z$4=\"Yes\",(MIN($Y$232-(-$Y$227),6000)*0.5)*(Y185/$Y$232),$Y$232*(Y185/($Y$230+$Y$231))))","v":{"$error":"#VALUE!"}},"",{"$error":"#VALUE!"},"No requirement",0,{"$f":"IF(OR(Z185=\"Does not meet requirement\",AND('100L Information'!$AA$21=\"No\",AL185=\"Y\"),AND('100L Information'!$AS$21=FALSE,AL185=\"Y\")),0,IF(ISNUMBER(R185*Incent_Cost_Fixture_Rx),MIN(R185*Incent_Cost_Fixture_Rx,(MAX(AE185,AK185))),0))","v":0},"FAIL","0","0","0",0,"N","0","0",null,"","",0,"",{"$f":"IF(RIGHT(I185,4)=\"Case\",W185,IF(AND(AL185=\"Y\",AF185<1),0,IF(OR(LEFT(D185,2)=\"T5\",LEFT(D185,3)=\"CFL\",'Analysis 103L'!AS185=\"Less\"),'Analysis 103L'!AR185,'Analysis 103L'!W185)))","v":""},null,0,0,null,{"$error":"#VALUE!"},{"$error":"#VALUE!"},{"$error":"#VALUE!"},null,null,{"$f":"IF(RIGHT(I185,4)=\"Case\",'LED Case Lighting'!$AY$1,IF(J185=\"\",\"\",VLOOKUP(J185,Lookups!$A$30:$J$172,VLOOKUP('100L Information'!$AI$46,Lookups!$J$3:$L$6,3,FALSE),FALSE)))","v":""},{"$error":"#N/A"},"","",{"$error":"#VALUE!"},{"$error":"#VALUE!"},{"$error":"#VALUE!"},{"$error":"#N/A"},0,{"$error":"#N/A"},0,{"$error":"#VALUE!"},{"$error":"#VALUE!"},{"$error":"#VALUE!"},"FAIL",null,null,null,null,null,null,null,"Interior / Exterior",null,"",null,{"$f":"IF(RIGHT(I185,4)=\"Case\",(INDEX('LED Case Lighting'!$AZ$3:$AZ$36,MATCH('Analysis 103L'!$CK185,'LED Case Lighting'!$AS$3:$AS$36,0))),IF(CB185=0,0,IF(CB185=\"lamp\",((Q185/VLOOKUP(B185,Int_Ext,2,FALSE))*VLOOKUP(E185,NEB,16,FALSE)),IF(CB185=\"fixture\",((Q185/VLOOKUP(B185,Int_Ext,2,FALSE))*VLOOKUP(E185,NEB,14,FALSE)),\"\"))))","v":""},null,{"$f":"IF(RIGHT(I185,4)=\"Case\",INDEX('Equipment Type'!$V$4:$V$53, MATCH('Analysis 103L'!$K185, 'Equipment Type'!$A$4:$A$53, 0)), \"\")","v":""},"","","","","",{"$f":"IF(CK185=\"\", \"\", INDEX('LED Case Lighting'!$AR$3:$AR$36, MATCH('Analysis 103L'!CK185, 'LED Case Lighting'!$AS$3:$AS$36, 0)))","v":""},{"$f":"IF(CK185=\"\", \"\", INDEX('LED Case Lighting'!$AW$3:$AW$36, MATCH('Analysis 103L'!CK185, 'LED Case Lighting'!$AS$3:$AS$36, 0)))","v":""},{"$f":"IF(CK185=\"\", \"\", INDEX('LED Case Lighting'!$AX$3:$AX$36, MATCH('Analysis 103L'!CK185, 'LED Case Lighting'!$AS$3:$AS$36, 0)))","v":""},""]
[159,null,null,null,null,null,"",null,{"$f":"IF(K186=\"\",\"\",VLOOKUP(K186,'Equipment Type'!$A$1:$F$53,5,FALSE))","v":""},{"$f":"IF(K186=\"\",\"\",VLOOKUP(K186,'Equipment Type'!$A$1:$F$53,6,FALSE))","v":""},null,{"$f":"IF(K186=\"\",\"\",VLOOKUP(K186,'Equipment Type'!$A$1:$F$53,4,FALSE))","v":""},null,{"$f":"IF(K186=\"\",\"\",INDEX('Equipment Type'!$T$4:$T$53,MATCH('Analysis 103L'!K186,'Equipment Type'!$A$4:$A$53,0)))","v":""},"",null,{"$f":"IF(RIGHT(I186, 4)=\"Case\", \"\", IF(P186=\"\",\"\",(IF(ISNUMBER(SEARCH(\"exit\",J186)),8760,IF(B186=\"Exterior\",4380,'Analysis 103L'!$J$3)))))","v":""},null,"","","","","","","","",{"$f":"IF('100L Information'!$Z$5=\"Yes\",0,IF('100L Information'!$Z$4=\"Yes\",(MIN($Y$232-(-$Y$227),6000)*0.5)*(Y186/$Y$232),$Y$232*(Y186/($Y$230+$Y$231))))","v":{"$error":"#VALUE!"}},"",{"$error":"#VALUE!"},"No requirement",0,{"$f":"IF(OR(Z186=\"Does not meet requirement\",AND('100L Information'!$AA$21=\"No\",AL186=\"Y\"),AND('100L Information'!$AS$21=FALSE,AL186=\"Y\")),0,IF(ISNUMBER(R186*Incent_Cost_Fixture_Rx),MIN(R186*Incent_Cost_Fixture_Rx,(MAX(AE186,AK186))),0))","v":0},"FAIL","0","0","0",0,"N","0","0",null,"","",0,"",{"$f":"IF(RIGHT(I186,4)=\"Case\",W186,IF(AND(AL186=\"Y\",AF186<1),0,IF(OR(LEFT(D186,2)=\"T5\",LEFT(D186,3)=\"CFL\",'Analysis 103L'!AS186=\"Less\"),'Analysis 103L'!AR186,'Analysis 103L'!W186)))","v":""},null,0,0,null,{"$error":"#VALUE!"},{"$error":"#VALUE!"},{"$error":"#VALUE!"},null,null,{"$f":"IF(RIGHT(I186,4)=\"Case\",'LED Case Lighting'!$AY$1,IF(J186=\"\",\"\",VLOOKUP(J186,Lookups!$A$30:$J$172,VLOOKUP('100L Information'!$AI$46,Lookups!$J$3:$L$6,3,FALSE),FALSE)))","v":""},{"$error":"#N/A"},"","",{"$error":"#VALUE!"},{"$error":"#VALUE!"},{"$error":"#VALUE!"},{"$error":"#N/A"},0,{"$error":"#N/A"},0,{"$error":"#VALUE!"},{"$error":"#VALUE!"},{"$error":"#VALUE!"},"FAIL",null,null,null,null,null,null,null,"Interior / Exterior",null,"",null,{"$f":"IF(RIGHT(I186,4)=\"Case\",(INDEX('LED Case Lighting'!$AZ$3:$AZ$36,MATCH('Analysis 103L'!$CK186,'LED Case Lighting'!$AS$3:$AS$36,0))),IF(CB186=0,0,IF(CB186=\"lamp\",((Q186/VLOOKUP(B186,Int_Ext,2,FALSE))*VLOOKUP(E186,NEB,16,FALSE)),IF(CB186=\"fixture\",((Q186/VLOOKUP(B186,Int_Ext,2,FALSE))*VLOOKUP(E186,NEB,14,FALSE)),\"\"))))","v":""},null,{"$f":"IF(RIGHT(I186,4)=\"Case\",INDEX('Equipment Type'!$V$4:$V$53, MATCH('Analysis 103L'!$K186, 'Equipment Type'!$A$4:$A$53, 0)), \"\")","v":""},"","","","","",{"$f":"IF(CK186=\"\", \"\", INDEX('LED Case Lighting'!$AR$3:$AR$36, MATCH('Analysis 103L'!CK186, 'LED Case Lighting'!$AS$3:$AS$36, 0)))","v":""},{"$f":"IF(CK186=\"\", \"\", INDEX('LED Case Lighting'!$AW$3:$AW$36, MATCH('Analysis 103L'!CK186, 'LED Case Lighting'!$AS$3:$AS$36, 0)))","v":""},{"$f":"IF(CK186=\"\", \"\", INDEX('LED Case Lighting'!$AX$3:$AX$36, MATCH('Analysis 103L'!CK186, 'LED Case Lighting'!$AS$3:$AS$36, 0)))","v":""},""]
[160,null,null,null,null,null,"",null,{"$f":"IF(K187=\"\",\"\",VLOOKUP(K187,'Equipment Type'!$A$1:$F$53,5,FALSE))","v":""},{"$f":"IF(K187=\"\",\"\",VLOOKUP(K187,'Equipment Type'!$A$1:$F$53,6,FALSE))","v":""},null,{"$f":"IF(K187=\"\",\"\",VLOOKUP(K187,'Equipment Type'!$A$1:$F$53,4,FALSE))","v":""},null,{"$f":"IF(K187=\"\",\"\",INDEX('Equipment Type'!$T$4:$T$53,MATCH('Analysis 103L'!K187,'Equipment Type'!$A$4:$A$53,0)))","v":""},"",null,{"$f":"IF(RIGHT(I187, 4)=\"Case\", \"\", IF(P187=\"\",\"\",(IF(ISNUMBER(SEARCH(\"exit\",J187)),8760,IF(B187=\"Exterior\",4380,'Analysis 103L'!$J$3)))))","v":""},null,"","","","","","","","",{"$f":"IF('100L Information'!$Z$5=\"Yes\",0,IF('100L Information'!$Z$4=\"Yes\",(MIN($Y$232-(-$Y$227),6000)*0.5)*(Y187/$Y$232),$Y$232*(Y187/($Y$230+$Y$231))))","v":{"$error":"#VALUE!"}},"",{"$error":"#VALUE!"},"No requirement",0,{"$f":"IF(OR(Z187=\"Does not meet requirement\",AND('100L Information'!$AA$21=\"No\",AL187=\"Y\"),AND('100L Information'!$AS$21=FALSE,AL187=\"Y\")),0,IF(ISNUMBER(R187*Incent_Cost_Fixture_Rx),MIN(R187*Incent_Cost_Fixture_Rx,(MAX(AE187,AK187))),0))","v":0},"FAIL","0","0","0",0,"N","0","0",null,"","",0,"",{"$f":"IF(RIGHT(I187,4)=\"Case\",W187,IF(AND(AL187=\"Y\",AF187<1),0,IF(OR(LEFT(D187,2)=\"T5\",LEFT(D187,3)=\"CFL\",'Analysis 103L'!AS187=\"Less\"),'Analysis 103L'!AR187,'Analysis 103L'!W187)))","v":""},null,0,0,null,{"$error":"#VALUE!"},{"$error":"#VALUE!"},{"$error":"#VALUE!"},null,null,{"$f":"IF(RIGHT(I187,4)=\"Case\",'LED Case Lighting'!$AY$1,IF(J187=\"\",\"\",VLOOKUP(J187,Lookups!$A$30:$J$172,VLOOKUP('100L Information'!$AI$46,Lookups!$J$3:$L$6,3,FALSE),FALSE)))","v":""},{"$error":"#N/A"},"","",{"$error":"#VALUE!"},{"$error":"#VALUE!"},{"$error":"#VALUE!"},{"$error":"#N/A"},0,{"$error":"#N/A"},0,{"$error":"#VALUE!"},{"$error":"#VALUE!"},{"$error":"#VALUE!"},"FAIL",null,null,null,null,null,null,null,"Interior / Exterior",null,"",null,{"$f":"IF(RIGHT(I187,4)=\"Case\",(INDEX('LED Case Lighting'!$AZ$3:$AZ$36,MATCH('Analysis 103L'!$CK187,'LED Case Lighting'!$AS$3:$AS$36,0))),IF(CB187=0,0,IF(CB187=\"lamp\",((Q187/VLOOKUP(B187,Int_Ext,2,FALSE))*VLOOKUP(E187,NEB,16,FALSE)),IF(CB187=\"fixture\",((Q187/VLOOKUP(B187,Int_Ext,2,FALSE))*VLOOKUP(E187,NEB,14,FALSE)),\"\"))))","v":""},null,{"$f":"IF(RIGHT(I187,4)=\"Case\",INDEX('Equipment Type'!$V$4:$V$53, MATCH('Analysis 103L'!$K187, 'Equipment Type'!$A$4:$A$53, 0)), \"\")","v":""},"","","","","",{"$f":"IF(CK187=\"\", \"\", INDEX('LED Case Lighting'!$AR$3:$AR$36, MATCH('Analysis 103L'!CK187, 'LED Case Lighting'!$AS$3:$AS$36, 0)))","v":""},{"$f":"IF(CK187=\"\", \"\", INDEX('LED Case Lighting'!$AW$3:$AW$36, MATCH('Analysis 103L'!CK187, 'LED Case Lighting'!$AS$3:$AS$36, 0)))","v":""},{"$f":"IF(CK187=\"\", \"\", INDEX('LED Case Lighting'!$AX$3:$AX$36, MATCH('Analysis 103L'!CK187, 'LED Case Lighting'!$AS$3:$AS$36, 0)))","v":""},""]
[161,null,null,null,null,null,"",null,{"$f":"IF(K188=\"\",\"\",VLOOKUP(K188,'Equipment Type'!$A$1:$F$53,5,FALSE))","v":""},{"$f":"IF(K188=\"\",\"\",VLOOKUP(K188,'Equipment Type'!$A$1:$F$53,6,FALSE))","v":""},null,{"$f":"IF(K188=\"\",\"\",VLOOKUP(K188,'Equipment Type'!$A$1:$F$53,4,FALSE))","v":""},null,{"$f":"IF(K188=\"\",\"\",INDEX('Equipment Type'!$T$4:$T$53,MATCH('Analysis 103L'!K188,'Equipment Type'!$A$4:$A$53,0)))","v":""},"",null,{"$f":"IF(RIGHT(I188, 4)=\"Case\", \"\", IF(P188=\"\",\"\",(IF(ISNUMBER(SEARCH(\"exit\",J188)),8760,IF(B188=\"Exterior\",4380,'Analysis 103L'!$J$3)))))","v":""},null,"","","","","","","",{"$f":"IF(M188 = \"Y\",IF(AND(M188=\"Y\",AG188=\"FAIL\"),\"Not Cost Effective\",\"\"),IF(AD188=1,\"Does not meet requirement\",\"\"))","v":""},{"$f":"IF('100L Information'!$Z$5=\"Yes\",0,IF('100L Information'!$Z$4=\"Yes\",(MIN($Y$232-(-$Y$227),6000)*0.5)*(Y188/$Y$232),$Y$232*(Y188/($Y$230+$Y$231))))","v":{"$error":"#VALUE!"}},"",{"$f":"IF(RIGHT(I188,4)=\"Case\",\"\",IF(I188=\"GROW\",MIN(W188*RunRateMax_CustomMeasures_Horti,P188*Cap_GROW_fixture,S188*Incent_Cost_Fixture_Cust),MIN(W188*IF(I188=\"Street_Lighting\",RunRateMax_Streetlighting,RunRateMax_CustomMeasures_fixtures),S188*Incent_Cost_Fixture_Cust)))","v":{"$error":"#VALUE!"}},"No requirement",0,{"$f":"IF(OR(Z188=\"Does not meet requirement\",AND('100L Information'!$AA$21=\"No\",AL188=\"Y\"),AND('100L Information'!$AS$21=FALSE,AL188=\"Y\")),0,IF(ISNUMBER(R188*Incent_Cost_Fixture_Rx),MIN(R188*Incent_Cost_Fixture_Rx,(MAX(AE188,AK188))),0))","v":0},{"$f":"IF(AND(M188=\"Y\",BR188=\"PASS/PASS\"),\"PASS/PASS\",\"FAIL\")","v":"FAIL"},"0","0","0",{"$f":"IF(AE188=0,MAX(IF(ISERROR(VLOOKUP(CONCATENATE(J188,\" from \",VLOOKUP(E188,ExistFixtCat,4,FALSE)),PropFixtIncent,2,FALSE)),0,VLOOKUP(CONCATENATE(J188,\" from \",VLOOKUP(E188,ExistFixtCat,4,FALSE)),PropFixtIncent,2,FALSE)),IF(ISERROR(VLOOKUP(CONCATENATE(J188,\" from ANY\"),PropFixtIncent,2,FALSE)),0,VLOOKUP(CONCATENATE(J188,\" from ANY\"),PropFixtIncent,2,FALSE))),0)","v":0},"N",{"$f":"IF(AG188=\"PASS/PASS\",W188,\"0\")","v":"0"},{"$f":"IF(AG188=\"PASS/PASS\",Y188,\"0\")","v":"0"},null,{"$f":"IF(AND($CB188=\"fixture\",OR($D188=\"CFL\",$D188=\"INCAN\")),VLOOKUP(E188,Incan_Lookup,7,FALSE)*$G188*H188+VLOOKUP(E188,Incan_Lookup,6,FALSE)*$N188*P188,IF(AND($CB188=\"lamp\",OR($D188=\"CFL\",$D188=\"INCAN\")),VLOOKUP(E188,Incan_Lookup,10,FALSE)*$G188*H188+VLOOKUP(E188,Incan_Lookup,9,FALSE)*$N188*P188,IF($D188=\"OTHER\",$G188*$H188,IF($CB188=\"lamp\",(VLOOKUP($E188,ExistFixtLookup,10,FALSE)*H188+VLOOKUP($E188,ExistFixtLookup,9,FALSE)*N188*P188),IF($CB188=\"fixture\",(VLOOKUP($E188,ExistFixtLookup,7,FALSE)*H188+VLOOKUP($E188,ExistFixtLookup,6,FALSE)*N188*P188),$G188)))))","v":""},"",{"$f":"IF(AND(ISNUMBER(BD188),ISNUMBER(W188),$CB188=\"lamp\"),(W188*VLOOKUP(E188,ExistFixtLookup,11,FALSE)+AQ188*(BD188-VLOOKUP(E188,ExistFixtLookup,11,FALSE)))/BD188,IF(AND(ISNUMBER(BD188),ISNUMBER(W188),$CB188=\"fixture\"),(W188*VLOOKUP(E188,ExistFixtLookup,8,FALSE)+AQ188*(BD188-VLOOKUP(E188,ExistFixtLookup,8,FALSE)))/BD188,IF(ISNUMBER(W188),W188,0)))","v":0},"",{"$f":"IF(RIGHT(I188,4)=\"Case\",W188,IF(AND(AL188=\"Y\",AF188<1),0,IF(OR(LEFT(D188,2)=\"T5\",LEFT(D188,3)=\"CFL\",'Analysis 103L'!AS188=\"Less\"),'Analysis 103L'!AR188,'Analysis 103L'!W188)))","v":""},null,0,0,null,{"$error":"#VALUE!"},{"$error":"#VALUE!"},{"$error":"#VALUE!"},null,null,{"$f":"IF(RIGHT(I188,4)=\"Case\",'LED Case Lighting'!$AY$1,IF(J188=\"\",\"\",VLOOKUP(J188,Lookups!$A$30:$J$172,VLOOKUP('100L Information'!$AI$46,Lookups!$J$3:$L$6,3,FALSE),FALSE)))","v":""},{"$f":"IF(B188=\"Exterior\", INDEX($BW$28:$BW$48, $BX$229), IF(OR(BusType=\"Manufacturing\",BusType=\"Indoor Agriculture\",BusType=\"Ag/Dairy/Livestock\",BusType=\"Food/Beverage Production\",BusType=\"Industrial Fabrication\"), IF(Q188<3500, \"1-Shift Industrial\", IF(Q188<5500, \"2-Shift Industrial\", IF(Q188<8000, \"3-Shift Industrial\", \"Flat - ele\"))), INDEX($BV$28:$BV$48, $BX$229)))","v":{"$error":"#N/A"}},"","",{"$error":"#VALUE!"},{"$error":"#VALUE!"},{"$error":"#VALUE!"},{"$f":"VLOOKUP(E188,ExistFixtCat,3,FALSE)/(H188*IF(ISNUMBER(VALUE(MID(E188,5,1))),VALUE(MID(E188,5,1)),1)*Q188)","v":{"$error":"#N/A"}},{"$f":"IF(ISERROR(-PV(POWER(1+Discount_Rate,$BK188)-1,$BD188/$BK188,10+VLOOKUP($E188,ExistFixtCat,2,FALSE))),0,-PV(POWER(1+Discount_Rate,$BK188)-1,$BD188/$BK188,10+VLOOKUP($E188,ExistFixtCat,2,FALSE)))","v":0},{"$f":"VLOOKUP($J188,PropOpLife,3,FALSE)/($P188*IF(ISNUMBER(VALUE(MID($J188,5,1))),VALUE(MID($J188,5,1)),1)*$Q188)","v":{"$error":"#N/A"}},{"$f":"IF(OR(ISERROR(-PV(POWER(1+Discount_Rate,$BM188)-1,$BD188/$BM188,MIN(R188,10+0.5*VLOOKUP($J188,PropOpLife,2,FALSE)))),BL188=0),0,-PV(POWER(1+Discount_Rate,$BM188)-1,$BD188/$BM188,MIN(R188,10+0.5*VLOOKUP($J188,PropOpLife,2,FALSE))))","v":0},{"$error":"#VALUE!"},{"$error":"#VALUE!"},{"$error":"#VALUE!"},"FAIL",null,null,null,null,null,null,null,"Interior / Exterior",null,{"$f":"IF(I188=\"\",\"\",VLOOKUP(I188,FixVsLamp,2,FALSE))","v":""},null,{"$f":"IF(RIGHT(I188,4)=\"Case\",(INDEX('LED Case Lighting'!$AZ$3:$AZ$36,MATCH('Analysis 103L'!$CK188,'LED Case Lighting'!$AS$3:$AS$36,0))),IF(CB188=0,0,IF(CB188=\"lamp\",((Q188/VLOOKUP(B188,Int_Ext,2,FALSE))*VLOOKUP(E188,NEB,16,FALSE)),IF(CB188=\"fixture\",((Q188/VLOOKUP(B188,Int_Ext,2,FALSE))*VLOOKUP(E188,NEB,14,FALSE)),\"\"))))","v":""},null,{"$f":"IF(RIGHT(I188,4)=\"Case\",INDEX('Equipment Type'!$V$4:$V$53, MATCH('Analysis 103L'!$K188, 'Equipment Type'!$A$4:$A$53, 0)), \"\")","v":""},"","","","","",{"$f":"IF(CK188=\"\", \"\", INDEX('LED Case Lighting'!$AR$3:$AR$36, MATCH('Analysis 103L'!CK188, 'LED Case Lighting'!$AS$3:$AS$36, 0)))","v":""},{"$f":"IF(CK188=\"\", \"\", INDEX('LED Case Lighting'!$AW$3:$AW$36, MATCH('Analysis 103L'!CK188, 'LED Case Lighting'!$AS$3:$AS$36, 0)))","v":""},{"$f":"IF(CK188=\"\", \"\", INDEX('LED Case Lighting'!$AX$3:$AX$36, MATCH('Analysis 103L'!CK188, 'LED Case Lighting'!$AS$3:$AS$36, 0)))","v":""},""]
[162,null,null,null,null,null,"",null,{"$f":"IF(K189=\"\",\"\",VLOOKUP(K189,'Equipment Type'!$A$1:$F$53,5,FALSE))","v":""},{"$f":"IF(K189=\"\",\"\",VLOOKUP(K189,'Equipment Type'!$A$1:$F$53,6,FALSE))","v":""},null,{"$f":"IF(K189=\"\",\"\",VLOOKUP(K189,'Equipment Type'!$A$1:$F$53,4,FALSE))","v":""},null,{"$f":"IF(K189=\"\",\"\",INDEX('Equipment Type'!$T$4:$T$53,MATCH('Analysis 103L'!K189,'Equipment Type'!$A$4:$A$53,0)))","v":""},"",null,{"$f":"IF(RIGHT(I189, 4)=\"Case\", \"\", IF(P189=\"\",\"\",(IF(ISNUMBER(SEARCH(\"exit\",J189)),8760,IF(B189=\"Exterior\",4380,'Analysis 103L'!$J$3)))))","v":""},null,"","","","","","","","",{"$f":"IF('100L Information'!$Z$5=\"Yes\",0,IF('100L Information'!$Z$4=\"Yes\",(MIN($Y$232-(-$Y$227),6000)*0.5)*(Y189/$Y$232),$Y$232*(Y189/($Y$230+$Y$231))))","v":{"$error":"#VALUE!"}},"",{"$error":"#VALUE!"},"No requirement",0,{"$f":"IF(OR(Z189=\"Does not meet requirement\",AND('100L Information'!$AA$21=\"No\",AL189=\"Y\"),AND('100L Information'!$AS$21=FALSE,AL189=\"Y\")),0,IF(ISNUMBER(R189*Incent_Cost_Fixture_Rx),MIN(R189*Incent_Cost_Fixture_Rx,(MAX(AE189,AK189))),0))","v":0},"FAIL","0","0","0",0,"N","0","0",null,"","",0,"",{"$f":"IF(RIGHT(I189,4)=\"Case\",W189,IF(AND(AL189=\"Y\",AF189<1),0,IF(OR(LEFT(D189,2)=\"T5\",LEFT(D189,3)=\"CFL\",'Analysis 103L'!AS189=\"Less\"),'Analysis 103L'!AR189,'Analysis 103L'!W189)))","v":""},null,0,0,null,{"$error":"#VALUE!"},{"$error":"#VALUE!"},{"$error":"#VALUE!"},null,null,{"$f":"IF(RIGHT(I189,4)=\"Case\",'LED Case Lighting'!$AY$1,IF(J189=\"\",\"\",VLOOKUP(J189,Lookups!$A$30:$J$172,VLOOKUP('100L Information'!$AI$46,Lookups!$J$3:$L$6,3,FALSE),FALSE)))","v":""},{"$error":"#N/A"},"","",{"$error":"#VALUE!"},{"$error":"#VALUE!"},{"$error":"#VALUE!"},{"$error":"#N/A"},0,{"$error":"#N/A"},0,{"$error":"#VALUE!"},{"$error":"#VALUE!"},{"$error":"#VALUE!"},"FAIL",null,null,null,null,null,null,null,"Interior / Exterior",null,"",null,{"$f":"IF(RIGHT(I189,4)=\"Case\",(INDEX('LED Case Lighting'!$AZ$3:$AZ$36,MATCH('Analysis 103L'!$CK189,'LED Case Lighting'!$AS$3:$AS$36,0))),IF(CB189=0,0,IF(CB189=\"lamp\",((Q189/VLOOKUP(B189,Int_Ext,2,FALSE))*VLOOKUP(E189,NEB,16,FALSE)),IF(CB189=\"fixture\",((Q189/VLOOKUP(B189,Int_Ext,2,FALSE))*VLOOKUP(E189,NEB,14,FALSE)),\"\"))))","v":""},null,{"$f":"IF(RIGHT(I189,4)=\"Case\",INDEX('Equipment Type'!$V$4:$V$53, MATCH('Analysis 103L'!$K189, 'Equipment Type'!$A$4:$A$53, 0)), \"\")","v":""},"","","","","",{"$f":"IF(CK189=\"\", \"\", INDEX('LED Case Lighting'!$AR$3:$AR$36, MATCH('Analysis 103L'!CK189, 'LED Case Lighting'!$AS$3:$AS$36, 0)))","v":""},{"$f":"IF(CK189=\"\", \"\", INDEX('LED Case Lighting'!$AW$3:$AW$36, MATCH('Analysis 103L'!CK189, 'LED Case Lighting'!$AS$3:$AS$36, 0)))","v":""},{"$f":"IF(CK189=\"\", \"\", INDEX('LED Case Lighting'!$AX$3:$AX$36, MATCH('Analysis 103L'!CK189, 'LED Case Lighting'!$AS$3:$AS$36, 0)))","v":""},""]
[163,null,null,null,null,null,"",null,{"$f":"IF(K190=\"\",\"\",VLOOKUP(K190,'Equipment Type'!$A$1:$F$53,5,FALSE))","v":""},{"$f":"IF(K190=\"\",\"\",VLOOKUP(K190,'Equipment Type'!$A$1:$F$53,6,FALSE))","v":""},null,{"$f":"IF(K190=\"\",\"\",VLOOKUP(K190,'Equipment Type'!$A$1:$F$53,4,FALSE))","v":""},null,{"$f":"IF(K190=\"\",\"\",INDEX('Equipment Type'!$T$4:$T$53,MATCH('Analysis 103L'!K190,'Equipment Type'!$A$4:$A$53,0)))","v":""},"",null,{"$f":"IF(RIGHT(I190, 4)=\"Case\", \"\", IF(P190=\"\",\"\",(IF(ISNUMBER(SEARCH(\"exit\",J190)),8760,IF(B190=\"Exterior\",4380,'Analysis 103L'!$J$3)))))","v":""},null,"","","","","","","","",{"$f":"IF('100L Information'!$Z$5=\"Yes\",0,IF('100L Information'!$Z$4=\"Yes\",(MIN($Y$232-(-$Y$227),6000)*0.5)*(Y190/$Y$232),$Y$232*(Y190/($Y$230+$Y$231))))","v":{"$error":"#VALUE!"}},"",{"$error":"#VALUE!"},"No requirement",0,{"$f":"IF(OR(Z190=\"Does not meet requirement\",AND('100L Information'!$AA$21=\"No\",AL190=\"Y\"),AND('100L Information'!$AS$21=FALSE,AL190=\"Y\")),0,IF(ISNUMBER(R190*Incent_Cost_Fixture_Rx),MIN(R190*Incent_Cost_Fixture_Rx,(MAX(AE190,AK190))),0))","v":0},"FAIL","0","0","0",0,"N","0","0",null,"","",0,"",{"$f":"IF(RIGHT(I190,4)=\"Case\",W190,IF(AND(AL190=\"Y\",AF190<1),0,IF(OR(LEFT(D190,2)=\"T5\",LEFT(D190,3)=\"CFL\",'Analysis 103L'!AS190=\"Less\"),'Analysis 103L'!AR190,'Analysis 103L'!W190)))","v":""},null,0,0,null,{"$error":"#VALUE!"},{"$error":"#VALUE!"},{"$error":"#VALUE!"},null,null,{"$f":"IF(RIGHT(I190,4)=\"Case\",'LED Case Lighting'!$AY$1,IF(J190=\"\",\"\",VLOOKUP(J190,Lookups!$A$30:$J$172,VLOOKUP('100L Information'!$AI$46,Lookups!$J$3:$L$6,3,FALSE),FALSE)))","v":""},{"$error":"#N/A"},"","",{"$error":"#VALUE!"},{"$error":"#VALUE!"},{"$error":"#VALUE!"},{"$error":"#N/A"},0,{"$error":"#N/A"},0,{"$error":"#VALUE!"},{"$error":"#VALUE!"},{"$error":"#VALUE!"},"FAIL",null,null,null,null,null,null,null,"Interior / Exterior",null,"",null,{"$f":"IF(RIGHT(I190,4)=\"Case\",(INDEX('LED Case Lighting'!$AZ$3:$AZ$36,MATCH('Analysis 103L'!$CK190,'LED Case Lighting'!$AS$3:$AS$36,0))),IF(CB190=0,0,IF(CB190=\"lamp\",((Q190/VLOOKUP(B190,Int_Ext,2,FALSE))*VLOOKUP(E190,NEB,16,FALSE)),IF(CB190=\"fixture\",((Q190/VLOOKUP(B190,Int_Ext,2,FALSE))*VLOOKUP(E190,NEB,14,FALSE)),\"\"))))","v":""},null,{"$f":"IF(RIGHT(I190,4)=\"Case\",INDEX('Equipment Type'!$V$4:$V$53, MATCH('Analysis 103L'!$K190, 'Equipment Type'!$A$4:$A$53, 0)), \"\")","v":""},"","","","","",{"$f":"IF(CK190=\"\", \"\", INDEX('LED Case Lighting'!$AR$3:$AR$36, MATCH('Analysis 103L'!CK190, 'LED Case Lighting'!$AS$3:$AS$36, 0)))","v":""},{"$f":"IF(CK190=\"\", \"\", INDEX('LED Case Lighting'!$AW$3:$AW$36, MATCH('Analysis 103L'!CK190, 'LED Case Lighting'!$AS$3:$AS$36, 0)))","v":""},{"$f":"IF(CK190=\"\", \"\", INDEX('LED Case Lighting'!$AX$3:$AX$36, MATCH('Analysis 103L'!CK190, 'LED Case Lighting'!$AS$3:$AS$36, 0)))","v":""},""]
[164,null,null,null,null,null,"",null,{"$f":"IF(K191=\"\",\"\",VLOOKUP(K191,'Equipment Type'!$A$1:$F$53,5,FALSE))","v":""},{"$f":"IF(K191=\"\",\"\",VLOOKUP(K191,'Equipment Type'!$A$1:$F$53,6,FALSE))","v":""},null,{"$f":"IF(K191=\"\",\"\",VLOOKUP(K191,'Equipment Type'!$A$1:$F$53,4,FALSE))","v":""},null,{"$f":"IF(K191=\"\",\"\",INDEX('Equipment Type'!$T$4:$T$53,MATCH('Analysis 103L'!K191,'Equipment Type'!$A$4:$A$53,0)))","v":""},"",null,{"$f":"IF(RIGHT(I191, 4)=\"Case\", \"\", IF(P191=\"\",\"\",(IF(ISNUMBER(SEARCH(\"exit\",J191)),8760,IF(B191=\"Exterior\",4380,'Analysis 103L'!$J$3)))))","v":""},null,"","","","","","","","",{"$f":"IF('100L Information'!$Z$5=\"Yes\",0,IF('100L Information'!$Z$4=\"Yes\",(MIN($Y$232-(-$Y$227),6000)*0.5)*(Y191/$Y$232),$Y$232*(Y191/($Y$230+$Y$231))))","v":{"$error":"#VALUE!"}},"",{"$error":"#VALUE!"},"No requirement",0,{"$f":"IF(OR(Z191=\"Does not meet requirement\",AND('100L Information'!$AA$21=\"No\",AL191=\"Y\"),AND('100L Information'!$AS$21=FALSE,AL191=\"Y\")),0,IF(ISNUMBER(R191*Incent_Cost_Fixture_Rx),MIN(R191*Incent_Cost_Fixture_Rx,(MAX(AE191,AK191))),0))","v":0},"FAIL","0","0","0",0,"N","0","0",null,"","",0,"",{"$f":"IF(RIGHT(I191,4)=\"Case\",W191,IF(AND(AL191=\"Y\",AF191<1),0,IF(OR(LEFT(D191,2)=\"T5\",LEFT(D191,3)=\"CFL\",'Analysis 103L'!AS191=\"Less\"),'Analysis 103L'!AR191,'Analysis 103L'!W191)))","v":""},null,0,0,null,{"$error":"#VALUE!"},{"$error":"#VALUE!"},{"$error":"#VALUE!"},null,null,{"$f":"IF(RIGHT(I191,4)=\"Case\",'LED Case Lighting'!$AY$1,IF(J191=\"\",\"\",VLOOKUP(J191,Lookups!$A$30:$J$172,VLOOKUP('100L Information'!$AI$46,Lookups!$J$3:$L$6,3,FALSE),FALSE)))","v":""},{"$error":"#N/A"},"","",{"$error":"#VALUE!"},{"$error":"#VALUE!"},{"$error":"#VALUE!"},{"$error":"#N/A"},0,{"$error":"#N/A"},0,{"$error":"#VALUE!"},{"$error":"#VALUE!"},{"$error":"#VALUE!"},"FAIL",null,null,null,null,null,null,null,"Interior / Exterior",null,"",null,{"$f":"IF(RIGHT(I191,4)=\"Case\",(INDEX('LED Case Lighting'!$AZ$3:$AZ$36,MATCH('Analysis 103L'!$CK191,'LED Case Lighting'!$AS$3:$AS$36,0))),IF(CB191=0,0,IF(CB191=\"lamp\",((Q191/VLOOKUP(B191,Int_Ext,2,FALSE))*VLOOKUP(E191,NEB,16,FALSE)),IF(CB191=\"fixture\",((Q191/VLOOKUP(B191,Int_Ext,2,FALSE))*VLOOKUP(E191,NEB,14,FALSE)),\"\"))))","v":""},null,{"$f":"IF(RIGHT(I191,4)=\"Case\",INDEX('Equipment Type'!$V$4:$V$53, MATCH('Analysis 103L'!$K191, 'Equipment Type'!$A$4:$A$53, 0)), \"\")","v":""},"","","","","",{"$f":"IF(CK191=\"\", \"\", INDEX('LED Case Lighting'!$AR$3:$AR$36, MATCH('Analysis 103L'!CK191, 'LED Case Lighting'!$AS$3:$AS$36, 0)))","v":""},{"$f":"IF(CK191=\"\", \"\", INDEX('LED Case Lighting'!$AW$3:$AW$36, MATCH('Analysis 103L'!CK191, 'LED Case Lighting'!$AS$3:$AS$36, 0)))","v":""},{"$f":"IF(CK191=\"\", \"\", INDEX('LED Case Lighting'!$AX$3:$AX$36, MATCH('Analysis 103L'!CK191, 'LED Case Lighting'!$AS$3:$AS$36, 0)))","v":""},""]
[165,null,null,null,null,null,{"$f":"IF(E192=\"\",\"\",VLOOKUP(E192,ExistFixtLookup,2,FALSE))","v":""},null,{"$f":"IF(K192=\"\",\"\",VLOOKUP(K192,'Equipment Type'!$A$1:$F$53,5,FALSE))","v":""},{"$f":"IF(K192=\"\",\"\",VLOOKUP(K192,'Equipment Type'!$A$1:$F$53,6,FALSE))","v":""},null,{"$f":"IF(K192=\"\",\"\",VLOOKUP(K192,'Equipment Type'!$A$1:$F$53,4,FALSE))","v":""},null,{"$f":"IF(K192=\"\",\"\",INDEX('Equipment Type'!$T$4:$T$53,MATCH('Analysis 103L'!K192,'Equipment Type'!$A$4:$A$53,0)))","v":""},"",null,{"$f":"IF(RIGHT(I192, 4)=\"Case\", \"\", IF(P192=\"\",\"\",(IF(ISNUMBER(SEARCH(\"exit\",J192)),8760,IF(B192=\"Exterior\",4380,'Analysis 103L'!$J$3)))))","v":""},null,"","","","","","","","",{"$f":"IF('100L Information'!$Z$5=\"Yes\",0,IF('100L Information'!$Z$4=\"Yes\",(MIN($Y$232-(-$Y$227),6000)*0.5)*(Y192/$Y$232),$Y$232*(Y192/($Y$230+$Y$231))))","v":{"$error":"#VALUE!"}},"",{"$error":"#VALUE!"},"No requirement",0,{"$f":"IF(OR(Z192=\"Does not meet requirement\",AND('100L Information'!$AA$21=\"No\",AL192=\"Y\"),AND('100L Information'!$AS$21=FALSE,AL192=\"Y\")),0,IF(ISNUMBER(R192*Incent_Cost_Fixture_Rx),MIN(R192*Incent_Cost_Fixture_Rx,(MAX(AE192,AK192))),0))","v":0},"FAIL","0","0","0",0,"N","0","0",null,"","",0,"",{"$f":"IF(RIGHT(I192,4)=\"Case\",W192,IF(AND(AL192=\"Y\",AF192<1),0,IF(OR(LEFT(D192,2)=\"T5\",LEFT(D192,3)=\"CFL\",'Analysis 103L'!AS192=\"Less\"),'Analysis 103L'!AR192,'Analysis 103L'!W192)))","v":""},null,0,0,null,{"$error":"#VALUE!"},{"$error":"#VALUE!"},{"$error":"#VALUE!"},null,null,{"$f":"IF(RIGHT(I192,4)=\"Case\",'LED Case Lighting'!$AY$1,IF(J192=\"\",\"\",VLOOKUP(J192,Lookups!$A$30:$J$172,VLOOKUP('100L Information'!$AI$46,Lookups!$J$3:$L$6,3,FALSE),FALSE)))","v":""},{"$error":"#N/A"},"","",{"$error":"#VALUE!"},{"$error":"#VALUE!"},{"$error":"#VALUE!"},{"$error":"#N/A"},0,{"$error":"#N/A"},0,{"$error":"#VALUE!"},{"$error":"#VALUE!"},{"$error":"#VALUE!"},"FAIL",null,null,null,null,null,null,null,"Interior / Exterior",null,"",null,{"$f":"IF(RIGHT(I192,4)=\"Case\",(INDEX('LED Case Lighting'!$AZ$3:$AZ$36,MATCH('Analysis 103L'!$CK192,'LED Case Lighting'!$AS$3:$AS$36,0))),IF(CB192=0,0,IF(CB192=\"lamp\",((Q192/VLOOKUP(B192,Int_Ext,2,FALSE))*VLOOKUP(E192,NEB,16,FALSE)),IF(CB192=\"fixture\",((Q192/VLOOKUP(B192,Int_Ext,2,FALSE))*VLOOKUP(E192,NEB,14,FALSE)),\"\"))))","v":""},null,{"$f":"IF(RIGHT(I192,4)=\"Case\",INDEX('Equipment Type'!$V$4:$V$53, MATCH('Analysis 103L'!$K192, 'Equipment Type'!$A$4:$A$53, 0)), \"\")","v":""},"","","","","",{"$f":"IF(CK192=\"\", \"\", INDEX('LED Case Lighting'!$AR$3:$AR$36, MATCH('Analysis 103L'!CK192, 'LED Case Lighting'!$AS$3:$AS$36, 0)))","v":""},{"$f":"IF(CK192=\"\", \"\", INDEX('LED Case Lighting'!$AW$3:$AW$36, MATCH('Analysis 103L'!CK192, 'LED Case Lighting'!$AS$3:$AS$36, 0)))","v":""},{"$f":"IF(CK192=\"\", \"\", INDEX('LED Case Lighting'!$AX$3:$AX$36, MATCH('Analysis 103L'!CK192, 'LED Case Lighting'!$AS$3:$AS$36, 0)))","v":""},""]
[166,null,null,null,null,null,"",null,{"$f":"IF(K193=\"\",\"\",VLOOKUP(K193,'Equipment Type'!$A$1:$F$53,5,FALSE))","v":""},{"$f":"IF(K193=\"\",\"\",VLOOKUP(K193,'Equipment Type'!$A$1:$F$53,6,FALSE))","v":""},null,{"$f":"IF(K193=\"\",\"\",VLOOKUP(K193,'Equipment Type'!$A$1:$F$53,4,FALSE))","v":""},null,{"$f":"IF(K193=\"\",\"\",INDEX('Equipment Type'!$T$4:$T$53,MATCH('Analysis 103L'!K193,'Equipment Type'!$A$4:$A$53,0)))","v":""},"",null,{"$f":"IF(RIGHT(I193, 4)=\"Case\", \"\", IF(P193=\"\",\"\",(IF(ISNUMBER(SEARCH(\"exit\",J193)),8760,IF(B193=\"Exterior\",4380,'Analysis 103L'!$J$3)))))","v":""},null,"","","","","","","","",{"$f":"IF('100L Information'!$Z$5=\"Yes\",0,IF('100L Information'!$Z$4=\"Yes\",(MIN($Y$232-(-$Y$227),6000)*0.5)*(Y193/$Y$232),$Y$232*(Y193/($Y$230+$Y$231))))","v":{"$error":"#VALUE!"}},"",{"$error":"#VALUE!"},"No requirement",0,{"$f":"IF(OR(Z193=\"Does not meet requirement\",AND('100L Information'!$AA$21=\"No\",AL193=\"Y\"),AND('100L Information'!$AS$21=FALSE,AL193=\"Y\")),0,IF(ISNUMBER(R193*Incent_Cost_Fixture_Rx),MIN(R193*Incent_Cost_Fixture_Rx,(MAX(AE193,AK193))),0))","v":0},"FAIL","0","0","0",0,"N","0","0",null,"","",0,"",{"$f":"IF(RIGHT(I193,4)=\"Case\",W193,IF(AND(AL193=\"Y\",AF193<1),0,IF(OR(LEFT(D193,2)=\"T5\",LEFT(D193,3)=\"CFL\",'Analysis 103L'!AS193=\"Less\"),'Analysis 103L'!AR193,'Analysis 103L'!W193)))","v":""},null,0,0,null,{"$error":"#VALUE!"},{"$error":"#VALUE!"},{"$error":"#VALUE!"},null,null,{"$f":"IF(RIGHT(I193,4)=\"Case\",'LED Case Lighting'!$AY$1,IF(J193=\"\",\"\",VLOOKUP(J193,Lookups!$A$30:$J$172,VLOOKUP('100L Information'!$AI$46,Lookups!$J$3:$L$6,3,FALSE),FALSE)))","v":""},{"$error":"#N/A"},"","",{"$error":"#VALUE!"},{"$error":"#VALUE!"},{"$error":"#VALUE!"},{"$error":"#N/A"},0,{"$error":"#N/A"},0,{"$error":"#VALUE!"},{"$error":"#VALUE!"},{"$error":"#VALUE!"},"FAIL",null,null,null,null,null,null,null,"Interior / Exterior",null,"",null,{"$f":"IF(RIGHT(I193,4)=\"Case\",(INDEX('LED Case Lighting'!$AZ$3:$AZ$36,MATCH('Analysis 103L'!$CK193,'LED Case Lighting'!$AS$3:$AS$36,0))),IF(CB193=0,0,IF(CB193=\"lamp\",((Q193/VLOOKUP(B193,Int_Ext,2,FALSE))*VLOOKUP(E193,NEB,16,FALSE)),IF(CB193=\"fixture\",((Q193/VLOOKUP(B193,Int_Ext,2,FALSE))*VLOOKUP(E193,NEB,14,FALSE)),\"\"))))","v":""},null,{"$f":"IF(RIGHT(I193,4)=\"Case\",INDEX('Equipment Type'!$V$4:$V$53, MATCH('Analysis 103L'!$K193, 'Equipment Type'!$A$4:$A$53, 0)), \"\")","v":""},"","","","","",{"$f":"IF(CK193=\"\", \"\", INDEX('LED Case Lighting'!$AR$3:$AR$36, MATCH('Analysis 103L'!CK193, 'LED Case Lighting'!$AS$3:$AS$36, 0)))","v":""},{"$f":"IF(CK193=\"\", \"\", INDEX('LED Case Lighting'!$AW$3:$AW$36, MATCH('Analysis 103L'!CK193, 'LED Case Lighting'!$AS$3:$AS$36, 0)))","v":""},{"$f":"IF(CK193=\"\", \"\", INDEX('LED Case Lighting'!$AX$3:$AX$36, MATCH('Analysis 103L'!CK193, 'LED Case Lighting'!$AS$3:$AS$36, 0)))","v":""},""]
[167,null,null,null,null,null,"",null,{"$f":"IF(K194=\"\",\"\",VLOOKUP(K194,'Equipment Type'!$A$1:$F$53,5,FALSE))","v":""},{"$f":"IF(K194=\"\",\"\",VLOOKUP(K194,'Equipment Type'!$A$1:$F$53,6,FALSE))","v":""},null,{"$f":"IF(K194=\"\",\"\",VLOOKUP(K194,'Equipment Type'!$A$1:$F$53,4,FALSE))","v":""},null,{"$f":"IF(K194=\"\",\"\",INDEX('Equipment Type'!$T$4:$T$53,MATCH('Analysis 103L'!K194,'Equipment Type'!$A$4:$A$53,0)))","v":""},"",null,{"$f":"IF(RIGHT(I194, 4)=\"Case\", \"\", IF(P194=\"\",\"\",(IF(ISNUMBER(SEARCH(\"exit\",J194)),8760,IF(B194=\"Exterior\",4380,'Analysis 103L'!$J$3)))))","v":""},null,"","","","","","","","",{"$f":"IF('100L Information'!$Z$5=\"Yes\",0,IF('100L Information'!$Z$4=\"Yes\",(MIN($Y$232-(-$Y$227),6000)*0.5)*(Y194/$Y$232),$Y$232*(Y194/($Y$230+$Y$231))))","v":{"$error":"#VALUE!"}},"",{"$error":"#VALUE!"},"No requirement",0,{"$f":"IF(OR(Z194=\"Does not meet requirement\",AND('100L Information'!$AA$21=\"No\",AL194=\"Y\"),AND('100L Information'!$AS$21=FALSE,AL194=\"Y\")),0,IF(ISNUMBER(R194*Incent_Cost_Fixture_Rx),MIN(R194*Incent_Cost_Fixture_Rx,(MAX(AE194,AK194))),0))","v":0},"FAIL","0","0","0",0,"N","0","0",null,"","",0,"",{"$f":"IF(RIGHT(I194,4)=\"Case\",W194,IF(AND(AL194=\"Y\",AF194<1),0,IF(OR(LEFT(D194,2)=\"T5\",LEFT(D194,3)=\"CFL\",'Analysis 103L'!AS194=\"Less\"),'Analysis 103L'!AR194,'Analysis 103L'!W194)))","v":""},null,0,0,null,{"$error":"#VALUE!"},{"$error":"#VALUE!"},{"$error":"#VALUE!"},null,null,{"$f":"IF(RIGHT(I194,4)=\"Case\",'LED Case Lighting'!$AY$1,IF(J194=\"\",\"\",VLOOKUP(J194,Lookups!$A$30:$J$172,VLOOKUP('100L Information'!$AI$46,Lookups!$J$3:$L$6,3,FALSE),FALSE)))","v":""},{"$error":"#N/A"},"","",{"$error":"#VALUE!"},{"$error":"#VALUE!"},{"$error":"#VALUE!"},{"$error":"#N/A"},0,{"$error":"#N/A"},0,{"$error":"#VALUE!"},{"$error":"#VALUE!"},{"$error":"#VALUE!"},"FAIL",null,null,null,null,null,null,null,"Interior / Exterior",null,"",null,{"$f":"IF(RIGHT(I194,4)=\"Case\",(INDEX('LED Case Lighting'!$AZ$3:$AZ$36,MATCH('Analysis 103L'!$CK194,'LED Case Lighting'!$AS$3:$AS$36,0))),IF(CB194=0,0,IF(CB194=\"lamp\",((Q194/VLOOKUP(B194,Int_Ext,2,FALSE))*VLOOKUP(E194,NEB,16,FALSE)),IF(CB194=\"fixture\",((Q194/VLOOKUP(B194,Int_Ext,2,FALSE))*VLOOKUP(E194,NEB,14,FALSE)),\"\"))))","v":""},null,{"$f":"IF(RIGHT(I194,4)=\"Case\",INDEX('Equipment Type'!$V$4:$V$53, MATCH('Analysis 103L'!$K194, 'Equipment Type'!$A$4:$A$53, 0)), \"\")","v":""},"","","","","",{"$f":"IF(CK194=\"\", \"\", INDEX('LED Case Lighting'!$AR$3:$AR$36, MATCH('Analysis 103L'!CK194, 'LED Case Lighting'!$AS$3:$AS$36, 0)))","v":""},{"$f":"IF(CK194=\"\", \"\", INDEX('LED Case Lighting'!$AW$3:$AW$36, MATCH('Analysis 103L'!CK194, 'LED Case Lighting'!$AS$3:$AS$36, 0)))","v":""},{"$f":"IF(CK194=\"\", \"\", INDEX('LED Case Lighting'!$AX$3:$AX$36, MATCH('Analysis 103L'!CK194, 'LED Case Lighting'!$AS$3:$AS$36, 0)))","v":""},""]
[168,null,null,null,null,null,"",null,{"$f":"IF(K195=\"\",\"\",VLOOKUP(K195,'Equipment Type'!$A$1:$F$53,5,FALSE))","v":""},{"$f":"IF(K195=\"\",\"\",VLOOKUP(K195,'Equipment Type'!$A$1:$F$53,6,FALSE))","v":""},null,{"$f":"IF(K195=\"\",\"\",VLOOKUP(K195,'Equipment Type'!$A$1:$F$53,4,FALSE))","v":""},null,{"$f":"IF(K195=\"\",\"\",INDEX('Equipment Type'!$T$4:$T$53,MATCH('Analysis 103L'!K195,'Equipment Type'!$A$4:$A$53,0)))","v":""},"",null,{"$f":"IF(RIGHT(I195, 4)=\"Case\", \"\", IF(P195=\"\",\"\",(IF(ISNUMBER(SEARCH(\"exit\",J195)),8760,IF(B195=\"Exterior\",4380,'Analysis 103L'!$J$3)))))","v":""},null,"","","","","","","","",{"$f":"IF('100L Information'!$Z$5=\"Yes\",0,IF('100L Information'!$Z$4=\"Yes\",(MIN($Y$232-(-$Y$227),6000)*0.5)*(Y195/$Y$232),$Y$232*(Y195/($Y$230+$Y$231))))","v":{"$error":"#VALUE!"}},"",{"$error":"#VALUE!"},"No requirement",0,{"$f":"IF(OR(Z195=\"Does not meet requirement\",AND('100L Information'!$AA$21=\"No\",AL195=\"Y\"),AND('100L Information'!$AS$21=FALSE,AL195=\"Y\")),0,IF(ISNUMBER(R195*Incent_Cost_Fixture_Rx),MIN(R195*Incent_Cost_Fixture_Rx,(MAX(AE195,AK195))),0))","v":0},"FAIL","0","0","0",0,"N","0","0",null,"","",0,"",{"$f":"IF(RIGHT(I195,4)=\"Case\",W195,IF(AND(AL195=\"Y\",AF195<1),0,IF(OR(LEFT(D195,2)=\"T5\",LEFT(D195,3)=\"CFL\",'Analysis 103L'!AS195=\"Less\"),'Analysis 103L'!AR195,'Analysis 103L'!W195)))","v":""},null,0,0,null,{"$error":"#VALUE!"},{"$error":"#VALUE!"},{"$error":"#VALUE!"},null,null,{"$f":"IF(RIGHT(I195,4)=\"Case\",'LED Case Lighting'!$AY$1,IF(J195=\"\",\"\",VLOOKUP(J195,Lookups!$A$30:$J$172,VLOOKUP('100L Information'!$AI$46,Lookups!$J$3:$L$6,3,FALSE),FALSE)))","v":""},{"$error":"#N/A"},"","",{"$error":"#VALUE!"},{"$error":"#VALUE!"},{"$error":"#VALUE!"},{"$error":"#N/A"},0,{"$error":"#N/A"},0,{"$error":"#VALUE!"},{"$error":"#VALUE!"},{"$error":"#VALUE!"},"FAIL",null,null,null,null,null,null,null,"Interior / Exterior",null,"",null,{"$f":"IF(RIGHT(I195,4)=\"Case\",(INDEX('LED Case Lighting'!$AZ$3:$AZ$36,MATCH('Analysis 103L'!$CK195,'LED Case Lighting'!$AS$3:$AS$36,0))),IF(CB195=0,0,IF(CB195=\"lamp\",((Q195/VLOOKUP(B195,Int_Ext,2,FALSE))*VLOOKUP(E195,NEB,16,FALSE)),IF(CB195=\"fixture\",((Q195/VLOOKUP(B195,Int_Ext,2,FALSE))*VLOOKUP(E195,NEB,14,FALSE)),\"\"))))","v":""},null,{"$f":"IF(RIGHT(I195,4)=\"Case\",INDEX('Equipment Type'!$V$4:$V$53, MATCH('Analysis 103L'!$K195, 'Equipment Type'!$A$4:$A$53, 0)), \"\")","v":""},"","","","","",{"$f":"IF(CK195=\"\", \"\", INDEX('LED Case Lighting'!$AR$3:$AR$36, MATCH('Analysis 103L'!CK195, 'LED Case Lighting'!$AS$3:$AS$36, 0)))","v":""},{"$f":"IF(CK195=\"\", \"\", INDEX('LED Case Lighting'!$AW$3:$AW$36, MATCH('Analysis 103L'!CK195, 'LED Case Lighting'!$AS$3:$AS$36, 0)))","v":""},{"$f":"IF(CK195=\"\", \"\", INDEX('LED Case Lighting'!$AX$3:$AX$36, MATCH('Analysis 103L'!CK195, 'LED Case Lighting'!$AS$3:$AS$36, 0)))","v":""},""]
[169,null,null,null,null,null,"",null,{"$f":"IF(K196=\"\",\"\",VLOOKUP(K196,'Equipment Type'!$A$1:$F$53,5,FALSE))","v":""},{"$f":"IF(K196=\"\",\"\",VLOOKUP(K196,'Equipment Type'!$A$1:$F$53,6,FALSE))","v":""},null,{"$f":"IF(K196=\"\",\"\",VLOOKUP(K196,'Equipment Type'!$A$1:$F$53,4,FALSE))","v":""},null,{"$f":"IF(K196=\"\",\"\",INDEX('Equipment Type'!$T$4:$T$53,MATCH('Analysis 103L'!K196,'Equipment Type'!$A$4:$A$53,0)))","v":""},"",null,{"$f":"IF(RIGHT(I196, 4)=\"Case\", \"\", IF(P196=\"\",\"\",(IF(ISNUMBER(SEARCH(\"exit\",J196)),8760,IF(B196=\"Exterior\",4380,'Analysis 103L'!$J$3)))))","v":""},null,"","","","","","","","",{"$f":"IF('100L Information'!$Z$5=\"Yes\",0,IF('100L Information'!$Z$4=\"Yes\",(MIN($Y$232-(-$Y$227),6000)*0.5)*(Y196/$Y$232),$Y$232*(Y196/($Y$230+$Y$231))))","v":{"$error":"#VALUE!"}},"",{"$error":"#VALUE!"},"No requirement",0,{"$f":"IF(OR(Z196=\"Does not meet requirement\",AND('100L Information'!$AA$21=\"No\",AL196=\"Y\"),AND('100L Information'!$AS$21=FALSE,AL196=\"Y\")),0,IF(ISNUMBER(R196*Incent_Cost_Fixture_Rx),MIN(R196*Incent_Cost_Fixture_Rx,(MAX(AE196,AK196))),0))","v":0},"FAIL","0","0","0",0,"N","0","0",null,"","",0,"",{"$f":"IF(RIGHT(I196,4)=\"Case\",W196,IF(AND(AL196=\"Y\",AF196<1),0,IF(OR(LEFT(D196,2)=\"T5\",LEFT(D196,3)=\"CFL\",'Analysis 103L'!AS196=\"Less\"),'Analysis 103L'!AR196,'Analysis 103L'!W196)))","v":""},null,0,0,null,{"$error":"#VALUE!"},{"$error":"#VALUE!"},{"$error":"#VALUE!"},null,null,{"$f":"IF(RIGHT(I196,4)=\"Case\",'LED Case Lighting'!$AY$1,IF(J196=\"\",\"\",VLOOKUP(J196,Lookups!$A$30:$J$172,VLOOKUP('100L Information'!$AI$46,Lookups!$J$3:$L$6,3,FALSE),FALSE)))","v":""},{"$error":"#N/A"},"","",{"$error":"#VALUE!"},{"$error":"#VALUE!"},{"$error":"#VALUE!"},{"$error":"#N/A"},0,{"$error":"#N/A"},0,{"$error":"#VALUE!"},{"$error":"#VALUE!"},{"$error":"#VALUE!"},"FAIL",null,null,null,null,null,null,null,"Interior / Exterior",null,"",null,{"$f":"IF(RIGHT(I196,4)=\"Case\",(INDEX('LED Case Lighting'!$AZ$3:$AZ$36,MATCH('Analysis 103L'!$CK196,'LED Case Lighting'!$AS$3:$AS$36,0))),IF(CB196=0,0,IF(CB196=\"lamp\",((Q196/VLOOKUP(B196,Int_Ext,2,FALSE))*VLOOKUP(E196,NEB,16,FALSE)),IF(CB196=\"fixture\",((Q196/VLOOKUP(B196,Int_Ext,2,FALSE))*VLOOKUP(E196,NEB,14,FALSE)),\"\"))))","v":""},null,{"$f":"IF(RIGHT(I196,4)=\"Case\",INDEX('Equipment Type'!$V$4:$V$53, MATCH('Analysis 103L'!$K196, 'Equipment Type'!$A$4:$A$53, 0)), \"\")","v":""},"","","","","",{"$f":"IF(CK196=\"\", \"\", INDEX('LED Case Lighting'!$AR$3:$AR$36, MATCH('Analysis 103L'!CK196, 'LED Case Lighting'!$AS$3:$AS$36, 0)))","v":""},{"$f":"IF(CK196=\"\", \"\", INDEX('LED Case Lighting'!$AW$3:$AW$36, MATCH('Analysis 103L'!CK196, 'LED Case Lighting'!$AS$3:$AS$36, 0)))","v":""},{"$f":"IF(CK196=\"\", \"\", INDEX('LED Case Lighting'!$AX$3:$AX$36, MATCH('Analysis 103L'!CK196, 'LED Case Lighting'!$AS$3:$AS$36, 0)))","v":""},""]
[170,null,null,null,null,null,"",null,{"$f":"IF(K197=\"\",\"\",VLOOKUP(K197,'Equipment Type'!$A$1:$F$53,5,FALSE))","v":""},{"$f":"IF(K197=\"\",\"\",VLOOKUP(K197,'Equipment Type'!$A$1:$F$53,6,FALSE))","v":""},null,{"$f":"IF(K197=\"\",\"\",VLOOKUP(K197,'Equipment Type'!$A$1:$F$53,4,FALSE))","v":""},null,{"$f":"IF(K197=\"\",\"\",INDEX('Equipment Type'!$T$4:$T$53,MATCH('Analysis 103L'!K197,'Equipment Type'!$A$4:$A$53,0)))","v":""},"",null,{"$f":"IF(RIGHT(I197, 4)=\"Case\", \"\", IF(P197=\"\",\"\",(IF(ISNUMBER(SEARCH(\"exit\",J197)),8760,IF(B197=\"Exterior\",4380,'Analysis 103L'!$J$3)))))","v":""},null,"","","","","","","","",{"$f":"IF('100L Information'!$Z$5=\"Yes\",0,IF('100L Information'!$Z$4=\"Yes\",(MIN($Y$232-(-$Y$227),6000)*0.5)*(Y197/$Y$232),$Y$232*(Y197/($Y$230+$Y$231))))","v":{"$error":"#VALUE!"}},"",{"$error":"#VALUE!"},"No requirement",0,{"$f":"IF(OR(Z197=\"Does not meet requirement\",AND('100L Information'!$AA$21=\"No\",AL197=\"Y\"),AND('100L Information'!$AS$21=FALSE,AL197=\"Y\")),0,IF(ISNUMBER(R197*Incent_Cost_Fixture_Rx),MIN(R197*Incent_Cost_Fixture_Rx,(MAX(AE197,AK197))),0))","v":0},"FAIL","0","0","0",0,"N","0","0",null,"","",0,"",{"$f":"IF(RIGHT(I197,4)=\"Case\",W197,IF(AND(AL197=\"Y\",AF197<1),0,IF(OR(LEFT(D197,2)=\"T5\",LEFT(D197,3)=\"CFL\",'Analysis 103L'!AS197=\"Less\"),'Analysis 103L'!AR197,'Analysis 103L'!W197)))","v":""},null,0,0,null,{"$error":"#VALUE!"},{"$error":"#VALUE!"},{"$error":"#VALUE!"},null,null,{"$f":"IF(RIGHT(I197,4)=\"Case\",'LED Case Lighting'!$AY$1,IF(J197=\"\",\"\",VLOOKUP(J197,Lookups!$A$30:$J$172,VLOOKUP('100L Information'!$AI$46,Lookups!$J$3:$L$6,3,FALSE),FALSE)))","v":""},{"$error":"#N/A"},"","",{"$error":"#VALUE!"},{"$error":"#VALUE!"},{"$error":"#VALUE!"},{"$error":"#N/A"},0,{"$error":"#N/A"},0,{"$error":"#VALUE!"},{"$error":"#VALUE!"},{"$error":"#VALUE!"},"FAIL",null,null,null,null,null,null,null,"Interior / Exterior",null,"",null,{"$f":"IF(RIGHT(I197,4)=\"Case\",(INDEX('LED Case Lighting'!$AZ$3:$AZ$36,MATCH('Analysis 103L'!$CK197,'LED Case Lighting'!$AS$3:$AS$36,0))),IF(CB197=0,0,IF(CB197=\"lamp\",((Q197/VLOOKUP(B197,Int_Ext,2,FALSE))*VLOOKUP(E197,NEB,16,FALSE)),IF(CB197=\"fixture\",((Q197/VLOOKUP(B197,Int_Ext,2,FALSE))*VLOOKUP(E197,NEB,14,FALSE)),\"\"))))","v":""},null,{"$f":"IF(RIGHT(I197,4)=\"Case\",INDEX('Equipment Type'!$V$4:$V$53, MATCH('Analysis 103L'!$K197, 'Equipment Type'!$A$4:$A$53, 0)), \"\")","v":""},"","","","","",{"$f":"IF(CK197=\"\", \"\", INDEX('LED Case Lighting'!$AR$3:$AR$36, MATCH('Analysis 103L'!CK197, 'LED Case Lighting'!$AS$3:$AS$36, 0)))","v":""},{"$f":"IF(CK197=\"\", \"\", INDEX('LED Case Lighting'!$AW$3:$AW$36, MATCH('Analysis 103L'!CK197, 'LED Case Lighting'!$AS$3:$AS$36, 0)))","v":""},{"$f":"IF(CK197=\"\", \"\", INDEX('LED Case Lighting'!$AX$3:$AX$36, MATCH('Analysis 103L'!CK197, 'LED Case Lighting'!$AS$3:$AS$36, 0)))","v":""},""]
[171,null,null,null,null,null,"",null,{"$f":"IF(K198=\"\",\"\",VLOOKUP(K198,'Equipment Type'!$A$1:$F$53,5,FALSE))","v":""},{"$f":"IF(K198=\"\",\"\",VLOOKUP(K198,'Equipment Type'!$A$1:$F$53,6,FALSE))","v":""},null,{"$f":"IF(K198=\"\",\"\",VLOOKUP(K198,'Equipment Type'!$A$1:$F$53,4,FALSE))","v":""},null,{"$f":"IF(K198=\"\",\"\",INDEX('Equipment Type'!$T$4:$T$53,MATCH('Analysis 103L'!K198,'Equipment Type'!$A$4:$A$53,0)))","v":""},"",null,{"$f":"IF(RIGHT(I198, 4)=\"Case\", \"\", IF(P198=\"\",\"\",(IF(ISNUMBER(SEARCH(\"exit\",J198)),8760,IF(B198=\"Exterior\",4380,'Analysis 103L'!$J$3)))))","v":""},null,"","","","","","","","",{"$f":"IF('100L Information'!$Z$5=\"Yes\",0,IF('100L Information'!$Z$4=\"Yes\",(MIN($Y$232-(-$Y$227),6000)*0.5)*(Y198/$Y$232),$Y$232*(Y198/($Y$230+$Y$231))))","v":{"$error":"#VALUE!"}},"",{"$error":"#VALUE!"},"No requirement",0,{"$f":"IF(OR(Z198=\"Does not meet requirement\",AND('100L Information'!$AA$21=\"No\",AL198=\"Y\"),AND('100L Information'!$AS$21=FALSE,AL198=\"Y\")),0,IF(ISNUMBER(R198*Incent_Cost_Fixture_Rx),MIN(R198*Incent_Cost_Fixture_Rx,(MAX(AE198,AK198))),0))","v":0},"FAIL","0","0","0",0,"N","0","0",null,"","",0,"",{"$f":"IF(RIGHT(I198,4)=\"Case\",W198,IF(AND(AL198=\"Y\",AF198<1),0,IF(OR(LEFT(D198,2)=\"T5\",LEFT(D198,3)=\"CFL\",'Analysis 103L'!AS198=\"Less\"),'Analysis 103L'!AR198,'Analysis 103L'!W198)))","v":""},null,0,0,null,{"$error":"#VALUE!"},{"$error":"#VALUE!"},{"$error":"#VALUE!"},null,null,{"$f":"IF(RIGHT(I198,4)=\"Case\",'LED Case Lighting'!$AY$1,IF(J198=\"\",\"\",VLOOKUP(J198,Lookups!$A$30:$J$172,VLOOKUP('100L Information'!$AI$46,Lookups!$J$3:$L$6,3,FALSE),FALSE)))","v":""},{"$error":"#N/A"},"","",{"$error":"#VALUE!"},{"$error":"#VALUE!"},{"$error":"#VALUE!"},{"$error":"#N/A"},0,{"$error":"#N/A"},0,{"$error":"#VALUE!"},{"$error":"#VALUE!"},{"$error":"#VALUE!"},"FAIL",null,null,null,null,null,null,null,"Interior / Exterior",null,"",null,{"$f":"IF(RIGHT(I198,4)=\"Case\",(INDEX('LED Case Lighting'!$AZ$3:$AZ$36,MATCH('Analysis 103L'!$CK198,'LED Case Lighting'!$AS$3:$AS$36,0))),IF(CB198=0,0,IF(CB198=\"lamp\",((Q198/VLOOKUP(B198,Int_Ext,2,FALSE))*VLOOKUP(E198,NEB,16,FALSE)),IF(CB198=\"fixture\",((Q198/VLOOKUP(B198,Int_Ext,2,FALSE))*VLOOKUP(E198,NEB,14,FALSE)),\"\"))))","v":""},null,{"$f":"IF(RIGHT(I198,4)=\"Case\",INDEX('Equipment Type'!$V$4:$V$53, MATCH('Analysis 103L'!$K198, 'Equipment Type'!$A$4:$A$53, 0)), \"\")","v":""},"","","","","",{"$f":"IF(CK198=\"\", \"\", INDEX('LED Case Lighting'!$AR$3:$AR$36, MATCH('Analysis 103L'!CK198, 'LED Case Lighting'!$AS$3:$AS$36, 0)))","v":""},{"$f":"IF(CK198=\"\", \"\", INDEX('LED Case Lighting'!$AW$3:$AW$36, MATCH('Analysis 103L'!CK198, 'LED Case Lighting'!$AS$3:$AS$36, 0)))","v":""},{"$f":"IF(CK198=\"\", \"\", INDEX('LED Case Lighting'!$AX$3:$AX$36, MATCH('Analysis 103L'!CK198, 'LED Case Lighting'!$AS$3:$AS$36, 0)))","v":""},""]
[172,null,null,null,null,null,"",null,{"$f":"IF(K199=\"\",\"\",VLOOKUP(K199,'Equipment Type'!$A$1:$F$53,5,FALSE))","v":""},{"$f":"IF(K199=\"\",\"\",VLOOKUP(K199,'Equipment Type'!$A$1:$F$53,6,FALSE))","v":""},null,{"$f":"IF(K199=\"\",\"\",VLOOKUP(K199,'Equipment Type'!$A$1:$F$53,4,FALSE))","v":""},null,{"$f":"IF(K199=\"\",\"\",INDEX('Equipment Type'!$T$4:$T$53,MATCH('Analysis 103L'!K199,'Equipment Type'!$A$4:$A$53,0)))","v":""},"",null,{"$f":"IF(RIGHT(I199, 4)=\"Case\", \"\", IF(P199=\"\",\"\",(IF(ISNUMBER(SEARCH(\"exit\",J199)),8760,IF(B199=\"Exterior\",4380,'Analysis 103L'!$J$3)))))","v":""},null,"","","","","","","","",{"$f":"IF('100L Information'!$Z$5=\"Yes\",0,IF('100L Information'!$Z$4=\"Yes\",(MIN($Y$232-(-$Y$227),6000)*0.5)*(Y199/$Y$232),$Y$232*(Y199/($Y$230+$Y$231))))","v":{"$error":"#VALUE!"}},"",{"$error":"#VALUE!"},"No requirement",0,{"$f":"IF(OR(Z199=\"Does not meet requirement\",AND('100L Information'!$AA$21=\"No\",AL199=\"Y\"),AND('100L Information'!$AS$21=FALSE,AL199=\"Y\")),0,IF(ISNUMBER(R199*Incent_Cost_Fixture_Rx),MIN(R199*Incent_Cost_Fixture_Rx,(MAX(AE199,AK199))),0))","v":0},"FAIL","0","0","0",0,"N","0","0",null,"","",0,"",{"$f":"IF(RIGHT(I199,4)=\"Case\",W199,IF(AND(AL199=\"Y\",AF199<1),0,IF(OR(LEFT(D199,2)=\"T5\",LEFT(D199,3)=\"CFL\",'Analysis 103L'!AS199=\"Less\"),'Analysis 103L'!AR199,'Analysis 103L'!W199)))","v":""},null,0,0,null,{"$error":"#VALUE!"},{"$error":"#VALUE!"},{"$error":"#VALUE!"},null,null,{"$f":"IF(RIGHT(I199,4)=\"Case\",'LED Case Lighting'!$AY$1,IF(J199=\"\",\"\",VLOOKUP(J199,Lookups!$A$30:$J$172,VLOOKUP('100L Information'!$AI$46,Lookups!$J$3:$L$6,3,FALSE),FALSE)))","v":""},{"$error":"#N/A"},"","",{"$error":"#VALUE!"},{"$error":"#VALUE!"},{"$error":"#VALUE!"},{"$error":"#N/A"},0,{"$error":"#N/A"},0,{"$error":"#VALUE!"},{"$error":"#VALUE!"},{"$error":"#VALUE!"},"FAIL",null,null,null,null,null,null,null,"Interior / Exterior",null,"",null,{"$f":"IF(RIGHT(I199,4)=\"Case\",(INDEX('LED Case Lighting'!$AZ$3:$AZ$36,MATCH('Analysis 103L'!$CK199,'LED Case Lighting'!$AS$3:$AS$36,0))),IF(CB199=0,0,IF(CB199=\"lamp\",((Q199/VLOOKUP(B199,Int_Ext,2,FALSE))*VLOOKUP(E199,NEB,16,FALSE)),IF(CB199=\"fixture\",((Q199/VLOOKUP(B199,Int_Ext,2,FALSE))*VLOOKUP(E199,NEB,14,FALSE)),\"\"))))","v":""},null,{"$f":"IF(RIGHT(I199,4)=\"Case\",INDEX('Equipment Type'!$V$4:$V$53, MATCH('Analysis 103L'!$K199, 'Equipment Type'!$A$4:$A$53, 0)), \"\")","v":""},"","","","","",{"$f":"IF(CK199=\"\", \"\", INDEX('LED Case Lighting'!$AR$3:$AR$36, MATCH('Analysis 103L'!CK199, 'LED Case Lighting'!$AS$3:$AS$36, 0)))","v":""},{"$f":"IF(CK199=\"\", \"\", INDEX('LED Case Lighting'!$AW$3:$AW$36, MATCH('Analysis 103L'!CK199, 'LED Case Lighting'!$AS$3:$AS$36, 0)))","v":""},{"$f":"IF(CK199=\"\", \"\", INDEX('LED Case Lighting'!$AX$3:$AX$36, MATCH('Analysis 103L'!CK199, 'LED Case Lighting'!$AS$3:$AS$36, 0)))","v":""},""]
[173,null,null,null,null,null,"",null,{"$f":"IF(K200=\"\",\"\",VLOOKUP(K200,'Equipment Type'!$A$1:$F$53,5,FALSE))","v":""},{"$f":"IF(K200=\"\",\"\",VLOOKUP(K200,'Equipment Type'!$A$1:$F$53,6,FALSE))","v":""},null,{"$f":"IF(K200=\"\",\"\",VLOOKUP(K200,'Equipment Type'!$A$1:$F$53,4,FALSE))","v":""},null,{"$f":"IF(K200=\"\",\"\",INDEX('Equipment Type'!$T$4:$T$53,MATCH('Analysis 103L'!K200,'Equipment Type'!$A$4:$A$53,0)))","v":""},"",null,{"$f":"IF(RIGHT(I200, 4)=\"Case\", \"\", IF(P200=\"\",\"\",(IF(ISNUMBER(SEARCH(\"exit\",J200)),8760,IF(B200=\"Exterior\",4380,'Analysis 103L'!$J$3)))))","v":""},null,"","","","","","","","",{"$f":"IF('100L Information'!$Z$5=\"Yes\",0,IF('100L Information'!$Z$4=\"Yes\",(MIN($Y$232-(-$Y$227),6000)*0.5)*(Y200/$Y$232),$Y$232*(Y200/($Y$230+$Y$231))))","v":{"$error":"#VALUE!"}},"",{"$error":"#VALUE!"},"No requirement",0,{"$f":"IF(OR(Z200=\"Does not meet requirement\",AND('100L Information'!$AA$21=\"No\",AL200=\"Y\"),AND('100L Information'!$AS$21=FALSE,AL200=\"Y\")),0,IF(ISNUMBER(R200*Incent_Cost_Fixture_Rx),MIN(R200*Incent_Cost_Fixture_Rx,(MAX(AE200,AK200))),0))","v":0},"FAIL","0","0","0",0,"N","0","0",null,"","",0,"",{"$f":"IF(RIGHT(I200,4)=\"Case\",W200,IF(AND(AL200=\"Y\",AF200<1),0,IF(OR(LEFT(D200,2)=\"T5\",LEFT(D200,3)=\"CFL\",'Analysis 103L'!AS200=\"Less\"),'Analysis 103L'!AR200,'Analysis 103L'!W200)))","v":""},null,0,0,null,{"$error":"#VALUE!"},{"$error":"#VALUE!"},{"$error":"#VALUE!"},null,null,{"$f":"IF(RIGHT(I200,4)=\"Case\",'LED Case Lighting'!$AY$1,IF(J200=\"\",\"\",VLOOKUP(J200,Lookups!$A$30:$J$172,VLOOKUP('100L Information'!$AI$46,Lookups!$J$3:$L$6,3,FALSE),FALSE)))","v":""},{"$error":"#N/A"},"","",{"$error":"#VALUE!"},{"$error":"#VALUE!"},{"$error":"#VALUE!"},{"$error":"#N/A"},0,{"$error":"#N/A"},0,{"$error":"#VALUE!"},{"$error":"#VALUE!"},{"$error":"#VALUE!"},"FAIL",null,null,null,null,null,null,null,"Interior / Exterior",null,"",null,{"$f":"IF(RIGHT(I200,4)=\"Case\",(INDEX('LED Case Lighting'!$AZ$3:$AZ$36,MATCH('Analysis 103L'!$CK200,'LED Case Lighting'!$AS$3:$AS$36,0))),IF(CB200=0,0,IF(CB200=\"lamp\",((Q200/VLOOKUP(B200,Int_Ext,2,FALSE))*VLOOKUP(E200,NEB,16,FALSE)),IF(CB200=\"fixture\",((Q200/VLOOKUP(B200,Int_Ext,2,FALSE))*VLOOKUP(E200,NEB,14,FALSE)),\"\"))))","v":""},null,{"$f":"IF(RIGHT(I200,4)=\"Case\",INDEX('Equipment Type'!$V$4:$V$53, MATCH('Analysis 103L'!$K200, 'Equipment Type'!$A$4:$A$53, 0)), \"\")","v":""},"","","","","",{"$f":"IF(CK200=\"\", \"\", INDEX('LED Case Lighting'!$AR$3:$AR$36, MATCH('Analysis 103L'!CK200, 'LED Case Lighting'!$AS$3:$AS$36, 0)))","v":""},{"$f":"IF(CK200=\"\", \"\", INDEX('LED Case Lighting'!$AW$3:$AW$36, MATCH('Analysis 103L'!CK200, 'LED Case Lighting'!$AS$3:$AS$36, 0)))","v":""},{"$f":"IF(CK200=\"\", \"\", INDEX('LED Case Lighting'!$AX$3:$AX$36, MATCH('Analysis 103L'!CK200, 'LED Case Lighting'!$AS$3:$AS$36, 0)))","v":""},""]
[174,null,null,null,null,null,"",null,{"$f":"IF(K201=\"\",\"\",VLOOKUP(K201,'Equipment Type'!$A$1:$F$53,5,FALSE))","v":""},{"$f":"IF(K201=\"\",\"\",VLOOKUP(K201,'Equipment Type'!$A$1:$F$53,6,FALSE))","v":""},null,{"$f":"IF(K201=\"\",\"\",VLOOKUP(K201,'Equipment Type'!$A$1:$F$53,4,FALSE))","v":""},null,{"$f":"IF(K201=\"\",\"\",INDEX('Equipment Type'!$T$4:$T$53,MATCH('Analysis 103L'!K201,'Equipment Type'!$A$4:$A$53,0)))","v":""},"",null,{"$f":"IF(RIGHT(I201, 4)=\"Case\", \"\", IF(P201=\"\",\"\",(IF(ISNUMBER(SEARCH(\"exit\",J201)),8760,IF(B201=\"Exterior\",4380,'Analysis 103L'!$J$3)))))","v":""},null,"","","","","","","","",{"$f":"IF('100L Information'!$Z$5=\"Yes\",0,IF('100L Information'!$Z$4=\"Yes\",(MIN($Y$232-(-$Y$227),6000)*0.5)*(Y201/$Y$232),$Y$232*(Y201/($Y$230+$Y$231))))","v":{"$error":"#VALUE!"}},"",{"$error":"#VALUE!"},"No requirement",0,{"$f":"IF(OR(Z201=\"Does not meet requirement\",AND('100L Information'!$AA$21=\"No\",AL201=\"Y\"),AND('100L Information'!$AS$21=FALSE,AL201=\"Y\")),0,IF(ISNUMBER(R201*Incent_Cost_Fixture_Rx),MIN(R201*Incent_Cost_Fixture_Rx,(MAX(AE201,AK201))),0))","v":0},"FAIL","0","0","0",0,"N","0","0",null,"","",0,"",{"$f":"IF(RIGHT(I201,4)=\"Case\",W201,IF(AND(AL201=\"Y\",AF201<1),0,IF(OR(LEFT(D201,2)=\"T5\",LEFT(D201,3)=\"CFL\",'Analysis 103L'!AS201=\"Less\"),'Analysis 103L'!AR201,'Analysis 103L'!W201)))","v":""},null,0,0,null,{"$error":"#VALUE!"},{"$error":"#VALUE!"},{"$error":"#VALUE!"},null,null,{"$f":"IF(RIGHT(I201,4)=\"Case\",'LED Case Lighting'!$AY$1,IF(J201=\"\",\"\",VLOOKUP(J201,Lookups!$A$30:$J$172,VLOOKUP('100L Information'!$AI$46,Lookups!$J$3:$L$6,3,FALSE),FALSE)))","v":""},{"$error":"#N/A"},"","",{"$error":"#VALUE!"},{"$error":"#VALUE!"},{"$error":"#VALUE!"},{"$error":"#N/A"},0,{"$error":"#N/A"},0,{"$error":"#VALUE!"},{"$error":"#VALUE!"},{"$error":"#VALUE!"},"FAIL",null,null,null,null,null,null,null,"Interior / Exterior",null,"",null,{"$f":"IF(RIGHT(I201,4)=\"Case\",(INDEX('LED Case Lighting'!$AZ$3:$AZ$36,MATCH('Analysis 103L'!$CK201,'LED Case Lighting'!$AS$3:$AS$36,0))),IF(CB201=0,0,IF(CB201=\"lamp\",((Q201/VLOOKUP(B201,Int_Ext,2,FALSE))*VLOOKUP(E201,NEB,16,FALSE)),IF(CB201=\"fixture\",((Q201/VLOOKUP(B201,Int_Ext,2,FALSE))*VLOOKUP(E201,NEB,14,FALSE)),\"\"))))","v":""},null,{"$f":"IF(RIGHT(I201,4)=\"Case\",INDEX('Equipment Type'!$V$4:$V$53, MATCH('Analysis 103L'!$K201, 'Equipment Type'!$A$4:$A$53, 0)), \"\")","v":""},"","","","","",{"$f":"IF(CK201=\"\", \"\", INDEX('LED Case Lighting'!$AR$3:$AR$36, MATCH('Analysis 103L'!CK201, 'LED Case Lighting'!$AS$3:$AS$36, 0)))","v":""},{"$f":"IF(CK201=\"\", \"\", INDEX('LED Case Lighting'!$AW$3:$AW$36, MATCH('Analysis 103L'!CK201, 'LED Case Lighting'!$AS$3:$AS$36, 0)))","v":""},{"$f":"IF(CK201=\"\", \"\", INDEX('LED Case Lighting'!$AX$3:$AX$36, MATCH('Analysis 103L'!CK201, 'LED Case Lighting'!$AS$3:$AS$36, 0)))","v":""},""]
[175,null,null,null,null,null,"",null,{"$f":"IF(K202=\"\",\"\",VLOOKUP(K202,'Equipment Type'!$A$1:$F$53,5,FALSE))","v":""},{"$f":"IF(K202=\"\",\"\",VLOOKUP(K202,'Equipment Type'!$A$1:$F$53,6,FALSE))","v":""},null,{"$f":"IF(K202=\"\",\"\",VLOOKUP(K202,'Equipment Type'!$A$1:$F$53,4,FALSE))","v":""},null,{"$f":"IF(K202=\"\",\"\",INDEX('Equipment Type'!$T$4:$T$53,MATCH('Analysis 103L'!K202,'Equipment Type'!$A$4:$A$53,0)))","v":""},"",null,{"$f":"IF(RIGHT(I202, 4)=\"Case\", \"\", IF(P202=\"\",\"\",(IF(ISNUMBER(SEARCH(\"exit\",J202)),8760,IF(B202=\"Exterior\",4380,'Analysis 103L'!$J$3)))))","v":""},null,"","","","","","","","",{"$f":"IF('100L Information'!$Z$5=\"Yes\",0,IF('100L Information'!$Z$4=\"Yes\",(MIN($Y$232-(-$Y$227),6000)*0.5)*(Y202/$Y$232),$Y$232*(Y202/($Y$230+$Y$231))))","v":{"$error":"#VALUE!"}},"",{"$error":"#VALUE!"},"No requirement",0,{"$f":"IF(OR(Z202=\"Does not meet requirement\",AND('100L Information'!$AA$21=\"No\",AL202=\"Y\"),AND('100L Information'!$AS$21=FALSE,AL202=\"Y\")),0,IF(ISNUMBER(R202*Incent_Cost_Fixture_Rx),MIN(R202*Incent_Cost_Fixture_Rx,(MAX(AE202,AK202))),0))","v":0},"FAIL","0","0","0",0,"N","0","0",null,"","",0,"",{"$f":"IF(RIGHT(I202,4)=\"Case\",W202,IF(AND(AL202=\"Y\",AF202<1),0,IF(OR(LEFT(D202,2)=\"T5\",LEFT(D202,3)=\"CFL\",'Analysis 103L'!AS202=\"Less\"),'Analysis 103L'!AR202,'Analysis 103L'!W202)))","v":""},null,0,0,null,{"$error":"#VALUE!"},{"$error":"#VALUE!"},{"$error":"#VALUE!"},null,null,{"$f":"IF(RIGHT(I202,4)=\"Case\",'LED Case Lighting'!$AY$1,IF(J202=\"\",\"\",VLOOKUP(J202,Lookups!$A$30:$J$172,VLOOKUP('100L Information'!$AI$46,Lookups!$J$3:$L$6,3,FALSE),FALSE)))","v":""},{"$error":"#N/A"},"","",{"$error":"#VALUE!"},{"$error":"#VALUE!"},{"$error":"#VALUE!"},{"$error":"#N/A"},0,{"$error":"#N/A"},0,{"$error":"#VALUE!"},{"$error":"#VALUE!"},{"$error":"#VALUE!"},"FAIL",null,null,null,null,null,null,null,"Interior / Exterior",null,"",null,{"$f":"IF(RIGHT(I202,4)=\"Case\",(INDEX('LED Case Lighting'!$AZ$3:$AZ$36,MATCH('Analysis 103L'!$CK202,'LED Case Lighting'!$AS$3:$AS$36,0))),IF(CB202=0,0,IF(CB202=\"lamp\",((Q202/VLOOKUP(B202,Int_Ext,2,FALSE))*VLOOKUP(E202,NEB,16,FALSE)),IF(CB202=\"fixture\",((Q202/VLOOKUP(B202,Int_Ext,2,FALSE))*VLOOKUP(E202,NEB,14,FALSE)),\"\"))))","v":""},null,{"$f":"IF(RIGHT(I202,4)=\"Case\",INDEX('Equipment Type'!$V$4:$V$53, MATCH('Analysis 103L'!$K202, 'Equipment Type'!$A$4:$A$53, 0)), \"\")","v":""},"","","","","",{"$f":"IF(CK202=\"\", \"\", INDEX('LED Case Lighting'!$AR$3:$AR$36, MATCH('Analysis 103L'!CK202, 'LED Case Lighting'!$AS$3:$AS$36, 0)))","v":""},{"$f":"IF(CK202=\"\", \"\", INDEX('LED Case Lighting'!$AW$3:$AW$36, MATCH('Analysis 103L'!CK202, 'LED Case Lighting'!$AS$3:$AS$36, 0)))","v":""},{"$f":"IF(CK202=\"\", \"\", INDEX('LED Case Lighting'!$AX$3:$AX$36, MATCH('Analysis 103L'!CK202, 'LED Case Lighting'!$AS$3:$AS$36, 0)))","v":""},""]
[176,null,null,null,null,null,"",null,{"$f":"IF(K203=\"\",\"\",VLOOKUP(K203,'Equipment Type'!$A$1:$F$53,5,FALSE))","v":""},{"$f":"IF(K203=\"\",\"\",VLOOKUP(K203,'Equipment Type'!$A$1:$F$53,6,FALSE))","v":""},null,{"$f":"IF(K203=\"\",\"\",VLOOKUP(K203,'Equipment Type'!$A$1:$F$53,4,FALSE))","v":""},null,{"$f":"IF(K203=\"\",\"\",INDEX('Equipment Type'!$T$4:$T$53,MATCH('Analysis 103L'!K203,'Equipment Type'!$A$4:$A$53,0)))","v":""},"",null,{"$f":"IF(RIGHT(I203, 4)=\"Case\", \"\", IF(P203=\"\",\"\",(IF(ISNUMBER(SEARCH(\"exit\",J203)),8760,IF(B203=\"Exterior\",4380,'Analysis 103L'!$J$3)))))","v":""},null,"","","","","","","","",{"$f":"IF('100L Information'!$Z$5=\"Yes\",0,IF('100L Information'!$Z$4=\"Yes\",(MIN($Y$232-(-$Y$227),6000)*0.5)*(Y203/$Y$232),$Y$232*(Y203/($Y$230+$Y$231))))","v":{"$error":"#VALUE!"}},"",{"$error":"#VALUE!"},"No requirement",0,{"$f":"IF(OR(Z203=\"Does not meet requirement\",AND('100L Information'!$AA$21=\"No\",AL203=\"Y\"),AND('100L Information'!$AS$21=FALSE,AL203=\"Y\")),0,IF(ISNUMBER(R203*Incent_Cost_Fixture_Rx),MIN(R203*Incent_Cost_Fixture_Rx,(MAX(AE203,AK203))),0))","v":0},"FAIL","0","0","0",0,"N","0","0",null,"","",0,"",{"$f":"IF(RIGHT(I203,4)=\"Case\",W203,IF(AND(AL203=\"Y\",AF203<1),0,IF(OR(LEFT(D203,2)=\"T5\",LEFT(D203,3)=\"CFL\",'Analysis 103L'!AS203=\"Less\"),'Analysis 103L'!AR203,'Analysis 103L'!W203)))","v":""},null,0,0,null,{"$error":"#VALUE!"},{"$error":"#VALUE!"},{"$error":"#VALUE!"},null,null,{"$f":"IF(RIGHT(I203,4)=\"Case\",'LED Case Lighting'!$AY$1,IF(J203=\"\",\"\",VLOOKUP(J203,Lookups!$A$30:$J$172,VLOOKUP('100L Information'!$AI$46,Lookups!$J$3:$L$6,3,FALSE),FALSE)))","v":""},{"$error":"#N/A"},"","",{"$error":"#VALUE!"},{"$error":"#VALUE!"},{"$error":"#VALUE!"},{"$error":"#N/A"},0,{"$error":"#N/A"},0,{"$error":"#VALUE!"},{"$error":"#VALUE!"},{"$error":"#VALUE!"},"FAIL",null,null,null,null,null,null,null,"Interior / Exterior",null,"",null,{"$f":"IF(RIGHT(I203,4)=\"Case\",(INDEX('LED Case Lighting'!$AZ$3:$AZ$36,MATCH('Analysis 103L'!$CK203,'LED Case Lighting'!$AS$3:$AS$36,0))),IF(CB203=0,0,IF(CB203=\"lamp\",((Q203/VLOOKUP(B203,Int_Ext,2,FALSE))*VLOOKUP(E203,NEB,16,FALSE)),IF(CB203=\"fixture\",((Q203/VLOOKUP(B203,Int_Ext,2,FALSE))*VLOOKUP(E203,NEB,14,FALSE)),\"\"))))","v":""},null,{"$f":"IF(RIGHT(I203,4)=\"Case\",INDEX('Equipment Type'!$V$4:$V$53, MATCH('Analysis 103L'!$K203, 'Equipment Type'!$A$4:$A$53, 0)), \"\")","v":""},"","","","","",{"$f":"IF(CK203=\"\", \"\", INDEX('LED Case Lighting'!$AR$3:$AR$36, MATCH('Analysis 103L'!CK203, 'LED Case Lighting'!$AS$3:$AS$36, 0)))","v":""},{"$f":"IF(CK203=\"\", \"\", INDEX('LED Case Lighting'!$AW$3:$AW$36, MATCH('Analysis 103L'!CK203, 'LED Case Lighting'!$AS$3:$AS$36, 0)))","v":""},{"$f":"IF(CK203=\"\", \"\", INDEX('LED Case Lighting'!$AX$3:$AX$36, MATCH('Analysis 103L'!CK203, 'LED Case Lighting'!$AS$3:$AS$36, 0)))","v":""},""]
[177,null,null,null,null,null,"",null,{"$f":"IF(K204=\"\",\"\",VLOOKUP(K204,'Equipment Type'!$A$1:$F$53,5,FALSE))","v":""},{"$f":"IF(K204=\"\",\"\",VLOOKUP(K204,'Equipment Type'!$A$1:$F$53,6,FALSE))","v":""},null,{"$f":"IF(K204=\"\",\"\",VLOOKUP(K204,'Equipment Type'!$A$1:$F$53,4,FALSE))","v":""},null,{"$f":"IF(K204=\"\",\"\",INDEX('Equipment Type'!$T$4:$T$53,MATCH('Analysis 103L'!K204,'Equipment Type'!$A$4:$A$53,0)))","v":""},"",null,{"$f":"IF(RIGHT(I204, 4)=\"Case\", \"\", IF(P204=\"\",\"\",(IF(ISNUMBER(SEARCH(\"exit\",J204)),8760,IF(B204=\"Exterior\",4380,'Analysis 103L'!$J$3)))))","v":""},null,"","","","","","","","",{"$f":"IF('100L Information'!$Z$5=\"Yes\",0,IF('100L Information'!$Z$4=\"Yes\",(MIN($Y$232-(-$Y$227),6000)*0.5)*(Y204/$Y$232),$Y$232*(Y204/($Y$230+$Y$231))))","v":{"$error":"#VALUE!"}},"",{"$error":"#VALUE!"},"No requirement",0,{"$f":"IF(OR(Z204=\"Does not meet requirement\",AND('100L Information'!$AA$21=\"No\",AL204=\"Y\"),AND('100L Information'!$AS$21=FALSE,AL204=\"Y\")),0,IF(ISNUMBER(R204*Incent_Cost_Fixture_Rx),MIN(R204*Incent_Cost_Fixture_Rx,(MAX(AE204,AK204))),0))","v":0},"FAIL","0","0","0",0,"N","0","0",null,"","",0,"",{"$f":"IF(RIGHT(I204,4)=\"Case\",W204,IF(AND(AL204=\"Y\",AF204<1),0,IF(OR(LEFT(D204,2)=\"T5\",LEFT(D204,3)=\"CFL\",'Analysis 103L'!AS204=\"Less\"),'Analysis 103L'!AR204,'Analysis 103L'!W204)))","v":""},null,0,0,null,{"$error":"#VALUE!"},{"$error":"#VALUE!"},{"$error":"#VALUE!"},null,null,{"$f":"IF(RIGHT(I204,4)=\"Case\",'LED Case Lighting'!$AY$1,IF(J204=\"\",\"\",VLOOKUP(J204,Lookups!$A$30:$J$172,VLOOKUP('100L Information'!$AI$46,Lookups!$J$3:$L$6,3,FALSE),FALSE)))","v":""},{"$error":"#N/A"},"","",{"$error":"#VALUE!"},{"$error":"#VALUE!"},{"$error":"#VALUE!"},{"$error":"#N/A"},0,{"$error":"#N/A"},0,{"$error":"#VALUE!"},{"$error":"#VALUE!"},{"$error":"#VALUE!"},"FAIL",null,null,null,null,null,null,null,"Interior / Exterior",null,"",null,{"$f":"IF(RIGHT(I204,4)=\"Case\",(INDEX('LED Case Lighting'!$AZ$3:$AZ$36,MATCH('Analysis 103L'!$CK204,'LED Case Lighting'!$AS$3:$AS$36,0))),IF(CB204=0,0,IF(CB204=\"lamp\",((Q204/VLOOKUP(B204,Int_Ext,2,FALSE))*VLOOKUP(E204,NEB,16,FALSE)),IF(CB204=\"fixture\",((Q204/VLOOKUP(B204,Int_Ext,2,FALSE))*VLOOKUP(E204,NEB,14,FALSE)),\"\"))))","v":""},null,{"$f":"IF(RIGHT(I204,4)=\"Case\",INDEX('Equipment Type'!$V$4:$V$53, MATCH('Analysis 103L'!$K204, 'Equipment Type'!$A$4:$A$53, 0)), \"\")","v":""},"","","","","",{"$f":"IF(CK204=\"\", \"\", INDEX('LED Case Lighting'!$AR$3:$AR$36, MATCH('Analysis 103L'!CK204, 'LED Case Lighting'!$AS$3:$AS$36, 0)))","v":""},{"$f":"IF(CK204=\"\", \"\", INDEX('LED Case Lighting'!$AW$3:$AW$36, MATCH('Analysis 103L'!CK204, 'LED Case Lighting'!$AS$3:$AS$36, 0)))","v":""},{"$f":"IF(CK204=\"\", \"\", INDEX('LED Case Lighting'!$AX$3:$AX$36, MATCH('Analysis 103L'!CK204, 'LED Case Lighting'!$AS$3:$AS$36, 0)))","v":""},""]
[178,null,null,null,null,null,"",null,{"$f":"IF(K205=\"\",\"\",VLOOKUP(K205,'Equipment Type'!$A$1:$F$53,5,FALSE))","v":""},{"$f":"IF(K205=\"\",\"\",VLOOKUP(K205,'Equipment Type'!$A$1:$F$53,6,FALSE))","v":""},null,{"$f":"IF(K205=\"\",\"\",VLOOKUP(K205,'Equipment Type'!$A$1:$F$53,4,FALSE))","v":""},null,{"$f":"IF(K205=\"\",\"\",INDEX('Equipment Type'!$T$4:$T$53,MATCH('Analysis 103L'!K205,'Equipment Type'!$A$4:$A$53,0)))","v":""},"",null,{"$f":"IF(RIGHT(I205, 4)=\"Case\", \"\", IF(P205=\"\",\"\",(IF(ISNUMBER(SEARCH(\"exit\",J205)),8760,IF(B205=\"Exterior\",4380,'Analysis 103L'!$J$3)))))","v":""},null,"","","","","","","","",{"$f":"IF('100L Information'!$Z$5=\"Yes\",0,IF('100L Information'!$Z$4=\"Yes\",(MIN($Y$232-(-$Y$227),6000)*0.5)*(Y205/$Y$232),$Y$232*(Y205/($Y$230+$Y$231))))","v":{"$error":"#VALUE!"}},"",{"$error":"#VALUE!"},"No requirement",0,{"$f":"IF(OR(Z205=\"Does not meet requirement\",AND('100L Information'!$AA$21=\"No\",AL205=\"Y\"),AND('100L Information'!$AS$21=FALSE,AL205=\"Y\")),0,IF(ISNUMBER(R205*Incent_Cost_Fixture_Rx),MIN(R205*Incent_Cost_Fixture_Rx,(MAX(AE205,AK205))),0))","v":0},"FAIL","0","0","0",0,"N","0","0",null,"","",0,"",{"$f":"IF(RIGHT(I205,4)=\"Case\",W205,IF(AND(AL205=\"Y\",AF205<1),0,IF(OR(LEFT(D205,2)=\"T5\",LEFT(D205,3)=\"CFL\",'Analysis 103L'!AS205=\"Less\"),'Analysis 103L'!AR205,'Analysis 103L'!W205)))","v":""},null,0,0,null,{"$error":"#VALUE!"},{"$error":"#VALUE!"},{"$error":"#VALUE!"},null,null,{"$f":"IF(RIGHT(I205,4)=\"Case\",'LED Case Lighting'!$AY$1,IF(J205=\"\",\"\",VLOOKUP(J205,Lookups!$A$30:$J$172,VLOOKUP('100L Information'!$AI$46,Lookups!$J$3:$L$6,3,FALSE),FALSE)))","v":""},{"$error":"#N/A"},"","",{"$error":"#VALUE!"},{"$error":"#VALUE!"},{"$error":"#VALUE!"},{"$error":"#N/A"},0,{"$error":"#N/A"},0,{"$error":"#VALUE!"},{"$error":"#VALUE!"},{"$error":"#VALUE!"},"FAIL",null,null,null,null,null,null,null,"Interior / Exterior",null,"",null,{"$f":"IF(RIGHT(I205,4)=\"Case\",(INDEX('LED Case Lighting'!$AZ$3:$AZ$36,MATCH('Analysis 103L'!$CK205,'LED Case Lighting'!$AS$3:$AS$36,0))),IF(CB205=0,0,IF(CB205=\"lamp\",((Q205/VLOOKUP(B205,Int_Ext,2,FALSE))*VLOOKUP(E205,NEB,16,FALSE)),IF(CB205=\"fixture\",((Q205/VLOOKUP(B205,Int_Ext,2,FALSE))*VLOOKUP(E205,NEB,14,FALSE)),\"\"))))","v":""},null,{"$f":"IF(RIGHT(I205,4)=\"Case\",INDEX('Equipment Type'!$V$4:$V$53, MATCH('Analysis 103L'!$K205, 'Equipment Type'!$A$4:$A$53, 0)), \"\")","v":""},"","","","","",{"$f":"IF(CK205=\"\", \"\", INDEX('LED Case Lighting'!$AR$3:$AR$36, MATCH('Analysis 103L'!CK205, 'LED Case Lighting'!$AS$3:$AS$36, 0)))","v":""},{"$f":"IF(CK205=\"\", \"\", INDEX('LED Case Lighting'!$AW$3:$AW$36, MATCH('Analysis 103L'!CK205, 'LED Case Lighting'!$AS$3:$AS$36, 0)))","v":""},{"$f":"IF(CK205=\"\", \"\", INDEX('LED Case Lighting'!$AX$3:$AX$36, MATCH('Analysis 103L'!CK205, 'LED Case Lighting'!$AS$3:$AS$36, 0)))","v":""},""]
[179,null,null,null,null,null,"",null,{"$f":"IF(K206=\"\",\"\",VLOOKUP(K206,'Equipment Type'!$A$1:$F$53,5,FALSE))","v":""},{"$f":"IF(K206=\"\",\"\",VLOOKUP(K206,'Equipment Type'!$A$1:$F$53,6,FALSE))","v":""},null,{"$f":"IF(K206=\"\",\"\",VLOOKUP(K206,'Equipment Type'!$A$1:$F$53,4,FALSE))","v":""},null,{"$f":"IF(K206=\"\",\"\",INDEX('Equipment Type'!$T$4:$T$53,MATCH('Analysis 103L'!K206,'Equipment Type'!$A$4:$A$53,0)))","v":""},"",null,{"$f":"IF(RIGHT(I206, 4)=\"Case\", \"\", IF(P206=\"\",\"\",(IF(ISNUMBER(SEARCH(\"exit\",J206)),8760,IF(B206=\"Exterior\",4380,'Analysis 103L'!$J$3)))))","v":""},null,"","","","","","","","",{"$f":"IF('100L Information'!$Z$5=\"Yes\",0,IF('100L Information'!$Z$4=\"Yes\",(MIN($Y$232-(-$Y$227),6000)*0.5)*(Y206/$Y$232),$Y$232*(Y206/($Y$230+$Y$231))))","v":{"$error":"#VALUE!"}},"",{"$error":"#VALUE!"},"No requirement",0,{"$f":"IF(OR(Z206=\"Does not meet requirement\",AND('100L Information'!$AA$21=\"No\",AL206=\"Y\"),AND('100L Information'!$AS$21=FALSE,AL206=\"Y\")),0,IF(ISNUMBER(R206*Incent_Cost_Fixture_Rx),MIN(R206*Incent_Cost_Fixture_Rx,(MAX(AE206,AK206))),0))","v":0},"FAIL","0","0","0",0,"N","0","0",null,"","",0,"",{"$f":"IF(RIGHT(I206,4)=\"Case\",W206,IF(AND(AL206=\"Y\",AF206<1),0,IF(OR(LEFT(D206,2)=\"T5\",LEFT(D206,3)=\"CFL\",'Analysis 103L'!AS206=\"Less\"),'Analysis 103L'!AR206,'Analysis 103L'!W206)))","v":""},null,0,0,null,{"$error":"#VALUE!"},{"$error":"#VALUE!"},{"$error":"#VALUE!"},null,null,{"$f":"IF(RIGHT(I206,4)=\"Case\",'LED Case Lighting'!$AY$1,IF(J206=\"\",\"\",VLOOKUP(J206,Lookups!$A$30:$J$172,VLOOKUP('100L Information'!$AI$46,Lookups!$J$3:$L$6,3,FALSE),FALSE)))","v":""},{"$error":"#N/A"},"","",{"$error":"#VALUE!"},{"$error":"#VALUE!"},{"$error":"#VALUE!"},{"$error":"#N/A"},0,{"$error":"#N/A"},0,{"$error":"#VALUE!"},{"$error":"#VALUE!"},{"$error":"#VALUE!"},"FAIL",null,null,null,null,null,null,null,"Interior / Exterior",null,"",null,{"$f":"IF(RIGHT(I206,4)=\"Case\",(INDEX('LED Case Lighting'!$AZ$3:$AZ$36,MATCH('Analysis 103L'!$CK206,'LED Case Lighting'!$AS$3:$AS$36,0))),IF(CB206=0,0,IF(CB206=\"lamp\",((Q206/VLOOKUP(B206,Int_Ext,2,FALSE))*VLOOKUP(E206,NEB,16,FALSE)),IF(CB206=\"fixture\",((Q206/VLOOKUP(B206,Int_Ext,2,FALSE))*VLOOKUP(E206,NEB,14,FALSE)),\"\"))))","v":""},null,{"$f":"IF(RIGHT(I206,4)=\"Case\",INDEX('Equipment Type'!$V$4:$V$53, MATCH('Analysis 103L'!$K206, 'Equipment Type'!$A$4:$A$53, 0)), \"\")","v":""},"","","","","",{"$f":"IF(CK206=\"\", \"\", INDEX('LED Case Lighting'!$AR$3:$AR$36, MATCH('Analysis 103L'!CK206, 'LED Case Lighting'!$AS$3:$AS$36, 0)))","v":""},{"$f":"IF(CK206=\"\", \"\", INDEX('LED Case Lighting'!$AW$3:$AW$36, MATCH('Analysis 103L'!CK206, 'LED Case Lighting'!$AS$3:$AS$36, 0)))","v":""},{"$f":"IF(CK206=\"\", \"\", INDEX('LED Case Lighting'!$AX$3:$AX$36, MATCH('Analysis 103L'!CK206, 'LED Case Lighting'!$AS$3:$AS$36, 0)))","v":""},""]
[180,null,null,null,null,null,"",null,{"$f":"IF(K207=\"\",\"\",VLOOKUP(K207,'Equipment Type'!$A$1:$F$53,5,FALSE))","v":""},{"$f":"IF(K207=\"\",\"\",VLOOKUP(K207,'Equipment Type'!$A$1:$F$53,6,FALSE))","v":""},null,{"$f":"IF(K207=\"\",\"\",VLOOKUP(K207,'Equipment Type'!$A$1:$F$53,4,FALSE))","v":""},null,{"$f":"IF(K207=\"\",\"\",INDEX('Equipment Type'!$T$4:$T$53,MATCH('Analysis 103L'!K207,'Equipment Type'!$A$4:$A$53,0)))","v":""},"",null,{"$f":"IF(RIGHT(I207, 4)=\"Case\", \"\", IF(P207=\"\",\"\",(IF(ISNUMBER(SEARCH(\"exit\",J207)),8760,IF(B207=\"Exterior\",4380,'Analysis 103L'!$J$3)))))","v":""},null,"","","","","","","","",{"$f":"IF('100L Information'!$Z$5=\"Yes\",0,IF('100L Information'!$Z$4=\"Yes\",(MIN($Y$232-(-$Y$227),6000)*0.5)*(Y207/$Y$232),$Y$232*(Y207/($Y$230+$Y$231))))","v":{"$error":"#VALUE!"}},"",{"$error":"#VALUE!"},"No requirement",0,{"$f":"IF(OR(Z207=\"Does not meet requirement\",AND('100L Information'!$AA$21=\"No\",AL207=\"Y\"),AND('100L Information'!$AS$21=FALSE,AL207=\"Y\")),0,IF(ISNUMBER(R207*Incent_Cost_Fixture_Rx),MIN(R207*Incent_Cost_Fixture_Rx,(MAX(AE207,AK207))),0))","v":0},"FAIL","0","0","0",0,"N","0","0",null,"","",0,"",{"$f":"IF(RIGHT(I207,4)=\"Case\",W207,IF(AND(AL207=\"Y\",AF207<1),0,IF(OR(LEFT(D207,2)=\"T5\",LEFT(D207,3)=\"CFL\",'Analysis 103L'!AS207=\"Less\"),'Analysis 103L'!AR207,'Analysis 103L'!W207)))","v":""},null,0,0,null,{"$error":"#VALUE!"},{"$error":"#VALUE!"},{"$error":"#VALUE!"},null,null,{"$f":"IF(RIGHT(I207,4)=\"Case\",'LED Case Lighting'!$AY$1,IF(J207=\"\",\"\",VLOOKUP(J207,Lookups!$A$30:$J$172,VLOOKUP('100L Information'!$AI$46,Lookups!$J$3:$L$6,3,FALSE),FALSE)))","v":""},{"$error":"#N/A"},"","",{"$error":"#VALUE!"},{"$error":"#VALUE!"},{"$error":"#VALUE!"},{"$error":"#N/A"},0,{"$error":"#N/A"},0,{"$error":"#VALUE!"},{"$error":"#VALUE!"},{"$error":"#VALUE!"},"FAIL",null,null,null,null,null,null,null,"Interior / Exterior",null,"",null,{"$f":"IF(RIGHT(I207,4)=\"Case\",(INDEX('LED Case Lighting'!$AZ$3:$AZ$36,MATCH('Analysis 103L'!$CK207,'LED Case Lighting'!$AS$3:$AS$36,0))),IF(CB207=0,0,IF(CB207=\"lamp\",((Q207/VLOOKUP(B207,Int_Ext,2,FALSE))*VLOOKUP(E207,NEB,16,FALSE)),IF(CB207=\"fixture\",((Q207/VLOOKUP(B207,Int_Ext,2,FALSE))*VLOOKUP(E207,NEB,14,FALSE)),\"\"))))","v":""},null,{"$f":"IF(RIGHT(I207,4)=\"Case\",INDEX('Equipment Type'!$V$4:$V$53, MATCH('Analysis 103L'!$K207, 'Equipment Type'!$A$4:$A$53, 0)), \"\")","v":""},"","","","","",{"$f":"IF(CK207=\"\", \"\", INDEX('LED Case Lighting'!$AR$3:$AR$36, MATCH('Analysis 103L'!CK207, 'LED Case Lighting'!$AS$3:$AS$36, 0)))","v":""},{"$f":"IF(CK207=\"\", \"\", INDEX('LED Case Lighting'!$AW$3:$AW$36, MATCH('Analysis 103L'!CK207, 'LED Case Lighting'!$AS$3:$AS$36, 0)))","v":""},{"$f":"IF(CK207=\"\", \"\", INDEX('LED Case Lighting'!$AX$3:$AX$36, MATCH('Analysis 103L'!CK207, 'LED Case Lighting'!$AS$3:$AS$36, 0)))","v":""},""]
[181,null,null,null,null,null,"",null,{"$f":"IF(K208=\"\",\"\",VLOOKUP(K208,'Equipment Type'!$A$1:$F$53,5,FALSE))","v":""},{"$f":"IF(K208=\"\",\"\",VLOOKUP(K208,'Equipment Type'!$A$1:$F$53,6,FALSE))","v":""},null,{"$f":"IF(K208=\"\",\"\",VLOOKUP(K208,'Equipment Type'!$A$1:$F$53,4,FALSE))","v":""},null,{"$f":"IF(K208=\"\",\"\",INDEX('Equipment Type'!$T$4:$T$53,MATCH('Analysis 103L'!K208,'Equipment Type'!$A$4:$A$53,0)))","v":""},"",null,{"$f":"IF(RIGHT(I208, 4)=\"Case\", \"\", IF(P208=\"\",\"\",(IF(ISNUMBER(SEARCH(\"exit\",J208)),8760,IF(B208=\"Exterior\",4380,'Analysis 103L'!$J$3)))))","v":""},null,"","","","","","","","",{"$f":"IF('100L Information'!$Z$5=\"Yes\",0,IF('100L Information'!$Z$4=\"Yes\",(MIN($Y$232-(-$Y$227),6000)*0.5)*(Y208/$Y$232),$Y$232*(Y208/($Y$230+$Y$231))))","v":{"$error":"#VALUE!"}},"",{"$error":"#VALUE!"},"No requirement",0,{"$f":"IF(OR(Z208=\"Does not meet requirement\",AND('100L Information'!$AA$21=\"No\",AL208=\"Y\"),AND('100L Information'!$AS$21=FALSE,AL208=\"Y\")),0,IF(ISNUMBER(R208*Incent_Cost_Fixture_Rx),MIN(R208*Incent_Cost_Fixture_Rx,(MAX(AE208,AK208))),0))","v":0},"FAIL","0","0","0",0,"N","0","0",null,"","",0,"",{"$f":"IF(RIGHT(I208,4)=\"Case\",W208,IF(AND(AL208=\"Y\",AF208<1),0,IF(OR(LEFT(D208,2)=\"T5\",LEFT(D208,3)=\"CFL\",'Analysis 103L'!AS208=\"Less\"),'Analysis 103L'!AR208,'Analysis 103L'!W208)))","v":""},null,0,0,null,{"$error":"#VALUE!"},{"$error":"#VALUE!"},{"$error":"#VALUE!"},null,null,{"$f":"IF(RIGHT(I208,4)=\"Case\",'LED Case Lighting'!$AY$1,IF(J208=\"\",\"\",VLOOKUP(J208,Lookups!$A$30:$J$172,VLOOKUP('100L Information'!$AI$46,Lookups!$J$3:$L$6,3,FALSE),FALSE)))","v":""},{"$error":"#N/A"},"","",{"$error":"#VALUE!"},{"$error":"#VALUE!"},{"$error":"#VALUE!"},{"$error":"#N/A"},0,{"$error":"#N/A"},0,{"$error":"#VALUE!"},{"$error":"#VALUE!"},{"$error":"#VALUE!"},"FAIL",null,null,null,null,null,null,null,"Interior / Exterior",null,"",null,{"$f":"IF(RIGHT(I208,4)=\"Case\",(INDEX('LED Case Lighting'!$AZ$3:$AZ$36,MATCH('Analysis 103L'!$CK208,'LED Case Lighting'!$AS$3:$AS$36,0))),IF(CB208=0,0,IF(CB208=\"lamp\",((Q208/VLOOKUP(B208,Int_Ext,2,FALSE))*VLOOKUP(E208,NEB,16,FALSE)),IF(CB208=\"fixture\",((Q208/VLOOKUP(B208,Int_Ext,2,FALSE))*VLOOKUP(E208,NEB,14,FALSE)),\"\"))))","v":""},null,{"$f":"IF(RIGHT(I208,4)=\"Case\",INDEX('Equipment Type'!$V$4:$V$53, MATCH('Analysis 103L'!$K208, 'Equipment Type'!$A$4:$A$53, 0)), \"\")","v":""},"","","","","",{"$f":"IF(CK208=\"\", \"\", INDEX('LED Case Lighting'!$AR$3:$AR$36, MATCH('Analysis 103L'!CK208, 'LED Case Lighting'!$AS$3:$AS$36, 0)))","v":""},{"$f":"IF(CK208=\"\", \"\", INDEX('LED Case Lighting'!$AW$3:$AW$36, MATCH('Analysis 103L'!CK208, 'LED Case Lighting'!$AS$3:$AS$36, 0)))","v":""},{"$f":"IF(CK208=\"\", \"\", INDEX('LED Case Lighting'!$AX$3:$AX$36, MATCH('Analysis 103L'!CK208, 'LED Case Lighting'!$AS$3:$AS$36, 0)))","v":""},""]
[182,null,null,null,null,null,"",null,{"$f":"IF(K209=\"\",\"\",VLOOKUP(K209,'Equipment Type'!$A$1:$F$53,5,FALSE))","v":""},{"$f":"IF(K209=\"\",\"\",VLOOKUP(K209,'Equipment Type'!$A$1:$F$53,6,FALSE))","v":""},null,{"$f":"IF(K209=\"\",\"\",VLOOKUP(K209,'Equipment Type'!$A$1:$F$53,4,FALSE))","v":""},null,{"$f":"IF(K209=\"\",\"\",INDEX('Equipment Type'!$T$4:$T$53,MATCH('Analysis 103L'!K209,'Equipment Type'!$A$4:$A$53,0)))","v":""},"",null,{"$f":"IF(RIGHT(I209, 4)=\"Case\", \"\", IF(P209=\"\",\"\",(IF(ISNUMBER(SEARCH(\"exit\",J209)),8760,IF(B209=\"Exterior\",4380,'Analysis 103L'!$J$3)))))","v":""},null,"","","","","","","","",{"$f":"IF('100L Information'!$Z$5=\"Yes\",0,IF('100L Information'!$Z$4=\"Yes\",(MIN($Y$232-(-$Y$227),6000)*0.5)*(Y209/$Y$232),$Y$232*(Y209/($Y$230+$Y$231))))","v":{"$error":"#VALUE!"}},"",{"$error":"#VALUE!"},"No requirement",0,{"$f":"IF(OR(Z209=\"Does not meet requirement\",AND('100L Information'!$AA$21=\"No\",AL209=\"Y\"),AND('100L Information'!$AS$21=FALSE,AL209=\"Y\")),0,IF(ISNUMBER(R209*Incent_Cost_Fixture_Rx),MIN(R209*Incent_Cost_Fixture_Rx,(MAX(AE209,AK209))),0))","v":0},"FAIL","0","0","0",0,"N","0","0",null,"","",0,"",{"$f":"IF(RIGHT(I209,4)=\"Case\",W209,IF(AND(AL209=\"Y\",AF209<1),0,IF(OR(LEFT(D209,2)=\"T5\",LEFT(D209,3)=\"CFL\",'Analysis 103L'!AS209=\"Less\"),'Analysis 103L'!AR209,'Analysis 103L'!W209)))","v":""},null,0,0,null,{"$error":"#VALUE!"},{"$error":"#VALUE!"},{"$error":"#VALUE!"},null,null,{"$f":"IF(RIGHT(I209,4)=\"Case\",'LED Case Lighting'!$AY$1,IF(J209=\"\",\"\",VLOOKUP(J209,Lookups!$A$30:$J$172,VLOOKUP('100L Information'!$AI$46,Lookups!$J$3:$L$6,3,FALSE),FALSE)))","v":""},{"$error":"#N/A"},"","",{"$error":"#VALUE!"},{"$error":"#VALUE!"},{"$error":"#VALUE!"},{"$error":"#N/A"},0,{"$error":"#N/A"},0,{"$error":"#VALUE!"},{"$error":"#VALUE!"},{"$error":"#VALUE!"},"FAIL",null,null,null,null,null,null,null,"Interior / Exterior",null,"",null,{"$f":"IF(RIGHT(I209,4)=\"Case\",(INDEX('LED Case Lighting'!$AZ$3:$AZ$36,MATCH('Analysis 103L'!$CK209,'LED Case Lighting'!$AS$3:$AS$36,0))),IF(CB209=0,0,IF(CB209=\"lamp\",((Q209/VLOOKUP(B209,Int_Ext,2,FALSE))*VLOOKUP(E209,NEB,16,FALSE)),IF(CB209=\"fixture\",((Q209/VLOOKUP(B209,Int_Ext,2,FALSE))*VLOOKUP(E209,NEB,14,FALSE)),\"\"))))","v":""},null,{"$f":"IF(RIGHT(I209,4)=\"Case\",INDEX('Equipment Type'!$V$4:$V$53, MATCH('Analysis 103L'!$K209, 'Equipment Type'!$A$4:$A$53, 0)), \"\")","v":""},"","","","","",{"$f":"IF(CK209=\"\", \"\", INDEX('LED Case Lighting'!$AR$3:$AR$36, MATCH('Analysis 103L'!CK209, 'LED Case Lighting'!$AS$3:$AS$36, 0)))","v":""},{"$f":"IF(CK209=\"\", \"\", INDEX('LED Case Lighting'!$AW$3:$AW$36, MATCH('Analysis 103L'!CK209, 'LED Case Lighting'!$AS$3:$AS$36, 0)))","v":""},{"$f":"IF(CK209=\"\", \"\", INDEX('LED Case Lighting'!$AX$3:$AX$36, MATCH('Analysis 103L'!CK209, 'LED Case Lighting'!$AS$3:$AS$36, 0)))","v":""},""]
[183,null,null,null,null,null,"",null,{"$f":"IF(K210=\"\",\"\",VLOOKUP(K210,'Equipment Type'!$A$1:$F$53,5,FALSE))","v":""},{"$f":"IF(K210=\"\",\"\",VLOOKUP(K210,'Equipment Type'!$A$1:$F$53,6,FALSE))","v":""},null,{"$f":"IF(K210=\"\",\"\",VLOOKUP(K210,'Equipment Type'!$A$1:$F$53,4,FALSE))","v":""},null,{"$f":"IF(K210=\"\",\"\",INDEX('Equipment Type'!$T$4:$T$53,MATCH('Analysis 103L'!K210,'Equipment Type'!$A$4:$A$53,0)))","v":""},"",null,{"$f":"IF(RIGHT(I210, 4)=\"Case\", \"\", IF(P210=\"\",\"\",(IF(ISNUMBER(SEARCH(\"exit\",J210)),8760,IF(B210=\"Exterior\",4380,'Analysis 103L'!$J$3)))))","v":""},null,"","","","","","","","",{"$f":"IF('100L Information'!$Z$5=\"Yes\",0,IF('100L Information'!$Z$4=\"Yes\",(MIN($Y$232-(-$Y$227),6000)*0.5)*(Y210/$Y$232),$Y$232*(Y210/($Y$230+$Y$231))))","v":{"$error":"#VALUE!"}},"",{"$error":"#VALUE!"},"No requirement",0,{"$f":"IF(OR(Z210=\"Does not meet requirement\",AND('100L Information'!$AA$21=\"No\",AL210=\"Y\"),AND('100L Information'!$AS$21=FALSE,AL210=\"Y\")),0,IF(ISNUMBER(R210*Incent_Cost_Fixture_Rx),MIN(R210*Incent_Cost_Fixture_Rx,(MAX(AE210,AK210))),0))","v":0},"FAIL","0","0","0",0,"N","0","0",null,"","",0,"",{"$f":"IF(RIGHT(I210,4)=\"Case\",W210,IF(AND(AL210=\"Y\",AF210<1),0,IF(OR(LEFT(D210,2)=\"T5\",LEFT(D210,3)=\"CFL\",'Analysis 103L'!AS210=\"Less\"),'Analysis 103L'!AR210,'Analysis 103L'!W210)))","v":""},null,0,0,null,{"$error":"#VALUE!"},{"$error":"#VALUE!"},{"$error":"#VALUE!"},null,null,{"$f":"IF(RIGHT(I210,4)=\"Case\",'LED Case Lighting'!$AY$1,IF(J210=\"\",\"\",VLOOKUP(J210,Lookups!$A$30:$J$172,VLOOKUP('100L Information'!$AI$46,Lookups!$J$3:$L$6,3,FALSE),FALSE)))","v":""},{"$error":"#N/A"},"","",{"$error":"#VALUE!"},{"$error":"#VALUE!"},{"$error":"#VALUE!"},{"$error":"#N/A"},0,{"$error":"#N/A"},0,{"$error":"#VALUE!"},{"$error":"#VALUE!"},{"$error":"#VALUE!"},"FAIL",null,null,null,null,null,null,null,"Interior / Exterior",null,"",null,{"$f":"IF(RIGHT(I210,4)=\"Case\",(INDEX('LED Case Lighting'!$AZ$3:$AZ$36,MATCH('Analysis 103L'!$CK210,'LED Case Lighting'!$AS$3:$AS$36,0))),IF(CB210=0,0,IF(CB210=\"lamp\",((Q210/VLOOKUP(B210,Int_Ext,2,FALSE))*VLOOKUP(E210,NEB,16,FALSE)),IF(CB210=\"fixture\",((Q210/VLOOKUP(B210,Int_Ext,2,FALSE))*VLOOKUP(E210,NEB,14,FALSE)),\"\"))))","v":""},null,{"$f":"IF(RIGHT(I210,4)=\"Case\",INDEX('Equipment Type'!$V$4:$V$53, MATCH('Analysis 103L'!$K210, 'Equipment Type'!$A$4:$A$53, 0)), \"\")","v":""},"","","","","",{"$f":"IF(CK210=\"\", \"\", INDEX('LED Case Lighting'!$AR$3:$AR$36, MATCH('Analysis 103L'!CK210, 'LED Case Lighting'!$AS$3:$AS$36, 0)))","v":""},{"$f":"IF(CK210=\"\", \"\", INDEX('LED Case Lighting'!$AW$3:$AW$36, MATCH('Analysis 103L'!CK210, 'LED Case Lighting'!$AS$3:$AS$36, 0)))","v":""},{"$f":"IF(CK210=\"\", \"\", INDEX('LED Case Lighting'!$AX$3:$AX$36, MATCH('Analysis 103L'!CK210, 'LED Case Lighting'!$AS$3:$AS$36, 0)))","v":""},""]
[184,null,null,null,null,null,"",null,{"$f":"IF(K211=\"\",\"\",VLOOKUP(K211,'Equipment Type'!$A$1:$F$53,5,FALSE))","v":""},{"$f":"IF(K211=\"\",\"\",VLOOKUP(K211,'Equipment Type'!$A$1:$F$53,6,FALSE))","v":""},null,{"$f":"IF(K211=\"\",\"\",VLOOKUP(K211,'Equipment Type'!$A$1:$F$53,4,FALSE))","v":""},null,{"$f":"IF(K211=\"\",\"\",INDEX('Equipment Type'!$T$4:$T$53,MATCH('Analysis 103L'!K211,'Equipment Type'!$A$4:$A$53,0)))","v":""},"",null,{"$f":"IF(RIGHT(I211, 4)=\"Case\", \"\", IF(P211=\"\",\"\",(IF(ISNUMBER(SEARCH(\"exit\",J211)),8760,IF(B211=\"Exterior\",4380,'Analysis 103L'!$J$3)))))","v":""},null,"","","","","","","","",{"$f":"IF('100L Information'!$Z$5=\"Yes\",0,IF('100L Information'!$Z$4=\"Yes\",(MIN($Y$232-(-$Y$227),6000)*0.5)*(Y211/$Y$232),$Y$232*(Y211/($Y$230+$Y$231))))","v":{"$error":"#VALUE!"}},"",{"$error":"#VALUE!"},"No requirement",0,{"$f":"IF(OR(Z211=\"Does not meet requirement\",AND('100L Information'!$AA$21=\"No\",AL211=\"Y\"),AND('100L Information'!$AS$21=FALSE,AL211=\"Y\")),0,IF(ISNUMBER(R211*Incent_Cost_Fixture_Rx),MIN(R211*Incent_Cost_Fixture_Rx,(MAX(AE211,AK211))),0))","v":0},"FAIL","0","0","0",0,"N","0","0",null,"","",0,"",{"$f":"IF(RIGHT(I211,4)=\"Case\",W211,IF(AND(AL211=\"Y\",AF211<1),0,IF(OR(LEFT(D211,2)=\"T5\",LEFT(D211,3)=\"CFL\",'Analysis 103L'!AS211=\"Less\"),'Analysis 103L'!AR211,'Analysis 103L'!W211)))","v":""},null,0,0,null,{"$error":"#VALUE!"},{"$error":"#VALUE!"},{"$error":"#VALUE!"},null,null,{"$f":"IF(RIGHT(I211,4)=\"Case\",'LED Case Lighting'!$AY$1,IF(J211=\"\",\"\",VLOOKUP(J211,Lookups!$A$30:$J$172,VLOOKUP('100L Information'!$AI$46,Lookups!$J$3:$L$6,3,FALSE),FALSE)))","v":""},{"$error":"#N/A"},"","",{"$error":"#VALUE!"},{"$error":"#VALUE!"},{"$error":"#VALUE!"},{"$error":"#N/A"},0,{"$error":"#N/A"},0,{"$error":"#VALUE!"},{"$error":"#VALUE!"},{"$error":"#VALUE!"},"FAIL",null,null,null,null,null,null,null,"Interior / Exterior",null,"",null,{"$f":"IF(RIGHT(I211,4)=\"Case\",(INDEX('LED Case Lighting'!$AZ$3:$AZ$36,MATCH('Analysis 103L'!$CK211,'LED Case Lighting'!$AS$3:$AS$36,0))),IF(CB211=0,0,IF(CB211=\"lamp\",((Q211/VLOOKUP(B211,Int_Ext,2,FALSE))*VLOOKUP(E211,NEB,16,FALSE)),IF(CB211=\"fixture\",((Q211/VLOOKUP(B211,Int_Ext,2,FALSE))*VLOOKUP(E211,NEB,14,FALSE)),\"\"))))","v":""},null,{"$f":"IF(RIGHT(I211,4)=\"Case\",INDEX('Equipment Type'!$V$4:$V$53, MATCH('Analysis 103L'!$K211, 'Equipment Type'!$A$4:$A$53, 0)), \"\")","v":""},"","","","","",{"$f":"IF(CK211=\"\", \"\", INDEX('LED Case Lighting'!$AR$3:$AR$36, MATCH('Analysis 103L'!CK211, 'LED Case Lighting'!$AS$3:$AS$36, 0)))","v":""},{"$f":"IF(CK211=\"\", \"\", INDEX('LED Case Lighting'!$AW$3:$AW$36, MATCH('Analysis 103L'!CK211, 'LED Case Lighting'!$AS$3:$AS$36, 0)))","v":""},{"$f":"IF(CK211=\"\", \"\", INDEX('LED Case Lighting'!$AX$3:$AX$36, MATCH('Analysis 103L'!CK211, 'LED Case Lighting'!$AS$3:$AS$36, 0)))","v":""},""]
[185,null,null,null,null,null,"",null,{"$f":"IF(K212=\"\",\"\",VLOOKUP(K212,'Equipment Type'!$A$1:$F$53,5,FALSE))","v":""},{"$f":"IF(K212=\"\",\"\",VLOOKUP(K212,'Equipment Type'!$A$1:$F$53,6,FALSE))","v":""},null,{"$f":"IF(K212=\"\",\"\",VLOOKUP(K212,'Equipment Type'!$A$1:$F$53,4,FALSE))","v":""},null,{"$f":"IF(K212=\"\",\"\",INDEX('Equipment Type'!$T$4:$T$53,MATCH('Analysis 103L'!K212,'Equipment Type'!$A$4:$A$53,0)))","v":""},"",null,{"$f":"IF(RIGHT(I212, 4)=\"Case\", \"\", IF(P212=\"\",\"\",(IF(ISNUMBER(SEARCH(\"exit\",J212)),8760,IF(B212=\"Exterior\",4380,'Analysis 103L'!$J$3)))))","v":""},null,"","","","","","","","",{"$f":"IF('100L Information'!$Z$5=\"Yes\",0,IF('100L Information'!$Z$4=\"Yes\",(MIN($Y$232-(-$Y$227),6000)*0.5)*(Y212/$Y$232),$Y$232*(Y212/($Y$230+$Y$231))))","v":{"$error":"#VALUE!"}},"",{"$error":"#VALUE!"},"No requirement",0,{"$f":"IF(OR(Z212=\"Does not meet requirement\",AND('100L Information'!$AA$21=\"No\",AL212=\"Y\"),AND('100L Information'!$AS$21=FALSE,AL212=\"Y\")),0,IF(ISNUMBER(R212*Incent_Cost_Fixture_Rx),MIN(R212*Incent_Cost_Fixture_Rx,(MAX(AE212,AK212))),0))","v":0},"FAIL","0","0","0",0,"N","0","0",null,"","",0,"",{"$f":"IF(RIGHT(I212,4)=\"Case\",W212,IF(AND(AL212=\"Y\",AF212<1),0,IF(OR(LEFT(D212,2)=\"T5\",LEFT(D212,3)=\"CFL\",'Analysis 103L'!AS212=\"Less\"),'Analysis 103L'!AR212,'Analysis 103L'!W212)))","v":""},null,0,0,null,{"$error":"#VALUE!"},{"$error":"#VALUE!"},{"$error":"#VALUE!"},null,null,{"$f":"IF(RIGHT(I212,4)=\"Case\",'LED Case Lighting'!$AY$1,IF(J212=\"\",\"\",VLOOKUP(J212,Lookups!$A$30:$J$172,VLOOKUP('100L Information'!$AI$46,Lookups!$J$3:$L$6,3,FALSE),FALSE)))","v":""},{"$error":"#N/A"},"","",{"$error":"#VALUE!"},{"$error":"#VALUE!"},{"$error":"#VALUE!"},{"$error":"#N/A"},0,{"$error":"#N/A"},0,{"$error":"#VALUE!"},{"$error":"#VALUE!"},{"$error":"#VALUE!"},"FAIL",null,null,null,null,null,null,null,"Interior / Exterior",null,"",null,{"$f":"IF(RIGHT(I212,4)=\"Case\",(INDEX('LED Case Lighting'!$AZ$3:$AZ$36,MATCH('Analysis 103L'!$CK212,'LED Case Lighting'!$AS$3:$AS$36,0))),IF(CB212=0,0,IF(CB212=\"lamp\",((Q212/VLOOKUP(B212,Int_Ext,2,FALSE))*VLOOKUP(E212,NEB,16,FALSE)),IF(CB212=\"fixture\",((Q212/VLOOKUP(B212,Int_Ext,2,FALSE))*VLOOKUP(E212,NEB,14,FALSE)),\"\"))))","v":""},null,{"$f":"IF(RIGHT(I212,4)=\"Case\",INDEX('Equipment Type'!$V$4:$V$53, MATCH('Analysis 103L'!$K212, 'Equipment Type'!$A$4:$A$53, 0)), \"\")","v":""},"","","","","",{"$f":"IF(CK212=\"\", \"\", INDEX('LED Case Lighting'!$AR$3:$AR$36, MATCH('Analysis 103L'!CK212, 'LED Case Lighting'!$AS$3:$AS$36, 0)))","v":""},{"$f":"IF(CK212=\"\", \"\", INDEX('LED Case Lighting'!$AW$3:$AW$36, MATCH('Analysis 103L'!CK212, 'LED Case Lighting'!$AS$3:$AS$36, 0)))","v":""},{"$f":"IF(CK212=\"\", \"\", INDEX('LED Case Lighting'!$AX$3:$AX$36, MATCH('Analysis 103L'!CK212, 'LED Case Lighting'!$AS$3:$AS$36, 0)))","v":""},""]
[186,null,null,null,null,null,"",null,{"$f":"IF(K213=\"\",\"\",VLOOKUP(K213,'Equipment Type'!$A$1:$F$53,5,FALSE))","v":""},{"$f":"IF(K213=\"\",\"\",VLOOKUP(K213,'Equipment Type'!$A$1:$F$53,6,FALSE))","v":""},null,{"$f":"IF(K213=\"\",\"\",VLOOKUP(K213,'Equipment Type'!$A$1:$F$53,4,FALSE))","v":""},null,{"$f":"IF(K213=\"\",\"\",INDEX('Equipment Type'!$T$4:$T$53,MATCH('Analysis 103L'!K213,'Equipment Type'!$A$4:$A$53,0)))","v":""},"",null,{"$f":"IF(RIGHT(I213, 4)=\"Case\", \"\", IF(P213=\"\",\"\",(IF(ISNUMBER(SEARCH(\"exit\",J213)),8760,IF(B213=\"Exterior\",4380,'Analysis 103L'!$J$3)))))","v":""},null,"","","","","","","","",{"$f":"IF('100L Information'!$Z$5=\"Yes\",0,IF('100L Information'!$Z$4=\"Yes\",(MIN($Y$232-(-$Y$227),6000)*0.5)*(Y213/$Y$232),$Y$232*(Y213/($Y$230+$Y$231))))","v":{"$error":"#VALUE!"}},"",{"$error":"#VALUE!"},"No requirement",0,{"$f":"IF(OR(Z213=\"Does not meet requirement\",AND('100L Information'!$AA$21=\"No\",AL213=\"Y\"),AND('100L Information'!$AS$21=FALSE,AL213=\"Y\")),0,IF(ISNUMBER(R213*Incent_Cost_Fixture_Rx),MIN(R213*Incent_Cost_Fixture_Rx,(MAX(AE213,AK213))),0))","v":0},"FAIL","0","0","0",0,"N","0","0",null,"","",0,"",{"$f":"IF(RIGHT(I213,4)=\"Case\",W213,IF(AND(AL213=\"Y\",AF213<1),0,IF(OR(LEFT(D213,2)=\"T5\",LEFT(D213,3)=\"CFL\",'Analysis 103L'!AS213=\"Less\"),'Analysis 103L'!AR213,'Analysis 103L'!W213)))","v":""},null,0,0,null,{"$error":"#VALUE!"},{"$error":"#VALUE!"},{"$error":"#VALUE!"},null,null,{"$f":"IF(RIGHT(I213,4)=\"Case\",'LED Case Lighting'!$AY$1,IF(J213=\"\",\"\",VLOOKUP(J213,Lookups!$A$30:$J$172,VLOOKUP('100L Information'!$AI$46,Lookups!$J$3:$L$6,3,FALSE),FALSE)))","v":""},{"$error":"#N/A"},"","",{"$error":"#VALUE!"},{"$error":"#VALUE!"},{"$error":"#VALUE!"},{"$error":"#N/A"},0,{"$error":"#N/A"},0,{"$error":"#VALUE!"},{"$error":"#VALUE!"},{"$error":"#VALUE!"},"FAIL",null,null,null,null,null,null,null,"Interior / Exterior",null,"",null,{"$f":"IF(RIGHT(I213,4)=\"Case\",(INDEX('LED Case Lighting'!$AZ$3:$AZ$36,MATCH('Analysis 103L'!$CK213,'LED Case Lighting'!$AS$3:$AS$36,0))),IF(CB213=0,0,IF(CB213=\"lamp\",((Q213/VLOOKUP(B213,Int_Ext,2,FALSE))*VLOOKUP(E213,NEB,16,FALSE)),IF(CB213=\"fixture\",((Q213/VLOOKUP(B213,Int_Ext,2,FALSE))*VLOOKUP(E213,NEB,14,FALSE)),\"\"))))","v":""},null,{"$f":"IF(RIGHT(I213,4)=\"Case\",INDEX('Equipment Type'!$V$4:$V$53, MATCH('Analysis 103L'!$K213, 'Equipment Type'!$A$4:$A$53, 0)), \"\")","v":""},"","","","","",{"$f":"IF(CK213=\"\", \"\", INDEX('LED Case Lighting'!$AR$3:$AR$36, MATCH('Analysis 103L'!CK213, 'LED Case Lighting'!$AS$3:$AS$36, 0)))","v":""},{"$f":"IF(CK213=\"\", \"\", INDEX('LED Case Lighting'!$AW$3:$AW$36, MATCH('Analysis 103L'!CK213, 'LED Case Lighting'!$AS$3:$AS$36, 0)))","v":""},{"$f":"IF(CK213=\"\", \"\", INDEX('LED Case Lighting'!$AX$3:$AX$36, MATCH('Analysis 103L'!CK213, 'LED Case Lighting'!$AS$3:$AS$36, 0)))","v":""},""]
[187,null,null,null,null,null,"",null,{"$f":"IF(K214=\"\",\"\",VLOOKUP(K214,'Equipment Type'!$A$1:$F$53,5,FALSE))","v":""},{"$f":"IF(K214=\"\",\"\",VLOOKUP(K214,'Equipment Type'!$A$1:$F$53,6,FALSE))","v":""},null,{"$f":"IF(K214=\"\",\"\",VLOOKUP(K214,'Equipment Type'!$A$1:$F$53,4,FALSE))","v":""},null,{"$f":"IF(K214=\"\",\"\",INDEX('Equipment Type'!$T$4:$T$53,MATCH('Analysis 103L'!K214,'Equipment Type'!$A$4:$A$53,0)))","v":""},"",null,{"$f":"IF(RIGHT(I214, 4)=\"Case\", \"\", IF(P214=\"\",\"\",(IF(ISNUMBER(SEARCH(\"exit\",J214)),8760,IF(B214=\"Exterior\",4380,'Analysis 103L'!$J$3)))))","v":""},null,"","","","","","","","",{"$f":"IF('100L Information'!$Z$5=\"Yes\",0,IF('100L Information'!$Z$4=\"Yes\",(MIN($Y$232-(-$Y$227),6000)*0.5)*(Y214/$Y$232),$Y$232*(Y214/($Y$230+$Y$231))))","v":{"$error":"#VALUE!"}},"",{"$error":"#VALUE!"},"No requirement",0,{"$f":"IF(OR(Z214=\"Does not meet requirement\",AND('100L Information'!$AA$21=\"No\",AL214=\"Y\"),AND('100L Information'!$AS$21=FALSE,AL214=\"Y\")),0,IF(ISNUMBER(R214*Incent_Cost_Fixture_Rx),MIN(R214*Incent_Cost_Fixture_Rx,(MAX(AE214,AK214))),0))","v":0},"FAIL","0","0","0",0,"N","0","0",null,"","",0,"",{"$f":"IF(RIGHT(I214,4)=\"Case\",W214,IF(AND(AL214=\"Y\",AF214<1),0,IF(OR(LEFT(D214,2)=\"T5\",LEFT(D214,3)=\"CFL\",'Analysis 103L'!AS214=\"Less\"),'Analysis 103L'!AR214,'Analysis 103L'!W214)))","v":""},null,0,0,null,{"$error":"#VALUE!"},{"$error":"#VALUE!"},{"$error":"#VALUE!"},null,null,{"$f":"IF(RIGHT(I214,4)=\"Case\",'LED Case Lighting'!$AY$1,IF(J214=\"\",\"\",VLOOKUP(J214,Lookups!$A$30:$J$172,VLOOKUP('100L Information'!$AI$46,Lookups!$J$3:$L$6,3,FALSE),FALSE)))","v":""},{"$error":"#N/A"},"","",{"$error":"#VALUE!"},{"$error":"#VALUE!"},{"$error":"#VALUE!"},{"$error":"#N/A"},0,{"$error":"#N/A"},0,{"$error":"#VALUE!"},{"$error":"#VALUE!"},{"$error":"#VALUE!"},"FAIL",null,null,null,null,null,null,null,"Interior / Exterior",null,"",null,{"$f":"IF(RIGHT(I214,4)=\"Case\",(INDEX('LED Case Lighting'!$AZ$3:$AZ$36,MATCH('Analysis 103L'!$CK214,'LED Case Lighting'!$AS$3:$AS$36,0))),IF(CB214=0,0,IF(CB214=\"lamp\",((Q214/VLOOKUP(B214,Int_Ext,2,FALSE))*VLOOKUP(E214,NEB,16,FALSE)),IF(CB214=\"fixture\",((Q214/VLOOKUP(B214,Int_Ext,2,FALSE))*VLOOKUP(E214,NEB,14,FALSE)),\"\"))))","v":""},null,{"$f":"IF(RIGHT(I214,4)=\"Case\",INDEX('Equipment Type'!$V$4:$V$53, MATCH('Analysis 103L'!$K214, 'Equipment Type'!$A$4:$A$53, 0)), \"\")","v":""},"","","","","",{"$f":"IF(CK214=\"\", \"\", INDEX('LED Case Lighting'!$AR$3:$AR$36, MATCH('Analysis 103L'!CK214, 'LED Case Lighting'!$AS$3:$AS$36, 0)))","v":""},{"$f":"IF(CK214=\"\", \"\", INDEX('LED Case Lighting'!$AW$3:$AW$36, MATCH('Analysis 103L'!CK214, 'LED Case Lighting'!$AS$3:$AS$36, 0)))","v":""},{"$f":"IF(CK214=\"\", \"\", INDEX('LED Case Lighting'!$AX$3:$AX$36, MATCH('Analysis 103L'!CK214, 'LED Case Lighting'!$AS$3:$AS$36, 0)))","v":""},""]
[188,null,null,null,null,null,"",null,{"$f":"IF(K215=\"\",\"\",VLOOKUP(K215,'Equipment Type'!$A$1:$F$53,5,FALSE))","v":""},{"$f":"IF(K215=\"\",\"\",VLOOKUP(K215,'Equipment Type'!$A$1:$F$53,6,FALSE))","v":""},null,{"$f":"IF(K215=\"\",\"\",VLOOKUP(K215,'Equipment Type'!$A$1:$F$53,4,FALSE))","v":""},null,{"$f":"IF(K215=\"\",\"\",INDEX('Equipment Type'!$T$4:$T$53,MATCH('Analysis 103L'!K215,'Equipment Type'!$A$4:$A$53,0)))","v":""},"",null,{"$f":"IF(RIGHT(I215, 4)=\"Case\", \"\", IF(P215=\"\",\"\",(IF(ISNUMBER(SEARCH(\"exit\",J215)),8760,IF(B215=\"Exterior\",4380,'Analysis 103L'!$J$3)))))","v":""},null,"","","","","","","","",{"$f":"IF('100L Information'!$Z$5=\"Yes\",0,IF('100L Information'!$Z$4=\"Yes\",(MIN($Y$232-(-$Y$227),6000)*0.5)*(Y215/$Y$232),$Y$232*(Y215/($Y$230+$Y$231))))","v":{"$error":"#VALUE!"}},"",{"$error":"#VALUE!"},"No requirement",{"$f":"MAX(IF(ISERROR(VLOOKUP(CONCATENATE(J215,\" from \",VLOOKUP(D215,ExistFixtCat,4,FALSE)),PropFixtIncent,2,FALSE)),0,VLOOKUP(CONCATENATE(J215,\" from \",VLOOKUP(D215,ExistFixtCat,4,FALSE)),PropFixtIncent,2,FALSE)),IF(ISERROR(VLOOKUP(CONCATENATE(J215,\" from ANY\"),PropFixtIncent,2,FALSE)),0,VLOOKUP(CONCATENATE(J215,\" from ANY\"),PropFixtIncent,2,FALSE)))","v":0},{"$f":"IF(OR(Z215=\"Does not meet requirement\",AND('100L Information'!$AA$21=\"No\",AL215=\"Y\"),AND('100L Information'!$AS$21=FALSE,AL215=\"Y\")),0,IF(ISNUMBER(R215*Incent_Cost_Fixture_Rx),MIN(R215*Incent_Cost_Fixture_Rx,(MAX(AE215,AK215))),0))","v":0},"FAIL","0","0","0",0,"N","0","0",null,"","",0,"",{"$f":"IF(RIGHT(I215,4)=\"Case\",W215,IF(AND(AL215=\"Y\",AF215<1),0,IF(OR(LEFT(D215,2)=\"T5\",LEFT(D215,3)=\"CFL\",'Analysis 103L'!AS215=\"Less\"),'Analysis 103L'!AR215,'Analysis 103L'!W215)))","v":""},null,0,0,null,{"$error":"#VALUE!"},{"$error":"#VALUE!"},{"$error":"#VALUE!"},null,null,{"$f":"IF(RIGHT(I215,4)=\"Case\",'LED Case Lighting'!$AY$1,IF(J215=\"\",\"\",VLOOKUP(J215,Lookups!$A$30:$J$172,VLOOKUP('100L Information'!$AI$46,Lookups!$J$3:$L$6,3,FALSE),FALSE)))","v":""},{"$error":"#N/A"},"","",{"$error":"#VALUE!"},{"$error":"#VALUE!"},{"$error":"#VALUE!"},{"$error":"#N/A"},0,{"$error":"#N/A"},0,{"$error":"#VALUE!"},{"$error":"#VALUE!"},{"$error":"#VALUE!"},"FAIL",null,null,null,null,null,null,null,"Interior / Exterior",null,"",null,{"$f":"IF(RIGHT(I215,4)=\"Case\",(INDEX('LED Case Lighting'!$AZ$3:$AZ$36,MATCH('Analysis 103L'!$CK215,'LED Case Lighting'!$AS$3:$AS$36,0))),IF(CB215=0,0,IF(CB215=\"lamp\",((Q215/VLOOKUP(B215,Int_Ext,2,FALSE))*VLOOKUP(E215,NEB,16,FALSE)),IF(CB215=\"fixture\",((Q215/VLOOKUP(B215,Int_Ext,2,FALSE))*VLOOKUP(E215,NEB,14,FALSE)),\"\"))))","v":""},null,{"$f":"IF(RIGHT(I215,4)=\"Case\",INDEX('Equipment Type'!$V$4:$V$53, MATCH('Analysis 103L'!$K215, 'Equipment Type'!$A$4:$A$53, 0)), \"\")","v":""},"","","","","",{"$f":"IF(CK215=\"\", \"\", INDEX('LED Case Lighting'!$AR$3:$AR$36, MATCH('Analysis 103L'!CK215, 'LED Case Lighting'!$AS$3:$AS$36, 0)))","v":""},{"$f":"IF(CK215=\"\", \"\", INDEX('LED Case Lighting'!$AW$3:$AW$36, MATCH('Analysis 103L'!CK215, 'LED Case Lighting'!$AS$3:$AS$36, 0)))","v":""},{"$f":"IF(CK215=\"\", \"\", INDEX('LED Case Lighting'!$AX$3:$AX$36, MATCH('Analysis 103L'!CK215, 'LED Case Lighting'!$AS$3:$AS$36, 0)))","v":""},""]
[189,null,null,null,null,null,"",null,{"$f":"IF(K216=\"\",\"\",VLOOKUP(K216,'Equipment Type'!$A$1:$F$53,5,FALSE))","v":""},{"$f":"IF(K216=\"\",\"\",VLOOKUP(K216,'Equipment Type'!$A$1:$F$53,6,FALSE))","v":""},null,{"$f":"IF(K216=\"\",\"\",VLOOKUP(K216,'Equipment Type'!$A$1:$F$53,4,FALSE))","v":""},null,{"$f":"IF(K216=\"\",\"\",INDEX('Equipment Type'!$T$4:$T$53,MATCH('Analysis 103L'!K216,'Equipment Type'!$A$4:$A$53,0)))","v":""},"",null,{"$f":"IF(RIGHT(I216, 4)=\"Case\", \"\", IF(P216=\"\",\"\",(IF(ISNUMBER(SEARCH(\"exit\",J216)),8760,IF(B216=\"Exterior\",4380,'Analysis 103L'!$J$3)))))","v":""},null,"","","","","","","","",{"$f":"IF('100L Information'!$Z$5=\"Yes\",0,IF('100L Information'!$Z$4=\"Yes\",(MIN($Y$232-(-$Y$227),6000)*0.5)*(Y216/$Y$232),$Y$232*(Y216/($Y$230+$Y$231))))","v":{"$error":"#VALUE!"}},"",{"$error":"#VALUE!"},"No requirement",{"$f":"MAX(IF(ISERROR(VLOOKUP(CONCATENATE(J216,\" from \",VLOOKUP(D216,ExistFixtCat,4,FALSE)),PropFixtIncent,2,FALSE)),0,VLOOKUP(CONCATENATE(J216,\" from \",VLOOKUP(D216,ExistFixtCat,4,FALSE)),PropFixtIncent,2,FALSE)),IF(ISERROR(VLOOKUP(CONCATENATE(J216,\" from ANY\"),PropFixtIncent,2,FALSE)),0,VLOOKUP(CONCATENATE(J216,\" from ANY\"),PropFixtIncent,2,FALSE)))","v":0},{"$f":"IF(OR(Z216=\"Does not meet requirement\",AND('100L Information'!$AA$21=\"No\",AL216=\"Y\"),AND('100L Information'!$AS$21=FALSE,AL216=\"Y\")),0,IF(ISNUMBER(R216*Incent_Cost_Fixture_Rx),MIN(R216*Incent_Cost_Fixture_Rx,(MAX(AE216,AK216))),0))","v":0},"FAIL","0","0","0",0,"N","0","0",null,"","",0,"",{"$f":"IF(RIGHT(I216,4)=\"Case\",W216,IF(AND(AL216=\"Y\",AF216<1),0,IF(OR(LEFT(D216,2)=\"T5\",LEFT(D216,3)=\"CFL\",'Analysis 103L'!AS216=\"Less\"),'Analysis 103L'!AR216,'Analysis 103L'!W216)))","v":""},null,0,0,null,{"$error":"#VALUE!"},{"$error":"#VALUE!"},{"$error":"#VALUE!"},null,null,{"$f":"IF(RIGHT(I216,4)=\"Case\",'LED Case Lighting'!$AY$1,IF(J216=\"\",\"\",VLOOKUP(J216,Lookups!$A$30:$J$172,VLOOKUP('100L Information'!$AI$46,Lookups!$J$3:$L$6,3,FALSE),FALSE)))","v":""},{"$error":"#N/A"},"","",{"$error":"#VALUE!"},{"$error":"#VALUE!"},{"$error":"#VALUE!"},{"$error":"#N/A"},0,{"$error":"#N/A"},0,{"$error":"#VALUE!"},{"$error":"#VALUE!"},{"$error":"#VALUE!"},"FAIL",null,null,null,null,null,null,null,"Interior / Exterior",null,"",null,{"$f":"IF(RIGHT(I216,4)=\"Case\",(INDEX('LED Case Lighting'!$AZ$3:$AZ$36,MATCH('Analysis 103L'!$CK216,'LED Case Lighting'!$AS$3:$AS$36,0))),IF(CB216=0,0,IF(CB216=\"lamp\",((Q216/VLOOKUP(B216,Int_Ext,2,FALSE))*VLOOKUP(E216,NEB,16,FALSE)),IF(CB216=\"fixture\",((Q216/VLOOKUP(B216,Int_Ext,2,FALSE))*VLOOKUP(E216,NEB,14,FALSE)),\"\"))))","v":""},null,{"$f":"IF(RIGHT(I216,4)=\"Case\",INDEX('Equipment Type'!$V$4:$V$53, MATCH('Analysis 103L'!$K216, 'Equipment Type'!$A$4:$A$53, 0)), \"\")","v":""},"","","","","",{"$f":"IF(CK216=\"\", \"\", INDEX('LED Case Lighting'!$AR$3:$AR$36, MATCH('Analysis 103L'!CK216, 'LED Case Lighting'!$AS$3:$AS$36, 0)))","v":""},{"$f":"IF(CK216=\"\", \"\", INDEX('LED Case Lighting'!$AW$3:$AW$36, MATCH('Analysis 103L'!CK216, 'LED Case Lighting'!$AS$3:$AS$36, 0)))","v":""},{"$f":"IF(CK216=\"\", \"\", INDEX('LED Case Lighting'!$AX$3:$AX$36, MATCH('Analysis 103L'!CK216, 'LED Case Lighting'!$AS$3:$AS$36, 0)))","v":""},""]
[190,null,null,null,null,null,"",null,{"$f":"IF(K217=\"\",\"\",VLOOKUP(K217,'Equipment Type'!$A$1:$F$53,5,FALSE))","v":""},{"$f":"IF(K217=\"\",\"\",VLOOKUP(K217,'Equipment Type'!$A$1:$F$53,6,FALSE))","v":""},null,{"$f":"IF(K217=\"\",\"\",VLOOKUP(K217,'Equipment Type'!$A$1:$F$53,4,FALSE))","v":""},null,{"$f":"IF(K217=\"\",\"\",INDEX('Equipment Type'!$T$4:$T$53,MATCH('Analysis 103L'!K217,'Equipment Type'!$A$4:$A$53,0)))","v":""},"",null,{"$f":"IF(RIGHT(I217, 4)=\"Case\", \"\", IF(P217=\"\",\"\",(IF(ISNUMBER(SEARCH(\"exit\",J217)),8760,IF(B217=\"Exterior\",4380,'Analysis 103L'!$J$3)))))","v":""},null,"","","","","","","","",{"$f":"IF('100L Information'!$Z$5=\"Yes\",0,IF('100L Information'!$Z$4=\"Yes\",(MIN($Y$232-(-$Y$227),6000)*0.5)*(Y217/$Y$232),$Y$232*(Y217/($Y$230+$Y$231))))","v":{"$error":"#VALUE!"}},"",{"$error":"#VALUE!"},"No requirement",{"$f":"MAX(IF(ISERROR(VLOOKUP(CONCATENATE(J217,\" from \",VLOOKUP(D217,ExistFixtCat,4,FALSE)),PropFixtIncent,2,FALSE)),0,VLOOKUP(CONCATENATE(J217,\" from \",VLOOKUP(D217,ExistFixtCat,4,FALSE)),PropFixtIncent,2,FALSE)),IF(ISERROR(VLOOKUP(CONCATENATE(J217,\" from ANY\"),PropFixtIncent,2,FALSE)),0,VLOOKUP(CONCATENATE(J217,\" from ANY\"),PropFixtIncent,2,FALSE)))","v":0},{"$f":"IF(OR(Z217=\"Does not meet requirement\",AND('100L Information'!$AA$21=\"No\",AL217=\"Y\"),AND('100L Information'!$AS$21=FALSE,AL217=\"Y\")),0,IF(ISNUMBER(R217*Incent_Cost_Fixture_Rx),MIN(R217*Incent_Cost_Fixture_Rx,(MAX(AE217,AK217))),0))","v":0},"FAIL","0","0","0",0,"N","0","0",null,"","",0,"",{"$f":"IF(RIGHT(I217,4)=\"Case\",W217,IF(AND(AL217=\"Y\",AF217<1),0,IF(OR(LEFT(D217,2)=\"T5\",LEFT(D217,3)=\"CFL\",'Analysis 103L'!AS217=\"Less\"),'Analysis 103L'!AR217,'Analysis 103L'!W217)))","v":""},null,0,0,null,{"$error":"#VALUE!"},{"$error":"#VALUE!"},{"$error":"#VALUE!"},null,null,{"$f":"IF(RIGHT(I217,4)=\"Case\",'LED Case Lighting'!$AY$1,IF(J217=\"\",\"\",VLOOKUP(J217,Lookups!$A$30:$J$172,VLOOKUP('100L Information'!$AI$46,Lookups!$J$3:$L$6,3,FALSE),FALSE)))","v":""},{"$error":"#N/A"},"","",{"$error":"#VALUE!"},{"$error":"#VALUE!"},{"$error":"#VALUE!"},{"$error":"#N/A"},0,{"$error":"#N/A"},0,{"$error":"#VALUE!"},{"$error":"#VALUE!"},{"$error":"#VALUE!"},"FAIL",null,null,null,null,null,null,null,"Interior / Exterior",null,"",null,{"$f":"IF(RIGHT(I217,4)=\"Case\",(INDEX('LED Case Lighting'!$AZ$3:$AZ$36,MATCH('Analysis 103L'!$CK217,'LED Case Lighting'!$AS$3:$AS$36,0))),IF(CB217=0,0,IF(CB217=\"lamp\",((Q217/VLOOKUP(B217,Int_Ext,2,FALSE))*VLOOKUP(E217,NEB,16,FALSE)),IF(CB217=\"fixture\",((Q217/VLOOKUP(B217,Int_Ext,2,FALSE))*VLOOKUP(E217,NEB,14,FALSE)),\"\"))))","v":""},null,{"$f":"IF(RIGHT(I217,4)=\"Case\",INDEX('Equipment Type'!$V$4:$V$53, MATCH('Analysis 103L'!$K217, 'Equipment Type'!$A$4:$A$53, 0)), \"\")","v":""},"","","","","",{"$f":"IF(CK217=\"\", \"\", INDEX('LED Case Lighting'!$AR$3:$AR$36, MATCH('Analysis 103L'!CK217, 'LED Case Lighting'!$AS$3:$AS$36, 0)))","v":""},{"$f":"IF(CK217=\"\", \"\", INDEX('LED Case Lighting'!$AW$3:$AW$36, MATCH('Analysis 103L'!CK217, 'LED Case Lighting'!$AS$3:$AS$36, 0)))","v":""},{"$f":"IF(CK217=\"\", \"\", INDEX('LED Case Lighting'!$AX$3:$AX$36, MATCH('Analysis 103L'!CK217, 'LED Case Lighting'!$AS$3:$AS$36, 0)))","v":""},""]
[191,null,null,null,null,null,"",null,{"$f":"IF(K218=\"\",\"\",VLOOKUP(K218,'Equipment Type'!$A$1:$F$53,5,FALSE))","v":""},{"$f":"IF(K218=\"\",\"\",VLOOKUP(K218,'Equipment Type'!$A$1:$F$53,6,FALSE))","v":""},null,{"$f":"IF(K218=\"\",\"\",VLOOKUP(K218,'Equipment Type'!$A$1:$F$53,4,FALSE))","v":""},null,{"$f":"IF(K218=\"\",\"\",INDEX('Equipment Type'!$T$4:$T$53,MATCH('Analysis 103L'!K218,'Equipment Type'!$A$4:$A$53,0)))","v":""},"",null,{"$f":"IF(RIGHT(I218, 4)=\"Case\", \"\", IF(P218=\"\",\"\",(IF(ISNUMBER(SEARCH(\"exit\",J218)),8760,IF(B218=\"Exterior\",4380,'Analysis 103L'!$J$3)))))","v":""},null,"","","","","","","","",{"$f":"IF('100L Information'!$Z$5=\"Yes\",0,IF('100L Information'!$Z$4=\"Yes\",(MIN($Y$232-(-$Y$227),6000)*0.5)*(Y218/$Y$232),$Y$232*(Y218/($Y$230+$Y$231))))","v":{"$error":"#VALUE!"}},"",{"$error":"#VALUE!"},"No requirement",{"$f":"MAX(IF(ISERROR(VLOOKUP(CONCATENATE(J218,\" from \",VLOOKUP(D218,ExistFixtCat,4,FALSE)),PropFixtIncent,2,FALSE)),0,VLOOKUP(CONCATENATE(J218,\" from \",VLOOKUP(D218,ExistFixtCat,4,FALSE)),PropFixtIncent,2,FALSE)),IF(ISERROR(VLOOKUP(CONCATENATE(J218,\" from ANY\"),PropFixtIncent,2,FALSE)),0,VLOOKUP(CONCATENATE(J218,\" from ANY\"),PropFixtIncent,2,FALSE)))","v":0},{"$f":"IF(OR(Z218=\"Does not meet requirement\",AND('100L Information'!$AA$21=\"No\",AL218=\"Y\"),AND('100L Information'!$AS$21=FALSE,AL218=\"Y\")),0,IF(ISNUMBER(R218*Incent_Cost_Fixture_Rx),MIN(R218*Incent_Cost_Fixture_Rx,(MAX(AE218,AK218))),0))","v":0},"FAIL","0","0","0",0,"N","0","0",null,"","",0,"",{"$f":"IF(RIGHT(I218,4)=\"Case\",W218,IF(AND(AL218=\"Y\",AF218<1),0,IF(OR(LEFT(D218,2)=\"T5\",LEFT(D218,3)=\"CFL\",'Analysis 103L'!AS218=\"Less\"),'Analysis 103L'!AR218,'Analysis 103L'!W218)))","v":""},null,0,0,null,{"$error":"#VALUE!"},{"$error":"#VALUE!"},{"$error":"#VALUE!"},null,null,{"$f":"IF(RIGHT(I218,4)=\"Case\",'LED Case Lighting'!$AY$1,IF(J218=\"\",\"\",VLOOKUP(J218,Lookups!$A$30:$J$172,VLOOKUP('100L Information'!$AI$46,Lookups!$J$3:$L$6,3,FALSE),FALSE)))","v":""},{"$error":"#N/A"},"","",{"$error":"#VALUE!"},{"$error":"#VALUE!"},{"$error":"#VALUE!"},{"$error":"#N/A"},0,{"$error":"#N/A"},0,{"$error":"#VALUE!"},{"$error":"#VALUE!"},{"$error":"#VALUE!"},"FAIL",null,null,null,null,null,null,null,"Interior / Exterior",null,"",null,{"$f":"IF(RIGHT(I218,4)=\"Case\",(INDEX('LED Case Lighting'!$AZ$3:$AZ$36,MATCH('Analysis 103L'!$CK218,'LED Case Lighting'!$AS$3:$AS$36,0))),IF(CB218=0,0,IF(CB218=\"lamp\",((Q218/VLOOKUP(B218,Int_Ext,2,FALSE))*VLOOKUP(E218,NEB,16,FALSE)),IF(CB218=\"fixture\",((Q218/VLOOKUP(B218,Int_Ext,2,FALSE))*VLOOKUP(E218,NEB,14,FALSE)),\"\"))))","v":""},null,{"$f":"IF(RIGHT(I218,4)=\"Case\",INDEX('Equipment Type'!$V$4:$V$53, MATCH('Analysis 103L'!$K218, 'Equipment Type'!$A$4:$A$53, 0)), \"\")","v":""},"","","","","",{"$f":"IF(CK218=\"\", \"\", INDEX('LED Case Lighting'!$AR$3:$AR$36, MATCH('Analysis 103L'!CK218, 'LED Case Lighting'!$AS$3:$AS$36, 0)))","v":""},{"$f":"IF(CK218=\"\", \"\", INDEX('LED Case Lighting'!$AW$3:$AW$36, MATCH('Analysis 103L'!CK218, 'LED Case Lighting'!$AS$3:$AS$36, 0)))","v":""},{"$f":"IF(CK218=\"\", \"\", INDEX('LED Case Lighting'!$AX$3:$AX$36, MATCH('Analysis 103L'!CK218, 'LED Case Lighting'!$AS$3:$AS$36, 0)))","v":""},""]
[192,null,null,null,null,null,"",null,{"$f":"IF(K219=\"\",\"\",VLOOKUP(K219,'Equipment Type'!$A$1:$F$53,5,FALSE))","v":""},{"$f":"IF(K219=\"\",\"\",VLOOKUP(K219,'Equipment Type'!$A$1:$F$53,6,FALSE))","v":""},null,{"$f":"IF(K219=\"\",\"\",VLOOKUP(K219,'Equipment Type'!$A$1:$F$53,4,FALSE))","v":""},null,{"$f":"IF(K219=\"\",\"\",INDEX('Equipment Type'!$T$4:$T$53,MATCH('Analysis 103L'!K219,'Equipment Type'!$A$4:$A$53,0)))","v":""},"",null,{"$f":"IF(RIGHT(I219, 4)=\"Case\", \"\", IF(P219=\"\",\"\",(IF(ISNUMBER(SEARCH(\"exit\",J219)),8760,IF(B219=\"Exterior\",4380,'Analysis 103L'!$J$3)))))","v":""},null,"","","","","","","","",{"$f":"IF('100L Information'!$Z$5=\"Yes\",0,IF('100L Information'!$Z$4=\"Yes\",(MIN($Y$232-(-$Y$227),6000)*0.5)*(Y219/$Y$232),$Y$232*(Y219/($Y$230+$Y$231))))","v":{"$error":"#VALUE!"}},"",{"$error":"#VALUE!"},"No requirement",{"$f":"MAX(IF(ISERROR(VLOOKUP(CONCATENATE(J219,\" from \",VLOOKUP(D219,ExistFixtCat,4,FALSE)),PropFixtIncent,2,FALSE)),0,VLOOKUP(CONCATENATE(J219,\" from \",VLOOKUP(D219,ExistFixtCat,4,FALSE)),PropFixtIncent,2,FALSE)),IF(ISERROR(VLOOKUP(CONCATENATE(J219,\" from ANY\"),PropFixtIncent,2,FALSE)),0,VLOOKUP(CONCATENATE(J219,\" from ANY\"),PropFixtIncent,2,FALSE)))","v":0},{"$f":"IF(OR(Z219=\"Does not meet requirement\",AND('100L Information'!$AA$21=\"No\",AL219=\"Y\"),AND('100L Information'!$AS$21=FALSE,AL219=\"Y\")),0,IF(ISNUMBER(R219*Incent_Cost_Fixture_Rx),MIN(R219*Incent_Cost_Fixture_Rx,(MAX(AE219,AK219))),0))","v":0},"FAIL","0","0","0",0,"N","0","0",null,"","",0,"",{"$f":"IF(RIGHT(I219,4)=\"Case\",W219,IF(AND(AL219=\"Y\",AF219<1),0,IF(OR(LEFT(D219,2)=\"T5\",LEFT(D219,3)=\"CFL\",'Analysis 103L'!AS219=\"Less\"),'Analysis 103L'!AR219,'Analysis 103L'!W219)))","v":""},null,0,0,null,{"$error":"#VALUE!"},{"$error":"#VALUE!"},{"$error":"#VALUE!"},null,null,{"$f":"IF(RIGHT(I219,4)=\"Case\",'LED Case Lighting'!$AY$1,IF(J219=\"\",\"\",VLOOKUP(J219,Lookups!$A$30:$J$172,VLOOKUP('100L Information'!$AI$46,Lookups!$J$3:$L$6,3,FALSE),FALSE)))","v":""},{"$error":"#N/A"},"","",{"$error":"#VALUE!"},{"$error":"#VALUE!"},{"$error":"#VALUE!"},{"$error":"#N/A"},0,{"$error":"#N/A"},0,{"$error":"#VALUE!"},{"$error":"#VALUE!"},{"$error":"#VALUE!"},"FAIL",null,null,null,null,null,null,null,"Interior / Exterior",null,"",null,{"$f":"IF(RIGHT(I219,4)=\"Case\",(INDEX('LED Case Lighting'!$AZ$3:$AZ$36,MATCH('Analysis 103L'!$CK219,'LED Case Lighting'!$AS$3:$AS$36,0))),IF(CB219=0,0,IF(CB219=\"lamp\",((Q219/VLOOKUP(B219,Int_Ext,2,FALSE))*VLOOKUP(E219,NEB,16,FALSE)),IF(CB219=\"fixture\",((Q219/VLOOKUP(B219,Int_Ext,2,FALSE))*VLOOKUP(E219,NEB,14,FALSE)),\"\"))))","v":""},null,{"$f":"IF(RIGHT(I219,4)=\"Case\",INDEX('Equipment Type'!$V$4:$V$53, MATCH('Analysis 103L'!$K219, 'Equipment Type'!$A$4:$A$53, 0)), \"\")","v":""},"","","","","",{"$f":"IF(CK219=\"\", \"\", INDEX('LED Case Lighting'!$AR$3:$AR$36, MATCH('Analysis 103L'!CK219, 'LED Case Lighting'!$AS$3:$AS$36, 0)))","v":""},{"$f":"IF(CK219=\"\", \"\", INDEX('LED Case Lighting'!$AW$3:$AW$36, MATCH('Analysis 103L'!CK219, 'LED Case Lighting'!$AS$3:$AS$36, 0)))","v":""},{"$f":"IF(CK219=\"\", \"\", INDEX('LED Case Lighting'!$AX$3:$AX$36, MATCH('Analysis 103L'!CK219, 'LED Case Lighting'!$AS$3:$AS$36, 0)))","v":""},""]
[193,null,null,null,null,null,"",null,{"$f":"IF(K220=\"\",\"\",VLOOKUP(K220,'Equipment Type'!$A$1:$F$53,5,FALSE))","v":""},{"$f":"IF(K220=\"\",\"\",VLOOKUP(K220,'Equipment Type'!$A$1:$F$53,6,FALSE))","v":""},null,{"$f":"IF(K220=\"\",\"\",VLOOKUP(K220,'Equipment Type'!$A$1:$F$53,4,FALSE))","v":""},null,{"$f":"IF(K220=\"\",\"\",INDEX('Equipment Type'!$T$4:$T$53,MATCH('Analysis 103L'!K220,'Equipment Type'!$A$4:$A$53,0)))","v":""},"",null,{"$f":"IF(RIGHT(I220, 4)=\"Case\", \"\", IF(P220=\"\",\"\",(IF(ISNUMBER(SEARCH(\"exit\",J220)),8760,IF(B220=\"Exterior\",4380,'Analysis 103L'!$J$3)))))","v":""},null,"","","","","",{"$f":"IF(M220=\"Y\",\"CustomCalc\",IF(RIGHT(I220, 4)=\"Case\", \"\",IF(AD220=1,\"\",IF(AF220>0,AF220,\"\"))))","v":""},"",{"$f":"IF(M220 = \"Y\",IF(AND(M220=\"Y\",AG220=\"FAIL\"),\"Not Cost Effective\",\"\"),IF(AD220=1,\"Does not meet requirement\",\"\"))","v":""},{"$f":"IF('100L Information'!$Z$5=\"Yes\",0,IF('100L Information'!$Z$4=\"Yes\",(MIN($Y$232-(-$Y$227),6000)*0.5)*(Y220/$Y$232),$Y$232*(Y220/($Y$230+$Y$231))))","v":{"$error":"#VALUE!"}},"",{"$f":"IF(RIGHT(I220,4)=\"Case\",\"\",IF(I220=\"GROW\",MIN(W220*RunRateMax_CustomMeasures_Horti,P220*Cap_GROW_fixture,S220*Incent_Cost_Fixture_Cust),MIN(W220*IF(I220=\"Street_Lighting\",RunRateMax_Streetlighting,RunRateMax_CustomMeasures_fixtures),S220*Incent_Cost_Fixture_Cust)))","v":{"$error":"#VALUE!"}},"No requirement",{"$f":"MAX(IF(ISERROR(VLOOKUP(CONCATENATE(J220,\" from \",VLOOKUP(D220,ExistFixtCat,4,FALSE)),PropFixtIncent,2,FALSE)),0,VLOOKUP(CONCATENATE(J220,\" from \",VLOOKUP(D220,ExistFixtCat,4,FALSE)),PropFixtIncent,2,FALSE)),IF(ISERROR(VLOOKUP(CONCATENATE(J220,\" from ANY\"),PropFixtIncent,2,FALSE)),0,VLOOKUP(CONCATENATE(J220,\" from ANY\"),PropFixtIncent,2,FALSE)))","v":0},{"$f":"IF(OR(Z220=\"Does not meet requirement\",AND('100L Information'!$AA$21=\"No\",AL220=\"Y\"),AND('100L Information'!$AS$21=FALSE,AL220=\"Y\")),0,IF(ISNUMBER(R220*Incent_Cost_Fixture_Rx),MIN(R220*Incent_Cost_Fixture_Rx,(MAX(AE220,AK220))),0))","v":0},{"$f":"IF(AND(M220=\"Y\",BR220=\"PASS/PASS\"),\"PASS/PASS\",\"FAIL\")","v":"FAIL"},"0","0","0",{"$f":"IF(AE220=0,MAX(IF(ISERROR(VLOOKUP(CONCATENATE(J220,\" from \",VLOOKUP(E220,ExistFixtCat,4,FALSE)),PropFixtIncent,2,FALSE)),0,VLOOKUP(CONCATENATE(J220,\" from \",VLOOKUP(E220,ExistFixtCat,4,FALSE)),PropFixtIncent,2,FALSE)),IF(ISERROR(VLOOKUP(CONCATENATE(J220,\" from ANY\"),PropFixtIncent,2,FALSE)),0,VLOOKUP(CONCATENATE(J220,\" from ANY\"),PropFixtIncent,2,FALSE))),0)","v":0},"N",{"$f":"IF(AG220=\"PASS/PASS\",W220,\"0\")","v":"0"},{"$f":"IF(AG220=\"PASS/PASS\",Y220,\"0\")","v":"0"},null,{"$f":"IF(AND($CB220=\"fixture\",OR($D220=\"CFL\",$D220=\"INCAN\")),VLOOKUP(E220,Incan_Lookup,7,FALSE)*$G220*H220+VLOOKUP(E220,Incan_Lookup,6,FALSE)*$N220*P220,IF(AND($CB220=\"lamp\",OR($D220=\"CFL\",$D220=\"INCAN\")),VLOOKUP(E220,Incan_Lookup,10,FALSE)*$G220*H220+VLOOKUP(E220,Incan_Lookup,9,FALSE)*$N220*P220,IF($D220=\"OTHER\",$G220*$H220,IF($CB220=\"lamp\",(VLOOKUP($E220,ExistFixtLookup,10,FALSE)*H220+VLOOKUP($E220,ExistFixtLookup,9,FALSE)*N220*P220),IF($CB220=\"fixture\",(VLOOKUP($E220,ExistFixtLookup,7,FALSE)*H220+VLOOKUP($E220,ExistFixtLookup,6,FALSE)*N220*P220),$G220)))))","v":""},"",0,"",{"$f":"IF(RIGHT(I220,4)=\"Case\",W220,IF(AND(AL220=\"Y\",AF220<1),0,IF(OR(LEFT(D220,2)=\"T5\",LEFT(D220,3)=\"CFL\",'Analysis 103L'!AS220=\"Less\"),'Analysis 103L'!AR220,'Analysis 103L'!W220)))","v":""},null,0,0,null,{"$error":"#VALUE!"},{"$error":"#VALUE!"},{"$error":"#VALUE!"},null,null,{"$f":"IF(RIGHT(I220,4)=\"Case\",'LED Case Lighting'!$AY$1,IF(J220=\"\",\"\",VLOOKUP(J220,Lookups!$A$30:$J$172,VLOOKUP('100L Information'!$AI$46,Lookups!$J$3:$L$6,3,FALSE),FALSE)))","v":""},{"$f":"IF(B220=\"Exterior\", INDEX($BW$28:$BW$48, $BX$229), IF(OR(BusType=\"Manufacturing\",BusType=\"Indoor Agriculture\",BusType=\"Ag/Dairy/Livestock\",BusType=\"Food/Beverage Production\",BusType=\"Industrial Fabrication\"), IF(Q220<3500, \"1-Shift Industrial\", IF(Q220<5500, \"2-Shift Industrial\", IF(Q220<8000, \"3-Shift Industrial\", \"Flat - ele\"))), INDEX($BV$28:$BV$48, $BX$229)))","v":{"$error":"#N/A"}},"","",{"$error":"#VALUE!"},{"$error":"#VALUE!"},{"$error":"#VALUE!"},{"$f":"VLOOKUP(E220,ExistFixtCat,3,FALSE)/(H220*IF(ISNUMBER(VALUE(MID(E220,5,1))),VALUE(MID(E220,5,1)),1)*Q220)","v":{"$error":"#N/A"}},{"$f":"IF(ISERROR(-PV(POWER(1+Discount_Rate,$BK220)-1,$BD220/$BK220,10+VLOOKUP($E220,ExistFixtCat,2,FALSE))),0,-PV(POWER(1+Discount_Rate,$BK220)-1,$BD220/$BK220,10+VLOOKUP($E220,ExistFixtCat,2,FALSE)))","v":0},{"$f":"VLOOKUP($J220,PropOpLife,3,FALSE)/($P220*IF(ISNUMBER(VALUE(MID($J220,5,1))),VALUE(MID($J220,5,1)),1)*$Q220)","v":{"$error":"#N/A"}},{"$f":"IF(OR(ISERROR(-PV(POWER(1+Discount_Rate,$BM220)-1,$BD220/$BM220,MIN(R220,10+0.5*VLOOKUP($J220,PropOpLife,2,FALSE)))),BL220=0),0,-PV(POWER(1+Discount_Rate,$BM220)-1,$BD220/$BM220,MIN(R220,10+0.5*VLOOKUP($J220,PropOpLife,2,FALSE))))","v":0},{"$error":"#VALUE!"},{"$error":"#VALUE!"},{"$error":"#VALUE!"},"FAIL",null,null,null,null,null,null,null,"Interior / Exterior",null,{"$f":"IF(I220=\"\",\"\",VLOOKUP(I220,FixVsLamp,2,FALSE))","v":""},null,{"$f":"IF(RIGHT(I220,4)=\"Case\",(INDEX('LED Case Lighting'!$AZ$3:$AZ$36,MATCH('Analysis 103L'!$CK220,'LED Case Lighting'!$AS$3:$AS$36,0))),IF(CB220=0,0,IF(CB220=\"lamp\",((Q220/VLOOKUP(B220,Int_Ext,2,FALSE))*VLOOKUP(E220,NEB,16,FALSE)),IF(CB220=\"fixture\",((Q220/VLOOKUP(B220,Int_Ext,2,FALSE))*VLOOKUP(E220,NEB,14,FALSE)),\"\"))))","v":""},null,{"$f":"IF(RIGHT(I220,4)=\"Case\",INDEX('Equipment Type'!$V$4:$V$53, MATCH('Analysis 103L'!$K220, 'Equipment Type'!$A$4:$A$53, 0)), \"\")","v":""},"","","","","",{"$f":"IF(CK220=\"\", \"\", INDEX('LED Case Lighting'!$AR$3:$AR$36, MATCH('Analysis 103L'!CK220, 'LED Case Lighting'!$AS$3:$AS$36, 0)))","v":""},{"$f":"IF(CK220=\"\", \"\", INDEX('LED Case Lighting'!$AW$3:$AW$36, MATCH('Analysis 103L'!CK220, 'LED Case Lighting'!$AS$3:$AS$36, 0)))","v":""},{"$f":"IF(CK220=\"\", \"\", INDEX('LED Case Lighting'!$AX$3:$AX$36, MATCH('Analysis 103L'!CK220, 'LED Case Lighting'!$AS$3:$AS$36, 0)))","v":""},""]
[194,null,null,null,null,null,"",null,{"$f":"IF(K221=\"\",\"\",VLOOKUP(K221,'Equipment Type'!$A$1:$F$53,5,FALSE))","v":""},{"$f":"IF(K221=\"\",\"\",VLOOKUP(K221,'Equipment Type'!$A$1:$F$53,6,FALSE))","v":""},null,{"$f":"IF(K221=\"\",\"\",VLOOKUP(K221,'Equipment Type'!$A$1:$F$53,4,FALSE))","v":""},null,{"$f":"IF(K221=\"\",\"\",INDEX('Equipment Type'!$T$4:$T$53,MATCH('Analysis 103L'!K221,'Equipment Type'!$A$4:$A$53,0)))","v":""},"",null,{"$f":"IF(RIGHT(I221, 4)=\"Case\", \"\", IF(P221=\"\",\"\",(IF(ISNUMBER(SEARCH(\"exit\",J221)),8760,IF(B221=\"Exterior\",4380,'Analysis 103L'!$J$3)))))","v":""},null,"","","","","","","","",{"$f":"IF('100L Information'!$Z$5=\"Yes\",0,IF('100L Information'!$Z$4=\"Yes\",(MIN($Y$232-(-$Y$227),6000)*0.5)*(Y221/$Y$232),$Y$232*(Y221/($Y$230+$Y$231))))","v":{"$error":"#VALUE!"}},"",{"$error":"#VALUE!"},{"$f":"IF(OR(I221=\"TLED\",I221=\"Relamp\",I221=\"LED_High_Bay\",I221=\"LED_Lamps\",I221=\"LED_Exterior_Fixtures\",I221=\"Street_Lighting\",I221=\"LLLC\"),IF(((U221-V221)/U221)>=0.4,0,1),IF(LEFT(J221,3)=\"HID\",IF(((U221-V221)/U221)>=0.5,0,1),IF(I221=\"LED_Interior_Fixtures\",IF(((U221-V221)/U221)>=0.45,0,1),\"No requirement\")))","v":"No requirement"},0,{"$f":"IF(OR(Z221=\"Does not meet requirement\",AND('100L Information'!$AA$21=\"No\",AL221=\"Y\"),AND('100L Information'!$AS$21=FALSE,AL221=\"Y\")),0,IF(ISNUMBER(R221*Incent_Cost_Fixture_Rx),MIN(R221*Incent_Cost_Fixture_Rx,(MAX(AE221,AK221))),0))","v":0},"FAIL","0","0","0",0,{"$f":"IF(ISNUMBER(VLOOKUP(J221,PublicSector,13,FALSE)),\"Y\",\"N\")","v":"N"},"0","0",null,"",{"$f":"IF(ISNUMBER((AP221-N221*P221)*Q221/1000),(AP221-N221*P221)*Q221/1000,W221)","v":""},0,{"$f":"IF(ISNUMBER(AP221),IF(AP221>G221*H221,\"Greater\",\"Less\"),\"\")","v":""},{"$f":"IF(RIGHT(I221,4)=\"Case\",W221,IF(AND(AL221=\"Y\",AF221<1),0,IF(OR(LEFT(D221,2)=\"T5\",LEFT(D221,3)=\"CFL\",'Analysis 103L'!AS221=\"Less\"),'Analysis 103L'!AR221,'Analysis 103L'!W221)))","v":""},null,0,0,null,{"$error":"#VALUE!"},{"$error":"#VALUE!"},{"$error":"#VALUE!"},null,null,{"$f":"IF(RIGHT(I221,4)=\"Case\",'LED Case Lighting'!$AY$1,IF(J221=\"\",\"\",VLOOKUP(J221,Lookups!$A$30:$J$172,VLOOKUP('100L Information'!$AI$46,Lookups!$J$3:$L$6,3,FALSE),FALSE)))","v":""},{"$error":"#N/A"},"","",{"$error":"#VALUE!"},{"$error":"#VALUE!"},{"$error":"#VALUE!"},{"$error":"#N/A"},0,{"$error":"#N/A"},0,{"$error":"#VALUE!"},{"$error":"#VALUE!"},{"$error":"#VALUE!"},"FAIL",null,null,null,null,null,null,null,"Interior / Exterior",null,"",null,{"$f":"IF(RIGHT(I221,4)=\"Case\",(INDEX('LED Case Lighting'!$AZ$3:$AZ$36,MATCH('Analysis 103L'!$CK221,'LED Case Lighting'!$AS$3:$AS$36,0))),IF(CB221=0,0,IF(CB221=\"lamp\",((Q221/VLOOKUP(B221,Int_Ext,2,FALSE))*VLOOKUP(E221,NEB,16,FALSE)),IF(CB221=\"fixture\",((Q221/VLOOKUP(B221,Int_Ext,2,FALSE))*VLOOKUP(E221,NEB,14,FALSE)),\"\"))))","v":""},null,{"$f":"IF(RIGHT(I221,4)=\"Case\",INDEX('Equipment Type'!$V$4:$V$53, MATCH('Analysis 103L'!$K221, 'Equipment Type'!$A$4:$A$53, 0)), \"\")","v":""},{"$f":"IF(RIGHT(I221,4)=\"Case\",IF(ISERROR(FIND(\"T12\",D221)),\"\",\"T12\") & IF(ISERROR(FIND(\"T8\",D221)),\"\",\"T8\") & IF(ISERROR(FIND(\"T5\",D221)),\"\",\"T5\"),\"\")","v":""},{"$f":"IF(RIGHT(I221,4)=\"Case\",IF(ISERROR(FIND(\"Cooler\",B221)),\"\",\"MED\") & IF(ISERROR(FIND(\"Freezer\",B221)),\"\",\"LOW\"),\"\")","v":""},{"$f":"IF(RIGHT(I221,4)=\"Case\",IF(ISERROR(FIND(\"Open\",B221)),\"\",\"OPEN\") & IF(ISERROR(FIND(\"Closed\",B221)),\"\",\"CLSD\"),\"\")","v":""},{"$f":"IF(RIGHT(I221,4)=\"Case\",IF(ISERROR(FIND(\"Remote\",B221)),\"\",\"RC\") & IF(ISERROR(FIND(\"Self\",B221)),\"\",\"SC\"),\"\")","v":""},{"$f":"IF(RIGHT(I221,4)=\"Case\",IF(OR(CF221=\"NE\", LEFT(J221, 6)=\"Motion\"), \"\", \"CL\" & CF221 & CG221 &  IF(CF221=\"SR\",\"LOW\",\"HIGH\") & CH221 & CI221 & CJ221 ), \"\")","v":""},{"$f":"IF(CK221=\"\", \"\", INDEX('LED Case Lighting'!$AR$3:$AR$36, MATCH('Analysis 103L'!CK221, 'LED Case Lighting'!$AS$3:$AS$36, 0)))","v":""},{"$f":"IF(CK221=\"\", \"\", INDEX('LED Case Lighting'!$AW$3:$AW$36, MATCH('Analysis 103L'!CK221, 'LED Case Lighting'!$AS$3:$AS$36, 0)))","v":""},{"$f":"IF(CK221=\"\", \"\", INDEX('LED Case Lighting'!$AX$3:$AX$36, MATCH('Analysis 103L'!CK221, 'LED Case Lighting'!$AS$3:$AS$36, 0)))","v":""},""]
[195,null,null,null,null,null,"",null,{"$f":"IF(K222=\"\",\"\",VLOOKUP(K222,'Equipment Type'!$A$1:$F$53,5,FALSE))","v":""},{"$f":"IF(K222=\"\",\"\",VLOOKUP(K222,'Equipment Type'!$A$1:$F$53,6,FALSE))","v":""},null,{"$f":"IF(K222=\"\",\"\",VLOOKUP(K222,'Equipment Type'!$A$1:$F$53,4,FALSE))","v":""},null,{"$f":"IF(K222=\"\",\"\",INDEX('Equipment Type'!$T$4:$T$53,MATCH('Analysis 103L'!K222,'Equipment Type'!$A$4:$A$53,0)))","v":""},"",null,{"$f":"IF(RIGHT(I222, 4)=\"Case\", \"\", IF(P222=\"\",\"\",(IF(ISNUMBER(SEARCH(\"exit\",J222)),8760,IF(B222=\"Exterior\",4380,'Analysis 103L'!$J$3)))))","v":""},null,"","","","","","","","",{"$f":"IF('100L Information'!$Z$5=\"Yes\",0,IF('100L Information'!$Z$4=\"Yes\",(MIN($Y$232-(-$Y$227),6000)*0.5)*(Y222/$Y$232),$Y$232*(Y222/($Y$230+$Y$231))))","v":{"$error":"#VALUE!"}},{"$f":"IF(W222=\"\",\"\",W222*$D$23)","v":""},{"$error":"#VALUE!"},"No requirement",0,{"$f":"IF(OR(Z222=\"Does not meet requirement\",AND('100L Information'!$AA$21=\"No\",AL222=\"Y\"),AND('100L Information'!$AS$21=FALSE,AL222=\"Y\")),0,IF(ISNUMBER(R222*Incent_Cost_Fixture_Rx),MIN(R222*Incent_Cost_Fixture_Rx,(MAX(AE222,AK222))),0))","v":0},"FAIL","0","0","0",0,"N","0","0",null,"","",0,"",{"$f":"IF(RIGHT(I222,4)=\"Case\",W222,IF(AND(AL222=\"Y\",AF222<1),0,IF(OR(LEFT(D222,2)=\"T5\",LEFT(D222,3)=\"CFL\",'Analysis 103L'!AS222=\"Less\"),'Analysis 103L'!AR222,'Analysis 103L'!W222)))","v":""},null,0,0,null,{"$error":"#VALUE!"},{"$error":"#VALUE!"},{"$error":"#VALUE!"},null,null,{"$f":"IF(RIGHT(I222,4)=\"Case\",'LED Case Lighting'!$AY$1,IF(J222=\"\",\"\",VLOOKUP(J222,Lookups!$A$30:$J$172,VLOOKUP('100L Information'!$AI$46,Lookups!$J$3:$L$6,3,FALSE),FALSE)))","v":""},{"$error":"#N/A"},"",{"$f":"IF(BD222=\"\",\"\",$BF222+-PV(4.5%,BD222,CD222)/$AR222*$P222)","v":""},{"$f":"IF(RIGHT(I222,4)=\"Case\",0.5*R222/AR222, 0.5*S222/AR222)","v":{"$error":"#VALUE!"}},{"$error":"#VALUE!"},{"$error":"#VALUE!"},{"$error":"#N/A"},0,{"$error":"#N/A"},0,{"$error":"#VALUE!"},{"$error":"#VALUE!"},{"$error":"#VALUE!"},"FAIL",null,null,null,null,null,null,null,"Interior / Exterior",null,"",null,{"$f":"IF(RIGHT(I222,4)=\"Case\",(INDEX('LED Case Lighting'!$AZ$3:$AZ$36,MATCH('Analysis 103L'!$CK222,'LED Case Lighting'!$AS$3:$AS$36,0))),IF(CB222=0,0,IF(CB222=\"lamp\",((Q222/VLOOKUP(B222,Int_Ext,2,FALSE))*VLOOKUP(E222,NEB,16,FALSE)),IF(CB222=\"fixture\",((Q222/VLOOKUP(B222,Int_Ext,2,FALSE))*VLOOKUP(E222,NEB,14,FALSE)),\"\"))))","v":""},null,{"$f":"IF(RIGHT(I222,4)=\"Case\",INDEX('Equipment Type'!$V$4:$V$53, MATCH('Analysis 103L'!$K222, 'Equipment Type'!$A$4:$A$53, 0)), \"\")","v":""},"","","","","",{"$f":"IF(CK222=\"\", \"\", INDEX('LED Case Lighting'!$AR$3:$AR$36, MATCH('Analysis 103L'!CK222, 'LED Case Lighting'!$AS$3:$AS$36, 0)))","v":""},{"$f":"IF(CK222=\"\", \"\", INDEX('LED Case Lighting'!$AW$3:$AW$36, MATCH('Analysis 103L'!CK222, 'LED Case Lighting'!$AS$3:$AS$36, 0)))","v":""},{"$f":"IF(CK222=\"\", \"\", INDEX('LED Case Lighting'!$AX$3:$AX$36, MATCH('Analysis 103L'!CK222, 'LED Case Lighting'!$AS$3:$AS$36, 0)))","v":""},""]
[196,null,null,null,null,null,"",null,{"$f":"IF(K223=\"\",\"\",VLOOKUP(K223,'Equipment Type'!$A$1:$F$53,5,FALSE))","v":""},{"$f":"IF(K223=\"\",\"\",VLOOKUP(K223,'Equipment Type'!$A$1:$F$53,6,FALSE))","v":""},null,{"$f":"IF(K223=\"\",\"\",VLOOKUP(K223,'Equipment Type'!$A$1:$F$53,4,FALSE))","v":""},null,{"$f":"IF(K223=\"\",\"\",INDEX('Equipment Type'!$T$4:$T$53,MATCH('Analysis 103L'!K223,'Equipment Type'!$A$4:$A$53,0)))","v":""},"",null,{"$f":"IF(RIGHT(I223, 4)=\"Case\", \"\", IF(P223=\"\",\"\",(IF(ISNUMBER(SEARCH(\"exit\",J223)),8760,IF(B223=\"Exterior\",4380,'Analysis 103L'!$J$3)))))","v":""},null,"","","","","","","","",{"$f":"IF('100L Information'!$Z$5=\"Yes\",0,IF('100L Information'!$Z$4=\"Yes\",(MIN($Y$232-(-$Y$227),6000)*0.5)*(Y223/$Y$232),$Y$232*(Y223/($Y$230+$Y$231))))","v":{"$error":"#VALUE!"}},"",{"$error":"#VALUE!"},"No requirement",0,{"$f":"IF(OR(Z223=\"Does not meet requirement\",AND('100L Information'!$AA$21=\"No\",AL223=\"Y\"),AND('100L Information'!$AS$21=FALSE,AL223=\"Y\")),0,IF(ISNUMBER(R223*Incent_Cost_Fixture_Rx),MIN(R223*Incent_Cost_Fixture_Rx,(MAX(AE223,AK223))),0))","v":0},"FAIL","0","0","0",0,"N","0","0",null,"","",0,"",{"$f":"IF(RIGHT(I223,4)=\"Case\",W223,IF(AND(AL223=\"Y\",AF223<1),0,IF(OR(LEFT(D223,2)=\"T5\",LEFT(D223,3)=\"CFL\",'Analysis 103L'!AS223=\"Less\"),'Analysis 103L'!AR223,'Analysis 103L'!W223)))","v":""},null,0,0,null,{"$error":"#VALUE!"},{"$error":"#VALUE!"},{"$error":"#VALUE!"},null,null,{"$f":"IF(RIGHT(I223,4)=\"Case\",'LED Case Lighting'!$AY$1,IF(J223=\"\",\"\",VLOOKUP(J223,Lookups!$A$30:$J$172,VLOOKUP('100L Information'!$AI$46,Lookups!$J$3:$L$6,3,FALSE),FALSE)))","v":""},{"$error":"#N/A"},"","",{"$f":"IF(RIGHT(I223,4)=\"Case\",0.5*R223/AR223, 0.5*S223/AR223)","v":{"$error":"#VALUE!"}},{"$error":"#VALUE!"},{"$error":"#VALUE!"},{"$error":"#N/A"},0,{"$error":"#N/A"},0,{"$error":"#VALUE!"},{"$error":"#VALUE!"},{"$error":"#VALUE!"},"FAIL",null,null,null,null,null,null,null,"Interior / Exterior",null,"",null,{"$f":"IF(RIGHT(I223,4)=\"Case\",(INDEX('LED Case Lighting'!$AZ$3:$AZ$36,MATCH('Analysis 103L'!$CK223,'LED Case Lighting'!$AS$3:$AS$36,0))),IF(CB223=0,0,IF(CB223=\"lamp\",((Q223/VLOOKUP(B223,Int_Ext,2,FALSE))*VLOOKUP(E223,NEB,16,FALSE)),IF(CB223=\"fixture\",((Q223/VLOOKUP(B223,Int_Ext,2,FALSE))*VLOOKUP(E223,NEB,14,FALSE)),\"\"))))","v":""},null,{"$f":"IF(RIGHT(I223,4)=\"Case\",INDEX('Equipment Type'!$V$4:$V$53, MATCH('Analysis 103L'!$K223, 'Equipment Type'!$A$4:$A$53, 0)), \"\")","v":""},"","","","","",{"$f":"IF(CK223=\"\", \"\", INDEX('LED Case Lighting'!$AR$3:$AR$36, MATCH('Analysis 103L'!CK223, 'LED Case Lighting'!$AS$3:$AS$36, 0)))","v":""},{"$f":"IF(CK223=\"\", \"\", INDEX('LED Case Lighting'!$AW$3:$AW$36, MATCH('Analysis 103L'!CK223, 'LED Case Lighting'!$AS$3:$AS$36, 0)))","v":""},{"$f":"IF(CK223=\"\", \"\", INDEX('LED Case Lighting'!$AX$3:$AX$36, MATCH('Analysis 103L'!CK223, 'LED Case Lighting'!$AS$3:$AS$36, 0)))","v":""},""]
[197,null,null,null,null,null,"",null,{"$f":"IF(K224=\"\",\"\",VLOOKUP(K224,'Equipment Type'!$A$1:$F$53,5,FALSE))","v":""},{"$f":"IF(K224=\"\",\"\",VLOOKUP(K224,'Equipment Type'!$A$1:$F$53,6,FALSE))","v":""},null,{"$f":"IF(K224=\"\",\"\",VLOOKUP(K224,'Equipment Type'!$A$1:$F$53,4,FALSE))","v":""},null,{"$f":"IF(K224=\"\",\"\",INDEX('Equipment Type'!$T$4:$T$53,MATCH('Analysis 103L'!K224,'Equipment Type'!$A$4:$A$53,0)))","v":""},{"$f":"IF(RIGHT(I224, 4)=\"Case\", \"\", IF(G224=\"\",\"\",((G224*H224)-(N224*P224))/(G224*H224)))","v":""},null,{"$f":"IF(RIGHT(I224, 4)=\"Case\", \"\", IF(P224=\"\",\"\",(IF(ISNUMBER(SEARCH(\"exit\",J224)),8760,IF(B224=\"Exterior\",4380,'Analysis 103L'!$J$3)))))","v":""},null,"","","","","","","","",{"$f":"IF('100L Information'!$Z$5=\"Yes\",0,IF('100L Information'!$Z$4=\"Yes\",(MIN($Y$232-(-$Y$227),6000)*0.5)*(Y224/$Y$232),$Y$232*(Y224/($Y$230+$Y$231))))","v":{"$error":"#VALUE!"}},"",{"$error":"#VALUE!"},"No requirement",0,{"$f":"IF(OR(Z224=\"Does not meet requirement\",AND('100L Information'!$AA$21=\"No\",AL224=\"Y\"),AND('100L Information'!$AS$21=FALSE,AL224=\"Y\")),0,IF(ISNUMBER(R224*Incent_Cost_Fixture_Rx),MIN(R224*Incent_Cost_Fixture_Rx,(MAX(AE224,AK224))),0))","v":0},"FAIL","0","0","0",0,"N","0","0",null,"","",0,"",{"$f":"IF(RIGHT(I224,4)=\"Case\",W224,IF(AND(AL224=\"Y\",AF224<1),0,IF(OR(LEFT(D224,2)=\"T5\",LEFT(D224,3)=\"CFL\",'Analysis 103L'!AS224=\"Less\"),'Analysis 103L'!AR224,'Analysis 103L'!W224)))","v":""},null,{"$f":"IF($B224=\"Interior\",IF(ISNUMBER($G224*$H224),$G224*$H224,0), 0)","v":0},{"$f":"IF($B224=\"Interior\",IF(ISNUMBER($N224*$P224),$N224*$P224,0), 0)","v":0},null,{"$error":"#VALUE!"},{"$error":"#VALUE!"},{"$error":"#VALUE!"},null,null,{"$f":"IF(RIGHT(I224,4)=\"Case\",'LED Case Lighting'!$AY$1,IF(J224=\"\",\"\",VLOOKUP(J224,Lookups!$A$30:$J$172,VLOOKUP('100L Information'!$AI$46,Lookups!$J$3:$L$6,3,FALSE),FALSE)))","v":""},{"$error":"#N/A"},"","",{"$f":"IF(RIGHT(I224,4)=\"Case\",0.5*R224/AR224, 0.5*S224/AR224)","v":{"$error":"#VALUE!"}},{"$error":"#VALUE!"},{"$error":"#VALUE!"},{"$error":"#N/A"},0,{"$error":"#N/A"},0,{"$f":"IF(RIGHT(I224,4)=\"Case\",R224/AR224,S224/AR224)","v":{"$error":"#VALUE!"}},{"$error":"#VALUE!"},{"$error":"#VALUE!"},"FAIL",null,null,null,null,null,null,null,"Interior / Exterior",null,"",null,{"$f":"IF(RIGHT(I224,4)=\"Case\",(INDEX('LED Case Lighting'!$AZ$3:$AZ$36,MATCH('Analysis 103L'!$CK224,'LED Case Lighting'!$AS$3:$AS$36,0))),IF(CB224=0,0,IF(CB224=\"lamp\",((Q224/VLOOKUP(B224,Int_Ext,2,FALSE))*VLOOKUP(E224,NEB,16,FALSE)),IF(CB224=\"fixture\",((Q224/VLOOKUP(B224,Int_Ext,2,FALSE))*VLOOKUP(E224,NEB,14,FALSE)),\"\"))))","v":""},null,{"$f":"IF(RIGHT(I224,4)=\"Case\",INDEX('Equipment Type'!$V$4:$V$53, MATCH('Analysis 103L'!$K224, 'Equipment Type'!$A$4:$A$53, 0)), \"\")","v":""},"","","","","",{"$f":"IF(CK224=\"\", \"\", INDEX('LED Case Lighting'!$AR$3:$AR$36, MATCH('Analysis 103L'!CK224, 'LED Case Lighting'!$AS$3:$AS$36, 0)))","v":""},{"$f":"IF(CK224=\"\", \"\", INDEX('LED Case Lighting'!$AW$3:$AW$36, MATCH('Analysis 103L'!CK224, 'LED Case Lighting'!$AS$3:$AS$36, 0)))","v":""},{"$f":"IF(CK224=\"\", \"\", INDEX('LED Case Lighting'!$AX$3:$AX$36, MATCH('Analysis 103L'!CK224, 'LED Case Lighting'!$AS$3:$AS$36, 0)))","v":""},""]
[198,null,null,null,null,null,"",null,{"$f":"IF(K225=\"\",\"\",VLOOKUP(K225,'Equipment Type'!$A$1:$F$53,5,FALSE))","v":""},{"$f":"IF(K225=\"\",\"\",VLOOKUP(K225,'Equipment Type'!$A$1:$F$53,6,FALSE))","v":""},null,{"$f":"IF(K225=\"\",\"\",VLOOKUP(K225,'Equipment Type'!$A$1:$F$53,4,FALSE))","v":""},null,{"$f":"IF(K225=\"\",\"\",INDEX('Equipment Type'!$T$4:$T$53,MATCH('Analysis 103L'!K225,'Equipment Type'!$A$4:$A$53,0)))","v":""},{"$f":"IF(RIGHT(I225, 4)=\"Case\", \"\", IF(G225=\"\",\"\",((G225*H225)-(N225*P225))/(G225*H225)))","v":""},null,{"$f":"IF(RIGHT(I225, 4)=\"Case\", \"\", IF(P225=\"\",\"\",(IF(ISNUMBER(SEARCH(\"exit\",J225)),8760,IF(B225=\"Exterior\",4380,'Analysis 103L'!$J$3)))))","v":""},null,"","","","","","","","",{"$f":"IF('100L Information'!$Z$5=\"Yes\",0,IF('100L Information'!$Z$4=\"Yes\",(MIN($Y$232-(-$Y$227),6000)*0.5)*(Y225/$Y$232),$Y$232*(Y225/($Y$230+$Y$231))))","v":{"$error":"#VALUE!"}},"",{"$error":"#VALUE!"},"No requirement",0,{"$f":"IF(OR(Z225=\"Does not meet requirement\",AND('100L Information'!$AA$21=\"No\",AL225=\"Y\"),AND('100L Information'!$AS$21=FALSE,AL225=\"Y\")),0,IF(ISNUMBER(R225*Incent_Cost_Fixture_Rx),MIN(R225*Incent_Cost_Fixture_Rx,(MAX(AE225,AK225))),0))","v":0},"FAIL","0","0","0",0,"N","0","0",null,"","",0,"",{"$f":"IF(RIGHT(I225,4)=\"Case\",W225,IF(AND(AL225=\"Y\",AF225<1),0,IF(OR(LEFT(D225,2)=\"T5\",LEFT(D225,3)=\"CFL\",'Analysis 103L'!AS225=\"Less\"),'Analysis 103L'!AR225,'Analysis 103L'!W225)))","v":""},null,{"$f":"IF($B225=\"Interior\",IF(ISNUMBER($G225*$H225),$G225*$H225,0), 0)","v":0},{"$f":"IF($B225=\"Interior\",IF(ISNUMBER($N225*$P225),$N225*$P225,0), 0)","v":0},null,{"$error":"#VALUE!"},{"$error":"#VALUE!"},{"$error":"#VALUE!"},null,null,{"$f":"IF(RIGHT(I225,4)=\"Case\",'LED Case Lighting'!$AY$1,IF(J225=\"\",\"\",VLOOKUP(J225,Lookups!$A$30:$J$172,VLOOKUP('100L Information'!$AI$46,Lookups!$J$3:$L$6,3,FALSE),FALSE)))","v":""},{"$error":"#N/A"},"","",{"$f":"IF(RIGHT(I225,4)=\"Case\",0.5*R225/AR225, 0.5*S225/AR225)","v":{"$error":"#VALUE!"}},{"$error":"#VALUE!"},{"$error":"#VALUE!"},{"$error":"#N/A"},0,{"$error":"#N/A"},0,{"$f":"IF(RIGHT(I225,4)=\"Case\",R225/AR225,S225/AR225)","v":{"$error":"#VALUE!"}},{"$error":"#VALUE!"},{"$error":"#VALUE!"},"FAIL",null,null,null,null,null,null,null,"Interior / Exterior",null,"",null,{"$f":"IF(RIGHT(I225,4)=\"Case\",(INDEX('LED Case Lighting'!$AZ$3:$AZ$36,MATCH('Analysis 103L'!$CK225,'LED Case Lighting'!$AS$3:$AS$36,0))),IF(CB225=0,0,IF(CB225=\"lamp\",((Q225/VLOOKUP(B225,Int_Ext,2,FALSE))*VLOOKUP(E225,NEB,16,FALSE)),IF(CB225=\"fixture\",((Q225/VLOOKUP(B225,Int_Ext,2,FALSE))*VLOOKUP(E225,NEB,14,FALSE)),\"\"))))","v":""},null,{"$f":"IF(RIGHT(I225,4)=\"Case\",INDEX('Equipment Type'!$V$4:$V$53, MATCH('Analysis 103L'!$K225, 'Equipment Type'!$A$4:$A$53, 0)), \"\")","v":""},"","","","","",{"$f":"IF(CK225=\"\", \"\", INDEX('LED Case Lighting'!$AR$3:$AR$36, MATCH('Analysis 103L'!CK225, 'LED Case Lighting'!$AS$3:$AS$36, 0)))","v":""},{"$f":"IF(CK225=\"\", \"\", INDEX('LED Case Lighting'!$AW$3:$AW$36, MATCH('Analysis 103L'!CK225, 'LED Case Lighting'!$AS$3:$AS$36, 0)))","v":""},{"$f":"IF(CK225=\"\", \"\", INDEX('LED Case Lighting'!$AX$3:$AX$36, MATCH('Analysis 103L'!CK225, 'LED Case Lighting'!$AS$3:$AS$36, 0)))","v":""},""]
[199,null,null,null,null,null,"",null,{"$f":"IF(K226=\"\",\"\",VLOOKUP(K226,'Equipment Type'!$A$1:$F$53,5,FALSE))","v":""},{"$f":"IF(K226=\"\",\"\",VLOOKUP(K226,'Equipment Type'!$A$1:$F$53,6,FALSE))","v":""},null,{"$f":"IF(K226=\"\",\"\",VLOOKUP(K226,'Equipment Type'!$A$1:$F$53,4,FALSE))","v":""},null,{"$f":"IF(K226=\"\",\"\",INDEX('Equipment Type'!$T$4:$T$53,MATCH('Analysis 103L'!K226,'Equipment Type'!$A$4:$A$53,0)))","v":""},{"$f":"IF(RIGHT(I226, 4)=\"Case\", \"\", IF(G226=\"\",\"\",((G226*H226)-(N226*P226))/(G226*H226)))","v":""},null,{"$f":"IF(RIGHT(I226, 4)=\"Case\", \"\", IF(P226=\"\",\"\",(IF(ISNUMBER(SEARCH(\"exit\",J226)),8760,IF(B226=\"Exterior\",4380,'Analysis 103L'!$J$3)))))","v":""},null,"","","","","","",{"$f":"IF(RIGHT(I226, 4)=\"Case\", IF(LEFT(J226, 6)=\"Motion\", \"\", CO226), IF(AND(W226>0,ISNUMBER(X226)),X226*P226,IF(P226=\"\",\"\",IF(RIGHT(I226, 4)=\"Case\", IF(LEFT(J226, 6)=\"Motion\", \"\", CO226),IF(AND(X226=\"CustomCalc\",AG226=\"PASS/PASS\"),AC226,0)))))","v":""},"",{"$f":"IF('100L Information'!$Z$5=\"Yes\",0,IF('100L Information'!$Z$4=\"Yes\",(MIN($Y$232-(-$Y$227),6000)*0.5)*(Y226/$Y$232),$Y$232*(Y226/($Y$230+$Y$231))))","v":{"$error":"#VALUE!"}},"",{"$error":"#VALUE!"},"No requirement",0,{"$f":"IF(OR(Z226=\"Does not meet requirement\",AND('100L Information'!$AA$21=\"No\",AL226=\"Y\"),AND('100L Information'!$AS$21=FALSE,AL226=\"Y\")),0,IF(ISNUMBER(R226*Incent_Cost_Fixture_Rx),MIN(R226*Incent_Cost_Fixture_Rx,(MAX(AE226,AK226))),0))","v":0},"FAIL","0","0","0",0,"N","0","0",null,"","",0,"",{"$f":"IF(RIGHT(I226,4)=\"Case\",W226,IF(AND(AL226=\"Y\",AF226<1),0,IF(OR(LEFT(D226,2)=\"T5\",LEFT(D226,3)=\"CFL\",'Analysis 103L'!AS226=\"Less\"),'Analysis 103L'!AR226,'Analysis 103L'!W226)))","v":""},null,{"$f":"IF($B226=\"Interior\",IF(ISNUMBER($G226*$H226),$G226*$H226,0), 0)","v":0},{"$f":"IF($B226=\"Interior\",IF(ISNUMBER($N226*$P226),$N226*$P226,0), 0)","v":0},null,{"$error":"#VALUE!"},{"$error":"#VALUE!"},{"$error":"#VALUE!"},null,null,{"$f":"IF(RIGHT(I226,4)=\"Case\",'LED Case Lighting'!$AY$1,IF(J226=\"\",\"\",VLOOKUP(J226,Lookups!$A$30:$J$172,VLOOKUP('100L Information'!$AI$46,Lookups!$J$3:$L$6,3,FALSE),FALSE)))","v":""},{"$error":"#N/A"},"","",{"$f":"IF(RIGHT(I226,4)=\"Case\",0.5*R226/AR226, 0.5*S226/AR226)","v":{"$error":"#VALUE!"}},{"$error":"#VALUE!"},{"$error":"#VALUE!"},{"$error":"#N/A"},0,{"$error":"#N/A"},0,{"$f":"IF(RIGHT(I226,4)=\"Case\",R226/AR226,S226/AR226)","v":{"$error":"#VALUE!"}},{"$error":"#VALUE!"},{"$error":"#VALUE!"},"FAIL",null,null,null,null,null,null,null,"Interior / Exterior",null,"",null,{"$f":"IF(RIGHT(I226,4)=\"Case\",(INDEX('LED Case Lighting'!$AZ$3:$AZ$36,MATCH('Analysis 103L'!$CK226,'LED Case Lighting'!$AS$3:$AS$36,0))),IF(CB226=0,0,IF(CB226=\"lamp\",((Q226/VLOOKUP(B226,Int_Ext,2,FALSE))*VLOOKUP(E226,NEB,16,FALSE)),IF(CB226=\"fixture\",((Q226/VLOOKUP(B226,Int_Ext,2,FALSE))*VLOOKUP(E226,NEB,14,FALSE)),\"\"))))","v":""},null,{"$f":"IF(RIGHT(I226,4)=\"Case\",INDEX('Equipment Type'!$V$4:$V$53, MATCH('Analysis 103L'!$K226, 'Equipment Type'!$A$4:$A$53, 0)), \"\")","v":""},"","","","","",{"$f":"IF(CK226=\"\", \"\", INDEX('LED Case Lighting'!$AR$3:$AR$36, MATCH('Analysis 103L'!CK226, 'LED Case Lighting'!$AS$3:$AS$36, 0)))","v":""},{"$f":"IF(CK226=\"\", \"\", INDEX('LED Case Lighting'!$AW$3:$AW$36, MATCH('Analysis 103L'!CK226, 'LED Case Lighting'!$AS$3:$AS$36, 0)))","v":""},{"$f":"IF(CK226=\"\", \"\", INDEX('LED Case Lighting'!$AX$3:$AX$36, MATCH('Analysis 103L'!CK226, 'LED Case Lighting'!$AS$3:$AS$36, 0)))","v":""},""]
[200,null,null,"OTHER",null,null,{"$f":"IF(E227=\"\",\"\",VLOOKUP(E227,ExistFixtLookup,2,FALSE))","v":""},null,"OTHERS","Incentive Cap",null,null,null,0,{"$f":"IF(G227=\"\",\"\",((G227*H227)-(N227*P227))/(G227*H227))","v":""},{"$f":"IF(Y230+Y231>6000,1,\"\")","v":""},null,0,{"$f":"IF(P227=\"\",\"\",P227*R227)","v":""},{"$f":"IF(P227=\"\",\"\",IF(ISERROR(AY227),0,AY227))","v":""},{"$f":"IF(H227=\"\",\"\",(G227*H227)*Q227/1000)","v":""},{"$f":"IF(P227=\"\",\"\",(N227*P227)*Q227/1000)","v":""},{"$f":"IF(U227=\"\",\"\",IF(AND(ISNUMBER(U227),ISNUMBER(V227)),U227-V227,\"\"))","v":""},{"$f":"IF(M227=\"Y\",\"CustomCalc\", IF(AD227 =1,\"\",IF(AF227 >0,AF227,\"\")))","v":""},{"$f":"IF('100L Information'!AS47=\"EB\",MIN(0,-(Y232-Cap_Com)),IF(AND('100L Information'!AS47=\"PE\",BusType<>\"Indoor Agriculture\"),MIN(0,-(Y232-Cap_Ind)),IF(AND('100L Information'!AS47=\"PE\",BusType=\"Indoor Agriculture\"),MIN(0,-(Y232-Cap_GROW_Project)),0)))","v":0},null,{"$f":"IF('100L Information'!$Z$5=\"Yes\",0,IF('100L Information'!$Z$4=\"Yes\",((MIN($Y$232-(-$Y$227),6000)*0.5)-AA231-AA229)-SUMIF(AA28:AA226,\"<>#Value!\"),$Y$232*(Y227/($Y$230+$Y$231))))","v":{"$error":"#DIV/0!"}},"",{"$error":"#VALUE!"},"No requirement",0,{"$f":"IF(OR(Z227=\"Does not meet requirement\",AND('100L Information'!$AA$21=\"No\",AL227=\"Y\"),AND('100L Information'!$AS$21=FALSE,AL227=\"Y\")),0,IF(ISNUMBER(R227*Incent_Cost_Fixture_Rx),MIN(R227*Incent_Cost_Fixture_Rx,(MAX(AE227,AK227))),0))","v":0},"FAIL","0","0","0",0,{"$f":"IF(OR(J227=\"LED Street Light (City Owned)\",J227=\"LED Street Light (State Owned)\"),VLOOKUP(E227,StreetLighting,3,FALSE),0)","v":0},"0","0",null,{"$error":"#VALUE!"},"",0,"",{"$f":"IF(OR(LEFT(D227,2)=\"T5\",LEFT(D227,3)=\"CFL\",'Analysis 103L'!AS227=\"Less\"),'Analysis 103L'!AR227,'Analysis 103L'!W227)","v":""},null,{"$f":"IF($B227=\"Exterior\",0,IF(ISNUMBER($G227*$H227),$G227*$H227,0))","v":0},{"$f":"IF($B227=\"Exterior\",0,IF(ISNUMBER($N227*$P227),$N227*$P227,0))","v":0},null,{"$f":"((G227*H227)-(N227*P227))/1000","v":{"$error":"#VALUE!"}},{"$f":"IF(W227=0,0,W227/U227)","v":{"$error":"#VALUE!"}},{"$f":"IF(W227=0,0,S227/(W227*$F$9))","v":{"$error":"#VALUE!"}},null,null,{"$f":"IF(J227=\"\",\"\",VLOOKUP(J227,Lookups!$A$30:$J$149,VLOOKUP('100L Information'!$AI$46,Lookups!$J$3:$L$6,3,FALSE),FALSE))","v":0},{"$error":"#N/A"},{"$error":"#N/A"},{"$error":"#N/A"},{"$f":"0.5*S227/AR227","v":{"$error":"#VALUE!"}},{"$error":"#N/A"},{"$error":"#N/A"},{"$error":"#N/A"},0,{"$error":"#N/A"},0,{"$f":"S227/AR227","v":{"$error":"#VALUE!"}},{"$error":"#N/A"},{"$error":"#N/A"},"FAIL",null,null,null,null,null,null,null,"Interior / Exterior",null,0,null,{"$f":"IF(CB227=0,0,IF(CB227=\"lamp\",((Q227/VLOOKUP(B227,Int_Ext,2,FALSE))*VLOOKUP(E227,NEB,16,FALSE)),IF(CB227=\"fixture\",((Q227/VLOOKUP(B227,Int_Ext,2,FALSE))*VLOOKUP(E227,NEB,14,FALSE)),\"\")))","v":0}]
[null,null,null,null,null,null,"Existing Quantity (this page)",{"$f":"SUM(H28:H227)-H231","v":0},null,null,null,null,null,"Proposed Quantity (this page)",null,{"$f":"SUM(P28:P226)-P231","v":0},null,"Cost (this page)",{"$f":"SUM(S28:S227)","v":0},null,null,null,null,"Incentive (this page)",{"$f":"IF('100L Information'!Z5= \"Yes\",0,SUMIF(Y28:Y226,\"<>#Value!\"))-Y231","v":0},null,{"$f":"SUMIF(AA28:AA227,\"<>#Value!\")","v":{"$error":"#DIV/0!"}},{"$f":"SUM(AB28:AB227)","v":0},null,null,null,null,null,null,null,null,null,null,null,null,null,null,null,null,null,null,null,null,{"$f":"SUM(AW28:AW227)","v":0},null,null,null,null,null,"Weighted Avg Measure Life",null,null,null,null,null,null,null,null,null,null,null,null,null,null,null,null,null,null,null,null,null,null,"Interior"]
[null,null,null,null,null,null,null,null,null,null,null,null,null,null,null,null,null,"plus Controls",{"$f":"Controls!M207","v":0},null,null,null,null,"plus Controls",{"$f":"IF('100L Information'!Z5= \"Yes\",0,Controls!T207)","v":0},null,{"$f":"Controls!W207","v":0},{"$f":"Controls!Z207","v":0},null,null,null,null,null,null,null,null,null,null,null,null,null,null,null,null,null,null,null,null,null,null,null,null,null,null,{"$f":"(SUMPRODUCT(BD28:BD227,AM28:AM227))/(SUM(AM28:AM227))","v":{"$error":"#DIV/0!"}},null,null,null,null,null,null,null,null,null,null,null,null,null,null,null,null,null,null,"Selected Building Use Type:",{"$f":"BusType","v":"(select)"},{"$f":"MATCH(BusType, BU28:BU48, 0)","v":{"$error":"#N/A"}},null,"Exterior"]
[null,null,null,null,null,null,"Total Existing Quantity",{"$f":"SUM(H228:H229)","v":0},null,null,null,null,null,"Total Proposed Quantity",null,{"$f":"SUM(P228:P229)","v":0},null,"Total Installed Cost",{"$f":"SUM(S228:S229)","v":0},null,null,null,null,"Energy Trust Incentive (without LED Case Lighting)",{"$f":"SUM(Y228:Y229)","v":0},null,{"$f":"SUMIF(AA228:AA229,\"<>#Value!\")","v":{"$error":"#DIV/0!"}},{"$f":"SUM(AB228:AB229)","v":0},null,null,null,null,null,null,null,null,null,null,null,null,null,null,null,null,null,null,null,null,null,null,null,null,null,null,null,null,null,null,null,null,null,null,null,null,null,null,null,null,null,null,null,null,null,null,null,null,null,"Refrigerated Case: Open Remote Freezer"]
[null,null,null,null,null,null,"Existing Quantity (LED Case)",{"$f":"SUMIFS(H28:H227, $I$28:$I$227, \"LED_Refrigerated_Case\")","v":0},null,null,null,null,null,"Quantity (LED Case)",null,{"$f":"SUMIFS(P28:P227, $I$28:$I$227, \"LED_Refrigerated_Case\")","v":0},null,"Cost (LED Case)",{"$f":"SUMIFS(R28:R227, $I$28:$I$227, \"LED_Refrigerated_Case\")","v":0},null,null,null,null,"plus Incentive from LED Case Lighting",{"$f":"IF('100L Information'!Z5=\"Yes\",0,SUMIFS(Y28:Y226,I28:I226,\"LED_Refrigerated_Case\"))","v":0},null,{"$f":"'LED Case Lighting'!AJ16","v":0},null,null,null,null,null,null,null,null,null,null,null,null,null,null,null,null,null,null,null,null,null,null,null,null,null,null,null,null,null,null,null,null,null,null,null,null,null,null,null,null,null,null,null,null,null,null,null,null,null,null,"Refrigerated Case: Open Remote Cooler"]
[null,null,null,null,null,null,"Total Existing Quantity",{"$f":"SUM(H230:H231)","v":0},null,null,null,null,null,"Total Proposed Quantity",null,{"$f":"SUM(P230:P231)","v":0},null,"Total Installed Cost",{"$f":"SUM(S230:S231)","v":0},null,null,null,null,"Estimated Energy Trust Incentive",{"$f":"IF(ISNA(#REF!),0,MIN(S232,Y230+Y231))","v":0},null,{"$f":"AA230+AA231","v":{"$error":"#DIV/0!"}},null,null,null,null,null,null,null,null,null,null,null,null,null,null,null,null,null,null,null,null,null,null,null,null,null,null,null,null,null,null,null,null,null,null,null,null,null,null,null,null,null,null,null,null,null,null,null,null,null,null,"Refrigerated Case: Closed Remote Freezer"]
[null,null,null,null,null,null,null,null,null,null,null,null,null,null,null,null,null,null,null,null,null,null,null,null,null,null,null,null,null,null,null,null,null,null,null,null,null,null,null,null,null,null,null,null,null,null,null,null,null,null,null,null,null,null,null,null,null,null,null,null,null,null,null,null,null,null,null,null,null,null,null,null,null,null,null,null,null,"Refrigerated Case: Closed Remote Cooler"]
[null,null,null,null,null,null,null,null,null,null,null,null,null,null,null,null,null,null,null,null,null,null,null,null,null,null,null,null,null,null,null,null,null,null,null,null,null,null,null,null,null,null,null,null,null,null,null,null,null,null,null,null,null,null,null,null,null,null,null,null,null,null,null,null,null,null,null,null,null,null,null,null,null,null,null,null,null,"Refrigerated Case: Open Self-Contained Freezer"]
[null,"General Project Notes:",null,null,null,null,null,null,null,null,null,null,null,null,null,null,null,null,null,null,null,null,null,null,null,null,null,null,null,null,null,null,null,null,null,null,null,null,null,null,null,null,null,null,null,null,null,null,null,null,null,null,null,null,null,null,null,null,null,null,null,null,null,null,null,null,null,null,null,null,null,null,null,null,null,null,null,"Refrigerated Case: Open Self-Contained Cooler"]
[null,null,null,null,null,null,null,null,null,null,null,null,null,null,null,null,null,null,null,null,null,null,null,null,null,null,null,null,null,null,null,null,null,null,null,null,null,null,null,null,null,null,null,null,null,null,null,null,null,null,null,null,null,null,null,null,null,null,null,null,null,null,null,null,null,null,null,null,null,null,null,null,null,null,null,null,null,"Refrigerated Case: Closed Self-Contained Freezer"]
[null,null,null,null,null,null,null,null,null,null,null,null,null,null,null,null,null,null,null,null,null,null,null,null,null,null,null,null,null,null,null,null,null,null,null,null,null,null,null,null,null,null,null,null,null,null,null,null,null,null,null,null,null,null,null,null,null,null,null,null,null,null,null,null,null,null,null,null,null,null,null,null,null,null,null,null,null,"Refrigerated Case: Closed Self-Contained Cooler"]
[]
[]
[]
[]
[]
[]
[]
[]
[]
[]
[]
[null,null,null,null,null,null,null,null,null,null,null,null,null,null,null,null,null,"RATE SCHEDULES",null,null,null,null,"Schedule #","kWh","kW"]
[null,null,null,null,null,null,null,null,null,null,null,null,null,null,null,null,null,"PAC","Residential",null,null,null,4,0.154,0]
[null,null,null,null,null,null,null,null,null,null,null,null,null,null,null,null,null,"PAC","Small Nonresidential",null,null,null,23,0.14099999999999999,8.4499999999999993]
[null,null,null,null,null,null,null,null,null,null,null,null,null,null,null,null,null,"PAC","Large Nonresidential, 31 - 200 kW",null,null,null,28,9.6000000000000002E-2,10.61]
[null,null,null,null,null,null,null,null,null,null,null,null,null,null,null,null,null,"PAC","Large Nonresidential, 201 - 999 kW",null,null,null,30,7.3999999999999996E-2,12.45]
[null,null,null,null,null,null,null,null,null,null,null,null,null,null,null,null,null,"PAC","Large General Service, over 1,000 kW",null,null,null,48,7.3999999999999996E-2,13.72]
[null,null,null,null,null,null,null,null,null,null,null,null,null,null,null,null,null,"PAC","Street Light Service Company Owned System",null,null,null,51,1.9E-2,0]
[null,null,null,null,null,null,null,null,null,null,null,null,null,null,null,null,null,"PAC","Street Light Service Customer Owned System",null,null,null,53,9.4E-2,0]
[null,null,null,null,null,null,null,null,null,null,null,null,null,null,null,null,null,"PGE ","Residential",null,null,null,7,0.18,0]
[null,null,null,null,null,null,null,null,null,null,null,null,null,null,null,null,null,"PGE ","Small Nonresidential",null,null,null,32,0.161,0]
[null,null,null,null,null,null,null,null,null,null,null,null,null,null,null,null,null,"PGE ","Large Nonresidential (31-200kW)",null,null,null,83,8.4000000000000005E-2,9.18]
[null,null,null,null,null,null,null,null,null,null,null,null,null,null,null,null,null,"PGE ","Large Nonresidential (201-4000kW)",null,null,null,85,6.8000000000000005E-2,6.66]
[null,null,null,null,null,null,null,null,null,null,null,null,null,null,null,null,null,"PGE ","Large Nonresidential (>4000kW)",null,null,null,89,0.09,5.09]
[null,null,null,null,null,null,null,null,null,null,null,null,null,null,null,null,null,"PGE ","Streetlighting",null,null,null,91,0.14399999999999999,0]
[null,null,null,null,null,null,null,null,null,null,null,null,null,null,null,null,null,"PGE ","Street and Highway Lighting New Technology",null,null,null,95,0.14399999999999999,0]
[]
[]
[]
[]
[]
[]
[]
[]
[]
[]
[]
[]
[]
[]
[]
[]
[]
[]
[]
[]
[]
[]
[]
[]
[]
[]
[]
[]
[]
[]
[]
[]
[]
[null,"Quattro Tool Key"]
[null,"Project Name",{"$f":"'100L Information'!I15","v":0}]
[null,"kWh (Savings)",{"$f":"'Analysis 103L'!L20","v":0}]
[null,"kWh Bus (baseline savings)",{"$f":"'Analysis 103L'!M22","v":0}]
[null,"Total Cost",{"$f":"'Analysis 103L'!M13","v":0}]
[null,"Incentive",{"$f":"'Analysis 103L'!F20","v":0}]
[null,"Trade Ally (company)",{"$f":"'100L Information'!I47","v":0}]
[null,"Business Name",{"$f":"OrgName","v":0}]
[null,"Assumed Business Name",{"$f":"ABN","v":0}]
[null,"kW",{"$f":"'Analysis 103L'!F12","v":0}]
[null,"Contact (participant)",{"$f":"'100L Information'!F9","v":0}]
[null,"Title (participant contact)",{"$f":"'100L Information'!R9","v":0}]
[null,"Street Address",{"$f":"'100L Information'!F16","v":0}]
[null,"Location (city)",{"$f":"'100L Information'!R16","v":0}]
[null,"State",{"$f":"'100L Information'!AA16","v":0}]
[null,"Zip",{"$f":"'100L Information'!AD16","v":0}]
[null,"Account Number (PPL)",{"$f":"'100L Information'!B37","v":0}]
[null,"Account Number (PGE)",{"$f":"'100L Information'!B40","v":0}]
[null,"$ Savings per year (cost savings)",{"$f":"'Analysis 103L'!F13","v":""}]
[null,"TA Contact",{"$f":"'100L Information'!I48","v":0}]
[null,"TA Contact Email",{"$f":"'100L Information'!M49","v":0}]
[null,"EDP (estimated completion date 6mos as a default)"]
[null,"Self-Direct  - ",{"$f":"'100L Information'!Z4","v":"(select)"}]
[null,"Self-Direct Credit - ",{"$f":"'100L Information'!Z5","v":"(select)"}]
[null,"Program Type",{"$f":"'100L Information'!AI46","v":"Existing Buildings"}]
[null,"Utility",{"$f":"'100L Information'!G34","v":"(select)"}]
[null,"Rate Schedule (PPL)",{"$f":"IF('100L Information'!X37=\"(select)\",\"\",'100L Information'!X37)","v":""}]
[null,"Rate Schedule (PGE)",{"$f":"IF('100L Information'!X40=\"(select)\",\"\",'100L Information'!X40)","v":""}]
[null,"Proposed Project"]

{"sheet":"Performance+","index":4,"n_rows":46,"n_cols":10,"rows_kept":46,"cut":false,"hidden":true,"merged":[[3,2,3,3],[2,1,2,3],[4,7,4,8],[2,7,2,8]]}
[]
[null,"Energy Trust of Oregon \nPerformance Plus calculator "]
[null,"This calculator is a supplemental page and must be accompanied by Form 120L to be valid",null,null,null,null,null,"TABLE 9.5.1 INTERIOR LIGHTING POWER ALLOWANCES "]
[null,"Project name: ",{"$f":"'100L Information'!I15","v":0},null,null,null,null,"ASHRAE 90.1-2016"]
[null,"Utility: ",{"$f":"'100L Information'!G34","v":"(select)"},null,null,null,null,"LIGHTING POWER DENSITY"]
[null,"Project ID",{"$f":"IF('100L Information'!S3=\"\",\"\",'100L Information'!S3)","v":""},null,null,null,null,"Building Area Type","(W/ft2)","% of Space"]
[null,null,null,null,null,null,null,"(select)"]
[null,"Project cost",{"$f":"'Analysis 103L'!S232","v":0},null,null,null,null,"Automotive Facility",0.71]
[null,"kWh savings",{"$f":"'Analysis 103L'!F10","v":0},null,null,null,null,"Convention Center",0.76]
[null,"Base program incentive per kWh",{"$f":"'Analysis 103L'!F20/'Analysis 103L'!F10","v":{"$error":"#DIV/0!"}},null,null,null,null,"Court House",0.9]
[null,null,null,null,null,null,null,"Dining: Bar Lounge/Leisure",0.9]
[null,"Performance+ LPD calculation",null,null,null,null,null,"Dining: Cafeteria/Fast Food",0.79]
[null,"Building type:",{"$f":"IF('Analysis 103L'!#REF!=\"other\",'Analysis 103L'!#REF!,'Analysis 103L'!#REF!)","v":{"$error":"#REF!"}},null,null,null,null,"Dining: Family",0.78]
[null,"LPD allowance",{"$f":"VLOOKUP(C13,$H$8:$I$41,2,FALSE)","v":{"$error":"#REF!"}},null,null,null,null,"Dormitory",0.61]
[null,"LPD proposed",{"$f":"SUM('Analysis 103L'!$AW$28:$AW$227)/'100L Information'!$N$26","v":{"$error":"#DIV/0!"}},null,null,null,null,"Exercise Center",0.65]
[null,"% below code",{"$f":"IF((C15/C14)*100-100<0,(C15/C14)*100-100,\"\")","v":{"$error":"#DIV/0!"}},null,null,null,null,"Gymnasium",0.68]
[null,null,null,null,null,null,null,"Healthcare—clinic",0.82]
[null,"Performance+ incentive calculation",null,null,null,null,null,"Hospital",1.05]
[null,{"$f":"IF(AND(ISNUMBER(C16),C16<=-20),\">20% LPD reduction\",\"No Performance+ incentive\")","v":{"$error":"#DIV/0!"}},{"$f":"'Analysis 103L'!#REF!","v":{"$error":"#REF!"}},null,null,null,null,"Hotel",0.75]
[null,"Estimated Energy Trust Incentive w/ Performance + Adder",{"$f":"'Analysis 103L'!#REF!","v":{"$error":"#REF!"}},null,null,null,null,"Library",0.78]
[null,null,null,null,null,null,null,"Manufacturing Facility",0.9]
[null,"Incentive for this project ($/kWh)",{"$f":"$C$20/$C$9","v":{"$error":"#REF!"}},null,null,null,null,"Motel",0.75]
[null,null,null,null,null,null,null,"Motion Picture Theater",0.83]
[null,"Annual savings ",{"$f":"'Analysis 103L'!F13","v":""},null,null,null,null,"Multifamily",0.68]
[null,"Simple payback (years) w/ Performance+ adder",{"$f":"($C$8-$C$22)/$C$24","v":{"$error":"#REF!"}},null,null,null,null,"Museum",1.06]
[null,"Estimated ROR after Energy Trust Incentive w/ Performance+ adder",{"$f":"$C$24/($C$8-$C$22)","v":{"$error":"#VALUE!"}},null,null,null,null,"Office",0.79,0.5]
[null,"Engage adder on 103L","(select)",null,null,null,null,"Parking Garage",0.15]
[null,null,null,null,null,null,null,"Penitentiary",0.75,0.5]
[null,null,null,null,null,null,null,"Performing Arts Theater",1.18]
[null,null,null,null,null,null,null,"Police",0.8]
[null,null,null,null,null,null,null,"Fire Station",0.53]
[null,null,null,null,null,null,null,"Post Office",0.67]
[null,null,null,null,null,null,null,"Religious Building",0.94]
[null,null,null,null,null,null,null,"Retail",1.06]
[null,null,null,null,null,null,null,"School/University",0.81]
[null,null,null,null,null,null,null,"Sports Arena",0.87]
[null,null,null,null,null,null,null,"Town Hall",0.8]
[null,null,null,null,null,null,null,"Transportation",0.61]
[null,null,null,null,null,null,null,"Warehouse",0.48]
[null,null,null,null,null,null,null,"Workshop",0.9]
[null,null,null,null,null,null,null,"Other",{"$f":"'Analysis 103L'!#REF!","v":{"$error":"#REF!"}}]
[]
[]
[null,null,null,null,null,null,null,null,"Total ",{"$f":"SUM(J8:J40)","v":1}]
[null,null,null,null,null,null,null,null,"Weighted Average LPD",{"$f":"SUMPRODUCT(I8:I40,J8:J40)","v":0.77}]
[null,null,null,null,null,null,null,"Source: https://www.ashrae.org/technical-resources/standards-and-guidelines/read-only-versions-of-ashrae-standards"]

{"sheet":"AvoidedCost","index":5,"n_rows":189,"n_cols":72,"rows_kept":189,"cut":false,"hidden":true,"merged":[]}
["Load Profile Name",0,1,2,3,4,5,6,7,8,9,10,11,12,13,14,15,16,17,18,19,20,21,22,23,24,25,26,27,28,29,30,31,32,33,34,35]
["Res Refrigerator",0,0.13618744729744195,0.27495246384631106,0.39490771126821284,0.50529685105289879,0.61415074339928277,0.68758257942297507,0.75797228098845537,0.82459948828687124,0.88619112181587933,0.94537302407041712,1.0025429507559724,1.0572477195876111,1.1107063724105464,1.1624418216031494,1.2122959194837055,1.2608450309703489,1.3079250516278036,1.3536560140090561,1.3972681570598635,1.4389281329920829,1.4787266889148007,1.5167501712940499,1.5530807488672551,1.5877966237897647,1.6209722316575477,1.6526784310138201,1.682982682913172,1.7119492210845118,1.7396392132037732,1.7661109137586803,1.7914198089608828,1.8156187541353197,1.8387581039926832,1.8608858361682434,1.8820476683889598,1.9022871696107118,1.9216458654485162,1.940163338204713,1.9578773217832472,1.9748237917622697,1.9910370508822655,2.0065498101927828,2.0213932660874678,2.0355971734445326,2.0491899150778754,2.0621985676928758,2.0746936715397695,2.0866955002275933,2.0982235270144765,2.109296456403472,2.1199322544910673,2.1301481781176115,2.1399608028669577,2.1493860499607491,2.1584392120909874,2.1671349782327978,2.1754874574776442,2.1835102019256771,2.1912162286743393,2.1986180409389275,2.2057276483393582,2.2125565863860688,2.2191159351966641,2.2254163374736744,2.2314680157725983,2.2372807890882496,2.2428640887863103,2.2482269739059535,2.2533781458583535,2.2583259625449346]
["Res Freezer",0,0.13537443097366775,0.27331562635893369,0.39269525200076127,0.50280477326522222,0.6112167101442183,0.68410820274572437,0.75398894051897125,0.82008714210304712,0.8811716597602226,0.93989436315930508,0.99658243317667394,1.0508745804950068,1.1039382144836869,1.1553198638170956,1.2048043618994253,1.2529708845640473,1.2996378080983695,1.3450018713872338,1.3882564924320469,1.4295769723926037,1.4690531202345456,1.5067703946231148,1.5428101240602508,1.5772497154106577,1.6101628514518866,1.6416196780476986,1.6716869815102613,1.7004283566849629,1.7279043662616815,1.7541726917881215,1.779288276834228,1.8033034627316078,1.8262681172882409,1.8482297568564803,1.8692336621113106,1.8893229878760298,1.9085388673138171,1.9269205107860337,1.944505299661474,1.9613288753451099,1.9774252237800798,1.9928267556627191,2.0075643825972684,2.0216675894044784,2.035164502786607,2.0480819565402451,2.0604894618266139,2.0724071501239618,2.0838543581705928,2.0948496593391943,2.1054108937725835,2.1155551973297722,2.1252990293893137,2.1346581995550435,2.1436478933075462,2.1522826966429629,2.160576619739127,2.168543119687417,2.1761951223272109,2.1835450432183778,2.1906048077858231,2.197385870668779,2.2038992343062356,2.2101554667886636,2.2161647190050009,2.2219367411127107,2.2274808983576539,2.2328061862694231,2.2379212452568105,2.2428343746270798]
["Res Dryer",0,0.15409002404019834,0.34257038560876218,0.50911380163428688,0.66198947193964819,0.81073796143007759,0.92520546132889681,1.0348312671027933,1.1389019267303444,1.2370279995577622,1.3310384619013842,1.4218168890548866,1.508543360259494,1.5928033812222329,1.6740924565166528,1.7525323615413448,1.8282265385844214,1.9019146241196025,1.972992094495412,2.0409502029648392,2.1059886679077695,2.1682367757112471,2.2278178713434653,2.28484964320119,2.3394443936798357,2.3917092962131399,2.4417466394887981,2.489654059508084,2.5355247601213433,2.5794477226370724,2.6215079050700716,2.661786431563709,2.7003607724925884,2.7373049157247484,2.7726895294968905,2.8065821173318968,2.8390471654050122,2.8701462827434518,2.8999383346237462,2.9284795695118535,2.9558237398727973,2.9820222171593618,3.0071241012730594,3.0311763247751946,3.054223752111251,3.0763092740980746,3.097473897910294,3.1178029957992761,3.1373295522193914,3.1560852494820129,3.1741005191608349,3.1914045914678391,3.2080255426800224,3.2239903406938382,3.2393248887812605,3.2540540676184739,3.2682017756553705,3.2817909678913675,3.2948436931204492,3.3073811297058704,3.3194236199425635,3.3309907030630064,3.3421011469401005,3.3527729785385003,3.3630235131638004,3.3728693825570386,3.3823265618800988,3.3914103956357997,3.4001356225647221,3.4085163995591725,3.4165663246330849]
["Res Clotheswasher",0,0.14869484178000522,0.30877267953942611,0.44817689620991635,0.57664926270741368,0.70275117475598137,0.79171081058988046,0.87703567345239886,0.95789526375225864,1.0330313180456128,1.1052426810665761,1.1749628596372843,1.2418008532036262,1.3068292008163724,1.369642113154365,1.4301420843324684,1.4889673672127317,1.5458908246078296,1.6012548676880261,1.6540960532499771,1.7046185739108037,1.7529277806513355,1.799124038875425,1.8433029749345637,1.8855557099207001,1.9259690814113342,1.9646258538129591,2.0016049179130886,2.0369814802173187,2.0708272426160059,2.1032105728950738,2.1341966665771217,2.1638477005522532,2.1922229789328167,2.2193790715424355,2.2453699454272571,2.2702470897561411,2.2940596344565112,2.3168544629137249,2.3386763190439721,2.3595679090339376,2.3795699980245337,2.398721502001067,2.4170595751380128,2.4346196928332371,2.4514357306538548,2.4675400394040259,2.4830085906960937,2.4978664826296906,2.5121378224948301,2.5258457658865692,2.5390125542755224,2.5516595510951876,2.563807276404634,2.5754754401827982,2.5866829743084003,2.5974480632773771,2.6077881737076689,2.6177200826792295,2.6272599049552459,2.636423119128732,2.6452245927369211,2.6536786063842075,2.6617988769127701,2.6695985796584831,2.6770903698282207,2.6842864030332318,2.691198355011919,2.6978374405740042,2.7042144317968315,2.7103396755033224]
["Res Central AC",0,0.33408606205268782,0.79182959837618105,1.2049397587452386,1.5965387473882895,1.9923972298266401,2.3092341183317848,2.613618209094819,2.9042578134487287,3.1794480023450338,3.4440426952585512,3.6977464122848902,3.9421297326215674,4.1771112767936227,4.4034356219021538,4.6197528899069535,4.8283733595833178,5.0290772666965173,5.2232727099678486,5.4090682748656125,5.5872541893716177,5.7581473243390047,5.922051050898026,6.0792558331864814,6.2300397940624821,6.3746692550854096,6.5133992519868684,6.6464740267926992,6.7741274976995349,6.896583707754826,7.0140572533374606,7.1267536933870463,7.2348699402833434,7.3385946332331606,7.4381084949801446,7.5335846726131122,7.6251890632108408,7.7130806250254382,7.7974116748724054,7.8783281723632399,7.955969991585798,8.0304711808085276,8.1019602107570634,8.1705602119854372,8.2363892018392146,8.2995603014842221,8.3601819434519697,8.4184103960192047,8.4743401362624411,8.5280619115417,8.5796628867402962,8.6292267856919782,8.6768340270248796,8.7225618546426897,8.7664844630547609,8.8086731177585094,8.8491962708694007,8.888119672186173,8.9255064758714795,8.9614173429210471,8.9959105395876175,9.0290420319193565,9.0608655765661119,9.0914328080008975,9.1207933222980699,9.1489947576041608,9.176082871431932,9.2021016149030412,9.2270932040598055,9.2510981883617607,9.2741555164781335]
["Res Window AC",0,0.35112209418449836,0.83983250261313702,1.2820674095730571,1.7014597819929569,2.12432936980067,2.4663497841451876,2.7949374904134974,3.1087801612737822,3.4061930787220605,3.6921263697453326,3.96635324408811,4.2304652344450364,4.4843722121438541,4.7288687378639729,4.9626179579374403,5.1880118025228503,5.4048032353753861,5.6145213677046346,5.8152222765423796,6.007723748508897,6.1923660205355073,6.369474902361203,6.5393624061834634,6.702327347815257,6.8586559206935052,7.0086222440177908,7.1524888862350533,7.2905073650262322,7.4229186248940886,7.5499534933976404,7.6718331170276084,7.7887693776688076,7.9009652905494736,8.0086153845338686,8.1119060655731001,8.2110159640897677,8.3061162670347013,8.3973710353186366,8.4849375072879756,8.5689663888818064,8.6496021310769553,8.7269831951990557,8.8012423066500531,8.8725066975766733,8.9408983389794336,9.0065341627383759,9.0695788498567538,9.1301346918684505,9.1882999420958029,9.2441689750679981,9.2978324396460366,9.3493774061027057,9.3988875073962124,9.4464430748666821,9.4921212685757101,9.5359962025004332,9.5781390647852493,9.6186182332463162,9.6574993863162106,9.6948456096087803,9.7307174982770821,9.76517325533049,9.7982687860704836,9.8300577887983618,9.8605918419420338,9.8899204877432751,9.9180913126412111,9.9451500244824711,9.9711405266832784,9.9961049894638059]
["Res Water Heat",0,0.14048841060178532,0.2844001418111019,0.40859921093834883,0.52192212933026183,0.63245697658325739,0.7089081523197508,0.78219276566552876,0.85151611572227148,0.91575363655147812,0.97741899566993196,1.0371079364622613,1.094171827935714,1.1498793431399938,1.2036968015433045,1.2556733991386446,1.3062915715029308,1.3554408972485723,1.403256261049328,1.4488806064068644,1.4924689746585105,1.5341156712002837,1.5739104457985171,1.6119387224779009,1.6482818173154445,1.6830171448003581,1.7162184133827318,1.7479558107989237,1.7782961797285881,1.8073031843072127,1.8350374679887353,1.8615568032251986,1.8869162334043721,1.9111682074617244,1.934362707559985,1.9565473702077163,1.9777676011677343,1.9980666844868094,2.0174858859597746,2.0360645513239044,2.0538401994631279,2.070848610886304,2.0871239117292477,2.1026986535165655,2.1176038889064137,2.1318692436291347,2.1455229848192294,2.1586377107726396,2.1712347004502979,2.1833343927734736,2.1949564197864175,2.2061196385098292,2.2168421615368312,2.2271413864210898,2.2370340239047692,2.2465361250321148,2.2556631071926616,2.2644297791363246,2.2728503650009508,2.2809385273913323,2.2887073895471119,2.2961695566355558,2.3033371362037474,2.3102217578233724,2.3168345919599829,2.323186368097347,2.3292873921462998,2.3351475631663292,2.3407763894270435,2.3461830038355673,2.3513761787549066]
["Res HPWH Conversion",0,0.14693780098366313,0.3062509170363063,0.44543939827663626,0.57378126054407252,0.69907083537292602,0.78828163832496967,0.87388765117477119,0.95501015845549142,1.0304729080526605,1.1029376455851818,1.1729902141673714,1.2401401635731664,1.3055177811992584,1.368636769833165,1.429484235862442,1.4886673208546719,1.5458622733493228,1.6015235140814998,1.6546641790838872,1.705476736748067,1.7540667661743288,1.8005348606715503,1.8449768737559156,1.8874841524710817,1.9281437587097878,1.9670386791791818,2.004248024616575,2.0398472188287817,2.0739081780965618,2.1064994814558506,2.1376865323392842,2.1675317120350006,2.1960945253946091,2.2234317391985967,2.2495975135651265,2.2746435267671266,2.2986190938026922,2.321571279045092,2.3435450032809348,2.3645831454283708,2.3847266392114057,2.4040145650515155,2.4224842374236863,2.4401712879107174,2.4571097441770733,2.4733321050717447,2.4889140481076408,2.5038808553652494,2.5182568108523387,2.5320652399053487,2.5453285470353175,2.5580682522797398,2.5703050261193545,2.5820587230164969,2.5933484136294465,2.6041924157550347,2.6146083240497116,2.6246130385773045,2.6342227922297807,2.6434531770655085,2.6523191696077504,2.6608351551444338,2.669014951068633,2.676871829297621,2.6844185378068786,2.6916673213139934,2.6986299411460126,2.705317694322479,2.711741431885121,2.717911576503929]
["Res Solar Water Heat",0,0.13699197787598727,0.27867556265591531,0.40121823764548209,0.5129768771879798,0.62154596953152508,0.69753892207281565,0.77035080010139367,0.83929100421887282,0.9032596225178039,0.96464293991254602,1.024091333041703,1.0808513655780965,1.1362996761182633,1.1898744459594102,1.2416803524167093,1.2920948582054952,1.3410976074396674,1.3886575732365802,1.4340664751142693,1.4774502303924639,1.5189025668330538,1.5585126888531244,1.5963655055473562,1.6325418467265371,1.6671186676255876,1.7001692428977835,1.7317633504772576,1.7619674458592429,1.790844827316779,1.8184557925436198,1.8448577871857617,1.8701055456982483,1.8942512249396257,1.9173445308935169,1.9394328388851916,1.960561307640643,1.9807729875164664,2.0001089232107319,2.0186082512479437,2.0363082925150593,2.0532446401103321,2.0694512427524057,2.0849604839835156,2.0998032573879213,2.1140090380345904,2.1276059503418132,2.140666090873196,2.1532106500235018,2.1652599816441969,2.1768336360680709,2.1879503918301242,2.1986282861361977,2.2088846441287768,2.2187361069974529,2.2281986589796601,2.2372876532954873,2.2460178370586479,2.254403375204034,2.2624578734706611,2.2701944004773145,2.277625508926699,2.2847632559725004,2.291619222782415,2.2982045333288696,2.3045298724379419,2.3106055031257449,2.3164412832504242,2.3220466815067673,2.3274307927893947,2.3326023529494444]
["Res Air Source HP",0,0.16165989080289461,0.35286105566514436,0.52241284976277846,0.67879904278096115,0.83099856743862788,0.95110797393911761,1.0662589102645392,1.1762123313927695,1.2796912645845817,1.3789424784583408,1.4748961751079379,1.5664263566129293,1.6551005987445828,1.7407211321404936,1.8235212200855169,1.9037212563269361,1.981644101841898,2.056680187459039,2.1285859507495322,2.1974012453309921,2.2632629533024313,2.3263016661058002,2.3866419860632089,2.4444028128055342,2.4996976153824844,2.5526346908012871,2.6033174097006468,2.6518444498283968,2.6983100179551425,2.7428040608221234,2.785412465689316,2.826217251019413,2.8652967478045821,2.9027257720158115,2.9385757886290125,2.9729150676578522,3.0058088326004269,3.0373194016852665,3.0675063222817616,3.0964264988207835,3.1241343145530407,3.1506817474554767,3.1761184805796976,3.200492007121023,3.22384773047217,3.2462290595118048,3.2677268301770956,3.2883759231223375,3.3082098420016397,3.3272607678294199,3.3455596111948802,3.3631360624151858,3.3800186397087271,3.3962347354666185,3.4118106606975203,3.4267716877178849,3.4411420911569057,3.4549451873426911,3.468203372133571,3.4809381572559221,3.4931702052074649,3.5049193627826667,3.5162046932746485,3.5270445074058383,3.5374563930375644,3.5474572437067851,3.5570632860362639,3.5662901060626586,3.5751526745252407,3.5836653711562874]
["Res Ductless HP Convert",0,0.13635303944937938,0.28976231794351259,0.42484206447683825,0.54777859721509603,0.66487000900452331,0.75619301436159014,0.84368023490856481,0.92702301429990541,1.005240132388499,1.0800890171202451,1.1527403878234808,1.22181433900172,1.2890661031910076,1.3540468241937582,1.4171898083032499,1.4784147183508038,1.538052928515121,1.5954874301866508,1.6505281839620276,1.7031577749660802,1.7534854491526353,1.8016153024853947,1.8476465344302557,1.8916736884187586,1.9337868799795104,1.9740720131958849,2.0126109861119188,2.0494818856740435,2.0847591727639201,2.1185138578471299,2.1508136677336793,2.1817232039190952,2.211304092949264,2.2396151292279676,2.2667124106632284,2.2926494675270463,2.3174773848827446,2.3412449189149638,2.363998607479191,2.3857828751706234,2.4066401331959768,2.4266108743166126,2.4457337631169271,2.4640457218383482,2.4815820120064127,2.4983763120662661,2.5145076155528221,2.5300020958972231,2.5448848932696189,2.5591801553697011,2.5729110766069332,2.5860999357340413,2.5987681319948308,2.6109362198449793,2.6226239423021385,2.6338502629794598,2.6446333968545161,2.6549908398235456,2.6649393970889661,2.6744952104262252,2.6836737843742218,2.6924900113917958,2.700958196021106,2.7090920780970924,2.7169048550406969,2.7244092032719949,2.7316172987779961,2.7385408368684789,2.7451910511519126,2.7515787317622613]
["Res Ductless HP - Cooling",0,0.31855738743965478,0.75228900502470797,1.1426492550910436,1.5125399579966747,1.8877666868959362,2.1846305201352596,2.4698378911350698,2.742103988952473,2.9998283727534107,3.2476483797446298,3.4850905776418419,3.7139423156136333,3.9340223414317412,4.1460821742911405,4.3487296376775326,4.5440865386805038,4.7321109638605732,4.91410986099861,5.0881916648920704,5.2551259242340391,5.4152112880771348,5.5687336237741647,5.7159665814456861,5.8571721325405273,5.9926010837316017,6.12249356732696,6.2470795093169773,6.3665790761225161,6.4812031010558746,6.5911534914559819,6.6966236174116371,6.7977986829413304,6.8948560804553356,6.9879657292850821,7.0772903990262286,7.1629860184053005,7.2452019703450175,7.3240813738705111,7.3997613534673654,7.4723732964727825,7.5420430990529717,7.6088914012931825,7.6730338119013854,7.7345811230025339,7.7936395154774578,7.8503107552786835,7.9047447575851146,7.9570298428856923,8.0072508449993958,8.0554892487201748,8.1018233220280038,8.146328243080573,8.1890762221916731,8.2301366189941927,8.2695760549777848,8.3074585215838663,8.3438454840332792,8.3787959810550934,8.4123667206783903,8.4446121722424063,8.4755846547743587,8.505334421878338,8.5339097432729965,8.5613569831103398,8.5877206752026893,8.6130435952798674,8.6373668303938587,8.6607298455835533,8.683170547907725,8.7047253479501521]
["Res Zonal Ele Heat",0,0.13973886298085594,0.29640613354660345,0.43417557050817079,0.55951705134794427,0.67945015708684231,0.77283589461704216,0.86224613390737703,0.94749027396636987,1.0274681333519426,1.1041236372718868,1.1784406458919783,1.2490726635972778,1.3177930394417752,1.3841786212468479,1.4486548002752762,1.5111966593436175,1.5722272734957117,1.6309376587895814,1.6872048907696309,1.7410058830674773,1.7924524500842571,1.84165113131044,1.8887034511619254,1.9337061654517129,1.9767514952123835,2.0179273485450437,2.0573175311330347,2.0950019460234954,2.1310567832466347,2.1655546998112372,2.1985649905853508,2.2301537505432112,2.2603840288331316,2.289315975096252,2.3170069784425937,2.343511799468748,2.3688826956806324,2.3931695406650562,2.4164199373352053,2.4386793255575991,2.4599910844514836,2.4803966296359525,2.4999355056853036,2.5186454740391588,2.536562596600676,2.5537213152437306,2.5702026509877083,2.5860333451995783,2.6012390835646442,2.6158445377621904,2.6298734054958821,2.6433484489438621,2.6562915316909366,2.668723654202775,2.6806649878996711,2.6921349078851633,2.7031520243826108,2.71373421293073,2.7238986433870931,2.733661807786635,2.7430395471003819,2.7520470769378105,2.7606990122345434,2.7690093909654365,2.776991696921534,2.7846588815878461,2.7920233851574476,2.7990971567159928,2.8058916736293971,2.8124179601661412]
["Res Ele Resistance Heat",0,0.14550116657812989,0.31226800375816843,0.45951914320775178,0.59379562689315313,0.72218874091602614,0.82360310925995939,0.92079359574018749,1.0135281659284929,1.1006408107185659,1.1841208248384147,1.2650530484452924,1.3420670670623789,1.4169015225558785,1.4891060418236974,1.5592172145207071,1.627230866111008,1.6934955772975719,1.7573180147372105,1.8184863589960127,1.8769901305310841,1.932949262508888,1.9864780753382112,2.0376855508880389,2.0866755927101512,2.1335472730103926,2.1783950670716372,2.2213090757928051,2.2623752369718475,2.3016755259262216,2.3392881460119042,2.375287709571392,2.4097454098122104,2.4427291840901795,2.4743038690459334,2.5045313480188942,2.5334706911399216,2.5611782884822327,2.5877079766296927,2.6131111590022802,2.6374369202602743,2.6607321350914837,2.683041571669559,2.7044079900560476,2.7248722358043347,2.7444733290098773,2.763248549038174,2.7812825707731621,2.7986046548524897,2.8152429067776921,2.8312243225160474,2.8465748323021929,2.8613193427105541,2.875481777066871,2.889085114264371,2.9021514260475803,2.9147019128242682,2.9267569380636189,2.938336061336456,2.9494580700511204,2.9601410099364958,2.9704022143216418,2.98025833225954,2.9897253555405872,2.9988186446396625,3.0075529536388705,3.0159424541663968,3.0240007583903199,3.0317409411046823,3.0391755609436633,3.046316680758264]
["Res Lighting",0,0.14215951352751185,0.29377271264509758,0.42591969047619205,0.54704172092090164,0.66476172386429411,0.74966956354294578,0.83111819370677353,0.90842951483062739,0.9803561581726894,1.0493486000186569,1.1161733257159043,1.1799980296691888,1.2421567337480492,1.3021884261438248,1.3602286325519903,1.4167126639336503,1.4714823596482662,1.5246529795416299,1.575450715560571,1.6240027962345587,1.6704121146297273,1.7147766511717197,1.7571897186860239,1.7977401946831617,1.8365127415785896,1.8735880154986466,1.9090428642875816,1.9429505152964359,1.9753807535022996,2.0064000904759931,2.0360719246875436,2.0644566936117328,2.091612018070474,2.1175928392246872,2.1424515486056128,2.1662381115540978,2.1890001844161335,2.2107832258238758,2.2316306023733636,2.2515836889931622,2.2706819642821254,2.2889631010793514,2.3064630525150998,2.3232161337779824,2.3392550998209827,2.3546112192168693,2.3693611177817391,2.3835287275837471,2.3971370359134054,2.4102081225810252,2.4227631957417395,2.4348226263062522,2.4464059809931342,2.4575320540762982,2.4682188978791642,2.478483852064993,2.4883435717709079,2.497814054631263,2.5069106667341874,2.515648167553441,2.5240407338960145,2.5321019829043454,2.5398449941504611,2.5472823308579007,2.5544260602858522,2.5612877733085693,2.567878603221851,2.57420924380708,2.5802899666821433,2.5861306379673836]
["Res Other",0,0.13926822526304533,0.28363298201883086,0.4087140144481603,0.52345320259838601,0.63574057714860976,0.71377126235414179,0.78857581827189727,0.8594127490224821,0.92512212087879409,0.98821556132518118,1.0492496256547903,1.1075867896801312,1.1645240469262559,1.2195800302804618,1.2727083482241373,1.3244216272332086,1.3746000024597493,1.4233308012275272,1.4698440556488686,1.5142874304002418,1.5567564982241484,1.5973422304689544,1.6361312285262917,1.6732059431287731,1.7086448821688733,1.7425228076627421,1.7749109224477546,1.8058770471696526,1.8354857880840654,1.8637986961679183,1.8908744180086277,1.9167688389129522,1.9415352186528212,1.9652243202423254,1.9878845321182164,2.0095619840756882,2.0303006572917885,2.0501424887504966,2.0691274703662335,2.0872937430862586,2.1046776862370438,2.121314002365196,2.1372357978098138,2.1524746592302351,2.1670607263009511,2.1810227607739345,2.1944336093696344,2.2073150315151535,2.2196879276303387,2.2315723730392185,2.2429876505427053,2.2539522817054052,2.2644840569073068,2.2746000642091047,2.2843167170779912,2.2936497810189063,2.3026143991544505,2.3112251167949687,2.3194959050386714,2.3274401834400762,2.3350708417835637,2.3424002609973642,2.3494403332419136,2.3562024812051732,2.3626976766362162,2.3689364581471599,2.3749289483123159,2.3806848700923133,2.3862135626098411,2.3915239963025958]
["Res Whole Home",0,0.14415787851194756,0.29782757110381336,0.43131920117454126,0.55346519110421255,0.67287184907958464,0.75871766071803515,0.84101205739776985,0.91915278375415665,0.99195534631993976,1.0617817079915901,1.1293731597835899,1.1939161250882959,1.2567708866672906,1.3174920435269339,1.3761867404201464,1.4332264600404265,1.4886700491571065,1.5423720505985183,1.5936871268808868,1.642735747695921,1.6896216436244798,1.7344435988164781,1.777295697398398,1.8182675570701092,1.8574445505831338,1.8949080157538647,1.9307354546288509,1.9650007223849373,1.9977742065146817,2.0291229968169526,2.0591110466838281,2.0877993261477763,2.115245967127489,2.1415064012865885,2.1666334908966598,2.190677653074538,2.2136869777435386,2.2357073396491507,2.2567825047416821,2.276954231221286,2.2962623655247372,2.3147449335181238,2.3324382271453112,2.3493768867684994,2.3655939794244207,2.3811210732076731,2.3960351965226789,2.4103605478962313,2.4241203705583696,2.4373369901550834,2.4500318509722128,2.4622255507293254,2.4739378740000122,2.4851878243128418,2.4959936549850439,2.50637289873896,2.5163423961493105,2.5259183229674367,2.5351162163668466,2.5439510001526595,2.5524370089758404,2.5605880115915163,2.5684172331991202,2.5759373769005931,2.5831606443114787,2.5900987553583383,2.5967629672946169,2.6031640929658093,2.6093125183535655,2.6152182194271951]
["Res Spa Cover",0,0.15997430170550742,0.35048019516689144,0.51984881340354394,0.67821499010717012,0.83297558333116772,0.95042145031682934,1.0634928733027709,1.171106202047818,1.2719406446625166,1.3685378637176171,1.4620234201953821,1.5516616668572745,1.6386660571870042,1.7226239329255426,1.8035500593287837,1.882254105479622,1.9580919711070504,2.0317083555820812,2.1021645464516823,2.1695994530241225,2.2341465802616312,2.2959333117264134,2.3550812023881131,2.4117062567861827,2.4659191933119224,2.5178256953334812,2.5675266498479208,2.6151183743074715,2.6606928322321783,2.7043378381881791,2.7461372526797074,2.7861711674735186,2.8245160818466521,2.8612450702222207,2.8964279416331231,2.9301313914301703,2.9624191456289872,2.9933520982691411,3.0229884421392095,3.0513837932027972,3.0785913090428947,3.104661801625253,3.1296438446657024,3.1535838758714054,3.1765262943119441,3.1985135531627908,3.2196328105356149,3.2399183329377128,3.2594030341211706,3.2781185284862246,3.2960951823763929,3.3133621633486032,3.3299474874982624,3.3458780649160507,3.3611797433501955,3.3758773501450712,3.3899947325241659,3.4035547962827817,3.4165795429532415,3.4290901055029099,3.4411067826229451,3.4526490716634162,3.4637357002682299,3.4743846567611834,3.484613219332457,3.4944379840728983,3.5038748919015812,3.5129392544303326,3.5216457788071951,3.5300085915791306]
["Res Power Strip",0,0.14442309109335436,0.30008962806997952,0.43595614345123646,0.56082476888321708,0.68282194512618333,0.77034616979162862,0.8542389953416426,0.93381259232893032,1.0079490742024457,1.0790996078628838,1.1479094658575633,1.2136864113302221,1.2777956133337849,1.3397074734545,1.3994505435824252,1.4575048811520492,1.5137985052683576,1.5683628607005633,1.6204835781386504,1.670314386598954,1.7179594603366282,1.7635180379298732,1.8070846665872602,1.8487494338273827,1.8885981872097317,1.9267127427579476,1.9631710826810416,1.9980475429646176,2.0314129913725005,2.0633349963693215,2.0938779874464704,2.1231034073072834,2.1510698563422581,2.177833229801494,2.2034468480492229,2.2279615802642843,2.2514259619305217,2.2738863064423502,2.2953868111330649,2.3159696580167433,2.3356751095188697,2.3545415994558923,2.3726058195099133,2.3899028014314228,2.4064659951904717,2.4223273432848522,2.4375625253945254,2.4521962609719652,2.4662522936080618,2.4797534295566708,2.4927215747383138,2.5051777702830673,2.5171422266703054,2.5286343565206924,2.5396728060936322,2.5502754855412735,2.5604595979681695,2.5702416673437298,2.5796375653127628,2.5886625369476044,2.5973312254836154,2.6056576960781892,2.6136554586318099,2.6213374897081909,2.6287162535890678,2.6358037224977959,2.6426113960245736,2.6491503197848059,2.6554311033408831,2.661463937416455]
["Res Space Conditioning",0,0.24332272561572149,0.56424659826179113,0.85317738391322961,1.1245842645786168,1.3944364369131603,1.6116891936295366,1.8202686198824147,2.0194552000783577,2.2078404031278551,2.3888387804725464,2.5628385060478789,2.729938663650568,2.8910086989680424,3.0461908773540252,3.1951122229652218,3.3389024317458715,3.4776409975213123,3.6116666604470216,3.7399743004156996,3.8629563873564825,3.9808386375171572,4.0938369297317649,4.2021577495352167,4.3059986123792786,4.4055484669786233,4.5009880797627009,4.592490401359048,4.6802209159862525,4.7643379745898544,4.8449931125120003,4.9223313524453696,4.9964914933838456,5.067606386246255,5.135803196815357,5.2012036566018613,5.263924302212593,5.3240767037728434,5.3817676829254362,5.4370995209028825,5.490170157144334,5.5410733789055282,5.5898990022877211,5.6367330450905291,5.681657891873594,5.7247524515930346,5.7660923081606859,5.8058001715433107,5.8439404687122911,5.8805750832248078,5.9157634556314118,5.9495626799197652,5.9820275961510143,6.0132108794391224,6.0431631254175171,6.0719329323317384,6.0995669798912635,6.1261101050084701,6.1516053745476187,6.1760941552018771,6.1996161806117884,6.2222096158340641,6.2439111192653156,6.2647559021211903,6.2847777855674245,6.3040092555955045,6.3224815157319751,6.3402245376669208,6.3572671098837539,6.3736368843692333,6.3893604214794824]
["Res EV Standby Mode",0,0.12603931672483376,0.24802922332084953,0.35270706956209497,0.44853317485472977,0.5425284148961812,0.60404360545463198,0.66294586482164575,0.71862418539197903,0.76984468101044179,0.81904450853065558,0.86665387298041274,0.91207083506324782,0.9566515173792941,0.9998859774186355,1.0416468965370882,1.0823621325391219,1.1219766663489388,1.1603901062747419,1.1970145767235782,1.2319661572171925,1.265324351719789,1.2971647210661015,1.3275590869668836,1.3565757250451804,1.3842795475127223,1.4107322760610437,1.4359926055092203,1.4601163587192982,1.4831566332614587,1.5051639402836192,1.5261863360144137,1.5462695463042144,1.5654570845860007,1.5837903636163229,1.6013088013363126,1.6180499211735548,1.6340494470875999,1.6493413936449082,1.6639581513929915,1.6779305677884229,1.691288023919151,1.7040585072481356,1.7162686805926712,1.7279439475418392,1.739108514503279,1.7497854495598655,1.7600408861717054,1.7698914640334285,1.7793531659465234,1.7884413437518203,1.7971707432382262,1.805555528068123,1.8136093027582556,1.8213451347533882,1.8287755756285518,1.8359126814542779,1.8427680323578666,1.849352751312423,1.8556775221841513,1.8617526070671866,1.8675878629340923,1.8731927576290359,1.8785763852295965,1.883747480802126,1.8887144345746065,1.8934853055499985,1.8980678345821684,1.9024694569356115,1.9066973143493502,1.910758266624577]
["Res EV Charging Mode",0,0.14921391626396233,0.31617921282150813,0.46301077061558488,0.59870561178970683,0.73113053496637403,0.82828668164570896,0.92145444484261074,1.0099355828860641,1.0925559103900542,1.1719067321600776,1.2485359923035693,1.3218805888506842,1.3932390306871159,1.4621331577460399,1.5285402694618844,1.5930025736848985,1.6553987397793335,1.7158693419147895,1.7736525309720936,1.8289234293337242,1.8817949292426648,1.9323746464305667,1.9807651776936737,2.02706434532797,2.0713654291220691,2.1137573865679018,2.1543250619129717,2.1931493846437093,2.230307557957167,2.2658732377478068,2.2999167026073883,2.3325050153088021,2.3637021762191028,2.3935692690627959,2.4221645994336169,2.4495438264314995,2.4757600877810715,2.500864118768825,2.5249043653179566,2.5479270915027494,2.5699764817881858,2.591094738265205,2.6113221731375753,2.6306972967027167,2.6492569010559239,2.6670361397352642,2.6841134989508446,2.7005166871321724,2.7162723188499016,2.7314059579986183,2.7459421592748807,2.7599045080178084,2.7733156584768692,2.7861973705689458,2.7985705451843295,2.8104552580989242,2.8218707925476747,2.8328356705120878,2.8433676827725942,2.853483917774521,2.8632007893545111,2.8725340633723668,2.881498883291544,2.890109794749788,2.8983807691597807,2.906325226378101,2.9139560564792633,2.9212856406701788,2.9283258713789633,2.9350881715506896]
["Ag-Irrigation",0,0.14376727065501621,0.29490178554147328,0.42614431631034938,0.54935638567941425,0.67371052005399013,0.75318556489006194,0.82954510941913406,0.9015350162900797,0.96825634467434074,1.0324644381571457,1.0941339931137191,1.1538436488660064,1.2121419344247999,1.2685470306887499,1.3225225013464499,1.3748860159661533,1.4253699200228975,1.4746780289738493,1.5215900908559432,1.5664424027513135,1.6093286874311452,1.6503382224162793,1.6895560604048154,1.7270632382807558,1.7629369753190445,1.7972508611680951,1.830075034158573,1.8614763504567384,1.8915185445519187,1.9202623815405861,1.9477658016439596,1.9740840573719491,1.999269843723521,2.0233734217921211,2.0464427361245545,2.0685235261626294,2.0896594320788635,2.1098920953005558,2.1292612540004705,2.1478048338172684,2.1655590340544948,2.1825584095934798,2.1988359487427491,2.2144231472345277,2.2293500785675682,2.24364546088482,2.2573764975933512,2.2705654676332427,2.283233770428259,2.2954019606069322,2.3070897813529436,2.3183161964389218,2.32909942099562,2.3394569510664081,2.3494055919950303,2.3589614856926793,2.3681401368286394,2.3769564379869919,2.3854246938301888,2.3935586443087185,2.4013714869545062,2.4088758982942311,2.4160840544172979,2.4230076507318374,2.4296579209407887,2.4360456552688561,2.4421812179699107,2.4480745641432415,2.4537352558859467,2.4591724778076696]
["Flat - ele",0,0.12924425971291548,0.25989294280232783,0.37274594830487751,0.47629457815629217,0.5777433824765954,0.64651114355319172,0.7123991898759805,0.77476103907719762,0.83240842836044049,0.88777808843967421,0.94132895204140798,0.99248648449148968,1.04253729878352,1.0909913263513407,1.1377579216845581,1.1832986608960196,1.2275212694481079,1.2704280031142126,1.3113624703472659,1.3504576250094495,1.387799323640881,1.423469241710978,1.4575450862517536,1.4901007972272031,1.5212067382569932,1.550929877277742,1.5793339576922794,1.6064796605262721,1.6324247580823807,1.6572242595545807,1.6809305490393238,1.703593516355761,1.7252606810641831,1.7459773100501041,1.7657865290209167,1.7847294282427308,1.8028451628267919,1.8201710478576931,1.8367426486394021,1.8525938663198451,1.8677570191403852,1.8822629195429343,1.8961409473546356,1.9094191192579388,1.9221241547425025,1.9342815387245762,1.9459589798753527,1.9571754251263147,1.9679490734319165,1.9782974052978295,1.9882372111434861,1.9977846185449426,2.0069551184022631,2.0157635900738806,2.0242243255187149,2.0323510524852257,2.0401569567850153,2.0476547036871282,2.0548564584677571,2.0617739061486993,2.0684182704565872,2.0748003320336577,2.0809304459296047,2.0868185584028995,2.0924742230588347,2.0979066163504836,2.1031245524677145,2.1081364976384287,2.1129505838652216,2.1175746221197533]
["1-Shift Industrial",0,0.13998636042274551,0.28354016765025775,0.40706314058895671,0.519805104946231,0.63022693604178681,0.70561394479867745,0.77790459738778561,0.84623759570497925,0.9094437640009988,0.97013576021983938,1.0288873188166163,1.0851412991962834,1.1400100383078906,1.1929812527736696,1.2440952860457191,1.2939307611912514,1.3422283497786018,1.3893395278111926,1.4342694639257398,1.4771959970948796,1.5182118507562083,1.5574052724388188,1.5948602594840353,1.6306567728973813,1.6648709399792359,1.6975752463452365,1.7288387179131797,1.7587270934008379,1.7873029878486355,1.8146260476523972,1.8407530975643025,1.8657382800946403,1.8896331877228947,1.9124869883039843,1.9343465440340797,1.9552565243202351,1.97525951287904,1.9943961093715268,2.0127050258646566,2.030223178393705,2.0469857738848223,2.0630263926828007,2.078377066915678,2.093068354915145,2.1071294118997703,2.1205880571167928,2.1335153889936751,2.1459323824399172,2.1578591843285371,2.1693151461848621,2.1803188555848476,2.1908881663138704,2.2010402273349277,2.2107915106132463,2.2201578378424442,2.2291544061156152,2.2377958125829776,2.2460960781361066,2.2540686701571695,2.2617265243700815,2.2690820658290312,2.2761472290784304,2.2829334775170045,2.2894518219974325,2.2957128386917254,2.3017266862513193,2.3075031222897335,2.3130515192145387,2.3183808794343115,2.3234998499652617]
["2-Shift Industrial",0,0.1387072134705834,0.28063932622021437,0.40279504222604012,0.51433605991822751,0.62358192987582906,0.69806409822445914,0.76947982200188614,0.83699312982944618,0.89943033339947553,0.95938583927675658,1.0174192816989216,1.0729737111599105,1.1271797028474686,1.1795247369386974,1.2300372905988552,1.2792819149943491,1.3270166974642621,1.3735556443687407,1.417940790724181,1.4603447852428708,1.5008594275215907,1.5395720804884945,1.5765658944061007,1.6119200190836003,1.6457098049422203,1.6780069935411839,1.7088798981376687,1.7383935748219985,1.7666099847389884,1.7935881478777798,1.8193842888855611,1.8440519753351745,1.8676422488526569,1.8902037494881929,1.9117828336926608,1.9324236862418815,1.9521684264317418,1.9710572088495146,1.9891283190098421,2.0064182641279755,2.0229618592878684,2.0387923092485756,2.0539412861190889,2.0684390031191189,2.0823142846314933,2.0955946327405939,2.1083507062293076,2.1206032021362469,2.1323720004331821,2.1436761962807807,2.1545341310109682,2.1649634218861848,2.1749809906838187,2.1846030911522023,2.1938453353827114,2.2027227191407643,2.2112496461968143,2.2194399516968137,2.2273069246100783,2.2348633292909588,2.2421214261893168,2.2490929917434017,2.2557893374874083,2.262221328404713,2.2683994005565769,2.274333578014903,2.2800334891265406,2.28550838213551,2.2907671401885015,2.2958182957479978]
["3-Shift Industrial",0,0.13455121552924626,0.27099139947947626,0.38859828392845219,0.49620318544478897,0.60159874149967518,0.67323571447111219,0.74189764226902666,0.80684363196213926,0.86688611173694774,0.92455026005101604,0.98034573058661956,1.0337066192945701,1.0858399921885633,1.1362381806676949,1.1848777195988294,1.232274349146387,1.2782543261764998,1.3229846753810228,1.3656509296686148,1.406406698107757,1.4453408188719989,1.4825378208547282,1.5180781420044702,1.5520383361321441,1.5844912688212902,1.6155063030367085,1.645149474993441,1.6734836608164338,1.7005687344914497,1.7264617175797456,1.7512169211425723,1.7748860802966331,1.797518481798128,1.8191610850308544,1.8398586367529408,1.8596537799370954,1.8785871570206707,1.8966975078643304,1.9140217627015839,1.9305951303458646,1.9464511819071408,1.9616219302561733,1.976137905461453,1.9900282264115192,2.0033206688237044,2.0160417298293676,2.0282605954577058,2.0399970911145484,2.0512702595487449,2.0620983917494913,2.0724990566238994,2.0824891295029775,2.0920848195222628,2.101301695921538,2.1101547133062994,2.1186582359119681,2.1268260609102088,2.1346714407951772,2.1422071048860127,2.1494452799804655,2.1563977101931764,2.1630756760107834,2.169490012594788,2.1756511273618657,2.1815690168701529,2.1872532830389044,2.1927131487278406,2.1979574727014612,2.2029947640026042,2.2078331957585773]
["Cold Storage",0,0.13482885150999058,0.27097788926994526,0.38819553255896105,0.4961031006620325,0.60310565690515816,0.67426465182486706,0.74248677101122862,0.80702419879544529,0.86657616886685274,0.92381607190213499,0.97910032563506233,1.0320228295486751,1.0837040386679295,1.1337345648024599,1.1818904710647582,1.2288199264806361,1.2743026263021706,1.3185459238493993,1.3607161508337304,1.4009942289044481,1.439468358703873,1.4762224510732174,1.5113363449827824,1.5448860139272407,1.5769437614187121,1.6075784061746115,1.6368554575635901,1.6648372818411752,1.6915832596768143,1.7171499354458626,1.7415911587335029,1.7649582184725503,1.787299970113511,1.8086629562030216,1.8290915207258238,1.8486279175456686,1.8673124132618961,1.8851833847808686,1.9022774118848527,1.9186293650653181,1.9342724888728751,1.9492384810221681,1.9635575674769215,1.9772585737279615,1.9903689924653574,2.0029150478348146,2.0149658166077056,2.0265408514486345,2.037658933132362,2.0483381010160699,2.0585956823086522,2.0684483201845354,2.0779120007876317,2.0870020791692441,2.0957333042020094,2.1041198425103036,2.1121753014559328,2.1199127512164067,2.127344745991619,2.1344833443733426,2.1413401289105853,2.1479262249025579,2.1542523184497413,2.1603286737923439,2.16616514996428,2.1717712167896916,2.1771559702479681,2.1823281472321927,2.1872961397249644,2.1920680084145925]
["Food Products",0,0.13292347842432511,0.26787557968796871,0.38446927975106698,0.49177792199265796,0.59739247035307685,0.66891831488365872,0.73748978809923593,0.80237925194151283,0.86232331666460804,0.91993757300336187,0.97562851219398794,1.0288488580431776,1.0808410706488347,1.1311747302211872,1.1796655352711383,1.2269270910349266,1.2727229391061254,1.317254374411952,1.3597226811986158,1.4002865753981462,1.4390347636665921,1.4760516418935206,1.5114175140060218,1.5452087992010748,1.577498228240539,1.6083550294072497,1.6378451046869655,1.6660311967091412,1.6929730469495432,1.7187275456694988,1.7433488740399639,1.7668886388735141,1.7893960003637253,1.8109177932091158,1.8314986414778214,1.8511810675493492,1.8700055954510877,1.8880108488896243,1.9052336442603199,1.9217090789029077,1.9374706148561185,1.9525501583503897,1.966978135264563,1.9807835627600716,1.9939941172944162,2.0066361992046797,2.0187792036329415,2.0304428328983932,2.0416460115223987,2.0524069169339878,2.0627430089631771,2.0726710581699672,2.0822071730549832,2.0913668261959071,2.100164879352111,2.1086156075782219,2.1167327223857435,2.1245293939903171,2.1320182726807158,2.1392115093442432,2.1461207751818452,2.1527572806449151,2.1591317936245229,2.1652546569225808,2.1711358050332885,2.1767847802620923,2.1822107482083068,2.1874225126365219,2.1924285297609232,2.1972369219657084]
["Wood Products",0,0.13207250056981187,0.26758612715065971,0.3848623039366284,0.49232420447627123,0.59740755965834358,0.66979652683324997,0.73915307825897913,0.80483117443592578,0.86565357287857381,0.92405673602481853,0.98056140372775469,1.0345254413582063,1.087284252795091,1.1382995105617282,1.1875467659033059,1.2354992231359412,1.2820501718014854,1.3272195612065236,1.3703265857956157,1.4115064861527422,1.4508487048323384,1.4884383546903579,1.5243564378060879,1.558680052866539,1.5914825916439395,1.6228339251613644,1.652800580108081,1.6814459060346627,1.70883023382821,1.7350110259400084,1.7600430188115488,1.7839783579199484,1.8068667258403437,1.8287554637007004,1.8496896863836287,1.8697123918101171,1.8888645646215465,1.9071852745588544,1.9247117698212139,1.9414795656710284,1.9575225285373594,1.9728729558560556,1.987561651871776,2.0016179996147794,2.0150700292537049,2.0279444830145992,2.0403106858393945,2.0521887021920939,2.0635978044423093,2.074556504135149,2.0850825820266481,2.0951931169334768,2.1049045134437336,2.1142325285337895,2.1231922971343615,2.1317983566873075,2.1400646707329765,2.1480046515663922,2.1556311819990266,2.1629566362614745,2.1699929000809424,2.176751389966129,2.183243071730788,2.1894784782860266,2.1954677267302096,2.2012205347641958,2.2067462364585442,2.2120537973982697,2.2171518292297225,2.2220486036331928]
["Pulp & Paper",0,0.13136401963969332,0.26499656437988695,0.38047588113691799,0.48654400023927236,0.59097461435533083,0.66161487020213794,0.72927821151881278,0.79331909054936434,0.85256697889095345,0.90947793447678538,0.96447332859360846,1.0170283294682825,1.0684484529151348,1.1182026183046634,1.1661665435802364,1.2128431599372509,1.2581660439268345,1.3021156616657845,1.3440333607497474,1.384073295252739,1.4223228230643581,1.458865062521322,1.4937791073108346,1.527140230022404,1.5590200749696714,1.5894868408687703,1.6186054539267138,1.6464377318621806,1.6730425393517454,1.6984759353669507,1.7227913128415631,1.7460395310837871,1.7682690413250688,1.7895260057752711,1.809854410533442,1.8292961726839714,1.8478912418896463,1.8656776967758473,1.882691836383859,1.8989682669559131,1.914539984300107,1.9294384519696777,1.9436936754782295,1.9573342727603538,1.9703875410756131,1.9828795205430305,1.9948783481939931,2.0064034924173746,2.017473653039199,2.0281067916635629,2.0383201608157706,2.0481303319349786,2.0575532222617561,2.0666041206641932,2.075297712444462,2.0836481031660723,2.0916688415404936,2.0993729414102673,2.106772902864281,2.1138807325194664,2.1207079630018275,2.1272656716584026,2.133564498530534,2.139614663617587,2.1454259834591514,2.1510078870626139,2.1563694312019499,2.1615193151125593,2.1664658946059889,2.1712171956274369]
["Chemicals",0,0.1279935886151595,0.25663097745553426,0.36756933194120689,0.46912345883650891,0.56844732635054218,0.63571936022955089,0.70015037320713536,0.761108554602133,0.81744046020663697,0.87153701412867424,0.92387500027343972,0.97382801570474664,1.0227220524685536,1.0700700187434626,1.115792650151413,1.1603133247492334,1.2035852389741135,1.2455525549427,1.2855922185966988,1.3238281252523683,1.3603447094277623,1.3952222820034237,1.4285372405022947,1.4603622682041613,1.4907665227086007,1.5198158145256795,1.5475727762409217,1.5740970227702424,1.5994453031914782,1.6236716446117745,1.6468274885042842,1.6689618199233096,1.6901212899841023,1.7103503319719227,1.729691271424598,1.7481844305136127,1.7658682270306585,1.7827792682695094,1.7989524400769805,1.8144209913315632,1.8292166140940036,1.8433695196605981,1.8569085107372452,1.869861049940277,1.8822533248187694,1.8941103095823331,1.9054992105174631,1.9164385063921434,1.926945946479244,1.937038579355145,1.9467327805614665,1.9560442791747803,1.9649881833274208,1.9735790047207937,1.9818306821709646,1.9897566042247257,1.9973696308828381,2.0046821144656954,2.0117059196552618,2.0184524427458066,2.0249326301346695,2.0311569960830531,2.0371356397756708,2.0428782617069139,2.0483941794201437,2.0536923426256282,2.058781347721665,2.0636694517424479,2.0683645857553028,2.0728743677290367]
["Oil & Petroleum",0,0.12837121184197003,0.25712427228867435,0.36818905958296189,0.47009666076717532,0.57002751404114471,0.63714774412668485,0.70147255090904048,0.76231545876893969,0.818513069874785,0.87248052899840045,0.92469315465510005,0.97458308992088105,1.0234120899546395,1.070700281146334,1.1163441418315871,1.1608103895163875,1.2039850986757947,1.245905035028875,1.2858901020786691,1.3240734508037315,1.3605394481712729,1.3953683391517904,1.4286364570064265,1.4604164224037708,1.4907773319805859,1.5197849369261738,1.5475018121373321,1.5739875164599979,1.5992987445045765,1.6234894704945508,1.6466110845821382,1.6687125220404087,1.6898403857183433,1.710039062123671,1.7293508314779422,1.7478159720690729,1.7654728592084705,1.7823580590827695,1.7985064177740917,1.8139511457075574,1.8287238977704396,1.8428548493338517,1.856372768395103,1.8693050840468457,1.8816779514677855,1.8935163136190398,1.9048873271155862,1.9158094417026059,1.9263003787759128,1.936377160135347,1.9460561356030581,1.9553530095514888,1.9642828663840994,1.9728601950101781,1.9810989123534481,1.9890123859326145,1.9966134555504864,2.0039144541268694,2.0109272277090255,2.0176631546921739,2.024133164281213,2.030347754223619,2.0363170078422974,2.0420506103960179,2.0475578647939821,2.0528477066900193,2.057928718980901,2.0628091457323006,2.0674969055549877,2.0719996044529676]
["Primary Metals",0,0.12693526394773216,0.25518898070507301,0.36608536622179477,0.46766375461779636,0.56661280586887119,0.63421688881053706,0.69897502859751903,0.76027612325937255,0.81695388730036667,0.87139530870075688,0.9240572171668513,0.97432537981763667,1.0235318117745886,1.0711878022683536,1.1172271087512808,1.1620493737005768,1.2056029406341922,1.2478397781446471,1.2881500999768658,1.3266467892946947,1.3634146210109785,1.3985342359810673,1.4320823515101639,1.4641319606974281,1.4947525212300337,1.5240101342057304,1.5519677135297998,1.5786851464015303,1.604219445376327,1.6286248924622651,1.6519531756841164,1.6742535185236287,1.6955728026219326,1.7159556841084014,1.7354447038999437,1.7540803922955412,1.7719013681727749,1.7889444330760296,1.8052446604700088,1.8208354804170235,1.8357487599222377,1.8500148791775581,1.863662803922153,1.8767201541255789,1.8892132691881831,1.9011672698427688,1.9126493567264358,1.9236781598036301,1.9342715735748279,1.9444467861107977,1.9542203069406601,1.9636079938390005,1.9726250785554935,1.9812861915287838,1.9896053856247307,1.997596158937522,2.0052714766906594,2.0126437922733484,2.0197250674464242,2.026526791750598,2.0330600011485171,2.0393352959308815,2.0453628579156709,2.0511524669683934,2.0567135168701536,2.0620550305592906,2.0671856747713129,2.0721137741008899,2.0768473245087056,2.0813940062951004]
["Transportation & Equipment",0,0.1316497143929137,0.26541261458980286,0.38085703802392362,0.48660493108503572,0.59018600399545296,0.66058605565576223,0.72803543796864967,0.79184136199941346,0.8508616874207835,0.90753871054178481,0.96236329545624633,1.0147586818747201,1.0659942231765012,1.1155599433408423,1.1633947046661095,1.2099707507489506,1.2551887738847429,1.2991009565054985,1.3409919632569762,1.3810056133220907,1.4192292838500284,1.455746109687136,1.4906351985032333,1.5239718345508912,1.5558276716802393,1.5862709161967716,1.615366500116526,1.643176245341843,1.669759019251517,1.6951708821714713,1.7194652271659761,1.7426929125648238,1.7649023876186876,1.7861398116530063,1.8064491670701415,1.8258723665300898,1.8444493546217224,1.8622182043192224,1.8792152085020934,1.895474966801741,1.9110304680231103,1.925913168376203,1.9401530657393671,1.9537787701640974,1.9668175708195779,1.979295499564371,1.9912808311797707,2.0027930121570066,2.0138507212889207,2.0244718999767639,2.0346737813405555,2.0444729181802366,2.0538852098329894,2.0629259279702987,2.0716097413766086,2.0799507397497812,2.0879624565619728,2.0956578910180208,2.1030495291469689,2.1101493640609523,2.1169689154143128,2.1235192480945169,2.1298109901752045,2.1358543501604967,2.1416591335485404,2.1472347587411669,2.1525902723254782,2.1577343637521533,2.1626753794342926,2.1674213362896757]
["Other Industrial",0,0.13164971423332464,0.26541261408115269,0.38085703715795921,0.48660492986455117,0.59018600245443242,0.66058605377418544,0.72803543575853025,0.79184135947688072,0.85086168459934297,0.90753870743409271,0.9623632920700288,1.0147586782265734,1.0659942192723417,1.1155599391917919,1.1633947002828173,1.209970746134795,1.2551887690519512,1.2991009514627603,1.3409919580117888,1.3810056078824549,1.4192292782236284,1.4557461038813522,1.4906351925251544,1.523971828407326,1.555827665377727,1.5862709097415932,1.6153664935147147,1.6431762385991928,1.6697590123735933,1.6951708751636194,1.71946522003333,1.7426929053123148,1.7649023802510519,1.7861398041747931,1.8064491594857197,1.8258723588436565,1.8444493468373082,1.8622181964406987,1.8792152005331793,1.8954749587460071,1.9110304598839878,1.9259131601569861,1.9401530574432211,1.9537787617940614,1.9668175623785715,1.9792954910551983,1.9912808226051231,2.0027930035194679,2.0138507125909744,2.0244718912207946,2.034673772528854,2.0444729093150027,2.0538852009163366,2.062925919004257,2.071609732363128,2.0799507306907343,2.0879624474591578,2.0956578818731662,2.1030495199617341,2.1101493548369317,2.1169689061530366,2.1235192387974564,2.1298109808437728,2.1358543407960502,2.1416591241523828,2.1472347493145496,2.1525902628696043,2.1577343542681775,2.1626753699233241,2.16742132675278]
["Street Lighting",0,0.12537611516896607,0.26002789228706047,0.37880275394011748,0.48895598273216684,0.59632135876131498,0.67456119570223683,0.7494966049586379,0.82089828950832744,0.88744937990758577,0.95132596507545308,1.0130373598445319,1.0717532223819426,1.1291509725698494,1.1847988441739277,1.2385763381383719,1.2907478550156204,1.3414847605971947,1.3902159600194575,1.4368246355599918,1.4813653969817622,1.523933365023469,1.5646191007005248,1.6035088336050654,1.6406846782826572,1.6762248393323134,1.7102038058402516,1.7426925357237266,1.7737586305291144,1.8034665011981132,1.8318775252873469,1.859050196099707,1.885040264160355,1.9099008714463415,1.9336826787561925,1.956433986584498,1.9782008498464234,1.9990271867780953,2.0189548823209122,2.0380238862809521,2.0562723065387027,2.0737364975693175,2.0904511445194043,2.1064493430729589,2.1217626753264232,2.1364212818809087,2.1504539303483634,2.1639326052762806,2.176879176141632,2.189314649069642,2.2012592009167369,2.2127322120079809,2.223752297582128,2.234337337995294,2.2445045077322701,2.2542703032725413,2.2636505698562233,2.2726605271933487,2.2813147941582184,2.2896274125088762,2.2976118696702033,2.3052811206175927,2.3126476088967105,2.3197232868134501,2.3265196348268398,2.3330476801763633,2.3393180147739274,2.3453408123894919,2.35112584515826,2.3566824994362046,2.3620197910296583]
["College Compressed Air",0,0.14301047080957913,0.29353862273022507,0.42399258795149702,0.54313820296019799,0.65876149213719004,0.74015203090521053,0.81820962424726484,0.89203397230818315,0.96054733959065242,1.0263027280023305,1.0899844646355998,1.1509233267206838,1.2103308781309052,1.2676442663966727,1.3230018874220775,1.3769235218922997,1.4291586126164972,1.4800694665913847,1.5286545160116873,1.5750887655424508,1.6194709359483275,1.6618950248913393,1.7024505430275962,1.7412227377887894,1.7782928055157559,1.8137380925740885,1.8476322860465932,1.8800455945642272,1.9110449198058874,1.9406940191679427,1.969053660076594,1.9961817663899379,2.0221335573118928,2.0469616792168117,2.070716330761627,2.0934453816416263,2.1151944853263718,2.1360071860938263,2.1559250206633185,2.1749876147115459,2.1932327745402951,2.2106965741499209,2.2274134379588109,2.2434162193960092,2.2587362755818723,2.2734035383000024,2.2874917745099057,2.3010238427165173,2.3140216990286984,2.3265064327835545,2.3384983007643982,2.3500167600678692,2.3610804996735468,2.3717074707672725,2.3819149158673834,2.3917193968011179,2.4011368215765807,2.410182470193873,2.4188710194372618,2.4272165666886201,2.4352326528007691,2.4429322840678411,2.450327953328308,2.4574316602349136,2.464254930724401,2.4708088357186258,2.4771040090873941,2.4831506649021753,2.4889586140086788,2.4945372799451917]
["College Cooking",0,0.14182523215316906,0.28907271086022324,0.41631476906879572,0.53254660358914097,0.64586972895556949,0.72443779215135895,0.79977001005675363,0.87100244838140406,0.93700514596268469,1.0003743801010374,1.0617143050199009,1.1204136460015226,1.177671675286398,1.2329435542710128,1.2862980718656971,1.3382795689295215,1.3886599350897169,1.4377532117798366,1.4845896027162107,1.5293443007301879,1.5721132961730435,1.6129879641263112,1.6520552962427468,1.6893981204398452,1.7250953091065973,1.7592219764471257,1.7918496655498966,1.8230465257382924,1.852877480727291,1.8814043880817319,1.9086861904440704,1.9347790589735052,1.9597365294138369,1.9836096311842939,2.0064470098657368,2.0282950434340909,2.0491979525734436,2.0691979053829437,2.0883351167743727,2.1066479428409597,2.1241729704626495,2.140945102398522,2.1569976381033844,2.1723623504926217,2.1870695588672291,2.2011481981994057,2.2146710483887979,2.2276600505878115,2.2401362797675377,2.2521199789124098,2.2636305918649331,2.2746867948737921,2.2853065268965178,2.2955070187058784,2.3053048208472293,2.3147158304921729,2.3237553172321057,2.3324379478534993,2.3407778101351182,2.3487884357057824,2.3564828219997644,2.3638734533454393,2.3709723212214113,2.3777909437129798,2.3843403842005109,2.3906312693100404,2.3966738061552326,2.4024777988986692,2.4080526646593428,2.4134074487921571]
["College Cooling",0,0.16756029217919632,0.35095867572545836,0.51011079630669576,0.65767803993323559,0.80522936596089723,0.90781293762303961,1.0062688256873094,1.0995154080124769,1.1861420446308899,1.2694384017073022,1.3497656081289808,1.4269872242764656,1.5019087620461942,1.5741971873539164,1.6434945209733829,1.7109316187211525,1.7759167254623265,1.8393371263074154,1.8998226238348364,1.9576835150775103,2.0130375149201822,2.0659968458251674,2.1166685055615249,2.1651545212903538,2.2115521907309539,2.2559543110926774,2.2984493964196906,2.339121883960336,2.3780523301393113,2.4153175966792544,2.4509910273885014,2.4851426161036425,2.5178391662489181,2.5491444424494314,2.5791193146114741,2.6078218948609111,2.6353076677094731,2.6616296137988833,2.6868383275539216,2.7109821290577645,2.7341071704461615,2.7562575371011477,2.7774753439100239,2.7978008268411765,2.8172724300749619,2.8359268889152225,2.8538449168090469,2.8710555861912628,2.8875868217903551,2.9034654459370199,2.9187172220840423,2.933366896608125,2.9474382389614839,2.9609540802383636,2.9739363502190375,2.986406112951411,2.9983836009279488,3.0098882479133851,3.0209387204764782,3.0315529482769712,3.0417481531568993,3.0515408770834456,3.0609470089886872,3.069981810549768,3.078659940951344,3.0869954806704638,3.0950019543224863,3.1026923526050929,3.1100791533760153,3.1171743418986564]
["College Exterior Lights",0,0.12838238623199538,0.26723361886482033,0.38986057706672583,0.50382348689150991,0.61504278129238688,0.6960232442156965,0.77358380263272075,0.8474313179010714,0.91630604614307831,0.98244530288681076,1.046295291312654,1.1071248215268057,1.1665596646267629,1.2241750970284642,1.2797917720830243,1.3337194489549549,1.3861012965444941,1.4364573730601893,1.4846133914358515,1.5306440281962537,1.5746464665568067,1.6167132605595709,1.6569325654103537,1.6953883558539731,1.7321606332333068,1.7673256218417732,1.8009559551449443,1.833120852415008,1.8638862862916199,1.8933151417542415,1.9214673669642237,1.9484001164095934,1.9741678867616257,1.9988226458297731,2.0224139549802751,2.0449890853637362,2.0665931282780416,2.0872690999751535,2.1070580412034707,2.1259991117615629,2.1441296803240815,2.1614854097864904,2.1781003383619026,2.1940069566506875,2.2092362808915929,2.2238179225918944,2.2378239178856236,2.251276991839835,2.2641989723932987,2.2766108257728628,2.2885326905116625,2.2999839101243791,2.3109830644925631,2.3215480000109419,2.3316958585436272,2.3414431052372064,2.350805555235842,2.3597983993417255,2.368436228662524,2.3767330582858062,2.3847023500188596,2.3923570342308018,2.3997095308324181,2.4067717694277659,2.4135552086702474,2.4200708548545538,2.4263292797746443,2.4323406378767389,2.4381146827351525,2.443660782877707]
["College Heating",0,0.14111781021251768,0.29211227480958568,0.42347546146225107,0.54336027118071994,0.65953423830305524,0.7434925283413002,0.82393889505358098,0.90024062522483084,0.97134652653929932,1.0395767284053656,1.1056157327261782,1.1686952092055318,1.2301834212049274,1.2895485614273883,1.3469768873999359,1.4027780168325854,1.4570361685464737,1.5096166326568126,1.5598615279711789,1.6078886087155579,1.6537993062912426,1.6976902190756253,1.7396533529925147,1.7797763495842229,1.8181427022602656,1.8548319613598676,1.8899199286300088,1.9234788416872806,1.9555775490002847,1.9862816758995643,2.0156537820939993,2.0437535111461447,2.070637732334037,2.0963606753034454,2.1209740578923473,2.1445272074884483,2.167067176260812,2.1886388505879908,2.2092850549874723,2.2290466508346252,2.2479626301436579,2.2660702046683072,2.2834048905659992,2.3000005888560358,2.315889661889913,2.3311030060401197,2.3457157657656089,2.3597516506234411,2.3732334341772128,2.3861829909477175,2.3986213319048821,2.4105686385585798,2.4220442957036168,2.4330669228720319,2.4436544045437394,2.4538239191645328,2.4635919670185271,2.4729743970002716,2.4819864323299652,2.4906426952535021,2.4989572307674166,2.5069435294072351,2.5146145491361929,2.5219827363698482,2.5290600461706885,2.5358579616455135,2.5423875125770521,2.5486592933200534,2.5546834799908833,2.5604698469785219]
["College Hot Water",0,0.14422959990661857,0.29776362676793666,0.43080203841671699,0.55223442062190931,0.67033574065280876,0.75370550937215919,0.83363649050114763,0.90926539521217364,0.97955490956334945,1.0470228988318731,1.1123063750266171,1.1748067059521563,1.2357422718873179,1.2945126677781043,1.3512597687645014,1.4064719533722974,1.4600300903583547,1.5121631309224595,1.5619202594241375,1.609480182256722,1.6549434603497666,1.6984058583888764,1.73995858382998,1.7796885134813765,1.8176784083255715,1.8540071172154231,1.888749770043741,1.9219779609521555,1.9537599221136246,1.984160688593309,2.0132422547645907,2.0410637227306396,2.0676814431770731,2.0931491490577918,2.1175180824939561,2.1408371152451804,2.1631528630923547,2.1845097944528842,2.2049503335316452,2.2245149582943728,2.2432422935346077,2.2611691992905678,2.2783308548544166,2.2947608386032514,2.3104912038687457,2.3255525510506652,2.3400193142644961,2.3539149661844179,2.3672620528426851,2.38008223021111,2.3923962993384031,2.4042242401003793,2.4155852436177896,2.426497743394382,2.436979445225707,2.4470473559272006,2.4567178109281551,2.466006500776349,2.4749284965963407,2.4834982745427361,2.4917297392880973,2.4996362465836124,2.507230624929127,2.5145251963876945,2.5215317965784227,2.5282617938800542,2.5347261078764345,2.5409352270738026,2.546899225918648,2.5526277811437419]
["College Interior Lights",0,0.14340960611668657,0.29354262953662186,0.42343274038174117,0.54207207387670442,0.65758434461824566,0.73841299707368135,0.8159207565792751,0.88924733031520875,0.95724229299113806,1.0225180444708613,1.0857113539044663,1.1461835689160389,1.2051327143879129,1.2620147482941233,1.3169320238044397,1.3704345755155434,1.4222780580226273,1.4727957126288698,1.5210009940231026,1.5670690579382425,1.6110981737868266,1.6531819005742396,1.6934093228042264,1.731865274057947,1.7686305489154472,1.8037821038509723,1.8373932476982517,1.86953382224861,1.9002703735133815,1.9296663141525299,1.957782077543488,1.9846752639379253,2.0104007791293634,2.0350109660311562,2.0585557295422974,2.0810826550577186,2.1026371209600896,2.1232624054116416,2.1429997877470459,2.1618886447519001,2.179966542095825,2.1972693211744878,2.213831181601027,2.2296847595742633,2.2448612023387473,2.2593902389400489,2.2733457058512982,2.2867502461560236,2.2996256090459717,2.3119926851097001,2.3238715402280645,2.3352814481315938,2.3462409216725884,2.3567677428626701,2.3668789917245294,2.3765910740046747,2.3859197477921543,2.3948801490864393,2.4034868163559477,2.4117537141270629,2.4196942556419176,2.4273213246217034,2.4346472961708203,2.4416840568557854,2.4484430239914734,2.4549351641659891,2.4611710110342204,2.4671606824089505,2.4729138966772526,2.478439988568812]
["College Other",0,0.13989610273657002,0.28630823971085567,0.41324093479522062,0.5293372216082064,0.64202915898196089,0.7212126299059064,0.79714509087169505,0.86897074661238982,0.93560773446962398,0.99955225759367849,1.0614936114511211,1.1207103539133523,1.1784759162338108,1.2342589045419108,1.2881377598975761,1.3406175452224822,1.391467453100218,1.4409720762978822,1.4882221726607197,1.5333755498462573,1.5765287073683598,1.6177735146707743,1.6571974432223027,1.6948837864748794,1.7309118683435871,1.7653572408307179,1.7982918713812002,1.8297843205239077,1.8598999103224432,1.8887008841298325,1.9162465581140815,1.9425934649956194,1.967795490413216,1.9919040023119006,2.0149679737246773,2.0370340992993148,2.0581469059021509,2.0783488576126041,2.0976804554048578,2.1161803317969574,2.1338853407322129,2.1508306429433479,2.1670497870361851,2.1825747865167688,2.197436192973671,2.2116631656157413,2.2253284932903838,2.2384543483231787,2.2510620277322602,2.2631719877832461,2.2748038771800245,2.285976568945252,2.2967081910422915,2.3070161557882707,2.3169171881059918,2.3264273526605219,2.3355620799245025,2.3443361912144653,2.3527639227387791,2.360858948696241,2.3686344034627975,2.376102902902387,2.3832765648364851,2.3901670287055641,2.3967854744543673,2.4031426406716401,2.4092488420137523,2.4151139859404762,2.4207475887900816,2.4261587912198239]
["College Motors",0,0.14261212274464458,0.29446182965520867,0.42642980416152726,0.54701460313200456,0.66365328612254726,0.74665698381751822,0.82626117620647643,0.90157720894866811,0.97155735961589851,1.0387170337546892,1.1037606068977237,1.165991053134116,1.2266514764110328,1.2851626786390746,1.3416983627518091,1.396746739694539,1.4500691868872171,1.502010265068326,1.5515926215241527,1.5989858156911108,1.6442900200906547,1.6876006306975451,1.7290085049089581,1.7686001871389889,1.8064581227072936,1.8426608606533013,1.8772832460722437,1.9103966025360739,1.9420689051310736,1.9723649446144436,2.0013464831643688,2.0290724021718067,2.0555988424975085,2.0809793375944459,2.1052649398737997,2.1285043406718938,2.1507439841558664,2.1720281754873776,2.1923991835462076,2.2118973384991327,2.2305611244839296,2.2484272676636858,2.26553081989276,2.2819052382226528,2.2975824604637185,2.3125929770069984,2.3270109162474935,2.3408596716413035,2.3541617131299306,2.3669386235983074,2.3792111338935498,2.3909991564612589,2.4023218176539491,2.4131974887640153,2.4236438158316034,2.4336777482757381,2.4433155663951638,2.4525729077835283,2.4614647927017534,2.470005648448776,2.4782093327701884,2.4860891563427678,2.4936579043713714,2.5009278573332425,2.5079108109033812,2.5146180950933132,2.5210605926343104,2.5272487566348838,2.5331926275412071,2.5389018494279845]
["College Office Eqpmt",0,0.13961821542730049,0.2846221947248247,0.41002854680613554,0.52455017544587179,0.6358866472053406,0.71329476915015921,0.78750709789740991,0.85769180984642635,0.92272277596093399,0.98515475911531358,1.045602139432612,1.1034246368748599,1.15985342120866,1.2143305619639944,1.2669481451986575,1.3182120996101612,1.3679091106578338,1.4163119260101611,1.4624972143831618,1.506627824929734,1.5487985998218288,1.5890998163365695,1.6276174163983257,1.664433224083089,1.6996251517403518,1.7332673953509115,1.7654306197043745,1.796182133947462,1.8255860580234295,1.8537034804938837,1.8805926082069027,1.9063089082495734,1.9309052425987174,1.9544319958606347,1.9769371964690603,1.9984666316901147,2.019063956763782,2.0387707984933008,2.0576268535767128,2.0756699819586633,2.0929362954653032,2.1094602419707518,2.125274685330008,2.1404109813003944,2.1548990496615081,2.168767442732273,2.182088346651939,2.1948833749101908,2.2071732877506975,2.2189780258551135,2.2303167426973145,2.2412078356203775,2.2516689756867145,2.2617171363497985,2.2713686209940054,2.2806390893872504,2.2895435830893396,2.2980965498572665,2.3063118670870493,2.3142028643301416,2.3217823449209511,2.3290626067505635,2.3360554622203669,2.3427722574079608,2.3492238904764395,2.3554208293569308,2.3613731287330624,2.3670904463549354,2.3725820587090545,2.3778568760696523]
["College Process",0,0.14733987465196557,0.30513530643223774,0.44218856714707666,0.56743625520496987,0.68916042074185258,0.77598315210649471,0.85923621187251009,0.93806249530697428,1.0112863457729135,1.0816025165020164,1.149638403195167,1.2147568543274225,1.278146649807697,1.3392697266448559,1.3982632430077497,1.4557086911611101,1.5113389486436091,1.565533862280917,1.6172638179955801,1.6667155281786612,1.7139929425732041,1.7591950694705114,1.802416221147459,1.8437462465761967,1.8832707520924512,1.9210713106704316,1.9572256604162903,1.9918078928581142,2.0248886315783761,2.0565352017045564,2.0868117907451413,2.1157796012313228,2.1434969955993712,2.1700196337247242,2.1954006034962705,2.2196905447980235,2.2429377672452708,2.2651883620033471,2.2864863079992754,2.3068735728196379,2.3263902085721018,2.3450744429729755,2.3629627659089816,2.3800900117079968,2.3964894373408852,2.4121927967645576,2.4272762271974386,2.4417642018712269,2.4556802278762104,2.4690468843020903,2.4818858588731016,2.4942179831368723,2.5060632662641127,2.517440927513984,2.5283694274178075,2.5388664977317292,2.5489491702069205,2.5586338042240095,2.5679361133365721,2.5768711907667545,2.5854535338943907,2.5936970677793547,2.6016151677553077,2.6092206811314984,2.6165259480378391,2.6235428214470606,2.6302826864064515,2.636756478510371,2.6429747016435181,2.6489474450237385]
["College Refrigeration",0,0.13195581226720171,0.26456836218356883,0.37886166829396717,0.4835541327281937,0.58609767794104695,0.65519744575429661,0.72140770409934274,0.78403171574374486,0.84186839843123284,0.89741402995521069,0.95115747639363468,1.002503395816297,1.0527435558158666,1.1013712838892598,1.1483118594549397,1.1940474633286045,1.2384581317018553,1.2815948714164327,1.3227392976062968,1.3620311234909148,1.3995570280673388,1.4353994589295025,1.4696368479644828,1.5023438155989342,1.5335913642251795,1.5634470614008342,1.5919752133823073,1.6192370295209051,1.6452907780204862,1.6701919335275439,1.6939933169981451,1.7167452282612152,1.7384955716741683,1.7592899752447266,1.7791719035718887,1.7981827649393289,1.8163620128759406,1.8337472424807424,1.8503742817928663,1.8662772784717776,1.8814887820382091,1.896039821912451,1.9099599814735766,1.9232774683508738,1.9360191811471374,1.9482107727825126,1.959921071154787,1.9711690765070824,1.9819730390008825,1.9923504883273639,2.0023182621497462,2.0118925334228051,2.0210888366338886,2.029922093007996,2.0384066347178296,2.0465562281380905,2.054384096181757,2.0619029397545798,2.0691249583626132,2.0760618699062046,2.0827249296925761,2.0891249486978314,2.0952723111080278,2.1011769911677689,2.1068485693636587,2.1122962479688741,2.1175288659740761,2.1225549134288855,2.1273825452171953,2.1320195942886677]
["College Ventilation",0,0.14324034615117084,0.29141109069660104,0.41925656315015319,0.53620019166370336,0.65080138955747557,0.72962663752785062,0.80520427268416306,0.87667806419794569,0.94287576511449822,1.006446948612862,1.0679490727852405,1.1268316347771832,1.1842538333541699,1.2397013109052448,1.2931785765302453,1.3452763132853667,1.3957665675739626,1.4449605342794773,1.49188547328472,1.5367245305754791,1.5795739069390531,1.620525176724779,1.6596655203047577,1.6970779443515902,1.7328414905958951,1.7670314336892035,1.7997194687627773,1.830973889239871,1.8608597554278059,1.8894390543868846,1.9167708515454787,1.94291143450454,1.9679144494501708,1.9918310305696836,2.0147099228447027,2.0365975985742137,2.0575383679610013,2.077574484076556,2.0967462425021997,2.1150920759278442,2.1326486439743726,2.1494509184910808,2.1655322645658925,2.1809245174730991,2.1956580557711445,2.2097618707514397,2.2233089027179127,2.2363211320584879,2.2488196714308595,2.2608248000182871,2.2723559964330673,2.2834319703210513,2.2940706927184999,2.304289425210527,2.3141047479384365,2.323532586501408,2.3325882377961649,2.3412863948365614,2.3496411705933538,2.3576661208928376,2.3653742664115041,2.3727781138024047,2.3798896759874979,2.3867204916489069,2.3932816439507123,2.3995837785216518,2.4056371207279139,2.4114514922640411,2.417036327088868,2.4224006867323475]
["Grocery Compressed Air",0,0.13947228280182386,0.2810789008448909,0.40280150923068164,0.5138974881912709,0.62273470870772307,0.6964331012320657,0.76709555880412317,0.83386926065364897,0.89557514059040289,0.95482410828593989,1.0121830693180458,1.0670747537792415,1.1206655099780847,1.1724375418391828,1.2224031663215618,1.2711212759920767,1.3183709907150569,1.3644363665458084,1.4083619341018836,1.4503202131192896,1.4904027091143293,1.5286964874358702,1.5652843983133085,1.6002452900179318,1.6336542107885286,1.6655826001353802,1.6960984701022068,1.7252665770330382,1.7531485843602808,1.7798032169012969,1.8052864071235344,1.8296514338125196,1.8529490535527855,1.8752276254089484,1.8965332291725929,1.9169097775203054,1.9363991224090358,1.955041156016897,1.9728739065204672,1.9899336289835881,2.0062548916174934,2.0218706576577952,2.0368123630903696,2.0511099904454442,2.0647921388671957,2.0778860906548133,2.0904631262783058,2.1025436522830052,2.1141472696153452,2.1252928054258722,2.1359983436167544,2.1462812541833496,2.1561582213974457,2.1656452708778948,2.1747577955925705,2.1835105808338309,2.1919178282080125,2.1999931786778819,2.2077497346954305,2.2152000814609178,2.2223563073426646,2.2292300234907265,2.2358323826762629,2.2421740973871809,2.248265457209405,2.2541163455219819,2.2597362555331024,2.2651343056830591,2.2703192544391415,2.2752995145064565]
["Grocery Cooking",0,0.13729635165002094,0.27498080996161772,0.39318538124106367,0.5010177149585453,0.60666890138162244,0.67759515831774852,0.7455946965954342,0.80983076578938296,0.86912626964737749,0.92605779188390314,0.98117740079412163,1.0339117641023392,1.0854432485390695,1.1352439116504565,1.1833196118051577,1.2302034156230515,1.2756988413036057,1.3200503177676417,1.3623325116999101,1.4027128983667925,1.4412803613704575,1.4781194498982264,1.5133105994589733,1.5469303409114601,1.5790514984278869,1.6097433769995773,1.6390719400574532,1.6670999777476658,1.6938872663723237,1.7194907194765876,1.7439645310363756,1.7673603111754599,1.7897272148167189,1.8111120636496871,1.8315594617752073,1.8511119053678791,1.8698098866780319,1.8876919926770783,1.904794998633228,1.9211539568886649,1.9368022810942724,1.9517718261438652,1.9660929640365363,1.9797946558831503,1.9929045202611355,2.0054488981105343,2.0174980555876245,2.0290715427426433,2.0401881378391944,2.0508658778224342,2.0611220875844554,2.0709734080743414,2.0804358232985143,2.0895246862551691,2.098254743844886,2.1066401607978364,2.1146945426563999,2.122430957850487,2.1298619589013819,2.1369996027885154,2.1438554705122055,2.1504406858841101,2.1567659335758833,2.1628414764553114,2.1686771722380689,2.1742824894820965,2.1796665229505696,2.1848380083683714,2.1898053365960166,2.1945765672440292]
["Grocery Cooling",0,0.16708881417501403,0.34925676094663805,0.50733493063908397,0.65425982297738017,0.80185963053910425,0.90337187038449374,1.0007966794602852,1.0930648471308964,1.178763176870077,1.261202429197791,1.340617238182475,1.4170242048972979,1.4911732189096791,1.5627432136586246,1.6312942245624642,1.6979714052908661,1.7622399485580631,1.8249265911652195,1.8846894293511103,1.941857682749575,1.9965477998356238,2.0488707912046298,2.0989324948878276,2.1468338281343966,2.1926710263796139,2.2365358700789111,2.2785159000502975,2.3186946219323383,2.3571517003316047,2.3939631432021033,2.4292014769695838,2.4629359128856469,2.4952325050701911,2.5261543006758367,2.5557614825844466,2.5841115050236669,2.611259222470466,2.6372570121888494,2.6621548907302639,2.6860006247075408,2.7088398361365811,2.7307161026242364,2.7516710526659716,2.771744456302855,2.7909743113741463,2.8093969255892111,2.8270922614984082,2.8440890302134183,2.8604148094037076,2.8760960880419648,2.8911583093831008,2.9056259122465491,2.9195223706688411,2.9328702319908007,2.945691153441151,2.9580059372758933,2.9698345645304722,2.981196227439491,2.992109360576575,3.0025916707649185,3.0126601658070316,3.022331182080312,3.0316204110432174,3.0405429246950333,3.049113200030559,3.0573451425293832,3.0652521087178606,3.0728469278404016,3.0801419226752311,3.0871489295283956]
["Grocery Exterior Lights",0,0.12980625881523358,0.26979932797863249,0.393202812853026,0.50776943434519284,0.61961986548481451,0.70063398396682952,0.77822840493610357,0.85206360354115751,0.92088518081478299,0.98698297891616726,1.0507932496768548,1.111622379887053,1.1710461507785292,1.2286333754991308,1.2842090619845234,1.3381148486042966,1.3904575850707788,1.4408310955747312,1.4889940681131266,1.5350316952134717,1.5790411443116461,1.6211149549791763,1.6613412691746072,1.6998040495381779,1.7365832863751278,1.7717551939369955,1.8053923965763523,1.837564105318432,1.8683362853629693,1.8977718150011169,1.9259306364054938,1.9528698987261259,1.9786440939011765,2.0033051855688599,2.0269027314457002,2.0494839995162644,2.0710940783605962,2.0917759819277508,2.1115707490469839,2.1305175379522874,2.1486537160809513,2.1660149453926905,2.1826352634425188,2.1985471604279323,2.2137816524190645,2.2283683509692311,2.2423792034811574,2.2558369429028522,2.2687634047429199,2.2811795624992044,2.2931055616887965,2.3045607525346252,2.3155637213616629,2.3261323207536879,2.3362836985195372,2.3460343255158382,2.3554000223713767,2.3643959851564484,2.3730368100388533,2.3813365169665306,2.3893085724152652,2.3969659112383699,2.4043209576538005,2.4113856454027491,2.4181714371124303,2.42468934289447,2.4309499382090789,2.4369633810239946,2.4427394282960297,2.4482874518019706]
["Grocery Heating",0,0.13744746252843859,0.28962123669541934,0.42284821985548021,0.54437944337670607,0.66192560170247272,0.75333093834533504,0.840716312891016,0.9241977235901484,1.0026622088832924,1.0778234507540416,1.1507211106566979,1.2198044675581918,1.2870400870006,1.3521878138971106,1.4154251291679063,1.4766709643823959,1.5366296937465445,1.5939176345608146,1.6488938058726463,1.7014580413913991,1.7517197909679652,1.799783337048773,1.8457480493766285,1.88970862658528,1.9317553253893405,1.971974178032345,2.0104471986190968,2.0472525789238833,2.0824648742335636,2.1161551797537661,2.1483912980774345,2.179237898187588,2.2087566664403324,2.2370064499497944,2.2640433927736505,2.2899210652762152,2.3146905870255652,2.3384007435618459,2.3610980973556313,2.382827093257994,2.4036301587276494,2.4235477991051764,2.4426186881898109,2.4608797543605898,2.4783662624706841,2.4951118917315247,2.5111964458193556,2.5266460223132858,2.5414856885258787,2.5557395221754731,2.5694306504528668,2.582581287545743,2.5952127706817301,2.6073455947485704,2.6189994455475722,2.6301932317342991,2.6409451154983246,2.6512725420318231,2.6611922678348185,2.6707203879030113,2.6798723618422993,2.6886630389523636,2.6971066823200172,2.7052169919614095,2.7130071270506346,2.7204897272708113,2.7276769333222721,2.7345804066211499,2.7412113482203018,2.7475805169832945]
["Grocery Hot Water",0,0.13800007348759646,0.27939757235760337,0.40118913907962467,0.51218863853466523,0.62043242010928412,0.69454004030804373,0.76556869281433615,0.83269633938013399,0.89483275562390296,0.95448289966794009,1.0122274274678484,1.0674623643394596,1.121423006677857,1.1735355129580298,1.2238684921591039,1.2728952315445095,1.320500121458497,1.3668488564912515,1.4110580386025706,1.4532909143938524,1.4936392106514462,1.5321902135437258,1.5690269931793139,1.6042286163290587,1.6378703479587191,1.6700238421828941,1.7007573232163979,1.7301357568669322,1.7582210130824192,1.785072020037604,1.8107449102174578,1.8352931589293604,1.8587677156519653,1.8812171286059487,1.9026876629104368,1.9232234126687209,1.9428664073078306,1.9616567124785904,1.9796325258058445,1.9968302677625673,2.0132846679265142,2.0290288468638473,2.0440943938707661,2.0585114407915222,2.0723087321192515,2.0855136915748012,2.0981973525637065,2.1103802946335422,2.1220822849032914,2.1333223101359766,2.1441186075451455,2.1544886943851882,2.1644493963735107,2.1740168749906688,2.1832066537027592,2.1920336431486245,2.2005121653327238,2.2086559768629317,2.2164782912709686,2.223991800451679,2.2312086952559338,2.238140685270587,2.2447990178175594,2.2511944962028947,2.2573374972453837,2.2632379881132052,2.2689055424958982,2.274349356137904,2.2795782617588882,2.2846007433850373]
["Grocery Interior Lights",0,0.13630305858358982,0.27399167957979781,0.39248261192890693,0.50080288057078681,0.60692810805306585,0.67865431534576437,0.74740508536893502,0.81240203308802994,0.87245245906117852,0.93011864104740105,0.98592972006084356,1.0393015158535372,1.0914565711329194,1.1418841544357086,1.1905552837961755,1.237995667384584,1.2840302751205468,1.3288357388420138,1.3715660753441059,1.4123784927342855,1.451362414022515,1.4886029124102851,1.5241809322749353,1.5581734984580382,1.5906539144993146,1.6216919504213396,1.6513540206361743,1.6797033525129039,1.7068001461147595,1.7327017255859378,1.7574626826413209,1.781135012586921,1.803768243274958,1.8254095573749354,1.8461039083208162,1.8658941302743657,1.8848210424258252,1.9029235479352675,1.9202387278011719,1.9368019299269179,1.9526468536409411,1.9678056299121991,1.9823088974892937,1.9961858751790507,2.0094644304685154,2.0221711446831594,2.0343762298955728,2.0460994891525255,2.0573599437264884,2.0681758639781096,2.078564799000318,2.088543605092152,2.0981284731085137,2.1073349547302231,2.1161779876969979,2.1246719200442987,2.1328305333833639,2.1406670652622086,2.1481942306438673,2.1554242425367294,2.1623688318104417,2.1690392662295297,2.1754463687356176,2.181600535007914,2.187511750330454,2.1931896057934641,2.1986433138551393,2.2038817232890797,2.20891333354164,2.2137463085224875]
["Grocery Other",0,0.13647760142258089,0.27409635180621628,0.39244691800786052,0.50056088322174686,0.6064721859772636,0.67790403337452088,0.74637916833325735,0.81109812682944815,0.87087671768956232,0.92827709767726374,0.98383603543583509,1.0369762812583707,1.0889069667963287,1.1391077487524062,1.1875648826397245,1.2348024859202351,1.2806418139109021,1.3252819000186955,1.3678487558002412,1.4085035838846411,1.4473356091592728,1.484429712418768,1.5198666512521573,1.5537232692300824,1.5860726940341832,1.6169845251344952,1.6465250115865311,1.6747572204874976,1.701741196600778,1.7275341136291857,1.7521904175905616,1.7757619627238634,1.7982981403299574,1.8198460009287423,1.84045037009295,1.8601539582989066,1.8789974651156114,1.8970196780356521,1.9142575662346515,1.9307463695300782,1.9465196827952767,1.9616095360704762,1.9760464705992049,1.9898596110059892,2.00307673381936,2.0157243325330141,2.0278726359751951,2.0395413550628723,2.0507494225757692,2.0615150238752573,2.071855626410545,2.0817880080600384,2.0913282843538563,2.1004919346216675,2.1092938271082784,2.117748243097723,2.1258689000849911,2.1336689740329962,2.1411611207508954,2.1483574964284475,2.1552697773597242,2.1619091788881817,2.1682864736038256,2.1744120088220025,2.1802957233721676,2.1859471637238772,2.1913754994761683,2.1965895382354521,2.2015977399060742,2.2064082304167085]
["Grocery Motors",0,0.13829115390467922,0.27865295012698676,0.39939989913433527,0.5097017028013755,0.61777618116686228,0.69098533474185331,0.76116962563900259,0.82750964155298234,0.88881992002789589,0.947692022623566,1.0046760925380627,1.0591935205372012,1.112435221676078,1.1638875371254844,1.2135432678571625,1.2619493134281581,1.3089036128769238,1.354645088675662,1.3982659563918578,1.439932485334543,1.4797356135582511,1.5177618647812063,1.5540935722046376,1.5888090905067207,1.6219829966587902,1.6536862801749534,1.6839865233718101,1.7129480721825618,1.7406321980392172,1.767097251307798,1.792398806734294,1.8165898013335158,1.8397206651288718,1.8618394451283349,1.8829919229004322,1.9032217260938538,1.9225704342252137,1.9410776790415183,1.958781239746922,1.9757171333673755,1.9919197005116656,2.0074216867731236,2.0222543200028515,2.0364473836726478,2.050029286533857,2.0630271287671023,2.0755118489988233,2.0875037039903908,2.0990221508173699,2.1100858784390959,2.1207128380219662,2.1309202720656408,2.1407247423794198,2.1501421569541757,2.1591877957734593,2.1678763356056403,2.1762218738173216,2.1842379512466565,2.1919375741736911,2.1993332354233632,2.2064369346354207,2.2132601977341211,2.2198140956293284,2.2261092621793304,2.2321559114445333,2.2379638542600189,2.2435425141538681,2.2489009426370576,2.2540478338897612,2.2589915388678645]
["Grocery Office Eqpmt",0,0.13935912935440031,0.28085120949546227,0.40244609561572836,0.51341440272979322,0.62213429153047273,0.69569986669222794,0.76623413785993655,0.83288313854173612,0.89446681215282708,0.95359842276067408,1.0108459428384005,1.0656302725618514,1.1191169273875459,1.1707894856901684,1.2206586549105121,1.2692866211062523,1.31644727878096,1.3624293629674169,1.4062752057566967,1.4481568760958694,1.4881657584027426,1.5263888015911047,1.5629087439417446,1.5978043260934234,1.6311504928044056,1.6630185840984677,1.6934765163747354,1.7225889540281116,1.7504174720963626,1.7770207104209832,1.8024545197816888,1.8267721004386632,1.8500241334924603,1.8722589054485954,1.8935224263523294,1.9138585418388179,1.9333090394246579,1.9519137493487873,1.9697106402536613,1.9867359099815614,2.0030240717457346,2.0186080359217651,2.0335191876910876,2.047787460755838,2.0614414073322198,2.0745082646182382,2.0870592753626607,2.0991148038848224,2.1106944105721355,2.1218168836172926,2.132500269502565,2.1427619022806579,2.1526184316996311,2.1620858502175189,2.1711795189504821,2.1799141925965904,2.1883040433756773,2.1963626840241139,2.2041031898818,2.2115381201072211,2.2186795380549889,2.225539030848926,2.232127728182455,2.2384563203767964,2.2445350757262745,2.2503738571588729,2.2559821382390743,2.2613690185389514,2.2665432384024391,2.2715131931267574]
["Grocery Process",0,0.14273797539491073,0.28899792582004408,0.41494069090062813,0.52997594625527467,0.64264807855273354,0.71975108568616897,0.79368648660928509,0.86358504242906886,0.92826434118261125,0.99037002474927227,1.0504888626202882,1.1080373326841673,1.1641655873144634,1.2183689110792186,1.2706673398326949,1.3216478588765737,1.3710606897897823,1.4192354570936903,1.4651846889129903,1.5090859497564251,1.551033978266162,1.5911189423737437,1.6294266696779292,1.6660388657148208,1.7010333207805011,1.7344841059292846,1.7664617587357339,1.7970334593756179,1.8262631975499297,1.8542119307467904,1.8809377343084532,1.9064959437446019,1.9309392897085822,1.9543180260300748,1.9766800511758895,1.9980710234899837,2.0185344705443979,2.0381118929144972,2.0568428626746322,2.0747651168940591,2.0919146463975697,2.1083257800408064,2.12403126473653,2.1390623414552308,2.1534488174112552,2.1672191346341556,2.1804458344928626,2.1931503776286876,2.2053533774709941,2.2170746336829872,2.2283331642871489,2.2391472365224407,2.2495343964833396,2.2595114975888038,2.2690947279273539,2.2782996365226373,2.2871411585620987,2.295633639629683,2.3037908589818912,2.3116260519049612,2.3191519311894391,2.3263807077569907,2.3333241104729177,2.3399934051765263,2.346399412960225,2.3525525277270085,2.3584627330548198,2.3641396183951433,2.3695923946321265,2.3748299090274618]
["Grocery Refrigeration",0,0.13264626610429492,0.2657771127711458,0.38044659002418763,0.48563496079949908,0.5890037566163272,0.65812399294986124,0.72436089154396022,0.78699844307068789,0.84480211506904945,0.90033409038050194,0.95403654273902649,1.0053771972583416,1.0556071321545819,1.1042290298196353,1.1511242770136554,1.1968250710591659,1.2411729969560392,1.284272624926901,1.3253696542249471,1.3646162017367278,1.4020988535452896,1.4378999683261515,1.4720978928756328,1.5047671661962059,1.5359787127680862,1.5658000256006825,1.5942953396239989,1.6215257959484795,1.6475495974920087,1.6724221564447272,1.6961962340158723,1.7189220728819339,1.7406475227319211,1.761418159283396,1.7812773971220508,1.8002665966979325,1.8184251657928612,1.8357906557560946,1.8523988527888025,1.8682838645423505,1.8834782022807315,1.8980128588436411,1.9119173826336506,1.9252199478386167,1.9379474210888534,1.9501254247376449,1.9618226715427467,1.9730581405707959,1.9838500616427861,1.9942159449123951,2.0041726092766341,2.013736209664915,2.0229222632508153,2.031745674629069,2.0402207599986344,2.0483612703910699,2.056180413981922,2.0636908775213052,2.0709048469184648,2.0778340270137106,2.0844896605698002,2.0908825465136003,2.0970230574576014,2.1029211565297379,2.1085864135388017,2.1140280205016908,2.1192548065576791,2.1242752522939079,2.1290975035053474,2.1337293844115419]
["Grocery Ventilation",0,0.13493799635608028,0.27111883745432991,0.38840840665594079,0.49580590273069503,0.60115930374639848,0.67215658195182348,0.74020238235454439,0.80454514342328176,0.863981244653378,0.92106770990092601,0.9762948257961287,1.0291039683309187,1.0807302575935354,1.130667497932994,1.1788504979262462,1.2258039514872248,1.2713693245386795,1.3156852655621831,1.3579464244545965,1.3983093704620331,1.4368626788946999,1.4736906128673353,1.5088733425502803,1.5424871528079775,1.5746046398621796,1.6052948975811503,1.6346236939622316,1.6626536383431842,1.6894443398475987,1.715052557541288,1.739532342749819,1.7629351739621286,1.7853100847214001,1.8067037848819696,1.8271607755899093,1.8467234583250183,1.8654322383231767,1.8833256226803099,1.9004403134225103,1.916811295811123,1.9324719221367475,1.9474539912420925,1.9617878240004198,1.9755023349638359,1.9886251003839324,2.001182422796187,2.0132440138174665,2.0248294436717358,2.0359575099999168,2.0466462683595181,2.0569130615202149,2.0667745476029129,2.0762467271079537,2.0853449688763148,2.0940840350259267,2.1024781049035677,2.110540798091197,2.1182851965040577,2.125723865616401,2.1328688748492732,2.1397318171534447,2.1463238278192511,2.1526556025438754,2.158737414785374,2.1645791324316126,2.1701902338111516,2.1755798230720678,2.1807566449536502,2.1857290989749569,2.1905052530632356]
["Healthcare Compressed Air",0,0.13490612411163203,0.26982772434830105,0.38571839831004828,0.49154043654749457,0.59522865938743763,0.66469133444630735,0.73127327648724882,0.79418876698215679,0.85224809456654838,0.90799785760219986,0.96196532453086159,1.0135706328279501,1.0640323084918095,1.1128282031465895,1.159937833388202,1.2058727020924509,1.2504655382629322,1.293888339859671,1.3352890597524243,1.3748241236437939,1.412580904952031,1.4486425073780849,1.4830879827777974,1.5159925374580088,1.5474277275334971,1.5774616439456304,1.6061590877096468,1.6335817359254841,1.659788299056923,1.6848346699553989,1.7087740650780558,1.7316571583243803,1.7535322078919686,1.774445176529555,1.7944398455442987,1.813557922900396,1.8318391457273064,1.8493213775381663,1.8660407004422646,1.8820315026197065,1.8973265613115435,1.9119571215646392,1.9259529709573284,1.9393425105194726,1.9521528220487543,1.9644097320139655,1.9761827701132946,1.9874910383865909,1.99835288477339,2.0087859328828888,2.0188071105886793,2.0284326774946351,2.0376782513165117,2.0465588332220697,2.055088832170834,2.0632820882929779,2.0711518953452726,2.0787110222805278,2.0859717339655304,2.092945811081083,2.0996445692364505,2.1060788773292058,2.1122591751802813,2.1181954904728335,2.1238974550223979,2.1293743204047484,2.1346349729667979,2.1396879482449176,2.1445414448140454,2.149203337590079]
["Healthcare Cooking",0,0.14057496666024161,0.28286525173176558,0.40505649447703462,0.51646561190536722,0.62560434994687875,0.699358790933861,0.77008867626815802,0.83690270516991849,0.89863125891292717,0.95789448802814336,1.0152767607628641,1.0702107694125542,1.1238346490128246,1.175619378713511,1.2256026789567145,1.2743492061545618,1.3216221220556874,1.3677541784977703,1.4117360910050261,1.4537472858663762,1.4938794774723321,1.5322199273208921,1.5688516698406176,1.6038537262799133,1.6373013073162204,1.6692660050019692,1.6998159746293884,1.7290161070635246,1.756928192061981,1.783611073070787,1.8091207939584095,1.8335107381240698,1.85683176039218,1.879132312081738,1.9004585596178833,1.9208544970323851,1.9403620526806038,1.9590211904842967,1.976870005992531,1.9939448175368197,2.0102802527413597,2.0259093306348945,2.0408635395971642,2.0551729113601254,2.0688660912720587,2.081970405021293,2.0945573935423134,2.1066474795292702,2.1182602794399004,2.1294146353237053,2.1401286453936366,2.150419693390881,2.1603044767904054,2.1697990338930122,2.1789187698478742,2.1876784816477608,2.1960923821375182,2.2041741230747558,2.2119368172801512,2.2193930599133229,2.2265549489087819,2.2334341046051209,2.2400416885992991,2.2463884218566026,2.2524846021056693,2.2583401205468054,2.2639644779006969,2.2693667998235583,2.2745558517137332,2.2795400529337653]
["Healthcare Cooling",0,0.15743072494786395,0.32563684462690035,0.47130510089910294,0.60640656034329576,0.74173167423358055,0.83366360096739711,0.92188308260034024,1.0053834104360022,1.08278748843329,1.1572400099662525,1.228992634458451,1.2979740602519396,1.3650355047050131,1.4297959364695039,1.4918849974872617,1.5523107540819823,1.6106142459481712,1.6674795452142956,1.7216757632178361,1.7734987864336602,1.8230562161618658,1.8704505719333175,1.9157795423372057,1.9591362229138063,2.0006093418066468,2.0402834738297373,2.0782392435692092,2.1145535181044091,2.1492995899012075,2.1825473503997737,2.2143634547903277,2.244811478443248,2.2739520654343282,2.3018430695818197,2.3285396883891321,2.3540945902655368,2.3785580353769626,2.4019779904597898,2.4244002379124949,2.4458684794629302,2.4664244346929092,2.4861079346865624,2.5049570110545747,2.5230079805728436,2.5402955256612998,2.5568527709165334,2.5727563779237692,2.5880321506710908,2.6027048744702657,2.6167983561715196,2.6303354627907236,2.6433381586116869,2.6558275408237342,2.6678238737524134,2.6793466217388495,2.6904144807211146,2.7010454085688385,2.7112566542202874,2.7210647856691872,2.7304857168466912,2.7395347334421229,2.7482265177043761,2.7565751722642196,2.7645942430161585,2.7722967410969757,2.7796951639966174,2.7868015158356747,2.7936273268423566,2.8001836720605704,2.8064811893194448]
["Healthcare Exterior Lights",0,0.12851595774710053,0.26666183003110683,0.38845956902406109,0.50157396568356183,0.61200881151174835,0.69185951252696565,0.7683331183371459,0.84110810234990807,0.90892871533627151,0.9740656285644167,1.0369434380657232,1.0968690245159041,1.1554335438470209,1.2122031638663175,1.2669939723262376,1.3201335875627407,1.3717457091088119,1.4213920037982628,1.4688598351655071,1.5142303243187241,1.5575994989294688,1.599058805890442,1.6386953395806567,1.6765920582600762,1.7128279892351781,1.7474784234011096,1.7806150997323609,1.8123063802620618,1.8426174160600144,1.8716103046912822,1.8993442396104796,1.9258756519217484,1.9512583449106722,1.9755436217319988,1.9987804066159223,2.0210153599357561,2.0422929874610354,2.0626557441023476,2.0821441324374543,2.1007967962924883,2.1186506096370792,2.135740761038222,2.1521008339043952,2.1677628827389213,2.1827575056097035,2.1971139130313264,2.210903565727151,2.2241488377431193,2.2368712198543172,2.2490913544342788,2.2608290689477371,2.2721034081211675,2.2829326648433175,2.2933344098458628,2.3033255202123457,2.3129222067616522,2.3221400403504586,2.3309939771373251,2.3394983828494245,2.3476670560912827,2.3555132507333525,2.3630496974167352,2.3702886242089574,2.3772417764443068,2.3839204357809214,2.3903354385055535,2.3964971931157084,2.4024156972076831,2.4081005536979094,2.4135609864039189]
["Healthcare Heating",0,0.12841709511586952,0.26000329677343798,0.37421262083194551,0.47869064788670745,0.58005428556852989,0.65131491999970559,0.71954541456295507,0.78427202143418162,0.84435335213546381,0.90200061009771593,0.95781929526317167,1.0109913488590951,1.0630244365537302,1.1134125318826245,1.1621876613424711,1.2096034387538228,1.2557844824140607,1.300384842152936,1.3430024800922027,1.3837097342087215,1.4225955152237508,1.4597444184505421,1.4952369425128584,1.5291496965140765,1.5615555962890098,1.5925240503349674,1.6221211359849921,1.6504097663545767,1.677449848563346,1.7032984337050778,1.7280098590129518,1.7516358826419336,1.774225811466664,1.7958266222710237,1.8164830766846183,1.8362378302016911,1.8551315355993656,1.8732029410545716,1.8904889832424543,1.9070248756834569,1.9228441925915447,1.9379789484621448,1.9524596736252684,1.9663154859769285,1.9795741590902873,1.9922621868969672,2.0044493233936347,2.0161553425048315,2.0273992375304748,2.038199251962943,2.0485729090875888,2.0585370404146905,2.0681078129889885,2.0773007556211067,2.0861307840834238,2.0946122253112756,2.1027588406487574,2.1105838481768346,2.1180999441600039,2.1253193236462873,2.1322537002539934,2.1389143251773497,2.145312005441836,2.1514571214388445,2.1573596437681202,2.1630291494152969,2.1684748372907912,2.1737055431552554,2.1787297539558166,2.1835556215963523]
["Healthcare Hot Water",0,0.13393963335104225,0.27026102763881249,0.38774711233723486,0.49491244691905351,0.59933414462655599,0.67061765613302804,0.73890976677986953,0.80347595919282544,0.86321897100521294,0.92057273955535801,0.9760879919197849,1.029141217209681,1.0810372920406155,1.1311987608233058,1.1796655801159766,1.2268584002511511,1.2727242700762869,1.3172960339396056,1.3598177278110162,1.4004322378836764,1.439228408194239,1.476290765395126,1.5116997378716244,1.5455318632726833,1.5778599850903607,1.6087534388870484,1.6382782287358462,1.6664971944076492,1.6934701698085306,1.7192541331427518,1.7439033492500939,1.7674695045411095,1.7900018349302207,1.8115472471442888,1.8321504337632422,1.8518539823295206,1.8706984788443917,1.8887226059515652,1.9059632360918972,1.9224555198972935,1.938232970077129,1.953327541036542,1.9677697044528015,1.9815885210235253,1.9948117085888066,2.0074657068182549,2.0196201571395003,2.0312947804429724,2.0425085190881287,2.0532795676378899,2.0636254023797598,2.0735628096815275,2.0831079132275536,2.0922762001798407,2.1010825463063294,2.1095412401171911,2.1176660060482848,2.1254700267293858,2.1329659643733208,2.1401659813207177,2.1470817597736969,2.1537245207505289,2.1601050422920056,2.1662336769490773,2.1721203685801131,2.1777746684850556,2.1832057509026357,2.1884224278957967,2.1934331636494817,2.1982460882039767]
["Healthcare Interior Lights",0,0.13577636476022809,0.27262057784826871,0.39033669592994424,0.49792852670780369,0.60335522805956654,0.67442923726323456,0.74255511734098478,0.80695461651304268,0.86643629004335332,0.9235553287431213,0.9788364316529633,1.031702025800064,1.0833739359596781,1.1333363196196751,1.1815615609292185,1.2285692794704706,1.2741911479938233,1.318597822556401,1.3609446249482657,1.4013886122909052,1.4400186136811528,1.4769191317055741,1.5121705625142248,1.5458494042338482,1.5780284543606242,1.6087769967364176,1.6381609786783971,1.6662431787997984,1.6930833660293367,1.7187384503082643,1.7432626254171943,1.7667075043594773,1.7891222477040425,1.8105536852681019,1.8310464314989048,1.8506429948937118,1.8693838817783057,1.8873076947465608,1.9044512260468258,1.9208495461850541,1.9365360879996949,1.9515427264492942,1.9658998543404718,1.9796364542114278,1.9927801665743119,2.0053573547086505,2.0174380272034531,2.0290417852428364,2.0401874562056483,2.0508931242133444,2.0611761594719131,2.0710532464554583,2.0805404109771612,2.0896530461915526,2.0984059375702784,2.1068132868918861,2.1148887352845551,2.1226453853591583,2.1300958224685642,2.1372521351276808,2.1441259346273607,2.1507283738740033,2.157070165485417,2.1631615991722999,2.1690125584335456,2.1746325365924597,2.1800306521999078,2.1852156638293843,2.1901959842880112,2.1949796942665216]
["Healthcare Other",0,0.13523571291670727,0.27084565061249916,0.38734442850708584,0.49373970384146082,0.59800600195050024,0.66794393061970003,0.73498008337585652,0.79832835246101408,0.85679762369263968,0.91294291569714714,0.96729179049944702,1.0192637583087973,1.070075866047002,1.1192092900489892,1.1666397819516152,1.2128866425215017,1.2577769365255909,1.3014877369020303,1.3431652304072961,1.3829661860276523,1.4209784043082565,1.4572853993549411,1.4919666173584514,1.5250976435173302,1.5567503979973405,1.5869933215292356,1.6158915512126923,1.6435070870621913,1.6698989498004382,1.695123330376481,1.7192337316588662,1.7422811027289102,1.7643139661753526,1.7853785387692032,1.8055188458764353,1.8247768299462335,1.8431924533936845,1.8608037961780788,1.8776471483612536,1.893757097914653,1.909166614028899,1.9239071261656471,1.9380085990782652,1.951499604015404,1.9644073863097453,1.9767579295431137,1.988620904505527,2.0000155591615769,2.0109603816147987,2.021473130105071,2.0315708618217858,2.0412699605795561,2.0505861634013511,2.0595345860521963,2.0681297475648708,2.0763855937973883,2.0843155200604921,2.0919323928518709,2.0992485707323612,2.1062759243780147,2.1130258558405584,2.1195093170474966,2.1257368275718824,2.1317184917005787,2.1374640148287094,2.1429827192068962,2.1482835590668392,2.1533751351497741,2.1582657086613817,2.1629632146757971]
["Healthcare Motors",0,0.13477464528637212,0.26967680951280559,0.3855831092249663,0.49144859094094595,0.59518262930086785,0.66473037091118681,0.73139209757018442,0.794389817475322,0.85253106310514837,0.90836063564974023,0.96240338155502059,1.0140773182145624,1.0646064316233683,1.113470873452683,1.1606454170312457,1.2066410226105542,1.2512928812349626,1.2947637444977929,1.3362123227167559,1.3757935555820731,1.4135948709225608,1.4496994254534359,1.4841863226577237,1.5171308190940125,1.5486045197672131,1.5786755631629517,1.6074087965122896,1.6348659418214813,1.6611057531713422,1.6861841657624077,1.7101544371552935,1.7330672811304502,1.7549709945677261,1.7759115777237469,1.7959328482639925,1.8150765493865386,1.8333824523556568,1.8508884537457586,1.8676306676794883,1.8836435133280114,1.8989597979267232,1.913610795545583,1.9276263218400851,1.9410348049964239,1.9538633530726512,1.9661378179265512,1.9779277178918764,1.9892521823672626,2.0001295855709769,2.0105775763535276,2.0206131068333577,2.0302524599020639,2.0395112756437856,2.048404576711619,2.056946792702238,2.0651517835682633,2.0730328621063721,2.0806028155576346,2.0878739263551198,2.0948579920524457,2.1015663444655908,2.1080098680590447,2.1141990176061145,2.1201438351520467,2.1258539663074898,2.1313386758987325,2.1366068630001092,2.1416670753729616,2.1465275233345911,2.1511960930796969]
["Healthcare Office Eqpmt",0,0.13518529377302557,0.27098532827173483,0.38771327736411437,0.49435588777786305,0.59885281456212758,0.66906884653222409,0.73636969573067346,0.79997683724510127,0.85869926489427251,0.91508874674174223,0.96966892894261192,1.0218603283418242,1.0728856533500122,1.1222267095003877,1.1698561178125222,1.216290565554033,1.2613621805237438,1.3052389488795764,1.3470771428022263,1.3870326806311983,1.4251935907361912,1.4616436068860255,1.496462387044512,1.5297257205573154,1.5615057243678203,1.5918710288639339,1.6208869539237638,1.6486156756960926,1.6751163846213761,1.7004454351705649,1.7246564877522317,1.7478006432132283,1.769926570334285,1.7910806266995112,1.8113069732976022,1.8306476831926028,1.8491428445832732,1.8668306585523633,1.8837475317903833,1.8999281645626847,1.9154056341737944,1.9302114741689158,1.9443757494992844,1.9579271278655739,1.970892947441788,1.983299281170952,1.9952158441612158,2.0066619713250464,2.0176562342813718,2.0282164714884852,2.0383598171873745,2.0481027292024439,2.0574610156447353,2.0664498605609691,2.0750838485700309,2.0833769885268669,2.0913427362521921,2.0989940163648853,2.1063432432524976,2.1134023412138965,2.1201827638067297,2.1266955124311018,2.1329511541796098,2.1389598389827102,2.1447313160772259,2.1502749498247202,2.1555997349053984,2.1607143109121969,2.1656269763687317,2.1703457021938544]
["Healthcare Process",0,0.13551022468400609,0.27205131598262289,0.38952216873953477,0.49688152467881708,0.60205062441722568,0.67295689865790675,0.74092153066602995,0.80516665809091326,0.86450605560317417,0.92148677601514672,0.97663330615771848,1.0293684083678092,1.0809177909796834,1.1307617764882076,1.1788756288215798,1.225772739484414,1.2712889732776984,1.3155928032866131,1.3578410063748387,1.3981903642127804,1.4367295444436721,1.4735428948635692,1.5087106632144198,1.5423092053287304,1.5744111822653932,1.6050857470401036,1.634398721519746,1.6624127640180419,1.6891875280995241,1.7147798130703957,1.73924370660799,1.762630719955222,1.7849899160825777,1.8063680311976764,1.8268095899612586,1.8463570147484429,1.8650507292752601,1.8829292568926932,1.9000293138336926,1.9163858976828363,1.9320323713233878,1.9470005426024579,1.961320739941703,1.9750218841084848,1.9881315563506228,2.0006760630867126,2.0127253443623729,2.0242989504287072,2.0354156597422541,2.0460935094334918,2.0563498245725151,2.0662012462793857,2.0756637587247524,2.0847527150645533,2.0934828623508861,2.1018683654594561,2.1099228300724326,2.1176593247539972,2.125090402154405,2.1322281193769657,2.1390840575409853,2.1456693405724128,2.151994653252681,2.1580702585550235,2.1639060142963955,2.1695113891320235,2.1748954779185254,2.1800670164705402,2.1850343957347942,2.1898056754046182]
["Healthcare Refrigeration",0,0.13160301643562405,0.26322865255896127,0.37654338453842495,0.48031463481593467,0.58205868409466854,0.6502399182527705,0.71556773527156226,0.77734740339475461,0.8343652502000023,0.88912950067752483,0.94211390541937912,0.99273797287804588,1.0422837273091312,1.0902453260501801,1.1365394751538525,1.1816535170138955,1.2254664794950296,1.2680290840075077,1.3086203615481646,1.3473808277250841,1.3843963049929806,1.4197484179675737,1.4535148078132278,1.4857693352313763,1.5165822726772851,1.5460204863971716,1.5741476088442319,1.6010242020005765,1.6267079121023678,1.6512536162374367,1.6747135612582709,1.6971374954283867,1.7185727931966603,1.7390645734720935,1.758655811750657,1.7773874464262214,1.7952984795990783,1.812426072678089,1.8288056370560513,1.844470920122357,1.8594540868623672,1.8737857972791498,1.8874952798601876,1.900610401299403,1.9131577326732545,1.9251626122587371,1.9366935695015406,1.9477693136594536,1.9584078153959947,1.9686263359382494,1.9784414550836291,1.9878690981009948,1.9969245615697928,2.0056225381991255,2.0139771406670275,2.0220019245186283,2.0297099101603546,2.0371136039858526,2.0442250186679178,2.0510556926493462,2.0576167088643387,2.0639187127208292,2.0699719293729189,2.0757861803114355,2.0813708992995408,2.0867351476792408,2.0918876290736317,2.096836703508739,2.1015904009778659,2.1061564344704471]
["Healthcare Ventilation",0,0.13217243030338499,0.26469301608766088,0.37882798457865735,0.48339768552930112,0.58597747809964562,0.65484749646652829,0.72083523559656337,0.78324832031547342,0.84087085551184337,0.89621782177557552,0.94975906736257287,1.0009193013822966,1.0509791254014613,1.0994363418074073,1.1462014446399251,1.1917680410646172,1.2360167335680319,1.2789963408249503,1.3199874862885943,1.3591319723410946,1.3965162511307641,1.432222551850858,1.4663290961348285,1.4989103020115899,1.5300369770500157,1.5597765012862925,1.5881930004942091,1.6153475103268622,1.6412981318284716,1.6661001787869398,1.68980631737134,1.712466698473587,1.7341290831500589,1.754838961536777,1.7746396655908914,1.7935724759915241,1.8116767235144757,1.8289898851778006,1.8455476754387665,1.8613841327071461,1.8765317014251346,1.8910213099503332,1.9048824444652046,1.9181432191240824,1.9308304426372158,1.9429696814803692,1.9546296938165075,1.9658293982984385,1.9765869667183127,1.9869198534917967,1.9968448239782859,2.0063779816831069,2.0155347943858457,2.0243301192371934,2.0327782268650374,2.0408928245288962,2.0486870783602855,2.0561736347250812,2.0633646407425585,2.0702717639943855,2.076906211455559,2.0832787476779902,2.0893997122562546,2.0952790366038334,2.1009262600670735,2.1063505454030067,2.1115606936461471,2.1165651583883811,2.121372059495128,2.1259891962800159]
["Lodging Compressed Air",0,0.13869560624280716,0.27993513574654716,0.40171192457475574,0.51309605614238341,0.62216023186271385,0.69656614831873853,0.76789900970509284,0.83536038116168843,0.89776648708217177,0.95769145131712274,1.015679496924379,1.0711531916619978,1.1253216869686562,1.1776711949093801,1.2281917743658974,1.2774166748839959,1.325163227934161,1.3716409261405087,1.4159725657486035,1.4583223248949737,1.4987821970539925,1.5374397216506674,1.5743782093283996,1.6096769553414667,1.6434114417214072,1.6756535288299206,1.7064716368764568,1.7359309179461959,1.7640934190535222,1.7910182367072509,1.8167616634466814,1.8413773267819196,1.8649163209477433,1.8874273318575112,1.9089567556221292,1.9295488109788337,1.9492456459554501,1.9680874390777727,1.986112495410713,2.00335733770785,2.0198567929288842,2.0356440743702486,2.0507508596406625,2.0652073647007261,2.0790424141736707,2.0922835081230824,2.1050018771072452,2.1172181569882969,2.1289521689766278,2.140222951791277,2.1510487925507134,2.1614472564441303,2.1714352152313907,2.181028874617867,2.1902438005485902,2.1990949444643748,2.2075966675608925,2.2157627640900612,2.2236064837415537,2.2311405531407398,2.2383771964979449,2.2453281554425275,2.2520047080739585,2.2584176872608097,2.2645774982173474,2.2704941353862433,2.2761771986548016,2.2816359089310079,2.2868791231046761,2.2919153484179682]
["Lodging Cooking",0,0.142656571725328,0.28858641837343901,0.41422367050668557,0.5289945727178591,0.64149679152902683,0.71828662039865943,0.79193290556692952,0.86155306794618158,0.92596514867251178,0.98781005562002444,1.047669833279397,1.1049837807303255,1.1608880755296309,1.2148721452327305,1.266957420530721,1.3177283856016608,1.3669390585099743,1.4149309629718259,1.4606992960617413,1.5044262140522071,1.5462062331271287,1.5861293053009635,1.6242810486758406,1.6607429655873236,1.6955926492996896,1.7289039798744377,1.7607473098007183,1.7911896399433624,1.8202947863330803,1.8481235382940595,1.8747338083765619,1.9001807745360317,1.9245170149756683,1.9477926360462359,1.9700553935750338,1.9913508079753481,2.0117222734682652,2.0312111617304085,2.0498569202638661,2.0676971657682626,2.0847677727795597,2.101102957825641,2.1167353593350429,2.1316961135222763,2.1460149264609902,2.159720142544705,2.17288431129287,2.1855287918885531,2.1976741003081885,2.2093399426092506,2.2205452469038063,2.2313081940698378,2.2416462472501588,2.2515761801867842,2.2611141044367362,2.2702754955134363,2.2790752179960991,2.2875275496478737,2.2956462045818613,2.3034443555125956,2.3109346551290919,2.3181292566241423,2.3250398334131632,2.3316775980745992,2.3380533205426004,2.3441773455815027,2.3500596095704589,2.355709656625455,2.3611366540848691,2.366349407383701]
["Lodging Cooling",0,0.16023467005656969,0.33320054876785082,0.48336959372092037,0.62285886537118162,0.76266824439577685,0.85860310302659193,0.95065987332364643,1.0378577118056713,1.1187958984289401,1.196646526128414,1.271651723658314,1.3437472366665737,1.4137990827209421,1.481446254687409,1.5462859317763977,1.6093557598969879,1.6702013268506264,1.7294888676291305,1.7860112969660997,1.8400681949866471,1.8917708385262759,1.9412252757189632,1.9885325827360818,2.0337891073504419,2.0770867000295397,2.1185129332231409,2.1581513094736162,2.1960814589427744,2.2323793269162744,2.2671173518158536,2.3003646342205335,2.3321870973705061,2.3626476396015241,2.3918062791331591,2.419720291611251,2.4464443407830867,2.4720306026633119,2.4965288835291743,2.5199867320653939,2.5424495459616625,2.5639606732494546,2.5845615086494091,2.604291585185996,2.6231886613124158,2.6412888037757085,2.6586264664397627,2.6752796819464901,2.6912754705419442,2.7066397857810705,2.721397556637978,2.7355727279538051,2.7491882992878045,2.762266362234687,2.7748281362687686,2.7868940031730833,2.7984835401093182,2.8096155513822367,2.8203080989501155,2.8305785317307115,2.8404435137503024,2.8499190511814723,2.8590205183135153,2.8677626824975921,2.8761597281071181,2.8842252795522492,2.8919724233858202,2.8994137295365943,2.9065612717042764,2.913426646949385,2.9200209945097622]
["Lodging Exterior Lights",0,0.12891261236883444,0.26825833162300139,0.39127617101358209,0.50562271909520318,0.61723339159044777,0.69829213862281536,0.77592143443039241,0.84981529416483292,0.91871540944009222,0.98489254639934143,1.0487657578445124,1.1096432536677201,1.1691252413074247,1.2267825434102337,1.2824231955026519,1.3363752973822736,1.388766997952555,1.4391462020179333,1.4873210824037346,1.5333713532477991,1.5773940797902186,1.6194817078809345,1.6597222936269389,1.69819972112301,1.7349939089087278,1.7701810057587102,1.8038335763792384,1.8360207775526161,1.8668085252405744,1.8962596531297307,1.9244340630754062,1.9513888678749238,1.97717852677775,2.0018549741174394,2.0254677414291948,2.0480640733969158,2.0696890379547765,2.0903856308506343,2.1101948749617851,2.1291559146377859,2.1473061053301223,2.1646810987544089,2.1813149238175087,2.1972400635293932,2.2124875281077099,2.2270869244718168,2.2411099735200413,2.2545794279895679,2.2675171423969518,2.2799441084975984,2.291880489345401,2.3033456520077791,2.3143581989892206,2.3249359984142917,2.3350962130191051,2.3448553279982742,2.3542291777525426,2.3632329715804832,2.371881318355952,2.3801882502313423,2.3881672454050915,2.3958312499903851,2.4031926990205394,2.4102635366251444,2.4170552354097041,2.4235788150702162,2.4298448602728984,2.4358635378280633,2.4416446131860163,2.4471974662817355]
["Lodging Heating",0,0.13586616357632308,0.28261148718784401,0.41053650739020286,0.52742839020547894,0.64116906911822247,0.72655371702338789,0.80820091204594735,0.88606211321228912,0.95905159476049107,1.0289931351376036,1.0968263727839416,1.1612136220719591,1.2239199468752811,1.2846470881104395,1.3435845997359477,1.400691125686625,1.4566045616141496,1.5101243413669563,1.5614187526644361,1.6104513303007537,1.6573253372972736,1.7021391282422529,1.7449863929196896,1.7859563873186399,1.8251341527024758,1.8626007233797646,1.8984333237828113,1.9327055554262935,1.9654875742867297,1.9968462591136247,2.0268453711549483,2.0555457057530044,2.0830052362416573,2.1092792505522278,2.1344204809130192,2.1584792270063864,2.1815034729273561,2.2035389982690625,2.2246294836425395,2.2448166109216996,2.2641401584885568,2.2826380917388414,2.3003466490941147,2.3173004237531818,2.3335324414030971,2.3490742340981896,2.3640024760490999,2.3783413886904499,2.392114237255766,2.4053433685258803,2.4180502470871272,2.4302554901581552,2.4419789010418627,2.4532395012567387,2.4640555613997375,2.474444630790765,2.4844235659468765,2.4940085579323839,2.5032151586292493,2.512058305970394,2.5205523481768535,2.528711067038115,2.536547700273406,2.5440749630102144,2.5513050684148904,2.5582497475088064,2.564920268202223,2.571327453576747,2.5774816994460421,2.5833929912232927]
["Lodging Hot Water",0,0.13409377032834607,0.2700953770215439,0.38733885725738998,0.49427341556040244,0.59837785821824574,0.66935288636244017,0.73735230956567877,0.80162767886957487,0.86106891675153696,0.91813995799553538,0.97337313923677182,1.0261700133061031,1.0778249968613134,1.1277418284816294,1.1759674126088462,1.2229323266431287,1.2685569147366902,1.3129167415687406,1.3552291529351967,1.3956437099902572,1.4342488270561349,1.4711286216249022,1.5063631324517928,1.5400285261152897,1.572197292676095,1.602938431031407,1.6323176245273361,1.6603974073606076,1.6872373222708683,1.7128940699967725,1.7374216509425162,1.7608714994764991,1.7832926112602283,1.8047316639833724,1.8252331318599344,1.8448393942207733,1.863590838519076,1.8815259580478436,1.898681444651882,1.9150922767011898,1.9307918025778963,1.9458118199150156,1.9601826508121802,1.9739332132411471,1.9870910888422137,1.999682587301663,2.0117770051860635,2.0233939659817608,2.0345523184893941,2.0452701674065334,2.0555649027029883,2.0654532278364579,2.0749511868542938,2.0840741904253592,2.0928370408442101,2.1012539560481778,2.109338592686318,2.1171040682776541,2.124562982494671,2.1317274376065876,2.138609058115585,2.1452190096178394,2.1515680169199758,2.1576663814403263,2.163523997923229,2.1691503704934942,2.1745546280770744,2.179745539212969,2.1847315262803924,2.1895206791642874]
["Lodging Interior Lights",0,0.13700067007254291,0.27681856677245315,0.39762017588724824,0.50833453211810165,0.616756690066533,0.6909842747744297,0.76213102576314495,0.82946210982551327,0.89177916999173046,0.9516260665469426,1.0095180551071898,1.0648730781734026,1.118944174680419,1.1712299433972957,1.2216846094144669,1.2708216561312589,1.3184924350549851,1.3648225836978893,1.4090249198985356,1.4512521812980612,1.4915959886484604,1.5301435297185337,1.5669777833427516,1.6021777316665522,1.6358185612329779,1.6679718535192596,1.6987057654977462,1.7280852007633403,1.7561719717392099,1.7830249534439009,1.8087002292759826,1.8332512292468934,1.8567288610686643,1.8791816344805683,1.9006557791774101,1.9211953566820503,1.940842366485791,1.9596368467623493,1.9776169699442741,1.9948191334347438,2.0112780457126562,2.0270268080747682,2.0420969922452614,2.0565187140705179,2.0703207035049638,2.0835303710826327,2.0962185543288809,2.108405840128754,2.1201120026490439,2.1313560354223502,2.1421561821645527,2.1525299663756776,2.162494219772205,2.1720651095969359,2.1812581648507363,2.1900883014887151,2.1985698466217278,2.2067165617624558,2.2145416651538001,2.2220578532157957,2.2292773211458661,2.2362117827058223,2.2428724892277279,2.249270247869458,2.255415439149576,2.2613180337899732,2.266987608893611,2.2724333634836,2.2776641334288397,2.2826884057804295]
["Lodging Other",0,0.13651063003404754,0.27527982796326711,0.39497498386948504,0.50458701215841706,0.61200454782190294,0.68508870158857182,0.7551390359556891,0.82140655183464395,0.88269301063194305,0.94155033596030135,0.99849162491480303,1.052941030463356,1.1061390738655938,1.1575826040553947,1.2072240761900801,1.2555832697033948,1.3025052709651261,1.3481298484046877,1.3916511296645901,1.4332239294450597,1.4729388370954188,1.5108820485527088,1.5471355888991312,1.5817775231704556,1.6148821560584161,1.6465202211138699,1.6767590600233511,1.7056627924994578,1.7332924772951861,1.7597062648237227,1.784959541838274,1.8091050686010888,1.8321931089468988,1.8542715536234118,1.875386037270206,1.8955800493773096,1.9148950395458066,1.9333705173549749,1.9510441471236122,1.9679518378373431,1.9841278284987047,1.9996047691426984,2.0144137977471432,2.0285846132546164,2.0421455449108774,2.0551236181134849,2.0675893497459961,2.0795629657603185,2.0910638936388342,2.1021107939159598,2.1127215904553176,2.1229134995316392,2.1327030577645862,2.1421061489498201,2.151138029830844,2.1598133548534393,2.1681461999428593,2.1761500853423597,2.1838379975501216,2.1912224103901576,2.1983153052513966,2.2051281905277769,2.2116721202908929,2.2179577122254965,2.2239951648569476,2.2297942740985679,2.2353644491457492,2.2407147277425996,2.2458537908459051,2.250789976710188]
["Lodging Motors",0,0.14015091367600049,0.28379925215891588,0.40782329846337689,0.5213504494410014,0.63252479232131453,0.7088375737319873,0.78200292456741483,0.85122077002463148,0.91530672290613846,0.97684558626273166,1.0363844594415121,1.0933508237288521,1.1489494715388842,1.2026725972666452,1.2545096818495325,1.305002719318864,1.3539658026920591,1.4016178668182691,1.4470764225636119,1.4905083894628151,1.5320075394609241,1.5716631194200055,1.6095600792413796,1.6457792879968312,1.6803977387227258,1.7134887424942102,1.7451221123620295,1.7753643377018498,1.8042787494951968,1.8319256770321162,1.8583625964983055,1.8836442718836921,1.9078228886251136,1.9309481803728443,1.9530675492490854,1.974226179946162,1.994467147992937,2.013831522499828,2.0323584636756982,2.0500853153937681,2.0670476930684676,2.08327956709079,2.0988133420561526,2.1136799320059896,2.1279088318922339,2.1415281854624491,2.1546098813324086,2.1671751448709351,2.1792443635228675,2.1908371198881849,2.2019722234952517,2.2126677413197324,2.2229410270986976,2.232808749487484,2.2422869191049908,2.2513909145112985,2.2601355071597546,2.2685348853640153,2.276602677318929,2.2843519732126123,2.291795346465598,2.2989448741315144,2.305812156492399,2.312408335880435,2.3187441147566581,2.3248297730759577,2.3306751849665543,2.3362898347510099,2.3416828323347727,2.3468629279872197]
["Lodging Office Eqpmt",0,0.13542687535860815,0.27181463802044775,0.38914099422214771,0.4964024906065132,0.60152788311762451,0.67236808839599316,0.74026734190666199,0.80445821852115873,0.86374253717290772,0.92067338344229088,0.97577209501960216,1.0284564912394631,1.0799546713873478,1.1297566019480405,1.1778263792766714,1.2246830002297746,1.2701603123218619,1.3144156449579176,1.3566194102271871,1.3969261980696819,1.4354245951498272,1.4721988719359447,1.5073292023209972,1.540891871603471,1.5729594734675154,1.6036010965653493,1.6328825012709156,1.6608662871417037,1.6876120515954447,1.713176540279906,1.7376137895871793,1.7609752617385568,1.7833099728422479,1.8046646143037131,1.8250836679472002,1.8446095151870952,1.8632825405688576,1.8811412299815589,1.8982222638272832,1.9145606054168665,1.9301895848465453,1.9451409785960392,1.9594450850753407,1.9731307963349818,1.9862256661427442,1.998755974618672,2.0107916181456416,2.0223521248471776,2.0334562519257831,2.0441220160969533,2.0543667228217353,2.0642069943852563,2.0736587968667868,2.082737466045089,2.0914577322810914,2.0998337444182562,2.1078790927394211,2.1156068310173626,2.1230294976948589,2.1301591362286181,2.1370073146300772,2.1435851442347826,2.1499032977308019,2.1559720264754176,2.1618011771282037,2.1674002076274701,2.1727782025359961,2.177943887780954,2.1829056448119384,2.1876715242000713]
["Lodging Process",0,0.13651063003404754,0.27527982796326711,0.39497498386948504,0.50458701215841706,0.61200454782190294,0.68508870158857182,0.7551390359556891,0.82140655183464395,0.88269301063194305,0.94155033596030135,0.99849162491480303,1.052941030463356,1.1061390738655938,1.1575826040553947,1.2072240761900801,1.2555832697033948,1.3025052709651261,1.3481298484046877,1.3916511296645901,1.4332239294450597,1.4729388370954188,1.5108820485527088,1.5471355888991312,1.5817775231704556,1.6148821560584161,1.6465202211138699,1.6767590600233511,1.7056627924994578,1.7332924772951861,1.7597062648237227,1.784959541838274,1.8091050686010888,1.8321931089468988,1.8542715536234118,1.875386037270206,1.8955800493773096,1.9148950395458066,1.9333705173549749,1.9510441471236122,1.9679518378373431,1.9841278284987047,1.9996047691426984,2.0144137977471432,2.0285846132546164,2.0421455449108774,2.0551236181134849,2.0675893497459961,2.0795629657603185,2.0910638936388342,2.1021107939159598,2.1127215904553176,2.1229134995316392,2.1327030577645862,2.1421061489498201,2.151138029830844,2.1598133548534393,2.1681461999428593,2.1761500853423597,2.1838379975501216,2.1912224103901576,2.1983153052513966,2.2051281905277769,2.2116721202908929,2.2179577122254965,2.2239951648569476,2.2297942740985679,2.2353644491457492,2.2407147277425996,2.2458537908459051,2.250789976710188]
["Lodging Refrigeration",0,0.13182946440345816,0.26382641658442058,0.37748473633728141,0.48156702944507007,0.58359367762751946,0.6520706909709324,0.71768292166354608,0.77973526569109641,0.83701550758579513,0.89203053748895478,0.94525900910102645,0.99611606889472659,1.0458845024100798,1.0940591318617232,1.1405605392936946,1.1858750339126556,1.2298815745557734,1.27263170592649,1.3134035860670863,1.3523374066476592,1.3895192830204883,1.4250311207434674,1.458950830462826,1.4913525313757203,1.5223067439011468,1.5518805721520732,1.5801378767681571,1.6071394386368549,1.6329431140009603,1.657603981422578,1.6811744810471134,1.7037045465859506,1.7252417304130243,1.7458313221483619,1.7655164610808147,1.7843382427625458,1.8023358200892885,1.81954649916293,1.8360058302164868,1.8517476938659991,1.8668043829392222,1.8812066801171667,1.8949839316115122,1.9081641170886114,1.9207739160392197,1.9328387707821268,1.9444273355145321,1.9555584129637738,1.9662500635729769,1.9765196348045622,1.9863837892869225,1.9958585318499424,2.0049592354932235,2.0137006663291479,2.0220970075412548,2.0301618823967988,2.0379083763508321,2.0453490582776723,2.0524960008642061,2.0593608001981161,2.0659545945828151,2.0722880826096124,2.0783715405164394,2.0842148388612927,2.0898274585374557,2.0952185061564772,2.1003967288238687,2.105370528331497,2.110147974789693,2.114736819721204]
["Lodging Ventilation",0,0.13256296584953928,0.26575826623920656,0.38052743046052806,0.4857602352960857,0.5890898533662533,0.65854871855847419,0.72509954713064473,0.78805963503574428,0.84620255926682431,0.90205243492823139,0.95607092160827034,1.0076887097940022,1.0581867768280697,1.107072121507914,1.1542392808803892,1.2001907563130567,1.2448092256385519,1.2881341950935064,1.3294570935958128,1.3689202948384027,1.4066107624380644,1.4426112170472463,1.4770003525287392,1.5098530406602124,1.5412405249989802,1.5712306045017324,1.5998878074603802,1.6272735562835225,1.6534463236232193,1.6784617803186577,1.7023729356018107,1.7252302699852289,1.7470818612285735,1.7679735037583237,1.7879488218941839,1.8070493772160017,1.825314770386427,1.8427827377270207,1.8594892428289931,1.8754685634641781,1.8907533740471449,1.9053748238855004,1.9193626114423503,1.932745054822566,1.9455491586828619,1.9578006777547206,1.9695685377795582,1.9808718323956733,1.991728901472722,2.0021573608685999,2.0121741310116006,2.0217954643542195,2.0310369717431533,2.0399136477482767,2.0484398949916955,2.056629547516351,2.0644958932320896,2.072051695475619,2.0793092137193319,2.0862802234625968,2.0929760353377906,2.0994075134620767,2.1055850930646951,2.1115187974183773,2.1172182541023483,2.122692710623308,2.1279510494197345,2.1330018022738564,2.1378531641546767,2.1425130065145077]
["Large Office Compressed Air",0,0.13988028447360212,0.28120001210087325,0.40246743924807454,0.51299248501301553,0.62127356536664868,0.69420166083845558,0.76412868977369219,0.8301688885124372,0.89115501132345298,0.94970916437292241,1.0064032147032809,1.060675964650331,1.1136692909840391,1.1648486385770731,1.2142468177201764,1.262428270473906,1.3091580042542572,1.3547627760011594,1.3982390627661185,1.4397650701671409,1.4794316775765448,1.5173253461156058,1.5535283430095685,1.5881189540728662,1.6211716849753717,1.6527574519037609,1.6829437621974679,1.7117948855060801,1.7393720159842909,1.7657334260115567,1.7909346118962903,1.8150284319986953,1.8380652376820761,1.8600929974795901,1.8811574148418406,1.9013020398103815,1.9205683749430322,1.9389959757988249,1.9566225462733544,1.973484029059231,1.9896146914911601,2.0050472070208829,2.0198127325537003,2.0339409818655945,2.0474602953079293,2.0603977059953982,2.0728243803662254,2.084760481000965,2.0962253745123851,2.1072376629682683,2.1178152140737181,2.1279751901619415,2.1377340760405539,2.1471077057385775,2.1561112881975379,2.1647594319483403,2.1730661688139654,2.1810449766764428,2.1887088013450406,2.1960700775611568,2.2031407491739854,2.2099322885197048,2.2164557150356199,2.2227216131394671,2.2287401494028876,2.2345210890469378,2.2400738117863961,2.2454073270485786,2.250530288591353,2.2554510085440711]
["Large Office Cooking",0,0.14574321055276768,0.29440996016085563,0.42188452870967891,0.53783379172755241,0.65136856030618584,0.72833859600020145,0.80217253426671808,0.87186613145674641,0.93628028783620121,0.99811602455240922,1.0580000454391121,1.1153952976043258,1.171352640651371,1.225319905405164,1.2774016538871835,1.3282148964590021,1.3774526033557395,1.4256170468198601,1.4715281718255007,1.5153894416745368,1.5572958783940589,1.5973379092836084,1.6356015990262014,1.6721688695752805,1.7071177084853317,1.7405223663163183,1.7724535437066744,1.8029785686762174,1.8321615646888803,1.8600636099755161,1.8867428885890618,1.9122548336380103,1.9366522631192824,1.9599855087481735,1.9823025381609585,2.0036490708449111,2.0240686881308498,2.043602937564799,2.0622914319578833,2.0801719433970822,2.097280492483939,2.1136514330536365,2.129317532613022,2.1443100487231015,2.1586588015392043,2.1723922427103877,2.1855835222908153,2.1982540434515379,2.210424364420438,2.2221142318384581,2.2333426127989995,2.2441277256224956,2.2544870694160752,2.2644374524662911,2.2739950195109704,2.2831752779344456,2.2919931229286581,2.3004628616609724,2.3085982364879003,2.3164124472524072,2.3239181727009774,2.3311275910551896,2.3380523997711746,2.3447038345190232,2.3510926874129319,2.357229324521672,2.3631237026877843,2.3687853856828021,2.3742235597246975,2.379447048382747]
["Large Office Cooling",0,0.1591967923870391,0.32849335136037816,0.47469426842120743,0.60977748092188255,0.74468190024076109,0.83658873423296931,0.92477694089572837,1.0082045084397973,1.0855142388114924,1.1598497891406185,1.2315713325032227,1.3004907666309864,1.3674694543060508,1.4321195379165961,1.494146664746369,1.5545595400806993,1.6128540469985644,1.6697758001958309,1.7240359538295242,1.7759184221733659,1.825531095706787,1.872976765234533,1.9183533738027205,1.9617542556144509,2.0032683626431353,2.042980479602901,2.0809714278989024,2.1173182591458746,2.1520944388107588,2.1853700205045499,2.2172118114196007,2.2476835293813195,2.2768459519574513,2.3047570580438479,2.3314721623227186,2.3570440429677033,2.3815230629497299,2.4049572852783325,2.4273925824949378,2.4488727407174524,2.4694395585193014,2.4891329409107494,2.5079909886759095,2.526050083305198,2.543344967750119,2.5599088232150913,2.5758187794776721,2.5911006508277636,2.6057792324722664,2.6198783407659008,2.6334208518538218,2.6464287387887184,2.6589231071826256,2.6709242294512907,2.6824515777066598,2.6935238553508523,2.7041590274228846,2.7143743497473802,2.724186396932565,2.7336110892629697,2.7426637185304799,2.7513589728456367,2.7597109604694552,2.7677332327044168,2.7754388058817878,2.7828401824809346,2.7899493714148949,2.796777907515136,2.8033368702470933,2.8096369016868756]
["Large Office Exterior Lights",0,0.12879006743199214,0.26638566844963807,0.38747964617819269,0.49985144418368166,0.60960539908856437,0.68849359048675263,0.76404331328788111,0.83590634376542361,0.9028293263106314,0.96711004024080993,1.0291676040433357,1.0883226799831807,1.1461414004245802,1.2021869164211465,1.2562732640170373,1.3087471950073279,1.3597092946028808,1.4087593741687596,1.4556495956855242,1.5004654506016246,1.5433020514829878,1.5842499666344054,1.6233954469033705,1.6608206406720991,1.6966037976768278,1.7308194622577697,1.7635386566094706,1.7948290545695809,1.8247551464541405,1.8533783954192715,1.8807573858025755,1.9069479638724414,1.9320033713898186,1.9559743723646901,1.9789093733684278,2.0008545377433649,2.0218538940321711,2.0419494389319564,2.0611812350613339,2.0795875038129465,2.0972047135491017,2.1140676633841409,2.1302095627839353,2.1456621072004158,2.1604555499472382,2.1746187705115729,2.1882228628795826,2.2012899000210768,2.2138410835207352,2.2258967779781922,2.2374765440500939,2.2485991701877386,2.2592827031217935,2.2695444771435538,2.2794011422302511,2.2888686910600438,2.2979624849605269,2.3066972788328566,2.3150872450919384,2.3231459966615109,2.3308866090614462,2.3383216416230974,2.3454631578671195,2.3523227450768225,2.3589115330988215,2.3652402124014813,2.371319051420461,2.3771579132195,2.3827662714934785,2.3881532259397167]
["Large Office Heating",0,0.13685181796835966,0.28082839575887208,0.40588730259938594,0.51994607792127112,0.63048126058211096,0.70960677292229746,0.78542991559869679,0.85733970819626648,0.92426523685888928,0.98845031602017663,1.0506189976718054,1.1099503182468535,1.1678489496235822,1.2237820815935163,1.2779347352738877,1.3305734411997205,1.381791420843441,1.43140723444796,1.4788138766394909,1.5241146902100506,1.5674066851202615,1.6087822130596068,1.6483292010983133,1.6861313731156138,1.7222684596682882,1.7568163969261728,1.7898475152662876,1.8214307180841709,1.8516316513498667,1.8805128644066262,1.9081339624826992,1.9345517513604726,1.9598203746225833,1.9839914438714152,2.0071141622964794,2.0292354419435212,2.0504000150197035,2.0706505395508379,2.090027699689287,2.1085703009547885,2.1263153606750325,2.1432981938782185,2.159552494876102,2.1751104147630347,2.1900026350442645,2.2042584375951964,2.2179514570466727,2.2311039106548529,2.2437371385947049,2.2558716385849578,2.2675270991461458,2.2787224315457117,2.2894758004819962,2.2998046535569019,2.3097257495850507,2.3192551857853667,2.3284084238992042,2.3372003152773977,2.3456451249769401,2.3537565549063824,2.3615477660575133,2.369031399859387,2.3762195986893495,2.3831240255743387,2.3897558831144301,2.3961259316593262,2.4022445067672855,2.4081215359748152,2.4137665549043414,2.4191887227359872]
["Large Office Hot Water",0,0.13419732157423681,0.2705555380414903,0.38804793496928353,0.49526291268939038,0.59983150206875646,0.67107614827818995,0.73933462377821324,0.80386710552660379,0.86356458278956461,0.92087767637430951,0.97634994337303527,1.0293664934205506,1.0812234159299208,1.1313508218317223,1.1797742966319227,1.2269310079478812,1.2727529610564374,1.3172897160612074,1.3597752575804831,1.4003547487679213,1.4391170075610458,1.4761465343773748,1.5115237313091041,1.545325109723982,1.5776234869078929,1.6084881723488116,1.6379851442279876,1.6661772166523856,1.6931241981323941,1.7188830417805236,1.7435079876801667,1.767050697848356,1.7895603841927696,1.8110839298409027,1.8316660041982695,1.8513491720726485,1.870173997182663,1.8881791403513462,1.9054014526686818,1.921876063891423,1.9376364663336794,1.9527145944877933,1.9671409006018534,1.9809444264277636,1.9941528713420518,2.0067926570305414,2.0189334558860685,2.0305949666492302,2.0417961104040674,2.052555061277987,2.0628892759297206,2.0728155218731774,2.0823499046831451,2.0915078941269716,2.1003043492646394,2.1087535425579524,2.1168691830279487,2.124664438498121,2.1321519569595289,2.139343887092473,2.1462518979780212,2.1528871980313764,2.1592605531878029,2.1653823043706151,2.1712623842695802,2.1769103334569446,2.1823353158672458,2.1875461336660176,2.1925512415315169,2.1973587603726457]
["Large Office Interior Lights",0,0.14086722897924722,0.28509662776109357,0.40932900315854787,0.5228057457872457,0.63389864445708943,0.70973908086460014,0.7824550250819623,0.85119315187666178,0.91478770431263101,0.97585184640519729,1.0349453281822469,1.091512287741311,1.1467185097348456,1.200034074977995,1.2514822282051683,1.301620296104707,1.350235315967887,1.3976184647856771,1.4428080383245847,1.4859805214311739,1.5272293807974628,1.5666435657782234,1.6043077364718714,1.6403024797957815,1.674704514211512,1.7075868837185626,1.7390191417005236,1.7690675251747316,1.7977951199656605,1.8252620172931926,1.8515254622394612,1.8766399945321148,1.9006575820574514,1.923627747493895,1.9455976884345996,1.9666123913475264,1.9867147397020637,2.0059456165730687,2.0243440020160666,2.0419470654911631,2.0587902535979632,2.0749073733693928,2.0903306713587373,2.1050909087413818,2.1192174326406619,2.1327382438757994,2.1457252876133253,2.1581996356466799,2.1701815279080905,2.1816904053083506,2.1927449412801687,2.2033630720762671,2.2135620258713864,2.223358350715416,2.2327679413830075,2.2418060651632317,2.2504873866311255,2.2588259914413205,2.2668354091823586,2.274528635328779,2.2819181523265892,2.2890159498463376,2.2958335442366451,2.302381997209757,2.3086719337894444,2.3147135595503578,2.3205166771768235,2.3260907023679347,2.3314446791147514,2.3365872943743966]
["Large Office Other",0,0.13589079548904201,0.27282321199918735,0.3905699270960612,0.49814957558111217,0.60355360680751158,0.67454802364087818,0.74259577090752082,0.80691172546840551,0.86630714346107929,0.92334375904415844,0.9785468496929266,1.0313407448350471,1.0829434089599912,1.1328342216288039,1.1809901682697517,1.227934649756748,1.2734935703418584,1.3178493560034481,1.3601458295695072,1.4005414205240869,1.4391248854032175,1.4759806568533922,1.5111890636173928,1.5448265388620555,1.576965817488045,1.6076761230255485,1.6370233446857196,1.6650702051055954,1.6918764192939548,1.7174988452570601,1.7419916267563611,1.7654063286248982,1.7877920650452643,1.8091956211694853,1.8296615684399433,1.8492323739504755,1.8679485041679105,1.8858485233165159,1.9029691867110654,1.9193455293084074,1.9350109497325096,1.9499972900138673,1.9643349112709116,1.9780527655485109,1.9911784640168644,2.0037383417229293,2.0158023871614703,2.027390174538803,2.0385205053209878,2.0492114387396652,2.0594803210935959,2.0693438138934526,2.0788179208955242,2.0879180140681983,2.0966588585333548,2.1050546365231315,2.1131189703909414,2.1208649447140706,2.1283051275237233,2.1354515906969556,2.1423159295435914,2.1489092816198916,2.1552423447995088,2.1613253946310502,2.1671683010104004,2.1727805441948687,2.178171230185137,2.1833491054999659,2.1883225713676335,2.1930996973571331]
["Large Office Motors",0,0.14177634463456756,0.28562894574400138,0.40905992266832619,0.52149508521866095,0.63162469026869461,0.70600864774535754,0.7773403557814792,0.84469855648101333,0.90692440693222398,0.9666671581053452,1.0245143860216033,1.0799125120749871,1.133976332011426,1.1861656374826541,1.2365345204204754,1.2856655956429555,1.3333012253485077,1.3798225690056081,1.4241719460959408,1.4665355676767868,1.5070057755963722,1.5456704319233314,1.5826131459624362,1.6179134892813616,1.6516471994048785,1.6838863727958464,1.7146996477075194,1.7441523774588084,1.7723067946531708,1.7992221668326125,1.8249549440307622,1.8495588986630525,1.8730852581675788,1.8955828307871663,1.9170981248614307,1.9376754619771357,1.9573570843058157,1.9761832564394175,1.9941923620175197,2.0114209954234892,2.0279040488116284,2.0436747947129623,2.0587649644536903,2.0732048226075004,2.0870232376908326,2.100247749298731,2.1129501905703649,2.1251511715247733,2.1368704885494663,2.1481271565205482,2.1589394396548118,2.1693248811438752,2.1793003316184336,2.1888819764888194,2.1980853622062204,2.2069254214871736,2.2154164975422632,2.2235723673483232,2.2314062640019205,2.2389308981903726,2.2461584788151465,2.2531007328010979,2.2597689241236907,2.2661738720850706,2.2723259688686457,2.2782351964006553,2.2839111425460876,2.2893630166652232,2.294599664556046,2.2996295828067645]
["Large Office Office Eqpmt",0,0.13472600919416566,0.27022189433991117,0.38677181192470361,0.49331070420571527,0.59769297734080173,0.66793559739511743,0.73525594981470299,0.79889419482739543,0.85765772779478844,0.91408971048329635,0.96870282632576854,1.0209189491363155,1.07197485222624,1.1213518717096735,1.1690143550465688,1.2154721103077646,1.2605697069038835,1.3044501974867906,1.3462951988265226,1.38625785272332,1.4244261403215519,1.4608837521568361,1.495710306665051,1.5289815571015193,1.5607695875071408,1.5911429983222456,1.6201670822150314,1.6479039906594788,1.674412891767536,1.699750119851964,1.7239693171695039,1.7471215682688013,1.76925552734377,1.7904175389706676,1.8106517525860459,1.8300002310428263,1.8485030535629796,1.8661984133875928,1.8831227104084145,1.8993106390492314,1.9147952716505885,1.9296081375973586,1.9437792984154718,1.9573374190516459,1.9703098355382225,1.9827226192341121,1.9946453775626967,2.0060974554885296,2.017097434285795,2.0276631616868759,2.0378117808407334,2.0475597581280809,2.0569229098784865,2.065916428032752,2.0745549047922038,2.0828523562948953,2.090822245357129,2.0984775033172034,2.1058305510168234,2.1128933189542165,2.1196772666416561,2.1261934011987971,2.1324522952119955,2.1384641038885861,2.1442385815339522,2.149785097378123,2.1551126507775762,2.1602298858169124,2.1651451053340929,2.1698662843919934]
["Large Office Process",0,0.13469927367949755,0.27092971353850359,0.38833411645468413,0.49578906097479408,0.60104239164370887,0.67230244778293502,0.74059461612271027,0.80518244610581224,0.86487284996561864,0.92219653482862829,0.97765938569228839,1.0306807012880932,1.0825159281746353,1.1326530445969019,1.1810443382144531,1.2281927358881519,1.2739557835079391,1.3184488330450579,1.3608867805120417,1.4014196152016796,1.4401361776415913,1.4771209862265609,1.5124544568255496,1.546213110764459,1.578469771822238,1.6092937528419191,1.638751032524264,1.666904422939727,1.693813728264328,1.7195358952166386,1.7441251556463255,1.7676331616994798,1.7901091139621854,1.8115998829613658,1.832150124380826,1.8518023883304799,1.8705972229879726,1.8885732729141944,1.9057673723274822,1.9222146336055468,1.9379485312693123,1.953000981688835,1.9674024187382522,1.9811818656142395,1.9943670030206855,2.0069842339111972,2.0191033683752369,2.0307440700024002,2.0419252261134013,2.0526649784052093,2.0629807523863906,2.0728892856504202,2.0824066550328326,2.0915483026962778,2.1003290611858034,2.1087631774950202,2.1168643361821942,2.124645681573774,2.1321198390913803,2.1392989357368575,2.1461946197686288,2.1528180796012784,2.1591800619590247,2.1652908893125407,2.1711604766274157,2.1767983474514243,2.1822136493667146,2.1874151688319818,2.1924113454387126,2.1972102856046245]
["Large Office Refrigeration",0,0.13131252079649702,0.26261772393437094,0.37567409023844367,0.47921395488894275,0.58071135040036392,0.64875229067361762,0.71394287507834142,0.77559636674873278,0.8324999946146644,0.88715449222075748,0.94003212429618155,0.99054903554772855,1.0399946126891879,1.0878622753748848,1.1340681464093745,1.1790937142820694,1.2228250760072277,1.2652999798744009,1.3058089462894125,1.3444905187101523,1.3814303740913878,1.4167099979524043,1.4504068984711085,1.4825948091930103,1.5133438809819211,1.5427208638037215,1.5707892789011075,1.5976095818857168,1.6232393172443511,1.6477332647280363,1.671143578066292,1.6935199164241437,1.7149095689959841,1.7353575731083233,1.7549068261826561,1.7735981918900654,1.7914706008106818,1.8085611458936919,1.8249051729971457,1.8405363667713117,1.8554868321347133,1.8697871715781937,1.8834665585193522,1.8965528069174322,1.9090724373471764,1.9210507397192407,1.932556168949924,1.9436073928771962,1.954222342379907,1.9644182404710713,1.9742116302426245,1.9836184017069924,1.9926538175790198,2.001332538040097,2.0096686445246585,2.0176756625676533,2.0253665837500514,2.0327538867780008,2.0398495577298301,2.0466651095037509,2.0532116004978156,2.0594996525524358,2.0655394681845753,2.0713408471415815,2.0769132023015144,2.0822655749457684,2.0874066494287709,2.0923447672685582,2.0970879406810905,2.1016438655802667]
["Large Office Ventilation",0,0.1393298833014702,0.2810740096035268,0.40308418542080476,0.51468141232838249,0.62424120676803074,0.69846492544709515,0.76961540799500572,0.83688191128479605,0.89906959765090511,0.95879503918468467,1.0165772935214741,1.0718714279870249,1.1258634067213122,1.1780393772222186,1.2283676468909244,1.2774149592776138,1.3249854713936771,1.3713109201618736,1.4154883314032591,1.4576896456652022,1.4980066495702493,1.536526682432658,1.5733328613515882,1.6085042944301429,1.6421162827697462,1.6742405118527566,1.7049452328917334,1.7342954346912798,1.762353006537756,1.7891768926032894,1.8148232383233014,1.8393455291811118,1.8627947223090044,1.8852193712923406,1.9066657445418029,1.9271779375785865,1.9467979795582424,1.9655659343408436,1.983519996398148,2.0006965818323983,2.0171304147662634,2.0328546093491648,2.0479007476117643,2.0622989533876899,2.0760779625095855,2.0892651894752685,2.1019318180082456,2.1140984000205183,2.12578467608648,2.1370096074724771,2.1477914069019239,2.1581475681058877,2.1680948942070923,2.1776495249833911,2.1868269630549491,2.1956420990376189,2.2041092357033278,2.2122421111866721,2.2200539212753703,2.2275573408207534,2.2347645443030153,2.2416872255846041,2.2483366168837962,2.2547235069992433,2.2608582588150603,2.2667508261148557,2.2724107697319869,2.2778472730622443,2.2830691569641348,2.2880848940709351]
["Other Compressed Air",0,0.14154144204979222,0.28485946817482427,0.4078400152493149,0.51988100582958063,0.62963488982328286,0.7036892592023184,0.77470783130707244,0.84176747853992329,0.90371223326741978,0.96318212015546212,1.0207641058169916,1.0759093050850408,1.1297325652653376,1.1816919096964276,1.2318400236980109,1.2807542760022073,1.328180347099454,1.374497700136615,1.4186503938849826,1.4608251945534168,1.5011141280222942,1.5396047531899639,1.5763803884641914,1.6115203262864697,1.645100036344658,1.6771913580924369,1.7078626831592354,1.7371791282014644,1.7652026987149525,1.7919924442993196,1.8176046058375444,1.8420927550280706,1.8655079266823853,1.8878987441779607,1.9093115384347656,1.9297904607630678,1.9493775899109558,1.9681130336218104,1.986035024994788,2.0031800139251885,2.0195827538863167,2.0352763843000368,2.0502925087296311,2.0646612691157618,2.0784114162642253,2.0915703767827929,2.1042098547566357,2.116350358045314,2.1280115849098595,2.1392124559736816,2.1499711449217385,2.1603051079877815,2.170231112277516,2.1797652629736399,2.1889230294668911,2.1977192704555102,2.2061682580538378,2.214283700949168,2.2220787666444228,2.2295661028227483,2.2367578578686858,2.2436657005792204,2.250300839096687,2.2566740390942539,2.2627956412434873,2.2686755779923424,2.2743233896808022,2.2797482400203082,2.2849589309621061,2.2899639169786252]
["Other Cooking",0,0.13958831664990645,0.28128823955497617,0.40308186068711604,0.51421618452359386,0.62308634049103573,0.69679183945140943,0.7674617925488415,0.83423735039281255,0.89594878177946879,0.9552001452951715,1.0125599358044888,1.0674560839066134,1.1210548577676274,1.1728292657201935,1.2227979681240011,1.2715156239369865,1.318768900756262,1.3648425231608143,1.4087738656504176,1.4507375382922987,1.4908250712416053,1.5291235529197504,1.5657158551607426,1.6006808464647972,1.6340935940104475,1.6660255550396497,1.6965447581957862,1.7257159753618516,1.7536008845153863,1.7802582240877483,1.8057439392880192,1.8301113208261053,1.8534111364453247,1.8756917556519159,1.896999268007322,1.9173775953287815,1.9368685981245841,1.9555121765722603,1.9733463663309303,1.9904074294629523,2.0067299407248349,2.0223468694730764,2.0372896574170878,2.0515882924386206,2.0652713786851051,2.0783662031329619,2.0909440769662697,2.1030254080903767,2.1146297987580427,2.1257760773745691,2.1364823290473449,2.1467659249293694,2.1566435504043713,2.1661312321592474,2.1752443641877526,2.1839977327676245,2.192405540451682,2.2004814291118082,2.2082385020732205,2.215689345374932,2.2228460481909074,2.2297202224450383,2.236323021651772,2.2426651590129607,2.2487569248002903,2.2546082030514953,2.2602284876074505,2.265626897516158,2.270812191828623,2.2757927838106276]
["Other Cooling",0,0.17284428779190739,0.36123317234076674,0.52426699369994378,0.67582398571007707,0.82875366522565652,0.93331505570737627,1.0336780325769719,1.1286956035049402,1.216920309852539,1.3017993543226993,1.3835489948293149,1.4622634879814049,1.5385887009690749,1.6122538303662888,1.6827432935861997,1.7513180267747455,1.8173751752657665,1.8818759454998146,1.9433600562325664,2.0021797421706897,2.058454330331728,2.1122975885611566,2.1638179961127633,2.2131190004583376,2.2602992610573245,2.305452880776909,2.3486696256150856,2.3900351333435128,2.4296311116531912,2.4675355263541756,2.5038227801504673,2.538563882482876,2.5718266109058709,2.6036756644391752,2.6341728093109924,2.663377017487238,2.6913445983598954,2.7181293239475144,2.7437825479419216,2.768353318917304,2.7918884880009052,2.8144328112885955,2.8360290472734859,2.8567180495414886,2.8765388549742532,2.8955287676871686,2.9137690065815254,2.9312891668873147,2.9481176754895522,2.9642818370515895,2.9798078783175939,2.9947209906660759,3.0090453709835114,3.0228042609243775,3.0360199846212996,3.0487139849065001,3.0609068581033116,3.0726183874442121,3.0838675751695992,3.0946726733593861,3.1050512135474437,3.1150200351669399,3.1245953128727288,3.1337925827851181,3.1426267676976041,3.1511122012894646,3.1592626513825013,3.1670913422796647,3.174610976221806,3.1818337539973713]
["Other Exterior Lights",0,0.13659619786549365,0.28757129280353416,0.42101717168491815,0.54497192169530817,0.66590076069961013,0.75499276552784234,0.84035306610174121,0.92159259497785839,0.99747249411427341,1.0703528255060917,1.140699100891452,1.2078351861118084,1.2732954755265666,1.3366571190198608,1.3977715976485761,1.4570318304896965,1.5144990247033001,1.5698712033065758,1.6228245105228316,1.6734622391337872,1.7218891368895017,1.7682050200573074,1.8125050159283376,1.8548797928670491,1.89541577856983,1.9341953671619281,1.9712971157271832,2.0067959308322534,2.0407632455761107,2.0732671876663935,2.1043727389966906,2.1341418871728628,2.1626337694119888,2.1899048092144193,2.2160088461875822,2.2409972593795979,2.2649190844613121,2.2878211250770075,2.3097480586667265,2.3307425370467829,2.3508452820195873,2.3700951762693347,2.3885293497863187,2.4061832620496335,2.4230907801857349,2.4392842533087178,2.4548384489892316,2.4697786042870069,2.4841289599663607,2.4979127998274246,2.5111524884846754,2.5238695076540645,2.5360844910076223,2.5478172576520923,2.5590868442859125,2.5699115360867193,2.5803088963794933,2.5902957951334784,2.5998884363341173,2.6091023842744101,2.6179525888083579,2.6264534096074623,2.6346186394596423,2.6424615266483658,2.6499947964483113,2.6572306717724352,2.6641808930039441,2.6708567370453511,2.6772690356155242,2.6834281928244121]
["Other Heating",0,0.14783367419337404,0.31833388683821479,0.46854785380348984,0.60568876566222885,0.73820240400887815,0.84161169327328222,0.94060438116953771,1.0350318792051674,1.1239513200319209,1.2091300229458806,1.2915818357013098,1.3701245462142901,1.4464699021724361,1.5201414264342832,1.5916067565977754,1.6606976333332737,1.7281895897626345,1.7929984244435528,1.8550954249493645,1.9144997098236021,1.9713318201946066,2.0257066904076035,2.077733920209285,2.1275180331256238,2.1751587217629194,2.2207510807220294,2.2643858277780247,2.3061495139418491,2.3461247229869637,2.384390260992213,2.421021336422212,2.4560897312382628,2.489663963506147,2.5218094419419086,2.552588612812988,2.5820610995895619,2.6102838357197649,2.6373111908823978,2.6631950910518256,2.687985132691876,2.7117286913786587,2.7344710251362749,2.7562553727543055,2.7771230473417061,2.7971135253582848,2.8162645313522097,2.8346595039714826,2.8523282895053144,2.8692995559867596,2.8856008397072905,2.9012585898951024,2.9162982116296252,2.9307441070618823,2.9446197150075717,2.9579475489771125,2.9707492337043639,2.9830455402332765,2.9948564196194192,3.0062010353010464,3.0170977941922459,3.0275643765485993,3.0376177646538274,3.0472742703739581,3.0565495616237235,3.0654586877881318,3.0740161041404592,3.0822356952962831,3.0901307977416037,3.0977142214716205,3.1049982707752579]
["Other Hot Water",0,0.13626988544200502,0.27605971755288494,0.39655271579972717,0.50640351587901133,0.61342780706245159,0.68681754598409217,0.75714090239353804,0.8236172128416267,0.88516458638219864,0.94425018855620779,1.0014437510616583,1.0561281363247441,1.1095757548078915,1.1612090229362897,1.2110887392211074,1.2596592897081731,1.3068417987454051,1.3527327611639532,1.3965125815904624,1.4383344726227978,1.478289347856123,1.5164637177431672,1.5529399123447212,1.5877962923352709,1.621107448905909,1.6529443931704857,1.683374735646894,1.7124628563532598,1.7402700660285464,1.7668547589585377,1.7922725578612837,1.8165764512607272,1.8398169237533304,1.8620420795499917,1.8832977596542784,1.9036276530179836,1.9230734019961011,1.9416747024055094,1.9594693984748317,1.9764935729571049,1.992781632661917,2.0083663896495798,2.0232791383165849,2.0375497285890374,2.0512066354289118,2.0642770248467888,2.0768314282834202,2.0888902155628664,2.1004729523599521,2.1115984319460495,2.122284705681615,2.1325491123049609,2.1424083060647785,2.1518782837420596,2.1609744106052635,2.1697114453408353,2.1781035639995343,2.1861643829974202,2.1939069812088179,2.2013439211871075,2.2084872695477742,2.2153486165467817,2.2219390948860451,2.2282693977765105,2.2343497962881473,2.2401901560150108,2.245799953082404,2.2511882895221245,2.2563639080407305,2.2613352062047936]
["Other Interior Lights",0,0.14052547418437897,0.28367124131977722,0.40674169210188743,0.51902353200113982,0.62898089437022797,0.70362083503413708,0.77519016156841103,0.84281469770574979,0.90532796385065062,0.96534809027187418,1.0234515958315098,1.0790687243633164,1.1333554478860854,1.185781536776213,1.2363773018552857,1.2857071087221947,1.3335422246276682,1.3801973977263742,1.4246845872328904,1.4671817122655348,1.5077812147516574,1.5465710571963942,1.5836349494202717,1.6190525633349668,1.6528997364115512,1.6852486644586888,1.7161680842935099,1.7457234468551457,1.773977081280059,1.8009883504292086,1.8268137983296819,1.8515072899675824,1.8751201438445919,1.897701257687664,1.9192972276796412,1.9399524615581711,1.9597092859110352,1.9786080479778476,1.9966872122509423,2.0139834521521269,2.0305317370467262,2.0463654148419694,2.0615162904032109,2.076014700008681,2.0898895820513776,2.1031685441853321,2.1159232864137008,2.1281745036150919,2.1399420736865462,2.1512450897959057,2.1621018913609427,2.1725300938055079,2.1825466171409853,2.1921677134194186,2.2014089931028624,2.2102854503917335,2.2188114875532658,2.227000938289537,2.2348670901829881,2.2424227062558444,2.2496800456784323,2.2566508836599786,2.2633465305541733,2.2697778502104935,2.2759552776010614,2.2818888357516403,2.287588152004238,2.2930624736377001,2.2983206828716467,2.3033713112780889]
["Other Other",0,0.13982931719673,0.28196956818880797,0.40416973961759017,0.51568932742029305,0.62493793792041086,0.69901302877662153,0.77003681130228141,0.83715374831508527,0.89919169461002935,0.958756112026805,1.0164175699970595,1.0716012158791546,1.1254734487752278,1.1775119155656477,1.2277353215240514,1.2767007548572427,1.3241915712982428,1.3704929892162603,1.4146443878576742,1.4568191775890371,1.4971092561518295,1.5356020641742398,1.5723808109763855,1.6075246884537058,1.6411090736910692,1.6732057209233737,1.7038829434237475,1.7332057858677918,1.7612361876915292,1.7880331379316929,1.8136528220096544,1.8381487608944913,1.8615719430564046,1.8839709495987684,1.9053920729355014,1.9258794293600672,1.945475065833207,1.9642190612983945,1.9821496228169087,1.9993031767983152,2.0157144555869393,2.031416579650581,2.0464411356041912,2.0608182502884662,2.0745766611112741,2.0877437828484737,2.1003910998566373,2.1125391327143488,2.1242075918995491,2.1354154097702631,2.1461807712828107,2.1565211434973417,2.1664533039185603,2.1759933677176369,2.1851568138794626,2.1939585103176777,2.2024127379982223,2.2105332141105505,2.2183331143241016,2.2258250941661446,2.2330213095556779,2.2399334365267021,2.2465726901728686,2.252949842844242,2.2590752416256974,2.2649588251253183,2.2706101396000289,2.2760383544446263,2.2812522770693477,2.2862603671901058]
["Other Motors",0,0.13911689799307925,0.28004930177013609,0.4011649800843356,0.51174873824801514,0.62017014240100554,0.69326323371358733,0.76334722276731359,0.82955770207777524,0.89072434469128736,0.94945818213526501,1.006305244835441,1.060724854322495,1.1138701535788893,1.1652116316280674,1.2147532832933898,1.2630554836934496,1.3099005577720297,1.3555820444765192,1.3991338613510724,1.4407336011272247,1.4804721441383413,1.5184359566040659,1.5547073145714869,1.5893645160179415,1.6224820817641301,1.6541309458096121,1.6843786356682735,1.7132894432488635,1.7409245867950718,1.7673423643707571,1.7925982993487246,1.8167452783358209,1.8398336819429251,1.8619115087856364,1.8830244930799669,1.9032162161770896,1.9225282123620955,1.9410000692236868,1.9586695228847588,1.9755725483677908,1.9917434453538598,2.0072149195798272,2.0220181601048144,2.0361829126643771,2.0497375493188392,2.0627091345909303,2.0751686344200451,2.0871362646468388,2.0986314430416075,2.1096728208100917,2.1202783128555085,2.13046512684592,2.1402497911340874,2.1496481815751283,2.158675547285474,2.1673465353849322,2.1756752147619927,2.1836750989009426,2.1913591678078199,2.1987398890707892,2.2058292380891058,2.2126387175034909,2.2191793758594467,2.2254618255337864,2.2314962599534773,2.2372924701347188,2.2428598605691072,2.2482074644826491,2.2533439584923909,2.2582776766844388]
["Other Office Eqpmt",0,0.14015539920295036,0.282627612603705,0.40504373394289234,0.51669060859940863,0.62602900250623927,0.70005792492301844,0.77104021243358389,0.83809840717374173,0.90006723288030488,0.95956497326473866,1.0171656147290313,1.0723035337743134,1.1261292326199863,1.1781110153288559,1.2282808710894229,1.2772017286086601,1.324643697813181,1.3709239433076641,1.4150507169688218,1.4572016716545908,1.4974686861050228,1.5359391819108534,1.5726963493698116,1.6078193614159819,1.6413835762751665,1.6734607294623836,1.704119115702954,1.7334237613259342,1.7614365876478506,1.7882165658356488,1.8138198637104046,1.838299984927539,1.8617079009449629,1.8840921761676392,1.9054990866354402,1.9259727326007832,1.9455551453233084,1.9642863883907429,1.9822046538579807,1.9993463534803024,2.0157462053014381,2.0314373158428283,2.0464512581269081,2.0608181457544692,2.0745667032440926,2.0877243328302977,2.1003625324136279,2.1125018077794238,2.1241618551963826,2.1353615933742316,2.1461191941597946,2.1564521120212512,2.1663771123684383,2.1759102987551331,2.1850671390074567,2.1938624903208019,2.2023106233659897,2.2104252454437807,2.2182195227253012,2.225706101614477,2.232897129267128,2.2398042733000274,2.2464387407218878,2.2528112961170095,2.2589322791110744,2.2648116211474445,2.2704588616011665,2.2758831632568408,2.2810933271754594,2.2860978069743445]
["Other Process",0,0.1350762752021418,0.27118042912275186,0.3883181557334261,0.49542635172325689,0.60036268621722055,0.67113285844928083,0.73895983682224153,0.80308549993156686,0.86231682980036994,0.91919787093402794,0.9742419378987075,1.0268719335183796,1.0783253947837823,1.1280843085719976,1.1761136901854672,1.2229239176125122,1.2683594805026432,1.3125639364913397,1.3547201485305833,1.3949817032919212,1.433437069309391,1.4701704051818358,1.5052617788500202,1.5387873752532859,1.5708196930037508,1.6014277306800011,1.6306771633082731,1.658630509567101,1.6853472902212647,1.7108841782624287,1.7352951412070936,1.7586315759772138,1.7809424367650462,1.8022743562613561,1.8226717606049498,1.8421769783915682,1.8608303440613734,1.8786702959665249,1.8957334694036307,1.91205478488009,1.9276675318684715,1.9426034482890497,1.956892795947391,1.9705644321413953,1.9836458776404409,1.9961633812281456,2.008186725371556,2.0197354182381493,2.0308281978621943,2.0414830625476661,2.0517173000709321,2.0615475157305867,2.0709896592899506,2.0800590508559527,2.0887704057363692,2.0971378583157718,2.105174984988909,2.1128948261887337,2.1203099075448226,2.1274322602065161,2.1342734403637471,2.1408445479972418,2.1471562448885058,2.1532187719188234,2.1590419656853372,2.1646352744611645,2.1700077735254495,2.175168179888225,2.1801248664339701,2.1848858755068208]
["Other Refrigeration",0,0.13181645882802542,0.26383702024269007,0.37752360490314452,0.48171080990509491,0.58393860422963273,0.65238737491089904,0.71797329894147033,0.77999644447581418,0.83723803302034228,0.89222335831315869,0.94541049265264543,0.99623902384026009,1.0459813606016732,1.0941345278169012,1.1406001567875903,1.1858789799458875,1.2298412625243855,1.2725512812781765,1.3132810122515031,1.3521748172529784,1.3893187014328641,1.4247944659706921,1.4586799226428697,1.4910490969875965,1.5219724206945595,1.5515169138113771,1.5797463573252795,1.6067214566470076,1.6324999964941933,1.6571369876434898,1.6806848059943418,1.7031933243624202,1.7247100373973072,1.7452801799969309,1.764946839570424,1.7837510624814532,1.8017319549855542,1.8189267789575632,1.8353710426887799,1.8510985870179868,1.8661416670458073,1.8805310296681048,1.8942959871510927,1.9074644869585593,1.9200631780300297,1.9321174736977602,1.9436958962006228,1.9548172318099428,1.9654995251624734,1.9757601085382595,1.9856156299826797,1.995082080318306,2.004174819090399,2.0129085994881448,2.0212975922820609,2.0293554088164143,2.0370951230939611,2.0445292929888286,2.0516699806219738,2.058528771932266,2.0651167954749541,2.0714447404780159,2.0775228741856919,2.0833610585173377,2.0889687660686258,2.0943550954810624,2.0995287862047549,2.1044982326783819,2.1092714979493712,2.1138563267563919]
["Other Ventilation",0,0.14092919206622248,0.28478590177522783,0.4085774285213673,0.52195355743016214,0.63361673084259185,0.70915227649524848,0.78156491047113397,0.85003857379587033,0.9133565937528112,0.97417557997204007,1.0330002351246588,1.0893112663573037,1.1442639811125133,1.1973767737692171,1.2485764501701,1.2984675042317215,1.3468437316999406,1.3939476189061855,1.4388671125899744,1.4817807169859147,1.5227814267669402,1.5619577395951747,1.5993938833024692,1.6351700311066524,1.6693625055170154,1.7020439715457776,1.7332836198076125,1.7631473400566549,1.7916978856796169,1.8189950296346185,1.8450957122979836,1.8700541816554563,1.8939221262499835,1.9167488012752785,1.9385811481827666,1.9594639081491252,1.9794397297324118,1.9985492710266377,2.0168312966075481,2.0343227695462356,2.0510589387519977,2.0670734218915006,2.0823982841177502,2.0970641128296137,2.1111000886705567,2.1245340529638872,2.1374376782576445,2.1498319009968214,2.1617368311084122,2.173171784630255,2.1841553150517736,2.1947052434174625,2.2048386872419643,2.2145720882836528,2.223921239221784,2.2329013092805017,2.2415268688412717,2.2498119130836791,2.2577698846929457,2.2654136956710134,2.2727557482865812,2.2798079551980863,2.286581758782281,2.2930881496997668,2.2993376847276084,2.3053405038879595,2.3111063469004955,2.3166445689853443,2.3219641560421582,2.3270737392299536]
["Restaurant Compressed Air",0,0.1414765469710606,0.28656140680734615,0.41149320017577778,0.52559012413714867,0.63732785505303369,0.71364178518133692,0.78681828824623967,0.85598936068494413,0.91998681439598862,0.98143215796400385,1.0409082779891456,1.0978415063153948,1.1533892437296662,1.207033011993605,1.2587967988862754,1.3092512784443193,1.3581613517543329,1.4058441973672349,1.4513206141554584,1.494768154540443,1.5362807779210172,1.5759479052679735,1.6138546481361475,1.6500820256282127,1.6847071699677241,1.7178035213019749,1.7494410123203721,1.7796862432411977,1.8086026476886556,1.8362506499529245,1.8626878140984253,1.8879689853595705,1.9121464242388164,1.9352699336987751,1.9573869798184083,1.978542806262813,1.9987805428967824,2.0181413088540832,2.0366643103571884,2.0543869335659792,2.0713448327186232,2.0875720138133946,2.1031009140665655,2.1179624773686592,2.1321862259492055,2.1458003284486908,2.1588769805469381,2.1714373994291276,2.1835019646795257,2.1950902513478554,2.2062210617102891,2.2169124557765976,2.2271817805929537,2.2370456983879361,2.2465202136073987,2.2556206988820722,2.2643619199700304,2.2727580597144916,2.2808227410558239,2.2885690491350981,2.2960095525250455,2.303156323622872,2.3100209582380162,2.3166145944066301,2.3229479304633149,2.3290312423994251,2.3348744005361173,2.3404868855391836,2.3458778038016619,2.3510559022191804]
["Restaurant Cooking",0,0.14214008594548919,0.2882272805043905,0.41401153414512382,0.52886792231156299,0.64134951936400497,0.71825093733574386,0.79199381786425227,0.8616973911130793,0.92619553064854354,0.98812328267741922,1.0480681064659794,1.1054549595892116,1.161432970421131,1.2154854557038792,1.2676400589239303,1.3184766220204454,1.3677532650007058,1.4158039670277078,1.4616308180989821,1.5054145804242267,1.547249797598421,1.5872264503138938,1.6254301864246889,1.6619425389158577,1.6968411324373827,1.7301998790253557,1.7620891635980795,1.7925760197818255,1.8217242965899232,1.8495948164495997,1.8762455250433807,1.90173163340586,1.9261057526921195,1.9494180220109447,1.9717162296941837,1.9930459283530282,2.0134505440525974,2.0329714799179124,2.0516482144670971,2.0695183949513578,2.0866179259659443,2.102981053581797,2.1186404452339258,2.1336272655896571,2.1479712486077189,2.1617007659876406,2.1748882766781805,2.1875551777352737,2.1997220215130988,2.2114085490107698,2.2226337219025867,2.233415753303813,2.2437721373218964,2.2537196774410813,2.2632745137864703,2.27245214931177,2.2812674749532067,2.2897347937904331,2.2978678442536222,2.3056798224144037,2.3131834033968079,2.3203907619429653,2.3273135921669184,2.3339631265286056,2.3403501540588025,2.3464850378645812,2.3523777319437085,2.3580377973352431,2.3634744176325579,2.3686964138839417]
["Restaurant Cooling",0,0.16388057594168615,0.3417702244606643,0.49602727914931993,0.63911920909765663,0.78227571744915048,0.88072772805410871,0.97521127817651254,1.0646496493664317,1.1476711614842543,1.2275261601118848,1.3045007286121064,1.3785344578084315,1.4504137370771337,1.5197848307919855,1.5862786450029038,1.6509832882059596,1.7133563329601813,1.7742277190458842,1.8322601154885987,1.8877676325941859,1.9408638791182089,1.9916571435224464,2.0402506543096157,2.0867428270421366,2.1312274987545563,2.1737941504300786,2.2145281181747158,2.2535107936877181,2.2908198145940699,2.3265292451738282,2.3607097479938077,2.3934287469195028,2.4247505819590773,2.4547366563666633,2.483445576408982,2.5109332841774008,2.5372531838068491,2.5624562614434847,2.5865911992845598,2.6097044839965373,2.6318405098010418,2.6530416765027289,2.6733484827184562,2.6927996145533153,2.7114320299559718,2.7292810389734017,2.7464254141702411,2.7628929727110529,2.778710433608961,2.7939034610778961,2.8084967061734054,2.8225138467895894,2.8359776260770588,2.848909889344247,2.8613316195019527,2.8732629711086246,2.8847233030716177,2.895731210057491,2.9063045526623061,2.9164604863908776,2.9262154894919932,2.9355853896947743,2.9445853898895504,2.9532300927949153,2.9615335246509962,2.9695091579773627,2.9771699334325228,2.9845282808104496,2.9915961392082275,2.9983849763975257]
["Restaurant Exterior Lights",0,0.1342570009850626,0.28122882744235594,0.41099542876020961,0.53151310657489881,0.6491416581052557,0.73517436371603084,0.81759372003685493,0.89601981119810259,0.96921217181934793,1.0395129651334718,1.1073686457668552,1.1721118200812366,1.2352823729358158,1.2964513726519802,1.3554569605216662,1.4126785101065911,1.4681902346992166,1.5216635692058766,1.5727945528893985,1.6216826596190401,1.6684297216630026,1.713132757627871,1.7558842101496186,1.796772171327639,1.8358805965593947,1.8732895073967946,1.9090751840110103,1.9433103478199949,1.9760643348023605,2.0074032599924161,2.0373901736239262,2.0660852093644779,2.0935457250580884,2.1198264363708432,2.1449795437127528,2.1690548527886779,2.1920998891119292,2.2141600067960354,2.2352784919230344,2.2554966607704854,2.2748539531641452,2.2933880212088362,2.31113481363644,2.3281286559970908,2.3444023269075296,2.3599871305590967,2.3749566855024904,2.389335280203666,2.4031462442812521,2.4164119863594258,2.429154030426445,2.4413930507578439,2.4531489054609446,2.4644406686951212,2.4752866616200819,2.4857044821223977,2.4957110333684982,2.5053225512304715,2.5145546306291591,2.5234222508372923,2.5319397997837272,2.5401210973982069,2.5479794180345339,2.555527512008529,2.5627776262857318,2.569741524352394,2.5764305053020267,2.5828554221684494,2.5890266995351028,2.5949543504491874]
["Restaurant Heating",0,0.15166980536588362,0.33740219297793661,0.50209665634654999,0.65266625964099489,0.79760562803498469,0.91417455402898395,1.0258263019502516,1.1324233326372459,1.2331003188457339,1.3295528620959858,1.4229261520066119,1.5118571884484584,1.5981797537822562,1.6814342928857979,1.7621566951159633,1.8401974417855964,1.9163515613007276,1.9894754020062955,2.0595800003589688,2.1266693907758807,2.1908772133209795,2.2523309626120334,2.3111522825472663,2.3674572462590513,2.4213566220673743,2.4729561261637958,2.5223566627170331,2.5696545520538541,2.6149417475336922,2.6583060417020143,2.6998312622760099,2.7395974584864269,2.777681078271288,2.8141551367907089,2.8490893767069694,2.8825504206503232,2.9146019162686563,2.945304674237986,2.9747167995907979,3.0028938167003627,3.029888788241327,3.0557524284300004,3.080533210831832,3.1042774710084826,3.1270295042626599,3.1488316587253822,3.1697731191640743,3.1898878636061951,3.2092085287124492,3.2277664627305587,3.2455917763585576,3.2627133916001276,3.2791590886912529,3.2949555511743243,3.3101284091928345,3.3247022810769091,3.3387008132871432,3.3521467187815568,3.3650618138679209,3.3774670536012454,3.3893825657838641,3.4008276836232829,3.4118209771007764,3.422380283101635,3.4325227343559419,3.442264787236843,3.451622248461415,3.4606103007374416,3.4692435273977305,3.4775359360619209]
["Restaurant Hot Water",0,0.13960795967686207,0.28342801473950002,0.4072419476461242,0.51999926438772148,0.62995205131667664,0.70535211905092721,0.77762953633292053,0.84592437885296934,0.90915217758153621,0.96984814413842468,1.0286143659536522,1.0848477560059522,1.1397537865462073,1.1927561038907262,1.2439447988106049,1.2938164979631681,1.3422248804762777,1.3893955438956664,1.4343871300029785,1.477370309263877,1.518438149720825,1.5576792213391077,1.5951778231080089,1.6310141981886379,1.6652647377610006,1.698002174186209,1.7292957640651154,1.7592114617420516,1.7878120837716251,1.8151574648375446,1.8413046055851419,1.8663078128035082,1.8902188323688882,1.9130869753380901,1.9349592375590827,1.9558804131456067,1.9758932021434226,1.9950383126977291,2.0133545580141994,2.0308789483899838,2.0476467785758299,2.063691710716141,2.0790458531002614,2.0937398349455294,2.1078028774205726,2.1212628611059885,2.1341914786119105,2.1466097069338028,2.1585376949482993,2.1699947961052453,2.1809995998291392,2.1915699616809245,2.2017230323290713,2.2114752853769502,2.2208425440916546,2.2298400070776352,2.2384822729368041,2.24678336395512,2.2547567488540889,2.2624153646440885,2.2697716376149843,2.2768375034980846,2.2836244268321546,2.2901434195649086,2.2964050589201617,2.3024195045596323,2.3081965150672401,2.3137454637826451,2.3190753540097173,2.3241948336246172]
["Restaurant Interior Lights",0,0.14194688591858823,0.28838053222204763,0.41463736903478493,0.53005741473554646,0.6430918837581342,0.72066954936338912,0.79505493597447785,0.86539443856824549,0.93051387611543834,0.99304324230422569,1.0535573356745911,1.111480329973058,1.167978990872693,1.2225447082392271,1.2751880002516134,1.3264862708880183,1.3762075396542335,1.4246560052635175,1.4708700907333225,1.5150265484285634,1.5572204503936997,1.5975422876774297,1.63607820094293,1.6729101989717101,1.708116365720618,1.7417710565544782,1.7739450842419493,1.8047058952692754,1.8341177369955886,1.8622418161441898,1.8891364490966567,1.91485720443065,1.9394570381177789,1.9629864217747806,1.9854934643394753,2.0070240275224198,2.0276218353657809,2.0473285782226891,2.0661840114530703,2.0842260491156961,2.1014908529208394,2.1180129166934387,2.133825146583018,2.1489589372436968,2.1634442441954764,2.1773096525664828,2.1906276896148027,2.2034199641785528,2.2157072320334659,2.2275094295696425,2.2388457061388252,2.2497344551246887,2.26019334378655,2.2702393419249245,2.2798887494154383,2.2891572226557746,2.2980597999685557,2.3066109260013872,2.31482447516365,2.3227137741380637,2.3302916235035562,2.3375703185045098,2.3445616690000941,2.3512770186260519,2.3577272632000197,2.363922868400258,2.3698738867464666,2.3755899739102437,2.3810804043816467,2.3863540865172754]
["Restaurant Other",0,0.13905539050010168,0.28188168914674472,0.40514712250642043,0.51799301404249487,0.62852150752285041,0.70425204661438556,0.77684737538932103,0.84552214416907556,0.90908798838544336,0.9701330726602958,1.0291951065969649,1.0856942245464134,1.1408460022702593,1.1941499695816067,1.245577892740332,1.2956767229708732,1.3442583023506838,1.391527253281462,1.4366217589697601,1.4797048182708641,1.5208695589166896,1.5602046117931407,1.5977943377778001,1.6337190426476025,1.6680551807073871,1.7008755477536297,1.7322494639531618,1.762242947184183,1.7909188773562221,1.8183371521968283,1.844554834965537,1.869626294529992,1.8936033382148945,1.916535337811639,1.9384693491149636,1.959450225332662,1.9795207246952582,1.9987216125744915,2.0170917584024419,2.0346682276670554,2.0514863692446794,2.0675798983159268,2.0829809750976893,2.0977202796114072,2.1118270826956747,2.1253293134599369,2.1382985102366758,2.1507557158622048,2.1627211424547799,2.1742142042092456,2.1852535488970433,2.195857088122668,2.2060420263856821,2.2158248889954359,2.2252215488837783,2.2342472523592782,2.2429166438447257,2.2512437896380675,2.2592422007353119,2.2669248547524523,2.2743042169819598,2.2813922606180252,2.2882004861833551,2.2947399401890509,2.3010212330578401,2.3070545563397427,2.3128496992481113,2.3184160645428653,2.3237626837866983,2.328898231999005]
["Restaurant Motors",0,0.14085529831653093,0.28492708005619327,0.40888576361719087,0.52211198592245467,0.63312820158606664,0.70860260082381343,0.78097356344876168,0.84937454285185787,0.9126317401260422,0.97337146787678175,1.0321561930993353,1.088429796883037,1.1433440484648223,1.1963873409900432,1.2475637766628478,1.2974465890887685,1.3458100281803458,1.3929611398711659,1.4379252783524634,1.4808808671476332,1.5219210578527627,1.5611344958136066,1.5986055478514392,1.6344145179922991,1.6686378518550771,1.7013483303169947,1.7326152530402645,1.7625046124109418,1.7910792584101065,1.8183990549083928,1.8445210278474442,1.8694995057460042,1.8933862529439593,1.9162305959746571,1.9380795434341385,1.9589778996954754,1.9789683727971248,1.9980916768160217,2.0163866290189856,2.0338902420698299,2.0506378115543078,2.0666629990706222,2.0819979111196569,2.0966731740162436,2.1107180050307157,2.1241602799585544,2.1370718878039479,2.1494737779637725,2.1613860728055982,2.1728281003167171,2.183818425464271,2.1943748803173633,2.2045145929800198,2.214254015381957,2.2236089499722338,2.2325945753591103,2.2412254709377062,2.2495156405454244,2.2574785351835178,2.265127074841661,2.2724736694609513,2.279530239069337,2.2863082331221518,2.2928186490791354,2.2990720502480748,2.305078582924033,2.310847992851953,2.3163896410393705,2.3217125189448722,2.3268252630669557]
["Restaurant Office Eqpmt",0,0.14109409964653308,0.28583009460985437,0.41043196617045286,0.52424278584491868,0.63572732050909775,0.711788234335615,0.7847188022062811,0.85365738449974027,0.91742849194128773,0.97866273933537518,1.0379336557870347,1.0946652590092527,1.1500181507412284,1.2034807473326412,1.2550652211697899,1.3053482167640007,1.3540940821081864,1.401612428178254,1.4469319579718736,1.4902289719806241,1.5315971684569221,1.5711257181405553,1.6088994928032023,1.6449992817653398,1.6795019970421314,1.7124808677379491,1.7440056242743738,1.7741426730037229,1.8029552617292204,1.8305036366237872,1.8568451910119521,1.8820346064534728,1.9061239865428476,1.9291629838158613,1.9511989201325977,1.9722769008858818,1.9924399233647976,2.0117289795847166,2.0301831538780961,2.0478397155241028,2.0647342066798275,2.0809005258614341,2.0963710072099877,2.1111764957638539,2.1253464189474611,2.1389088544747619,2.1519358792824663,2.1644486300342716,2.1764674089717468,2.1880117168552111,2.1991002846041927,2.2097511036887969,2.2199814553213053,2.2298079384953593,2.2392464969182337,2.2483124448798844,2.2570204921007573,2.2653847675986656,2.2734188426134661,2.2811357526267217,2.2885480185120888,2.2956676668507372,2.3025062494447712,2.3090748620603061,2.3153841624306213,2.3214443875485884,2.3272653702764403,2.3328565552998306,2.3382270144520647,2.3433854614333671]
["Restaurant Process",0,0.15466273336109926,0.31646080232311136,0.45508499924417345,0.58097245490525962,0.70417752821109103,0.78877641886208427,0.86997400574226813,0.94657777598976989,1.0174852226789368,1.0855469477031794,1.1514794493931548,1.214771375056684,1.2763116278441065,1.3355726827876515,1.3927349520408758,1.4485307771962774,1.5025077186671485,1.5554630987391898,1.605945326182312,1.6541918204060275,1.7003052732787391,1.7443834588906761,1.7865194796538546,1.8268019995504401,1.8653154652266024,1.9021403155899383,1.9373531805317497,1.9710270693608072,2.0032315495025252,2.0340329159866695,2.0634943522176412,2.0916760824939988,2.1186355167180242,2.1444273877117612,2.1691038815329917,2.192714761162903,2.2153074839167677,2.2369273129096503,2.2576174228909558,2.2774190007444504,2.2963713409341815,2.3145119361614284,2.3318765634833736,2.3484993661305604,2.3644129312473403,2.379648363767378,2.3942823398696138,2.4083386035351944,2.4218399613928261,2.4348083197230843,2.447264720001884,2.459229373040785,2.4707216917795232,2.4817603227839786,2.4923631765006777,2.502547456316929,2.5123296864737354,2.5217257388767771,2.530750858848962,2.539419689866333,2.5477462973174618,2.5557441913248859,2.5634263486656068,2.5708052338262255,2.5778928192268777,2.5847006046467724,2.591239635882864,2.5975205226719247,2.6035534559051015,2.609348224162884]
["Restaurant Refrigeration",0,0.13185755263297538,0.26398737099927144,0.3777781548588578,0.48203588777781764,0.58429724359607582,0.65287075408941164,0.71857587655352995,0.78071635817754448,0.83807378841296221,0.89316745926083008,0.94646416195275807,0.99739164933473268,1.0472283288663311,1.0954712074206558,1.1420286217969693,1.1873972430955366,1.2314492851589289,1.2742438106016039,1.3150563745939041,1.3540294786354745,1.3912492822052482,1.4267977338686892,1.4607527861690972,1.4931885991005103,1.5241757327904744,1.5537813299853955,1.5820692888976839,1.6091004269423412,1.6349326358608987,1.659621028702579,1.683218079106152,1.7057737533010475,1.7273356352228348,1.7479490451160558,1.7676571519765505,1.7865010801657639,1.8045200105109882,1.8217512761880268,1.838230453666293,1.8539914489808214,1.8690665795810226,1.8834866519921953,1.897281035512776,1.9104777321580209,1.9231034430492149,1.9351836314365665,1.9467869244798395,1.9579321488034138,1.9686373878040617,1.9789200109916973,1.9887967021718296,1.9982834865154397,2.0073957565602099,2.0161482971852891,2.0245553096001188,2.0326304343862387,2.0403867736294625,2.0478369121783278,2.0549929380633198,2.0618664621099936,2.0684686367778196,2.0748101742553202,2.0809013638408556,2.0867520886372586,2.0923718415874104,2.0977697408767697,2.1029545447278495,2.1079346656106464,2.1127181838920763,2.117312860946567]
["Restaurant Ventilation",0,0.13850660790764291,0.27991159520211767,0.40181174825245081,0.51353924140226415,0.62332431916024178,0.69765301850213612,0.76891174486986436,0.83629363829752346,0.89859004817166355,0.95843249538809749,1.0163044452223298,1.0716955505297767,1.1257850896944255,1.1780710811093504,1.2284824806239356,1.2776025081818423,1.3252232387165415,1.3715825456520889,1.4157891400157006,1.4580196354165356,1.4983657524197096,1.5369147707552018,1.5737497539268859,1.6089497619801574,1.6425900530755406,1.6747422744791887,1.7054746435468464,1.7348521192454578,1.7629365647260837,1.7897869014330365,1.8154592552070132,1.8400070948144589,1.8634813633112848,1.8859306026263551,1.9074010717287224,1.9279368587224055,1.9475799871934401,1.9663705171159775,1.9843466406072598,2.001544772805314,2.017999638128134,2.0337443521589011,2.0488104993883685,2.0632282070328727,2.0770262151345071,2.0902319431386913,2.1029163423358712,2.1150999934713814,2.1268026648146821,2.1380433442338549,2.1488402700038796,2.1592109603986782,2.1691722421149384,2.178740277573838,2.1879305911449642,2.1967580943349807,2.2052371099819084,2.2133813954942778,2.2212041651728573,2.2287181116511787,2.2359354264896387,2.2428678199566066,2.2495265400286146,2.2559223906404755,2.2620657492149263,2.2679665835002503,2.2736344677431894,2.2790785982233923,2.2843078081746002,2.2893305821167851]
["Retail Compressed Air",0,0.14356682675088622,0.289705499888264,0.41506178826365875,0.5291697309040847,0.64092086675746984,0.71654441202047436,0.78908029628917298,0.85755912305293858,0.92083943354573594,0.9815853820368301,1.040413792192165,1.0967731897582322,1.1517460458240598,1.2047906539547724,1.2559857502509095,1.3059273097618196,1.3543326653721564,1.4016478579986367,1.4467511362071293,1.489837598112973,1.5310008909625585,1.5703301258640305,1.6079101073216568,1.6438215506639327,1.6781412880275222,1.7109424635218404,1.7422947181639403,1.7722643651402306,1.8009145559203434,1.8283054377190366,1.8544943027742788,1.8795357298835236,1.9034817186155151,1.9263818165917446,1.9482832402097463,1.9692309891597708,1.9892679550668813,2.0084350245721474,2.0267711771492771,2.044313577936677,2.0610976658495161,2.077157237221825,2.0925245252149232,2.1072302752155361,2.1213038164347329,2.1347731299072987,2.1477107088839253,2.1601375449002798,2.1720738007991889,2.1835388434453411,2.1945512751484939,2.205128963846172,2.2152890720948304,2.2250480849165175,2.2344218365462236,2.2434255361233113,2.2520737923687131,2.2603806372879349,2.2683595489383257,2.2760234732975522,2.283384845268762,2.2904556088565151,2.2972472365462213,2.3037707479185259,2.3100367275288463,2.3160553420810701,2.3218363569232792,2.3273891518922629,2.3327227365325318,2.3378457647145208]
["Retail Cooking",0,0.14321978048042261,0.28896063862831084,0.41399935213709232,0.52786868096608663,0.6394326568509543,0.71492626635427081,0.78733471647596676,0.85570504112907864,0.91888335874214322,0.97953445540935524,1.0382705800768943,1.0945310336968128,1.1494099218141915,1.2023737031507977,1.2534871697316528,1.3033487039125624,1.3516782969494006,1.3989022347311804,1.4439207745941263,1.4869261087055534,1.5280117251397944,1.5672665831489601,1.6047753423448707,1.6406185797925414,1.6748729956763746,1.707611608162984,1.7389039380494571,1.7688161837528038,1.7974113871651447,1.8247495908698208,1.8508879871858972,1.8758810594824307,1.8997807161792477,1.9226364178277744,1.9444952976435794,1.9654022758416494,1.9854001681059692,2.0045297885066189,2.0228300471603,2.0403380429138762,2.0570891513151093,2.0731171081202651,2.0884540885745251,2.1031307826882544,2.1171764667199264,2.1306190710650359,2.1435309953231374,2.1559331894044949,2.1678457761697985,2.1792880840799929,2.1902786785571755,2.2008353921074426,2.2109753532545624,2.2207150143314234,2.2300701781743402,2.2390560237635411,2.2476871308514297,2.2559775036185878,2.2639405933958994,2.2715893204896567,2.2789360951450766,2.2859928376822198,2.2927709978370014,2.2992815733386647,2.3055351277538634,2.3115418076263046,2.3173113589397625,2.3228531429311738,2.3281761512794703,2.3332890206947967]
["Retail Cooling",0,0.17342888775955789,0.36330722440768148,0.52771774089669043,0.68051003757132922,0.8344105283859965,0.9400381394411863,1.0414279770004036,1.1374130134396074,1.2265441630541174,1.3122926810436095,1.3949042357806403,1.4744446772441673,1.5515518308219829,1.6259564295922697,1.6971682818066398,1.766460438556978,1.8331820809647317,1.8983538084504878,1.9604830487716716,2.0199227301856695,2.0767931518007363,2.1312090163951032,2.1832797023905028,2.2331095220044821,2.2807979663138735,2.3264399379215668,2.3701259718807601,2.4119424454950535,2.4519717775789553,2.4902926177314844,2.5269800261454374,2.5621056444465111,2.5957378580296249,2.6279419503344994,2.6587802494786392,2.6883122676433109,2.716594833586794,2.7436822186390795,2.7696262565131775,2.7944764572502527,2.8182801155988586,2.841082414112527,2.862926521234836,2.8838536846267897,2.9039033199778315,2.9231130955290507,2.941564517631845,2.9592875241660823,2.9763108711397037,2.9926621793460444,3.008367979179241,3.0234537536804384,3.037943979884643,3.0518621685353051,3.0652309022310713,3.0780718720665976,3.0904059128268764,3.102253036792181,3.1136324662084758,3.1245626644759765,3.1350613661064641,3.1451456054979614,3.1548317445734555,3.1641354993285167,3.1730719653308808,3.1816556422133742,3.1899004571999212,3.1978197877027994,3.2054264830278192,3.2127328852226325]
["Retail Exterior Lights",0,0.13504170457729417,0.28375908188332882,0.41519441703453852,0.53735329461665182,0.65657595229223131,0.74403440532592713,0.82781813602764864,0.90755075304698807,0.98199270354319967,1.0535018796202678,1.1225116671211104,1.1883709266076465,1.2526156785510461,1.3148189439117868,1.3748087373895725,1.4329750640679451,1.489388308160454,1.543724595459026,1.5956844328691377,1.6453695997324596,1.6928831292662414,1.738323196819209,1.7817833591167,1.8233527811989367,1.8631164517113021,1.9011553871690041,1.9375468257840966,1.9723644114103658,2.0056783681309724,2.0375556659848635,2.0680601783007178,2.0972528310814837,2.1251917448583124,2.1519323694098067,2.177527611720897,2.2020279575352864,2.2254815868361537,2.247934483571647,2.2694305399245627,2.2900116554094092,2.3097178310647752,2.3285872589945011,2.3466564074975054,2.3639601020132721,2.3805316020978329,2.3964026746335922,2.4116471972882456,2.4262899046695274,2.4403545549252978,2.4538639682917083,2.4668400641195927,2.4793038964391436,2.4912756881205871,2.5027748636862812,2.5138200808274718,2.5244292606768526,2.5346196168860367,2.544407683555121,2.5538093420596684,2.5628398468186226,2.5715138500449739,2.5798454255193293,2.5878480914249629,2.5955348322813974,2.6029181200121001,2.6100099341804825,2.6168217814270314,2.6233647141391137,2.6296493483837415,2.6356858811323995]
["Retail Heating",0,0.15218633293837752,0.33081128078283795,0.48875590661655105,0.63312973449596954,0.7725538380913195,0.88328607874778375,0.98938458841038923,1.0907022154720547,1.1862952568293719,1.2778175250162949,1.3664770149200292,1.4509366386407734,1.532922633439332,1.6120243066692612,1.688801411559758,1.7630442971961049,1.8355434827263797,1.9051498384512979,1.9718782860751558,2.035722883711621,2.0968121986039545,2.1552688461187559,2.2112097772309194,2.2647465514974976,2.3159855962842997,2.3650284529673335,2.4119720107918279,2.4569087290344411,2.4999268480791725,2.5411105899844006,2.5805403490872285,2.6182928731617978,2.6544414356203849,2.6890559992197858,2.7222033717106493,2.7539473538439578,2.7843488801266871,2.8134661526977487,2.8413547686755343,2.8680678413096947,2.8936561152521283,2.9181680762454687,2.9416500555115914,2.9641463291077463,2.985699212503846,3.0063491506211006,3.0261838813071584,3.0452355868936127,3.0635351792348429,3.0811123498632451,3.0979956181644672,3.1142123776508011,3.129788940407821,3.1447505797863826,3.1591215714092447,3.1729252325588577,3.1861839600102191,3.1989192663701864,3.2111518149822,3.2229014534530607,3.2341872458561549,3.2450275036633718,3.2554398154559157,3.265441075462201,3.2750475109691508,3.284274708651362,3.2931376398608623,3.3016506849184939,3.3098276564463314,3.3176818217789963]
["Retail Hot Water",0,0.13801020970305364,0.2795508049757584,0.40137704550705927,0.51230086390900875,0.6203992466717827,0.69436544725966975,0.76525850579679666,0.83224273499106782,0.89424045243241324,0.95375418240261001,1.0113766292877209,1.0664987143149622,1.1203491473519953,1.1723454033715883,1.2225745608056471,1.271506894137189,1.3190258105747581,1.3653077861860081,1.4094517305450518,1.4516215635604328,1.4919089480315981,1.5304011073071493,1.5671810498788274,1.6023277821328938,1.635916509906417,1.6680188294595064,1.6987029084401717,1.7280336573860975,1.7560728922770978,1.7828794886232429,1.8085095275465302,1.8330164342884046,1.8564511095513254,1.8788620540598588,1.9002954867053397,1.9207954566179486,1.9404039494909913,1.9591609884641967,1.9771047298559112,1.9942715540180658,2.0106961515727275,2.0264116052748125,2.0414494677321193,2.0558398352011746,2.0696114176654432,2.0827916053911686,2.095451472575613,2.107611560160326,2.1192915981823344,2.1305105377866069,2.1412865819747471,2.1516372151398033,2.1615792314351219,2.171128762023268,2.1803013012492269,2.1891117317803563,2.1975743487538741,2.2057028829710656,2.2135105231758407,2.2210099374537919,2.22821329378647,2.2351322797942292,2.2417781216996748,2.2481616025424809,2.254293079675135,2.2601825015679928,2.2658394239509128,2.271273025317659,2.2764921218182317,2.2815051815632832]
["Retail Interior Lights",0,0.13986689699979851,0.28210125287354992,0.40434734674000317,0.51590054662657614,0.62519145897078787,0.69921707388336118,0.77019583715171613,0.83726255055937704,0.89924218010036683,0.95875227420059728,1.0163653367859657,1.071506178092352,1.1253330817718274,1.1773274904749533,1.2275063064283553,1.2764351084375098,1.3238827731922282,1.370154062398899,1.4142754006517917,1.4564213384889941,1.496683725145955,1.5351499546865837,1.5719031917310737,1.6070225852649582,1.6405834711818288,1.6726575641753718,1.7033131395617258,1.732615205580492,1.7606256666919566,1.7874034783590693,1.8130047937753688,1.8374831029742791,1.8608893647308868,1.883272131644409,1.9046776687679472,1.9251500661317711,1.9447313454871509,1.9634615615796571,1.9813788982437612,1.9985197595944522,2.014918856576398,2.0306092891168306,2.0456226241148245,2.0599889694868634,2.0737370444765575,2.0868942464250146,2.0995320352526559,2.1116709160783604,2.1233305845306756,2.1345299587044479,2.1452872098558964,2.1556197918859108,2.1655444696594333,2.1750773462068573,2.1842338888515824,2.1930289543061265,2.2014768127774968,2.2095911711209513,2.217385195079701,2.2248715306466491,2.2320623245828206,2.2389692441257765,2.24560349591999,2.2519758441999,2.2580966282551391,2.263975779206286,2.2696228361183475,2.2750469614781221,2.2802569560605583,2.285261273208226]
["Retail Other",0,0.1399466119509247,0.28239850589005994,0.40486277434166623,0.51663987946923529,0.62616710720752833,0.70040655511860306,0.77158960922516273,0.83885476179629737,0.90102660308250349,0.96072178692678045,1.0185099905793613,1.0738191881372285,1.1278089052647429,1.1799609086094318,1.2302892850242193,1.2793594852525967,1.3269450144225599,1.3733442642218605,1.4175884416526876,1.4598524029657414,1.5002281855448503,1.5388033642905932,1.5756612776298669,1.6108812415959748,1.6445387526320676,1.6767056797339788,1.7074504465138185,1.7368382037330237,1.7649309928227621,1.7917879008805668,1.8174652076047126,1.8420165246020634,1.8654929274808023,1.8879430811165319,1.9094133584586257,1.9299479532233303,1.9495889868008986,1.9683766096859183,1.9863490977229035,2.0035429434430974,2.019992942753229,2.0357322772226238,2.0507925922015309,2.0652040709907649,2.0789955052707176,2.0921943619864156,2.1048721611562335,2.1170494728168028,2.1287460549516299,2.1399808855489093,2.1507721933937654,2.1611374876448992,2.1710935862436256,2.1806566432013876,2.189842174810035,2.1986650848173799,2.2071396886088936,2.2152797364347641,2.223098435720011,2.2306084724938531,2.2378220319730979,2.2447508183329532,2.251406073697332,2.2577985963794753,2.2639387584024728,2.2698365223281267,2.2755014574214445,2.280942755177009,2.2861692442323971,2.2911894046928598]
["Retail Motors",0,0.14164186668973977,0.28625949602698619,0.41051574337891994,0.52382314283531062,0.63480747378006153,0.71013975225992942,0.7823811674684702,0.85062735993234162,0.91371512763003948,0.97428529750651127,1.0329304197059088,1.0890811809622283,1.1438664080712608,1.1967630539111538,1.2478109660835497,1.2975920385883131,1.3458514598835201,1.3929511281187241,1.437860979883427,1.4807632857992445,1.5217512264951554,1.5609134710539099,1.5983344051982302,1.6340943474469971,1.6682697538991105,1.7009334122656772,1.7321546257362739,1.7619993872321371,1.7905305445681305,1.8178079570161163,1.8438886437348085,1.8688269245052236,1.8926745531863518,1.9154808442826046,1.937292792992819,1.9581551890900806,1.9781107249622769,1.9972000981250404,2.0154621085015223,2.0329337507472047,2.0496503018826466,2.0656454044825989,2.080951145656305,2.0955981320409287,2.1096155610179257,2.1230312883507154,2.1359173966330993,2.1482947938882946,2.1601835627435393,2.1716029930146417,2.1825716130041743,2.1931072195640944,2.2032269069715671,2.212947094664846,2.2222835538842092,2.2312514332611788,2.2398652833975441,2.2481390804740644,2.2560862489271623,2.2637196832303972,2.2710517688160614,2.278094402170844,2.2848590101381694,2.2913565684585282,2.2975976195778816,2.3035922897530359,2.3093503054817406,2.3148810092841656,2.3201933748613675,2.3252960216553373]
["Retail Office Eqpmt",0,0.13987886840924527,0.28208850718019013,0.40425331899125233,0.51568684089134864,0.62486473367912265,0.69870375708410515,0.76950342859799781,0.8363889247141596,0.89819227136325774,0.9575319017750632,1.014981506111408,1.0699709778254465,1.1236526011595784,1.1755023796264508,1.2255418821302884,1.2743373971754448,1.3216574730691739,1.3678156077777754,1.4118260449305085,1.4538653769048984,1.4940252889288195,1.532393017173963,1.5690515742649611,1.6040799628769575,1.637553378073864,1.6695433990027557,1.7001181705252217,1.7293425753338101,1.7572783970709422,1.783984474938654,1.8095168502601826,1.833928905428635,1.8572714956536849,1.8795930738943334,1.9009398093441672,1.9213556998151879,1.9408826783470841,1.9595607143507014,1.9774279095773961,1.9945205891898428,2.0108733881946765,2.0265193334830132,2.0414899217113787,2.0558151932428093,2.069523802355862,2.0826430839179055,2.0952444493602678,2.1073483447040027,2.1189744088128633,2.1301415052578356,2.1408677529237394,2.1511705554075582,2.1610666292561977,2.1705720310894892,2.1797021836524433,2.1884719008390285,2.1968954117280743,2.2049863836702941,2.2127579444638972,2.2202227036547559,2.2273927729957022,2.2342797860981376,2.2408949173078541,2.247248899835677,2.2533520431723622,2.2592142498159942,2.2648450313390294,2.2702535238210535,2.2754485026722917,2.2804383968719248]
["Retail Process",0,0.1398689840571071,0.28295885591873904,0.40605439430081069,0.51838716321384481,0.62834120481978417,0.70320334289253283,0.77497992637993585,0.84281735413262149,0.90554577523403168,0.96577282121676944,1.0240796772059362,1.0798767496693424,1.1343334391435809,1.1869347686823561,1.2377055907613148,1.2872007009127435,1.33519846214104,1.3819878169474447,1.4266110500474882,1.4692393029684163,1.5099651822607667,1.5488768104165878,1.5860580526738302,1.6215887318634483,1.6555448319529185,1.6879986909030706,1.7190191834204351,1.7486718941546127,1.7770192818593638,1.8041208350070577,1.8300332193187558,1.8548104176463787,1.8785038626190862,1.9011625624430488,1.922833220222163,1.9435603471468572,1.9633863698789125,1.9823517324420701,2.0004949929110887,2.017852915175784,2.0344605560413505,2.0503513479119109,2.0655571772906809,2.0801084593173611,2.0940342085513031,2.107362106197602,2.1201638520878126,2.1324602173651259,2.1442711531804304,2.1556158230635392,2.166512634016482,2.1769792663793126,2.1870327025168881,2.1966892543731711,2.2059645899377491,2.2148737586675336,2.2234312159048639,2.2316508463316533,2.239545986497621,2.2471294464591689,2.2544135305640083,2.2614100574152611,2.2681303790474319,2.2745853993453578,2.2807855917360271,2.2867410161819683,2.2924613355037828,2.2979558310583066,2.3032334177978355,2.3083026587348532]
["Retail Refrigeration",0,0.13171334341192975,0.26363005618280511,0.37722528982040016,0.48132864378106988,0.58345356841109719,0.65179450443362152,0.71727651823783833,0.77919346360174857,0.83633491564790041,0.89122393887513163,0.9443180770682742,0.99505980642108793,1.0447223204027083,1.0927974232670699,1.139186248650909,1.1843896937263378,1.2282764335110088,1.2709161777667703,1.3115776668278969,1.3504063483267232,1.3874880795275273,1.4229045210265137,1.4567333509438161,1.4890484677328772,1.5199201822335662,1.5494153995599542,1.5775977913802561,1.6045279591149888,1.6302635885497259,1.6548595963308996,1.6783682687867507,1.7008393934907144,1.7223203839611363,1.7428563978691576,1.7624904491058229,1.7812635140398763,1.799214632279222,1.816381002231624,1.832798071743784,1.8484996240824556,1.8635178595066448,1.8778834726661724,1.8916257260488876,1.9047725196865581,1.9173504573179143,1.9293849091964062,1.9409442712927387,1.9520472989522648,1.9627120071066457,1.9729556995035156,1.98279499678223,1.9922458634412583,2.0013236337409688,2.0100430365838369,2.0184182194124496,2.0264627711640704,2.0341897443190224,2.041611676078654,2.0487406087072504,2.0555881090709005,2.0621652874050187,2.0684828153409689,2.0745509432210478,2.0803795167299124,2.085977992869442,2.091355455302955,2.0965206290936691,2.1014818948613323,2.106247302379979,2.1108245836388853]
["Retail Ventilation",0,0.14063547893644629,0.28432824062557904,0.40799999537524523,0.52115080953027126,0.63232924900802401,0.70761189679426617,0.77979594741857938,0.84802698882435235,0.91110751999779582,0.97169293667880885,1.0303062144982966,1.0864244240173515,1.1411917639187912,1.1941071366539056,1.2451326509344345,1.2948675811111521,1.3430774944699753,1.3900638776315648,1.4348660334889027,1.4776666826110658,1.5185586624788006,1.5576303187793963,1.5949657324424191,1.6306449347131116,1.6647441109171355,1.6973357935335327,1.728489045158103,1.7582696319067173,1.7867401877772722,1.8139603704599641,1.8399870090581867,1.8648742441565513,1.8886736606482075,1.9114344137107029,1.9332033482979929,1.9540251124958259,1.9739422650684897,1.9929953775067701,2.0112231308698707,2.0286624076979001,2.0453483792563119,2.0613145883593353,2.076593028005862,2.0912142160484959,2.1052072661044017,2.1185999549051902,2.1314639341586616,2.1438200759831463,2.1556884285184306,2.1670882484543492,2.1780380322752291,2.1885555462708881,2.1986578553628662,2.2083613507926789,2.2176817767170021,2.2266342557529479,2.2352333135148781,2.2434929021825667,2.2514264231389483,2.2590467487141872,2.2663662430713467,2.2733967822675427,2.2801497735231337,2.2866361737302139,2.2928665072304351,2.2988508828910064,2.3045990105065783,2.3101202165536168,2.3154234593228398,2.3205173434542621]
["School Compressed Air",0,0.13985828173077786,0.28191792553992484,0.40426205090493256,0.51563026435481152,0.624191715486484,0.69830885200667858,0.76935758244967312,0.83646907133764326,0.89852607965715026,0.95807678962027853,1.0157787893090477,1.0709680466160558,1.1248796540926971,1.1769031591627874,1.2271628842854634,1.2761822791267303,1.3237269926147786,1.3700875792005196,1.4142970539240007,1.4565281630267737,1.496872838862445,1.5354185575052821,1.572248564385109,1.6074420880155993,1.6410745424673885,1.6732177192007327,1.7039399688378447,1.7333063734224459,1.761378909683339,1.788216603789863,1.8138756780597767,1.8384096900544067,1.8618696644716177,1.884304218224311,1.9057596790705769,1.9262801981413094,1.9459078566919048,1.9646827673865952,1.9826431704069007,1.9998255246596168,2.0162645943445607,2.0319935311280037,2.0470439521542034,2.0614460141147157,2.0752284835831358,2.0884188038115883,2.1010884034931294,2.1132578393605206,2.1249468566186045,2.1361744209813782,2.146958749444325,2.1573173398419301,2.1672669992383429,2.1768238711972447,2.1860034619751736,2.1948206656808011,2.2032897884409852,2.2114245716128074,2.2192382140792586,2.2267433936647461,2.2339522877051721,2.240876592805956,2.2475275438200599,2.2539159320768114,2.2600521228910959,2.2659460723813316,2.2716073436235136,2.2770451221675363,2.282268230940971,2.2872851445644793]
["School Cooking",0,0.14564334015893293,0.29522227293422965,0.42418664736439954,0.54123068531039253,0.65450289459925337,0.73334838787444467,0.80895748161402881,0.88035407371453789,0.94644832508251864,1.0098730432120784,1.0713650630819394,1.1302253655632939,1.1876216561822386,1.2429128132984177,1.2963523757594131,1.3484992842832153,1.3990316226300268,1.4484247653159441,1.4955302246667987,1.5405394561934411,1.5835492589234317,1.6246517705338219,1.6639347018668642,1.7014815591408765,1.7373718545262993,1.7716813057193765,1.8044820251104325,1.8358426991103016,1.8658287581669628,1.8945025379747369,1.9219234323504057,1.9481480382242162,1.9732302931688424,1.9972216058659047,2.0201709798875216,2.0421251311494846,2.0631285993729596,2.0832238538730641,2.102451393975119,2.1208498443428878,2.1384560454874828,2.1553051397109417,2.1714306527245686,2.1868645711690529,2.2016374162509975,2.2157783136988338,2.2293609642106356,2.2424074059662802,2.2549388071339345,2.2669755002159193,2.2785370150386877,2.2896421104404445,2.3003088047078117,2.310554404810941,2.3203955344844873,2.329848161200025,2.3389276220736566,2.3476486487508552,2.3560253913089175,2.3640714412158066,2.371799853382639,2.3792231673455939,2.3863534276116156,2.3932022032009166,2.3997806064179956,2.4060993108816198,2.4121685688430299,2.4179982278204672,2.4235977465770104,2.4289762104676491]
["School Cooling",0,0.17309948633320443,0.35743745183402637,0.51530302132209338,0.66118919523784547,0.80833012302792751,0.90648786010580173,1.0006751629524486,1.0896312382223563,1.1718320390177794,1.2509115914353426,1.3272790448449916,1.4008087954366837,1.4720975045470353,1.5408557635220967,1.6066236449452727,1.6708501232455655,1.7326198201107095,1.7931896452375948,1.8508990840904753,1.9060916706373687,1.9588809949276611,2.0093753088722415,2.0576777884311732,2.1038867823416685,2.1480960481059754,2.1903949759189674,2.2308688011776687,2.2695988061795247,2.3066625115828026,2.3421338581710036,2.376083379433414,2.408578365445865,2.4396830185093163,2.4694586009788679,2.4979635756922431,2.5252537393845431,2.5513823494550443,2.5764002444320093,2.6003559584627531,2.623295830138531,2.6452641059471458,2.6663030386303928,2.6864529807086073,2.7057524734205027,2.7242383313132268,2.7419457227050272,2.758954070982619,2.7752909726035884,2.7909829345870381,2.8060554175218662,2.8205328768771905,2.8344388026819396,2.8477957576379946,2.8606254137287213,2.8729485873822864,2.8847852732468193,2.8961546766322126,2.9070752446712032,2.9175646962502935,2.9276400507590723,2.9373176557045908,2.9466132132355853,2.955541805619597,2.9641179197143157,2.9723554704728583,2.9802678235211175,2.987867816843814,2.995167781614438,3.0021795622028766,3.0089145353931932]
["School Exterior Lights",0,0.13183929477426654,0.27565539364771446,0.4027327757262929,0.52086121753143821,0.6361046382980059,0.72038775021752621,0.80111915059177496,0.87796930753547087,0.94968215613772233,1.018562102189736,1.0850471026258344,1.1484472323513863,1.2103422380764608,1.2703048310650382,1.3281593123227777,1.384255856341994,1.4386955165853408,1.4910793576650896,1.5411759361762223,1.5890717522048701,1.6348668958508294,1.6786567172438926,1.7205320610237393,1.7605794887081077,1.7988814895999703,1.8355166808483094,1.8705599972429925,1.9040828712921178,1.9361534040998847,1.9668365275344541,1.996194158148292,2.0242853432880556,2.051166399807077,2.0768910457708532,2.1015105255245925,2.1250737284716998,2.1476273018930563,2.1692157581189955,2.1898815763489261,2.2096652993975519,2.2286056256315359,2.2467394963462017,2.2641021788183848,2.2807273452588572,2.296647147875718,2.3118922902488221,2.3265355928836358,2.3406008148938304,2.3541107774432444,2.367087400773773,2.3795517397714958,2.3915240181287354,2.4030236611574938,2.4140693273074869,2.4246789384399365,2.4348697089062217,2.4446581734785826,2.4540602141781904,2.4630910860441082,2.4717654418849673,2.4800973560534998,2.4881003472825189,2.4957874006193932,2.5031709884945963,2.5102630909585315,2.5170752151194526,2.5236184138140274,2.5299033035408303,2.5359400816858719,2.5417385430681039]
["School Heating",0,0.15486743532752195,0.33557125886927008,0.49533560030521362,0.64070894722491301,0.78024151826673316,0.89153194795956192,0.99817406140665588,1.099879033704861,1.1958333513606283,1.2876949904705834,1.3766666600925406,1.4614592585146433,1.5438006895178253,1.623155152921457,1.7001879444895232,1.7746943788530665,1.847426030082274,1.9174138120572182,1.9844776456220561,2.0486430640704616,2.1100392962034915,2.1687895873191243,2.2250114882908729,2.2788171300509976,2.3303134842467808,2.379602610796363,2.4267818930310132,2.4719442610733231,2.5151784040655407,2.5565689718289231,2.5961967665035637,2.6341389246884561,2.6704690905735071,2.7052575805287766,2.7385715395911805,2.7704750902653261,2.8010294740328145,2.8302931859433027,2.8583221026407113,2.8851696041591506,2.9108866898053929,2.9355220884279061,2.9591223633566202,2.9817320122825808,3.0033935623324837,3.0241476605796698,3.0440824394166559,3.0632302435055871,3.0816221406229927,3.0992879720680078,3.1162564010806055,3.132554959348397,3.148210091677464,3.1632471988996969,3.177690679086262,3.1915639671340625,3.2048895727894275,3.2176891171707211,3.2299833678491328,3.2417922725445614,3.2531349914912804,3.2640299285258774,3.2744947609479285,3.2845464682018428,3.2942013594264274,3.303475099916855,3.31238273654199,3.3209387221582944,3.3291569390599411,3.3370507215031715]
["School Hot Water",0,0.14189572651037882,0.28847232126874178,0.41459928965452031,0.52915019368440275,0.64051516381458218,0.71722631334843368,0.79077625238543769,0.86024164599635966,0.92459384244383347,0.98635052246160237,1.0461612793694923,1.1034369624168632,1.1593463494281486,1.2132545823422189,1.2653458174673997,1.3161030925824966,1.3653822237357016,1.4134679343484546,1.4593263414342139,1.5031397441210126,1.5450027993077811,1.5850055943522279,1.6232338775238084,1.659769276338793,1.6946895044384962,1.728068557634548,1.7599768997100742,1.7904816385326376,1.8196466930036723,1.8475329513398171,1.8741984211538991,1.8996983717772511,1.9240854692404652,1.9474099043065127,1.969719513928309,1.9910598964821811,2.0114745211092773,2.0310048314786093,2.0496903442681407,2.0675687426440028,2.0846759650025617,2.1010462892255095,2.1167124126844801,2.1317055282187423,2.1460553962973439,2.1597904135655521,2.1729832070226727,2.185655182296057,2.1978268999729225,2.2095181089604021,2.2207477785286285,2.2315341290888302,2.2418946617563948,2.2518461867468518,2.2614048506508539,2.270586162632414,2.2794050195928985,2.2878757303416113,2.296012038812183,2.3038271463624391,2.3113337331939214,2.3185439789258226,2.325469582356714,2.3321217804461307,2.3385113665468098,2.3446487079171665,2.3505437625424257,2.3562060952916895,2.3616448934371745,2.3668689815607791]
["School Interior Lights",0,0.14250379447029846,0.28925870122906244,0.41588325491098832,0.53117152310130489,0.64314801555676282,0.72070805393774973,0.79507056671776777,0.86533762963672833,0.93038050070373923,0.99281352286861579,1.0533053776477093,1.1111897412412821,1.1676658329203782,1.2221309307451529,1.2747419914851883,1.3260524499433912,1.375775540848905,1.4242957494166857,1.4705756366039875,1.5147947915193696,1.5570484374213134,1.5974272089492676,1.6360173831317437,1.6729010982665815,1.7081565613340992,1.7418582445667468,1.7740770717638952,1.8048805949074398,1.8343331616028189,1.8624960738407597,1.8894277385474409,1.9151838103647354,1.9398173270776375,1.9633788380828388,1.9859165262705758,2.0074763236712991,2.0281020211992846,2.0478353728069987,2.0667161943467458,2.0847824574198421,2.1020703784781678,2.1186145034284478,2.1344477879759229,2.1496016739311568,2.1641061616915218,2.1779898790974088,2.1913255023861291,2.2041346689299011,2.2164381619121039,2.228255944048501,2.2396071899772276,2.2505103173701069,2.2609830168157696,2.2710422805230621,2.2807044298913195,2.2899851419922297,2.2988994750062632,2.3074618926549357,2.3156862876685489,2.3235860043274803,2.3311738601136014,2.338462166506956,2.3454627489614319,2.3521869660918475,2.3586457281035811,2.364849514494642,2.3708083910589113,2.3765320262181366,2.3820297067091802,2.3873103526519746]
["School Other",0,0.13985313766532126,0.2826753738843541,0.40582102258641634,0.5178166282246518,0.62634203448963854,0.70128928787278177,0.77313206632286557,0.84099198077233617,0.90375314981457677,0.9639923295895404,1.0223869690521004,1.0782231703784884,1.1327416353752333,1.1853362823601179,1.2361650773806767,1.2857559716264906,1.333830960318847,1.3807338329989682,1.4254708122372537,1.4682091911813158,1.5090416639544257,1.548056440628458,1.5853374738132917,1.6209646733106327,1.6550141094842905,1.6875582059622611,1.7186659222513665,1.7484029268126209,1.776831761114763,1.8040119951544424,1.8300003749042444,1.8548509621240092,1.8786152669466354,1.9013423736266859,1.923079059818543,1.9438699097305188,1.963757421482152,1.982782108973818,2.0009825985607366,2.0183957208073449,2.0350565975828419,2.0509987247443635,2.0662540506407625,2.0808530506571858,2.094824798008633,2.1081970309793108,2.1210413619472082,2.1333786311508365,2.1452288561086967,2.1566112640981885,2.1675443233523355,2.1780457730249378,2.1881326519727842,2.197821326401606,2.2071275164206452,2.2160663215489125,2.2246522452145232,2.2328992182868608,2.2408206216797506,2.2484293080623168,2.2557376227127501,2.262757423548821,2.2695001003676385,2.2759765933258729,2.2821974106904239,2.2881726458883405,2.2939119938836501,2.2994247669076722,2.3047199095683411,2.3098060133630471]
["School Motors",0,0.14023989147059301,0.28325660955584098,0.4065418538835654,0.51878475510187561,0.62799140858744351,0.70304673029718889,0.77499221388434303,0.84297090699525457,0.9058423675458841,0.96618728289096245,1.0246587919201,1.0805718344368302,1.1351761577072257,1.1878616404999653,1.2387512880474016,1.2883913658660771,1.336523602772568,1.3834588152551113,1.4282214529688475,1.4709835656375791,1.5118379794724985,1.5508730279805607,1.5881727791056441,1.6238172503995232,1.6578826128768434,1.690441384171453,1.7215626115767453,1.7513120455199469,1.7797523039894607,1.8069430284053147,1.8329410313953605,1.8578004369140617,1.8815728131163461,1.9043072983760509,1.9260507208168458,1.9468477117031044,1.9667408130189534,1.9857705795455682,2.0039756757296705,2.021392967620034,2.0380576101335621,2.0540031298981396,2.0692615039058992,2.0838632341977439,2.0978374187879041,2.1112118190259044,2.1240582317028815,2.1363975004349696,2.1482496459849534,2.1596338987464399,2.1705687299456393,2.181071881611377,2.1911603953619654,2.2008506400556436,2.2101583383494465,2.2190985922095972,2.2276859074148136,2.2359342170922858,2.2438569043245136,2.2514668238636815,2.2587763229888069,2.2657972615394986,2.2725410311588359,2.2790185737765838,2.2852403993627401,2.291216602980219,2.2969568811643302,2.3024705476556484,2.3077665485117795,2.3128534766225575]
["School Office Eqpmt",0,0.13860244168421626,0.27998585751336169,0.40181065514723208,0.51275817270911483,0.62059052332377507,0.69455705583922267,0.76545716911859785,0.83244117656736749,0.8943667919549213,0.95380901191498035,1.0114171571795703,1.0665020006695991,1.1203067103297042,1.1722363785418548,1.2224036854017248,1.2713459251355537,1.3187976805482253,1.3650676758650089,1.4091980434487577,1.4513542654947218,1.491628041352659,1.5301066273164796,1.566873061492901,1.6020063768085691,1.6355818028044025,1.6676709568293535,1.6983420252113606,1.7276599349507915,1.7556865164511004,1.7824806577725809,1.8080984508679208,1.8325933302326454,1.8560162043793769,1.8784155805220755,1.899837682834941,1.9203265646304233,1.9399242147816851,1.9586706586968627,1.9766040541354828,1.9937607821413796,2.010175533351346,2.0258813899244967,2.0409099033238749,2.0552911681691524,2.0690538923672883,2.0822254637167315,2.0948770546776796,2.1070291927633082,2.1187015951123898,2.1299132004808286,2.1406821999702519,2.1510260665435141,2.1609615833750024,2.1705048710817434,2.1796714138794968,2.1884760847062701,2.1969331693540202,2.2050563896477007,2.2128589257092508,2.2203534373426681,2.2275520845748424,2.2344665473854994,2.2411080446582461,2.2474873523834851,2.2536148211427203,2.2595003929026229,2.265153617146118,2.2705836663666497,2.2757993509507735,2.2808091334732241]
["School Process",0,0.15032596243870272,0.30617921563337869,0.44094730470382104,0.56246146053868873,0.67933718640536533,0.76297347094519308,0.84315217582825852,0.91900869274058916,0.98924775532227527,1.0566371347451853,1.122065577795313,1.1845584858288463,1.2454336297244732,1.30395770748,1.3606032562515651,1.4159764244526976,1.4696405508603587,1.5220923965468793,1.5721425198836447,1.6199691038430415,1.6656746209624937,1.7093566201120161,1.7511079736542881,1.7910171116632958,1.8291682439050043,1.8656415702440776,1.9005134801034977,1.9338567415688943,1.9657406806963622,1.9962313515514036,2.0253916974772688,2.0532817040632847,2.0799585442576567,2.1054767160446053,2.1298881730824819,2.1532424486776125,2.1755867734479555,2.1969661870111783,2.217423644013377,2.2370001147973095,2.2557346809926599,2.2736646262954063,2.2908255226887921,2.307251312344639,2.3229743854307832,2.3380256540381308,2.352482736554073,2.3663690899456227,2.3797072451579457,2.3925188436713674,2.4048246726151974,2.4166446984953533,2.4279980995904982,2.4389032970692659,2.4493779848790518,2.4594391584548712,2.469103142294867,2.478385616447202,2.487301641951317,2.4958656852748358,2.5040916417857559,2.5119928582980222,2.5195821547270545,2.5268718448903749,2.533873756487071,2.5405992502885275,2.5470592385715509,2.5532642028238071,2.5592242107502852,2.5649489326083947]
["School Refrigeration",0,0.13127222710627948,0.26250134497682226,0.37548740786461943,0.47895802464638976,0.58037957256092465,0.64833801700374583,0.71344891404826638,0.77502366587097582,0.83184945645216646,0.88642997202440299,0.93923658619589867,0.98968620435617161,1.0390677860110453,1.0868723610946174,1.1330166905387018,1.1779843920189554,1.2216582361312491,1.2640798847038024,1.3045369844089896,1.3431688247894238,1.3800609936298793,1.4152948910813741,1.4489479435887422,1.4810938064406349,1.511802555568428,1.5411408691850501,1.5691721998213202,1.5959569372858897,1.6215525630452146,1.6460137964920212,1.6693927335443761,1.6917389779926388,1.7130997659881708,1.7335200840456095,1.7530427809097215,1.7717086736182479,1.7895566480736664,1.8066237544193759,1.8229452974993772,1.8385549226650295,1.8534846971778556,1.8677651874435877,1.8814255322996551,1.8944935125660509,1.9069956170579603,1.9189571052476224,1.9304463840773813,1.9414820951807901,1.9520821442667653,1.9622637301720336,1.9720433727666629,1.9814369397579505,1.9904596724361634,1.9991262104039025,2.0074506153292111,2.0154463937609748,2.023126519043621,2.0305034523666898,2.0375891629834109,2.0443951476311115,2.0509324491849492,2.057211674575246,2.0632430119974883,2.0690362474429236,2.0746007805765663,2.0799456399883831,2.0850794978423997,2.0900106839474968,2.0947471992727271,2.0992967289290809]
["School Ventilation",0,0.14966007000093445,0.30433332315115363,0.4372229447064197,0.55812610084668535,0.67644571060494518,0.75807024627669617,0.83632489700561596,0.91026575345830063,0.9787457401761307,1.0444800841197532,1.1081729229535129,1.1691597313854638,1.2285495560067907,1.2858115207965202,1.3410692372115101,1.3949688802034872,1.4472023231897475,1.4982027257694921,1.5468503698591196,1.5933396034875678,1.6377697594776426,1.6802354044768713,1.7208265779028669,1.7596290183912644,1.7967243784249494,1.8321904277852745,1.8661012464301285,1.898527407369917,1.9295361500806834,1.9591915449635444,1.9875546493313239,2.0146836553765461,2.0406340305497932,2.0654586507536745,2.0892079267352646,2.1119299240387499,2.1336704768600963,2.154473296126751,2.174380072107668,2.1934305718422107,2.2116627316607058,2.2291127450545098,2.2458151461394182,2.2618028889429511,2.2771074227335424,2.2917587635978371,2.3058317065085041,2.3193490851567287,2.3323328318172076,2.3448040129337948,2.3567828633003178,2.3682888188920219,2.3793405484009105,2.3899559835261517,2.4001523480686946,2.4099461858773035,2.4193533876913547,2.4283892169239469,2.4370683344271566,2.4454048222796305,2.4534122066350941,2.4611034796688696,2.4684911206579923,2.4755871162291405,2.4824029798072296,2.4889497702962209,2.4952381100224637,2.5012782019696762,2.507079846333534,2.5126524564227259]
["Small Office Compressed Air",0,0.14305909805503716,0.28820599539032049,0.41254146575724587,0.52564671977351962,0.63646043457653323,0.71108272815471218,0.7826484878019444,0.85019255089989432,0.91256351128030622,0.97244294503158335,1.0304374940961554,1.0859955634502683,1.1401981207686225,1.192502166624591,1.2429798288270546,1.2922364539850517,1.3399826920311455,1.3866639097746785,1.4311582286544262,1.4736600726759537,1.5142621105029388,1.5530525143378755,1.5901151878276889,1.6255299819311313,1.6593728994071499,1.691716288546248,1.7226290267318354,1.752176694385563,1.780421739819515,1.8074236354888271,1.8332390261106541,1.85792186908936,1.8815235676632514,1.904093097165015,1.9256771247661979,1.9463201230554836,1.9660644777811085,1.9849505900694633,2.0030169734146619,2.0203003457175748,2.0368357166374844,2.052656470505009,2.0677944450313044,2.0822800060356332,2.0961421184012541,2.1094084134580755,2.1221509886735417,2.1343905191849872,2.1461468639275152,2.1574390978555988,2.1682855428926593,2.1787037976588302,2.1887107660251455,2.1983226845404804,2.2075551487757461,2.2164231386280808,2.2249410426260967,2.233122681275618,2.240981329483783,2.2485297380979077,2.2557801545940412,2.2627443429487943,2.2694336027266768,2.2758587874139136,2.2820303220284912,2.2879582200350015,2.2936520995917302,2.2991211991563527,2.3043743924755562,2.3094202029829072]
["Small Office Cooking",0,0.14938055067735773,0.30284255352346934,0.43420305136249104,0.55351134911840449,0.67044073313277297,0.74970576478075679,0.82575042895282014,0.89749400707855986,0.96380646701968842,1.0274674154575481,1.089125499148685,1.1482663892877645,1.2058729982636771,1.2613902496540592,1.3149476793903865,1.3672204947622781,1.4178451472000173,1.4674431382220894,1.5147140277041247,1.5598791743477658,1.6030359429993506,1.6442770028949105,1.6836905642680138,1.7213606025245936,1.7573670706626594,1.7917861005766933,1.824690193850629,1.856148402609465,1.8862265009676709,1.9149871475824645,1.9424900397917,1.9687920597893747,1.993947413266562,2.0180077609218245,2.0410223432227488,2.0630380987791117,2.084099776668273,2.1042500430345692,2.123529582266785,2.1419771930410203,2.1596298795005184,2.17652293782912,2.1926900384609675,2.2081633041558195,2.2229733841568433,2.2371495246359263,2.2507660268730629,2.2638449839733772,2.2764076168619698,2.2884743087153869,2.3000646380338172,2.3111974104076811,2.3218906890301612,2.3321618240051682,2.3420274804983081,2.3515036657765132,2.3606057551802255,2.3693485170702577,2.3777461367898161,2.3858122396805648,2.3935599131900727,2.4010017281065146,2.4081497589550804,2.4150156035891848,2.4216104020082647,2.4279448544327003,2.4340292386651816,2.4398734267666904,2.4454869010741622,2.4508787695858052]
["Small Office Cooling",0,0.17790198354890238,0.3717252053879932,0.53874951951671979,0.69349600670628164,0.84961576045813658,0.95627843734864681,1.0586661046046131,1.1555287546611588,1.2454086480305997,1.3318572393571002,1.4152004588099469,1.4954551379262415,1.5732002290805842,1.6481948230004011,1.7199589773793849,1.7898442259721448,1.8571244758166907,1.9229526629740055,1.9857058988980065,2.0457410252886534,2.1031797028834389,2.1581379282260524,2.2107263091707625,2.2610503263746669,2.3092105815208379,2.3553030329745495,2.399419219536246,2.4416464729185461,2.4820681195402812,2.520763672198187,2.5578090121463242,2.5932765620844642,2.6272354505294726,2.6597516680180147,2.6908882155646725,2.7207052457766583,2.7492601970046811,2.7766079208891226,2.8028008036413854,2.827888881382068,2.8519199498404295,2.874939668703349,2.8969916608866333,2.9181176069870327,2.9383573351596133,2.9577489066521765,2.9763749478514496,2.9942656799610194,3.0114501311276411,3.0279561835401103,3.0438106186687905,3.0590391607191991,3.0736665183701537,3.0877164248642024,3.1012116765153879,3.1141741696968159,3.1266249363680565,3.1385841782000039,3.1500712993525806,3.1611049379584557,3.1717029963638685,3.1818826701756184,3.1916604761613545,3.2010522790484317,3.2100733172648157,3.2187382276638008,3.2270610692726622,3.2350553461037652,3.2427340290651552,3.2501095770061692]
["Small Office Exterior Lights",0,0.12967192811670752,0.27017921666640687,0.39427762375574754,0.50963113640703506,0.62222779421535213,0.70419984786545886,0.78270552324952147,0.85743788800001708,0.92714253617317988,0.99409145167943147,1.0587080143761627,1.1202969765120303,1.1804598774764781,1.238771455802542,1.295041507894773,1.3495998110004115,1.4025758945275217,1.4535197194894884,1.5022364502435328,1.5488068306105998,1.5933288047905179,1.6358956616604521,1.6765962659146205,1.7155152772241686,1.7527333580627149,1.7883273708071576,1.8223705646894341,1.8549327531429907,1.8860804820575765,1.9158771894275719,1.9443833568522535,1.9716566533211255,1.9977520716935988,2.0227220582598053,2.0466166357481148,2.0694835201248885,2.0913682315131252,2.1123141995388104,2.1323628633969531,2.1515537669134286,2.1699246488637267,2.1875115287955835,2.2043487885890896,2.2204692499752654,2.2359042482221869,2.2506837021864898,2.2648797006153658,2.2785152768605643,2.2916125549752495,2.3041927856108124,2.3162763804965709,2.3278829455582928,2.3390313127292868,2.3497395705056716,2.3600250932953979,2.36990456960865,2.3793940291353546,2.3885088687537435,2.3972638775121613,2.4056732606246558,2.4137506625192806,2.4215091889765135,2.4289614283937002,2.4361194722100357,2.4429949345252164,2.4495989709436023,2.4559422966744497,2.4620352039176039,2.4678875785628391,2.4735089162299553]
["Small Office Heating",0,0.16141736356572903,0.3520781878463104,0.52078233286604114,0.67501553255273261,0.82441984448763339,0.94381390217372796,1.0582138099663552,1.1675039979458885,1.2707294916294347,1.369585545141929,1.4652972163572224,1.5565385791988227,1.6450019812190499,1.7302812278334718,1.8130115400761986,1.8929816906417574,1.971068778155785,2.0460563532701039,2.1179383598287358,2.1867276604652193,2.2525613879941258,2.3155703660607312,2.3758794118811011,2.4336076237994919,2.4888686544576082,2.5417709703270575,2.5924180983155907,2.6409088601192581,2.6873375949562579,2.7317943712839785,2.7743651880683422,2.8151321661439743,2.854173730174832,2.8915647816976557,2.9273768637048252,2.9616783171988557,2.9945344301277763,3.0260075790888825,3.0561573641678361,3.0850407372606536,3.1127121242077949,3.139223541052214,3.1646247047168394,3.1889631383814563,3.2122842718243021,3.2346315369798324,3.256096588517178,3.2767142540030538,3.2965179860997553,3.3155399168429129,3.3338109097765005,3.3513606100296816,3.3682174924167545,3.3844089076382251,3.3999611266579834,3.4148993833285806,3.4292479153337641,3.443030003514711,3.4562680096437544,3.4689834127069021,3.4811968437540139,3.4929281193731776,3.5041962738436068,3.5150195900192185,3.5254156289930076,3.5354012585903454,3.5449926807374381,3.5542054577493416,3.563054537580197,3.5715542780766483]
["Small Office Hot Water",0,0.13387053443673091,0.27041566188803118,0.38811465085725888,0.49551511698283141,0.60019142639832779,0.67167557850013915,0.7401586515180516,0.80490728481534624,0.86482282102341956,0.92234569251285881,0.97802147492805747,1.0312273012515776,1.0832693011071106,1.1335761682508405,1.1821763893290334,1.2294988716769966,1.2754857847496677,1.3201715122172952,1.3628031710601896,1.4035234682003548,1.4424214031535338,1.4795816524687844,1.5150847890329771,1.5490074897835708,1.5814227324647077,1.6123999820258526,1.6420053672284545,1.6703018479942955,1.6973493739992156,1.7232050349876533,1.7479232032568031,1.7715556687340988,1.794151767048058,1.8157585009702222,1.8364206555848874,1.8561809075234936,1.8750799285818343,1.8931564840206225,1.9104475258333082,1.9269882812493619,1.9428123367264467,1.9579517176709353,1.972436964113077,1.9862972025506842,1.9995602141635005,2.0122524995893443,2.0244437256251175,2.0361536728307397,2.0474013408795555,2.0582049793857662,2.0685821175148709,2.0785495924251625,2.0881235765864261,2.0973196040201629,2.106152595503918,2.114636882780601,2.12278623181209,2.1306138651148361,2.1381324832137181,2.1453542852489518,2.1522909887694914,2.1589538487450364,2.1653536758274923,2.1715008538915166,2.1774053568826073,2.1830767650000702,2.1885242802411256,2.1937567413313719,2.1987826380658317,2.2036101250838511]
["Small Office Interior Lights",0,0.14731477106418334,0.29997652892208115,0.43124548880441482,0.55084444944169253,0.6679290399095168,0.74824586133052717,0.82528421151176468,0.89805753659156573,0.96542493829155385,1.0301036857018973,1.09271595782979,1.1527266149901905,1.2111965921692474,1.2675825887770324,1.3219798949226897,1.37501892277115,1.4263952102675312,1.4766038503763868,1.5244803819419421,1.5702298164048683,1.6139502043054332,1.6557348831502396,1.695672714118087,1.7338483063649477,1.7703422296024887,1.8052312155867543,1.8385883491179589,1.8704832491187433,1.9009822403265577,1.9301485161059655,1.9580422928585079,1.9847209564812134,2.0102392012997954,2.0346491618789844,2.0580005380901549,2.0803407137954268,2.1017148694875978,2.122166089206587,2.141735462035439,2.1604621784623097,2.1783836218791635,2.1955354554731037,2.2119517047522943,2.2276648359352378,2.2427058304197307,2.2571042555360736,2.270934267174094,2.2842183048630962,2.2969779222764113,2.3092338222027537,2.3210058901369988,2.3323132265448798,2.3431741778539577,2.3536063662211442,2.363626718125079,2.3732514918297518,2.3824963037639302,2.3913761538591927,2.3999054498876844,2.4080980308390743,2.4159671893746517,2.4235256933949931,2.4307858067561896,2.4377593091682499,2.4444575153079682,2.4508912931772584,2.4570710817367534,2.4630069078432708,2.4687084025186303,2.4741848165762232]
["Small Office Other",0,0.14125010813209157,0.2852380847881173,0.40892224597415155,0.52171772564007757,0.63223390364625687,0.70709903054967704,0.77888539019650338,0.84669950729783139,0.90937212636591802,0.96954883370958789,1.0278053595803613,1.083584767141381,1.1380185009684294,1.1905785518030996,1.241296876876973,1.2907564297073026,1.3387083214890332,1.3855037228953928,1.4301213724046149,1.4727433103160266,1.5134622327869445,1.5523663445687914,1.5895395863380108,1.6250618500343321,1.6590091828623792,1.691453980575669,1.7224651706272081,1.7521083857380781,1.7804461284044673,1.807537926834438,1.8334404827782516,1.858207811690145,1.8818913756350417,1.9045402093306443,1.9262010396936469,1.946918399238327,1.9667347336564751,1.9856905038894122,2.003824282985665,2.0211728480216844,2.0377712673477046,2.0536529834064279,2.0688498913586302,2.083392413736942,2.0973095713369632,2.1106290505434435,2.1234227103325893,2.1357113087276969,2.1475147842776989,2.1588522884079477,2.1697422164938653,2.1802022377078867,2.1902493236881204,2.1998997760752435,2.2091692529623081,2.2180727943003782,2.2266248463012137,2.234839284876601,2.2427294381523546,2.2503081080935265,2.2575875912759025,2.2645796988374967,2.2712957756424093,2.2777467186881424,2.2839429947862437,2.289894657544961,2.2956113636814686,2.3011023886901198,2.3063766418921676,2.3114426808913486]
["Small Office Motors",0,0.14067958923000576,0.28325543749496668,0.40565004633559393,0.51736463459846616,0.62699617487679193,0.7006034819153858,0.77118900819739,0.83783564556110723,0.89938427879428873,0.9584896362087898,1.0156957577991952,1.0704956824148832,1.1239967725919715,1.1756628087989711,1.2255025469656513,1.2741085861569192,1.3212287269343845,1.367226450505729,1.4110706010208691,1.4529509902880153,1.4929589726315975,1.5311814686119618,1.5677011898060873,1.6025968517126448,1.6359433754318,1.667812078733486,1.6982708570933072,1.727384355242666,1.7552141297490036,1.7818188031131195,1.8072542098432576,1.8315735349399469,1.854827445201346,1.8770642137360007,1.898329838048382,1.9186681520422608,1.9381209322678288,1.9567279987204109,1.974527310481591,1.9915550564774975,2.0078457416138549,2.0234322685331048,2.0383460152254269,2.0526169087127628,2.0662734950129362,2.0793430055796644,2.0918965648599714,2.1039545413082545,2.1155364992837447,2.1266612307941566,2.137346785986177,2.1476105024322627,2.1574690332612767,2.1669383741785886,2.1760338894194993,2.1847703366780822,2.1931618910519011,2.2012221680414492,2.2089642456416305,2.2164006855611205,2.223543553604046,2.2304044392470446,2.2369944744434704,2.2433243516852581,2.2494043413517533,2.2552443083736486,2.2608537282390744,2.2662417023678096,2.2714169728785536,2.2763879367732258]
["Small Office Office Eqpmt",0,0.13941600973884577,0.28095473157616757,0.40254861428222449,0.51347671888639557,0.62215119534614716,0.69558652282613787,0.76599030571727045,0.83250361501917036,0.89395508461138673,0.95296213779752481,1.0100817167185172,1.0647530149712179,1.1181358849017837,1.1697005445871711,1.2194631255668233,1.2679851079128921,1.3150463985586378,1.3609400183730522,1.4046980925634605,1.4464955810930191,1.4864237206617936,1.524569318616416,1.5610149775610749,1.5958393080996807,1.6291171303593162,1.660919664908415,1.6913147136485633,1.7203668312262608,1.74813748748029,1.7746852214114237,1.8000657871339409,1.8243322922427241,1.8475353290054874,1.8697230987668532,1.8909415299294563,1.9112343898569626,1.9306433910247363,1.9492082917258504,1.9669669916230978,1.9839556224216113,2.0002086339215537,2.0157588756960547,2.0306376746260848,2.0448749085112548,2.0584990759635247,2.07153736277948,2.0840609309438785,2.0960901002498034,2.1076443883161997,2.1187425422556831,2.1294025690921865,2.139641764977791,2.1494767432561552,2.1589234614180648,2.1679972469928508,2.1767128224176764,2.1850843289250488,2.1931253494873122,2.2008489308553494,2.2082676047272511,2.2153934080813018,2.2222379027062664,2.2288121939606746,2.2351269487915344,2.2411924130417122,2.2470184280740604,2.2526144467392686,2.2579895487133421,2.2631524552295978,2.2681115432290748]
["Small Office Process",0,0.14898854164161662,0.30216173304619226,0.43348859965491604,0.55285695417606162,0.66970106567132592,0.74928295384288512,0.82562685824355575,0.89766778925399371,0.9642953113065813,1.0282520287040917,1.0901913262493359,1.1495899191999037,1.2074520152103083,1.2632232932947762,1.3170348055588819,1.369534712730105,1.4203823547521433,1.4701648094020978,1.5176184035282836,1.5629601627962275,1.6062876240963173,1.6476936260916419,1.68726654567479,1.7250905220130783,1.7612456688583282,1.7958082757593208,1.8288509987792958,1.860443041287112,1.8906503253588958,1.9195356542970385,1.9471588667451321,1.9735769828508005,1.9988443429032634,2.0230127388487702,2.046131539064727,2.068247806752245,2.0894064122869898,2.1096501398494687,2.1290197886382023,2.1475542689525553,2.1652906934162806,2.1822644635979591,2.1985093522705301,2.2140575815388828,2.2289398970519931,2.2431856385043334,2.2568689940439937,2.2700121652472021,2.2826364772279999,2.2947624132387556,2.3064096479047391,2.3175970791466796,2.3283428588430968,2.338664422282168,2.3485785164509045,2.3581012272075434,2.3672480053812426,2.3760336918414287,2.3844725415774639,2.3925782468277133,2.4003639592955355,2.4078423114882379,2.4150254372136262,2.4219249912674048,2.4285521683433613,2.4349177211970319,2.4410319780923064,2.4469048595592886,2.4525458944905938,2.4579642356022116]
["Small Office Refrigeration",0,0.13107267456071531,0.26212476497119436,0.37496710302650876,0.47829930741520293,0.57956580360438725,0.64748211103255127,0.71255136904505012,0.77409268791157404,0.83089496906622418,0.88545077203048261,0.93823517935844325,0.98865780135123194,1.0380141560910903,1.0857972095886348,1.1319257383649355,1.1768749066839888,1.220536939092804,1.2629385960659087,1.3033791431397848,1.3419950347975962,1.3788718369085529,1.4140909285008825,1.4477297156606748,1.4798618340542071,1.5105573407001882,1.5398828955829016,1.5679019336637925,1.5946748278175678,1.6202590431891921,1.6447092834402162,1.6680776293265152,1.6904136700246866,1.711764627600951,1.7321754749943359,1.7516890478651357,1.7703461506400253,1.7881856570667385,1.8052446055737847,1.8215582897142586,1.8371603439573001,1.8520828250761561,1.8663562893680161,1.8800098659278019,1.8930713261858318,1.905567149907724,1.9175225878439908,1.929006055269086,1.9400361843874177,1.9506308718509964,1.9608073077971868,1.9705820037401223,1.9799708193610381,1.9889889882409884,1.9976511425776997,2.0059713369266681,2.0139630710050169,2.0216393115951123,2.0290125135834858,2.0360946401691868,2.0428971822743649,2.0494311771885694,2.0557072264770184,2.0617355131818971,2.0675258183445888,2.0730875368756543,2.078429692798299,2.0835609538900721,2.0884896457465438,2.093223765289788,2.0977709937435813]
["Small Office Ventilation",0,0.14914784802924341,0.30313654239333709,0.43543477645365297,0.55639655323242687,0.6757745567146618,0.75702365226603763,0.83493942762925122,0.90859072268823537,0.97676543809143412,1.0422465733513913,1.1055915739071904,1.1663019472950524,1.2254234269757336,1.2824862179758967,1.3374642572852322,1.3910559479314728,1.4429728513545641,1.4936361100177069,1.541946011594028,1.5881115070824692,1.6322313446818735,1.6743995310554951,1.7147055692240374,1.7532346840070139,1.7900680356891265,1.8252829225504097,1.8589529728631469,1.8911483269248557,1.9219358096648727,1.9513790943321099,1.9795388577433144,2.0064729275445399,2.0322364219134146,2.056881882106131,2.0804593982307207,2.1030167286071442,2.1245994130548373,2.1452508804296118,2.1650125507141453,2.183923931949586,2.2020227122800806,2.2193448473671711,2.2359246434169808,2.2517948360499029,2.266986665229993,2.2815299464595005,2.2954990956569916,2.3089167781058348,2.3218047643212256,2.3341839653733731,2.3460744668162197,2.357495561276739,2.3684657797576909,2.379002921704624,2.3891240838859065,2.3988456881326479,2.4081835079835185,2.4171526942776982,2.4257677997374807,2.4340428025804188,2.4419911291993204,2.449625675946896,2.4569588300604064,2.464002489760253,2.4707680835551304,2.4772665887850578,2.4835085494323801,2.4895040932296353,2.4952629480920452,2.5007944579012955]
["Warehouse Compressed Air",0,0.14404364458607311,0.29197335957100412,0.41937612496375259,0.53570682639687872,0.64974504134879851,0.72776179511373273,0.80257924910279965,0.87330187988853469,0.93876337695779322,1.0016136804674505,1.062427710223774,1.1206774131831052,1.17748321340722,1.2323116954692999,1.2852088301055713,1.3367578909692597,1.3867229340441798,1.4354593887446896,1.4819356781161894,1.5263420331825497,1.568774131843637,1.6093230397417742,1.6480754425545496,1.6851138660874789,1.720516884831411,1.7543593196122282,1.7867124249251771,1.8176440665129885,1.8472188897156676,1.8754984790903524,1.9025415097718383,1.9284038910181645,1.9531389023609449,1.976797322756831,1.9994275531145171,2.0210757325509832,2.0417858487111227,2.0615998424664781,2.0805577072914057,2.0986975835986037,2.1160558483004501,2.1326671998480102,2.1485647389857774,2.1637800454472291,2.1783432508040037,2.1922831076699176,2.2056726541744935,2.2185336151816744,2.2308868579126133,2.2427524258032472,2.2541495710252573,2.2650967857231818,2.2756118320183747,2.2857117708284718,2.2954129895491495,2.3047312286430675,2.3136816071791517,2.3222786473636532,2.3305362981027766,2.3384679576351206,2.3460864952706446,2.3534042722714359,2.3604331619081584,2.3671845687247202,2.373669447042424,2.3798983187336198,2.3858812902936966,2.3916280692391165,2.3971479798580964,2.4024499783394906]
["Warehouse Cooking",0,0.14766910535555502,0.29933184661405937,0.42955201902210038,0.54803796603372168,0.66399224242710653,0.74314198235709761,0.81907552335929901,0.89076573392466341,0.95708834183360003,1.0207511852360542,1.0823969071261832,1.1414975488115933,1.1990881221042098,1.2546114924862688,1.3081929651617932,1.3604544744711293,1.4110789846300196,1.4606047995251183,1.5078192929484728,1.5529318340112934,1.5960395408314278,1.6372348516415061,1.6766057604087621,1.7142360400833083,1.7502054541489642,1.7845899571128812,1.8174618845345063,1.8488901331608099,1.8789403317029749,1.9076750027598735,1.9351537163654666,1.9614332356107065,1.9865676547654592,2.0106085303023602,2.0336050052022294,2.0556039268996718,2.0766499592076801,2.0967856885413632,2.1160517247432975,2.1344867967963812,2.1521278436943621,2.1690101007254254,2.1851671814102538,2.2006311553227906,2.2154326220095011,2.2296007812111838,2.2432096172516052,2.2562812107972987,2.2688367708258199,2.2808966690378276,2.292480472910662,2.3036069774470502,2.3142942356704568,2.324559587916549,2.3344196899683136,2.3438905400804688,2.3529875049370199,2.3617253445840762,2.3701182363783868,2.378179797990442,2.3859231094994757,2.3933607346162118,2.4005047410677882,2.4073667201779374,2.4139578056741904,2.4202886917526203,2.4263696504294328,2.4322105482075638,2.4378208620853195,2.4432096949330342]
["Warehouse Cooling",0,0.19355799778555935,0.40968371285813571,0.59681098620263717,0.77129069571377828,0.94887263498907981,1.0716090910889302,1.1894502037790284,1.3011212104732672,1.4050132390649919,1.504971808219199,1.6011823372614633,1.6939196958996541,1.7836007309155644,1.8700996798564291,1.9527138819029173,2.0330580692774682,2.1103350820335653,2.1858262295537751,2.2578078273779378,2.3267025310540403,2.3926468472625695,2.4557710143145157,2.5161993026331491,2.5740503001680852,2.6294371835306229,2.6824679755964023,2.7332457902809297,2.7818690651552789,2.8284317825331624,2.8730236796265007,2.9157304483344326,2.956633925200304,2.9958122720425036,3.033340147737881,3.0692888716109032,3.1037265788575055,3.1367183684097517,3.1683264436258383,3.198610246169562,3.2276265834241147,3.255429749766833,3.2820716420143281,3.3076018693311249,3.3320678578795717,3.3555149504742148,3.3779865014900876,3.3995709323957382,3.4203032644538021,3.4402171363758698,3.4593448589021083,3.4777174672262263,3.4953647713508227,3.5123154044548444,3.5285968693516088,3.5442355831127887,3.5592569199307502,3.5736852522887963,3.5875439905061106,3.6008556207215694,3.6136417413780468,3.625923098266413,3.6377196181860807,3.6490504412767226,3.6599339520736129,3.6703878093369786,3.6804289747037693,3.6900737402083226,3.6993377547165864,3.7082360493167821,3.7167830617077104]
["Warehouse Exterior Lights",0,0.12925726340795166,0.26909004899143141,0.3925226411658842,0.50719848424827219,0.61910632395484877,0.70052338506916589,0.77850350536564694,0.85273597170501125,0.92196036378835011,0.98844143546686136,1.0526197064911913,1.1137810234802172,1.1735284841257436,1.2314373768790392,1.2873302710601895,1.3415322393885087,1.394169101206113,1.4447944325292292,1.4932056665726752,1.5394816091115608,1.5837198264054544,1.6260132408385766,1.6664503618149609,1.7051155046709727,1.7420889982515673,1.7774473817606509,1.8112635914619515,1.8436071377747936,1.8745442732789688,1.9041381521144314,1.9324489812346868,1.9595341639474193,1.9854484361520088,2.0102439956610536,2.033970624971754,2.0566758078329497,2.0784048399346773,2.0992009340292594,2.1191053197760672,2.1381573385862134,2.1563945337283883,2.173852735942913,2.1905661447976716,2.2065674060069775,2.2218876849224829,2.2365567363940002,2.2506466907418221,2.2641804092586044,2.2771798507308758,2.289666107067704,2.3016594375228268,2.3131793015657838,2.3242443904553785,2.3348726575666978,2.3450813475208996,2.3548870241650279,2.364305597447256,2.3733523492311659,2.3820419580909391,2.3903885231277013,2.3984055868456555,2.4061061571251239,2.4135027283281478,2.4206073015708949,2.4274314041957599,2.433986108474758,2.4402820495745545,2.4463294428122806,2.4521381002301328,2.4577174465156504]
["Warehouse Heating",0,0.1805059814097551,0.4123955908359957,0.62004325316230424,0.8103573029868415,0.99382882267825445,1.1457944841151582,1.2915597076963434,1.4308572434053071,1.5630321961358791,1.6896249547237043,1.8119760534538754,1.9289207092749119,2.0421356809609983,2.1510415357998554,2.256598176941266,2.358448660471451,2.4577357054013005,2.5532313400880127,2.644776154098619,2.7324412724026916,2.8163955374739911,2.8968001923197257,2.9738092364769013,3.0475697645834701,3.1182222884158111,3.1859010432365569,3.2507342792518932,3.3128445389350158,3.3723489209323616,3.4293593312313164,3.4839827222323168,3.5363213203343946,3.5864728426112218,3.6345307031244474,3.6805842093925278,3.7247187495061724,3.7670159703559678,3.8075539474135209,3.8464073464845852,3.8836475778309612,3.9193429430374884,3.9535587749810404,3.9863575712400876,4.0177991212660391,4.0479406276211041,4.0768368215718898,4.1045922667268089,4.131251996968782,4.1568592683567109,4.1814556293094816,4.2050809880192794,4.2277736772036016,4.24957051630102,4.2705068712116132,4.2906167116789966,4.3099326664070574,4.3284860760008144,4.3463070438173137,4.3634244848090518,4.3798661724391907,4.3956587837446754,4.4108279426203687,4.4253982613944478,4.4393933807624988,4.452836008145125,4.4657479545312802,4.4781501698671313,4.4900627770478554,4.5015051045675198,4.5124957178800411]
["Warehouse Hot Water",0,0.13923780046757833,0.28283559890988369,0.40671573805106898,0.51964393226352501,0.62965396394574236,0.70552413634035249,0.77824775963967052,0.84699739095215065,0.91070270372863815,0.97185045590855679,1.0310366799215327,1.087666885211833,1.1429766055090251,1.1963696378577493,1.2479422925652197,1.2981592181392323,1.3469147228600491,1.3943803418590746,1.4396608272776166,1.4829221073302326,1.5242576390889582,1.5637563684728473,1.6015029577259337,1.6375780009354715,1.6720582282427834,1.7050166993623854,1.7365229869904848,1.766643350651389,1.79544090149965,1.8229757585668322,1.8493051969145049,1.8744837881293419,1.8985635335719508,1.921593990768196,1.9436223933102057,1.9646937646139249,1.9848510258608938,2.0041350984338409,2.0225850011386197,2.0402379424889219,2.0571294083150091,2.0732932449433896,2.0887617381808385,2.1035656883234086,2.117734481399042,2.1312961568410311,2.144322451569673,2.1568345010640941,2.1688526064280564,2.1803962673289905,2.1914842136366786,2.2021344358129227,2.2123642141015067,2.2221901465658074,2.2316281760195591,2.2406936158944526,2.2494011750865508,2.2577649818218291,2.2657986065795646,2.2735150841107674,2.2809269345873813,2.2880461839165664,2.2948843832530228,2.3014526277410221,2.3077615745165474,2.3138214599987541,2.3196421164988084,2.3252329881730516,2.3306031463463714,2.3357613042306475]
["Warehouse Interior Lights",0,0.14325805917418971,0.29067318882218934,0.41775859179876895,0.53380429796588236,0.64734699279086139,0.72533779048638691,0.80013010243632754,0.87083662355742375,0.93630497634671039,0.99915882339307827,1.059982685663339,1.1182290071071983,1.1750403919412056,1.2298753365374249,1.2827922341232461,1.3343536879235103,1.3843335991825734,1.433073172519288,1.4795580450484556,1.5239732099173311,1.5664143007220728,1.6069723427399691,1.6457339849319848,1.6827817197648793,1.7181940915165099,1.7520458936906589,1.7844083561326038,1.8153493224035302,1.844933417940684,1.8732222095007347,1.9002743563560851,1.9261457536877107,1.9508896685934569,1.9745568691074673,1.9971957466044967,2.0188524319421735,2.0395709056747875,2.0593931026537735,2.0783590113127084,2.0965067679182807,2.1138727460532283,2.1304916415826933,2.1463965533416656,2.1616190597682379,2.1761892916951266,2.1901360015003726,2.2035321304075346,2.2163994139606631,2.2287587296393956,2.240630130733174,2.2520328788781923,2.2629854753098679,2.2735056908815481,2.2836105948981462,2.2933165828115047,2.3026394028224155,2.311594181432453,2.3201954479870954,2.3284571582499347,2.3363927170462455,2.3440150000126376,2.3513363744880884,2.3583687195802518,2.3651234454395964,2.3716115117726519,2.3778434456244004,2.3838293584586614,2.389578962564185,2.3951015868130789,2.4004061917971282]
["Warehouse Other",0,0.14253598136191301,0.28943216861608395,0.41612766378578081,0.53191943870259195,0.64526195718347124,0.72314406882955784,0.79782405913412635,0.86843980115733765,0.93382697002861292,0.9966106043303129,1.0573599966497842,1.1155227712102804,1.172256015346222,1.2270329663914459,1.2798854429953044,1.3313805297030625,1.3812953097831178,1.429943648268561,1.4763462752035361,1.5206832226813345,1.5630499178729089,1.6035371906572138,1.6422315050136518,1.6792151782687965,1.7145665888589898,1.7483603732332558,1.7806676124859666,1.8115560092756764,1.8410900555554446,1.8693311916106274,1.8963379568724739,1.9221661329497921,1.946868879296372,1.970496861908668,1.9930983754263971,2.0147194589880835,2.0354040061741445,2.0551938693517759,2.0741289587185894,2.0922473363256402,2.1095853053450897,2.1261774948332057,2.1420569402257219,2.1572551597896084,2.1718022272431305,2.1857268407445267,2.1991017456541377,2.2119486430795638,2.2242883774234561,2.2361409702040649,2.2475256525406402,2.2584608963563886,2.2689644443496153,2.2790533387816843,2.2887439491284991,2.2980519986403758,2.3069925898533974,2.3155802290936447,2.3238288500140629,2.3317518362021508,2.3393620428951558,2.3466718178380095,2.3536930213178424,2.3604370454075867,2.3669148324498921,2.3731368928113419,2.3791133219357774,2.3848538167244007,2.3903676912692315,2.3956638919654472]
["Warehouse Motors",0,0.14117362811477033,0.28591454372707559,0.41065498655863225,0.52467283230549633,0.63641834990894608,0.71273519312504163,0.78590668891446758,0.85508479447827768,0.91910629315441306,0.98058093325203666,1.0400502341887317,1.0969835484627588,1.1525434453937509,1.2062042808679097,1.2579758454101726,1.3084151274619997,1.3573239764078364,1.4049792121451623,1.4504281768102008,1.493849633118556,1.5353374704587357,1.574981043475375,1.6128654008820829,1.6490715022370468,1.6836764233383117,1.7167535508587011,1.7483727668055322,1.7786006233574698,1.8075005085999232,1.8351328036512413,1.8615550316444771,1.8868219990035751,1.9109859294284102,1.934096590980074,1.9562014166360751,1.9773456186646448,1.9975722971480201,2.0169225429663555,2.0354355355367253,2.0531486355854822,2.0700974732169191,2.0863160315267861,2.1018367259955695,2.1166904798836113,2.1309067958380301,2.1445138239099442,2.1575836808611637,2.1701375728515768,2.1821958688754104,2.1937781338104152,2.2049031601623552,2.2155889985563042,2.2258529870242221,2.2357117791363317,2.2451813710219426,2.2542771273235576,2.2630138061263767,2.2714055829036499,2.2794660735167258,2.2872083563071159,2.2946449933164241,2.3017880506685597,2.3086491181473177,2.3152393280010863,2.3215693730051861,2.3276495238111603,2.3334896456111545,2.3390992141444316,2.3444873310719863,2.3496627387442119]
["Warehouse Office Eqpmt",0,0.14316990997971826,0.2896993352541618,0.41573728559993772,0.53067511023609071,0.64317971880848679,0.71991058416530862,0.79349549977975231,0.86301974061526709,0.92733123767914338,0.98907555038962436,1.04884143453017,1.106084329835294,1.1619228035055729,1.2158138858020084,1.267820678242177,1.3185206966837464,1.3676662615709894,1.4156351728335719,1.4613749697942959,1.5050740922335888,1.5468270517219069,1.5867237942978119,1.6248499308747399,1.6612869555245946,1.6961124522998694,1.729400291218788,1.7612208140028736,1.7916410101233033,1.8207246836812441,1.848532611617993,1.8751226937230614,1.9005500948822358,1.9248673799830371,1.9481246418718032,1.9703696227347247,1.9916478292545494,2.0120026418751902,2.0314754184881347,2.0501055928372378,2.0679307679221397,2.0849868046651663,2.1013079060920172,2.1169266972628398,2.1318743011773531,2.1461804108654716,2.1598733578633458,2.1730257418782091,2.1856589029721132,2.1977933387553268,2.2094487376442071,2.2206440108061329,2.2313973228433301,2.2417261212653803,2.2516471647982308,2.2611765505756303,2.2703297402571203,2.2791215851149538,2.2875663501306418,2.2956777371402359,2.303468907065886,2.3109525012697563,2.3181406620649447,2.325045052416677,2.3316768748657526,2.3380468897049371,2.3441654324378014,2.3500424305483234,2.3556874196084725,2.3611095587499089,2.3663176455248935]
["Warehouse Process",0,0.15339065184274966,0.31664130253628153,0.45796738170921292,0.58712677790718504,0.71332216161092432,0.8023455141506417,0.88775793214985332,0.96855299190250377,1.0436185328510128,1.1156822212509296,1.1853962501376472,1.2522423340496791,1.3172684059230164,1.3799397840802807,1.440386403953515,1.499247954536747,1.5562066830764505,1.6118162211859952,1.6648780329071493,1.7156068715393031,1.7641089858502419,1.8104855836522242,1.8548330817123213,1.8972433427248876,1.9378039000427505,1.9765981708249498,2.0137056582223081,2.0492021431876566,2.0831598664650297,2.1156477012815125,2.1467313172364935,2.1764733358558264,2.2049334782526717,2.2321687053125241,2.2582333507970431,2.283179247739699,2.3070558484858563,2.3299103387106941,2.3517877457301992,2.3727310414033309,2.3927812399072912,2.4119774906525553,2.4303571665899137,2.4479559481481501,2.4648079030281442,2.4809455620670446,2.4964461470626262,2.5113348080899836,2.5256357023627309,2.5393720334286685,2.5525660888181001,2.5652392762058938,2.5774121581459508,2.5891044854344507,2.6003352291559949,2.6111226114646535,2.6214841351498506,2.6314366120350652,2.6409961902554229,2.6501783804584367,2.6589980809704086,2.6674696019693251,2.6756066887034682,2.6834225437934145,2.6909298486536071,2.6981407840682574,2.7050670499549643,2.7117198843481125,2.7181100816328576,2.7242480100592772]
["Warehouse Refrigeration",0,0.13243383457183389,0.26577636274734784,0.38082777025069336,0.48638938142347932,0.58982731049359127,0.6594566121132972,0.72618058048042067,0.78929120227167981,0.84753921972529378,0.90350071352700334,0.95763341845879968,1.0093723269055541,1.0599936946456532,1.1089767835383086,1.1562296476912075,1.2022869379835008,1.2469568856889697,1.29037130847962,1.3317729232814455,1.3713128454912711,1.4090780544679302,1.445151289627937,1.4796112662870933,1.5125328800577784,1.5439874004305225,1.5740426541329287,1.6027631988255484,1.6302104876627583,1.656443025216974,1.6815165152365135,1.7054840006810292,1.728395996453542,1.7503006152246521,1.7712436867223957,1.7912688708403735,1.8104177648971189,1.8287300053611562,1.8462433643387206,1.8629938411046421,1.8790157489413597,1.8943417975363768,1.9090031711746549,1.9230296029494014,1.9364494452024164,1.9492897363935553,1.9615762645879289,1.9733777516634965,1.9847133458192627,1.9956014393316686,2.0060596983965095,2.0161050917927645,2.0257539184148516,2.03502183371798,2.0439238751195061,2.052474486397506,2.0606875411261587,2.0685763651859537,2.076153758385257,2.0834320152283112,2.0904229448633642,2.0971378902433022,2.1035877465298629,2.1097829787713001,2.1157336388821797,2.1214493819528553,2.1269394819150826,2.1322128465892041,2.1372780321372988,2.1421432569457659,2.1468164149598534]
["Warehouse Ventilation",0,0.14611082143649159,0.29745410678006023,0.42795242847173343,0.54754572102515475,0.665432666809185,0.74631161692859449,0.82385701275361078,0.89723290544747925,0.96522338398630214,1.0305252614662237,1.0936651665223711,1.1541366936460289,1.2130688428351826,1.2699890336894224,1.3248393225624038,1.3782564902433785,1.4300257515014114,1.4804315434992878,1.528515759366625,1.5744668140673088,1.6183828672216911,1.6603573690546578,1.7004792964739714,1.7388333768019546,1.7755002998310163,1.810556918835966,1.8440764411406438,1.8761286088030302,1.9067798699515202,1.9360935412753919,1.9641299621445181,1.9909466408070058,2.0165983930885614,2.0411374739939454,2.0646137025887294,2.0870745805187392,2.1085654045048416,2.129129373132213,2.1488076882356655,2.1676396511661178,2.1856627542076703,2.2029127674000577,2.2194238210073411,2.2352284838606038,2.2503578377900504,2.2648415483502071,2.2787534785780017,2.2921162009176372,2.3049513967101984,2.3172798913721535,2.3291216881850967,2.3404960007515578,2.3514212841695401,2.361915264976362,2.371994969910395,2.3816767535373602,2.3909763247860054,2.3999087724362269,2.4084885896009771,2.4167296972416938,2.4246454667553974,2.4322487416701066,2.4395518584837741,2.4465666666805537,2.4533045479568765,2.4597764346885285,2.4659928276686958,2.4719638131457553,2.4776990791884601,2.4832079314050626]
["None - ele",0,0,0,0,0,0,0,0,0,0,0,0,0,0,0,0,0,0,0,0,0,0,0,0,0,0,0,0,0,0,0,0,0,0,0,0,0,0,0,0,0,0,0,0,0,0,0,0,0,0,0,0,0,0,0,0,0,0,0,0,0,0,0,0,0,0,0,0,0,0,0]
[]
[]
["2025 Avoided Costs"]
["Entered on 12/19/2024"]
[]
[]
["Discount Rate",4.1099999999999998E-2]

{"sheet":"Controls","index":6,"n_rows":239,"n_cols":77,"rows_kept":239,"cut":false,"hidden":false,"merged":[[4,65,4,66],[4,37,4,43],[4,45,4,54],[4,70,4,76]]}
[]
[null,"Project ID",null,null,{"$f":"IF('100L Information'!S3=\"\",\"\",'100L Information'!S3)","v":""}]
[null,"Ref ID",null,null,{"$f":"IF('100L Information'!AB3=\"\",\"\",'100L Information'!AB3)","v":""}]
[]
[null,"Instructions:  Fill in Control Type, Control Qty, and Installed Cost (each) for each appropriate row where controls are installed",null,null,null,null,null,null,null,null,null,null,null,null,"Default savings based on building type",null,null,null,null,null,null,null,null,null,null,null,null,null,null,null,"Watts controlled","Incentive","Meet req?",null,"LLLC",{"$f":"IF(COUNTIF(LLLC_Lookup,AI5),\"LLLC\",\"\")","v":""},null,"COST EFFECTIVE TEST",null,null,null,null,null,null,null,"COST EFFECTIVENESS BY MEASURE",null,null,null,null,null,null,null,null,null,null,null,null,null,null,null,{"$f":"IF(AJ5=\"LLLC\",\"Optional\",\"\")","v":""},null,null,null,"Incentive Lookup LLLC",null,null,null,null,"Case Lighting Controls (total)"]
[null,"Location\nArea/Room","Space Type","Proposed Equipment\nCategory","Proposed Equipment\nSpecific fixture, lamp type","Number \nof Fixtures \nOR  Case Lighting Ft","Controlled Watts \nper Fixture","Baseline Operating Hours","Controls\n(note type, wall mount or ceiling mount)","Notes","Number \nof Controls","Installed Cost (each)","Total \nCost","Watts Controlled per Sensor","Percent Time at Lowest Wattage","kWh \nBefore","kWh \nAfter","kWh Savings","Estimated \nIncentive (Each)","Estimated \nIncentive Amount",null,null,"Final Incentives Paid",null,null,"Incentive/ kWh Saved",null,null,"Controls Lookup","NEB",null,null,null,null,"Looks to see if control w/ LLLC","Incentive each",null,"Custom?","Custom\nUtility/TRC\nPass/Fail","Total Installed Cost","Total kWh Before","Total kWh After","Total kWh Savings","Total Incentive Amount",null,"Measure Life","PV Utility Benefit","PV TRC Benefit","Utility Measure C/E","Utility BCR","Utility Pass/Fail","TRC Measure C/E \n","TRC BCR","TRC Pass/Fail","Combined Utility & TRC Result",null,null,{"$f":"IF(AJ5=\"LLLC\",\"Occupancy\",\"\")","v":""},{"$f":"IF(AJ5=\"LLLC\",\"% with Daylighting\",\"\")","v":""},{"$f":"IF(AJ5=\"LLLC\",\"Task Tuning\",\"\")","v":""},{"$f":"IF(AJ5=\"LLLC\",\"Task Tuning Average Max Level\",\"\")","v":""},{"$f":"IF(AJ5=\"LLLC\",\"Energy Monitoring/ Reporting Enabled\",\"\")","v":""},null,null,null,"Measure with LLLC","Incentive (each)",null,null,null,{"$f":"'Analysis 103L'!CF27","v":"High/Low"},"Measure","Controlled Linear Feet","Total Deemed Savings (kWh)","Maximum Incentive per LN FT","Total Incentive","Total NEBs"]
[1,{"$f":"'Analysis 103L'!C28","v":0},null,{"$f":"'Analysis 103L'!I28","v":""},{"$f":"'Analysis 103L'!J28","v":""},{"$f":"'Analysis 103L'!P28","v":0},{"$f":"'Analysis 103L'!N28","v":""},{"$f":"'Analysis 103L'!Q28","v":""},null,null,{"$f":"IF(--ISERROR(FIND(\"LLLC\",I7)),\"\",F7)","v":""},null,{"$f":"IF(RIGHT(I7, 4)=\"Case\", \"<-- Enter Total Cost.\", IF(K7=\"\",\"\",K7*L7))","v":""},{"$f":"IFERROR(IF(K7=\"\",\"\",IF(LEFT(I7,8) =\"Exterior\", (G7*F7/K7*0.5), G7*F7/K7)),\"\")","v":""},{"$f":"IF(RIGHT(D7, 4)=\"Case\", \"\",IF(K7=\"\",\"\",IF(AI7=\"LLLC\", VLOOKUP(C7,Space_Type_CSFs, 9, FALSE), VLOOKUP(C7,Space_Type_CSFs, 6, FALSE))))","v":""},{"$f":"IF(RIGHT(D7, 4)=\"Case\", \"\",IF(K7=\"\",\"\",(K7*N7*H7)/1000))","v":""},{"$f":"IF(RIGHT(D7, 4)=\"Case\", \"\",IF(K7=\"\",\"\",P7*(1-O7)))","v":""},{"$f":"IF(RIGHT(D7, 4)=\"Case\", BV7, IF(K7=\"\",\"\",P7-Q7))","v":""},{"$f":"IF(AND(ISNUMBER(AF7),ISNUMBER(L7)),AF7,)","v":0},{"$f":"IF(RIGHT(D7,4)=\"Case\",BX7,IF(I7=\"\",\"\",K7*S7))","v":""},null,{"$f":"IF(AM7=\"FAIL\",\"Control System Not Cost Effective\",IF(AG7=\"N\",\"Does not meet requirement\",\"\"))","v":""},{"$f":"'Analysis 103L'!$Y$232*(T7/('Analysis 103L'!$Y$230+'Analysis 103L'!$Y$231))","v":{"$error":"#VALUE!"}},null,null,{"$f":"IF(R7=\"\",\"\",R7*'Analysis 103L'!$D$23)","v":""},null,"Custom","Custom control system",null,{"$f":"F7*G7/K7","v":{"$error":"#VALUE!"}},{"$f":"IF(AND(V7=\"\",AL7=\"Custom\"),MIN(L7*Incent_Cost_Controls_Cust,R7/K7*0.35),IF(AI7=\"LLLC\",MIN(AJ7,((L7+'Analysis 103L'!R28)*Incent_Cost_LLLC)-'Analysis 103L'!X28),IF(AE7>=VLOOKUP(I7,Incent_Controls,3,FALSE),MIN(L7,VLOOKUP(I7,Incent_Controls,2,FALSE)),\"\")))","v":{"$error":"#VALUE!"}},{"$f":"IF(OR(AI7=\"LLLC\",K7=\"\"),\"\",IF(AE7>=VLOOKUP(I7,Incent_Controls,3,FALSE),\"Y\",\"N\"))","v":""},null,{"$f":"IF(RIGHT(I7,4)=\"LLLC\", \"LLLC\",\"\")","v":""},{"$f":"IF(AI7=\"LLLC\",VLOOKUP(E7,Incent_LLLC,2,FALSE),\"\")","v":""},null,{"$f":"IF(I7=\"Custom Control System\",\"Custom\",\"\")","v":""},{"$f":"IF(AL7=\"\",\"PASS/PASS\",IF(BC7=\"PASS/PASS\",\"PASS/PASS\",\"FAIL\"))","v":"PASS/PASS"},{"$f":"IF(AM7=\"PASS/PASS\",M7,\"0\")","v":""},{"$f":"F7*G7*H7/1000","v":{"$error":"#VALUE!"}},{"$f":"AO7*(1-O7)","v":{"$error":"#VALUE!"}},{"$f":"AO7-AP7","v":{"$error":"#VALUE!"}},{"$f":"IF(AL7=\"Custom\",0.35*M7,T7)","v":""},null,10,{"$f":"VLOOKUP('Analysis 103L'!BE28, avoided_costs, ROUND($AT7, 0)+2, FALSE)","v":{"$error":"#N/A"}},{"$f":"AU7","v":{"$error":"#N/A"}},{"$f":"0.5*M7/AQ7","v":{"$error":"#VALUE!"}},{"$f":"AU7/AW7","v":{"$error":"#N/A"}},{"$f":"IF(ROUND(AX7*1,1)>=1, \"PASS\", \"FAIL\")","v":{"$error":"#N/A"}},{"$f":"M7/AQ7","v":{"$error":"#VALUE!"}},{"$f":"AV7/AZ7","v":{"$error":"#N/A"}},{"$f":"IF(OR(ROUND(BA7,1)>=1,BA7<0), \"PASS\", \"FAIL\")","v":{"$error":"#N/A"}},{"$f":"AY7&\"/\"&BB7","v":{"$error":"#N/A"}},null,null,null,null,null,null,null,null,null,null,"LED fixture or kit, 25W or less",10,null,null,null,{"$f":"'Analysis 103L'!CF28","v":""},{"$f":"IF(I7=$AC$18, IF(BS7=\"DR\", $AC$20, IF(BS7=\"SR\", $AC$19, \"\")), \"\")","v":""},{"$f":"IF(BT7=\"\", \"\", $F7)","v":""},{"$f":"IF(BT7=\"\", \"\", INDEX($BQ$32:$BQ$33, MATCH($BT7, $BN$32:$BN$33, 0))*$BU7)","v":""},{"$f":"IF(BU7=\"\", \"\", INDEX($BO$32:$BO$33, MATCH($BT7, $BN$32:$BN$33, 0)))","v":""},{"$f":"IF(BW7=\"\",\"\",MIN(L7*Incent_Cost_Case,(F7*BW7)))","v":""},{"$f":"IF(BV7=\"\", \"\", INDEX($AD$19:$AD$20, MATCH($BT7, $AC$19:$AC$20, 0))*$BU7)","v":""}]
[2,{"$f":"'Analysis 103L'!C29","v":0},null,{"$f":"'Analysis 103L'!I29","v":""},{"$f":"'Analysis 103L'!J29","v":""},{"$f":"'Analysis 103L'!P29","v":0},{"$f":"'Analysis 103L'!N29","v":""},{"$f":"'Analysis 103L'!Q29","v":""},null,null,{"$f":"IF(--ISERROR(FIND(\"LLLC\",I8)),\"\",F8)","v":""},null,"",{"$f":"IFERROR(IF(K8=\"\",\"\",IF(LEFT(I8,8) =\"Exterior\", (G8*F8/K8*0.5), G8*F8/K8)),\"\")","v":""},"",{"$f":"IF(RIGHT(D8, 4)=\"Case\", \"\",IF(K8=\"\",\"\",(K8*N8*H8)/1000))","v":""},{"$f":"IF(RIGHT(D8, 4)=\"Case\", \"\",IF(K8=\"\",\"\",P8*(1-O8)))","v":""},{"$f":"IF(RIGHT(D8, 4)=\"Case\", BV8, IF(K8=\"\",\"\",P8-Q8))","v":""},{"$f":"IF(AND(ISNUMBER(AF8),ISNUMBER(L8)),AF8,)","v":0},{"$f":"IF(RIGHT(D8,4)=\"Case\",BX8,IF(I8=\"\",\"\",K8*S8))","v":""},null,"",{"$f":"'Analysis 103L'!$Y$232*(T8/('Analysis 103L'!$Y$230+'Analysis 103L'!$Y$231))","v":{"$error":"#VALUE!"}},null,null,{"$f":"IF(R8=\"\",\"\",R8*'Analysis 103L'!$D$23)","v":""},null,"Custom","Hard-Wired Occ Sensor ceiling/corner/surface mount 100W or greater",11.91,{"$f":"F8*G8/K8","v":{"$error":"#VALUE!"}},{"$f":"IF(AND(V8=\"\",AL8=\"Custom\"),MIN(L8*Incent_Cost_Controls_Cust,R8/K8*0.35),IF(AI8=\"LLLC\",MIN(AJ8,((L8+'Analysis 103L'!R29)*Incent_Cost_LLLC)-'Analysis 103L'!X29),IF(AE8>=VLOOKUP(I8,Incent_Controls,3,FALSE),MIN(L8,VLOOKUP(I8,Incent_Controls,2,FALSE)),\"\")))","v":{"$error":"#VALUE!"}},{"$f":"IF(OR(AI8=\"LLLC\",K8=\"\"),\"\",IF(AE8>=VLOOKUP(I8,Incent_Controls,3,FALSE),\"Y\",\"N\"))","v":""},null,{"$f":"IF(RIGHT(I8,4)=\"LLLC\", \"LLLC\",\"\")","v":""},{"$f":"IF(AI8=\"LLLC\",VLOOKUP(E8,Incent_LLLC,2,FALSE),\"\")","v":""},null,{"$f":"IF(I8=\"Custom Control System\",\"Custom\",\"\")","v":""},{"$f":"IF(AL8=\"\",\"PASS/PASS\",IF(BC8=\"PASS/PASS\",\"PASS/PASS\",\"FAIL\"))","v":"PASS/PASS"},"",{"$error":"#VALUE!"},{"$error":"#VALUE!"},{"$f":"AO8-AP8","v":{"$error":"#VALUE!"}},"",null,10,{"$f":"VLOOKUP('Analysis 103L'!BE29, avoided_costs, ROUND($AT8, 0)+2, FALSE)","v":{"$error":"#N/A"}},{"$f":"AU8","v":{"$error":"#N/A"}},{"$error":"#VALUE!"},{"$f":"AU8/AW8","v":{"$error":"#N/A"}},{"$f":"IF(ROUND(AX8,1)>=1, \"PASS\", \"FAIL\")","v":{"$error":"#N/A"}},{"$error":"#VALUE!"},{"$error":"#N/A"},{"$f":"IF(OR(ROUND(BA8,1)>=1,BA8<0), \"PASS\", \"FAIL\")","v":{"$error":"#N/A"}},{"$error":"#N/A"},null,null,null,null,null,null,null,null,null,null,"LED fixture or kit, 26-39W",25,null,null,null,{"$f":"'Analysis 103L'!CF29","v":""},"",{"$f":"IF(BT8=\"\", \"\", $F8)","v":""},"","","",""]
[3,{"$f":"'Analysis 103L'!C30","v":0},null,{"$f":"'Analysis 103L'!I30","v":""},{"$f":"'Analysis 103L'!J30","v":""},{"$f":"'Analysis 103L'!P30","v":0},{"$f":"'Analysis 103L'!N30","v":""},{"$f":"'Analysis 103L'!Q30","v":""},null,null,"",null,"",{"$f":"IFERROR(IF(K9=\"\",\"\",IF(LEFT(I9,8) =\"Exterior\", (G9*F9/K9*0.5), G9*F9/K9)),\"\")","v":""},"",{"$f":"IF(RIGHT(D9, 4)=\"Case\", \"\",IF(K9=\"\",\"\",(K9*N9*H9)/1000))","v":""},{"$f":"IF(RIGHT(D9, 4)=\"Case\", \"\",IF(K9=\"\",\"\",P9*(1-O9)))","v":""},{"$f":"IF(RIGHT(D9, 4)=\"Case\", BV9, IF(K9=\"\",\"\",P9-Q9))","v":""},{"$f":"IF(AND(ISNUMBER(AF9),ISNUMBER(L9)),AF9,)","v":0},{"$f":"IF(RIGHT(D9,4)=\"Case\",BX9,IF(I9=\"\",\"\",K9*S9))","v":""},null,"",{"$f":"'Analysis 103L'!$Y$232*(T9/('Analysis 103L'!$Y$230+'Analysis 103L'!$Y$231))","v":{"$error":"#VALUE!"}},null,null,{"$f":"IF(R9=\"\",\"\",R9*'Analysis 103L'!$D$23)","v":""},null,null,"Wall Switch Vacancy Sensor, 30W or greater",5.33,{"$error":"#VALUE!"},{"$f":"IF(AND(V9=\"\",AL9=\"Custom\"),MIN(L9*Incent_Cost_Controls_Cust,R9/K9*0.35),IF(AI9=\"LLLC\",MIN(AJ9,((L9+'Analysis 103L'!R30)*Incent_Cost_LLLC)-'Analysis 103L'!X30),IF(AE9>=VLOOKUP(I9,Incent_Controls,3,FALSE),MIN(L9,VLOOKUP(I9,Incent_Controls,2,FALSE)),\"\")))","v":{"$error":"#VALUE!"}},"",null,{"$f":"IF(RIGHT(I9,4)=\"LLLC\", \"LLLC\",\"\")","v":""},"",null,"","PASS/PASS","",{"$error":"#VALUE!"},{"$error":"#VALUE!"},{"$error":"#VALUE!"},"",null,10,{"$f":"VLOOKUP('Analysis 103L'!BE30, avoided_costs, ROUND($AT9, 0)+2, FALSE)","v":{"$error":"#N/A"}},{"$error":"#N/A"},{"$error":"#VALUE!"},{"$error":"#N/A"},{"$f":"IF(ROUND(AX9,1)>=1, \"PASS\", \"FAIL\")","v":{"$error":"#N/A"}},{"$error":"#VALUE!"},{"$error":"#N/A"},{"$f":"IF(OR(ROUND(BA9,1)>=1,BA9<0), \"PASS\", \"FAIL\")","v":{"$error":"#N/A"}},{"$error":"#N/A"},null,null,null,null,null,null,null,null,null,null,"LED fixture or kit, 40-57W",30,null,null,null,{"$f":"'Analysis 103L'!CF30","v":""},"","","","","",""]
[4,{"$f":"'Analysis 103L'!C31","v":0},null,{"$f":"'Analysis 103L'!I31","v":""},{"$f":"'Analysis 103L'!J31","v":""},{"$f":"'Analysis 103L'!P31","v":0},{"$f":"'Analysis 103L'!N31","v":""},{"$f":"'Analysis 103L'!Q31","v":""},null,null,"",null,"",{"$f":"IFERROR(IF(K10=\"\",\"\",IF(LEFT(I10,8) =\"Exterior\", (G10*F10/K10*0.5), G10*F10/K10)),\"\")","v":""},"",{"$f":"IF(RIGHT(D10, 4)=\"Case\", \"\",IF(K10=\"\",\"\",(K10*N10*H10)/1000))","v":""},{"$f":"IF(RIGHT(D10, 4)=\"Case\", \"\",IF(K10=\"\",\"\",P10*(1-O10)))","v":""},{"$f":"IF(RIGHT(D10, 4)=\"Case\", BV10, IF(K10=\"\",\"\",P10-Q10))","v":""},{"$f":"IF(AND(ISNUMBER(AF10),ISNUMBER(L10)),AF10,)","v":0},{"$f":"IF(RIGHT(D10,4)=\"Case\",BX10,IF(I10=\"\",\"\",K10*S10))","v":""},null,"",{"$f":"'Analysis 103L'!$Y$232*(T10/('Analysis 103L'!$Y$230+'Analysis 103L'!$Y$231))","v":{"$error":"#VALUE!"}},null,null,{"$f":"IF(R10=\"\",\"\",R10*'Analysis 103L'!$D$23)","v":""},null,null,"Wall Switch Occupancy Sensor, 30W or greater",5.33,{"$error":"#VALUE!"},{"$f":"IF(AND(V10=\"\",AL10=\"Custom\"),MIN(L10*Incent_Cost_Controls_Cust,R10/K10*0.35),IF(AI10=\"LLLC\",MIN(AJ10,((L10+'Analysis 103L'!R31)*Incent_Cost_LLLC)-'Analysis 103L'!X31),IF(AE10>=VLOOKUP(I10,Incent_Controls,3,FALSE),MIN(L10,VLOOKUP(I10,Incent_Controls,2,FALSE)),\"\")))","v":{"$error":"#VALUE!"}},"",null,{"$f":"IF(RIGHT(I10,4)=\"LLLC\", \"LLLC\",\"\")","v":""},"",null,"","PASS/PASS","",{"$error":"#VALUE!"},{"$error":"#VALUE!"},{"$error":"#VALUE!"},"",null,10,{"$f":"VLOOKUP('Analysis 103L'!BE31, avoided_costs, ROUND($AT10, 0)+2, FALSE)","v":{"$error":"#N/A"}},{"$error":"#N/A"},{"$error":"#VALUE!"},{"$error":"#N/A"},{"$error":"#N/A"},{"$error":"#VALUE!"},{"$error":"#N/A"},{"$error":"#N/A"},{"$error":"#N/A"},null,null,null,null,null,null,null,null,null,null,"LED fixture or kit, 58-100W",50,null,null,null,{"$f":"'Analysis 103L'!CF31","v":""},"","","","","",""]
[5,{"$f":"'Analysis 103L'!C32","v":0},null,{"$f":"'Analysis 103L'!I32","v":""},{"$f":"'Analysis 103L'!J32","v":""},{"$f":"'Analysis 103L'!P32","v":0},{"$f":"'Analysis 103L'!N32","v":""},{"$f":"'Analysis 103L'!Q32","v":""},null,null,"",null,"",{"$f":"IFERROR(IF(K11=\"\",\"\",IF(LEFT(I11,8) =\"Exterior\", (G11*F11/K11*0.5), G11*F11/K11)),\"\")","v":""},"",{"$f":"IF(RIGHT(D11, 4)=\"Case\", \"\",IF(K11=\"\",\"\",(K11*N11*H11)/1000))","v":""},{"$f":"IF(RIGHT(D11, 4)=\"Case\", \"\",IF(K11=\"\",\"\",P11*(1-O11)))","v":""},{"$f":"IF(RIGHT(D11, 4)=\"Case\", BV11, IF(K11=\"\",\"\",P11-Q11))","v":""},{"$f":"IF(AND(ISNUMBER(AF11),ISNUMBER(L11)),AF11,)","v":0},{"$f":"IF(RIGHT(D11,4)=\"Case\",BX11,IF(I11=\"\",\"\",K11*S11))","v":""},null,"",{"$f":"'Analysis 103L'!$Y$232*(T11/('Analysis 103L'!$Y$230+'Analysis 103L'!$Y$231))","v":{"$error":"#VALUE!"}},null,null,{"$f":"IF(R11=\"\",\"\",R11*'Analysis 103L'!$D$23)","v":""},null,null,"Occupancy Sensor, fixture mount, 30W or greater",3.81,{"$error":"#VALUE!"},{"$f":"IF(AND(V11=\"\",AL11=\"Custom\"),MIN(L11*Incent_Cost_Controls_Cust,R11/K11*0.35),IF(AI11=\"LLLC\",MIN(AJ11,((L11+'Analysis 103L'!R32)*Incent_Cost_LLLC)-'Analysis 103L'!X32),IF(AE11>=VLOOKUP(I11,Incent_Controls,3,FALSE),MIN(L11,VLOOKUP(I11,Incent_Controls,2,FALSE)),\"\")))","v":{"$error":"#VALUE!"}},"",null,"","",null,"","PASS/PASS","",{"$error":"#VALUE!"},{"$error":"#VALUE!"},{"$error":"#VALUE!"},"",null,10,{"$f":"VLOOKUP('Analysis 103L'!BE32, avoided_costs, ROUND($AT11, 0)+2, FALSE)","v":{"$error":"#N/A"}},{"$error":"#N/A"},{"$error":"#VALUE!"},{"$error":"#N/A"},{"$error":"#N/A"},{"$error":"#VALUE!"},{"$error":"#N/A"},{"$error":"#N/A"},{"$error":"#N/A"},null,null,null,null,null,null,null,null,null,null,"LED High-Bay or Low-Bay, 40-90W",35,null,null,null,{"$f":"'Analysis 103L'!CF32","v":""},"","","","","",""]
[6,{"$f":"'Analysis 103L'!C33","v":0},null,{"$f":"'Analysis 103L'!I33","v":""},{"$f":"'Analysis 103L'!J33","v":""},{"$f":"'Analysis 103L'!P33","v":0},{"$f":"'Analysis 103L'!N33","v":""},{"$f":"'Analysis 103L'!Q33","v":""},null,null,"",null,"","","","","","",{"$f":"IF(AND(ISNUMBER(AF12),ISNUMBER(L12)),AF12,)","v":0},"",null,"",{"$f":"'Analysis 103L'!$Y$232*(T12/('Analysis 103L'!$Y$230+'Analysis 103L'!$Y$231))","v":{"$error":"#VALUE!"}},null,null,{"$f":"IF(R12=\"\",\"\",R12*'Analysis 103L'!$D$23)","v":""},null,null,"Wireless Occ Sensor ceiling/corner/surface mount 100W or greater",11.91,{"$error":"#VALUE!"},{"$f":"IF(AND(V12=\"\",AL12=\"Custom\"),MIN(L12*Incent_Cost_Controls_Cust,R12/K12*0.35),IF(AI12=\"LLLC\",MIN(AJ12,((L12+'Analysis 103L'!R33)*Incent_Cost_LLLC)-'Analysis 103L'!X33),IF(AE12>=VLOOKUP(I12,Incent_Controls,3,FALSE),MIN(L12,VLOOKUP(I12,Incent_Controls,2,FALSE)),\"\")))","v":{"$error":"#VALUE!"}},"",null,"","",null,"","PASS/PASS","",{"$error":"#VALUE!"},{"$error":"#VALUE!"},{"$error":"#VALUE!"},"",null,10,{"$f":"VLOOKUP('Analysis 103L'!BE33, avoided_costs, ROUND($AT12, 0)+2, FALSE)","v":{"$error":"#N/A"}},{"$error":"#N/A"},{"$error":"#VALUE!"},{"$error":"#N/A"},{"$error":"#N/A"},{"$error":"#VALUE!"},{"$error":"#N/A"},{"$error":"#N/A"},{"$error":"#N/A"},null,null,null,null,null,null,null,null,null,null,"LED High-Bay or Low-Bay, 91-140W",55,null,null,null,{"$f":"'Analysis 103L'!CF33","v":""},"","","",{"$f":"IF(BU12=\"\", \"\", INDEX($BO$32:$BO$33, MATCH($BT12, $BN$32:$BN$33, 0)))","v":""},{"$f":"IF(BW12=\"\",\"\",MIN(L12*Incent_Cost_Case,(F12*BW12)))","v":""},""]
[7,{"$f":"'Analysis 103L'!C34","v":0},null,{"$f":"'Analysis 103L'!I34","v":""},{"$f":"'Analysis 103L'!J34","v":""},{"$f":"'Analysis 103L'!P34","v":0},{"$f":"'Analysis 103L'!N34","v":""},{"$f":"'Analysis 103L'!Q34","v":""},null,null,"",null,"","","","","","",0,"",null,"",{"$f":"'Analysis 103L'!$Y$232*(T13/('Analysis 103L'!$Y$230+'Analysis 103L'!$Y$231))","v":{"$error":"#VALUE!"}},null,null,{"$f":"IF(R13=\"\",\"\",R13*'Analysis 103L'!$D$23)","v":""},null,null,"Exterior occupancy sensor, fixture or pole mount, 40W or greater",3.65,{"$error":"#VALUE!"},{"$f":"IF(AND(V13=\"\",AL13=\"Custom\"),MIN(L13*Incent_Cost_Controls_Cust,R13/K13*0.35),IF(AI13=\"LLLC\",MIN(AJ13,((L13+'Analysis 103L'!R34)*Incent_Cost_LLLC)-'Analysis 103L'!X34),IF(AE13>=VLOOKUP(I13,Incent_Controls,3,FALSE),MIN(L13,VLOOKUP(I13,Incent_Controls,2,FALSE)),\"\")))","v":{"$error":"#VALUE!"}},"",null,"","",null,"","PASS/PASS","",{"$error":"#VALUE!"},{"$error":"#VALUE!"},{"$error":"#VALUE!"},"",null,10,{"$f":"VLOOKUP('Analysis 103L'!BE34, avoided_costs, ROUND($AT13, 0)+2, FALSE)","v":{"$error":"#N/A"}},{"$error":"#N/A"},{"$error":"#VALUE!"},{"$error":"#N/A"},{"$error":"#N/A"},{"$error":"#VALUE!"},{"$error":"#N/A"},{"$error":"#N/A"},{"$error":"#N/A"},null,null,null,null,null,null,null,null,null,null,"LED High-Bay or Low-Bay, 141-299W",80,null,null,null,{"$f":"'Analysis 103L'!CF34","v":""},"","","","",{"$f":"IF(BW13=\"\",\"\",MIN(L13*Incent_Cost_Case,(F13*BW13)))","v":""},""]
[8,{"$f":"'Analysis 103L'!C35","v":0},null,{"$f":"'Analysis 103L'!I35","v":""},{"$f":"'Analysis 103L'!J35","v":""},{"$f":"'Analysis 103L'!P35","v":0},{"$f":"'Analysis 103L'!N35","v":""},{"$f":"'Analysis 103L'!Q35","v":""},null,null,"",null,"","","","","","",0,"",null,"",{"$f":"'Analysis 103L'!$Y$232*(T14/('Analysis 103L'!$Y$230+'Analysis 103L'!$Y$231))","v":{"$error":"#VALUE!"}},null,null,{"$f":"IF(R14=\"\",\"\",R14*'Analysis 103L'!$D$23)","v":""},null,null,"Fixture controlled by other sensor",null,{"$error":"#VALUE!"},{"$f":"IF(AND(V14=\"\",AL14=\"Custom\"),MIN(L14*Incent_Cost_Controls_Cust,R14/K14*0.35),IF(AI14=\"LLLC\",MIN(AJ14,((L14+'Analysis 103L'!R35)*Incent_Cost_LLLC)-'Analysis 103L'!X35),IF(AE14>=VLOOKUP(I14,Incent_Controls,3,FALSE),MIN(L14,VLOOKUP(I14,Incent_Controls,2,FALSE)),\"\")))","v":{"$error":"#VALUE!"}},"",null,"","",null,"","PASS/PASS","",{"$error":"#VALUE!"},{"$error":"#VALUE!"},{"$error":"#VALUE!"},"",null,10,{"$f":"VLOOKUP('Analysis 103L'!BE35, avoided_costs, ROUND($AT14, 0)+2, FALSE)","v":{"$error":"#N/A"}},{"$error":"#N/A"},{"$error":"#VALUE!"},{"$error":"#N/A"},{"$error":"#N/A"},{"$error":"#VALUE!"},{"$error":"#N/A"},{"$error":"#N/A"},{"$error":"#N/A"},null,null,null,null,null,null,null,null,null,null,"LED High-Bay or Low-Bay, 300W or greater",100,null,null,null,{"$f":"'Analysis 103L'!CF35","v":""},"","","","","",""]
[9,{"$f":"'Analysis 103L'!C36","v":0},null,{"$f":"'Analysis 103L'!I36","v":""},{"$f":"'Analysis 103L'!J36","v":""},{"$f":"'Analysis 103L'!P36","v":0},{"$f":"'Analysis 103L'!N36","v":""},{"$f":"'Analysis 103L'!Q36","v":""},null,null,"",null,"","","","","","",0,{"$f":"IF(RIGHT(D15,4)=\"Case\",BX15,IF(I15=\"\",\"\",K15*S15))","v":""},null,"",{"$f":"'Analysis 103L'!$Y$232*(T15/('Analysis 103L'!$Y$230+'Analysis 103L'!$Y$231))","v":{"$error":"#VALUE!"}},null,null,{"$f":"IF(R15=\"\",\"\",R15*'Analysis 103L'!$D$23)","v":""},null,null,"Interior Fixtures with LLLC",4.5199999999999996,{"$error":"#VALUE!"},{"$f":"IF(AND(V15=\"\",AL15=\"Custom\"),MIN(L15*Incent_Cost_Controls_Cust,R15/K15*0.35),IF(AI15=\"LLLC\",MIN(AJ15,((L15+'Analysis 103L'!R36)*Incent_Cost_LLLC)-'Analysis 103L'!X36),IF(AE15>=VLOOKUP(I15,Incent_Controls,3,FALSE),MIN(L15,VLOOKUP(I15,Incent_Controls,2,FALSE)),\"\")))","v":{"$error":"#VALUE!"}},"",null,"","",null,"","PASS/PASS","",{"$error":"#VALUE!"},{"$error":"#VALUE!"},{"$error":"#VALUE!"},"",null,10,{"$f":"VLOOKUP('Analysis 103L'!BE36, avoided_costs, ROUND($AT15, 0)+2, FALSE)","v":{"$error":"#N/A"}},{"$error":"#N/A"},{"$error":"#VALUE!"},{"$error":"#N/A"},{"$error":"#N/A"},{"$error":"#VALUE!"},{"$error":"#N/A"},{"$error":"#N/A"},{"$error":"#N/A"},null,null,null,null,null,null,null,null,null,null,"Exterior LED fixture, 20W or less",40,null,null,null,{"$f":"'Analysis 103L'!CF36","v":""},"","","","","",{"$f":"IF(BV15=\"\", \"\", INDEX($AD$19:$AD$20, MATCH($BT15, $AC$19:$AC$20, 0))*$BU15)","v":""}]
[10,{"$f":"'Analysis 103L'!C37","v":0},null,{"$f":"'Analysis 103L'!I37","v":""},{"$f":"'Analysis 103L'!J37","v":""},{"$f":"'Analysis 103L'!P37","v":0},{"$f":"'Analysis 103L'!N37","v":""},{"$f":"'Analysis 103L'!Q37","v":""},null,null,"",null,"","","","","","",0,{"$f":"IF(RIGHT(D16,4)=\"Case\",BX16,IF(I16=\"\",\"\",K16*S16))","v":""},null,"",{"$f":"'Analysis 103L'!$Y$232*(T16/('Analysis 103L'!$Y$230+'Analysis 103L'!$Y$231))","v":{"$error":"#VALUE!"}},null,null,{"$f":"IF(R16=\"\",\"\",R16*'Analysis 103L'!$D$23)","v":""},null,null,"High-Bay with LLLC",9.51,{"$error":"#VALUE!"},{"$f":"IF(AND(V16=\"\",AL16=\"Custom\"),MIN(L16*Incent_Cost_Controls_Cust,R16/K16*0.35),IF(AI16=\"LLLC\",MIN(AJ16,((L16+'Analysis 103L'!R37)*Incent_Cost_LLLC)-'Analysis 103L'!X37),IF(AE16>=VLOOKUP(I16,Incent_Controls,3,FALSE),MIN(L16,VLOOKUP(I16,Incent_Controls,2,FALSE)),\"\")))","v":{"$error":"#VALUE!"}},"",null,"","",null,"","PASS/PASS","",{"$error":"#VALUE!"},{"$error":"#VALUE!"},{"$error":"#VALUE!"},"",null,10,{"$f":"VLOOKUP('Analysis 103L'!BE37, avoided_costs, ROUND($AT16, 0)+2, FALSE)","v":{"$error":"#N/A"}},{"$error":"#N/A"},{"$error":"#VALUE!"},{"$error":"#N/A"},{"$error":"#N/A"},{"$error":"#VALUE!"},{"$error":"#N/A"},{"$error":"#N/A"},{"$error":"#N/A"},null,null,null,null,null,null,null,null,null,null,"Exterior LED fixture, 21-40W ",50,null,null,null,{"$f":"'Analysis 103L'!CF37","v":""},"","","","","",{"$f":"IF(BV16=\"\", \"\", INDEX($AD$19:$AD$20, MATCH($BT16, $AC$19:$AC$20, 0))*$BU16)","v":""}]
[11,{"$f":"'Analysis 103L'!C38","v":0},null,{"$f":"'Analysis 103L'!I38","v":""},{"$f":"'Analysis 103L'!J38","v":""},{"$f":"'Analysis 103L'!P38","v":0},{"$f":"'Analysis 103L'!N38","v":""},{"$f":"'Analysis 103L'!Q38","v":""},null,null,"",null,{"$f":"IF(RIGHT(I17, 4)=\"Case\", \"<-- Enter Total Cost.\", IF(K17=\"\",\"\",K17*L17))","v":""},{"$f":"IFERROR(IF(K17=\"\",\"\",IF(LEFT(I17,8) =\"Exterior\", (G17*F17/K17*0.5), G17*F17/K17)),\"\")","v":""},"","","","",{"$f":"IF(AND(ISNUMBER(AF17),ISNUMBER(L17)),AF17,)","v":0},{"$f":"IF(RIGHT(D17,4)=\"Case\",BX17,IF(I17=\"\",\"\",K17*S17))","v":""},null,{"$f":"IF(AM17=\"FAIL\",\"Control System Not Cost Effective\",IF(AG17=\"N\",\"Does not meet requirement\",\"\"))","v":""},{"$f":"'Analysis 103L'!$Y$232*(T17/('Analysis 103L'!$Y$230+'Analysis 103L'!$Y$231))","v":{"$error":"#VALUE!"}},null,null,{"$f":"IF(R17=\"\",\"\",R17*'Analysis 103L'!$D$23)","v":""},null,null,"Exterior with LLLC",8.58,{"$error":"#VALUE!"},{"$f":"IF(AND(V17=\"\",AL17=\"Custom\"),MIN(L17*Incent_Cost_Controls_Cust,R17/K17*0.35),IF(AI17=\"LLLC\",MIN(AJ17,((L17+'Analysis 103L'!R38)*Incent_Cost_LLLC)-'Analysis 103L'!X38),IF(AE17>=VLOOKUP(I17,Incent_Controls,3,FALSE),MIN(L17,VLOOKUP(I17,Incent_Controls,2,FALSE)),\"\")))","v":{"$error":"#VALUE!"}},"",null,{"$f":"IF(RIGHT(I17,4)=\"LLLC\", \"LLLC\",\"\")","v":""},{"$f":"IF(AI17=\"LLLC\",VLOOKUP(E17,Incent_LLLC,2,FALSE),\"\")","v":""},null,"","PASS/PASS","",{"$error":"#VALUE!"},{"$error":"#VALUE!"},{"$f":"AO17-AP17","v":{"$error":"#VALUE!"}},"",null,10,{"$f":"VLOOKUP('Analysis 103L'!BE38, avoided_costs, ROUND($AT17, 0)+2, FALSE)","v":{"$error":"#N/A"}},{"$error":"#N/A"},{"$error":"#VALUE!"},{"$error":"#N/A"},{"$error":"#N/A"},{"$error":"#VALUE!"},{"$error":"#N/A"},{"$error":"#N/A"},{"$error":"#N/A"},null,null,null,null,null,null,null,null,null,null,"Exterior LED fixture, 41-90W ",60,null,null,null,{"$f":"'Analysis 103L'!CF38","v":""},"","","","","",""]
[12,{"$f":"'Analysis 103L'!C39","v":0},null,{"$f":"'Analysis 103L'!I39","v":""},{"$f":"'Analysis 103L'!J39","v":""},{"$f":"'Analysis 103L'!P39","v":0},{"$f":"'Analysis 103L'!N39","v":""},{"$f":"'Analysis 103L'!Q39","v":""},null,null,"",null,"","","","","","",0,{"$f":"IF(RIGHT(D18,4)=\"Case\",BX18,IF(I18=\"\",\"\",K18*S18))","v":""},null,"",{"$f":"'Analysis 103L'!$Y$232*(T18/('Analysis 103L'!$Y$230+'Analysis 103L'!$Y$231))","v":{"$error":"#VALUE!"}},null,null,{"$f":"IF(R18=\"\",\"\",R18*'Analysis 103L'!$D$23)","v":""},null,null,"Motion Sensor on Refrigerated Case",null,{"$error":"#VALUE!"},{"$f":"IF(AND(V18=\"\",AL18=\"Custom\"),MIN(L18*Incent_Cost_Controls_Cust,R18/K18*0.35),IF(AI18=\"LLLC\",MIN(AJ18,((L18+'Analysis 103L'!R39)*Incent_Cost_LLLC)-'Analysis 103L'!X39),IF(AE18>=VLOOKUP(I18,Incent_Controls,3,FALSE),MIN(L18,VLOOKUP(I18,Incent_Controls,2,FALSE)),\"\")))","v":{"$error":"#VALUE!"}},"",null,{"$f":"IF(RIGHT(I18,4)=\"LLLC\", \"LLLC\",\"\")","v":""},"",null,"","PASS/PASS","",{"$error":"#VALUE!"},{"$error":"#VALUE!"},{"$error":"#VALUE!"},"",null,10,{"$f":"VLOOKUP('Analysis 103L'!BE39, avoided_costs, ROUND($AT18, 0)+2, FALSE)","v":{"$error":"#N/A"}},{"$error":"#N/A"},{"$error":"#VALUE!"},{"$error":"#N/A"},{"$error":"#N/A"},{"$error":"#VALUE!"},{"$error":"#N/A"},{"$error":"#N/A"},{"$error":"#N/A"},null,null,null,null,null,null,null,null,null,null,"Exterior LED fixture, 91-140W ",95,null,null,null,{"$f":"'Analysis 103L'!CF39","v":""},"","","","","",""]
[13,{"$f":"'Analysis 103L'!C40","v":0},null,{"$f":"'Analysis 103L'!I40","v":""},{"$f":"'Analysis 103L'!J40","v":""},{"$f":"'Analysis 103L'!P40","v":0},{"$f":"'Analysis 103L'!N40","v":""},{"$f":"'Analysis 103L'!Q40","v":""},null,null,"",null,"","","","","","",0,"",null,"",{"$f":"'Analysis 103L'!$Y$232*(T19/('Analysis 103L'!$Y$230+'Analysis 103L'!$Y$231))","v":{"$error":"#VALUE!"}},null,null,{"$f":"IF(R19=\"\",\"\",R19*'Analysis 103L'!$D$23)","v":""},null,null,"Motion Sensor on LED Lights in Open Cases - LED power less than 4.0 watts per linear foot",{"$f":"'LED Case Lighting'!$AZ$15","v":1.5323938803295301},{"$error":"#VALUE!"},{"$f":"IF(AND(V19=\"\",AL19=\"Custom\"),MIN(L19*Incent_Cost_Controls_Cust,R19/K19*0.35),IF(AI19=\"LLLC\",MIN(AJ19,((L19+'Analysis 103L'!R40)*Incent_Cost_LLLC)-'Analysis 103L'!X40),IF(AE19>=VLOOKUP(I19,Incent_Controls,3,FALSE),MIN(L19,VLOOKUP(I19,Incent_Controls,2,FALSE)),\"\")))","v":{"$error":"#VALUE!"}},"",null,"","",null,"","PASS/PASS","",{"$error":"#VALUE!"},{"$error":"#VALUE!"},{"$error":"#VALUE!"},"",null,10,{"$f":"VLOOKUP('Analysis 103L'!BE40, avoided_costs, ROUND($AT19, 0)+2, FALSE)","v":{"$error":"#N/A"}},{"$error":"#N/A"},{"$error":"#VALUE!"},{"$error":"#N/A"},{"$error":"#N/A"},{"$error":"#VALUE!"},{"$error":"#N/A"},{"$error":"#N/A"},{"$error":"#N/A"},null,null,null,null,null,null,null,null,null,null,"Exterior LED fixture, 141-299W ",80,null,null,null,{"$f":"'Analysis 103L'!CF40","v":""},"","","","","",""]
[14,{"$f":"'Analysis 103L'!C41","v":0},null,{"$f":"'Analysis 103L'!I41","v":""},{"$f":"'Analysis 103L'!J41","v":""},{"$f":"'Analysis 103L'!P41","v":0},{"$f":"'Analysis 103L'!N41","v":""},{"$f":"'Analysis 103L'!Q41","v":""},null,null,"",null,"","","","","","",0,"",null,"",{"$f":"'Analysis 103L'!$Y$232*(T20/('Analysis 103L'!$Y$230+'Analysis 103L'!$Y$231))","v":{"$error":"#VALUE!"}},null,null,{"$f":"IF(R20=\"\",\"\",R20*'Analysis 103L'!$D$23)","v":""},null,null,"Motion Sensor on LED Lights in Open Cases - LED power between 4.0 and 8.5 watts per linear foot",{"$f":"'LED Case Lighting'!$AZ$16","v":3.0827733734169902},{"$error":"#VALUE!"},{"$f":"IF(AND(V20=\"\",AL20=\"Custom\"),MIN(L20*Incent_Cost_Controls_Cust,R20/K20*0.35),IF(AI20=\"LLLC\",MIN(AJ20,((L20+'Analysis 103L'!R41)*Incent_Cost_LLLC)-'Analysis 103L'!X41),IF(AE20>=VLOOKUP(I20,Incent_Controls,3,FALSE),MIN(L20,VLOOKUP(I20,Incent_Controls,2,FALSE)),\"\")))","v":{"$error":"#VALUE!"}},"",null,"","",null,"","PASS/PASS","",{"$error":"#VALUE!"},{"$error":"#VALUE!"},{"$error":"#VALUE!"},"",null,10,{"$f":"VLOOKUP('Analysis 103L'!BE41, avoided_costs, ROUND($AT20, 0)+2, FALSE)","v":{"$error":"#N/A"}},{"$error":"#N/A"},{"$error":"#VALUE!"},{"$error":"#N/A"},{"$error":"#N/A"},{"$error":"#VALUE!"},{"$error":"#N/A"},{"$error":"#N/A"},{"$error":"#N/A"},null,null,null,null,null,null,null,null,null,null,"Exterior LED fixture, 300W or greater",90,null,null,null,{"$f":"'Analysis 103L'!CF41","v":""},"","","","","",""]
[15,{"$f":"'Analysis 103L'!C42","v":0},null,{"$f":"'Analysis 103L'!I42","v":""},{"$f":"'Analysis 103L'!J42","v":""},{"$f":"'Analysis 103L'!P42","v":0},{"$f":"'Analysis 103L'!N42","v":""},{"$f":"'Analysis 103L'!Q42","v":""},null,null,"",null,"","","","","","",0,{"$f":"IF(RIGHT(D21,4)=\"Case\",BX21,IF(I21=\"\",\"\",K21*S21))","v":""},null,"",{"$f":"'Analysis 103L'!$Y$232*(T21/('Analysis 103L'!$Y$230+'Analysis 103L'!$Y$231))","v":{"$error":"#VALUE!"}},null,null,{"$f":"IF(R21=\"\",\"\",R21*'Analysis 103L'!$D$23)","v":""},null,null,null,null,{"$error":"#VALUE!"},{"$f":"IF(AND(V21=\"\",AL21=\"Custom\"),MIN(L21*Incent_Cost_Controls_Cust,R21/K21*0.35),IF(AI21=\"LLLC\",MIN(AJ21,((L21+'Analysis 103L'!R42)*Incent_Cost_LLLC)-'Analysis 103L'!X42),IF(AE21>=VLOOKUP(I21,Incent_Controls,3,FALSE),MIN(L21,VLOOKUP(I21,Incent_Controls,2,FALSE)),\"\")))","v":{"$error":"#VALUE!"}},"",null,"","",null,"","PASS/PASS","",{"$error":"#VALUE!"},{"$error":"#VALUE!"},{"$error":"#VALUE!"},"",null,10,{"$f":"VLOOKUP('Analysis 103L'!BE42, avoided_costs, ROUND($AT21, 0)+2, FALSE)","v":{"$error":"#N/A"}},{"$error":"#N/A"},{"$error":"#VALUE!"},{"$error":"#N/A"},{"$f":"IF(ROUND(AX21,1)>=1, \"PASS\", \"FAIL\")","v":{"$error":"#N/A"}},{"$error":"#VALUE!"},{"$error":"#N/A"},{"$f":"IF(OR(ROUND(BA21,1)>=1,BA21<0), \"PASS\", \"FAIL\")","v":{"$error":"#N/A"}},{"$error":"#N/A"},null,null,null,null,null,null,null,null,null,null,null,null,null,null,null,{"$f":"'Analysis 103L'!CF42","v":""},"","","","","",""]
[16,{"$f":"'Analysis 103L'!C43","v":0},null,{"$f":"'Analysis 103L'!I43","v":""},{"$f":"'Analysis 103L'!J43","v":""},{"$f":"'Analysis 103L'!P43","v":0},{"$f":"'Analysis 103L'!N43","v":""},{"$f":"'Analysis 103L'!Q43","v":""},null,null,"",null,"","","","","","",0,{"$f":"IF(RIGHT(D22,4)=\"Case\",BX22,IF(I22=\"\",\"\",K22*S22))","v":""},null,"",{"$f":"'Analysis 103L'!$Y$232*(T22/('Analysis 103L'!$Y$230+'Analysis 103L'!$Y$231))","v":{"$error":"#VALUE!"}},null,null,{"$f":"IF(R22=\"\",\"\",R22*'Analysis 103L'!$D$23)","v":""},null,null,null,null,{"$error":"#VALUE!"},{"$f":"IF(AND(V22=\"\",AL22=\"Custom\"),MIN(L22*Incent_Cost_Controls_Cust,R22/K22*0.35),IF(AI22=\"LLLC\",MIN(AJ22,((L22+'Analysis 103L'!R43)*Incent_Cost_LLLC)-'Analysis 103L'!X43),IF(AE22>=VLOOKUP(I22,Incent_Controls,3,FALSE),MIN(L22,VLOOKUP(I22,Incent_Controls,2,FALSE)),\"\")))","v":{"$error":"#VALUE!"}},"",null,"","",null,"","PASS/PASS","",{"$error":"#VALUE!"},{"$error":"#VALUE!"},{"$error":"#VALUE!"},"",null,10,{"$f":"VLOOKUP('Analysis 103L'!BE43, avoided_costs, ROUND($AT22, 0)+2, FALSE)","v":{"$error":"#N/A"}},{"$error":"#N/A"},{"$error":"#VALUE!"},{"$error":"#N/A"},{"$f":"IF(ROUND(AX22,1)>=1, \"PASS\", \"FAIL\")","v":{"$error":"#N/A"}},{"$error":"#VALUE!"},{"$error":"#N/A"},{"$f":"IF(OR(ROUND(BA22,1)>=1,BA22<0), \"PASS\", \"FAIL\")","v":{"$error":"#N/A"}},{"$error":"#N/A"},null,null,null,null,null,null,null,null,null,null,"Controls Measure","Incentive (each)","Watts (min)","Deemed Savings (kWh)",null,{"$f":"'Analysis 103L'!CF43","v":""},"","","","","",""]
[17,{"$f":"'Analysis 103L'!C44","v":0},null,{"$f":"'Analysis 103L'!I44","v":""},{"$f":"'Analysis 103L'!J44","v":""},{"$f":"'Analysis 103L'!P44","v":0},{"$f":"'Analysis 103L'!N44","v":""},{"$f":"'Analysis 103L'!Q44","v":""},null,null,"",null,"","","",{"$f":"IF(RIGHT(D23, 4)=\"Case\", \"\",IF(K23=\"\",\"\",(K23*N23*H23)/1000))","v":""},{"$f":"IF(RIGHT(D23, 4)=\"Case\", \"\",IF(K23=\"\",\"\",P23*(1-O23)))","v":""},{"$f":"IF(RIGHT(D23, 4)=\"Case\", BV23, IF(K23=\"\",\"\",P23-Q23))","v":""},{"$f":"IF(AND(ISNUMBER(AF23),ISNUMBER(L23)),AF23,)","v":0},{"$f":"IF(RIGHT(D23,4)=\"Case\",BX23,IF(I23=\"\",\"\",K23*S23))","v":""},null,"",{"$f":"'Analysis 103L'!$Y$232*(T23/('Analysis 103L'!$Y$230+'Analysis 103L'!$Y$231))","v":{"$error":"#VALUE!"}},null,null,{"$f":"IF(R23=\"\",\"\",R23*'Analysis 103L'!$D$23)","v":""},null,null,null,null,{"$error":"#VALUE!"},{"$f":"IF(AND(V23=\"\",AL23=\"Custom\"),MIN(L23*Incent_Cost_Controls_Cust,R23/K23*0.35),IF(AI23=\"LLLC\",MIN(AJ23,((L23+'Analysis 103L'!R44)*Incent_Cost_LLLC)-'Analysis 103L'!X44),IF(AE23>=VLOOKUP(I23,Incent_Controls,3,FALSE),MIN(L23,VLOOKUP(I23,Incent_Controls,2,FALSE)),\"\")))","v":{"$error":"#VALUE!"}},"",null,"","",null,"","PASS/PASS","",{"$error":"#VALUE!"},{"$error":"#VALUE!"},{"$error":"#VALUE!"},"",null,10,{"$f":"VLOOKUP('Analysis 103L'!BE44, avoided_costs, ROUND($AT23, 0)+2, FALSE)","v":{"$error":"#N/A"}},{"$error":"#N/A"},{"$error":"#VALUE!"},{"$error":"#N/A"},{"$error":"#N/A"},{"$error":"#VALUE!"},{"$error":"#N/A"},{"$error":"#N/A"},{"$error":"#N/A"},null,null,null,null,null,null,null,null,null,null,"Custom control system","Custom",null,null,null,{"$f":"'Analysis 103L'!CF44","v":""},"","","","","",""]
[18,{"$f":"'Analysis 103L'!C45","v":0},null,{"$f":"'Analysis 103L'!I45","v":""},{"$f":"'Analysis 103L'!J45","v":""},{"$f":"'Analysis 103L'!P45","v":0},{"$f":"'Analysis 103L'!N45","v":""},{"$f":"'Analysis 103L'!Q45","v":""},null,null,"",null,"","","","","","",0,"",null,"",{"$f":"'Analysis 103L'!$Y$232*(T24/('Analysis 103L'!$Y$230+'Analysis 103L'!$Y$231))","v":{"$error":"#VALUE!"}},null,null,{"$f":"IF(R24=\"\",\"\",R24*'Analysis 103L'!$D$23)","v":""},null,null,null,null,{"$error":"#VALUE!"},{"$f":"IF(AND(V24=\"\",AL24=\"Custom\"),MIN(L24*Incent_Cost_Controls_Cust,R24/K24*0.35),IF(AI24=\"LLLC\",MIN(AJ24,((L24+'Analysis 103L'!R45)*Incent_Cost_LLLC)-'Analysis 103L'!X45),IF(AE24>=VLOOKUP(I24,Incent_Controls,3,FALSE),MIN(L24,VLOOKUP(I24,Incent_Controls,2,FALSE)),\"\")))","v":{"$error":"#VALUE!"}},"",null,"","",null,"","PASS/PASS","",{"$error":"#VALUE!"},{"$error":"#VALUE!"},{"$error":"#VALUE!"},"",null,10,{"$f":"VLOOKUP('Analysis 103L'!BE45, avoided_costs, ROUND($AT24, 0)+2, FALSE)","v":{"$error":"#N/A"}},{"$error":"#N/A"},{"$error":"#VALUE!"},{"$error":"#N/A"},{"$error":"#N/A"},{"$error":"#VALUE!"},{"$error":"#N/A"},{"$error":"#N/A"},{"$error":"#N/A"},null,null,null,null,null,null,null,null,null,null,"Hard-Wired Occupancy Sensor, ceiling/corner/surface mount, 100W or greater","Custom",null,null,null,{"$f":"'Analysis 103L'!CF45","v":""},{"$f":"IF(I24=$AC$18, IF(BS24=\"DR\", $AC$20, IF(BS24=\"SR\", $AC$19, \"\")), \"\")","v":""},{"$f":"IF(BT24=\"\", \"\", $F24)","v":""},"","","",{"$f":"IF(BV24=\"\", \"\", INDEX($AD$19:$AD$20, MATCH($BT24, $AC$19:$AC$20, 0))*$BU24)","v":""}]
[19,{"$f":"'Analysis 103L'!C46","v":0},null,{"$f":"'Analysis 103L'!I46","v":""},{"$f":"'Analysis 103L'!J46","v":""},{"$f":"'Analysis 103L'!P46","v":0},{"$f":"'Analysis 103L'!N46","v":""},{"$f":"'Analysis 103L'!Q46","v":""},null,null,"",null,"","","","","","",0,"",null,"",{"$f":"'Analysis 103L'!$Y$232*(T25/('Analysis 103L'!$Y$230+'Analysis 103L'!$Y$231))","v":{"$error":"#VALUE!"}},null,null,{"$f":"IF(R25=\"\",\"\",R25*'Analysis 103L'!$D$23)","v":""},null,null,null,null,{"$error":"#VALUE!"},{"$f":"IF(AND(V25=\"\",AL25=\"Custom\"),MIN(L25*Incent_Cost_Controls_Cust,R25/K25*0.35),IF(AI25=\"LLLC\",MIN(AJ25,((L25+'Analysis 103L'!R46)*Incent_Cost_LLLC)-'Analysis 103L'!X46),IF(AE25>=VLOOKUP(I25,Incent_Controls,3,FALSE),MIN(L25,VLOOKUP(I25,Incent_Controls,2,FALSE)),\"\")))","v":{"$error":"#VALUE!"}},"",null,"","",null,"","PASS/PASS","",{"$error":"#VALUE!"},{"$error":"#VALUE!"},{"$error":"#VALUE!"},"",null,10,{"$f":"VLOOKUP('Analysis 103L'!BE46, avoided_costs, ROUND($AT25, 0)+2, FALSE)","v":{"$error":"#N/A"}},{"$error":"#N/A"},{"$error":"#VALUE!"},{"$error":"#N/A"},{"$error":"#N/A"},{"$error":"#VALUE!"},{"$error":"#N/A"},{"$error":"#N/A"},{"$error":"#N/A"},null,null,null,null,null,null,null,null,null,null,"Wall Switch Vacancy Sensor, 30W or greater",35,30,null,null,{"$f":"'Analysis 103L'!CF46","v":""},"","","","","",""]
[20,{"$f":"'Analysis 103L'!C47","v":0},null,{"$f":"'Analysis 103L'!I47","v":""},{"$f":"'Analysis 103L'!J47","v":""},{"$f":"'Analysis 103L'!P47","v":0},{"$f":"'Analysis 103L'!N47","v":""},{"$f":"'Analysis 103L'!Q47","v":""},null,null,"",null,"","","","","","",0,"",null,"",{"$f":"'Analysis 103L'!$Y$232*(T26/('Analysis 103L'!$Y$230+'Analysis 103L'!$Y$231))","v":{"$error":"#VALUE!"}},null,null,{"$f":"IF(R26=\"\",\"\",R26*'Analysis 103L'!$D$23)","v":""},null,null,null,null,{"$error":"#VALUE!"},{"$f":"IF(AND(V26=\"\",AL26=\"Custom\"),MIN(L26*Incent_Cost_Controls_Cust,R26/K26*0.35),IF(AI26=\"LLLC\",MIN(AJ26,((L26+'Analysis 103L'!R47)*Incent_Cost_LLLC)-'Analysis 103L'!X47),IF(AE26>=VLOOKUP(I26,Incent_Controls,3,FALSE),MIN(L26,VLOOKUP(I26,Incent_Controls,2,FALSE)),\"\")))","v":{"$error":"#VALUE!"}},"",null,"","",null,"","PASS/PASS","",{"$error":"#VALUE!"},{"$error":"#VALUE!"},{"$error":"#VALUE!"},"",null,10,{"$f":"VLOOKUP('Analysis 103L'!BE47, avoided_costs, ROUND($AT26, 0)+2, FALSE)","v":{"$error":"#N/A"}},{"$error":"#N/A"},{"$error":"#VALUE!"},{"$error":"#N/A"},{"$error":"#N/A"},{"$error":"#VALUE!"},{"$error":"#N/A"},{"$error":"#N/A"},{"$error":"#N/A"},null,null,null,null,null,null,null,null,null,null,"Wall Switch Occupancy Sensor, 30W or greater",35,30,null,null,{"$f":"'Analysis 103L'!CF47","v":""},"","","","","",""]
[21,{"$f":"'Analysis 103L'!C48","v":0},null,{"$f":"'Analysis 103L'!I48","v":""},{"$f":"'Analysis 103L'!J48","v":""},{"$f":"'Analysis 103L'!P48","v":0},{"$f":"'Analysis 103L'!N48","v":""},{"$f":"'Analysis 103L'!Q48","v":""},null,null,"",null,"","","","","","",0,"",null,"",{"$f":"'Analysis 103L'!$Y$232*(T27/('Analysis 103L'!$Y$230+'Analysis 103L'!$Y$231))","v":{"$error":"#VALUE!"}},null,null,{"$f":"IF(R27=\"\",\"\",R27*'Analysis 103L'!$D$23)","v":""},null,null,null,null,{"$error":"#VALUE!"},{"$f":"IF(AND(V27=\"\",AL27=\"Custom\"),MIN(L27*Incent_Cost_Controls_Cust,R27/K27*0.35),IF(AI27=\"LLLC\",MIN(AJ27,((L27+'Analysis 103L'!R48)*Incent_Cost_LLLC)-'Analysis 103L'!X48),IF(AE27>=VLOOKUP(I27,Incent_Controls,3,FALSE),MIN(L27,VLOOKUP(I27,Incent_Controls,2,FALSE)),\"\")))","v":{"$error":"#VALUE!"}},"",null,{"$f":"IF(RIGHT(I27,4)=\"LLLC\", \"LLLC\",\"\")","v":""},{"$f":"IF(AI27=\"LLLC\",VLOOKUP(E27,Incent_LLLC,2,FALSE),\"\")","v":""},null,"","PASS/PASS","",{"$error":"#VALUE!"},{"$error":"#VALUE!"},{"$error":"#VALUE!"},"",null,10,{"$f":"VLOOKUP('Analysis 103L'!BE48, avoided_costs, ROUND($AT27, 0)+2, FALSE)","v":{"$error":"#N/A"}},{"$error":"#N/A"},{"$error":"#VALUE!"},{"$error":"#N/A"},{"$error":"#N/A"},{"$error":"#VALUE!"},{"$error":"#N/A"},{"$error":"#N/A"},{"$error":"#N/A"},null,null,null,null,null,null,null,null,null,null,"Occupancy Sensor, fixture mount, 30W or greater",35,30,null,null,{"$f":"'Analysis 103L'!CF48","v":""},"","","","","",""]
[22,{"$f":"'Analysis 103L'!C49","v":0},null,{"$f":"'Analysis 103L'!I49","v":""},{"$f":"'Analysis 103L'!J49","v":""},{"$f":"'Analysis 103L'!P49","v":0},{"$f":"'Analysis 103L'!N49","v":""},{"$f":"'Analysis 103L'!Q49","v":""},null,null,"",null,"","","","","","",0,"",null,"",{"$f":"'Analysis 103L'!$Y$232*(T28/('Analysis 103L'!$Y$230+'Analysis 103L'!$Y$231))","v":{"$error":"#VALUE!"}},null,null,{"$f":"IF(R28=\"\",\"\",R28*'Analysis 103L'!$D$23)","v":""},null,null,null,null,{"$error":"#VALUE!"},{"$f":"IF(AND(V28=\"\",AL28=\"Custom\"),MIN(L28*Incent_Cost_Controls_Cust,R28/K28*0.35),IF(AI28=\"LLLC\",MIN(AJ28,((L28+'Analysis 103L'!R49)*Incent_Cost_LLLC)-'Analysis 103L'!X49),IF(AE28>=VLOOKUP(I28,Incent_Controls,3,FALSE),MIN(L28,VLOOKUP(I28,Incent_Controls,2,FALSE)),\"\")))","v":{"$error":"#VALUE!"}},"",null,"","",null,"","PASS/PASS","",{"$error":"#VALUE!"},{"$error":"#VALUE!"},{"$error":"#VALUE!"},"",null,10,{"$f":"VLOOKUP('Analysis 103L'!BE49, avoided_costs, ROUND($AT28, 0)+2, FALSE)","v":{"$error":"#N/A"}},{"$error":"#N/A"},{"$error":"#VALUE!"},{"$error":"#N/A"},{"$error":"#N/A"},{"$error":"#VALUE!"},{"$error":"#N/A"},{"$error":"#N/A"},{"$error":"#N/A"},null,null,null,null,null,null,null,null,null,null,"Wireless Occ Sensor ceiling/corner/surface mount 100W or greater",45,100,null,null,{"$f":"'Analysis 103L'!CF49","v":""},"","","","","",""]
[23,{"$f":"'Analysis 103L'!C50","v":0},null,{"$f":"'Analysis 103L'!I50","v":""},{"$f":"'Analysis 103L'!J50","v":""},{"$f":"'Analysis 103L'!P50","v":0},{"$f":"'Analysis 103L'!N50","v":""},{"$f":"'Analysis 103L'!Q50","v":""},null,null,"",null,"","","","","","",0,"",null,"",{"$f":"'Analysis 103L'!$Y$232*(T29/('Analysis 103L'!$Y$230+'Analysis 103L'!$Y$231))","v":{"$error":"#VALUE!"}},null,null,{"$f":"IF(R29=\"\",\"\",R29*'Analysis 103L'!$D$23)","v":""},null,null,null,null,{"$error":"#VALUE!"},{"$f":"IF(AND(V29=\"\",AL29=\"Custom\"),MIN(L29*Incent_Cost_Controls_Cust,R29/K29*0.35),IF(AI29=\"LLLC\",MIN(AJ29,((L29+'Analysis 103L'!R50)*Incent_Cost_LLLC)-'Analysis 103L'!X50),IF(AE29>=VLOOKUP(I29,Incent_Controls,3,FALSE),MIN(L29,VLOOKUP(I29,Incent_Controls,2,FALSE)),\"\")))","v":{"$error":"#VALUE!"}},"",null,"","",null,"","PASS/PASS","",{"$error":"#VALUE!"},{"$error":"#VALUE!"},{"$error":"#VALUE!"},"",null,10,{"$f":"VLOOKUP('Analysis 103L'!BE50, avoided_costs, ROUND($AT29, 0)+2, FALSE)","v":{"$error":"#N/A"}},{"$error":"#N/A"},{"$error":"#VALUE!"},{"$error":"#N/A"},{"$error":"#N/A"},{"$error":"#VALUE!"},{"$error":"#N/A"},{"$error":"#N/A"},{"$error":"#N/A"},null,null,null,null,null,null,null,null,null,null,"Hard-Wired Occ Sensor ceiling/corner/surface mount 100W or greater",45,100,null,null,{"$f":"'Analysis 103L'!CF50","v":""},"","","","","",""]
[24,{"$f":"'Analysis 103L'!C51","v":0},null,{"$f":"'Analysis 103L'!I51","v":""},{"$f":"'Analysis 103L'!J51","v":""},{"$f":"'Analysis 103L'!P51","v":0},{"$f":"'Analysis 103L'!N51","v":""},{"$f":"'Analysis 103L'!Q51","v":""},null,null,"",null,"","","","","","",0,"",null,"",{"$f":"'Analysis 103L'!$Y$232*(T30/('Analysis 103L'!$Y$230+'Analysis 103L'!$Y$231))","v":{"$error":"#VALUE!"}},null,null,{"$f":"IF(R30=\"\",\"\",R30*'Analysis 103L'!$D$23)","v":""},null,null,null,null,{"$error":"#VALUE!"},{"$f":"IF(AND(V30=\"\",AL30=\"Custom\"),MIN(L30*Incent_Cost_Controls_Cust,R30/K30*0.35),IF(AI30=\"LLLC\",MIN(AJ30,((L30+'Analysis 103L'!R51)*Incent_Cost_LLLC)-'Analysis 103L'!X51),IF(AE30>=VLOOKUP(I30,Incent_Controls,3,FALSE),MIN(L30,VLOOKUP(I30,Incent_Controls,2,FALSE)),\"\")))","v":{"$error":"#VALUE!"}},"",null,"","",null,"","PASS/PASS","",{"$error":"#VALUE!"},{"$error":"#VALUE!"},{"$error":"#VALUE!"},"",null,10,{"$f":"VLOOKUP('Analysis 103L'!BE51, avoided_costs, ROUND($AT30, 0)+2, FALSE)","v":{"$error":"#N/A"}},{"$error":"#N/A"},{"$error":"#VALUE!"},{"$error":"#N/A"},{"$error":"#N/A"},{"$error":"#VALUE!"},{"$error":"#N/A"},{"$error":"#N/A"},{"$error":"#N/A"},null,null,null,null,null,null,null,null,null,null,"Exterior occupancy sensor, fixture or pole mount, 40W or greater",35,40,null,null,{"$f":"'Analysis 103L'!CF51","v":""},"","","","","",""]
[25,{"$f":"'Analysis 103L'!C52","v":0},null,{"$f":"'Analysis 103L'!I52","v":""},{"$f":"'Analysis 103L'!J52","v":""},{"$f":"'Analysis 103L'!P52","v":0},{"$f":"'Analysis 103L'!N52","v":""},{"$f":"'Analysis 103L'!Q52","v":""},null,null,"",null,"","","","","","",0,"",null,"",{"$f":"'Analysis 103L'!$Y$232*(T31/('Analysis 103L'!$Y$230+'Analysis 103L'!$Y$231))","v":{"$error":"#VALUE!"}},null,null,{"$f":"IF(R31=\"\",\"\",R31*'Analysis 103L'!$D$23)","v":""},null,null,null,null,{"$error":"#VALUE!"},{"$f":"IF(AND(V31=\"\",AL31=\"Custom\"),MIN(L31*Incent_Cost_Controls_Cust,R31/K31*0.35),IF(AI31=\"LLLC\",MIN(AJ31,((L31+'Analysis 103L'!R52)*Incent_Cost_LLLC)-'Analysis 103L'!X52),IF(AE31>=VLOOKUP(I31,Incent_Controls,3,FALSE),MIN(L31,VLOOKUP(I31,Incent_Controls,2,FALSE)),\"\")))","v":{"$error":"#VALUE!"}},"",null,"","",null,"","PASS/PASS","",{"$error":"#VALUE!"},{"$error":"#VALUE!"},{"$error":"#VALUE!"},"",null,10,{"$f":"VLOOKUP('Analysis 103L'!BE52, avoided_costs, ROUND($AT31, 0)+2, FALSE)","v":{"$error":"#N/A"}},{"$error":"#N/A"},{"$error":"#VALUE!"},{"$error":"#N/A"},{"$error":"#N/A"},{"$error":"#VALUE!"},{"$error":"#N/A"},{"$error":"#N/A"},{"$error":"#N/A"},null,null,null,null,null,null,null,null,null,null,"Fixture controlled by other sensor",null,null,null,null,{"$f":"'Analysis 103L'!CF52","v":""},"","","","","",""]
[26,{"$f":"'Analysis 103L'!C53","v":0},null,{"$f":"'Analysis 103L'!I53","v":""},{"$f":"'Analysis 103L'!J53","v":""},{"$f":"'Analysis 103L'!P53","v":0},{"$f":"'Analysis 103L'!N53","v":""},{"$f":"'Analysis 103L'!Q53","v":""},null,null,"",null,"","","","","","",0,"",null,"",{"$f":"'Analysis 103L'!$Y$232*(T32/('Analysis 103L'!$Y$230+'Analysis 103L'!$Y$231))","v":{"$error":"#VALUE!"}},null,null,{"$f":"IF(R32=\"\",\"\",R32*'Analysis 103L'!$D$23)","v":""},null,null,null,null,{"$error":"#VALUE!"},{"$f":"IF(AND(V32=\"\",AL32=\"Custom\"),MIN(L32*Incent_Cost_Controls_Cust,R32/K32*0.35),IF(AI32=\"LLLC\",MIN(AJ32,((L32+'Analysis 103L'!R53)*Incent_Cost_LLLC)-'Analysis 103L'!X53),IF(AE32>=VLOOKUP(I32,Incent_Controls,3,FALSE),MIN(L32,VLOOKUP(I32,Incent_Controls,2,FALSE)),\"\")))","v":{"$error":"#VALUE!"}},"",null,"","",null,"","PASS/PASS","",{"$error":"#VALUE!"},{"$error":"#VALUE!"},{"$error":"#VALUE!"},"",null,10,{"$f":"VLOOKUP('Analysis 103L'!BE53, avoided_costs, ROUND($AT32, 0)+2, FALSE)","v":{"$error":"#N/A"}},{"$error":"#N/A"},{"$error":"#VALUE!"},{"$error":"#N/A"},{"$error":"#N/A"},{"$error":"#VALUE!"},{"$error":"#N/A"},{"$error":"#N/A"},{"$error":"#N/A"},null,null,null,null,null,null,null,null,null,null,"Motion Sensor on LED Lights in Open Cases - LED power less than 4.0 watts per linear foot",{"$f":"'LED Case Lighting'!$AX$15","v":8.5},null,{"$f":"'LED Case Lighting'!$AW$15","v":34.365508481918503},null,{"$f":"'Analysis 103L'!CF53","v":""},"","","","","",""]
[27,{"$f":"'Analysis 103L'!C54","v":0},null,{"$f":"'Analysis 103L'!I54","v":""},{"$f":"'Analysis 103L'!J54","v":""},{"$f":"'Analysis 103L'!P54","v":0},{"$f":"'Analysis 103L'!N54","v":""},{"$f":"'Analysis 103L'!Q54","v":""},null,null,"",null,"","","","","","",0,"",null,"",{"$f":"'Analysis 103L'!$Y$232*(T33/('Analysis 103L'!$Y$230+'Analysis 103L'!$Y$231))","v":{"$error":"#VALUE!"}},null,null,{"$f":"IF(R33=\"\",\"\",R33*'Analysis 103L'!$D$23)","v":""},null,null,null,null,{"$error":"#VALUE!"},{"$f":"IF(AND(V33=\"\",AL33=\"Custom\"),MIN(L33*Incent_Cost_Controls_Cust,R33/K33*0.35),IF(AI33=\"LLLC\",MIN(AJ33,((L33+'Analysis 103L'!R54)*Incent_Cost_LLLC)-'Analysis 103L'!X54),IF(AE33>=VLOOKUP(I33,Incent_Controls,3,FALSE),MIN(L33,VLOOKUP(I33,Incent_Controls,2,FALSE)),\"\")))","v":{"$error":"#VALUE!"}},"",null,"","",null,"","PASS/PASS","",{"$error":"#VALUE!"},{"$error":"#VALUE!"},{"$error":"#VALUE!"},"",null,10,{"$f":"VLOOKUP('Analysis 103L'!BE54, avoided_costs, ROUND($AT33, 0)+2, FALSE)","v":{"$error":"#N/A"}},{"$error":"#N/A"},{"$error":"#VALUE!"},{"$error":"#N/A"},{"$error":"#N/A"},{"$error":"#VALUE!"},{"$error":"#N/A"},{"$error":"#N/A"},{"$error":"#N/A"},null,null,null,null,null,null,null,null,null,null,"Motion Sensor on LED Lights in Open Cases - LED power between 4.0 and 8.5 watts per linear foot",{"$f":"'LED Case Lighting'!$AX$16","v":8.5},null,{"$f":"'LED Case Lighting'!$AW$16","v":43.379232886177597},null,{"$f":"'Analysis 103L'!CF54","v":""},"","","","","",""]
[28,{"$f":"'Analysis 103L'!C55","v":0},null,{"$f":"'Analysis 103L'!I55","v":""},{"$f":"'Analysis 103L'!J55","v":""},{"$f":"'Analysis 103L'!P55","v":0},{"$f":"'Analysis 103L'!N55","v":""},{"$f":"'Analysis 103L'!Q55","v":""},null,null,"",null,"","","","","","",0,"",null,"",{"$f":"'Analysis 103L'!$Y$232*(T34/('Analysis 103L'!$Y$230+'Analysis 103L'!$Y$231))","v":{"$error":"#VALUE!"}},null,null,{"$f":"IF(R34=\"\",\"\",R34*'Analysis 103L'!$D$23)","v":""},null,null,null,null,{"$error":"#VALUE!"},{"$f":"IF(AND(V34=\"\",AL34=\"Custom\"),MIN(L34*Incent_Cost_Controls_Cust,R34/K34*0.35),IF(AI34=\"LLLC\",MIN(AJ34,((L34+'Analysis 103L'!R55)*Incent_Cost_LLLC)-'Analysis 103L'!X55),IF(AE34>=VLOOKUP(I34,Incent_Controls,3,FALSE),MIN(L34,VLOOKUP(I34,Incent_Controls,2,FALSE)),\"\")))","v":{"$error":"#VALUE!"}},"",null,"","",null,"","PASS/PASS","",{"$error":"#VALUE!"},{"$error":"#VALUE!"},{"$error":"#VALUE!"},"",null,10,{"$f":"VLOOKUP('Analysis 103L'!BE55, avoided_costs, ROUND($AT34, 0)+2, FALSE)","v":{"$error":"#N/A"}},{"$error":"#N/A"},{"$error":"#VALUE!"},{"$error":"#N/A"},{"$error":"#N/A"},{"$error":"#VALUE!"},{"$error":"#N/A"},{"$error":"#N/A"},{"$error":"#N/A"},null,null,null,null,null,null,null,null,null,null,null,null,null,null,null,{"$f":"'Analysis 103L'!CF55","v":""},"","","","","",""]
[29,{"$f":"'Analysis 103L'!C56","v":0},null,{"$f":"'Analysis 103L'!I56","v":""},{"$f":"'Analysis 103L'!J56","v":""},{"$f":"'Analysis 103L'!P56","v":0},{"$f":"'Analysis 103L'!N56","v":""},{"$f":"'Analysis 103L'!Q56","v":""},null,null,"",null,"","","","","","",0,"",null,"",{"$f":"'Analysis 103L'!$Y$232*(T35/('Analysis 103L'!$Y$230+'Analysis 103L'!$Y$231))","v":{"$error":"#VALUE!"}},null,null,{"$f":"IF(R35=\"\",\"\",R35*'Analysis 103L'!$D$23)","v":""},null,null,null,null,{"$error":"#VALUE!"},{"$f":"IF(AND(V35=\"\",AL35=\"Custom\"),MIN(L35*Incent_Cost_Controls_Cust,R35/K35*0.35),IF(AI35=\"LLLC\",MIN(AJ35,((L35+'Analysis 103L'!R56)*Incent_Cost_LLLC)-'Analysis 103L'!X56),IF(AE35>=VLOOKUP(I35,Incent_Controls,3,FALSE),MIN(L35,VLOOKUP(I35,Incent_Controls,2,FALSE)),\"\")))","v":{"$error":"#VALUE!"}},"",null,{"$f":"IF(RIGHT(I35,4)=\"LLLC\", \"LLLC\",\"\")","v":""},{"$f":"IF(AI35=\"LLLC\",VLOOKUP(E35,Incent_LLLC,2,FALSE),\"\")","v":""},null,"","PASS/PASS","",{"$error":"#VALUE!"},{"$error":"#VALUE!"},{"$error":"#VALUE!"},"",null,10,{"$f":"VLOOKUP('Analysis 103L'!BE56, avoided_costs, ROUND($AT35, 0)+2, FALSE)","v":{"$error":"#N/A"}},{"$error":"#N/A"},{"$error":"#VALUE!"},{"$error":"#N/A"},{"$error":"#N/A"},{"$error":"#VALUE!"},{"$error":"#N/A"},{"$error":"#N/A"},{"$error":"#N/A"},null,null,null,null,null,null,null,null,null,null,null,null,null,null,null,{"$f":"'Analysis 103L'!CF56","v":""},"","","","","",""]
[30,{"$f":"'Analysis 103L'!C57","v":0},null,{"$f":"'Analysis 103L'!I57","v":""},{"$f":"'Analysis 103L'!J57","v":""},{"$f":"'Analysis 103L'!P57","v":0},{"$f":"'Analysis 103L'!N57","v":""},{"$f":"'Analysis 103L'!Q57","v":""},null,null,"",null,"","","","","","",0,"",null,"",{"$f":"'Analysis 103L'!$Y$232*(T36/('Analysis 103L'!$Y$230+'Analysis 103L'!$Y$231))","v":{"$error":"#VALUE!"}},null,null,{"$f":"IF(R36=\"\",\"\",R36*'Analysis 103L'!$D$23)","v":""},null,null,null,null,{"$error":"#VALUE!"},{"$f":"IF(AND(V36=\"\",AL36=\"Custom\"),MIN(L36*Incent_Cost_Controls_Cust,R36/K36*0.35),IF(AI36=\"LLLC\",MIN(AJ36,((L36+'Analysis 103L'!R57)*Incent_Cost_LLLC)-'Analysis 103L'!X57),IF(AE36>=VLOOKUP(I36,Incent_Controls,3,FALSE),MIN(L36,VLOOKUP(I36,Incent_Controls,2,FALSE)),\"\")))","v":{"$error":"#VALUE!"}},"",null,"","",null,"","PASS/PASS","",{"$error":"#VALUE!"},{"$error":"#VALUE!"},{"$error":"#VALUE!"},"",null,10,{"$f":"VLOOKUP('Analysis 103L'!BE57, avoided_costs, ROUND($AT36, 0)+2, FALSE)","v":{"$error":"#N/A"}},{"$error":"#N/A"},{"$error":"#VALUE!"},{"$error":"#N/A"},{"$error":"#N/A"},{"$error":"#VALUE!"},{"$error":"#N/A"},{"$error":"#N/A"},{"$error":"#N/A"},null,null,null,null,null,null,null,null,null,null,null,null,null,null,null,{"$f":"'Analysis 103L'!CF57","v":""},"","","","","",""]
[31,{"$f":"'Analysis 103L'!C58","v":0},null,{"$f":"'Analysis 103L'!I58","v":""},{"$f":"'Analysis 103L'!J58","v":""},{"$f":"'Analysis 103L'!P58","v":0},{"$f":"'Analysis 103L'!N58","v":""},{"$f":"'Analysis 103L'!Q58","v":""},null,null,"",null,"","","","","","",0,"",null,"",{"$f":"'Analysis 103L'!$Y$232*(T37/('Analysis 103L'!$Y$230+'Analysis 103L'!$Y$231))","v":{"$error":"#VALUE!"}},null,null,{"$f":"IF(R37=\"\",\"\",R37*'Analysis 103L'!$D$23)","v":""},null,null,null,null,{"$error":"#VALUE!"},{"$f":"IF(AND(V37=\"\",AL37=\"Custom\"),MIN(L37*Incent_Cost_Controls_Cust,R37/K37*0.35),IF(AI37=\"LLLC\",MIN(AJ37,((L37+'Analysis 103L'!R58)*Incent_Cost_LLLC)-'Analysis 103L'!X58),IF(AE37>=VLOOKUP(I37,Incent_Controls,3,FALSE),MIN(L37,VLOOKUP(I37,Incent_Controls,2,FALSE)),\"\")))","v":{"$error":"#VALUE!"}},"",null,"","",null,"","PASS/PASS","",{"$error":"#VALUE!"},{"$error":"#VALUE!"},{"$error":"#VALUE!"},"",null,10,{"$f":"VLOOKUP('Analysis 103L'!BE58, avoided_costs, ROUND($AT37, 0)+2, FALSE)","v":{"$error":"#N/A"}},{"$error":"#N/A"},{"$error":"#VALUE!"},{"$error":"#N/A"},{"$error":"#N/A"},{"$error":"#VALUE!"},{"$error":"#N/A"},{"$error":"#N/A"},{"$error":"#N/A"},null,null,null,null,null,null,null,null,null,null,null,null,null,null,null,{"$f":"'Analysis 103L'!CF58","v":""},"","","","","",""]
[32,{"$f":"'Analysis 103L'!C59","v":0},null,{"$f":"'Analysis 103L'!I59","v":""},{"$f":"'Analysis 103L'!J59","v":""},{"$f":"'Analysis 103L'!P59","v":0},{"$f":"'Analysis 103L'!N59","v":""},{"$f":"'Analysis 103L'!Q59","v":""},null,null,"",null,"","","","","","",0,"",null,"",{"$f":"'Analysis 103L'!$Y$232*(T38/('Analysis 103L'!$Y$230+'Analysis 103L'!$Y$231))","v":{"$error":"#VALUE!"}},null,null,{"$f":"IF(R38=\"\",\"\",R38*'Analysis 103L'!$D$23)","v":""},null,null,null,null,{"$error":"#VALUE!"},{"$f":"IF(AND(V38=\"\",AL38=\"Custom\"),MIN(L38*Incent_Cost_Controls_Cust,R38/K38*0.35),IF(AI38=\"LLLC\",MIN(AJ38,((L38+'Analysis 103L'!R59)*Incent_Cost_LLLC)-'Analysis 103L'!X59),IF(AE38>=VLOOKUP(I38,Incent_Controls,3,FALSE),MIN(L38,VLOOKUP(I38,Incent_Controls,2,FALSE)),\"\")))","v":{"$error":"#VALUE!"}},"",null,"","",null,"","PASS/PASS","",{"$error":"#VALUE!"},{"$error":"#VALUE!"},{"$error":"#VALUE!"},"",null,10,{"$f":"VLOOKUP('Analysis 103L'!BE59, avoided_costs, ROUND($AT38, 0)+2, FALSE)","v":{"$error":"#N/A"}},{"$error":"#N/A"},{"$error":"#VALUE!"},{"$error":"#N/A"},{"$error":"#N/A"},{"$error":"#VALUE!"},{"$error":"#N/A"},{"$error":"#N/A"},{"$error":"#N/A"},null,null,null,null,null,null,null,null,null,null,null,null,null,null,null,{"$f":"'Analysis 103L'!CF59","v":""},"","","","","",""]
[33,{"$f":"'Analysis 103L'!C60","v":0},null,{"$f":"'Analysis 103L'!I60","v":""},{"$f":"'Analysis 103L'!J60","v":""},{"$f":"'Analysis 103L'!P60","v":0},{"$f":"'Analysis 103L'!N60","v":""},{"$f":"'Analysis 103L'!Q60","v":""},null,null,"",null,"","",{"$f":"IF(RIGHT(D39, 4)=\"Case\", \"\",IF(K39=\"\",\"\",IF(AI39=\"LLLC\", VLOOKUP(C39,Space_Type_CSFs, 9, FALSE), VLOOKUP(C39,Space_Type_CSFs, 6, FALSE))))","v":""},"","","",0,"",null,"",{"$f":"'Analysis 103L'!$Y$232*(T39/('Analysis 103L'!$Y$230+'Analysis 103L'!$Y$231))","v":{"$error":"#VALUE!"}},null,null,{"$f":"IF(R39=\"\",\"\",R39*'Analysis 103L'!$D$23)","v":""},null,null,null,null,{"$error":"#VALUE!"},{"$f":"IF(AND(V39=\"\",AL39=\"Custom\"),MIN(L39*Incent_Cost_Controls_Cust,R39/K39*0.35),IF(AI39=\"LLLC\",MIN(AJ39,((L39+'Analysis 103L'!R60)*Incent_Cost_LLLC)-'Analysis 103L'!X60),IF(AE39>=VLOOKUP(I39,Incent_Controls,3,FALSE),MIN(L39,VLOOKUP(I39,Incent_Controls,2,FALSE)),\"\")))","v":{"$error":"#VALUE!"}},"",null,"","",null,"","PASS/PASS",{"$f":"IF(AM39=\"PASS/PASS\",M39,\"0\")","v":""},{"$f":"F39*G39*H39/1000","v":{"$error":"#VALUE!"}},{"$f":"AO39*(1-O39)","v":{"$error":"#VALUE!"}},{"$error":"#VALUE!"},{"$f":"IF(AL39=\"Custom\",0.35*M39,T39)","v":""},null,10,{"$f":"VLOOKUP('Analysis 103L'!BE60, avoided_costs, ROUND($AT39, 0)+2, FALSE)","v":{"$error":"#N/A"}},{"$error":"#N/A"},{"$f":"0.5*M39/AQ39","v":{"$error":"#VALUE!"}},{"$error":"#N/A"},{"$error":"#N/A"},{"$f":"M39/AQ39","v":{"$error":"#VALUE!"}},{"$error":"#N/A"},{"$error":"#N/A"},{"$error":"#N/A"},null,null,null,null,null,null,null,null,null,null,null,null,null,null,null,{"$f":"'Analysis 103L'!CF60","v":""},"","",{"$f":"IF(BT39=\"\", \"\", INDEX($BQ$32:$BQ$33, MATCH($BT39, $BN$32:$BN$33, 0))*$BU39)","v":""},"","",""]
[34,{"$f":"'Analysis 103L'!C61","v":0},null,{"$f":"'Analysis 103L'!I61","v":""},{"$f":"'Analysis 103L'!J61","v":""},{"$f":"'Analysis 103L'!P61","v":0},{"$f":"'Analysis 103L'!N61","v":""},{"$f":"'Analysis 103L'!Q61","v":""},null,null,"",null,"","","","","","",0,"",null,"",{"$f":"'Analysis 103L'!$Y$232*(T40/('Analysis 103L'!$Y$230+'Analysis 103L'!$Y$231))","v":{"$error":"#VALUE!"}},null,null,{"$f":"IF(R40=\"\",\"\",R40*'Analysis 103L'!$D$23)","v":""},null,null,null,null,{"$error":"#VALUE!"},{"$f":"IF(AND(V40=\"\",AL40=\"Custom\"),MIN(L40*Incent_Cost_Controls_Cust,R40/K40*0.35),IF(AI40=\"LLLC\",MIN(AJ40,((L40+'Analysis 103L'!R61)*Incent_Cost_LLLC)-'Analysis 103L'!X61),IF(AE40>=VLOOKUP(I40,Incent_Controls,3,FALSE),MIN(L40,VLOOKUP(I40,Incent_Controls,2,FALSE)),\"\")))","v":{"$error":"#VALUE!"}},"",null,"","",null,"","PASS/PASS","",{"$error":"#VALUE!"},{"$error":"#VALUE!"},{"$error":"#VALUE!"},"",null,10,{"$f":"VLOOKUP('Analysis 103L'!BE61, avoided_costs, ROUND($AT40, 0)+2, FALSE)","v":{"$error":"#N/A"}},{"$error":"#N/A"},{"$error":"#VALUE!"},{"$error":"#N/A"},{"$error":"#N/A"},{"$error":"#VALUE!"},{"$error":"#N/A"},{"$error":"#N/A"},{"$error":"#N/A"},null,null,null,null,null,null,null,null,null,null,null,null,null,null,null,{"$f":"'Analysis 103L'!CF61","v":""},"","","","","",""]
[35,{"$f":"'Analysis 103L'!C62","v":0},null,{"$f":"'Analysis 103L'!I62","v":""},{"$f":"'Analysis 103L'!J62","v":""},{"$f":"'Analysis 103L'!P62","v":0},{"$f":"'Analysis 103L'!N62","v":""},{"$f":"'Analysis 103L'!Q62","v":""},null,null,"",null,"","","","","","",0,"",null,"",{"$f":"'Analysis 103L'!$Y$232*(T41/('Analysis 103L'!$Y$230+'Analysis 103L'!$Y$231))","v":{"$error":"#VALUE!"}},null,null,{"$f":"IF(R41=\"\",\"\",R41*'Analysis 103L'!$D$23)","v":""},null,null,null,null,{"$error":"#VALUE!"},{"$f":"IF(AND(V41=\"\",AL41=\"Custom\"),MIN(L41*Incent_Cost_Controls_Cust,R41/K41*0.35),IF(AI41=\"LLLC\",MIN(AJ41,((L41+'Analysis 103L'!R62)*Incent_Cost_LLLC)-'Analysis 103L'!X62),IF(AE41>=VLOOKUP(I41,Incent_Controls,3,FALSE),MIN(L41,VLOOKUP(I41,Incent_Controls,2,FALSE)),\"\")))","v":{"$error":"#VALUE!"}},"",null,"","",null,"","PASS/PASS","",{"$error":"#VALUE!"},{"$error":"#VALUE!"},{"$error":"#VALUE!"},"",null,10,{"$f":"VLOOKUP('Analysis 103L'!BE62, avoided_costs, ROUND($AT41, 0)+2, FALSE)","v":{"$error":"#N/A"}},{"$error":"#N/A"},{"$error":"#VALUE!"},{"$error":"#N/A"},{"$error":"#N/A"},{"$error":"#VALUE!"},{"$error":"#N/A"},{"$error":"#N/A"},{"$error":"#N/A"},null,null,null,null,null,null,null,null,null,null,null,null,null,null,null,{"$f":"'Analysis 103L'!CF62","v":""},"","","","","",""]
[36,{"$f":"'Analysis 103L'!C63","v":0},null,{"$f":"'Analysis 103L'!I63","v":""},{"$f":"'Analysis 103L'!J63","v":""},{"$f":"'Analysis 103L'!P63","v":0},{"$f":"'Analysis 103L'!N63","v":""},{"$f":"'Analysis 103L'!Q63","v":""},null,null,"",null,"","","","","","",0,"",null,"",{"$f":"'Analysis 103L'!$Y$232*(T42/('Analysis 103L'!$Y$230+'Analysis 103L'!$Y$231))","v":{"$error":"#VALUE!"}},null,null,{"$f":"IF(R42=\"\",\"\",R42*'Analysis 103L'!$D$23)","v":""},null,null,null,null,{"$error":"#VALUE!"},{"$f":"IF(AND(V42=\"\",AL42=\"Custom\"),MIN(L42*Incent_Cost_Controls_Cust,R42/K42*0.35),IF(AI42=\"LLLC\",MIN(AJ42,((L42+'Analysis 103L'!R63)*Incent_Cost_LLLC)-'Analysis 103L'!X63),IF(AE42>=VLOOKUP(I42,Incent_Controls,3,FALSE),MIN(L42,VLOOKUP(I42,Incent_Controls,2,FALSE)),\"\")))","v":{"$error":"#VALUE!"}},"",null,"","",null,"","PASS/PASS","",{"$error":"#VALUE!"},{"$error":"#VALUE!"},{"$error":"#VALUE!"},"",null,10,{"$f":"VLOOKUP('Analysis 103L'!BE63, avoided_costs, ROUND($AT42, 0)+2, FALSE)","v":{"$error":"#N/A"}},{"$error":"#N/A"},{"$error":"#VALUE!"},{"$error":"#N/A"},{"$error":"#N/A"},{"$error":"#VALUE!"},{"$error":"#N/A"},{"$error":"#N/A"},{"$error":"#N/A"},null,null,null,null,null,null,null,null,null,null,null,null,null,null,null,{"$f":"'Analysis 103L'!CF63","v":""},"","","","","",""]
[37,{"$f":"'Analysis 103L'!C64","v":0},null,{"$f":"'Analysis 103L'!I64","v":""},{"$f":"'Analysis 103L'!J64","v":""},{"$f":"'Analysis 103L'!P64","v":0},{"$f":"'Analysis 103L'!N64","v":""},{"$f":"'Analysis 103L'!Q64","v":""},null,null,"",null,"","","","","","",0,"",null,"",{"$f":"'Analysis 103L'!$Y$232*(T43/('Analysis 103L'!$Y$230+'Analysis 103L'!$Y$231))","v":{"$error":"#VALUE!"}},null,null,{"$f":"IF(R43=\"\",\"\",R43*'Analysis 103L'!$D$23)","v":""},null,null,null,null,{"$error":"#VALUE!"},{"$f":"IF(AND(V43=\"\",AL43=\"Custom\"),MIN(L43*Incent_Cost_Controls_Cust,R43/K43*0.35),IF(AI43=\"LLLC\",MIN(AJ43,((L43+'Analysis 103L'!R64)*Incent_Cost_LLLC)-'Analysis 103L'!X64),IF(AE43>=VLOOKUP(I43,Incent_Controls,3,FALSE),MIN(L43,VLOOKUP(I43,Incent_Controls,2,FALSE)),\"\")))","v":{"$error":"#VALUE!"}},"",null,"","",null,"","PASS/PASS","",{"$error":"#VALUE!"},{"$error":"#VALUE!"},{"$error":"#VALUE!"},"",null,10,{"$f":"VLOOKUP('Analysis 103L'!BE64, avoided_costs, ROUND($AT43, 0)+2, FALSE)","v":{"$error":"#N/A"}},{"$error":"#N/A"},{"$error":"#VALUE!"},{"$error":"#N/A"},{"$error":"#N/A"},{"$error":"#VALUE!"},{"$error":"#N/A"},{"$error":"#N/A"},{"$error":"#N/A"},null,null,null,null,null,null,null,null,null,null,null,null,null,null,null,{"$f":"'Analysis 103L'!CF64","v":""},"","","","","",""]
[38,{"$f":"'Analysis 103L'!C65","v":0},null,{"$f":"'Analysis 103L'!I65","v":""},{"$f":"'Analysis 103L'!J65","v":""},{"$f":"'Analysis 103L'!P65","v":0},{"$f":"'Analysis 103L'!N65","v":""},{"$f":"'Analysis 103L'!Q65","v":""},null,null,"",null,"","","","","","",0,"",null,"",{"$f":"'Analysis 103L'!$Y$232*(T44/('Analysis 103L'!$Y$230+'Analysis 103L'!$Y$231))","v":{"$error":"#VALUE!"}},null,null,{"$f":"IF(R44=\"\",\"\",R44*'Analysis 103L'!$D$23)","v":""},null,null,null,null,{"$error":"#VALUE!"},{"$f":"IF(AND(V44=\"\",AL44=\"Custom\"),MIN(L44*Incent_Cost_Controls_Cust,R44/K44*0.35),IF(AI44=\"LLLC\",MIN(AJ44,((L44+'Analysis 103L'!R65)*Incent_Cost_LLLC)-'Analysis 103L'!X65),IF(AE44>=VLOOKUP(I44,Incent_Controls,3,FALSE),MIN(L44,VLOOKUP(I44,Incent_Controls,2,FALSE)),\"\")))","v":{"$error":"#VALUE!"}},"",null,"","",null,"","PASS/PASS","",{"$error":"#VALUE!"},{"$error":"#VALUE!"},{"$error":"#VALUE!"},"",null,10,{"$f":"VLOOKUP('Analysis 103L'!BE65, avoided_costs, ROUND($AT44, 0)+2, FALSE)","v":{"$error":"#N/A"}},{"$error":"#N/A"},{"$error":"#VALUE!"},{"$error":"#N/A"},{"$error":"#N/A"},{"$error":"#VALUE!"},{"$error":"#N/A"},{"$error":"#N/A"},{"$error":"#N/A"},null,null,null,null,null,null,null,null,null,null,null,null,null,null,null,{"$f":"'Analysis 103L'!CF65","v":""},"","","","","",""]
[39,{"$f":"'Analysis 103L'!C66","v":0},null,{"$f":"'Analysis 103L'!I66","v":""},{"$f":"'Analysis 103L'!J66","v":""},{"$f":"'Analysis 103L'!P66","v":0},{"$f":"'Analysis 103L'!N66","v":""},{"$f":"'Analysis 103L'!Q66","v":""},null,null,"",null,"","","","","","",0,"",null,"",{"$f":"'Analysis 103L'!$Y$232*(T45/('Analysis 103L'!$Y$230+'Analysis 103L'!$Y$231))","v":{"$error":"#VALUE!"}},null,null,{"$f":"IF(R45=\"\",\"\",R45*'Analysis 103L'!$D$23)","v":""},null,null,null,null,{"$error":"#VALUE!"},{"$f":"IF(AND(V45=\"\",AL45=\"Custom\"),MIN(L45*Incent_Cost_Controls_Cust,R45/K45*0.35),IF(AI45=\"LLLC\",MIN(AJ45,((L45+'Analysis 103L'!R66)*Incent_Cost_LLLC)-'Analysis 103L'!X66),IF(AE45>=VLOOKUP(I45,Incent_Controls,3,FALSE),MIN(L45,VLOOKUP(I45,Incent_Controls,2,FALSE)),\"\")))","v":{"$error":"#VALUE!"}},"",null,"","",null,"","PASS/PASS","",{"$error":"#VALUE!"},{"$error":"#VALUE!"},{"$error":"#VALUE!"},"",null,10,{"$f":"VLOOKUP('Analysis 103L'!BE66, avoided_costs, ROUND($AT45, 0)+2, FALSE)","v":{"$error":"#N/A"}},{"$error":"#N/A"},{"$error":"#VALUE!"},{"$error":"#N/A"},{"$error":"#N/A"},{"$error":"#VALUE!"},{"$error":"#N/A"},{"$error":"#N/A"},{"$error":"#N/A"},null,null,null,null,null,null,null,null,null,null,null,null,null,null,null,{"$f":"'Analysis 103L'!CF66","v":""},"","","","","",""]
[40,{"$f":"'Analysis 103L'!C67","v":0},null,{"$f":"'Analysis 103L'!I67","v":""},{"$f":"'Analysis 103L'!J67","v":""},{"$f":"'Analysis 103L'!P67","v":0},{"$f":"'Analysis 103L'!N67","v":""},{"$f":"'Analysis 103L'!Q67","v":""},null,null,"",null,"","","","","","",0,"",null,"",{"$f":"'Analysis 103L'!$Y$232*(T46/('Analysis 103L'!$Y$230+'Analysis 103L'!$Y$231))","v":{"$error":"#VALUE!"}},null,null,{"$f":"IF(R46=\"\",\"\",R46*'Analysis 103L'!$D$23)","v":""},null,null,null,null,{"$error":"#VALUE!"},{"$f":"IF(AND(V46=\"\",AL46=\"Custom\"),MIN(L46*Incent_Cost_Controls_Cust,R46/K46*0.35),IF(AI46=\"LLLC\",MIN(AJ46,((L46+'Analysis 103L'!R67)*Incent_Cost_LLLC)-'Analysis 103L'!X67),IF(AE46>=VLOOKUP(I46,Incent_Controls,3,FALSE),MIN(L46,VLOOKUP(I46,Incent_Controls,2,FALSE)),\"\")))","v":{"$error":"#VALUE!"}},"",null,"","",null,"","PASS/PASS","",{"$error":"#VALUE!"},{"$error":"#VALUE!"},{"$error":"#VALUE!"},"",null,10,{"$f":"VLOOKUP('Analysis 103L'!BE67, avoided_costs, ROUND($AT46, 0)+2, FALSE)","v":{"$error":"#N/A"}},{"$error":"#N/A"},{"$error":"#VALUE!"},{"$error":"#N/A"},{"$error":"#N/A"},{"$error":"#VALUE!"},{"$error":"#N/A"},{"$error":"#N/A"},{"$error":"#N/A"},null,null,null,null,null,null,null,null,null,null,null,null,null,null,null,{"$f":"'Analysis 103L'!CF67","v":""},"","","","","",""]
[41,{"$f":"'Analysis 103L'!C68","v":0},null,{"$f":"'Analysis 103L'!I68","v":""},{"$f":"'Analysis 103L'!J68","v":""},{"$f":"'Analysis 103L'!P68","v":0},{"$f":"'Analysis 103L'!N68","v":""},{"$f":"'Analysis 103L'!Q68","v":""},null,null,"",null,"","","","","","",0,"",null,"",{"$f":"'Analysis 103L'!$Y$232*(T47/('Analysis 103L'!$Y$230+'Analysis 103L'!$Y$231))","v":{"$error":"#VALUE!"}},null,null,{"$f":"IF(R47=\"\",\"\",R47*'Analysis 103L'!$D$23)","v":""},null,null,null,null,{"$error":"#VALUE!"},{"$f":"IF(AND(V47=\"\",AL47=\"Custom\"),MIN(L47*Incent_Cost_Controls_Cust,R47/K47*0.35),IF(AI47=\"LLLC\",MIN(AJ47,((L47+'Analysis 103L'!R68)*Incent_Cost_LLLC)-'Analysis 103L'!X68),IF(AE47>=VLOOKUP(I47,Incent_Controls,3,FALSE),MIN(L47,VLOOKUP(I47,Incent_Controls,2,FALSE)),\"\")))","v":{"$error":"#VALUE!"}},"",null,"","",null,"","PASS/PASS","",{"$error":"#VALUE!"},{"$error":"#VALUE!"},{"$error":"#VALUE!"},"",null,10,{"$f":"VLOOKUP('Analysis 103L'!BE68, avoided_costs, ROUND($AT47, 0)+2, FALSE)","v":{"$error":"#N/A"}},{"$error":"#N/A"},{"$error":"#VALUE!"},{"$error":"#N/A"},{"$error":"#N/A"},{"$error":"#VALUE!"},{"$error":"#N/A"},{"$error":"#N/A"},{"$error":"#N/A"},null,null,null,null,null,null,null,null,null,null,null,null,null,null,null,{"$f":"'Analysis 103L'!CF68","v":""},"","","","","",""]
[42,{"$f":"'Analysis 103L'!C69","v":0},null,{"$f":"'Analysis 103L'!I69","v":""},{"$f":"'Analysis 103L'!J69","v":""},{"$f":"'Analysis 103L'!P69","v":0},{"$f":"'Analysis 103L'!N69","v":""},{"$f":"'Analysis 103L'!Q69","v":""},null,null,"",null,"","","","","","",0,"",null,"",{"$f":"'Analysis 103L'!$Y$232*(T48/('Analysis 103L'!$Y$230+'Analysis 103L'!$Y$231))","v":{"$error":"#VALUE!"}},null,null,{"$f":"IF(R48=\"\",\"\",R48*'Analysis 103L'!$D$23)","v":""},null,null,null,null,{"$error":"#VALUE!"},{"$f":"IF(AND(V48=\"\",AL48=\"Custom\"),MIN(L48*Incent_Cost_Controls_Cust,R48/K48*0.35),IF(AI48=\"LLLC\",MIN(AJ48,((L48+'Analysis 103L'!R69)*Incent_Cost_LLLC)-'Analysis 103L'!X69),IF(AE48>=VLOOKUP(I48,Incent_Controls,3,FALSE),MIN(L48,VLOOKUP(I48,Incent_Controls,2,FALSE)),\"\")))","v":{"$error":"#VALUE!"}},"",null,"","",null,"","PASS/PASS","",{"$error":"#VALUE!"},{"$error":"#VALUE!"},{"$error":"#VALUE!"},"",null,10,{"$f":"VLOOKUP('Analysis 103L'!BE69, avoided_costs, ROUND($AT48, 0)+2, FALSE)","v":{"$error":"#N/A"}},{"$error":"#N/A"},{"$error":"#VALUE!"},{"$error":"#N/A"},{"$error":"#N/A"},{"$error":"#VALUE!"},{"$error":"#N/A"},{"$error":"#N/A"},{"$error":"#N/A"},null,null,null,null,null,null,null,null,null,null,null,null,null,null,null,{"$f":"'Analysis 103L'!CF69","v":""},"","","","","",""]
[43,{"$f":"'Analysis 103L'!C70","v":0},null,{"$f":"'Analysis 103L'!I70","v":""},{"$f":"'Analysis 103L'!J70","v":""},{"$f":"'Analysis 103L'!P70","v":0},{"$f":"'Analysis 103L'!N70","v":""},{"$f":"'Analysis 103L'!Q70","v":""},null,null,"",null,"","","","","","",0,"",null,"",{"$f":"'Analysis 103L'!$Y$232*(T49/('Analysis 103L'!$Y$230+'Analysis 103L'!$Y$231))","v":{"$error":"#VALUE!"}},null,null,{"$f":"IF(R49=\"\",\"\",R49*'Analysis 103L'!$D$23)","v":""},null,null,null,null,{"$error":"#VALUE!"},{"$f":"IF(AND(V49=\"\",AL49=\"Custom\"),MIN(L49*Incent_Cost_Controls_Cust,R49/K49*0.35),IF(AI49=\"LLLC\",MIN(AJ49,((L49+'Analysis 103L'!R70)*Incent_Cost_LLLC)-'Analysis 103L'!X70),IF(AE49>=VLOOKUP(I49,Incent_Controls,3,FALSE),MIN(L49,VLOOKUP(I49,Incent_Controls,2,FALSE)),\"\")))","v":{"$error":"#VALUE!"}},"",null,"","",null,"","PASS/PASS","",{"$error":"#VALUE!"},{"$error":"#VALUE!"},{"$error":"#VALUE!"},"",null,10,{"$f":"VLOOKUP('Analysis 103L'!BE70, avoided_costs, ROUND($AT49, 0)+2, FALSE)","v":{"$error":"#N/A"}},{"$error":"#N/A"},{"$error":"#VALUE!"},{"$error":"#N/A"},{"$error":"#N/A"},{"$error":"#VALUE!"},{"$error":"#N/A"},{"$error":"#N/A"},{"$error":"#N/A"},null,null,null,null,null,null,null,null,null,null,null,null,null,null,null,{"$f":"'Analysis 103L'!CF70","v":""},"","","","","",""]
[44,{"$f":"'Analysis 103L'!C71","v":0},null,{"$f":"'Analysis 103L'!I71","v":""},{"$f":"'Analysis 103L'!J71","v":""},{"$f":"'Analysis 103L'!P71","v":0},{"$f":"'Analysis 103L'!N71","v":""},{"$f":"'Analysis 103L'!Q71","v":""},null,null,"",null,"","","","","","",0,"",null,"",{"$f":"'Analysis 103L'!$Y$232*(T50/('Analysis 103L'!$Y$230+'Analysis 103L'!$Y$231))","v":{"$error":"#VALUE!"}},null,null,{"$f":"IF(R50=\"\",\"\",R50*'Analysis 103L'!$D$23)","v":""},null,null,null,null,{"$error":"#VALUE!"},{"$f":"IF(AND(V50=\"\",AL50=\"Custom\"),MIN(L50*Incent_Cost_Controls_Cust,R50/K50*0.35),IF(AI50=\"LLLC\",MIN(AJ50,((L50+'Analysis 103L'!R71)*Incent_Cost_LLLC)-'Analysis 103L'!X71),IF(AE50>=VLOOKUP(I50,Incent_Controls,3,FALSE),MIN(L50,VLOOKUP(I50,Incent_Controls,2,FALSE)),\"\")))","v":{"$error":"#VALUE!"}},"",null,"","",null,"","PASS/PASS","",{"$error":"#VALUE!"},{"$error":"#VALUE!"},{"$error":"#VALUE!"},"",null,10,{"$f":"VLOOKUP('Analysis 103L'!BE71, avoided_costs, ROUND($AT50, 0)+2, FALSE)","v":{"$error":"#N/A"}},{"$error":"#N/A"},{"$error":"#VALUE!"},{"$error":"#N/A"},{"$error":"#N/A"},{"$error":"#VALUE!"},{"$error":"#N/A"},{"$error":"#N/A"},{"$error":"#N/A"},null,null,null,null,null,null,null,null,null,null,null,null,null,null,null,{"$f":"'Analysis 103L'!CF71","v":""},"","","","","",""]
[45,{"$f":"'Analysis 103L'!C72","v":0},null,{"$f":"'Analysis 103L'!I72","v":""},{"$f":"'Analysis 103L'!J72","v":""},{"$f":"'Analysis 103L'!P72","v":0},{"$f":"'Analysis 103L'!N72","v":""},{"$f":"'Analysis 103L'!Q72","v":""},null,null,"",null,"","","","","","",0,"",null,"",{"$f":"'Analysis 103L'!$Y$232*(T51/('Analysis 103L'!$Y$230+'Analysis 103L'!$Y$231))","v":{"$error":"#VALUE!"}},null,null,{"$f":"IF(R51=\"\",\"\",R51*'Analysis 103L'!$D$23)","v":""},null,null,null,null,{"$error":"#VALUE!"},{"$f":"IF(AND(V51=\"\",AL51=\"Custom\"),MIN(L51*Incent_Cost_Controls_Cust,R51/K51*0.35),IF(AI51=\"LLLC\",MIN(AJ51,((L51+'Analysis 103L'!R72)*Incent_Cost_LLLC)-'Analysis 103L'!X72),IF(AE51>=VLOOKUP(I51,Incent_Controls,3,FALSE),MIN(L51,VLOOKUP(I51,Incent_Controls,2,FALSE)),\"\")))","v":{"$error":"#VALUE!"}},"",null,"","",null,"","PASS/PASS","",{"$error":"#VALUE!"},{"$error":"#VALUE!"},{"$error":"#VALUE!"},"",null,10,{"$f":"VLOOKUP('Analysis 103L'!BE72, avoided_costs, ROUND($AT51, 0)+2, FALSE)","v":{"$error":"#N/A"}},{"$error":"#N/A"},{"$error":"#VALUE!"},{"$error":"#N/A"},{"$error":"#N/A"},{"$error":"#VALUE!"},{"$error":"#N/A"},{"$error":"#N/A"},{"$error":"#N/A"},null,null,null,null,null,null,null,null,null,null,null,null,null,null,null,{"$f":"'Analysis 103L'!CF72","v":""},"","","","","",""]
[46,{"$f":"'Analysis 103L'!C73","v":0},null,{"$f":"'Analysis 103L'!I73","v":""},{"$f":"'Analysis 103L'!J73","v":""},{"$f":"'Analysis 103L'!P73","v":0},{"$f":"'Analysis 103L'!N73","v":""},{"$f":"'Analysis 103L'!Q73","v":""},null,null,"",null,"","","","","","",0,"",null,"",{"$f":"'Analysis 103L'!$Y$232*(T52/('Analysis 103L'!$Y$230+'Analysis 103L'!$Y$231))","v":{"$error":"#VALUE!"}},null,null,{"$f":"IF(R52=\"\",\"\",R52*'Analysis 103L'!$D$23)","v":""},null,null,null,null,{"$error":"#VALUE!"},{"$f":"IF(AND(V52=\"\",AL52=\"Custom\"),MIN(L52*Incent_Cost_Controls_Cust,R52/K52*0.35),IF(AI52=\"LLLC\",MIN(AJ52,((L52+'Analysis 103L'!R73)*Incent_Cost_LLLC)-'Analysis 103L'!X73),IF(AE52>=VLOOKUP(I52,Incent_Controls,3,FALSE),MIN(L52,VLOOKUP(I52,Incent_Controls,2,FALSE)),\"\")))","v":{"$error":"#VALUE!"}},"",null,"","",null,"","PASS/PASS","",{"$error":"#VALUE!"},{"$error":"#VALUE!"},{"$error":"#VALUE!"},"",null,10,{"$f":"VLOOKUP('Analysis 103L'!BE73, avoided_costs, ROUND($AT52, 0)+2, FALSE)","v":{"$error":"#N/A"}},{"$error":"#N/A"},{"$error":"#VALUE!"},{"$error":"#N/A"},{"$error":"#N/A"},{"$error":"#VALUE!"},{"$error":"#N/A"},{"$error":"#N/A"},{"$error":"#N/A"},null,null,null,null,null,null,null,null,null,null,null,null,null,null,null,{"$f":"'Analysis 103L'!CF73","v":""},"","","","","",""]
[47,{"$f":"'Analysis 103L'!C74","v":0},null,{"$f":"'Analysis 103L'!I74","v":""},{"$f":"'Analysis 103L'!J74","v":""},{"$f":"'Analysis 103L'!P74","v":0},{"$f":"'Analysis 103L'!N74","v":""},{"$f":"'Analysis 103L'!Q74","v":""},null,null,"",null,"","","","","","",0,"",null,"",{"$f":"'Analysis 103L'!$Y$232*(T53/('Analysis 103L'!$Y$230+'Analysis 103L'!$Y$231))","v":{"$error":"#VALUE!"}},null,null,{"$f":"IF(R53=\"\",\"\",R53*'Analysis 103L'!$D$23)","v":""},null,null,null,null,{"$error":"#VALUE!"},{"$f":"IF(AND(V53=\"\",AL53=\"Custom\"),MIN(L53*Incent_Cost_Controls_Cust,R53/K53*0.35),IF(AI53=\"LLLC\",MIN(AJ53,((L53+'Analysis 103L'!R74)*Incent_Cost_LLLC)-'Analysis 103L'!X74),IF(AE53>=VLOOKUP(I53,Incent_Controls,3,FALSE),MIN(L53,VLOOKUP(I53,Incent_Controls,2,FALSE)),\"\")))","v":{"$error":"#VALUE!"}},"",null,"","",null,"","PASS/PASS","",{"$error":"#VALUE!"},{"$error":"#VALUE!"},{"$error":"#VALUE!"},"",null,10,{"$f":"VLOOKUP('Analysis 103L'!BE74, avoided_costs, ROUND($AT53, 0)+2, FALSE)","v":{"$error":"#N/A"}},{"$error":"#N/A"},{"$error":"#VALUE!"},{"$error":"#N/A"},{"$error":"#N/A"},{"$error":"#VALUE!"},{"$error":"#N/A"},{"$error":"#N/A"},{"$error":"#N/A"},null,null,null,null,null,null,null,null,null,null,null,null,null,null,null,{"$f":"'Analysis 103L'!CF74","v":""},"","","","","",""]
[48,{"$f":"'Analysis 103L'!C75","v":0},null,{"$f":"'Analysis 103L'!I75","v":""},{"$f":"'Analysis 103L'!J75","v":""},{"$f":"'Analysis 103L'!P75","v":0},{"$f":"'Analysis 103L'!N75","v":""},{"$f":"'Analysis 103L'!Q75","v":""},null,null,"",null,"","","","","","",0,"",null,"",{"$f":"'Analysis 103L'!$Y$232*(T54/('Analysis 103L'!$Y$230+'Analysis 103L'!$Y$231))","v":{"$error":"#VALUE!"}},null,null,{"$f":"IF(R54=\"\",\"\",R54*'Analysis 103L'!$D$23)","v":""},null,null,null,null,{"$error":"#VALUE!"},{"$f":"IF(AND(V54=\"\",AL54=\"Custom\"),MIN(L54*Incent_Cost_Controls_Cust,R54/K54*0.35),IF(AI54=\"LLLC\",MIN(AJ54,((L54+'Analysis 103L'!R75)*Incent_Cost_LLLC)-'Analysis 103L'!X75),IF(AE54>=VLOOKUP(I54,Incent_Controls,3,FALSE),MIN(L54,VLOOKUP(I54,Incent_Controls,2,FALSE)),\"\")))","v":{"$error":"#VALUE!"}},"",null,"","",null,"","PASS/PASS","",{"$error":"#VALUE!"},{"$error":"#VALUE!"},{"$error":"#VALUE!"},"",null,10,{"$f":"VLOOKUP('Analysis 103L'!BE75, avoided_costs, ROUND($AT54, 0)+2, FALSE)","v":{"$error":"#N/A"}},{"$error":"#N/A"},{"$error":"#VALUE!"},{"$error":"#N/A"},{"$error":"#N/A"},{"$error":"#VALUE!"},{"$error":"#N/A"},{"$error":"#N/A"},{"$error":"#N/A"},null,null,null,null,null,null,null,null,null,null,null,null,null,null,null,{"$f":"'Analysis 103L'!CF75","v":""},"","","","","",""]
[49,{"$f":"'Analysis 103L'!C76","v":0},null,{"$f":"'Analysis 103L'!I76","v":""},{"$f":"'Analysis 103L'!J76","v":""},{"$f":"'Analysis 103L'!P76","v":0},{"$f":"'Analysis 103L'!N76","v":""},{"$f":"'Analysis 103L'!Q76","v":""},null,null,"",null,"","","","","","",0,"",null,"",{"$f":"'Analysis 103L'!$Y$232*(T55/('Analysis 103L'!$Y$230+'Analysis 103L'!$Y$231))","v":{"$error":"#VALUE!"}},null,null,{"$f":"IF(R55=\"\",\"\",R55*'Analysis 103L'!$D$23)","v":""},null,null,null,null,{"$error":"#VALUE!"},{"$f":"IF(AND(V55=\"\",AL55=\"Custom\"),MIN(L55*Incent_Cost_Controls_Cust,R55/K55*0.35),IF(AI55=\"LLLC\",MIN(AJ55,((L55+'Analysis 103L'!R76)*Incent_Cost_LLLC)-'Analysis 103L'!X76),IF(AE55>=VLOOKUP(I55,Incent_Controls,3,FALSE),MIN(L55,VLOOKUP(I55,Incent_Controls,2,FALSE)),\"\")))","v":{"$error":"#VALUE!"}},"",null,"","",null,"","PASS/PASS","",{"$error":"#VALUE!"},{"$error":"#VALUE!"},{"$error":"#VALUE!"},"",null,10,{"$f":"VLOOKUP('Analysis 103L'!BE76, avoided_costs, ROUND($AT55, 0)+2, FALSE)","v":{"$error":"#N/A"}},{"$error":"#N/A"},{"$error":"#VALUE!"},{"$error":"#N/A"},{"$error":"#N/A"},{"$error":"#VALUE!"},{"$error":"#N/A"},{"$error":"#N/A"},{"$error":"#N/A"},null,null,null,null,null,null,null,null,null,null,null,null,null,null,null,{"$f":"'Analysis 103L'!CF76","v":""},"","","","","",""]
[50,{"$f":"'Analysis 103L'!C77","v":0},null,{"$f":"'Analysis 103L'!I77","v":""},{"$f":"'Analysis 103L'!J77","v":""},{"$f":"'Analysis 103L'!P77","v":0},{"$f":"'Analysis 103L'!N77","v":""},{"$f":"'Analysis 103L'!Q77","v":""},null,null,"",null,"","","","","","",0,"",null,"",{"$f":"'Analysis 103L'!$Y$232*(T56/('Analysis 103L'!$Y$230+'Analysis 103L'!$Y$231))","v":{"$error":"#VALUE!"}},null,null,{"$f":"IF(R56=\"\",\"\",R56*'Analysis 103L'!$D$23)","v":""},null,null,null,null,{"$error":"#VALUE!"},{"$f":"IF(AND(V56=\"\",AL56=\"Custom\"),MIN(L56*Incent_Cost_Controls_Cust,R56/K56*0.35),IF(AI56=\"LLLC\",MIN(AJ56,((L56+'Analysis 103L'!R77)*Incent_Cost_LLLC)-'Analysis 103L'!X77),IF(AE56>=VLOOKUP(I56,Incent_Controls,3,FALSE),MIN(L56,VLOOKUP(I56,Incent_Controls,2,FALSE)),\"\")))","v":{"$error":"#VALUE!"}},"",null,"","",null,"","PASS/PASS","",{"$error":"#VALUE!"},{"$error":"#VALUE!"},{"$error":"#VALUE!"},"",null,10,{"$f":"VLOOKUP('Analysis 103L'!BE77, avoided_costs, ROUND($AT56, 0)+2, FALSE)","v":{"$error":"#N/A"}},{"$error":"#N/A"},{"$error":"#VALUE!"},{"$error":"#N/A"},{"$error":"#N/A"},{"$error":"#VALUE!"},{"$error":"#N/A"},{"$error":"#N/A"},{"$error":"#N/A"},null,null,null,null,null,null,null,null,null,null,null,null,null,null,null,{"$f":"'Analysis 103L'!CF77","v":""},"","","","","",""]
[51,{"$f":"'Analysis 103L'!C78","v":0},null,{"$f":"'Analysis 103L'!I78","v":""},{"$f":"'Analysis 103L'!J78","v":""},{"$f":"'Analysis 103L'!P78","v":0},{"$f":"'Analysis 103L'!N78","v":""},{"$f":"'Analysis 103L'!Q78","v":""},null,null,"",null,"","","","","","",0,"",null,"",{"$f":"'Analysis 103L'!$Y$232*(T57/('Analysis 103L'!$Y$230+'Analysis 103L'!$Y$231))","v":{"$error":"#VALUE!"}},null,null,{"$f":"IF(R57=\"\",\"\",R57*'Analysis 103L'!$D$23)","v":""},null,null,null,null,{"$error":"#VALUE!"},{"$f":"IF(AND(V57=\"\",AL57=\"Custom\"),MIN(L57*Incent_Cost_Controls_Cust,R57/K57*0.35),IF(AI57=\"LLLC\",MIN(AJ57,((L57+'Analysis 103L'!R78)*Incent_Cost_LLLC)-'Analysis 103L'!X78),IF(AE57>=VLOOKUP(I57,Incent_Controls,3,FALSE),MIN(L57,VLOOKUP(I57,Incent_Controls,2,FALSE)),\"\")))","v":{"$error":"#VALUE!"}},"",null,"","",null,"","PASS/PASS","",{"$error":"#VALUE!"},{"$error":"#VALUE!"},{"$error":"#VALUE!"},"",null,10,{"$f":"VLOOKUP('Analysis 103L'!BE78, avoided_costs, ROUND($AT57, 0)+2, FALSE)","v":{"$error":"#N/A"}},{"$error":"#N/A"},{"$error":"#VALUE!"},{"$error":"#N/A"},{"$error":"#N/A"},{"$error":"#VALUE!"},{"$error":"#N/A"},{"$error":"#N/A"},{"$error":"#N/A"},null,null,null,null,null,null,null,null,null,null,null,null,null,null,null,{"$f":"'Analysis 103L'!CF78","v":""},"","","","","",""]
[52,{"$f":"'Analysis 103L'!C79","v":0},null,{"$f":"'Analysis 103L'!I79","v":""},{"$f":"'Analysis 103L'!J79","v":""},{"$f":"'Analysis 103L'!P79","v":0},{"$f":"'Analysis 103L'!N79","v":""},{"$f":"'Analysis 103L'!Q79","v":""},null,null,"",null,"","","","","","",0,"",null,"",{"$f":"'Analysis 103L'!$Y$232*(T58/('Analysis 103L'!$Y$230+'Analysis 103L'!$Y$231))","v":{"$error":"#VALUE!"}},null,null,{"$f":"IF(R58=\"\",\"\",R58*'Analysis 103L'!$D$23)","v":""},null,null,null,null,{"$error":"#VALUE!"},{"$f":"IF(AND(V58=\"\",AL58=\"Custom\"),MIN(L58*Incent_Cost_Controls_Cust,R58/K58*0.35),IF(AI58=\"LLLC\",MIN(AJ58,((L58+'Analysis 103L'!R79)*Incent_Cost_LLLC)-'Analysis 103L'!X79),IF(AE58>=VLOOKUP(I58,Incent_Controls,3,FALSE),MIN(L58,VLOOKUP(I58,Incent_Controls,2,FALSE)),\"\")))","v":{"$error":"#VALUE!"}},"",null,"","",null,"","PASS/PASS","",{"$error":"#VALUE!"},{"$error":"#VALUE!"},{"$error":"#VALUE!"},"",null,10,{"$f":"VLOOKUP('Analysis 103L'!BE79, avoided_costs, ROUND($AT58, 0)+2, FALSE)","v":{"$error":"#N/A"}},{"$error":"#N/A"},{"$error":"#VALUE!"},{"$error":"#N/A"},{"$error":"#N/A"},{"$error":"#VALUE!"},{"$error":"#N/A"},{"$error":"#N/A"},{"$error":"#N/A"},null,null,null,null,null,null,null,null,null,null,null,null,null,null,null,{"$f":"'Analysis 103L'!CF79","v":""},"","","","","",""]
[53,{"$f":"'Analysis 103L'!C80","v":0},null,{"$f":"'Analysis 103L'!I80","v":""},{"$f":"'Analysis 103L'!J80","v":""},{"$f":"'Analysis 103L'!P80","v":0},{"$f":"'Analysis 103L'!N80","v":""},{"$f":"'Analysis 103L'!Q80","v":""},null,null,"",null,"","","","","","",0,"",null,"",{"$f":"'Analysis 103L'!$Y$232*(T59/('Analysis 103L'!$Y$230+'Analysis 103L'!$Y$231))","v":{"$error":"#VALUE!"}},null,null,{"$f":"IF(R59=\"\",\"\",R59*'Analysis 103L'!$D$23)","v":""},null,null,null,null,{"$error":"#VALUE!"},{"$f":"IF(AND(V59=\"\",AL59=\"Custom\"),MIN(L59*Incent_Cost_Controls_Cust,R59/K59*0.35),IF(AI59=\"LLLC\",MIN(AJ59,((L59+'Analysis 103L'!R80)*Incent_Cost_LLLC)-'Analysis 103L'!X80),IF(AE59>=VLOOKUP(I59,Incent_Controls,3,FALSE),MIN(L59,VLOOKUP(I59,Incent_Controls,2,FALSE)),\"\")))","v":{"$error":"#VALUE!"}},"",null,"","",null,"","PASS/PASS","",{"$error":"#VALUE!"},{"$error":"#VALUE!"},{"$error":"#VALUE!"},"",null,10,{"$f":"VLOOKUP('Analysis 103L'!BE80, avoided_costs, ROUND($AT59, 0)+2, FALSE)","v":{"$error":"#N/A"}},{"$error":"#N/A"},{"$error":"#VALUE!"},{"$error":"#N/A"},{"$error":"#N/A"},{"$error":"#VALUE!"},{"$error":"#N/A"},{"$error":"#N/A"},{"$error":"#N/A"},null,null,null,null,null,null,null,null,null,null,null,null,null,null,null,{"$f":"'Analysis 103L'!CF80","v":""},"","","","","",""]
[54,{"$f":"'Analysis 103L'!C81","v":0},null,{"$f":"'Analysis 103L'!I81","v":""},{"$f":"'Analysis 103L'!J81","v":""},{"$f":"'Analysis 103L'!P81","v":0},{"$f":"'Analysis 103L'!N81","v":""},{"$f":"'Analysis 103L'!Q81","v":""},null,null,"",null,"","","","","","",0,"",null,"",{"$f":"'Analysis 103L'!$Y$232*(T60/('Analysis 103L'!$Y$230+'Analysis 103L'!$Y$231))","v":{"$error":"#VALUE!"}},null,null,{"$f":"IF(R60=\"\",\"\",R60*'Analysis 103L'!$D$23)","v":""},null,null,null,null,{"$error":"#VALUE!"},{"$f":"IF(AND(V60=\"\",AL60=\"Custom\"),MIN(L60*Incent_Cost_Controls_Cust,R60/K60*0.35),IF(AI60=\"LLLC\",MIN(AJ60,((L60+'Analysis 103L'!R81)*Incent_Cost_LLLC)-'Analysis 103L'!X81),IF(AE60>=VLOOKUP(I60,Incent_Controls,3,FALSE),MIN(L60,VLOOKUP(I60,Incent_Controls,2,FALSE)),\"\")))","v":{"$error":"#VALUE!"}},"",null,"","",null,"","PASS/PASS","",{"$error":"#VALUE!"},{"$error":"#VALUE!"},{"$error":"#VALUE!"},"",null,10,{"$f":"VLOOKUP('Analysis 103L'!BE81, avoided_costs, ROUND($AT60, 0)+2, FALSE)","v":{"$error":"#N/A"}},{"$error":"#N/A"},{"$error":"#VALUE!"},{"$error":"#N/A"},{"$error":"#N/A"},{"$error":"#VALUE!"},{"$error":"#N/A"},{"$error":"#N/A"},{"$error":"#N/A"},null,null,null,null,null,null,null,null,null,null,null,null,null,null,null,{"$f":"'Analysis 103L'!CF81","v":""},"","","","","",""]
[55,{"$f":"'Analysis 103L'!C82","v":0},null,{"$f":"'Analysis 103L'!I82","v":""},{"$f":"'Analysis 103L'!J82","v":""},{"$f":"'Analysis 103L'!P82","v":0},{"$f":"'Analysis 103L'!N82","v":""},{"$f":"'Analysis 103L'!Q82","v":""},null,null,"",null,"","","","","","",0,"",null,"",{"$f":"'Analysis 103L'!$Y$232*(T61/('Analysis 103L'!$Y$230+'Analysis 103L'!$Y$231))","v":{"$error":"#VALUE!"}},null,null,{"$f":"IF(R61=\"\",\"\",R61*'Analysis 103L'!$D$23)","v":""},null,null,null,null,{"$error":"#VALUE!"},{"$f":"IF(AND(V61=\"\",AL61=\"Custom\"),MIN(L61*Incent_Cost_Controls_Cust,R61/K61*0.35),IF(AI61=\"LLLC\",MIN(AJ61,((L61+'Analysis 103L'!R82)*Incent_Cost_LLLC)-'Analysis 103L'!X82),IF(AE61>=VLOOKUP(I61,Incent_Controls,3,FALSE),MIN(L61,VLOOKUP(I61,Incent_Controls,2,FALSE)),\"\")))","v":{"$error":"#VALUE!"}},"",null,"","",null,"","PASS/PASS","",{"$error":"#VALUE!"},{"$error":"#VALUE!"},{"$error":"#VALUE!"},"",null,10,{"$f":"VLOOKUP('Analysis 103L'!BE82, avoided_costs, ROUND($AT61, 0)+2, FALSE)","v":{"$error":"#N/A"}},{"$error":"#N/A"},{"$error":"#VALUE!"},{"$error":"#N/A"},{"$error":"#N/A"},{"$error":"#VALUE!"},{"$error":"#N/A"},{"$error":"#N/A"},{"$error":"#N/A"},null,null,null,null,null,null,null,null,null,null,null,null,null,null,null,{"$f":"'Analysis 103L'!CF82","v":""},"","","","","",""]
[56,{"$f":"'Analysis 103L'!C83","v":0},null,{"$f":"'Analysis 103L'!I83","v":""},{"$f":"'Analysis 103L'!J83","v":""},{"$f":"'Analysis 103L'!P83","v":0},{"$f":"'Analysis 103L'!N83","v":""},{"$f":"'Analysis 103L'!Q83","v":""},null,null,"",null,"","","","","","",0,"",null,"",{"$f":"'Analysis 103L'!$Y$232*(T62/('Analysis 103L'!$Y$230+'Analysis 103L'!$Y$231))","v":{"$error":"#VALUE!"}},null,null,{"$f":"IF(R62=\"\",\"\",R62*'Analysis 103L'!$D$23)","v":""},null,null,null,null,{"$error":"#VALUE!"},{"$f":"IF(AND(V62=\"\",AL62=\"Custom\"),MIN(L62*Incent_Cost_Controls_Cust,R62/K62*0.35),IF(AI62=\"LLLC\",MIN(AJ62,((L62+'Analysis 103L'!R83)*Incent_Cost_LLLC)-'Analysis 103L'!X83),IF(AE62>=VLOOKUP(I62,Incent_Controls,3,FALSE),MIN(L62,VLOOKUP(I62,Incent_Controls,2,FALSE)),\"\")))","v":{"$error":"#VALUE!"}},"",null,"","",null,"","PASS/PASS","",{"$error":"#VALUE!"},{"$error":"#VALUE!"},{"$error":"#VALUE!"},"",null,10,{"$f":"VLOOKUP('Analysis 103L'!BE83, avoided_costs, ROUND($AT62, 0)+2, FALSE)","v":{"$error":"#N/A"}},{"$error":"#N/A"},{"$error":"#VALUE!"},{"$error":"#N/A"},{"$error":"#N/A"},{"$error":"#VALUE!"},{"$error":"#N/A"},{"$error":"#N/A"},{"$error":"#N/A"},null,null,null,null,null,null,null,null,null,null,null,null,null,null,null,{"$f":"'Analysis 103L'!CF83","v":""},"","","","","",""]
[57,{"$f":"'Analysis 103L'!C84","v":0},null,{"$f":"'Analysis 103L'!I84","v":""},{"$f":"'Analysis 103L'!J84","v":""},{"$f":"'Analysis 103L'!P84","v":0},{"$f":"'Analysis 103L'!N84","v":""},{"$f":"'Analysis 103L'!Q84","v":""},null,null,"",null,"","","","","","",0,"",null,"",{"$f":"'Analysis 103L'!$Y$232*(T63/('Analysis 103L'!$Y$230+'Analysis 103L'!$Y$231))","v":{"$error":"#VALUE!"}},null,null,{"$f":"IF(R63=\"\",\"\",R63*'Analysis 103L'!$D$23)","v":""},null,null,null,null,{"$error":"#VALUE!"},{"$f":"IF(AND(V63=\"\",AL63=\"Custom\"),MIN(L63*Incent_Cost_Controls_Cust,R63/K63*0.35),IF(AI63=\"LLLC\",MIN(AJ63,((L63+'Analysis 103L'!R84)*Incent_Cost_LLLC)-'Analysis 103L'!X84),IF(AE63>=VLOOKUP(I63,Incent_Controls,3,FALSE),MIN(L63,VLOOKUP(I63,Incent_Controls,2,FALSE)),\"\")))","v":{"$error":"#VALUE!"}},"",null,"","",null,"","PASS/PASS","",{"$error":"#VALUE!"},{"$error":"#VALUE!"},{"$error":"#VALUE!"},"",null,10,{"$f":"VLOOKUP('Analysis 103L'!BE84, avoided_costs, ROUND($AT63, 0)+2, FALSE)","v":{"$error":"#N/A"}},{"$error":"#N/A"},{"$error":"#VALUE!"},{"$error":"#N/A"},{"$error":"#N/A"},{"$error":"#VALUE!"},{"$error":"#N/A"},{"$error":"#N/A"},{"$error":"#N/A"},null,null,null,null,null,null,null,null,null,null,null,null,null,null,null,{"$f":"'Analysis 103L'!CF84","v":""},"","","","","",""]
[58,{"$f":"'Analysis 103L'!C85","v":0},null,{"$f":"'Analysis 103L'!I85","v":""},{"$f":"'Analysis 103L'!J85","v":""},{"$f":"'Analysis 103L'!P85","v":0},{"$f":"'Analysis 103L'!N85","v":""},{"$f":"'Analysis 103L'!Q85","v":""},null,null,"",null,"","","","","","",0,"",null,"",{"$f":"'Analysis 103L'!$Y$232*(T64/('Analysis 103L'!$Y$230+'Analysis 103L'!$Y$231))","v":{"$error":"#VALUE!"}},null,null,{"$f":"IF(R64=\"\",\"\",R64*'Analysis 103L'!$D$23)","v":""},null,null,null,null,{"$error":"#VALUE!"},{"$f":"IF(AND(V64=\"\",AL64=\"Custom\"),MIN(L64*Incent_Cost_Controls_Cust,R64/K64*0.35),IF(AI64=\"LLLC\",MIN(AJ64,((L64+'Analysis 103L'!R85)*Incent_Cost_LLLC)-'Analysis 103L'!X85),IF(AE64>=VLOOKUP(I64,Incent_Controls,3,FALSE),MIN(L64,VLOOKUP(I64,Incent_Controls,2,FALSE)),\"\")))","v":{"$error":"#VALUE!"}},"",null,"","",null,"","PASS/PASS","",{"$error":"#VALUE!"},{"$error":"#VALUE!"},{"$error":"#VALUE!"},"",null,10,{"$f":"VLOOKUP('Analysis 103L'!BE85, avoided_costs, ROUND($AT64, 0)+2, FALSE)","v":{"$error":"#N/A"}},{"$error":"#N/A"},{"$error":"#VALUE!"},{"$error":"#N/A"},{"$error":"#N/A"},{"$error":"#VALUE!"},{"$error":"#N/A"},{"$error":"#N/A"},{"$error":"#N/A"},null,null,null,null,null,null,null,null,null,null,null,null,null,null,null,{"$f":"'Analysis 103L'!CF85","v":""},"","","","","",""]
[59,{"$f":"'Analysis 103L'!C86","v":0},null,{"$f":"'Analysis 103L'!I86","v":""},{"$f":"'Analysis 103L'!J86","v":""},{"$f":"'Analysis 103L'!P86","v":0},{"$f":"'Analysis 103L'!N86","v":""},{"$f":"'Analysis 103L'!Q86","v":""},null,null,"",null,"","","","","","",0,"",null,"",{"$f":"'Analysis 103L'!$Y$232*(T65/('Analysis 103L'!$Y$230+'Analysis 103L'!$Y$231))","v":{"$error":"#VALUE!"}},null,null,{"$f":"IF(R65=\"\",\"\",R65*'Analysis 103L'!$D$23)","v":""},null,null,null,null,{"$error":"#VALUE!"},{"$f":"IF(AND(V65=\"\",AL65=\"Custom\"),MIN(L65*Incent_Cost_Controls_Cust,R65/K65*0.35),IF(AI65=\"LLLC\",MIN(AJ65,((L65+'Analysis 103L'!R86)*Incent_Cost_LLLC)-'Analysis 103L'!X86),IF(AE65>=VLOOKUP(I65,Incent_Controls,3,FALSE),MIN(L65,VLOOKUP(I65,Incent_Controls,2,FALSE)),\"\")))","v":{"$error":"#VALUE!"}},"",null,"","",null,"","PASS/PASS","",{"$error":"#VALUE!"},{"$error":"#VALUE!"},{"$error":"#VALUE!"},"",null,10,{"$f":"VLOOKUP('Analysis 103L'!BE86, avoided_costs, ROUND($AT65, 0)+2, FALSE)","v":{"$error":"#N/A"}},{"$error":"#N/A"},{"$error":"#VALUE!"},{"$error":"#N/A"},{"$error":"#N/A"},{"$error":"#VALUE!"},{"$error":"#N/A"},{"$error":"#N/A"},{"$error":"#N/A"},null,null,null,null,null,null,null,null,null,null,null,null,null,null,null,{"$f":"'Analysis 103L'!CF86","v":""},"","","","","",""]
[60,{"$f":"'Analysis 103L'!C87","v":0},null,{"$f":"'Analysis 103L'!I87","v":""},{"$f":"'Analysis 103L'!J87","v":""},{"$f":"'Analysis 103L'!P87","v":0},{"$f":"'Analysis 103L'!N87","v":""},{"$f":"'Analysis 103L'!Q87","v":""},null,null,"",null,"","","","","","",0,"",null,"",{"$f":"'Analysis 103L'!$Y$232*(T66/('Analysis 103L'!$Y$230+'Analysis 103L'!$Y$231))","v":{"$error":"#VALUE!"}},null,null,{"$f":"IF(R66=\"\",\"\",R66*'Analysis 103L'!$D$23)","v":""},null,null,null,null,{"$error":"#VALUE!"},{"$f":"IF(AND(V66=\"\",AL66=\"Custom\"),MIN(L66*Incent_Cost_Controls_Cust,R66/K66*0.35),IF(AI66=\"LLLC\",MIN(AJ66,((L66+'Analysis 103L'!R87)*Incent_Cost_LLLC)-'Analysis 103L'!X87),IF(AE66>=VLOOKUP(I66,Incent_Controls,3,FALSE),MIN(L66,VLOOKUP(I66,Incent_Controls,2,FALSE)),\"\")))","v":{"$error":"#VALUE!"}},"",null,"","",null,"","PASS/PASS","",{"$error":"#VALUE!"},{"$error":"#VALUE!"},{"$error":"#VALUE!"},"",null,10,{"$f":"VLOOKUP('Analysis 103L'!BE87, avoided_costs, ROUND($AT66, 0)+2, FALSE)","v":{"$error":"#N/A"}},{"$error":"#N/A"},{"$error":"#VALUE!"},{"$error":"#N/A"},{"$error":"#N/A"},{"$error":"#VALUE!"},{"$error":"#N/A"},{"$error":"#N/A"},{"$error":"#N/A"},null,null,null,null,null,null,null,null,null,null,null,null,null,null,null,{"$f":"'Analysis 103L'!CF87","v":""},"","","","","",""]
[61,{"$f":"'Analysis 103L'!C88","v":0},null,{"$f":"'Analysis 103L'!I88","v":""},{"$f":"'Analysis 103L'!J88","v":""},{"$f":"'Analysis 103L'!P88","v":0},{"$f":"'Analysis 103L'!N88","v":""},{"$f":"'Analysis 103L'!Q88","v":""},null,null,"",null,"","","","","","",0,"",null,"",{"$f":"'Analysis 103L'!$Y$232*(T67/('Analysis 103L'!$Y$230+'Analysis 103L'!$Y$231))","v":{"$error":"#VALUE!"}},null,null,{"$f":"IF(R67=\"\",\"\",R67*'Analysis 103L'!$D$23)","v":""},null,null,null,null,{"$error":"#VALUE!"},{"$f":"IF(AND(V67=\"\",AL67=\"Custom\"),MIN(L67*Incent_Cost_Controls_Cust,R67/K67*0.35),IF(AI67=\"LLLC\",MIN(AJ67,((L67+'Analysis 103L'!R88)*Incent_Cost_LLLC)-'Analysis 103L'!X88),IF(AE67>=VLOOKUP(I67,Incent_Controls,3,FALSE),MIN(L67,VLOOKUP(I67,Incent_Controls,2,FALSE)),\"\")))","v":{"$error":"#VALUE!"}},"",null,"","",null,"","PASS/PASS","",{"$error":"#VALUE!"},{"$error":"#VALUE!"},{"$error":"#VALUE!"},"",null,10,{"$f":"VLOOKUP('Analysis 103L'!BE88, avoided_costs, ROUND($AT67, 0)+2, FALSE)","v":{"$error":"#N/A"}},{"$error":"#N/A"},{"$error":"#VALUE!"},{"$error":"#N/A"},{"$error":"#N/A"},{"$error":"#VALUE!"},{"$error":"#N/A"},{"$error":"#N/A"},{"$error":"#N/A"},null,null,null,null,null,null,null,null,null,null,null,null,null,null,null,{"$f":"'Analysis 103L'!CF88","v":""},"","","","","",""]
[62,{"$f":"'Analysis 103L'!C89","v":0},null,{"$f":"'Analysis 103L'!I89","v":""},{"$f":"'Analysis 103L'!J89","v":""},{"$f":"'Analysis 103L'!P89","v":0},{"$f":"'Analysis 103L'!N89","v":""},{"$f":"'Analysis 103L'!Q89","v":""},null,null,"",null,"","","","","","",0,"",null,"",{"$f":"'Analysis 103L'!$Y$232*(T68/('Analysis 103L'!$Y$230+'Analysis 103L'!$Y$231))","v":{"$error":"#VALUE!"}},null,null,{"$f":"IF(R68=\"\",\"\",R68*'Analysis 103L'!$D$23)","v":""},null,null,null,null,{"$error":"#VALUE!"},{"$f":"IF(AND(V68=\"\",AL68=\"Custom\"),MIN(L68*Incent_Cost_Controls_Cust,R68/K68*0.35),IF(AI68=\"LLLC\",MIN(AJ68,((L68+'Analysis 103L'!R89)*Incent_Cost_LLLC)-'Analysis 103L'!X89),IF(AE68>=VLOOKUP(I68,Incent_Controls,3,FALSE),MIN(L68,VLOOKUP(I68,Incent_Controls,2,FALSE)),\"\")))","v":{"$error":"#VALUE!"}},"",null,"","",null,"","PASS/PASS","",{"$error":"#VALUE!"},{"$error":"#VALUE!"},{"$error":"#VALUE!"},"",null,10,{"$f":"VLOOKUP('Analysis 103L'!BE89, avoided_costs, ROUND($AT68, 0)+2, FALSE)","v":{"$error":"#N/A"}},{"$error":"#N/A"},{"$error":"#VALUE!"},{"$error":"#N/A"},{"$error":"#N/A"},{"$error":"#VALUE!"},{"$error":"#N/A"},{"$error":"#N/A"},{"$error":"#N/A"},null,null,null,null,null,null,null,null,null,null,null,null,null,null,null,{"$f":"'Analysis 103L'!CF89","v":""},"","","","","",""]
[63,{"$f":"'Analysis 103L'!C90","v":0},null,{"$f":"'Analysis 103L'!I90","v":""},{"$f":"'Analysis 103L'!J90","v":""},{"$f":"'Analysis 103L'!P90","v":0},{"$f":"'Analysis 103L'!N90","v":""},{"$f":"'Analysis 103L'!Q90","v":""},null,null,"",null,"","","","","","",0,"",null,"",{"$f":"'Analysis 103L'!$Y$232*(T69/('Analysis 103L'!$Y$230+'Analysis 103L'!$Y$231))","v":{"$error":"#VALUE!"}},null,null,{"$f":"IF(R69=\"\",\"\",R69*'Analysis 103L'!$D$23)","v":""},null,null,null,null,{"$error":"#VALUE!"},{"$f":"IF(AND(V69=\"\",AL69=\"Custom\"),MIN(L69*Incent_Cost_Controls_Cust,R69/K69*0.35),IF(AI69=\"LLLC\",MIN(AJ69,((L69+'Analysis 103L'!R90)*Incent_Cost_LLLC)-'Analysis 103L'!X90),IF(AE69>=VLOOKUP(I69,Incent_Controls,3,FALSE),MIN(L69,VLOOKUP(I69,Incent_Controls,2,FALSE)),\"\")))","v":{"$error":"#VALUE!"}},"",null,"","",null,"","PASS/PASS","",{"$error":"#VALUE!"},{"$error":"#VALUE!"},{"$error":"#VALUE!"},"",null,10,{"$f":"VLOOKUP('Analysis 103L'!BE90, avoided_costs, ROUND($AT69, 0)+2, FALSE)","v":{"$error":"#N/A"}},{"$error":"#N/A"},{"$error":"#VALUE!"},{"$error":"#N/A"},{"$error":"#N/A"},{"$error":"#VALUE!"},{"$error":"#N/A"},{"$error":"#N/A"},{"$error":"#N/A"},null,null,null,null,null,null,null,null,null,null,null,null,null,null,null,{"$f":"'Analysis 103L'!CF90","v":""},"","","","","",""]
[64,{"$f":"'Analysis 103L'!C91","v":0},null,{"$f":"'Analysis 103L'!I91","v":""},{"$f":"'Analysis 103L'!J91","v":""},{"$f":"'Analysis 103L'!P91","v":0},{"$f":"'Analysis 103L'!N91","v":""},{"$f":"'Analysis 103L'!Q91","v":""},null,null,"",null,"","","","","","",0,"",null,"",{"$f":"'Analysis 103L'!$Y$232*(T70/('Analysis 103L'!$Y$230+'Analysis 103L'!$Y$231))","v":{"$error":"#VALUE!"}},null,null,{"$f":"IF(R70=\"\",\"\",R70*'Analysis 103L'!$D$23)","v":""},null,null,null,null,{"$error":"#VALUE!"},{"$f":"IF(AND(V70=\"\",AL70=\"Custom\"),MIN(L70*Incent_Cost_Controls_Cust,R70/K70*0.35),IF(AI70=\"LLLC\",MIN(AJ70,((L70+'Analysis 103L'!R91)*Incent_Cost_LLLC)-'Analysis 103L'!X91),IF(AE70>=VLOOKUP(I70,Incent_Controls,3,FALSE),MIN(L70,VLOOKUP(I70,Incent_Controls,2,FALSE)),\"\")))","v":{"$error":"#VALUE!"}},"",null,"","",null,"","PASS/PASS","",{"$error":"#VALUE!"},{"$error":"#VALUE!"},{"$error":"#VALUE!"},"",null,10,{"$f":"VLOOKUP('Analysis 103L'!BE91, avoided_costs, ROUND($AT70, 0)+2, FALSE)","v":{"$error":"#N/A"}},{"$error":"#N/A"},{"$error":"#VALUE!"},{"$error":"#N/A"},{"$error":"#N/A"},{"$error":"#VALUE!"},{"$error":"#N/A"},{"$error":"#N/A"},{"$error":"#N/A"},null,null,null,null,null,null,null,null,null,null,null,null,null,null,null,{"$f":"'Analysis 103L'!CF91","v":""},"","","","","",""]
[65,{"$f":"'Analysis 103L'!C92","v":0},null,{"$f":"'Analysis 103L'!I92","v":""},{"$f":"'Analysis 103L'!J92","v":""},{"$f":"'Analysis 103L'!P92","v":0},{"$f":"'Analysis 103L'!N92","v":""},{"$f":"'Analysis 103L'!Q92","v":""},null,null,"",null,{"$f":"IF(RIGHT(I71, 4)=\"Case\", \"<-- Enter Total Cost.\", IF(K71=\"\",\"\",K71*L71))","v":""},"",{"$f":"IF(RIGHT(D71, 4)=\"Case\", \"\",IF(K71=\"\",\"\",IF(AI71=\"LLLC\", VLOOKUP(C71,Space_Type_CSFs, 9, FALSE), VLOOKUP(C71,Space_Type_CSFs, 6, FALSE))))","v":""},"","","",0,"",null,"",{"$f":"'Analysis 103L'!$Y$232*(T71/('Analysis 103L'!$Y$230+'Analysis 103L'!$Y$231))","v":{"$error":"#VALUE!"}},null,null,{"$f":"IF(R71=\"\",\"\",R71*'Analysis 103L'!$D$23)","v":""},null,null,null,null,{"$error":"#VALUE!"},{"$f":"IF(AND(V71=\"\",AL71=\"Custom\"),MIN(L71*Incent_Cost_Controls_Cust,R71/K71*0.35),IF(AI71=\"LLLC\",MIN(AJ71,((L71+'Analysis 103L'!R92)*Incent_Cost_LLLC)-'Analysis 103L'!X92),IF(AE71>=VLOOKUP(I71,Incent_Controls,3,FALSE),MIN(L71,VLOOKUP(I71,Incent_Controls,2,FALSE)),\"\")))","v":{"$error":"#VALUE!"}},{"$f":"IF(OR(AI71=\"LLLC\",K71=\"\"),\"\",IF(AE71>=VLOOKUP(I71,Incent_Controls,3,FALSE),\"Y\",\"N\"))","v":""},null,"","",null,"",{"$f":"IF(AL71=\"\",\"PASS/PASS\",IF(BC71=\"PASS/PASS\",\"PASS/PASS\",\"FAIL\"))","v":"PASS/PASS"},{"$f":"IF(AM71=\"PASS/PASS\",M71,\"0\")","v":""},{"$f":"F71*G71*H71/1000","v":{"$error":"#VALUE!"}},{"$f":"AO71*(1-O71)","v":{"$error":"#VALUE!"}},{"$error":"#VALUE!"},{"$f":"IF(AL71=\"Custom\",0.35*M71,T71)","v":""},null,10,{"$f":"VLOOKUP('Analysis 103L'!BE92, avoided_costs, ROUND($AT71, 0)+2, FALSE)","v":{"$error":"#N/A"}},{"$error":"#N/A"},{"$f":"0.5*M71/AQ71","v":{"$error":"#VALUE!"}},{"$error":"#N/A"},{"$error":"#N/A"},{"$f":"M71/AQ71","v":{"$error":"#VALUE!"}},{"$f":"AV71/AZ71","v":{"$error":"#N/A"}},{"$error":"#N/A"},{"$f":"AY71&\"/\"&BB71","v":{"$error":"#N/A"}},null,null,null,null,null,null,null,null,null,null,null,null,null,null,null,{"$f":"'Analysis 103L'!CF92","v":""},"","",{"$f":"IF(BT71=\"\", \"\", INDEX($BQ$32:$BQ$33, MATCH($BT71, $BN$32:$BN$33, 0))*$BU71)","v":""},{"$f":"IF(BU71=\"\", \"\", INDEX($BO$32:$BO$33, MATCH($BT71, $BN$32:$BN$33, 0)))","v":""},"",""]
[66,{"$f":"'Analysis 103L'!C93","v":0},null,{"$f":"'Analysis 103L'!I93","v":""},{"$f":"'Analysis 103L'!J93","v":""},{"$f":"'Analysis 103L'!P93","v":0},{"$f":"'Analysis 103L'!N93","v":""},{"$f":"'Analysis 103L'!Q93","v":""},null,null,{"$f":"IF(--ISERROR(FIND(\"LLLC\",I72)),\"\",F72)","v":""},null,"","","","","","",0,"",null,{"$f":"IF(AM72=\"FAIL\",\"Control System Not Cost Effective\",IF(AG72=\"N\",\"Does not meet requirement\",\"\"))","v":""},{"$f":"'Analysis 103L'!$Y$232*(T72/('Analysis 103L'!$Y$230+'Analysis 103L'!$Y$231))","v":{"$error":"#VALUE!"}},null,null,{"$f":"IF(R72=\"\",\"\",R72*'Analysis 103L'!$D$23)","v":""},null,null,null,null,{"$f":"F72*G72/K72","v":{"$error":"#VALUE!"}},{"$f":"IF(AND(V72=\"\",AL72=\"Custom\"),MIN(L72*Incent_Cost_Controls_Cust,R72/K72*0.35),IF(AI72=\"LLLC\",MIN(AJ72,((L72+'Analysis 103L'!R93)*Incent_Cost_LLLC)-'Analysis 103L'!X93),IF(AE72>=VLOOKUP(I72,Incent_Controls,3,FALSE),MIN(L72,VLOOKUP(I72,Incent_Controls,2,FALSE)),\"\")))","v":{"$error":"#VALUE!"}},"",null,"","",null,{"$f":"IF(I72=\"Custom Control System\",\"Custom\",\"\")","v":""},"PASS/PASS","",{"$error":"#VALUE!"},{"$error":"#VALUE!"},{"$f":"AO72-AP72","v":{"$error":"#VALUE!"}},"",null,10,{"$f":"VLOOKUP('Analysis 103L'!BE93, avoided_costs, ROUND($AT72, 0)+2, FALSE)","v":{"$error":"#N/A"}},{"$f":"AU72","v":{"$error":"#N/A"}},{"$error":"#VALUE!"},{"$f":"AU72/AW72","v":{"$error":"#N/A"}},{"$error":"#N/A"},{"$error":"#VALUE!"},{"$error":"#N/A"},{"$error":"#N/A"},{"$error":"#N/A"},null,null,null,null,null,null,null,null,null,null,null,null,null,null,null,{"$f":"'Analysis 103L'!CF93","v":""},"","","","","",""]
[67,{"$f":"'Analysis 103L'!C94","v":0},null,{"$f":"'Analysis 103L'!I94","v":""},{"$f":"'Analysis 103L'!J94","v":""},{"$f":"'Analysis 103L'!P94","v":0},{"$f":"'Analysis 103L'!N94","v":""},{"$f":"'Analysis 103L'!Q94","v":""},null,null,"",null,"","","","","","",0,"",null,"",{"$f":"'Analysis 103L'!$Y$232*(T73/('Analysis 103L'!$Y$230+'Analysis 103L'!$Y$231))","v":{"$error":"#VALUE!"}},null,null,{"$f":"IF(R73=\"\",\"\",R73*'Analysis 103L'!$D$23)","v":""},null,null,null,null,{"$error":"#VALUE!"},{"$f":"IF(AND(V73=\"\",AL73=\"Custom\"),MIN(L73*Incent_Cost_Controls_Cust,R73/K73*0.35),IF(AI73=\"LLLC\",MIN(AJ73,((L73+'Analysis 103L'!R94)*Incent_Cost_LLLC)-'Analysis 103L'!X94),IF(AE73>=VLOOKUP(I73,Incent_Controls,3,FALSE),MIN(L73,VLOOKUP(I73,Incent_Controls,2,FALSE)),\"\")))","v":{"$error":"#VALUE!"}},"",null,"","",null,"","PASS/PASS","",{"$error":"#VALUE!"},{"$error":"#VALUE!"},{"$error":"#VALUE!"},"",null,10,{"$f":"VLOOKUP('Analysis 103L'!BE94, avoided_costs, ROUND($AT73, 0)+2, FALSE)","v":{"$error":"#N/A"}},{"$error":"#N/A"},{"$error":"#VALUE!"},{"$error":"#N/A"},{"$error":"#N/A"},{"$error":"#VALUE!"},{"$error":"#N/A"},{"$error":"#N/A"},{"$error":"#N/A"},null,null,null,null,null,null,null,null,null,null,null,null,null,null,null,{"$f":"'Analysis 103L'!CF94","v":""},"","","","","",""]
[68,{"$f":"'Analysis 103L'!C95","v":0},null,{"$f":"'Analysis 103L'!I95","v":""},{"$f":"'Analysis 103L'!J95","v":""},{"$f":"'Analysis 103L'!P95","v":0},{"$f":"'Analysis 103L'!N95","v":""},{"$f":"'Analysis 103L'!Q95","v":""},null,null,"",null,"",{"$f":"IFERROR(IF(K74=\"\",\"\",IF(LEFT(I74,8) =\"Exterior\", (G74*F74/K74*0.5), G74*F74/K74)),\"\")","v":""},"","","","",{"$f":"IF(AND(ISNUMBER(AF74),ISNUMBER(L74)),AF74,)","v":0},"",null,"",{"$f":"'Analysis 103L'!$Y$232*(T74/('Analysis 103L'!$Y$230+'Analysis 103L'!$Y$231))","v":{"$error":"#VALUE!"}},null,null,{"$f":"IF(R74=\"\",\"\",R74*'Analysis 103L'!$D$23)","v":""},null,null,null,null,{"$error":"#VALUE!"},{"$f":"IF(AND(V74=\"\",AL74=\"Custom\"),MIN(L74*Incent_Cost_Controls_Cust,R74/K74*0.35),IF(AI74=\"LLLC\",MIN(AJ74,((L74+'Analysis 103L'!R95)*Incent_Cost_LLLC)-'Analysis 103L'!X95),IF(AE74>=VLOOKUP(I74,Incent_Controls,3,FALSE),MIN(L74,VLOOKUP(I74,Incent_Controls,2,FALSE)),\"\")))","v":{"$error":"#VALUE!"}},"",null,"","",null,"","PASS/PASS","",{"$error":"#VALUE!"},{"$error":"#VALUE!"},{"$error":"#VALUE!"},"",null,10,{"$f":"VLOOKUP('Analysis 103L'!BE95, avoided_costs, ROUND($AT74, 0)+2, FALSE)","v":{"$error":"#N/A"}},{"$error":"#N/A"},{"$error":"#VALUE!"},{"$error":"#N/A"},{"$error":"#N/A"},{"$error":"#VALUE!"},{"$error":"#N/A"},{"$error":"#N/A"},{"$error":"#N/A"},null,null,null,null,null,null,null,null,null,null,null,null,null,null,null,{"$f":"'Analysis 103L'!CF95","v":""},"","","","","",""]
[69,{"$f":"'Analysis 103L'!C96","v":0},null,{"$f":"'Analysis 103L'!I96","v":""},{"$f":"'Analysis 103L'!J96","v":""},{"$f":"'Analysis 103L'!P96","v":0},{"$f":"'Analysis 103L'!N96","v":""},{"$f":"'Analysis 103L'!Q96","v":""},null,null,"",null,"","","","","","",0,"",null,"",{"$f":"'Analysis 103L'!$Y$232*(T75/('Analysis 103L'!$Y$230+'Analysis 103L'!$Y$231))","v":{"$error":"#VALUE!"}},null,null,{"$f":"IF(R75=\"\",\"\",R75*'Analysis 103L'!$D$23)","v":""},null,null,null,null,{"$error":"#VALUE!"},{"$f":"IF(AND(V75=\"\",AL75=\"Custom\"),MIN(L75*Incent_Cost_Controls_Cust,R75/K75*0.35),IF(AI75=\"LLLC\",MIN(AJ75,((L75+'Analysis 103L'!R96)*Incent_Cost_LLLC)-'Analysis 103L'!X96),IF(AE75>=VLOOKUP(I75,Incent_Controls,3,FALSE),MIN(L75,VLOOKUP(I75,Incent_Controls,2,FALSE)),\"\")))","v":{"$error":"#VALUE!"}},"",null,"","",null,"","PASS/PASS","",{"$error":"#VALUE!"},{"$error":"#VALUE!"},{"$error":"#VALUE!"},"",null,10,{"$f":"VLOOKUP('Analysis 103L'!BE96, avoided_costs, ROUND($AT75, 0)+2, FALSE)","v":{"$error":"#N/A"}},{"$error":"#N/A"},{"$error":"#VALUE!"},{"$error":"#N/A"},{"$error":"#N/A"},{"$error":"#VALUE!"},{"$error":"#N/A"},{"$error":"#N/A"},{"$error":"#N/A"},null,null,null,null,null,null,null,null,null,null,null,null,null,null,null,{"$f":"'Analysis 103L'!CF96","v":""},"","","","","",""]
[70,{"$f":"'Analysis 103L'!C97","v":0},null,{"$f":"'Analysis 103L'!I97","v":""},{"$f":"'Analysis 103L'!J97","v":""},{"$f":"'Analysis 103L'!P97","v":0},{"$f":"'Analysis 103L'!N97","v":""},{"$f":"'Analysis 103L'!Q97","v":""},null,null,"",null,"","","","","","",0,"",null,"",{"$f":"'Analysis 103L'!$Y$232*(T76/('Analysis 103L'!$Y$230+'Analysis 103L'!$Y$231))","v":{"$error":"#VALUE!"}},null,null,{"$f":"IF(R76=\"\",\"\",R76*'Analysis 103L'!$D$23)","v":""},null,null,null,null,{"$error":"#VALUE!"},{"$f":"IF(AND(V76=\"\",AL76=\"Custom\"),MIN(L76*Incent_Cost_Controls_Cust,R76/K76*0.35),IF(AI76=\"LLLC\",MIN(AJ76,((L76+'Analysis 103L'!R97)*Incent_Cost_LLLC)-'Analysis 103L'!X97),IF(AE76>=VLOOKUP(I76,Incent_Controls,3,FALSE),MIN(L76,VLOOKUP(I76,Incent_Controls,2,FALSE)),\"\")))","v":{"$error":"#VALUE!"}},"",null,"","",null,"","PASS/PASS","",{"$error":"#VALUE!"},{"$error":"#VALUE!"},{"$error":"#VALUE!"},"",null,10,{"$f":"VLOOKUP('Analysis 103L'!BE97, avoided_costs, ROUND($AT76, 0)+2, FALSE)","v":{"$error":"#N/A"}},{"$error":"#N/A"},{"$error":"#VALUE!"},{"$error":"#N/A"},{"$error":"#N/A"},{"$error":"#VALUE!"},{"$error":"#N/A"},{"$error":"#N/A"},{"$error":"#N/A"},null,null,null,null,null,null,null,null,null,null,null,null,null,null,null,{"$f":"'Analysis 103L'!CF97","v":""},"","","","","",""]
[71,{"$f":"'Analysis 103L'!C98","v":0},null,{"$f":"'Analysis 103L'!I98","v":""},{"$f":"'Analysis 103L'!J98","v":""},{"$f":"'Analysis 103L'!P98","v":0},{"$f":"'Analysis 103L'!N98","v":""},{"$f":"'Analysis 103L'!Q98","v":""},null,null,"",null,"","","","","","",0,"",null,"",{"$f":"'Analysis 103L'!$Y$232*(T77/('Analysis 103L'!$Y$230+'Analysis 103L'!$Y$231))","v":{"$error":"#VALUE!"}},null,null,{"$f":"IF(R77=\"\",\"\",R77*'Analysis 103L'!$D$23)","v":""},null,null,null,null,{"$error":"#VALUE!"},{"$f":"IF(AND(V77=\"\",AL77=\"Custom\"),MIN(L77*Incent_Cost_Controls_Cust,R77/K77*0.35),IF(AI77=\"LLLC\",MIN(AJ77,((L77+'Analysis 103L'!R98)*Incent_Cost_LLLC)-'Analysis 103L'!X98),IF(AE77>=VLOOKUP(I77,Incent_Controls,3,FALSE),MIN(L77,VLOOKUP(I77,Incent_Controls,2,FALSE)),\"\")))","v":{"$error":"#VALUE!"}},"",null,"","",null,"","PASS/PASS","",{"$error":"#VALUE!"},{"$error":"#VALUE!"},{"$error":"#VALUE!"},"",null,10,{"$f":"VLOOKUP('Analysis 103L'!BE98, avoided_costs, ROUND($AT77, 0)+2, FALSE)","v":{"$error":"#N/A"}},{"$error":"#N/A"},{"$error":"#VALUE!"},{"$error":"#N/A"},{"$error":"#N/A"},{"$error":"#VALUE!"},{"$error":"#N/A"},{"$error":"#N/A"},{"$error":"#N/A"},null,null,null,null,null,null,null,null,null,null,null,null,null,null,null,{"$f":"'Analysis 103L'!CF98","v":""},"","","","",{"$f":"IF(BW77=\"\",\"\",MIN(L77*Incent_Cost_Case,(F77*BW77)))","v":""},""]
[72,{"$f":"'Analysis 103L'!C99","v":0},null,{"$f":"'Analysis 103L'!I99","v":""},{"$f":"'Analysis 103L'!J99","v":""},{"$f":"'Analysis 103L'!P99","v":0},{"$f":"'Analysis 103L'!N99","v":""},{"$f":"'Analysis 103L'!Q99","v":""},null,null,"",null,"","","","","","",0,"",null,"",{"$f":"'Analysis 103L'!$Y$232*(T78/('Analysis 103L'!$Y$230+'Analysis 103L'!$Y$231))","v":{"$error":"#VALUE!"}},null,null,{"$f":"IF(R78=\"\",\"\",R78*'Analysis 103L'!$D$23)","v":""},null,null,null,null,{"$error":"#VALUE!"},{"$f":"IF(AND(V78=\"\",AL78=\"Custom\"),MIN(L78*Incent_Cost_Controls_Cust,R78/K78*0.35),IF(AI78=\"LLLC\",MIN(AJ78,((L78+'Analysis 103L'!R99)*Incent_Cost_LLLC)-'Analysis 103L'!X99),IF(AE78>=VLOOKUP(I78,Incent_Controls,3,FALSE),MIN(L78,VLOOKUP(I78,Incent_Controls,2,FALSE)),\"\")))","v":{"$error":"#VALUE!"}},"",null,"","",null,"","PASS/PASS","",{"$error":"#VALUE!"},{"$error":"#VALUE!"},{"$error":"#VALUE!"},"",null,10,{"$f":"VLOOKUP('Analysis 103L'!BE99, avoided_costs, ROUND($AT78, 0)+2, FALSE)","v":{"$error":"#N/A"}},{"$error":"#N/A"},{"$error":"#VALUE!"},{"$error":"#N/A"},{"$error":"#N/A"},{"$error":"#VALUE!"},{"$error":"#N/A"},{"$error":"#N/A"},{"$error":"#N/A"},null,null,null,null,null,null,null,null,null,null,null,null,null,null,null,{"$f":"'Analysis 103L'!CF99","v":""},"","","","","",""]
[73,{"$f":"'Analysis 103L'!C100","v":0},null,{"$f":"'Analysis 103L'!I100","v":""},{"$f":"'Analysis 103L'!J100","v":""},{"$f":"'Analysis 103L'!P100","v":0},{"$f":"'Analysis 103L'!N100","v":""},{"$f":"'Analysis 103L'!Q100","v":""},null,null,"",null,"","","","","","",0,"",null,"",{"$f":"'Analysis 103L'!$Y$232*(T79/('Analysis 103L'!$Y$230+'Analysis 103L'!$Y$231))","v":{"$error":"#VALUE!"}},null,null,{"$f":"IF(R79=\"\",\"\",R79*'Analysis 103L'!$D$23)","v":""},null,null,null,null,{"$error":"#VALUE!"},{"$f":"IF(AND(V79=\"\",AL79=\"Custom\"),MIN(L79*Incent_Cost_Controls_Cust,R79/K79*0.35),IF(AI79=\"LLLC\",MIN(AJ79,((L79+'Analysis 103L'!R100)*Incent_Cost_LLLC)-'Analysis 103L'!X100),IF(AE79>=VLOOKUP(I79,Incent_Controls,3,FALSE),MIN(L79,VLOOKUP(I79,Incent_Controls,2,FALSE)),\"\")))","v":{"$error":"#VALUE!"}},"",null,"","",null,"","PASS/PASS","",{"$error":"#VALUE!"},{"$error":"#VALUE!"},{"$error":"#VALUE!"},"",null,10,{"$f":"VLOOKUP('Analysis 103L'!BE100, avoided_costs, ROUND($AT79, 0)+2, FALSE)","v":{"$error":"#N/A"}},{"$error":"#N/A"},{"$error":"#VALUE!"},{"$error":"#N/A"},{"$error":"#N/A"},{"$error":"#VALUE!"},{"$error":"#N/A"},{"$error":"#N/A"},{"$error":"#N/A"},null,null,null,null,null,null,null,null,null,null,null,null,null,null,null,{"$f":"'Analysis 103L'!CF100","v":""},"","","","","",""]
[74,{"$f":"'Analysis 103L'!C101","v":0},null,{"$f":"'Analysis 103L'!I101","v":""},{"$f":"'Analysis 103L'!J101","v":""},{"$f":"'Analysis 103L'!P101","v":0},{"$f":"'Analysis 103L'!N101","v":""},{"$f":"'Analysis 103L'!Q101","v":""},null,null,"",null,"","","","","","",0,"",null,"",{"$f":"'Analysis 103L'!$Y$232*(T80/('Analysis 103L'!$Y$230+'Analysis 103L'!$Y$231))","v":{"$error":"#VALUE!"}},null,null,{"$f":"IF(R80=\"\",\"\",R80*'Analysis 103L'!$D$23)","v":""},null,null,null,null,{"$error":"#VALUE!"},{"$f":"IF(AND(V80=\"\",AL80=\"Custom\"),MIN(L80*Incent_Cost_Controls_Cust,R80/K80*0.35),IF(AI80=\"LLLC\",MIN(AJ80,((L80+'Analysis 103L'!R101)*Incent_Cost_LLLC)-'Analysis 103L'!X101),IF(AE80>=VLOOKUP(I80,Incent_Controls,3,FALSE),MIN(L80,VLOOKUP(I80,Incent_Controls,2,FALSE)),\"\")))","v":{"$error":"#VALUE!"}},"",null,"","",null,"","PASS/PASS","",{"$error":"#VALUE!"},{"$error":"#VALUE!"},{"$error":"#VALUE!"},"",null,10,{"$f":"VLOOKUP('Analysis 103L'!BE101, avoided_costs, ROUND($AT80, 0)+2, FALSE)","v":{"$error":"#N/A"}},{"$error":"#N/A"},{"$error":"#VALUE!"},{"$error":"#N/A"},{"$error":"#N/A"},{"$error":"#VALUE!"},{"$error":"#N/A"},{"$error":"#N/A"},{"$error":"#N/A"},null,null,null,null,null,null,null,null,null,null,null,null,null,null,null,{"$f":"'Analysis 103L'!CF101","v":""},"","","","","",""]
[75,{"$f":"'Analysis 103L'!C102","v":0},null,{"$f":"'Analysis 103L'!I102","v":""},{"$f":"'Analysis 103L'!J102","v":""},{"$f":"'Analysis 103L'!P102","v":0},{"$f":"'Analysis 103L'!N102","v":""},{"$f":"'Analysis 103L'!Q102","v":""},null,null,"",null,"","","","","","",0,"",null,"",{"$f":"'Analysis 103L'!$Y$232*(T81/('Analysis 103L'!$Y$230+'Analysis 103L'!$Y$231))","v":{"$error":"#VALUE!"}},null,null,{"$f":"IF(R81=\"\",\"\",R81*'Analysis 103L'!$D$23)","v":""},null,null,null,null,{"$error":"#VALUE!"},{"$f":"IF(AND(V81=\"\",AL81=\"Custom\"),MIN(L81*Incent_Cost_Controls_Cust,R81/K81*0.35),IF(AI81=\"LLLC\",MIN(AJ81,((L81+'Analysis 103L'!R102)*Incent_Cost_LLLC)-'Analysis 103L'!X102),IF(AE81>=VLOOKUP(I81,Incent_Controls,3,FALSE),MIN(L81,VLOOKUP(I81,Incent_Controls,2,FALSE)),\"\")))","v":{"$error":"#VALUE!"}},"",null,"","",null,"","PASS/PASS","",{"$error":"#VALUE!"},{"$error":"#VALUE!"},{"$error":"#VALUE!"},"",null,10,{"$f":"VLOOKUP('Analysis 103L'!BE102, avoided_costs, ROUND($AT81, 0)+2, FALSE)","v":{"$error":"#N/A"}},{"$error":"#N/A"},{"$error":"#VALUE!"},{"$error":"#N/A"},{"$error":"#N/A"},{"$error":"#VALUE!"},{"$error":"#N/A"},{"$error":"#N/A"},{"$error":"#N/A"},null,null,null,null,null,null,null,null,null,null,null,null,null,null,null,{"$f":"'Analysis 103L'!CF102","v":""},"","","","","",""]
[76,{"$f":"'Analysis 103L'!C103","v":0},null,{"$f":"'Analysis 103L'!I103","v":""},{"$f":"'Analysis 103L'!J103","v":""},{"$f":"'Analysis 103L'!P103","v":0},{"$f":"'Analysis 103L'!N103","v":""},{"$f":"'Analysis 103L'!Q103","v":""},null,null,"",null,"","","","","","",0,"",null,"",{"$f":"'Analysis 103L'!$Y$232*(T82/('Analysis 103L'!$Y$230+'Analysis 103L'!$Y$231))","v":{"$error":"#VALUE!"}},null,null,{"$f":"IF(R82=\"\",\"\",R82*'Analysis 103L'!$D$23)","v":""},null,null,null,null,{"$error":"#VALUE!"},{"$f":"IF(AND(V82=\"\",AL82=\"Custom\"),MIN(L82*Incent_Cost_Controls_Cust,R82/K82*0.35),IF(AI82=\"LLLC\",MIN(AJ82,((L82+'Analysis 103L'!R103)*Incent_Cost_LLLC)-'Analysis 103L'!X103),IF(AE82>=VLOOKUP(I82,Incent_Controls,3,FALSE),MIN(L82,VLOOKUP(I82,Incent_Controls,2,FALSE)),\"\")))","v":{"$error":"#VALUE!"}},"",null,"","",null,"","PASS/PASS","",{"$error":"#VALUE!"},{"$error":"#VALUE!"},{"$error":"#VALUE!"},"",null,10,{"$f":"VLOOKUP('Analysis 103L'!BE103, avoided_costs, ROUND($AT82, 0)+2, FALSE)","v":{"$error":"#N/A"}},{"$error":"#N/A"},{"$error":"#VALUE!"},{"$error":"#N/A"},{"$error":"#N/A"},{"$error":"#VALUE!"},{"$error":"#N/A"},{"$error":"#N/A"},{"$error":"#N/A"},null,null,null,null,null,null,null,null,null,null,null,null,null,null,null,{"$f":"'Analysis 103L'!CF103","v":""},"","","","","",""]
[77,{"$f":"'Analysis 103L'!C104","v":0},null,{"$f":"'Analysis 103L'!I104","v":""},{"$f":"'Analysis 103L'!J104","v":""},{"$f":"'Analysis 103L'!P104","v":0},{"$f":"'Analysis 103L'!N104","v":""},{"$f":"'Analysis 103L'!Q104","v":""},null,null,"",null,"","","","","","",0,"",null,"",{"$f":"'Analysis 103L'!$Y$232*(T83/('Analysis 103L'!$Y$230+'Analysis 103L'!$Y$231))","v":{"$error":"#VALUE!"}},null,null,{"$f":"IF(R83=\"\",\"\",R83*'Analysis 103L'!$D$23)","v":""},null,null,null,null,{"$error":"#VALUE!"},{"$f":"IF(AND(V83=\"\",AL83=\"Custom\"),MIN(L83*Incent_Cost_Controls_Cust,R83/K83*0.35),IF(AI83=\"LLLC\",MIN(AJ83,((L83+'Analysis 103L'!R104)*Incent_Cost_LLLC)-'Analysis 103L'!X104),IF(AE83>=VLOOKUP(I83,Incent_Controls,3,FALSE),MIN(L83,VLOOKUP(I83,Incent_Controls,2,FALSE)),\"\")))","v":{"$error":"#VALUE!"}},"",null,"","",null,"","PASS/PASS","",{"$error":"#VALUE!"},{"$error":"#VALUE!"},{"$error":"#VALUE!"},"",null,10,{"$f":"VLOOKUP('Analysis 103L'!BE104, avoided_costs, ROUND($AT83, 0)+2, FALSE)","v":{"$error":"#N/A"}},{"$error":"#N/A"},{"$error":"#VALUE!"},{"$error":"#N/A"},{"$error":"#N/A"},{"$error":"#VALUE!"},{"$error":"#N/A"},{"$error":"#N/A"},{"$error":"#N/A"},null,null,null,null,null,null,null,null,null,null,null,null,null,null,null,{"$f":"'Analysis 103L'!CF104","v":""},"","","","","",""]
[78,{"$f":"'Analysis 103L'!C105","v":0},null,{"$f":"'Analysis 103L'!I105","v":""},{"$f":"'Analysis 103L'!J105","v":""},{"$f":"'Analysis 103L'!P105","v":0},{"$f":"'Analysis 103L'!N105","v":""},{"$f":"'Analysis 103L'!Q105","v":""},null,null,"",null,"","","","","","",0,"",null,"",{"$f":"'Analysis 103L'!$Y$232*(T84/('Analysis 103L'!$Y$230+'Analysis 103L'!$Y$231))","v":{"$error":"#VALUE!"}},null,null,{"$f":"IF(R84=\"\",\"\",R84*'Analysis 103L'!$D$23)","v":""},null,null,null,null,{"$error":"#VALUE!"},{"$f":"IF(AND(V84=\"\",AL84=\"Custom\"),MIN(L84*Incent_Cost_Controls_Cust,R84/K84*0.35),IF(AI84=\"LLLC\",MIN(AJ84,((L84+'Analysis 103L'!R105)*Incent_Cost_LLLC)-'Analysis 103L'!X105),IF(AE84>=VLOOKUP(I84,Incent_Controls,3,FALSE),MIN(L84,VLOOKUP(I84,Incent_Controls,2,FALSE)),\"\")))","v":{"$error":"#VALUE!"}},"",null,"","",null,"","PASS/PASS","",{"$error":"#VALUE!"},{"$error":"#VALUE!"},{"$error":"#VALUE!"},"",null,10,{"$f":"VLOOKUP('Analysis 103L'!BE105, avoided_costs, ROUND($AT84, 0)+2, FALSE)","v":{"$error":"#N/A"}},{"$error":"#N/A"},{"$error":"#VALUE!"},{"$error":"#N/A"},{"$error":"#N/A"},{"$error":"#VALUE!"},{"$error":"#N/A"},{"$error":"#N/A"},{"$error":"#N/A"},null,null,null,null,null,null,null,null,null,null,null,null,null,null,null,{"$f":"'Analysis 103L'!CF105","v":""},"","","","","",""]
[79,{"$f":"'Analysis 103L'!C106","v":0},null,{"$f":"'Analysis 103L'!I106","v":""},{"$f":"'Analysis 103L'!J106","v":""},{"$f":"'Analysis 103L'!P106","v":0},{"$f":"'Analysis 103L'!N106","v":""},{"$f":"'Analysis 103L'!Q106","v":""},null,null,"",null,"","","","","","",0,"",null,"",{"$f":"'Analysis 103L'!$Y$232*(T85/('Analysis 103L'!$Y$230+'Analysis 103L'!$Y$231))","v":{"$error":"#VALUE!"}},null,null,{"$f":"IF(R85=\"\",\"\",R85*'Analysis 103L'!$D$23)","v":""},null,null,null,null,{"$error":"#VALUE!"},{"$f":"IF(AND(V85=\"\",AL85=\"Custom\"),MIN(L85*Incent_Cost_Controls_Cust,R85/K85*0.35),IF(AI85=\"LLLC\",MIN(AJ85,((L85+'Analysis 103L'!R106)*Incent_Cost_LLLC)-'Analysis 103L'!X106),IF(AE85>=VLOOKUP(I85,Incent_Controls,3,FALSE),MIN(L85,VLOOKUP(I85,Incent_Controls,2,FALSE)),\"\")))","v":{"$error":"#VALUE!"}},"",null,"","",null,"","PASS/PASS","",{"$error":"#VALUE!"},{"$error":"#VALUE!"},{"$error":"#VALUE!"},"",null,10,{"$f":"VLOOKUP('Analysis 103L'!BE106, avoided_costs, ROUND($AT85, 0)+2, FALSE)","v":{"$error":"#N/A"}},{"$error":"#N/A"},{"$error":"#VALUE!"},{"$error":"#N/A"},{"$error":"#N/A"},{"$error":"#VALUE!"},{"$error":"#N/A"},{"$error":"#N/A"},{"$error":"#N/A"},null,null,null,null,null,null,null,null,null,null,null,null,null,null,null,{"$f":"'Analysis 103L'!CF106","v":""},"","","","","",""]
[80,{"$f":"'Analysis 103L'!C107","v":0},null,{"$f":"'Analysis 103L'!I107","v":""},{"$f":"'Analysis 103L'!J107","v":""},{"$f":"'Analysis 103L'!P107","v":0},{"$f":"'Analysis 103L'!N107","v":""},{"$f":"'Analysis 103L'!Q107","v":""},null,null,"",null,"","","","","","",0,"",null,"",{"$f":"'Analysis 103L'!$Y$232*(T86/('Analysis 103L'!$Y$230+'Analysis 103L'!$Y$231))","v":{"$error":"#VALUE!"}},null,null,{"$f":"IF(R86=\"\",\"\",R86*'Analysis 103L'!$D$23)","v":""},null,null,null,null,{"$error":"#VALUE!"},{"$f":"IF(AND(V86=\"\",AL86=\"Custom\"),MIN(L86*Incent_Cost_Controls_Cust,R86/K86*0.35),IF(AI86=\"LLLC\",MIN(AJ86,((L86+'Analysis 103L'!R107)*Incent_Cost_LLLC)-'Analysis 103L'!X107),IF(AE86>=VLOOKUP(I86,Incent_Controls,3,FALSE),MIN(L86,VLOOKUP(I86,Incent_Controls,2,FALSE)),\"\")))","v":{"$error":"#VALUE!"}},"",null,"","",null,"","PASS/PASS","",{"$error":"#VALUE!"},{"$error":"#VALUE!"},{"$error":"#VALUE!"},"",null,10,{"$f":"VLOOKUP('Analysis 103L'!BE107, avoided_costs, ROUND($AT86, 0)+2, FALSE)","v":{"$error":"#N/A"}},{"$error":"#N/A"},{"$error":"#VALUE!"},{"$error":"#N/A"},{"$f":"IF(ROUND(AX86,1)>=1, \"PASS\", \"FAIL\")","v":{"$error":"#N/A"}},{"$error":"#VALUE!"},{"$error":"#N/A"},{"$f":"IF(OR(ROUND(BA86,1)>=1,BA86<0), \"PASS\", \"FAIL\")","v":{"$error":"#N/A"}},{"$error":"#N/A"},null,null,null,null,null,null,null,null,null,null,null,null,null,null,null,{"$f":"'Analysis 103L'!CF107","v":""},"","","","","",""]
[81,{"$f":"'Analysis 103L'!C108","v":0},null,{"$f":"'Analysis 103L'!I108","v":""},{"$f":"'Analysis 103L'!J108","v":""},{"$f":"'Analysis 103L'!P108","v":0},{"$f":"'Analysis 103L'!N108","v":""},{"$f":"'Analysis 103L'!Q108","v":""},null,null,"",null,"","","",{"$f":"IF(RIGHT(D87, 4)=\"Case\", \"\",IF(K87=\"\",\"\",(K87*N87*H87)/1000))","v":""},{"$f":"IF(RIGHT(D87, 4)=\"Case\", \"\",IF(K87=\"\",\"\",P87*(1-O87)))","v":""},{"$f":"IF(RIGHT(D87, 4)=\"Case\", BV87, IF(K87=\"\",\"\",P87-Q87))","v":""},0,{"$f":"IF(RIGHT(D87,4)=\"Case\",BX87,IF(I87=\"\",\"\",K87*S87))","v":""},null,"",{"$f":"'Analysis 103L'!$Y$232*(T87/('Analysis 103L'!$Y$230+'Analysis 103L'!$Y$231))","v":{"$error":"#VALUE!"}},null,null,{"$f":"IF(R87=\"\",\"\",R87*'Analysis 103L'!$D$23)","v":""},null,null,null,null,{"$error":"#VALUE!"},{"$f":"IF(AND(V87=\"\",AL87=\"Custom\"),MIN(L87*Incent_Cost_Controls_Cust,R87/K87*0.35),IF(AI87=\"LLLC\",MIN(AJ87,((L87+'Analysis 103L'!R108)*Incent_Cost_LLLC)-'Analysis 103L'!X108),IF(AE87>=VLOOKUP(I87,Incent_Controls,3,FALSE),MIN(L87,VLOOKUP(I87,Incent_Controls,2,FALSE)),\"\")))","v":{"$error":"#VALUE!"}},"",null,"","",null,"","PASS/PASS","",{"$error":"#VALUE!"},{"$error":"#VALUE!"},{"$error":"#VALUE!"},"",null,10,{"$f":"VLOOKUP('Analysis 103L'!BE108, avoided_costs, ROUND($AT87, 0)+2, FALSE)","v":{"$error":"#N/A"}},{"$error":"#N/A"},{"$error":"#VALUE!"},{"$error":"#N/A"},{"$error":"#N/A"},{"$error":"#VALUE!"},{"$error":"#N/A"},{"$error":"#N/A"},{"$error":"#N/A"},null,null,null,null,null,null,null,null,null,null,null,null,null,null,null,{"$f":"'Analysis 103L'!CF108","v":""},"","","","","",""]
[82,{"$f":"'Analysis 103L'!C109","v":0},null,{"$f":"'Analysis 103L'!I109","v":""},{"$f":"'Analysis 103L'!J109","v":""},{"$f":"'Analysis 103L'!P109","v":0},{"$f":"'Analysis 103L'!N109","v":""},{"$f":"'Analysis 103L'!Q109","v":""},null,null,"",null,"","","","","","",0,"",null,"",{"$f":"'Analysis 103L'!$Y$232*(T88/('Analysis 103L'!$Y$230+'Analysis 103L'!$Y$231))","v":{"$error":"#VALUE!"}},null,null,{"$f":"IF(R88=\"\",\"\",R88*'Analysis 103L'!$D$23)","v":""},null,null,null,null,{"$error":"#VALUE!"},{"$f":"IF(AND(V88=\"\",AL88=\"Custom\"),MIN(L88*Incent_Cost_Controls_Cust,R88/K88*0.35),IF(AI88=\"LLLC\",MIN(AJ88,((L88+'Analysis 103L'!R109)*Incent_Cost_LLLC)-'Analysis 103L'!X109),IF(AE88>=VLOOKUP(I88,Incent_Controls,3,FALSE),MIN(L88,VLOOKUP(I88,Incent_Controls,2,FALSE)),\"\")))","v":{"$error":"#VALUE!"}},"",null,"","",null,"","PASS/PASS","",{"$error":"#VALUE!"},{"$error":"#VALUE!"},{"$error":"#VALUE!"},"",null,10,{"$f":"VLOOKUP('Analysis 103L'!BE109, avoided_costs, ROUND($AT88, 0)+2, FALSE)","v":{"$error":"#N/A"}},{"$error":"#N/A"},{"$error":"#VALUE!"},{"$error":"#N/A"},{"$error":"#N/A"},{"$error":"#VALUE!"},{"$error":"#N/A"},{"$error":"#N/A"},{"$error":"#N/A"},null,null,null,null,null,null,null,null,null,null,null,null,null,null,null,{"$f":"'Analysis 103L'!CF109","v":""},{"$f":"IF(I88=$AC$18, IF(BS88=\"DR\", $AC$20, IF(BS88=\"SR\", $AC$19, \"\")), \"\")","v":""},{"$f":"IF(BT88=\"\", \"\", $F88)","v":""},"","","",{"$f":"IF(BV88=\"\", \"\", INDEX($AD$19:$AD$20, MATCH($BT88, $AC$19:$AC$20, 0))*$BU88)","v":""}]
[83,{"$f":"'Analysis 103L'!C110","v":0},null,{"$f":"'Analysis 103L'!I110","v":""},{"$f":"'Analysis 103L'!J110","v":""},{"$f":"'Analysis 103L'!P110","v":0},{"$f":"'Analysis 103L'!N110","v":""},{"$f":"'Analysis 103L'!Q110","v":""},null,null,"",null,"","","","","","",0,"",null,"",{"$f":"'Analysis 103L'!$Y$232*(T89/('Analysis 103L'!$Y$230+'Analysis 103L'!$Y$231))","v":{"$error":"#VALUE!"}},null,null,{"$f":"IF(R89=\"\",\"\",R89*'Analysis 103L'!$D$23)","v":""},null,null,null,null,{"$error":"#VALUE!"},{"$f":"IF(AND(V89=\"\",AL89=\"Custom\"),MIN(L89*Incent_Cost_Controls_Cust,R89/K89*0.35),IF(AI89=\"LLLC\",MIN(AJ89,((L89+'Analysis 103L'!R110)*Incent_Cost_LLLC)-'Analysis 103L'!X110),IF(AE89>=VLOOKUP(I89,Incent_Controls,3,FALSE),MIN(L89,VLOOKUP(I89,Incent_Controls,2,FALSE)),\"\")))","v":{"$error":"#VALUE!"}},"",null,"","",null,"","PASS/PASS","",{"$error":"#VALUE!"},{"$error":"#VALUE!"},{"$error":"#VALUE!"},"",null,10,{"$f":"VLOOKUP('Analysis 103L'!BE110, avoided_costs, ROUND($AT89, 0)+2, FALSE)","v":{"$error":"#N/A"}},{"$error":"#N/A"},{"$error":"#VALUE!"},{"$error":"#N/A"},{"$error":"#N/A"},{"$error":"#VALUE!"},{"$error":"#N/A"},{"$error":"#N/A"},{"$error":"#N/A"},null,null,null,null,null,null,null,null,null,null,null,null,null,null,null,{"$f":"'Analysis 103L'!CF110","v":""},"","","","","",""]
[84,{"$f":"'Analysis 103L'!C111","v":0},null,{"$f":"'Analysis 103L'!I111","v":""},{"$f":"'Analysis 103L'!J111","v":""},{"$f":"'Analysis 103L'!P111","v":0},{"$f":"'Analysis 103L'!N111","v":""},{"$f":"'Analysis 103L'!Q111","v":""},null,null,"",null,"","","","","","",0,"",null,"",{"$f":"'Analysis 103L'!$Y$232*(T90/('Analysis 103L'!$Y$230+'Analysis 103L'!$Y$231))","v":{"$error":"#VALUE!"}},null,null,{"$f":"IF(R90=\"\",\"\",R90*'Analysis 103L'!$D$23)","v":""},null,null,null,null,{"$error":"#VALUE!"},{"$f":"IF(AND(V90=\"\",AL90=\"Custom\"),MIN(L90*Incent_Cost_Controls_Cust,R90/K90*0.35),IF(AI90=\"LLLC\",MIN(AJ90,((L90+'Analysis 103L'!R111)*Incent_Cost_LLLC)-'Analysis 103L'!X111),IF(AE90>=VLOOKUP(I90,Incent_Controls,3,FALSE),MIN(L90,VLOOKUP(I90,Incent_Controls,2,FALSE)),\"\")))","v":{"$error":"#VALUE!"}},"",null,"","",null,"","PASS/PASS","",{"$error":"#VALUE!"},{"$error":"#VALUE!"},{"$error":"#VALUE!"},"",null,10,{"$f":"VLOOKUP('Analysis 103L'!BE111, avoided_costs, ROUND($AT90, 0)+2, FALSE)","v":{"$error":"#N/A"}},{"$error":"#N/A"},{"$error":"#VALUE!"},{"$error":"#N/A"},{"$error":"#N/A"},{"$error":"#VALUE!"},{"$error":"#N/A"},{"$error":"#N/A"},{"$error":"#N/A"},null,null,null,null,null,null,null,null,null,null,null,null,null,null,null,{"$f":"'Analysis 103L'!CF111","v":""},"","","","","",""]
[85,{"$f":"'Analysis 103L'!C112","v":0},null,{"$f":"'Analysis 103L'!I112","v":""},{"$f":"'Analysis 103L'!J112","v":""},{"$f":"'Analysis 103L'!P112","v":0},{"$f":"'Analysis 103L'!N112","v":""},{"$f":"'Analysis 103L'!Q112","v":""},null,null,"",null,"","","","","","",0,"",null,"",{"$f":"'Analysis 103L'!$Y$232*(T91/('Analysis 103L'!$Y$230+'Analysis 103L'!$Y$231))","v":{"$error":"#VALUE!"}},null,null,{"$f":"IF(R91=\"\",\"\",R91*'Analysis 103L'!$D$23)","v":""},null,null,null,null,{"$error":"#VALUE!"},{"$f":"IF(AND(V91=\"\",AL91=\"Custom\"),MIN(L91*Incent_Cost_Controls_Cust,R91/K91*0.35),IF(AI91=\"LLLC\",MIN(AJ91,((L91+'Analysis 103L'!R112)*Incent_Cost_LLLC)-'Analysis 103L'!X112),IF(AE91>=VLOOKUP(I91,Incent_Controls,3,FALSE),MIN(L91,VLOOKUP(I91,Incent_Controls,2,FALSE)),\"\")))","v":{"$error":"#VALUE!"}},"",null,"","",null,"","PASS/PASS","",{"$error":"#VALUE!"},{"$error":"#VALUE!"},{"$error":"#VALUE!"},"",null,10,{"$f":"VLOOKUP('Analysis 103L'!BE112, avoided_costs, ROUND($AT91, 0)+2, FALSE)","v":{"$error":"#N/A"}},{"$error":"#N/A"},{"$error":"#VALUE!"},{"$error":"#N/A"},{"$error":"#N/A"},{"$error":"#VALUE!"},{"$error":"#N/A"},{"$error":"#N/A"},{"$error":"#N/A"},null,null,null,null,null,null,null,null,null,null,null,null,null,null,null,{"$f":"'Analysis 103L'!CF112","v":""},"","","","","",""]
[86,{"$f":"'Analysis 103L'!C113","v":0},null,{"$f":"'Analysis 103L'!I113","v":""},{"$f":"'Analysis 103L'!J113","v":""},{"$f":"'Analysis 103L'!P113","v":0},{"$f":"'Analysis 103L'!N113","v":""},{"$f":"'Analysis 103L'!Q113","v":""},null,null,"",null,"","","","","","",0,"",null,"",{"$f":"'Analysis 103L'!$Y$232*(T92/('Analysis 103L'!$Y$230+'Analysis 103L'!$Y$231))","v":{"$error":"#VALUE!"}},null,null,{"$f":"IF(R92=\"\",\"\",R92*'Analysis 103L'!$D$23)","v":""},null,null,null,null,{"$error":"#VALUE!"},{"$f":"IF(AND(V92=\"\",AL92=\"Custom\"),MIN(L92*Incent_Cost_Controls_Cust,R92/K92*0.35),IF(AI92=\"LLLC\",MIN(AJ92,((L92+'Analysis 103L'!R113)*Incent_Cost_LLLC)-'Analysis 103L'!X113),IF(AE92>=VLOOKUP(I92,Incent_Controls,3,FALSE),MIN(L92,VLOOKUP(I92,Incent_Controls,2,FALSE)),\"\")))","v":{"$error":"#VALUE!"}},"",null,"","",null,"","PASS/PASS","",{"$error":"#VALUE!"},{"$error":"#VALUE!"},{"$error":"#VALUE!"},"",null,10,{"$f":"VLOOKUP('Analysis 103L'!BE113, avoided_costs, ROUND($AT92, 0)+2, FALSE)","v":{"$error":"#N/A"}},{"$error":"#N/A"},{"$error":"#VALUE!"},{"$error":"#N/A"},{"$error":"#N/A"},{"$error":"#VALUE!"},{"$error":"#N/A"},{"$error":"#N/A"},{"$error":"#N/A"},null,null,null,null,null,null,null,null,null,null,null,null,null,null,null,{"$f":"'Analysis 103L'!CF113","v":""},"","","","","",""]
[87,{"$f":"'Analysis 103L'!C114","v":0},null,{"$f":"'Analysis 103L'!I114","v":""},{"$f":"'Analysis 103L'!J114","v":""},{"$f":"'Analysis 103L'!P114","v":0},{"$f":"'Analysis 103L'!N114","v":""},{"$f":"'Analysis 103L'!Q114","v":""},null,null,"",null,"","","","","","",0,"",null,"",{"$f":"'Analysis 103L'!$Y$232*(T93/('Analysis 103L'!$Y$230+'Analysis 103L'!$Y$231))","v":{"$error":"#VALUE!"}},null,null,{"$f":"IF(R93=\"\",\"\",R93*'Analysis 103L'!$D$23)","v":""},null,null,null,null,{"$error":"#VALUE!"},{"$f":"IF(AND(V93=\"\",AL93=\"Custom\"),MIN(L93*Incent_Cost_Controls_Cust,R93/K93*0.35),IF(AI93=\"LLLC\",MIN(AJ93,((L93+'Analysis 103L'!R114)*Incent_Cost_LLLC)-'Analysis 103L'!X114),IF(AE93>=VLOOKUP(I93,Incent_Controls,3,FALSE),MIN(L93,VLOOKUP(I93,Incent_Controls,2,FALSE)),\"\")))","v":{"$error":"#VALUE!"}},"",null,"","",null,"","PASS/PASS","",{"$error":"#VALUE!"},{"$error":"#VALUE!"},{"$error":"#VALUE!"},"",null,10,{"$f":"VLOOKUP('Analysis 103L'!BE114, avoided_costs, ROUND($AT93, 0)+2, FALSE)","v":{"$error":"#N/A"}},{"$error":"#N/A"},{"$error":"#VALUE!"},{"$error":"#N/A"},{"$error":"#N/A"},{"$error":"#VALUE!"},{"$error":"#N/A"},{"$error":"#N/A"},{"$error":"#N/A"},null,null,null,null,null,null,null,null,null,null,null,null,null,null,null,{"$f":"'Analysis 103L'!CF114","v":""},"","","","","",""]
[88,{"$f":"'Analysis 103L'!C115","v":0},null,{"$f":"'Analysis 103L'!I115","v":""},{"$f":"'Analysis 103L'!J115","v":""},{"$f":"'Analysis 103L'!P115","v":0},{"$f":"'Analysis 103L'!N115","v":""},{"$f":"'Analysis 103L'!Q115","v":""},null,null,"",null,"","","","","","",0,"",null,"",{"$f":"'Analysis 103L'!$Y$232*(T94/('Analysis 103L'!$Y$230+'Analysis 103L'!$Y$231))","v":{"$error":"#VALUE!"}},null,null,{"$f":"IF(R94=\"\",\"\",R94*'Analysis 103L'!$D$23)","v":""},null,null,null,null,{"$error":"#VALUE!"},{"$f":"IF(AND(V94=\"\",AL94=\"Custom\"),MIN(L94*Incent_Cost_Controls_Cust,R94/K94*0.35),IF(AI94=\"LLLC\",MIN(AJ94,((L94+'Analysis 103L'!R115)*Incent_Cost_LLLC)-'Analysis 103L'!X115),IF(AE94>=VLOOKUP(I94,Incent_Controls,3,FALSE),MIN(L94,VLOOKUP(I94,Incent_Controls,2,FALSE)),\"\")))","v":{"$error":"#VALUE!"}},"",null,"","",null,"","PASS/PASS","",{"$error":"#VALUE!"},{"$error":"#VALUE!"},{"$error":"#VALUE!"},"",null,10,{"$f":"VLOOKUP('Analysis 103L'!BE115, avoided_costs, ROUND($AT94, 0)+2, FALSE)","v":{"$error":"#N/A"}},{"$error":"#N/A"},{"$error":"#VALUE!"},{"$error":"#N/A"},{"$error":"#N/A"},{"$error":"#VALUE!"},{"$error":"#N/A"},{"$error":"#N/A"},{"$error":"#N/A"},null,null,null,null,null,null,null,null,null,null,null,null,null,null,null,{"$f":"'Analysis 103L'!CF115","v":""},"","","","","",""]
[89,{"$f":"'Analysis 103L'!C116","v":0},null,{"$f":"'Analysis 103L'!I116","v":""},{"$f":"'Analysis 103L'!J116","v":""},{"$f":"'Analysis 103L'!P116","v":0},{"$f":"'Analysis 103L'!N116","v":""},{"$f":"'Analysis 103L'!Q116","v":""},null,null,"",null,"","","","","","",0,"",null,"",{"$f":"'Analysis 103L'!$Y$232*(T95/('Analysis 103L'!$Y$230+'Analysis 103L'!$Y$231))","v":{"$error":"#VALUE!"}},null,null,{"$f":"IF(R95=\"\",\"\",R95*'Analysis 103L'!$D$23)","v":""},null,null,null,null,{"$error":"#VALUE!"},{"$f":"IF(AND(V95=\"\",AL95=\"Custom\"),MIN(L95*Incent_Cost_Controls_Cust,R95/K95*0.35),IF(AI95=\"LLLC\",MIN(AJ95,((L95+'Analysis 103L'!R116)*Incent_Cost_LLLC)-'Analysis 103L'!X116),IF(AE95>=VLOOKUP(I95,Incent_Controls,3,FALSE),MIN(L95,VLOOKUP(I95,Incent_Controls,2,FALSE)),\"\")))","v":{"$error":"#VALUE!"}},"",null,"","",null,"","PASS/PASS","",{"$error":"#VALUE!"},{"$error":"#VALUE!"},{"$error":"#VALUE!"},"",null,10,{"$f":"VLOOKUP('Analysis 103L'!BE116, avoided_costs, ROUND($AT95, 0)+2, FALSE)","v":{"$error":"#N/A"}},{"$error":"#N/A"},{"$error":"#VALUE!"},{"$error":"#N/A"},{"$error":"#N/A"},{"$error":"#VALUE!"},{"$error":"#N/A"},{"$error":"#N/A"},{"$error":"#N/A"},null,null,null,null,null,null,null,null,null,null,null,null,null,null,null,{"$f":"'Analysis 103L'!CF116","v":""},"","","","","",""]
[90,{"$f":"'Analysis 103L'!C117","v":0},null,{"$f":"'Analysis 103L'!I117","v":""},{"$f":"'Analysis 103L'!J117","v":""},{"$f":"'Analysis 103L'!P117","v":0},{"$f":"'Analysis 103L'!N117","v":""},{"$f":"'Analysis 103L'!Q117","v":""},null,null,"",null,"","","","","","",0,"",null,"",{"$f":"'Analysis 103L'!$Y$232*(T96/('Analysis 103L'!$Y$230+'Analysis 103L'!$Y$231))","v":{"$error":"#VALUE!"}},null,null,{"$f":"IF(R96=\"\",\"\",R96*'Analysis 103L'!$D$23)","v":""},null,null,null,null,{"$error":"#VALUE!"},{"$f":"IF(AND(V96=\"\",AL96=\"Custom\"),MIN(L96*Incent_Cost_Controls_Cust,R96/K96*0.35),IF(AI96=\"LLLC\",MIN(AJ96,((L96+'Analysis 103L'!R117)*Incent_Cost_LLLC)-'Analysis 103L'!X117),IF(AE96>=VLOOKUP(I96,Incent_Controls,3,FALSE),MIN(L96,VLOOKUP(I96,Incent_Controls,2,FALSE)),\"\")))","v":{"$error":"#VALUE!"}},"",null,"","",null,"","PASS/PASS","",{"$error":"#VALUE!"},{"$error":"#VALUE!"},{"$error":"#VALUE!"},"",null,10,{"$f":"VLOOKUP('Analysis 103L'!BE117, avoided_costs, ROUND($AT96, 0)+2, FALSE)","v":{"$error":"#N/A"}},{"$error":"#N/A"},{"$error":"#VALUE!"},{"$error":"#N/A"},{"$error":"#N/A"},{"$error":"#VALUE!"},{"$error":"#N/A"},{"$error":"#N/A"},{"$error":"#N/A"},null,null,null,null,null,null,null,null,null,null,null,null,null,null,null,{"$f":"'Analysis 103L'!CF117","v":""},"","","","","",""]
[91,{"$f":"'Analysis 103L'!C118","v":0},null,{"$f":"'Analysis 103L'!I118","v":""},{"$f":"'Analysis 103L'!J118","v":""},{"$f":"'Analysis 103L'!P118","v":0},{"$f":"'Analysis 103L'!N118","v":""},{"$f":"'Analysis 103L'!Q118","v":""},null,null,"",null,"","","","","","",0,"",null,"",{"$f":"'Analysis 103L'!$Y$232*(T97/('Analysis 103L'!$Y$230+'Analysis 103L'!$Y$231))","v":{"$error":"#VALUE!"}},null,null,{"$f":"IF(R97=\"\",\"\",R97*'Analysis 103L'!$D$23)","v":""},null,null,null,null,{"$error":"#VALUE!"},{"$f":"IF(AND(V97=\"\",AL97=\"Custom\"),MIN(L97*Incent_Cost_Controls_Cust,R97/K97*0.35),IF(AI97=\"LLLC\",MIN(AJ97,((L97+'Analysis 103L'!R118)*Incent_Cost_LLLC)-'Analysis 103L'!X118),IF(AE97>=VLOOKUP(I97,Incent_Controls,3,FALSE),MIN(L97,VLOOKUP(I97,Incent_Controls,2,FALSE)),\"\")))","v":{"$error":"#VALUE!"}},"",null,"","",null,"","PASS/PASS","",{"$error":"#VALUE!"},{"$error":"#VALUE!"},{"$error":"#VALUE!"},"",null,10,{"$f":"VLOOKUP('Analysis 103L'!BE118, avoided_costs, ROUND($AT97, 0)+2, FALSE)","v":{"$error":"#N/A"}},{"$error":"#N/A"},{"$error":"#VALUE!"},{"$error":"#N/A"},{"$error":"#N/A"},{"$error":"#VALUE!"},{"$error":"#N/A"},{"$error":"#N/A"},{"$error":"#N/A"},null,null,null,null,null,null,null,null,null,null,null,null,null,null,null,{"$f":"'Analysis 103L'!CF118","v":""},"","","","","",""]
[92,{"$f":"'Analysis 103L'!C119","v":0},null,{"$f":"'Analysis 103L'!I119","v":""},{"$f":"'Analysis 103L'!J119","v":""},{"$f":"'Analysis 103L'!P119","v":0},{"$f":"'Analysis 103L'!N119","v":""},{"$f":"'Analysis 103L'!Q119","v":""},null,null,"",null,"","","","","","",0,"",null,"",{"$f":"'Analysis 103L'!$Y$232*(T98/('Analysis 103L'!$Y$230+'Analysis 103L'!$Y$231))","v":{"$error":"#VALUE!"}},null,null,{"$f":"IF(R98=\"\",\"\",R98*'Analysis 103L'!$D$23)","v":""},null,null,null,null,{"$error":"#VALUE!"},{"$f":"IF(AND(V98=\"\",AL98=\"Custom\"),MIN(L98*Incent_Cost_Controls_Cust,R98/K98*0.35),IF(AI98=\"LLLC\",MIN(AJ98,((L98+'Analysis 103L'!R119)*Incent_Cost_LLLC)-'Analysis 103L'!X119),IF(AE98>=VLOOKUP(I98,Incent_Controls,3,FALSE),MIN(L98,VLOOKUP(I98,Incent_Controls,2,FALSE)),\"\")))","v":{"$error":"#VALUE!"}},"",null,"","",null,"","PASS/PASS","",{"$error":"#VALUE!"},{"$error":"#VALUE!"},{"$error":"#VALUE!"},"",null,10,{"$f":"VLOOKUP('Analysis 103L'!BE119, avoided_costs, ROUND($AT98, 0)+2, FALSE)","v":{"$error":"#N/A"}},{"$error":"#N/A"},{"$error":"#VALUE!"},{"$error":"#N/A"},{"$error":"#N/A"},{"$error":"#VALUE!"},{"$error":"#N/A"},{"$error":"#N/A"},{"$error":"#N/A"},null,null,null,null,null,null,null,null,null,null,null,null,null,null,null,{"$f":"'Analysis 103L'!CF119","v":""},"","","","","",""]
[93,{"$f":"'Analysis 103L'!C120","v":0},null,{"$f":"'Analysis 103L'!I120","v":""},{"$f":"'Analysis 103L'!J120","v":""},{"$f":"'Analysis 103L'!P120","v":0},{"$f":"'Analysis 103L'!N120","v":""},{"$f":"'Analysis 103L'!Q120","v":""},null,null,"",null,"","","","","","",0,"",null,"",{"$f":"'Analysis 103L'!$Y$232*(T99/('Analysis 103L'!$Y$230+'Analysis 103L'!$Y$231))","v":{"$error":"#VALUE!"}},null,null,{"$f":"IF(R99=\"\",\"\",R99*'Analysis 103L'!$D$23)","v":""},null,null,null,null,{"$error":"#VALUE!"},{"$f":"IF(AND(V99=\"\",AL99=\"Custom\"),MIN(L99*Incent_Cost_Controls_Cust,R99/K99*0.35),IF(AI99=\"LLLC\",MIN(AJ99,((L99+'Analysis 103L'!R120)*Incent_Cost_LLLC)-'Analysis 103L'!X120),IF(AE99>=VLOOKUP(I99,Incent_Controls,3,FALSE),MIN(L99,VLOOKUP(I99,Incent_Controls,2,FALSE)),\"\")))","v":{"$error":"#VALUE!"}},"",null,{"$f":"IF(RIGHT(I99,4)=\"LLLC\", \"LLLC\",\"\")","v":""},{"$f":"IF(AI99=\"LLLC\",VLOOKUP(E99,Incent_LLLC,2,FALSE),\"\")","v":""},null,"","PASS/PASS","",{"$error":"#VALUE!"},{"$error":"#VALUE!"},{"$error":"#VALUE!"},"",null,10,{"$f":"VLOOKUP('Analysis 103L'!BE120, avoided_costs, ROUND($AT99, 0)+2, FALSE)","v":{"$error":"#N/A"}},{"$error":"#N/A"},{"$error":"#VALUE!"},{"$error":"#N/A"},{"$error":"#N/A"},{"$error":"#VALUE!"},{"$error":"#N/A"},{"$error":"#N/A"},{"$error":"#N/A"},null,null,null,null,null,null,null,null,null,null,null,null,null,null,null,{"$f":"'Analysis 103L'!CF120","v":""},"","","","","",""]
[94,{"$f":"'Analysis 103L'!C121","v":0},null,{"$f":"'Analysis 103L'!I121","v":""},{"$f":"'Analysis 103L'!J121","v":""},{"$f":"'Analysis 103L'!P121","v":0},{"$f":"'Analysis 103L'!N121","v":""},{"$f":"'Analysis 103L'!Q121","v":""},null,null,"",null,"","","","","","",0,"",null,"",{"$f":"'Analysis 103L'!$Y$232*(T100/('Analysis 103L'!$Y$230+'Analysis 103L'!$Y$231))","v":{"$error":"#VALUE!"}},null,null,{"$f":"IF(R100=\"\",\"\",R100*'Analysis 103L'!$D$23)","v":""},null,null,null,null,{"$error":"#VALUE!"},{"$f":"IF(AND(V100=\"\",AL100=\"Custom\"),MIN(L100*Incent_Cost_Controls_Cust,R100/K100*0.35),IF(AI100=\"LLLC\",MIN(AJ100,((L100+'Analysis 103L'!R121)*Incent_Cost_LLLC)-'Analysis 103L'!X121),IF(AE100>=VLOOKUP(I100,Incent_Controls,3,FALSE),MIN(L100,VLOOKUP(I100,Incent_Controls,2,FALSE)),\"\")))","v":{"$error":"#VALUE!"}},"",null,"","",null,"","PASS/PASS","",{"$error":"#VALUE!"},{"$error":"#VALUE!"},{"$error":"#VALUE!"},"",null,10,{"$f":"VLOOKUP('Analysis 103L'!BE121, avoided_costs, ROUND($AT100, 0)+2, FALSE)","v":{"$error":"#N/A"}},{"$error":"#N/A"},{"$error":"#VALUE!"},{"$error":"#N/A"},{"$error":"#N/A"},{"$error":"#VALUE!"},{"$error":"#N/A"},{"$error":"#N/A"},{"$error":"#N/A"},null,null,null,null,null,null,null,null,null,null,null,null,null,null,null,{"$f":"'Analysis 103L'!CF121","v":""},"","","","","",""]
[95,{"$f":"'Analysis 103L'!C122","v":0},null,{"$f":"'Analysis 103L'!I122","v":""},{"$f":"'Analysis 103L'!J122","v":""},{"$f":"'Analysis 103L'!P122","v":0},{"$f":"'Analysis 103L'!N122","v":""},{"$f":"'Analysis 103L'!Q122","v":""},null,null,"",null,"","","","","","",0,"",null,"",{"$f":"'Analysis 103L'!$Y$232*(T101/('Analysis 103L'!$Y$230+'Analysis 103L'!$Y$231))","v":{"$error":"#VALUE!"}},null,null,{"$f":"IF(R101=\"\",\"\",R101*'Analysis 103L'!$D$23)","v":""},null,null,null,null,{"$error":"#VALUE!"},{"$f":"IF(AND(V101=\"\",AL101=\"Custom\"),MIN(L101*Incent_Cost_Controls_Cust,R101/K101*0.35),IF(AI101=\"LLLC\",MIN(AJ101,((L101+'Analysis 103L'!R122)*Incent_Cost_LLLC)-'Analysis 103L'!X122),IF(AE101>=VLOOKUP(I101,Incent_Controls,3,FALSE),MIN(L101,VLOOKUP(I101,Incent_Controls,2,FALSE)),\"\")))","v":{"$error":"#VALUE!"}},"",null,"","",null,"","PASS/PASS","",{"$error":"#VALUE!"},{"$error":"#VALUE!"},{"$error":"#VALUE!"},"",null,10,{"$f":"VLOOKUP('Analysis 103L'!BE122, avoided_costs, ROUND($AT101, 0)+2, FALSE)","v":{"$error":"#N/A"}},{"$error":"#N/A"},{"$error":"#VALUE!"},{"$error":"#N/A"},{"$error":"#N/A"},{"$error":"#VALUE!"},{"$error":"#N/A"},{"$error":"#N/A"},{"$error":"#N/A"},null,null,null,null,null,null,null,null,null,null,null,null,null,null,null,{"$f":"'Analysis 103L'!CF122","v":""},"","","","","",""]
[96,{"$f":"'Analysis 103L'!C123","v":0},null,{"$f":"'Analysis 103L'!I123","v":""},{"$f":"'Analysis 103L'!J123","v":""},{"$f":"'Analysis 103L'!P123","v":0},{"$f":"'Analysis 103L'!N123","v":""},{"$f":"'Analysis 103L'!Q123","v":""},null,null,"",null,"","","","","","",0,"",null,"",{"$f":"'Analysis 103L'!$Y$232*(T102/('Analysis 103L'!$Y$230+'Analysis 103L'!$Y$231))","v":{"$error":"#VALUE!"}},null,null,{"$f":"IF(R102=\"\",\"\",R102*'Analysis 103L'!$D$23)","v":""},null,null,null,null,{"$error":"#VALUE!"},{"$f":"IF(AND(V102=\"\",AL102=\"Custom\"),MIN(L102*Incent_Cost_Controls_Cust,R102/K102*0.35),IF(AI102=\"LLLC\",MIN(AJ102,((L102+'Analysis 103L'!R123)*Incent_Cost_LLLC)-'Analysis 103L'!X123),IF(AE102>=VLOOKUP(I102,Incent_Controls,3,FALSE),MIN(L102,VLOOKUP(I102,Incent_Controls,2,FALSE)),\"\")))","v":{"$error":"#VALUE!"}},"",null,"","",null,"","PASS/PASS","",{"$error":"#VALUE!"},{"$error":"#VALUE!"},{"$error":"#VALUE!"},"",null,10,{"$f":"VLOOKUP('Analysis 103L'!BE123, avoided_costs, ROUND($AT102, 0)+2, FALSE)","v":{"$error":"#N/A"}},{"$error":"#N/A"},{"$error":"#VALUE!"},{"$error":"#N/A"},{"$error":"#N/A"},{"$error":"#VALUE!"},{"$error":"#N/A"},{"$error":"#N/A"},{"$error":"#N/A"},null,null,null,null,null,null,null,null,null,null,null,null,null,null,null,{"$f":"'Analysis 103L'!CF123","v":""},"","","","","",""]
[97,{"$f":"'Analysis 103L'!C124","v":0},null,{"$f":"'Analysis 103L'!I124","v":""},{"$f":"'Analysis 103L'!J124","v":""},{"$f":"'Analysis 103L'!P124","v":0},{"$f":"'Analysis 103L'!N124","v":""},{"$f":"'Analysis 103L'!Q124","v":""},null,null,"",null,"","",{"$f":"IF(RIGHT(D103, 4)=\"Case\", \"\",IF(K103=\"\",\"\",IF(AI103=\"LLLC\", VLOOKUP(C103,Space_Type_CSFs, 9, FALSE), VLOOKUP(C103,Space_Type_CSFs, 6, FALSE))))","v":""},"","","",0,"",null,"",{"$f":"'Analysis 103L'!$Y$232*(T103/('Analysis 103L'!$Y$230+'Analysis 103L'!$Y$231))","v":{"$error":"#VALUE!"}},null,null,{"$f":"IF(R103=\"\",\"\",R103*'Analysis 103L'!$D$23)","v":""},null,null,null,null,{"$error":"#VALUE!"},{"$f":"IF(AND(V103=\"\",AL103=\"Custom\"),MIN(L103*Incent_Cost_Controls_Cust,R103/K103*0.35),IF(AI103=\"LLLC\",MIN(AJ103,((L103+'Analysis 103L'!R124)*Incent_Cost_LLLC)-'Analysis 103L'!X124),IF(AE103>=VLOOKUP(I103,Incent_Controls,3,FALSE),MIN(L103,VLOOKUP(I103,Incent_Controls,2,FALSE)),\"\")))","v":{"$error":"#VALUE!"}},"",null,"","",null,"","PASS/PASS",{"$f":"IF(AM103=\"PASS/PASS\",M103,\"0\")","v":""},{"$f":"F103*G103*H103/1000","v":{"$error":"#VALUE!"}},{"$f":"AO103*(1-O103)","v":{"$error":"#VALUE!"}},{"$error":"#VALUE!"},{"$f":"IF(AL103=\"Custom\",0.35*M103,T103)","v":""},null,10,{"$f":"VLOOKUP('Analysis 103L'!BE124, avoided_costs, ROUND($AT103, 0)+2, FALSE)","v":{"$error":"#N/A"}},{"$error":"#N/A"},{"$f":"0.5*M103/AQ103","v":{"$error":"#VALUE!"}},{"$error":"#N/A"},{"$error":"#N/A"},{"$f":"M103/AQ103","v":{"$error":"#VALUE!"}},{"$error":"#N/A"},{"$error":"#N/A"},{"$error":"#N/A"},null,null,null,null,null,null,null,null,null,null,null,null,null,null,null,{"$f":"'Analysis 103L'!CF124","v":""},"","",{"$f":"IF(BT103=\"\", \"\", INDEX($BQ$32:$BQ$33, MATCH($BT103, $BN$32:$BN$33, 0))*$BU103)","v":""},"","",""]
[98,{"$f":"'Analysis 103L'!C125","v":0},null,{"$f":"'Analysis 103L'!I125","v":""},{"$f":"'Analysis 103L'!J125","v":""},{"$f":"'Analysis 103L'!P125","v":0},{"$f":"'Analysis 103L'!N125","v":""},{"$f":"'Analysis 103L'!Q125","v":""},null,null,"",null,"","","","","","",0,"",null,"",{"$f":"'Analysis 103L'!$Y$232*(T104/('Analysis 103L'!$Y$230+'Analysis 103L'!$Y$231))","v":{"$error":"#VALUE!"}},null,null,{"$f":"IF(R104=\"\",\"\",R104*'Analysis 103L'!$D$23)","v":""},null,null,null,null,{"$error":"#VALUE!"},{"$f":"IF(AND(V104=\"\",AL104=\"Custom\"),MIN(L104*Incent_Cost_Controls_Cust,R104/K104*0.35),IF(AI104=\"LLLC\",MIN(AJ104,((L104+'Analysis 103L'!R125)*Incent_Cost_LLLC)-'Analysis 103L'!X125),IF(AE104>=VLOOKUP(I104,Incent_Controls,3,FALSE),MIN(L104,VLOOKUP(I104,Incent_Controls,2,FALSE)),\"\")))","v":{"$error":"#VALUE!"}},"",null,"","",null,"","PASS/PASS","",{"$error":"#VALUE!"},{"$error":"#VALUE!"},{"$error":"#VALUE!"},"",null,10,{"$f":"VLOOKUP('Analysis 103L'!BE125, avoided_costs, ROUND($AT104, 0)+2, FALSE)","v":{"$error":"#N/A"}},{"$error":"#N/A"},{"$error":"#VALUE!"},{"$error":"#N/A"},{"$error":"#N/A"},{"$error":"#VALUE!"},{"$error":"#N/A"},{"$error":"#N/A"},{"$error":"#N/A"},null,null,null,null,null,null,null,null,null,null,null,null,null,null,null,{"$f":"'Analysis 103L'!CF125","v":""},"","","","","",""]
[99,{"$f":"'Analysis 103L'!C126","v":0},null,{"$f":"'Analysis 103L'!I126","v":""},{"$f":"'Analysis 103L'!J126","v":""},{"$f":"'Analysis 103L'!P126","v":0},{"$f":"'Analysis 103L'!N126","v":""},{"$f":"'Analysis 103L'!Q126","v":""},null,null,"",null,"","","","","","",0,"",null,"",{"$f":"'Analysis 103L'!$Y$232*(T105/('Analysis 103L'!$Y$230+'Analysis 103L'!$Y$231))","v":{"$error":"#VALUE!"}},null,null,{"$f":"IF(R105=\"\",\"\",R105*'Analysis 103L'!$D$23)","v":""},null,null,null,null,{"$error":"#VALUE!"},{"$f":"IF(AND(V105=\"\",AL105=\"Custom\"),MIN(L105*Incent_Cost_Controls_Cust,R105/K105*0.35),IF(AI105=\"LLLC\",MIN(AJ105,((L105+'Analysis 103L'!R126)*Incent_Cost_LLLC)-'Analysis 103L'!X126),IF(AE105>=VLOOKUP(I105,Incent_Controls,3,FALSE),MIN(L105,VLOOKUP(I105,Incent_Controls,2,FALSE)),\"\")))","v":{"$error":"#VALUE!"}},"",null,"","",null,"","PASS/PASS","",{"$error":"#VALUE!"},{"$error":"#VALUE!"},{"$error":"#VALUE!"},"",null,10,{"$f":"VLOOKUP('Analysis 103L'!BE126, avoided_costs, ROUND($AT105, 0)+2, FALSE)","v":{"$error":"#N/A"}},{"$error":"#N/A"},{"$error":"#VALUE!"},{"$error":"#N/A"},{"$error":"#N/A"},{"$error":"#VALUE!"},{"$error":"#N/A"},{"$error":"#N/A"},{"$error":"#N/A"},null,null,null,null,null,null,null,null,null,null,null,null,null,null,null,{"$f":"'Analysis 103L'!CF126","v":""},"","","","","",""]
[100,{"$f":"'Analysis 103L'!C127","v":0},null,{"$f":"'Analysis 103L'!I127","v":""},{"$f":"'Analysis 103L'!J127","v":""},{"$f":"'Analysis 103L'!P127","v":0},{"$f":"'Analysis 103L'!N127","v":""},{"$f":"'Analysis 103L'!Q127","v":""},null,null,"",null,"","","","","","",0,"",null,"",{"$f":"'Analysis 103L'!$Y$232*(T106/('Analysis 103L'!$Y$230+'Analysis 103L'!$Y$231))","v":{"$error":"#VALUE!"}},null,null,{"$f":"IF(R106=\"\",\"\",R106*'Analysis 103L'!$D$23)","v":""},null,null,null,null,{"$error":"#VALUE!"},{"$f":"IF(AND(V106=\"\",AL106=\"Custom\"),MIN(L106*Incent_Cost_Controls_Cust,R106/K106*0.35),IF(AI106=\"LLLC\",MIN(AJ106,((L106+'Analysis 103L'!R127)*Incent_Cost_LLLC)-'Analysis 103L'!X127),IF(AE106>=VLOOKUP(I106,Incent_Controls,3,FALSE),MIN(L106,VLOOKUP(I106,Incent_Controls,2,FALSE)),\"\")))","v":{"$error":"#VALUE!"}},"",null,{"$f":"IF(RIGHT(I106,4)=\"LLLC\", \"LLLC\",\"\")","v":""},{"$f":"IF(AI106=\"LLLC\",VLOOKUP(E106,Incent_LLLC,2,FALSE),\"\")","v":""},null,"","PASS/PASS","",{"$error":"#VALUE!"},{"$error":"#VALUE!"},{"$error":"#VALUE!"},"",null,10,{"$f":"VLOOKUP('Analysis 103L'!BE127, avoided_costs, ROUND($AT106, 0)+2, FALSE)","v":{"$error":"#N/A"}},{"$error":"#N/A"},{"$error":"#VALUE!"},{"$error":"#N/A"},{"$error":"#N/A"},{"$error":"#VALUE!"},{"$error":"#N/A"},{"$error":"#N/A"},{"$error":"#N/A"},null,null,null,null,null,null,null,null,null,null,null,null,null,null,null,{"$f":"'Analysis 103L'!CF127","v":""},"","","","","",""]
[101,{"$f":"'Analysis 103L'!C128","v":0},null,{"$f":"'Analysis 103L'!I128","v":""},{"$f":"'Analysis 103L'!J128","v":""},{"$f":"'Analysis 103L'!P128","v":0},{"$f":"'Analysis 103L'!N128","v":""},{"$f":"'Analysis 103L'!Q128","v":""},null,null,"",null,"","","","","","",0,"",null,"",{"$f":"'Analysis 103L'!$Y$232*(T107/('Analysis 103L'!$Y$230+'Analysis 103L'!$Y$231))","v":{"$error":"#VALUE!"}},null,null,{"$f":"IF(R107=\"\",\"\",R107*'Analysis 103L'!$D$23)","v":""},null,null,null,null,{"$error":"#VALUE!"},{"$f":"IF(AND(V107=\"\",AL107=\"Custom\"),MIN(L107*Incent_Cost_Controls_Cust,R107/K107*0.35),IF(AI107=\"LLLC\",MIN(AJ107,((L107+'Analysis 103L'!R128)*Incent_Cost_LLLC)-'Analysis 103L'!X128),IF(AE107>=VLOOKUP(I107,Incent_Controls,3,FALSE),MIN(L107,VLOOKUP(I107,Incent_Controls,2,FALSE)),\"\")))","v":{"$error":"#VALUE!"}},"",null,"","",null,"","PASS/PASS","",{"$error":"#VALUE!"},{"$error":"#VALUE!"},{"$error":"#VALUE!"},"",null,10,{"$f":"VLOOKUP('Analysis 103L'!BE128, avoided_costs, ROUND($AT107, 0)+2, FALSE)","v":{"$error":"#N/A"}},{"$error":"#N/A"},{"$error":"#VALUE!"},{"$error":"#N/A"},{"$error":"#N/A"},{"$error":"#VALUE!"},{"$error":"#N/A"},{"$error":"#N/A"},{"$error":"#N/A"},null,null,null,null,null,null,null,null,null,null,null,null,null,null,null,{"$f":"'Analysis 103L'!CF128","v":""},"","","","","",""]
[102,{"$f":"'Analysis 103L'!C129","v":0},null,{"$f":"'Analysis 103L'!I129","v":""},{"$f":"'Analysis 103L'!J129","v":""},{"$f":"'Analysis 103L'!P129","v":0},{"$f":"'Analysis 103L'!N129","v":""},{"$f":"'Analysis 103L'!Q129","v":""},null,null,"",null,"","","","","","",0,"",null,"",{"$f":"'Analysis 103L'!$Y$232*(T108/('Analysis 103L'!$Y$230+'Analysis 103L'!$Y$231))","v":{"$error":"#VALUE!"}},null,null,{"$f":"IF(R108=\"\",\"\",R108*'Analysis 103L'!$D$23)","v":""},null,null,null,null,{"$error":"#VALUE!"},{"$f":"IF(AND(V108=\"\",AL108=\"Custom\"),MIN(L108*Incent_Cost_Controls_Cust,R108/K108*0.35),IF(AI108=\"LLLC\",MIN(AJ108,((L108+'Analysis 103L'!R129)*Incent_Cost_LLLC)-'Analysis 103L'!X129),IF(AE108>=VLOOKUP(I108,Incent_Controls,3,FALSE),MIN(L108,VLOOKUP(I108,Incent_Controls,2,FALSE)),\"\")))","v":{"$error":"#VALUE!"}},"",null,"","",null,"","PASS/PASS","",{"$error":"#VALUE!"},{"$error":"#VALUE!"},{"$error":"#VALUE!"},"",null,10,{"$f":"VLOOKUP('Analysis 103L'!BE129, avoided_costs, ROUND($AT108, 0)+2, FALSE)","v":{"$error":"#N/A"}},{"$error":"#N/A"},{"$error":"#VALUE!"},{"$error":"#N/A"},{"$error":"#N/A"},{"$error":"#VALUE!"},{"$error":"#N/A"},{"$error":"#N/A"},{"$error":"#N/A"},null,null,null,null,null,null,null,null,null,null,null,null,null,null,null,{"$f":"'Analysis 103L'!CF129","v":""},"","","","","",""]
[103,{"$f":"'Analysis 103L'!C130","v":0},null,{"$f":"'Analysis 103L'!I130","v":""},{"$f":"'Analysis 103L'!J130","v":""},{"$f":"'Analysis 103L'!P130","v":0},{"$f":"'Analysis 103L'!N130","v":""},{"$f":"'Analysis 103L'!Q130","v":""},null,null,"",null,"","","","","","",0,"",null,"",{"$f":"'Analysis 103L'!$Y$232*(T109/('Analysis 103L'!$Y$230+'Analysis 103L'!$Y$231))","v":{"$error":"#VALUE!"}},null,null,{"$f":"IF(R109=\"\",\"\",R109*'Analysis 103L'!$D$23)","v":""},null,null,null,null,{"$error":"#VALUE!"},{"$f":"IF(AND(V109=\"\",AL109=\"Custom\"),MIN(L109*Incent_Cost_Controls_Cust,R109/K109*0.35),IF(AI109=\"LLLC\",MIN(AJ109,((L109+'Analysis 103L'!R130)*Incent_Cost_LLLC)-'Analysis 103L'!X130),IF(AE109>=VLOOKUP(I109,Incent_Controls,3,FALSE),MIN(L109,VLOOKUP(I109,Incent_Controls,2,FALSE)),\"\")))","v":{"$error":"#VALUE!"}},"",null,"","",null,"","PASS/PASS","",{"$error":"#VALUE!"},{"$error":"#VALUE!"},{"$error":"#VALUE!"},"",null,10,{"$f":"VLOOKUP('Analysis 103L'!BE130, avoided_costs, ROUND($AT109, 0)+2, FALSE)","v":{"$error":"#N/A"}},{"$error":"#N/A"},{"$error":"#VALUE!"},{"$error":"#N/A"},{"$error":"#N/A"},{"$error":"#VALUE!"},{"$error":"#N/A"},{"$error":"#N/A"},{"$error":"#N/A"},null,null,null,null,null,null,null,null,null,null,null,null,null,null,null,{"$f":"'Analysis 103L'!CF130","v":""},"","","","","",""]
[104,{"$f":"'Analysis 103L'!C131","v":0},null,{"$f":"'Analysis 103L'!I131","v":""},{"$f":"'Analysis 103L'!J131","v":""},{"$f":"'Analysis 103L'!P131","v":0},{"$f":"'Analysis 103L'!N131","v":""},{"$f":"'Analysis 103L'!Q131","v":""},null,null,"",null,"","","","","","",0,"",null,"",{"$f":"'Analysis 103L'!$Y$232*(T110/('Analysis 103L'!$Y$230+'Analysis 103L'!$Y$231))","v":{"$error":"#VALUE!"}},null,null,{"$f":"IF(R110=\"\",\"\",R110*'Analysis 103L'!$D$23)","v":""},null,null,null,null,{"$error":"#VALUE!"},{"$f":"IF(AND(V110=\"\",AL110=\"Custom\"),MIN(L110*Incent_Cost_Controls_Cust,R110/K110*0.35),IF(AI110=\"LLLC\",MIN(AJ110,((L110+'Analysis 103L'!R131)*Incent_Cost_LLLC)-'Analysis 103L'!X131),IF(AE110>=VLOOKUP(I110,Incent_Controls,3,FALSE),MIN(L110,VLOOKUP(I110,Incent_Controls,2,FALSE)),\"\")))","v":{"$error":"#VALUE!"}},"",null,"","",null,"","PASS/PASS","",{"$error":"#VALUE!"},{"$error":"#VALUE!"},{"$error":"#VALUE!"},"",null,10,{"$f":"VLOOKUP('Analysis 103L'!BE131, avoided_costs, ROUND($AT110, 0)+2, FALSE)","v":{"$error":"#N/A"}},{"$error":"#N/A"},{"$error":"#VALUE!"},{"$error":"#N/A"},{"$error":"#N/A"},{"$error":"#VALUE!"},{"$error":"#N/A"},{"$error":"#N/A"},{"$error":"#N/A"},null,null,null,null,null,null,null,null,null,null,null,null,null,null,null,{"$f":"'Analysis 103L'!CF131","v":""},"","","","","",""]
[105,{"$f":"'Analysis 103L'!C132","v":0},null,{"$f":"'Analysis 103L'!I132","v":""},{"$f":"'Analysis 103L'!J132","v":""},{"$f":"'Analysis 103L'!P132","v":0},{"$f":"'Analysis 103L'!N132","v":""},{"$f":"'Analysis 103L'!Q132","v":""},null,null,"",null,"","","","","","",0,"",null,"",{"$f":"'Analysis 103L'!$Y$232*(T111/('Analysis 103L'!$Y$230+'Analysis 103L'!$Y$231))","v":{"$error":"#VALUE!"}},null,null,{"$f":"IF(R111=\"\",\"\",R111*'Analysis 103L'!$D$23)","v":""},null,null,null,null,{"$error":"#VALUE!"},{"$f":"IF(AND(V111=\"\",AL111=\"Custom\"),MIN(L111*Incent_Cost_Controls_Cust,R111/K111*0.35),IF(AI111=\"LLLC\",MIN(AJ111,((L111+'Analysis 103L'!R132)*Incent_Cost_LLLC)-'Analysis 103L'!X132),IF(AE111>=VLOOKUP(I111,Incent_Controls,3,FALSE),MIN(L111,VLOOKUP(I111,Incent_Controls,2,FALSE)),\"\")))","v":{"$error":"#VALUE!"}},"",null,"","",null,"","PASS/PASS","",{"$error":"#VALUE!"},{"$error":"#VALUE!"},{"$error":"#VALUE!"},"",null,10,{"$f":"VLOOKUP('Analysis 103L'!BE132, avoided_costs, ROUND($AT111, 0)+2, FALSE)","v":{"$error":"#N/A"}},{"$error":"#N/A"},{"$error":"#VALUE!"},{"$error":"#N/A"},{"$error":"#N/A"},{"$error":"#VALUE!"},{"$error":"#N/A"},{"$error":"#N/A"},{"$error":"#N/A"},null,null,null,null,null,null,null,null,null,null,null,null,null,null,null,{"$f":"'Analysis 103L'!CF132","v":""},"","","","","",""]
[106,{"$f":"'Analysis 103L'!C133","v":0},null,{"$f":"'Analysis 103L'!I133","v":""},{"$f":"'Analysis 103L'!J133","v":""},{"$f":"'Analysis 103L'!P133","v":0},{"$f":"'Analysis 103L'!N133","v":""},{"$f":"'Analysis 103L'!Q133","v":""},null,null,"",null,"","","","","","",0,"",null,"",{"$f":"'Analysis 103L'!$Y$232*(T112/('Analysis 103L'!$Y$230+'Analysis 103L'!$Y$231))","v":{"$error":"#VALUE!"}},null,null,{"$f":"IF(R112=\"\",\"\",R112*'Analysis 103L'!$D$23)","v":""},null,null,null,null,{"$error":"#VALUE!"},{"$f":"IF(AND(V112=\"\",AL112=\"Custom\"),MIN(L112*Incent_Cost_Controls_Cust,R112/K112*0.35),IF(AI112=\"LLLC\",MIN(AJ112,((L112+'Analysis 103L'!R133)*Incent_Cost_LLLC)-'Analysis 103L'!X133),IF(AE112>=VLOOKUP(I112,Incent_Controls,3,FALSE),MIN(L112,VLOOKUP(I112,Incent_Controls,2,FALSE)),\"\")))","v":{"$error":"#VALUE!"}},"",null,"","",null,"","PASS/PASS","",{"$error":"#VALUE!"},{"$error":"#VALUE!"},{"$error":"#VALUE!"},"",null,10,{"$f":"VLOOKUP('Analysis 103L'!BE133, avoided_costs, ROUND($AT112, 0)+2, FALSE)","v":{"$error":"#N/A"}},{"$error":"#N/A"},{"$error":"#VALUE!"},{"$error":"#N/A"},{"$error":"#N/A"},{"$error":"#VALUE!"},{"$error":"#N/A"},{"$error":"#N/A"},{"$error":"#N/A"},null,null,null,null,null,null,null,null,null,null,null,null,null,null,null,{"$f":"'Analysis 103L'!CF133","v":""},"","","","","",""]
[107,{"$f":"'Analysis 103L'!C134","v":0},null,{"$f":"'Analysis 103L'!I134","v":""},{"$f":"'Analysis 103L'!J134","v":""},{"$f":"'Analysis 103L'!P134","v":0},{"$f":"'Analysis 103L'!N134","v":""},{"$f":"'Analysis 103L'!Q134","v":""},null,null,"",null,"","","","","","",0,"",null,"",{"$f":"'Analysis 103L'!$Y$232*(T113/('Analysis 103L'!$Y$230+'Analysis 103L'!$Y$231))","v":{"$error":"#VALUE!"}},null,null,{"$f":"IF(R113=\"\",\"\",R113*'Analysis 103L'!$D$23)","v":""},null,null,null,null,{"$error":"#VALUE!"},{"$f":"IF(AND(V113=\"\",AL113=\"Custom\"),MIN(L113*Incent_Cost_Controls_Cust,R113/K113*0.35),IF(AI113=\"LLLC\",MIN(AJ113,((L113+'Analysis 103L'!R134)*Incent_Cost_LLLC)-'Analysis 103L'!X134),IF(AE113>=VLOOKUP(I113,Incent_Controls,3,FALSE),MIN(L113,VLOOKUP(I113,Incent_Controls,2,FALSE)),\"\")))","v":{"$error":"#VALUE!"}},"",null,"","",null,"","PASS/PASS","",{"$error":"#VALUE!"},{"$error":"#VALUE!"},{"$error":"#VALUE!"},"",null,10,{"$f":"VLOOKUP('Analysis 103L'!BE134, avoided_costs, ROUND($AT113, 0)+2, FALSE)","v":{"$error":"#N/A"}},{"$error":"#N/A"},{"$error":"#VALUE!"},{"$error":"#N/A"},{"$error":"#N/A"},{"$error":"#VALUE!"},{"$error":"#N/A"},{"$error":"#N/A"},{"$error":"#N/A"},null,null,null,null,null,null,null,null,null,null,null,null,null,null,null,{"$f":"'Analysis 103L'!CF134","v":""},"","","","","",""]
[108,{"$f":"'Analysis 103L'!C135","v":0},null,{"$f":"'Analysis 103L'!I135","v":""},{"$f":"'Analysis 103L'!J135","v":""},{"$f":"'Analysis 103L'!P135","v":0},{"$f":"'Analysis 103L'!N135","v":""},{"$f":"'Analysis 103L'!Q135","v":""},null,null,"",null,"","","","","","",0,"",null,"",{"$f":"'Analysis 103L'!$Y$232*(T114/('Analysis 103L'!$Y$230+'Analysis 103L'!$Y$231))","v":{"$error":"#VALUE!"}},null,null,{"$f":"IF(R114=\"\",\"\",R114*'Analysis 103L'!$D$23)","v":""},null,null,null,null,{"$error":"#VALUE!"},{"$f":"IF(AND(V114=\"\",AL114=\"Custom\"),MIN(L114*Incent_Cost_Controls_Cust,R114/K114*0.35),IF(AI114=\"LLLC\",MIN(AJ114,((L114+'Analysis 103L'!R135)*Incent_Cost_LLLC)-'Analysis 103L'!X135),IF(AE114>=VLOOKUP(I114,Incent_Controls,3,FALSE),MIN(L114,VLOOKUP(I114,Incent_Controls,2,FALSE)),\"\")))","v":{"$error":"#VALUE!"}},"",null,"","",null,"","PASS/PASS","",{"$error":"#VALUE!"},{"$error":"#VALUE!"},{"$error":"#VALUE!"},"",null,10,{"$f":"VLOOKUP('Analysis 103L'!BE135, avoided_costs, ROUND($AT114, 0)+2, FALSE)","v":{"$error":"#N/A"}},{"$error":"#N/A"},{"$error":"#VALUE!"},{"$error":"#N/A"},{"$error":"#N/A"},{"$error":"#VALUE!"},{"$error":"#N/A"},{"$error":"#N/A"},{"$error":"#N/A"},null,null,null,null,null,null,null,null,null,null,null,null,null,null,null,{"$f":"'Analysis 103L'!CF135","v":""},"","","","","",""]
[109,{"$f":"'Analysis 103L'!C136","v":0},null,{"$f":"'Analysis 103L'!I136","v":""},{"$f":"'Analysis 103L'!J136","v":""},{"$f":"'Analysis 103L'!P136","v":0},{"$f":"'Analysis 103L'!N136","v":""},{"$f":"'Analysis 103L'!Q136","v":""},null,null,"",null,"","","","","","",0,"",null,"",{"$f":"'Analysis 103L'!$Y$232*(T115/('Analysis 103L'!$Y$230+'Analysis 103L'!$Y$231))","v":{"$error":"#VALUE!"}},null,null,{"$f":"IF(R115=\"\",\"\",R115*'Analysis 103L'!$D$23)","v":""},null,null,null,null,{"$error":"#VALUE!"},{"$f":"IF(AND(V115=\"\",AL115=\"Custom\"),MIN(L115*Incent_Cost_Controls_Cust,R115/K115*0.35),IF(AI115=\"LLLC\",MIN(AJ115,((L115+'Analysis 103L'!R136)*Incent_Cost_LLLC)-'Analysis 103L'!X136),IF(AE115>=VLOOKUP(I115,Incent_Controls,3,FALSE),MIN(L115,VLOOKUP(I115,Incent_Controls,2,FALSE)),\"\")))","v":{"$error":"#VALUE!"}},"",null,{"$f":"IF(RIGHT(I115,4)=\"LLLC\", \"LLLC\",\"\")","v":""},{"$f":"IF(AI115=\"LLLC\",VLOOKUP(E115,Incent_LLLC,2,FALSE),\"\")","v":""},null,"","PASS/PASS","",{"$error":"#VALUE!"},{"$error":"#VALUE!"},{"$error":"#VALUE!"},"",null,10,{"$f":"VLOOKUP('Analysis 103L'!BE136, avoided_costs, ROUND($AT115, 0)+2, FALSE)","v":{"$error":"#N/A"}},{"$error":"#N/A"},{"$error":"#VALUE!"},{"$error":"#N/A"},{"$error":"#N/A"},{"$error":"#VALUE!"},{"$error":"#N/A"},{"$error":"#N/A"},{"$error":"#N/A"},null,null,null,null,null,null,null,null,null,null,null,null,null,null,null,{"$f":"'Analysis 103L'!CF136","v":""},"","","","","",""]
[110,{"$f":"'Analysis 103L'!C137","v":0},null,{"$f":"'Analysis 103L'!I137","v":""},{"$f":"'Analysis 103L'!J137","v":""},{"$f":"'Analysis 103L'!P137","v":0},{"$f":"'Analysis 103L'!N137","v":""},{"$f":"'Analysis 103L'!Q137","v":""},null,null,"",null,"","","","","","",0,"",null,"",{"$f":"'Analysis 103L'!$Y$232*(T116/('Analysis 103L'!$Y$230+'Analysis 103L'!$Y$231))","v":{"$error":"#VALUE!"}},null,null,{"$f":"IF(R116=\"\",\"\",R116*'Analysis 103L'!$D$23)","v":""},null,null,null,null,{"$error":"#VALUE!"},{"$f":"IF(AND(V116=\"\",AL116=\"Custom\"),MIN(L116*Incent_Cost_Controls_Cust,R116/K116*0.35),IF(AI116=\"LLLC\",MIN(AJ116,((L116+'Analysis 103L'!R137)*Incent_Cost_LLLC)-'Analysis 103L'!X137),IF(AE116>=VLOOKUP(I116,Incent_Controls,3,FALSE),MIN(L116,VLOOKUP(I116,Incent_Controls,2,FALSE)),\"\")))","v":{"$error":"#VALUE!"}},"",null,"","",null,"","PASS/PASS","",{"$error":"#VALUE!"},{"$error":"#VALUE!"},{"$error":"#VALUE!"},"",null,10,{"$f":"VLOOKUP('Analysis 103L'!BE137, avoided_costs, ROUND($AT116, 0)+2, FALSE)","v":{"$error":"#N/A"}},{"$error":"#N/A"},{"$error":"#VALUE!"},{"$error":"#N/A"},{"$error":"#N/A"},{"$error":"#VALUE!"},{"$error":"#N/A"},{"$error":"#N/A"},{"$error":"#N/A"},null,null,null,null,null,null,null,null,null,null,null,null,null,null,null,{"$f":"'Analysis 103L'!CF137","v":""},"","","","","",""]
[111,{"$f":"'Analysis 103L'!C138","v":0},null,{"$f":"'Analysis 103L'!I138","v":""},{"$f":"'Analysis 103L'!J138","v":""},{"$f":"'Analysis 103L'!P138","v":0},{"$f":"'Analysis 103L'!N138","v":""},{"$f":"'Analysis 103L'!Q138","v":""},null,null,"",null,"","","","","","",0,"",null,"",{"$f":"'Analysis 103L'!$Y$232*(T117/('Analysis 103L'!$Y$230+'Analysis 103L'!$Y$231))","v":{"$error":"#VALUE!"}},null,null,{"$f":"IF(R117=\"\",\"\",R117*'Analysis 103L'!$D$23)","v":""},null,null,null,null,{"$error":"#VALUE!"},{"$f":"IF(AND(V117=\"\",AL117=\"Custom\"),MIN(L117*Incent_Cost_Controls_Cust,R117/K117*0.35),IF(AI117=\"LLLC\",MIN(AJ117,((L117+'Analysis 103L'!R138)*Incent_Cost_LLLC)-'Analysis 103L'!X138),IF(AE117>=VLOOKUP(I117,Incent_Controls,3,FALSE),MIN(L117,VLOOKUP(I117,Incent_Controls,2,FALSE)),\"\")))","v":{"$error":"#VALUE!"}},"",null,"","",null,"","PASS/PASS","",{"$error":"#VALUE!"},{"$error":"#VALUE!"},{"$error":"#VALUE!"},"",null,10,{"$f":"VLOOKUP('Analysis 103L'!BE138, avoided_costs, ROUND($AT117, 0)+2, FALSE)","v":{"$error":"#N/A"}},{"$error":"#N/A"},{"$error":"#VALUE!"},{"$error":"#N/A"},{"$error":"#N/A"},{"$error":"#VALUE!"},{"$error":"#N/A"},{"$error":"#N/A"},{"$error":"#N/A"},null,null,null,null,null,null,null,null,null,null,null,null,null,null,null,{"$f":"'Analysis 103L'!CF138","v":""},"","","","","",""]
[112,{"$f":"'Analysis 103L'!C139","v":0},null,{"$f":"'Analysis 103L'!I139","v":""},{"$f":"'Analysis 103L'!J139","v":""},{"$f":"'Analysis 103L'!P139","v":0},{"$f":"'Analysis 103L'!N139","v":""},{"$f":"'Analysis 103L'!Q139","v":""},null,null,"",null,"","","","","","",0,"",null,"",{"$f":"'Analysis 103L'!$Y$232*(T118/('Analysis 103L'!$Y$230+'Analysis 103L'!$Y$231))","v":{"$error":"#VALUE!"}},null,null,{"$f":"IF(R118=\"\",\"\",R118*'Analysis 103L'!$D$23)","v":""},null,null,null,null,{"$error":"#VALUE!"},{"$f":"IF(AND(V118=\"\",AL118=\"Custom\"),MIN(L118*Incent_Cost_Controls_Cust,R118/K118*0.35),IF(AI118=\"LLLC\",MIN(AJ118,((L118+'Analysis 103L'!R139)*Incent_Cost_LLLC)-'Analysis 103L'!X139),IF(AE118>=VLOOKUP(I118,Incent_Controls,3,FALSE),MIN(L118,VLOOKUP(I118,Incent_Controls,2,FALSE)),\"\")))","v":{"$error":"#VALUE!"}},"",null,"","",null,"","PASS/PASS","",{"$error":"#VALUE!"},{"$error":"#VALUE!"},{"$error":"#VALUE!"},"",null,10,{"$f":"VLOOKUP('Analysis 103L'!BE139, avoided_costs, ROUND($AT118, 0)+2, FALSE)","v":{"$error":"#N/A"}},{"$error":"#N/A"},{"$error":"#VALUE!"},{"$error":"#N/A"},{"$error":"#N/A"},{"$error":"#VALUE!"},{"$error":"#N/A"},{"$error":"#N/A"},{"$error":"#N/A"},null,null,null,null,null,null,null,null,null,null,null,null,null,null,null,{"$f":"'Analysis 103L'!CF139","v":""},"","","","","",""]
[113,{"$f":"'Analysis 103L'!C140","v":0},null,{"$f":"'Analysis 103L'!I140","v":""},{"$f":"'Analysis 103L'!J140","v":""},{"$f":"'Analysis 103L'!P140","v":0},{"$f":"'Analysis 103L'!N140","v":""},{"$f":"'Analysis 103L'!Q140","v":""},null,null,"",null,"","","","","","",0,"",null,"",{"$f":"'Analysis 103L'!$Y$232*(T119/('Analysis 103L'!$Y$230+'Analysis 103L'!$Y$231))","v":{"$error":"#VALUE!"}},null,null,{"$f":"IF(R119=\"\",\"\",R119*'Analysis 103L'!$D$23)","v":""},null,null,null,null,{"$error":"#VALUE!"},{"$f":"IF(AND(V119=\"\",AL119=\"Custom\"),MIN(L119*Incent_Cost_Controls_Cust,R119/K119*0.35),IF(AI119=\"LLLC\",MIN(AJ119,((L119+'Analysis 103L'!R140)*Incent_Cost_LLLC)-'Analysis 103L'!X140),IF(AE119>=VLOOKUP(I119,Incent_Controls,3,FALSE),MIN(L119,VLOOKUP(I119,Incent_Controls,2,FALSE)),\"\")))","v":{"$error":"#VALUE!"}},"",null,"","",null,"","PASS/PASS","",{"$error":"#VALUE!"},{"$error":"#VALUE!"},{"$error":"#VALUE!"},"",null,10,{"$f":"VLOOKUP('Analysis 103L'!BE140, avoided_costs, ROUND($AT119, 0)+2, FALSE)","v":{"$error":"#N/A"}},{"$error":"#N/A"},{"$error":"#VALUE!"},{"$error":"#N/A"},{"$error":"#N/A"},{"$error":"#VALUE!"},{"$error":"#N/A"},{"$error":"#N/A"},{"$error":"#N/A"},null,null,null,null,null,null,null,null,null,null,null,null,null,null,null,{"$f":"'Analysis 103L'!CF140","v":""},"","","","","",""]
[114,{"$f":"'Analysis 103L'!C141","v":0},null,{"$f":"'Analysis 103L'!I141","v":""},{"$f":"'Analysis 103L'!J141","v":""},{"$f":"'Analysis 103L'!P141","v":0},{"$f":"'Analysis 103L'!N141","v":""},{"$f":"'Analysis 103L'!Q141","v":""},null,null,"",null,"","","","","","",0,"",null,"",{"$f":"'Analysis 103L'!$Y$232*(T120/('Analysis 103L'!$Y$230+'Analysis 103L'!$Y$231))","v":{"$error":"#VALUE!"}},null,null,{"$f":"IF(R120=\"\",\"\",R120*'Analysis 103L'!$D$23)","v":""},null,null,null,null,{"$error":"#VALUE!"},{"$f":"IF(AND(V120=\"\",AL120=\"Custom\"),MIN(L120*Incent_Cost_Controls_Cust,R120/K120*0.35),IF(AI120=\"LLLC\",MIN(AJ120,((L120+'Analysis 103L'!R141)*Incent_Cost_LLLC)-'Analysis 103L'!X141),IF(AE120>=VLOOKUP(I120,Incent_Controls,3,FALSE),MIN(L120,VLOOKUP(I120,Incent_Controls,2,FALSE)),\"\")))","v":{"$error":"#VALUE!"}},"",null,"","",null,"","PASS/PASS","",{"$error":"#VALUE!"},{"$error":"#VALUE!"},{"$error":"#VALUE!"},"",null,10,{"$f":"VLOOKUP('Analysis 103L'!BE141, avoided_costs, ROUND($AT120, 0)+2, FALSE)","v":{"$error":"#N/A"}},{"$error":"#N/A"},{"$error":"#VALUE!"},{"$error":"#N/A"},{"$error":"#N/A"},{"$error":"#VALUE!"},{"$error":"#N/A"},{"$error":"#N/A"},{"$error":"#N/A"},null,null,null,null,null,null,null,null,null,null,null,null,null,null,null,{"$f":"'Analysis 103L'!CF141","v":""},"","","","","",""]
[115,{"$f":"'Analysis 103L'!C142","v":0},null,{"$f":"'Analysis 103L'!I142","v":""},{"$f":"'Analysis 103L'!J142","v":""},{"$f":"'Analysis 103L'!P142","v":0},{"$f":"'Analysis 103L'!N142","v":""},{"$f":"'Analysis 103L'!Q142","v":""},null,null,"",null,"","","","","","",0,"",null,"",{"$f":"'Analysis 103L'!$Y$232*(T121/('Analysis 103L'!$Y$230+'Analysis 103L'!$Y$231))","v":{"$error":"#VALUE!"}},null,null,{"$f":"IF(R121=\"\",\"\",R121*'Analysis 103L'!$D$23)","v":""},null,null,null,null,{"$error":"#VALUE!"},{"$f":"IF(AND(V121=\"\",AL121=\"Custom\"),MIN(L121*Incent_Cost_Controls_Cust,R121/K121*0.35),IF(AI121=\"LLLC\",MIN(AJ121,((L121+'Analysis 103L'!R142)*Incent_Cost_LLLC)-'Analysis 103L'!X142),IF(AE121>=VLOOKUP(I121,Incent_Controls,3,FALSE),MIN(L121,VLOOKUP(I121,Incent_Controls,2,FALSE)),\"\")))","v":{"$error":"#VALUE!"}},"",null,"","",null,"","PASS/PASS","",{"$error":"#VALUE!"},{"$error":"#VALUE!"},{"$error":"#VALUE!"},"",null,10,{"$f":"VLOOKUP('Analysis 103L'!BE142, avoided_costs, ROUND($AT121, 0)+2, FALSE)","v":{"$error":"#N/A"}},{"$error":"#N/A"},{"$error":"#VALUE!"},{"$error":"#N/A"},{"$error":"#N/A"},{"$error":"#VALUE!"},{"$error":"#N/A"},{"$error":"#N/A"},{"$error":"#N/A"},null,null,null,null,null,null,null,null,null,null,null,null,null,null,null,{"$f":"'Analysis 103L'!CF142","v":""},"","","","","",""]
[116,{"$f":"'Analysis 103L'!C143","v":0},null,{"$f":"'Analysis 103L'!I143","v":""},{"$f":"'Analysis 103L'!J143","v":""},{"$f":"'Analysis 103L'!P143","v":0},{"$f":"'Analysis 103L'!N143","v":""},{"$f":"'Analysis 103L'!Q143","v":""},null,null,"",null,"","","","","","",0,"",null,"",{"$f":"'Analysis 103L'!$Y$232*(T122/('Analysis 103L'!$Y$230+'Analysis 103L'!$Y$231))","v":{"$error":"#VALUE!"}},null,null,{"$f":"IF(R122=\"\",\"\",R122*'Analysis 103L'!$D$23)","v":""},null,null,null,null,{"$error":"#VALUE!"},{"$f":"IF(AND(V122=\"\",AL122=\"Custom\"),MIN(L122*Incent_Cost_Controls_Cust,R122/K122*0.35),IF(AI122=\"LLLC\",MIN(AJ122,((L122+'Analysis 103L'!R143)*Incent_Cost_LLLC)-'Analysis 103L'!X143),IF(AE122>=VLOOKUP(I122,Incent_Controls,3,FALSE),MIN(L122,VLOOKUP(I122,Incent_Controls,2,FALSE)),\"\")))","v":{"$error":"#VALUE!"}},"",null,"","",null,"","PASS/PASS","",{"$error":"#VALUE!"},{"$error":"#VALUE!"},{"$error":"#VALUE!"},"",null,10,{"$f":"VLOOKUP('Analysis 103L'!BE143, avoided_costs, ROUND($AT122, 0)+2, FALSE)","v":{"$error":"#N/A"}},{"$error":"#N/A"},{"$error":"#VALUE!"},{"$error":"#N/A"},{"$error":"#N/A"},{"$error":"#VALUE!"},{"$error":"#N/A"},{"$error":"#N/A"},{"$error":"#N/A"},null,null,null,null,null,null,null,null,null,null,null,null,null,null,null,{"$f":"'Analysis 103L'!CF143","v":""},"","","","","",""]
[117,{"$f":"'Analysis 103L'!C144","v":0},null,{"$f":"'Analysis 103L'!I144","v":""},{"$f":"'Analysis 103L'!J144","v":""},{"$f":"'Analysis 103L'!P144","v":0},{"$f":"'Analysis 103L'!N144","v":""},{"$f":"'Analysis 103L'!Q144","v":""},null,null,"",null,"","","","","","",0,"",null,"",{"$f":"'Analysis 103L'!$Y$232*(T123/('Analysis 103L'!$Y$230+'Analysis 103L'!$Y$231))","v":{"$error":"#VALUE!"}},null,null,{"$f":"IF(R123=\"\",\"\",R123*'Analysis 103L'!$D$23)","v":""},null,null,null,null,{"$error":"#VALUE!"},{"$f":"IF(AND(V123=\"\",AL123=\"Custom\"),MIN(L123*Incent_Cost_Controls_Cust,R123/K123*0.35),IF(AI123=\"LLLC\",MIN(AJ123,((L123+'Analysis 103L'!R144)*Incent_Cost_LLLC)-'Analysis 103L'!X144),IF(AE123>=VLOOKUP(I123,Incent_Controls,3,FALSE),MIN(L123,VLOOKUP(I123,Incent_Controls,2,FALSE)),\"\")))","v":{"$error":"#VALUE!"}},"",null,"","",null,"","PASS/PASS","",{"$error":"#VALUE!"},{"$error":"#VALUE!"},{"$error":"#VALUE!"},"",null,10,{"$f":"VLOOKUP('Analysis 103L'!BE144, avoided_costs, ROUND($AT123, 0)+2, FALSE)","v":{"$error":"#N/A"}},{"$error":"#N/A"},{"$error":"#VALUE!"},{"$error":"#N/A"},{"$error":"#N/A"},{"$error":"#VALUE!"},{"$error":"#N/A"},{"$error":"#N/A"},{"$error":"#N/A"},null,null,null,null,null,null,null,null,null,null,null,null,null,null,null,{"$f":"'Analysis 103L'!CF144","v":""},"","","","","",""]
[118,{"$f":"'Analysis 103L'!C145","v":0},null,{"$f":"'Analysis 103L'!I145","v":""},{"$f":"'Analysis 103L'!J145","v":""},{"$f":"'Analysis 103L'!P145","v":0},{"$f":"'Analysis 103L'!N145","v":""},{"$f":"'Analysis 103L'!Q145","v":""},null,null,"",null,"","","","","","",0,"",null,"",{"$f":"'Analysis 103L'!$Y$232*(T124/('Analysis 103L'!$Y$230+'Analysis 103L'!$Y$231))","v":{"$error":"#VALUE!"}},null,null,{"$f":"IF(R124=\"\",\"\",R124*'Analysis 103L'!$D$23)","v":""},null,null,null,null,{"$error":"#VALUE!"},{"$f":"IF(AND(V124=\"\",AL124=\"Custom\"),MIN(L124*Incent_Cost_Controls_Cust,R124/K124*0.35),IF(AI124=\"LLLC\",MIN(AJ124,((L124+'Analysis 103L'!R145)*Incent_Cost_LLLC)-'Analysis 103L'!X145),IF(AE124>=VLOOKUP(I124,Incent_Controls,3,FALSE),MIN(L124,VLOOKUP(I124,Incent_Controls,2,FALSE)),\"\")))","v":{"$error":"#VALUE!"}},"",null,"","",null,"","PASS/PASS","",{"$error":"#VALUE!"},{"$error":"#VALUE!"},{"$error":"#VALUE!"},"",null,10,{"$f":"VLOOKUP('Analysis 103L'!BE145, avoided_costs, ROUND($AT124, 0)+2, FALSE)","v":{"$error":"#N/A"}},{"$error":"#N/A"},{"$error":"#VALUE!"},{"$error":"#N/A"},{"$error":"#N/A"},{"$error":"#VALUE!"},{"$error":"#N/A"},{"$error":"#N/A"},{"$error":"#N/A"},null,null,null,null,null,null,null,null,null,null,null,null,null,null,null,{"$f":"'Analysis 103L'!CF145","v":""},"","","","","",""]
[119,{"$f":"'Analysis 103L'!C146","v":0},null,{"$f":"'Analysis 103L'!I146","v":""},{"$f":"'Analysis 103L'!J146","v":""},{"$f":"'Analysis 103L'!P146","v":0},{"$f":"'Analysis 103L'!N146","v":""},{"$f":"'Analysis 103L'!Q146","v":""},null,null,"",null,"","","","","","",0,"",null,"",{"$f":"'Analysis 103L'!$Y$232*(T125/('Analysis 103L'!$Y$230+'Analysis 103L'!$Y$231))","v":{"$error":"#VALUE!"}},null,null,{"$f":"IF(R125=\"\",\"\",R125*'Analysis 103L'!$D$23)","v":""},null,null,null,null,{"$error":"#VALUE!"},{"$f":"IF(AND(V125=\"\",AL125=\"Custom\"),MIN(L125*Incent_Cost_Controls_Cust,R125/K125*0.35),IF(AI125=\"LLLC\",MIN(AJ125,((L125+'Analysis 103L'!R146)*Incent_Cost_LLLC)-'Analysis 103L'!X146),IF(AE125>=VLOOKUP(I125,Incent_Controls,3,FALSE),MIN(L125,VLOOKUP(I125,Incent_Controls,2,FALSE)),\"\")))","v":{"$error":"#VALUE!"}},"",null,"","",null,"","PASS/PASS","",{"$error":"#VALUE!"},{"$error":"#VALUE!"},{"$error":"#VALUE!"},"",null,10,{"$f":"VLOOKUP('Analysis 103L'!BE146, avoided_costs, ROUND($AT125, 0)+2, FALSE)","v":{"$error":"#N/A"}},{"$error":"#N/A"},{"$error":"#VALUE!"},{"$error":"#N/A"},{"$error":"#N/A"},{"$error":"#VALUE!"},{"$error":"#N/A"},{"$error":"#N/A"},{"$error":"#N/A"},null,null,null,null,null,null,null,null,null,null,null,null,null,null,null,{"$f":"'Analysis 103L'!CF146","v":""},"","","","","",""]
[120,{"$f":"'Analysis 103L'!C147","v":0},null,{"$f":"'Analysis 103L'!I147","v":""},{"$f":"'Analysis 103L'!J147","v":""},{"$f":"'Analysis 103L'!P147","v":0},{"$f":"'Analysis 103L'!N147","v":""},{"$f":"'Analysis 103L'!Q147","v":""},null,null,"",null,"","","","","","",0,"",null,"",{"$f":"'Analysis 103L'!$Y$232*(T126/('Analysis 103L'!$Y$230+'Analysis 103L'!$Y$231))","v":{"$error":"#VALUE!"}},null,null,{"$f":"IF(R126=\"\",\"\",R126*'Analysis 103L'!$D$23)","v":""},null,null,null,null,{"$error":"#VALUE!"},{"$f":"IF(AND(V126=\"\",AL126=\"Custom\"),MIN(L126*Incent_Cost_Controls_Cust,R126/K126*0.35),IF(AI126=\"LLLC\",MIN(AJ126,((L126+'Analysis 103L'!R147)*Incent_Cost_LLLC)-'Analysis 103L'!X147),IF(AE126>=VLOOKUP(I126,Incent_Controls,3,FALSE),MIN(L126,VLOOKUP(I126,Incent_Controls,2,FALSE)),\"\")))","v":{"$error":"#VALUE!"}},"",null,"","",null,"","PASS/PASS","",{"$error":"#VALUE!"},{"$error":"#VALUE!"},{"$error":"#VALUE!"},"",null,10,{"$f":"VLOOKUP('Analysis 103L'!BE147, avoided_costs, ROUND($AT126, 0)+2, FALSE)","v":{"$error":"#N/A"}},{"$error":"#N/A"},{"$error":"#VALUE!"},{"$error":"#N/A"},{"$error":"#N/A"},{"$error":"#VALUE!"},{"$error":"#N/A"},{"$error":"#N/A"},{"$error":"#N/A"},null,null,null,null,null,null,null,null,null,null,null,null,null,null,null,{"$f":"'Analysis 103L'!CF147","v":""},"","","","","",""]
[121,{"$f":"'Analysis 103L'!C148","v":0},null,{"$f":"'Analysis 103L'!I148","v":""},{"$f":"'Analysis 103L'!J148","v":""},{"$f":"'Analysis 103L'!P148","v":0},{"$f":"'Analysis 103L'!N148","v":""},{"$f":"'Analysis 103L'!Q148","v":""},null,null,"",null,"","","","","","",0,"",null,"",{"$f":"'Analysis 103L'!$Y$232*(T127/('Analysis 103L'!$Y$230+'Analysis 103L'!$Y$231))","v":{"$error":"#VALUE!"}},null,null,{"$f":"IF(R127=\"\",\"\",R127*'Analysis 103L'!$D$23)","v":""},null,null,null,null,{"$error":"#VALUE!"},{"$f":"IF(AND(V127=\"\",AL127=\"Custom\"),MIN(L127*Incent_Cost_Controls_Cust,R127/K127*0.35),IF(AI127=\"LLLC\",MIN(AJ127,((L127+'Analysis 103L'!R148)*Incent_Cost_LLLC)-'Analysis 103L'!X148),IF(AE127>=VLOOKUP(I127,Incent_Controls,3,FALSE),MIN(L127,VLOOKUP(I127,Incent_Controls,2,FALSE)),\"\")))","v":{"$error":"#VALUE!"}},"",null,"","",null,"","PASS/PASS","",{"$error":"#VALUE!"},{"$error":"#VALUE!"},{"$error":"#VALUE!"},"",null,10,{"$f":"VLOOKUP('Analysis 103L'!BE148, avoided_costs, ROUND($AT127, 0)+2, FALSE)","v":{"$error":"#N/A"}},{"$error":"#N/A"},{"$error":"#VALUE!"},{"$error":"#N/A"},{"$error":"#N/A"},{"$error":"#VALUE!"},{"$error":"#N/A"},{"$error":"#N/A"},{"$error":"#N/A"},null,null,null,null,null,null,null,null,null,null,null,null,null,null,null,{"$f":"'Analysis 103L'!CF148","v":""},"","","","","",""]
[122,{"$f":"'Analysis 103L'!C149","v":0},null,{"$f":"'Analysis 103L'!I149","v":""},{"$f":"'Analysis 103L'!J149","v":""},{"$f":"'Analysis 103L'!P149","v":0},{"$f":"'Analysis 103L'!N149","v":""},{"$f":"'Analysis 103L'!Q149","v":""},null,null,"",null,"","","","","","",0,"",null,"",{"$f":"'Analysis 103L'!$Y$232*(T128/('Analysis 103L'!$Y$230+'Analysis 103L'!$Y$231))","v":{"$error":"#VALUE!"}},null,null,{"$f":"IF(R128=\"\",\"\",R128*'Analysis 103L'!$D$23)","v":""},null,null,null,null,{"$error":"#VALUE!"},{"$f":"IF(AND(V128=\"\",AL128=\"Custom\"),MIN(L128*Incent_Cost_Controls_Cust,R128/K128*0.35),IF(AI128=\"LLLC\",MIN(AJ128,((L128+'Analysis 103L'!R149)*Incent_Cost_LLLC)-'Analysis 103L'!X149),IF(AE128>=VLOOKUP(I128,Incent_Controls,3,FALSE),MIN(L128,VLOOKUP(I128,Incent_Controls,2,FALSE)),\"\")))","v":{"$error":"#VALUE!"}},"",null,"","",null,"","PASS/PASS","",{"$error":"#VALUE!"},{"$error":"#VALUE!"},{"$error":"#VALUE!"},"",null,10,{"$f":"VLOOKUP('Analysis 103L'!BE149, avoided_costs, ROUND($AT128, 0)+2, FALSE)","v":{"$error":"#N/A"}},{"$error":"#N/A"},{"$error":"#VALUE!"},{"$error":"#N/A"},{"$error":"#N/A"},{"$error":"#VALUE!"},{"$error":"#N/A"},{"$error":"#N/A"},{"$error":"#N/A"},null,null,null,null,null,null,null,null,null,null,null,null,null,null,null,{"$f":"'Analysis 103L'!CF149","v":""},"","","","","",""]
[123,{"$f":"'Analysis 103L'!C150","v":0},null,{"$f":"'Analysis 103L'!I150","v":""},{"$f":"'Analysis 103L'!J150","v":""},{"$f":"'Analysis 103L'!P150","v":0},{"$f":"'Analysis 103L'!N150","v":""},{"$f":"'Analysis 103L'!Q150","v":""},null,null,"",null,"","","","","","",0,"",null,"",{"$f":"'Analysis 103L'!$Y$232*(T129/('Analysis 103L'!$Y$230+'Analysis 103L'!$Y$231))","v":{"$error":"#VALUE!"}},null,null,{"$f":"IF(R129=\"\",\"\",R129*'Analysis 103L'!$D$23)","v":""},null,null,null,null,{"$error":"#VALUE!"},{"$f":"IF(AND(V129=\"\",AL129=\"Custom\"),MIN(L129*Incent_Cost_Controls_Cust,R129/K129*0.35),IF(AI129=\"LLLC\",MIN(AJ129,((L129+'Analysis 103L'!R150)*Incent_Cost_LLLC)-'Analysis 103L'!X150),IF(AE129>=VLOOKUP(I129,Incent_Controls,3,FALSE),MIN(L129,VLOOKUP(I129,Incent_Controls,2,FALSE)),\"\")))","v":{"$error":"#VALUE!"}},"",null,"","",null,"","PASS/PASS","",{"$error":"#VALUE!"},{"$error":"#VALUE!"},{"$error":"#VALUE!"},"",null,10,{"$f":"VLOOKUP('Analysis 103L'!BE150, avoided_costs, ROUND($AT129, 0)+2, FALSE)","v":{"$error":"#N/A"}},{"$error":"#N/A"},{"$error":"#VALUE!"},{"$error":"#N/A"},{"$error":"#N/A"},{"$error":"#VALUE!"},{"$error":"#N/A"},{"$error":"#N/A"},{"$error":"#N/A"},null,null,null,null,null,null,null,null,null,null,null,null,null,null,null,{"$f":"'Analysis 103L'!CF150","v":""},"","","","","",""]
[124,{"$f":"'Analysis 103L'!C151","v":0},null,{"$f":"'Analysis 103L'!I151","v":""},{"$f":"'Analysis 103L'!J151","v":""},{"$f":"'Analysis 103L'!P151","v":0},{"$f":"'Analysis 103L'!N151","v":""},{"$f":"'Analysis 103L'!Q151","v":""},null,null,"",null,"","","","","","",0,"",null,"",{"$f":"'Analysis 103L'!$Y$232*(T130/('Analysis 103L'!$Y$230+'Analysis 103L'!$Y$231))","v":{"$error":"#VALUE!"}},null,null,{"$f":"IF(R130=\"\",\"\",R130*'Analysis 103L'!$D$23)","v":""},null,null,null,null,{"$error":"#VALUE!"},{"$f":"IF(AND(V130=\"\",AL130=\"Custom\"),MIN(L130*Incent_Cost_Controls_Cust,R130/K130*0.35),IF(AI130=\"LLLC\",MIN(AJ130,((L130+'Analysis 103L'!R151)*Incent_Cost_LLLC)-'Analysis 103L'!X151),IF(AE130>=VLOOKUP(I130,Incent_Controls,3,FALSE),MIN(L130,VLOOKUP(I130,Incent_Controls,2,FALSE)),\"\")))","v":{"$error":"#VALUE!"}},"",null,"","",null,"","PASS/PASS","",{"$error":"#VALUE!"},{"$error":"#VALUE!"},{"$error":"#VALUE!"},"",null,10,{"$f":"VLOOKUP('Analysis 103L'!BE151, avoided_costs, ROUND($AT130, 0)+2, FALSE)","v":{"$error":"#N/A"}},{"$error":"#N/A"},{"$error":"#VALUE!"},{"$error":"#N/A"},{"$error":"#N/A"},{"$error":"#VALUE!"},{"$error":"#N/A"},{"$error":"#N/A"},{"$error":"#N/A"},null,null,null,null,null,null,null,null,null,null,null,null,null,null,null,{"$f":"'Analysis 103L'!CF151","v":""},"","","","","",""]
[125,{"$f":"'Analysis 103L'!C152","v":0},null,{"$f":"'Analysis 103L'!I152","v":""},{"$f":"'Analysis 103L'!J152","v":""},{"$f":"'Analysis 103L'!P152","v":0},{"$f":"'Analysis 103L'!N152","v":""},{"$f":"'Analysis 103L'!Q152","v":""},null,null,"",null,"","","","","","",0,"",null,"",{"$f":"'Analysis 103L'!$Y$232*(T131/('Analysis 103L'!$Y$230+'Analysis 103L'!$Y$231))","v":{"$error":"#VALUE!"}},null,null,{"$f":"IF(R131=\"\",\"\",R131*'Analysis 103L'!$D$23)","v":""},null,null,null,null,{"$error":"#VALUE!"},{"$f":"IF(AND(V131=\"\",AL131=\"Custom\"),MIN(L131*Incent_Cost_Controls_Cust,R131/K131*0.35),IF(AI131=\"LLLC\",MIN(AJ131,((L131+'Analysis 103L'!R152)*Incent_Cost_LLLC)-'Analysis 103L'!X152),IF(AE131>=VLOOKUP(I131,Incent_Controls,3,FALSE),MIN(L131,VLOOKUP(I131,Incent_Controls,2,FALSE)),\"\")))","v":{"$error":"#VALUE!"}},"",null,"","",null,"","PASS/PASS","",{"$error":"#VALUE!"},{"$error":"#VALUE!"},{"$error":"#VALUE!"},"",null,10,{"$f":"VLOOKUP('Analysis 103L'!BE152, avoided_costs, ROUND($AT131, 0)+2, FALSE)","v":{"$error":"#N/A"}},{"$error":"#N/A"},{"$error":"#VALUE!"},{"$error":"#N/A"},{"$error":"#N/A"},{"$error":"#VALUE!"},{"$error":"#N/A"},{"$error":"#N/A"},{"$error":"#N/A"},null,null,null,null,null,null,null,null,null,null,null,null,null,null,null,{"$f":"'Analysis 103L'!CF152","v":""},"","","","","",""]
[126,{"$f":"'Analysis 103L'!C153","v":0},null,{"$f":"'Analysis 103L'!I153","v":""},{"$f":"'Analysis 103L'!J153","v":""},{"$f":"'Analysis 103L'!P153","v":0},{"$f":"'Analysis 103L'!N153","v":""},{"$f":"'Analysis 103L'!Q153","v":""},null,null,"",null,"","","","","","",0,"",null,"",{"$f":"'Analysis 103L'!$Y$232*(T132/('Analysis 103L'!$Y$230+'Analysis 103L'!$Y$231))","v":{"$error":"#VALUE!"}},null,null,{"$f":"IF(R132=\"\",\"\",R132*'Analysis 103L'!$D$23)","v":""},null,null,null,null,{"$error":"#VALUE!"},{"$f":"IF(AND(V132=\"\",AL132=\"Custom\"),MIN(L132*Incent_Cost_Controls_Cust,R132/K132*0.35),IF(AI132=\"LLLC\",MIN(AJ132,((L132+'Analysis 103L'!R153)*Incent_Cost_LLLC)-'Analysis 103L'!X153),IF(AE132>=VLOOKUP(I132,Incent_Controls,3,FALSE),MIN(L132,VLOOKUP(I132,Incent_Controls,2,FALSE)),\"\")))","v":{"$error":"#VALUE!"}},"",null,"","",null,"","PASS/PASS","",{"$error":"#VALUE!"},{"$error":"#VALUE!"},{"$error":"#VALUE!"},"",null,10,{"$f":"VLOOKUP('Analysis 103L'!BE153, avoided_costs, ROUND($AT132, 0)+2, FALSE)","v":{"$error":"#N/A"}},{"$error":"#N/A"},{"$error":"#VALUE!"},{"$error":"#N/A"},{"$error":"#N/A"},{"$error":"#VALUE!"},{"$error":"#N/A"},{"$error":"#N/A"},{"$error":"#N/A"},null,null,null,null,null,null,null,null,null,null,null,null,null,null,null,{"$f":"'Analysis 103L'!CF153","v":""},"","","","","",""]
[127,{"$f":"'Analysis 103L'!C154","v":0},null,{"$f":"'Analysis 103L'!I154","v":""},{"$f":"'Analysis 103L'!J154","v":""},{"$f":"'Analysis 103L'!P154","v":0},{"$f":"'Analysis 103L'!N154","v":""},{"$f":"'Analysis 103L'!Q154","v":""},null,null,"",null,"","","","","","",0,"",null,"",{"$f":"'Analysis 103L'!$Y$232*(T133/('Analysis 103L'!$Y$230+'Analysis 103L'!$Y$231))","v":{"$error":"#VALUE!"}},null,null,{"$f":"IF(R133=\"\",\"\",R133*'Analysis 103L'!$D$23)","v":""},null,null,null,null,{"$error":"#VALUE!"},{"$f":"IF(AND(V133=\"\",AL133=\"Custom\"),MIN(L133*Incent_Cost_Controls_Cust,R133/K133*0.35),IF(AI133=\"LLLC\",MIN(AJ133,((L133+'Analysis 103L'!R154)*Incent_Cost_LLLC)-'Analysis 103L'!X154),IF(AE133>=VLOOKUP(I133,Incent_Controls,3,FALSE),MIN(L133,VLOOKUP(I133,Incent_Controls,2,FALSE)),\"\")))","v":{"$error":"#VALUE!"}},"",null,"","",null,"","PASS/PASS","",{"$error":"#VALUE!"},{"$error":"#VALUE!"},{"$error":"#VALUE!"},"",null,10,{"$f":"VLOOKUP('Analysis 103L'!BE154, avoided_costs, ROUND($AT133, 0)+2, FALSE)","v":{"$error":"#N/A"}},{"$error":"#N/A"},{"$error":"#VALUE!"},{"$error":"#N/A"},{"$error":"#N/A"},{"$error":"#VALUE!"},{"$error":"#N/A"},{"$error":"#N/A"},{"$error":"#N/A"},null,null,null,null,null,null,null,null,null,null,null,null,null,null,null,{"$f":"'Analysis 103L'!CF154","v":""},"","","","","",""]
[128,{"$f":"'Analysis 103L'!C155","v":0},null,{"$f":"'Analysis 103L'!I155","v":""},{"$f":"'Analysis 103L'!J155","v":""},{"$f":"'Analysis 103L'!P155","v":0},{"$f":"'Analysis 103L'!N155","v":""},{"$f":"'Analysis 103L'!Q155","v":""},null,null,"",null,"","","","","","",0,"",null,"",{"$f":"'Analysis 103L'!$Y$232*(T134/('Analysis 103L'!$Y$230+'Analysis 103L'!$Y$231))","v":{"$error":"#VALUE!"}},null,null,{"$f":"IF(R134=\"\",\"\",R134*'Analysis 103L'!$D$23)","v":""},null,null,null,null,{"$error":"#VALUE!"},{"$f":"IF(AND(V134=\"\",AL134=\"Custom\"),MIN(L134*Incent_Cost_Controls_Cust,R134/K134*0.35),IF(AI134=\"LLLC\",MIN(AJ134,((L134+'Analysis 103L'!R155)*Incent_Cost_LLLC)-'Analysis 103L'!X155),IF(AE134>=VLOOKUP(I134,Incent_Controls,3,FALSE),MIN(L134,VLOOKUP(I134,Incent_Controls,2,FALSE)),\"\")))","v":{"$error":"#VALUE!"}},"",null,"","",null,"","PASS/PASS","",{"$error":"#VALUE!"},{"$error":"#VALUE!"},{"$error":"#VALUE!"},"",null,10,{"$f":"VLOOKUP('Analysis 103L'!BE155, avoided_costs, ROUND($AT134, 0)+2, FALSE)","v":{"$error":"#N/A"}},{"$error":"#N/A"},{"$error":"#VALUE!"},{"$error":"#N/A"},{"$error":"#N/A"},{"$error":"#VALUE!"},{"$error":"#N/A"},{"$error":"#N/A"},{"$error":"#N/A"},null,null,null,null,null,null,null,null,null,null,null,null,null,null,null,{"$f":"'Analysis 103L'!CF155","v":""},"","","","","",""]
[129,{"$f":"'Analysis 103L'!C156","v":0},null,{"$f":"'Analysis 103L'!I156","v":""},{"$f":"'Analysis 103L'!J156","v":""},{"$f":"'Analysis 103L'!P156","v":0},{"$f":"'Analysis 103L'!N156","v":""},{"$f":"'Analysis 103L'!Q156","v":""},null,null,"",null,{"$f":"IF(RIGHT(I135, 4)=\"Case\", \"<-- Enter Total Cost.\", IF(K135=\"\",\"\",K135*L135))","v":""},"",{"$f":"IF(RIGHT(D135, 4)=\"Case\", \"\",IF(K135=\"\",\"\",IF(AI135=\"LLLC\", VLOOKUP(C135,Space_Type_CSFs, 9, FALSE), VLOOKUP(C135,Space_Type_CSFs, 6, FALSE))))","v":""},"","","",0,"",null,"",{"$f":"'Analysis 103L'!$Y$232*(T135/('Analysis 103L'!$Y$230+'Analysis 103L'!$Y$231))","v":{"$error":"#VALUE!"}},null,null,{"$f":"IF(R135=\"\",\"\",R135*'Analysis 103L'!$D$23)","v":""},null,null,null,null,{"$error":"#VALUE!"},{"$f":"IF(AND(V135=\"\",AL135=\"Custom\"),MIN(L135*Incent_Cost_Controls_Cust,R135/K135*0.35),IF(AI135=\"LLLC\",MIN(AJ135,((L135+'Analysis 103L'!R156)*Incent_Cost_LLLC)-'Analysis 103L'!X156),IF(AE135>=VLOOKUP(I135,Incent_Controls,3,FALSE),MIN(L135,VLOOKUP(I135,Incent_Controls,2,FALSE)),\"\")))","v":{"$error":"#VALUE!"}},{"$f":"IF(OR(AI135=\"LLLC\",K135=\"\"),\"\",IF(AE135>=VLOOKUP(I135,Incent_Controls,3,FALSE),\"Y\",\"N\"))","v":""},null,"","",null,"",{"$f":"IF(AL135=\"\",\"PASS/PASS\",IF(BC135=\"PASS/PASS\",\"PASS/PASS\",\"FAIL\"))","v":"PASS/PASS"},{"$f":"IF(AM135=\"PASS/PASS\",M135,\"0\")","v":""},{"$f":"F135*G135*H135/1000","v":{"$error":"#VALUE!"}},{"$f":"AO135*(1-O135)","v":{"$error":"#VALUE!"}},{"$error":"#VALUE!"},{"$f":"IF(AL135=\"Custom\",0.35*M135,T135)","v":""},null,10,{"$f":"VLOOKUP('Analysis 103L'!BE156, avoided_costs, ROUND($AT135, 0)+2, FALSE)","v":{"$error":"#N/A"}},{"$error":"#N/A"},{"$f":"0.5*M135/AQ135","v":{"$error":"#VALUE!"}},{"$error":"#N/A"},{"$error":"#N/A"},{"$f":"M135/AQ135","v":{"$error":"#VALUE!"}},{"$f":"AV135/AZ135","v":{"$error":"#N/A"}},{"$error":"#N/A"},{"$f":"AY135&\"/\"&BB135","v":{"$error":"#N/A"}},null,null,null,null,null,null,null,null,null,null,null,null,null,null,null,{"$f":"'Analysis 103L'!CF156","v":""},"","",{"$f":"IF(BT135=\"\", \"\", INDEX($BQ$32:$BQ$33, MATCH($BT135, $BN$32:$BN$33, 0))*$BU135)","v":""},{"$f":"IF(BU135=\"\", \"\", INDEX($BO$32:$BO$33, MATCH($BT135, $BN$32:$BN$33, 0)))","v":""},"",""]
[130,{"$f":"'Analysis 103L'!C157","v":0},null,{"$f":"'Analysis 103L'!I157","v":""},{"$f":"'Analysis 103L'!J157","v":""},{"$f":"'Analysis 103L'!P157","v":0},{"$f":"'Analysis 103L'!N157","v":""},{"$f":"'Analysis 103L'!Q157","v":""},null,null,{"$f":"IF(--ISERROR(FIND(\"LLLC\",I136)),\"\",F136)","v":""},null,"","","","","","",0,"",null,{"$f":"IF(AM136=\"FAIL\",\"Control System Not Cost Effective\",IF(AG136=\"N\",\"Does not meet requirement\",\"\"))","v":""},{"$f":"'Analysis 103L'!$Y$232*(T136/('Analysis 103L'!$Y$230+'Analysis 103L'!$Y$231))","v":{"$error":"#VALUE!"}},null,null,{"$f":"IF(R136=\"\",\"\",R136*'Analysis 103L'!$D$23)","v":""},null,null,null,null,{"$f":"F136*G136/K136","v":{"$error":"#VALUE!"}},{"$f":"IF(AND(V136=\"\",AL136=\"Custom\"),MIN(L136*Incent_Cost_Controls_Cust,R136/K136*0.35),IF(AI136=\"LLLC\",MIN(AJ136,((L136+'Analysis 103L'!R157)*Incent_Cost_LLLC)-'Analysis 103L'!X157),IF(AE136>=VLOOKUP(I136,Incent_Controls,3,FALSE),MIN(L136,VLOOKUP(I136,Incent_Controls,2,FALSE)),\"\")))","v":{"$error":"#VALUE!"}},"",null,"","",null,{"$f":"IF(I136=\"Custom Control System\",\"Custom\",\"\")","v":""},"PASS/PASS","",{"$error":"#VALUE!"},{"$error":"#VALUE!"},{"$f":"AO136-AP136","v":{"$error":"#VALUE!"}},"",null,10,{"$f":"VLOOKUP('Analysis 103L'!BE157, avoided_costs, ROUND($AT136, 0)+2, FALSE)","v":{"$error":"#N/A"}},{"$f":"AU136","v":{"$error":"#N/A"}},{"$error":"#VALUE!"},{"$f":"AU136/AW136","v":{"$error":"#N/A"}},{"$error":"#N/A"},{"$error":"#VALUE!"},{"$error":"#N/A"},{"$error":"#N/A"},{"$error":"#N/A"},null,null,null,null,null,null,null,null,null,null,null,null,null,null,null,{"$f":"'Analysis 103L'!CF157","v":""},"","","","","",""]
[131,{"$f":"'Analysis 103L'!C158","v":0},null,{"$f":"'Analysis 103L'!I158","v":""},{"$f":"'Analysis 103L'!J158","v":""},{"$f":"'Analysis 103L'!P158","v":0},{"$f":"'Analysis 103L'!N158","v":""},{"$f":"'Analysis 103L'!Q158","v":""},null,null,"",null,"","","","","","",0,"",null,"",{"$f":"'Analysis 103L'!$Y$232*(T137/('Analysis 103L'!$Y$230+'Analysis 103L'!$Y$231))","v":{"$error":"#VALUE!"}},null,null,{"$f":"IF(R137=\"\",\"\",R137*'Analysis 103L'!$D$23)","v":""},null,null,null,null,{"$error":"#VALUE!"},{"$f":"IF(AND(V137=\"\",AL137=\"Custom\"),MIN(L137*Incent_Cost_Controls_Cust,R137/K137*0.35),IF(AI137=\"LLLC\",MIN(AJ137,((L137+'Analysis 103L'!R158)*Incent_Cost_LLLC)-'Analysis 103L'!X158),IF(AE137>=VLOOKUP(I137,Incent_Controls,3,FALSE),MIN(L137,VLOOKUP(I137,Incent_Controls,2,FALSE)),\"\")))","v":{"$error":"#VALUE!"}},"",null,"","",null,"","PASS/PASS","",{"$error":"#VALUE!"},{"$error":"#VALUE!"},{"$error":"#VALUE!"},"",null,10,{"$f":"VLOOKUP('Analysis 103L'!BE158, avoided_costs, ROUND($AT137, 0)+2, FALSE)","v":{"$error":"#N/A"}},{"$error":"#N/A"},{"$error":"#VALUE!"},{"$error":"#N/A"},{"$error":"#N/A"},{"$error":"#VALUE!"},{"$error":"#N/A"},{"$error":"#N/A"},{"$error":"#N/A"},null,null,null,null,null,null,null,null,null,null,null,null,null,null,null,{"$f":"'Analysis 103L'!CF158","v":""},"","","","","",""]
[132,{"$f":"'Analysis 103L'!C159","v":0},null,{"$f":"'Analysis 103L'!I159","v":""},{"$f":"'Analysis 103L'!J159","v":""},{"$f":"'Analysis 103L'!P159","v":0},{"$f":"'Analysis 103L'!N159","v":""},{"$f":"'Analysis 103L'!Q159","v":""},null,null,"",null,"",{"$f":"IFERROR(IF(K138=\"\",\"\",IF(LEFT(I138,8) =\"Exterior\", (G138*F138/K138*0.5), G138*F138/K138)),\"\")","v":""},"","","","",{"$f":"IF(AND(ISNUMBER(AF138),ISNUMBER(L138)),AF138,)","v":0},"",null,"",{"$f":"'Analysis 103L'!$Y$232*(T138/('Analysis 103L'!$Y$230+'Analysis 103L'!$Y$231))","v":{"$error":"#VALUE!"}},null,null,{"$f":"IF(R138=\"\",\"\",R138*'Analysis 103L'!$D$23)","v":""},null,null,null,null,{"$error":"#VALUE!"},{"$f":"IF(AND(V138=\"\",AL138=\"Custom\"),MIN(L138*Incent_Cost_Controls_Cust,R138/K138*0.35),IF(AI138=\"LLLC\",MIN(AJ138,((L138+'Analysis 103L'!R159)*Incent_Cost_LLLC)-'Analysis 103L'!X159),IF(AE138>=VLOOKUP(I138,Incent_Controls,3,FALSE),MIN(L138,VLOOKUP(I138,Incent_Controls,2,FALSE)),\"\")))","v":{"$error":"#VALUE!"}},"",null,"","",null,"","PASS/PASS","",{"$error":"#VALUE!"},{"$error":"#VALUE!"},{"$error":"#VALUE!"},"",null,10,{"$f":"VLOOKUP('Analysis 103L'!BE159, avoided_costs, ROUND($AT138, 0)+2, FALSE)","v":{"$error":"#N/A"}},{"$error":"#N/A"},{"$error":"#VALUE!"},{"$error":"#N/A"},{"$error":"#N/A"},{"$error":"#VALUE!"},{"$error":"#N/A"},{"$error":"#N/A"},{"$error":"#N/A"},null,null,null,null,null,null,null,null,null,null,null,null,null,null,null,{"$f":"'Analysis 103L'!CF159","v":""},"","","","","",""]
[133,{"$f":"'Analysis 103L'!C160","v":0},null,{"$f":"'Analysis 103L'!I160","v":""},{"$f":"'Analysis 103L'!J160","v":""},{"$f":"'Analysis 103L'!P160","v":0},{"$f":"'Analysis 103L'!N160","v":""},{"$f":"'Analysis 103L'!Q160","v":""},null,null,"",null,"","","","","","",0,"",null,"",{"$f":"'Analysis 103L'!$Y$232*(T139/('Analysis 103L'!$Y$230+'Analysis 103L'!$Y$231))","v":{"$error":"#VALUE!"}},null,null,{"$f":"IF(R139=\"\",\"\",R139*'Analysis 103L'!$D$23)","v":""},null,null,null,null,{"$error":"#VALUE!"},{"$f":"IF(AND(V139=\"\",AL139=\"Custom\"),MIN(L139*Incent_Cost_Controls_Cust,R139/K139*0.35),IF(AI139=\"LLLC\",MIN(AJ139,((L139+'Analysis 103L'!R160)*Incent_Cost_LLLC)-'Analysis 103L'!X160),IF(AE139>=VLOOKUP(I139,Incent_Controls,3,FALSE),MIN(L139,VLOOKUP(I139,Incent_Controls,2,FALSE)),\"\")))","v":{"$error":"#VALUE!"}},"",null,"","",null,"","PASS/PASS","",{"$error":"#VALUE!"},{"$error":"#VALUE!"},{"$error":"#VALUE!"},"",null,10,{"$f":"VLOOKUP('Analysis 103L'!BE160, avoided_costs, ROUND($AT139, 0)+2, FALSE)","v":{"$error":"#N/A"}},{"$error":"#N/A"},{"$error":"#VALUE!"},{"$error":"#N/A"},{"$error":"#N/A"},{"$error":"#VALUE!"},{"$error":"#N/A"},{"$error":"#N/A"},{"$error":"#N/A"},null,null,null,null,null,null,null,null,null,null,null,null,null,null,null,{"$f":"'Analysis 103L'!CF160","v":""},"","","","","",""]
[134,{"$f":"'Analysis 103L'!C161","v":0},null,{"$f":"'Analysis 103L'!I161","v":""},{"$f":"'Analysis 103L'!J161","v":""},{"$f":"'Analysis 103L'!P161","v":0},{"$f":"'Analysis 103L'!N161","v":""},{"$f":"'Analysis 103L'!Q161","v":""},null,null,"",null,"","","","","","",0,"",null,"",{"$f":"'Analysis 103L'!$Y$232*(T140/('Analysis 103L'!$Y$230+'Analysis 103L'!$Y$231))","v":{"$error":"#VALUE!"}},null,null,{"$f":"IF(R140=\"\",\"\",R140*'Analysis 103L'!$D$23)","v":""},null,null,null,null,{"$error":"#VALUE!"},{"$f":"IF(AND(V140=\"\",AL140=\"Custom\"),MIN(L140*Incent_Cost_Controls_Cust,R140/K140*0.35),IF(AI140=\"LLLC\",MIN(AJ140,((L140+'Analysis 103L'!R161)*Incent_Cost_LLLC)-'Analysis 103L'!X161),IF(AE140>=VLOOKUP(I140,Incent_Controls,3,FALSE),MIN(L140,VLOOKUP(I140,Incent_Controls,2,FALSE)),\"\")))","v":{"$error":"#VALUE!"}},"",null,"","",null,"","PASS/PASS","",{"$error":"#VALUE!"},{"$error":"#VALUE!"},{"$error":"#VALUE!"},"",null,10,{"$f":"VLOOKUP('Analysis 103L'!BE161, avoided_costs, ROUND($AT140, 0)+2, FALSE)","v":{"$error":"#N/A"}},{"$error":"#N/A"},{"$error":"#VALUE!"},{"$error":"#N/A"},{"$error":"#N/A"},{"$error":"#VALUE!"},{"$error":"#N/A"},{"$error":"#N/A"},{"$error":"#N/A"},null,null,null,null,null,null,null,null,null,null,null,null,null,null,null,{"$f":"'Analysis 103L'!CF161","v":""},"","","","","",""]
[135,{"$f":"'Analysis 103L'!C162","v":0},null,{"$f":"'Analysis 103L'!I162","v":""},{"$f":"'Analysis 103L'!J162","v":""},{"$f":"'Analysis 103L'!P162","v":0},{"$f":"'Analysis 103L'!N162","v":""},{"$f":"'Analysis 103L'!Q162","v":""},null,null,"",null,"","","","","","",0,"",null,"",{"$f":"'Analysis 103L'!$Y$232*(T141/('Analysis 103L'!$Y$230+'Analysis 103L'!$Y$231))","v":{"$error":"#VALUE!"}},null,null,{"$f":"IF(R141=\"\",\"\",R141*'Analysis 103L'!$D$23)","v":""},null,null,null,null,{"$error":"#VALUE!"},{"$f":"IF(AND(V141=\"\",AL141=\"Custom\"),MIN(L141*Incent_Cost_Controls_Cust,R141/K141*0.35),IF(AI141=\"LLLC\",MIN(AJ141,((L141+'Analysis 103L'!R162)*Incent_Cost_LLLC)-'Analysis 103L'!X162),IF(AE141>=VLOOKUP(I141,Incent_Controls,3,FALSE),MIN(L141,VLOOKUP(I141,Incent_Controls,2,FALSE)),\"\")))","v":{"$error":"#VALUE!"}},"",null,"","",null,"","PASS/PASS","",{"$error":"#VALUE!"},{"$error":"#VALUE!"},{"$error":"#VALUE!"},"",null,10,{"$f":"VLOOKUP('Analysis 103L'!BE162, avoided_costs, ROUND($AT141, 0)+2, FALSE)","v":{"$error":"#N/A"}},{"$error":"#N/A"},{"$error":"#VALUE!"},{"$error":"#N/A"},{"$error":"#N/A"},{"$error":"#VALUE!"},{"$error":"#N/A"},{"$error":"#N/A"},{"$error":"#N/A"},null,null,null,null,null,null,null,null,null,null,null,null,null,null,null,{"$f":"'Analysis 103L'!CF162","v":""},"","","","",{"$f":"IF(BW141=\"\",\"\",MIN(L141*Incent_Cost_Case,(F141*BW141)))","v":""},""]
[136,{"$f":"'Analysis 103L'!C163","v":0},null,{"$f":"'Analysis 103L'!I163","v":""},{"$f":"'Analysis 103L'!J163","v":""},{"$f":"'Analysis 103L'!P163","v":0},{"$f":"'Analysis 103L'!N163","v":""},{"$f":"'Analysis 103L'!Q163","v":""},null,null,"",null,"","","","","","",0,"",null,"",{"$f":"'Analysis 103L'!$Y$232*(T142/('Analysis 103L'!$Y$230+'Analysis 103L'!$Y$231))","v":{"$error":"#VALUE!"}},null,null,{"$f":"IF(R142=\"\",\"\",R142*'Analysis 103L'!$D$23)","v":""},null,null,null,null,{"$error":"#VALUE!"},{"$f":"IF(AND(V142=\"\",AL142=\"Custom\"),MIN(L142*Incent_Cost_Controls_Cust,R142/K142*0.35),IF(AI142=\"LLLC\",MIN(AJ142,((L142+'Analysis 103L'!R163)*Incent_Cost_LLLC)-'Analysis 103L'!X163),IF(AE142>=VLOOKUP(I142,Incent_Controls,3,FALSE),MIN(L142,VLOOKUP(I142,Incent_Controls,2,FALSE)),\"\")))","v":{"$error":"#VALUE!"}},"",null,"","",null,"","PASS/PASS","",{"$error":"#VALUE!"},{"$error":"#VALUE!"},{"$error":"#VALUE!"},"",null,10,{"$f":"VLOOKUP('Analysis 103L'!BE163, avoided_costs, ROUND($AT142, 0)+2, FALSE)","v":{"$error":"#N/A"}},{"$error":"#N/A"},{"$error":"#VALUE!"},{"$error":"#N/A"},{"$error":"#N/A"},{"$error":"#VALUE!"},{"$error":"#N/A"},{"$error":"#N/A"},{"$error":"#N/A"},null,null,null,null,null,null,null,null,null,null,null,null,null,null,null,{"$f":"'Analysis 103L'!CF163","v":""},"","","","","",""]
[137,{"$f":"'Analysis 103L'!C164","v":0},null,{"$f":"'Analysis 103L'!I164","v":""},{"$f":"'Analysis 103L'!J164","v":""},{"$f":"'Analysis 103L'!P164","v":0},{"$f":"'Analysis 103L'!N164","v":""},{"$f":"'Analysis 103L'!Q164","v":""},null,null,"",null,"","","","","","",0,"",null,"",{"$f":"'Analysis 103L'!$Y$232*(T143/('Analysis 103L'!$Y$230+'Analysis 103L'!$Y$231))","v":{"$error":"#VALUE!"}},null,null,{"$f":"IF(R143=\"\",\"\",R143*'Analysis 103L'!$D$23)","v":""},null,null,null,null,{"$error":"#VALUE!"},{"$f":"IF(AND(V143=\"\",AL143=\"Custom\"),MIN(L143*Incent_Cost_Controls_Cust,R143/K143*0.35),IF(AI143=\"LLLC\",MIN(AJ143,((L143+'Analysis 103L'!R164)*Incent_Cost_LLLC)-'Analysis 103L'!X164),IF(AE143>=VLOOKUP(I143,Incent_Controls,3,FALSE),MIN(L143,VLOOKUP(I143,Incent_Controls,2,FALSE)),\"\")))","v":{"$error":"#VALUE!"}},"",null,"","",null,"","PASS/PASS","",{"$error":"#VALUE!"},{"$error":"#VALUE!"},{"$error":"#VALUE!"},"",null,10,{"$f":"VLOOKUP('Analysis 103L'!BE164, avoided_costs, ROUND($AT143, 0)+2, FALSE)","v":{"$error":"#N/A"}},{"$error":"#N/A"},{"$error":"#VALUE!"},{"$error":"#N/A"},{"$error":"#N/A"},{"$error":"#VALUE!"},{"$error":"#N/A"},{"$error":"#N/A"},{"$error":"#N/A"},null,null,null,null,null,null,null,null,null,null,null,null,null,null,null,{"$f":"'Analysis 103L'!CF164","v":""},"","","","","",""]
[138,{"$f":"'Analysis 103L'!C165","v":0},null,{"$f":"'Analysis 103L'!I165","v":""},{"$f":"'Analysis 103L'!J165","v":""},{"$f":"'Analysis 103L'!P165","v":0},{"$f":"'Analysis 103L'!N165","v":""},{"$f":"'Analysis 103L'!Q165","v":""},null,null,"",null,"","","","","","",0,"",null,"",{"$f":"'Analysis 103L'!$Y$232*(T144/('Analysis 103L'!$Y$230+'Analysis 103L'!$Y$231))","v":{"$error":"#VALUE!"}},null,null,{"$f":"IF(R144=\"\",\"\",R144*'Analysis 103L'!$D$23)","v":""},null,null,null,null,{"$error":"#VALUE!"},{"$f":"IF(AND(V144=\"\",AL144=\"Custom\"),MIN(L144*Incent_Cost_Controls_Cust,R144/K144*0.35),IF(AI144=\"LLLC\",MIN(AJ144,((L144+'Analysis 103L'!R165)*Incent_Cost_LLLC)-'Analysis 103L'!X165),IF(AE144>=VLOOKUP(I144,Incent_Controls,3,FALSE),MIN(L144,VLOOKUP(I144,Incent_Controls,2,FALSE)),\"\")))","v":{"$error":"#VALUE!"}},"",null,"","",null,"","PASS/PASS","",{"$error":"#VALUE!"},{"$error":"#VALUE!"},{"$error":"#VALUE!"},"",null,10,{"$f":"VLOOKUP('Analysis 103L'!BE165, avoided_costs, ROUND($AT144, 0)+2, FALSE)","v":{"$error":"#N/A"}},{"$error":"#N/A"},{"$error":"#VALUE!"},{"$error":"#N/A"},{"$error":"#N/A"},{"$error":"#VALUE!"},{"$error":"#N/A"},{"$error":"#N/A"},{"$error":"#N/A"},null,null,null,null,null,null,null,null,null,null,null,null,null,null,null,{"$f":"'Analysis 103L'!CF165","v":""},"","","","","",""]
[139,{"$f":"'Analysis 103L'!C166","v":0},null,{"$f":"'Analysis 103L'!I166","v":""},{"$f":"'Analysis 103L'!J166","v":""},{"$f":"'Analysis 103L'!P166","v":0},{"$f":"'Analysis 103L'!N166","v":""},{"$f":"'Analysis 103L'!Q166","v":""},null,null,"",null,"","","","","","",0,"",null,"",{"$f":"'Analysis 103L'!$Y$232*(T145/('Analysis 103L'!$Y$230+'Analysis 103L'!$Y$231))","v":{"$error":"#VALUE!"}},null,null,{"$f":"IF(R145=\"\",\"\",R145*'Analysis 103L'!$D$23)","v":""},null,null,null,null,{"$error":"#VALUE!"},{"$f":"IF(AND(V145=\"\",AL145=\"Custom\"),MIN(L145*Incent_Cost_Controls_Cust,R145/K145*0.35),IF(AI145=\"LLLC\",MIN(AJ145,((L145+'Analysis 103L'!R166)*Incent_Cost_LLLC)-'Analysis 103L'!X166),IF(AE145>=VLOOKUP(I145,Incent_Controls,3,FALSE),MIN(L145,VLOOKUP(I145,Incent_Controls,2,FALSE)),\"\")))","v":{"$error":"#VALUE!"}},"",null,"","",null,"","PASS/PASS","",{"$error":"#VALUE!"},{"$error":"#VALUE!"},{"$error":"#VALUE!"},"",null,10,{"$f":"VLOOKUP('Analysis 103L'!BE166, avoided_costs, ROUND($AT145, 0)+2, FALSE)","v":{"$error":"#N/A"}},{"$error":"#N/A"},{"$error":"#VALUE!"},{"$error":"#N/A"},{"$error":"#N/A"},{"$error":"#VALUE!"},{"$error":"#N/A"},{"$error":"#N/A"},{"$error":"#N/A"},null,null,null,null,null,null,null,null,null,null,null,null,null,null,null,{"$f":"'Analysis 103L'!CF166","v":""},"","","","","",""]
[140,{"$f":"'Analysis 103L'!C167","v":0},null,{"$f":"'Analysis 103L'!I167","v":""},{"$f":"'Analysis 103L'!J167","v":""},{"$f":"'Analysis 103L'!P167","v":0},{"$f":"'Analysis 103L'!N167","v":""},{"$f":"'Analysis 103L'!Q167","v":""},null,null,"",null,"","","","","","",0,"",null,"",{"$f":"'Analysis 103L'!$Y$232*(T146/('Analysis 103L'!$Y$230+'Analysis 103L'!$Y$231))","v":{"$error":"#VALUE!"}},null,null,{"$f":"IF(R146=\"\",\"\",R146*'Analysis 103L'!$D$23)","v":""},null,null,null,null,{"$error":"#VALUE!"},{"$f":"IF(AND(V146=\"\",AL146=\"Custom\"),MIN(L146*Incent_Cost_Controls_Cust,R146/K146*0.35),IF(AI146=\"LLLC\",MIN(AJ146,((L146+'Analysis 103L'!R167)*Incent_Cost_LLLC)-'Analysis 103L'!X167),IF(AE146>=VLOOKUP(I146,Incent_Controls,3,FALSE),MIN(L146,VLOOKUP(I146,Incent_Controls,2,FALSE)),\"\")))","v":{"$error":"#VALUE!"}},"",null,"","",null,"","PASS/PASS","",{"$error":"#VALUE!"},{"$error":"#VALUE!"},{"$error":"#VALUE!"},"",null,10,{"$f":"VLOOKUP('Analysis 103L'!BE167, avoided_costs, ROUND($AT146, 0)+2, FALSE)","v":{"$error":"#N/A"}},{"$error":"#N/A"},{"$error":"#VALUE!"},{"$error":"#N/A"},{"$error":"#N/A"},{"$error":"#VALUE!"},{"$error":"#N/A"},{"$error":"#N/A"},{"$error":"#N/A"},null,null,null,null,null,null,null,null,null,null,null,null,null,null,null,{"$f":"'Analysis 103L'!CF167","v":""},"","","","","",""]
[141,{"$f":"'Analysis 103L'!C168","v":0},null,{"$f":"'Analysis 103L'!I168","v":""},{"$f":"'Analysis 103L'!J168","v":""},{"$f":"'Analysis 103L'!P168","v":0},{"$f":"'Analysis 103L'!N168","v":""},{"$f":"'Analysis 103L'!Q168","v":""},null,null,"",null,"","","","","","",0,"",null,"",{"$f":"'Analysis 103L'!$Y$232*(T147/('Analysis 103L'!$Y$230+'Analysis 103L'!$Y$231))","v":{"$error":"#VALUE!"}},null,null,{"$f":"IF(R147=\"\",\"\",R147*'Analysis 103L'!$D$23)","v":""},null,null,null,null,{"$error":"#VALUE!"},{"$f":"IF(AND(V147=\"\",AL147=\"Custom\"),MIN(L147*Incent_Cost_Controls_Cust,R147/K147*0.35),IF(AI147=\"LLLC\",MIN(AJ147,((L147+'Analysis 103L'!R168)*Incent_Cost_LLLC)-'Analysis 103L'!X168),IF(AE147>=VLOOKUP(I147,Incent_Controls,3,FALSE),MIN(L147,VLOOKUP(I147,Incent_Controls,2,FALSE)),\"\")))","v":{"$error":"#VALUE!"}},"",null,"","",null,"","PASS/PASS","",{"$error":"#VALUE!"},{"$error":"#VALUE!"},{"$error":"#VALUE!"},"",null,10,{"$f":"VLOOKUP('Analysis 103L'!BE168, avoided_costs, ROUND($AT147, 0)+2, FALSE)","v":{"$error":"#N/A"}},{"$error":"#N/A"},{"$error":"#VALUE!"},{"$error":"#N/A"},{"$error":"#N/A"},{"$error":"#VALUE!"},{"$error":"#N/A"},{"$error":"#N/A"},{"$error":"#N/A"},null,null,null,null,null,null,null,null,null,null,null,null,null,null,null,{"$f":"'Analysis 103L'!CF168","v":""},"","","","","",""]
[142,{"$f":"'Analysis 103L'!C169","v":0},null,{"$f":"'Analysis 103L'!I169","v":""},{"$f":"'Analysis 103L'!J169","v":""},{"$f":"'Analysis 103L'!P169","v":0},{"$f":"'Analysis 103L'!N169","v":""},{"$f":"'Analysis 103L'!Q169","v":""},null,null,"",null,"","","","","","",0,"",null,"",{"$f":"'Analysis 103L'!$Y$232*(T148/('Analysis 103L'!$Y$230+'Analysis 103L'!$Y$231))","v":{"$error":"#VALUE!"}},null,null,{"$f":"IF(R148=\"\",\"\",R148*'Analysis 103L'!$D$23)","v":""},null,null,null,null,{"$error":"#VALUE!"},{"$f":"IF(AND(V148=\"\",AL148=\"Custom\"),MIN(L148*Incent_Cost_Controls_Cust,R148/K148*0.35),IF(AI148=\"LLLC\",MIN(AJ148,((L148+'Analysis 103L'!R169)*Incent_Cost_LLLC)-'Analysis 103L'!X169),IF(AE148>=VLOOKUP(I148,Incent_Controls,3,FALSE),MIN(L148,VLOOKUP(I148,Incent_Controls,2,FALSE)),\"\")))","v":{"$error":"#VALUE!"}},"",null,"","",null,"","PASS/PASS","",{"$error":"#VALUE!"},{"$error":"#VALUE!"},{"$error":"#VALUE!"},"",null,10,{"$f":"VLOOKUP('Analysis 103L'!BE169, avoided_costs, ROUND($AT148, 0)+2, FALSE)","v":{"$error":"#N/A"}},{"$error":"#N/A"},{"$error":"#VALUE!"},{"$error":"#N/A"},{"$error":"#N/A"},{"$error":"#VALUE!"},{"$error":"#N/A"},{"$error":"#N/A"},{"$error":"#N/A"},null,null,null,null,null,null,null,null,null,null,null,null,null,null,null,{"$f":"'Analysis 103L'!CF169","v":""},"","","","","",""]
[143,{"$f":"'Analysis 103L'!C170","v":0},null,{"$f":"'Analysis 103L'!I170","v":""},{"$f":"'Analysis 103L'!J170","v":""},{"$f":"'Analysis 103L'!P170","v":0},{"$f":"'Analysis 103L'!N170","v":""},{"$f":"'Analysis 103L'!Q170","v":""},null,null,"",null,"","","","","","",0,"",null,"",{"$f":"'Analysis 103L'!$Y$232*(T149/('Analysis 103L'!$Y$230+'Analysis 103L'!$Y$231))","v":{"$error":"#VALUE!"}},null,null,{"$f":"IF(R149=\"\",\"\",R149*'Analysis 103L'!$D$23)","v":""},null,null,null,null,{"$error":"#VALUE!"},{"$f":"IF(AND(V149=\"\",AL149=\"Custom\"),MIN(L149*Incent_Cost_Controls_Cust,R149/K149*0.35),IF(AI149=\"LLLC\",MIN(AJ149,((L149+'Analysis 103L'!R170)*Incent_Cost_LLLC)-'Analysis 103L'!X170),IF(AE149>=VLOOKUP(I149,Incent_Controls,3,FALSE),MIN(L149,VLOOKUP(I149,Incent_Controls,2,FALSE)),\"\")))","v":{"$error":"#VALUE!"}},"",null,"","",null,"","PASS/PASS","",{"$error":"#VALUE!"},{"$error":"#VALUE!"},{"$error":"#VALUE!"},"",null,10,{"$f":"VLOOKUP('Analysis 103L'!BE170, avoided_costs, ROUND($AT149, 0)+2, FALSE)","v":{"$error":"#N/A"}},{"$error":"#N/A"},{"$error":"#VALUE!"},{"$error":"#N/A"},{"$error":"#N/A"},{"$error":"#VALUE!"},{"$error":"#N/A"},{"$error":"#N/A"},{"$error":"#N/A"},null,null,null,null,null,null,null,null,null,null,null,null,null,null,null,{"$f":"'Analysis 103L'!CF170","v":""},"","","","","",""]
[144,{"$f":"'Analysis 103L'!C171","v":0},null,{"$f":"'Analysis 103L'!I171","v":""},{"$f":"'Analysis 103L'!J171","v":""},{"$f":"'Analysis 103L'!P171","v":0},{"$f":"'Analysis 103L'!N171","v":""},{"$f":"'Analysis 103L'!Q171","v":""},null,null,"",null,"","","","","","",0,"",null,"",{"$f":"'Analysis 103L'!$Y$232*(T150/('Analysis 103L'!$Y$230+'Analysis 103L'!$Y$231))","v":{"$error":"#VALUE!"}},null,null,{"$f":"IF(R150=\"\",\"\",R150*'Analysis 103L'!$D$23)","v":""},null,null,null,null,{"$error":"#VALUE!"},{"$f":"IF(AND(V150=\"\",AL150=\"Custom\"),MIN(L150*Incent_Cost_Controls_Cust,R150/K150*0.35),IF(AI150=\"LLLC\",MIN(AJ150,((L150+'Analysis 103L'!R171)*Incent_Cost_LLLC)-'Analysis 103L'!X171),IF(AE150>=VLOOKUP(I150,Incent_Controls,3,FALSE),MIN(L150,VLOOKUP(I150,Incent_Controls,2,FALSE)),\"\")))","v":{"$error":"#VALUE!"}},"",null,"","",null,"","PASS/PASS","",{"$error":"#VALUE!"},{"$error":"#VALUE!"},{"$error":"#VALUE!"},"",null,10,{"$f":"VLOOKUP('Analysis 103L'!BE171, avoided_costs, ROUND($AT150, 0)+2, FALSE)","v":{"$error":"#N/A"}},{"$error":"#N/A"},{"$error":"#VALUE!"},{"$error":"#N/A"},{"$f":"IF(ROUND(AX150,1)>=1, \"PASS\", \"FAIL\")","v":{"$error":"#N/A"}},{"$error":"#VALUE!"},{"$error":"#N/A"},{"$f":"IF(OR(ROUND(BA150,1)>=1,BA150<0), \"PASS\", \"FAIL\")","v":{"$error":"#N/A"}},{"$error":"#N/A"},null,null,null,null,null,null,null,null,null,null,null,null,null,null,null,{"$f":"'Analysis 103L'!CF171","v":""},"","","","","",""]
[145,{"$f":"'Analysis 103L'!C172","v":0},null,{"$f":"'Analysis 103L'!I172","v":""},{"$f":"'Analysis 103L'!J172","v":""},{"$f":"'Analysis 103L'!P172","v":0},{"$f":"'Analysis 103L'!N172","v":""},{"$f":"'Analysis 103L'!Q172","v":""},null,null,"",null,"","","",{"$f":"IF(RIGHT(D151, 4)=\"Case\", \"\",IF(K151=\"\",\"\",(K151*N151*H151)/1000))","v":""},{"$f":"IF(RIGHT(D151, 4)=\"Case\", \"\",IF(K151=\"\",\"\",P151*(1-O151)))","v":""},{"$f":"IF(RIGHT(D151, 4)=\"Case\", BV151, IF(K151=\"\",\"\",P151-Q151))","v":""},0,{"$f":"IF(RIGHT(D151,4)=\"Case\",BX151,IF(I151=\"\",\"\",K151*S151))","v":""},null,"",{"$f":"'Analysis 103L'!$Y$232*(T151/('Analysis 103L'!$Y$230+'Analysis 103L'!$Y$231))","v":{"$error":"#VALUE!"}},null,null,{"$f":"IF(R151=\"\",\"\",R151*'Analysis 103L'!$D$23)","v":""},null,null,null,null,{"$error":"#VALUE!"},{"$f":"IF(AND(V151=\"\",AL151=\"Custom\"),MIN(L151*Incent_Cost_Controls_Cust,R151/K151*0.35),IF(AI151=\"LLLC\",MIN(AJ151,((L151+'Analysis 103L'!R172)*Incent_Cost_LLLC)-'Analysis 103L'!X172),IF(AE151>=VLOOKUP(I151,Incent_Controls,3,FALSE),MIN(L151,VLOOKUP(I151,Incent_Controls,2,FALSE)),\"\")))","v":{"$error":"#VALUE!"}},"",null,"","",null,"","PASS/PASS","",{"$error":"#VALUE!"},{"$error":"#VALUE!"},{"$error":"#VALUE!"},"",null,10,{"$f":"VLOOKUP('Analysis 103L'!BE172, avoided_costs, ROUND($AT151, 0)+2, FALSE)","v":{"$error":"#N/A"}},{"$error":"#N/A"},{"$error":"#VALUE!"},{"$error":"#N/A"},{"$error":"#N/A"},{"$error":"#VALUE!"},{"$error":"#N/A"},{"$error":"#N/A"},{"$error":"#N/A"},null,null,null,null,null,null,null,null,null,null,null,null,null,null,null,{"$f":"'Analysis 103L'!CF172","v":""},"","","","","",""]
[146,{"$f":"'Analysis 103L'!C173","v":0},null,{"$f":"'Analysis 103L'!I173","v":""},{"$f":"'Analysis 103L'!J173","v":""},{"$f":"'Analysis 103L'!P173","v":0},{"$f":"'Analysis 103L'!N173","v":""},{"$f":"'Analysis 103L'!Q173","v":""},null,null,"",null,"","","","","","",0,"",null,"",{"$f":"'Analysis 103L'!$Y$232*(T152/('Analysis 103L'!$Y$230+'Analysis 103L'!$Y$231))","v":{"$error":"#VALUE!"}},null,null,{"$f":"IF(R152=\"\",\"\",R152*'Analysis 103L'!$D$23)","v":""},null,null,null,null,{"$error":"#VALUE!"},{"$f":"IF(AND(V152=\"\",AL152=\"Custom\"),MIN(L152*Incent_Cost_Controls_Cust,R152/K152*0.35),IF(AI152=\"LLLC\",MIN(AJ152,((L152+'Analysis 103L'!R173)*Incent_Cost_LLLC)-'Analysis 103L'!X173),IF(AE152>=VLOOKUP(I152,Incent_Controls,3,FALSE),MIN(L152,VLOOKUP(I152,Incent_Controls,2,FALSE)),\"\")))","v":{"$error":"#VALUE!"}},"",null,"","",null,"","PASS/PASS","",{"$error":"#VALUE!"},{"$error":"#VALUE!"},{"$error":"#VALUE!"},"",null,10,{"$f":"VLOOKUP('Analysis 103L'!BE173, avoided_costs, ROUND($AT152, 0)+2, FALSE)","v":{"$error":"#N/A"}},{"$error":"#N/A"},{"$error":"#VALUE!"},{"$error":"#N/A"},{"$error":"#N/A"},{"$error":"#VALUE!"},{"$error":"#N/A"},{"$error":"#N/A"},{"$error":"#N/A"},null,null,null,null,null,null,null,null,null,null,null,null,null,null,null,{"$f":"'Analysis 103L'!CF173","v":""},{"$f":"IF(I152=$AC$18, IF(BS152=\"DR\", $AC$20, IF(BS152=\"SR\", $AC$19, \"\")), \"\")","v":""},{"$f":"IF(BT152=\"\", \"\", $F152)","v":""},"","","",{"$f":"IF(BV152=\"\", \"\", INDEX($AD$19:$AD$20, MATCH($BT152, $AC$19:$AC$20, 0))*$BU152)","v":""}]
[147,{"$f":"'Analysis 103L'!C174","v":0},null,{"$f":"'Analysis 103L'!I174","v":""},{"$f":"'Analysis 103L'!J174","v":""},{"$f":"'Analysis 103L'!P174","v":0},{"$f":"'Analysis 103L'!N174","v":""},{"$f":"'Analysis 103L'!Q174","v":""},null,null,"",null,"","","","","","",0,"",null,"",{"$f":"'Analysis 103L'!$Y$232*(T153/('Analysis 103L'!$Y$230+'Analysis 103L'!$Y$231))","v":{"$error":"#VALUE!"}},null,null,{"$f":"IF(R153=\"\",\"\",R153*'Analysis 103L'!$D$23)","v":""},null,null,null,null,{"$error":"#VALUE!"},{"$f":"IF(AND(V153=\"\",AL153=\"Custom\"),MIN(L153*Incent_Cost_Controls_Cust,R153/K153*0.35),IF(AI153=\"LLLC\",MIN(AJ153,((L153+'Analysis 103L'!R174)*Incent_Cost_LLLC)-'Analysis 103L'!X174),IF(AE153>=VLOOKUP(I153,Incent_Controls,3,FALSE),MIN(L153,VLOOKUP(I153,Incent_Controls,2,FALSE)),\"\")))","v":{"$error":"#VALUE!"}},"",null,"","",null,"","PASS/PASS","",{"$error":"#VALUE!"},{"$error":"#VALUE!"},{"$error":"#VALUE!"},"",null,10,{"$f":"VLOOKUP('Analysis 103L'!BE174, avoided_costs, ROUND($AT153, 0)+2, FALSE)","v":{"$error":"#N/A"}},{"$error":"#N/A"},{"$error":"#VALUE!"},{"$error":"#N/A"},{"$error":"#N/A"},{"$error":"#VALUE!"},{"$error":"#N/A"},{"$error":"#N/A"},{"$error":"#N/A"},null,null,null,null,null,null,null,null,null,null,null,null,null,null,null,{"$f":"'Analysis 103L'!CF174","v":""},"","","","","",""]
[148,{"$f":"'Analysis 103L'!C175","v":0},null,{"$f":"'Analysis 103L'!I175","v":""},{"$f":"'Analysis 103L'!J175","v":""},{"$f":"'Analysis 103L'!P175","v":0},{"$f":"'Analysis 103L'!N175","v":""},{"$f":"'Analysis 103L'!Q175","v":""},null,null,"",null,"","","","","","",0,"",null,"",{"$f":"'Analysis 103L'!$Y$232*(T154/('Analysis 103L'!$Y$230+'Analysis 103L'!$Y$231))","v":{"$error":"#VALUE!"}},null,null,{"$f":"IF(R154=\"\",\"\",R154*'Analysis 103L'!$D$23)","v":""},null,null,null,null,{"$error":"#VALUE!"},{"$f":"IF(AND(V154=\"\",AL154=\"Custom\"),MIN(L154*Incent_Cost_Controls_Cust,R154/K154*0.35),IF(AI154=\"LLLC\",MIN(AJ154,((L154+'Analysis 103L'!R175)*Incent_Cost_LLLC)-'Analysis 103L'!X175),IF(AE154>=VLOOKUP(I154,Incent_Controls,3,FALSE),MIN(L154,VLOOKUP(I154,Incent_Controls,2,FALSE)),\"\")))","v":{"$error":"#VALUE!"}},"",null,"","",null,"","PASS/PASS","",{"$error":"#VALUE!"},{"$error":"#VALUE!"},{"$error":"#VALUE!"},"",null,10,{"$f":"VLOOKUP('Analysis 103L'!BE175, avoided_costs, ROUND($AT154, 0)+2, FALSE)","v":{"$error":"#N/A"}},{"$error":"#N/A"},{"$error":"#VALUE!"},{"$error":"#N/A"},{"$error":"#N/A"},{"$error":"#VALUE!"},{"$error":"#N/A"},{"$error":"#N/A"},{"$error":"#N/A"},null,null,null,null,null,null,null,null,null,null,null,null,null,null,null,{"$f":"'Analysis 103L'!CF175","v":""},"","","","","",""]
[149,{"$f":"'Analysis 103L'!C176","v":0},null,{"$f":"'Analysis 103L'!I176","v":""},{"$f":"'Analysis 103L'!J176","v":""},{"$f":"'Analysis 103L'!P176","v":0},{"$f":"'Analysis 103L'!N176","v":""},{"$f":"'Analysis 103L'!Q176","v":""},null,null,"",null,"","","","","","",0,"",null,"",{"$f":"'Analysis 103L'!$Y$232*(T155/('Analysis 103L'!$Y$230+'Analysis 103L'!$Y$231))","v":{"$error":"#VALUE!"}},null,null,{"$f":"IF(R155=\"\",\"\",R155*'Analysis 103L'!$D$23)","v":""},null,null,null,null,{"$error":"#VALUE!"},{"$f":"IF(AND(V155=\"\",AL155=\"Custom\"),MIN(L155*Incent_Cost_Controls_Cust,R155/K155*0.35),IF(AI155=\"LLLC\",MIN(AJ155,((L155+'Analysis 103L'!R176)*Incent_Cost_LLLC)-'Analysis 103L'!X176),IF(AE155>=VLOOKUP(I155,Incent_Controls,3,FALSE),MIN(L155,VLOOKUP(I155,Incent_Controls,2,FALSE)),\"\")))","v":{"$error":"#VALUE!"}},"",null,"","",null,"","PASS/PASS","",{"$error":"#VALUE!"},{"$error":"#VALUE!"},{"$error":"#VALUE!"},"",null,10,{"$f":"VLOOKUP('Analysis 103L'!BE176, avoided_costs, ROUND($AT155, 0)+2, FALSE)","v":{"$error":"#N/A"}},{"$error":"#N/A"},{"$error":"#VALUE!"},{"$error":"#N/A"},{"$error":"#N/A"},{"$error":"#VALUE!"},{"$error":"#N/A"},{"$error":"#N/A"},{"$error":"#N/A"},null,null,null,null,null,null,null,null,null,null,null,null,null,null,null,{"$f":"'Analysis 103L'!CF176","v":""},"","","","","",""]
[150,{"$f":"'Analysis 103L'!C177","v":0},null,{"$f":"'Analysis 103L'!I177","v":""},{"$f":"'Analysis 103L'!J177","v":""},{"$f":"'Analysis 103L'!P177","v":0},{"$f":"'Analysis 103L'!N177","v":""},{"$f":"'Analysis 103L'!Q177","v":""},null,null,"",null,"","","","","","",0,"",null,"",{"$f":"'Analysis 103L'!$Y$232*(T156/('Analysis 103L'!$Y$230+'Analysis 103L'!$Y$231))","v":{"$error":"#VALUE!"}},null,null,{"$f":"IF(R156=\"\",\"\",R156*'Analysis 103L'!$D$23)","v":""},null,null,null,null,{"$error":"#VALUE!"},{"$f":"IF(AND(V156=\"\",AL156=\"Custom\"),MIN(L156*Incent_Cost_Controls_Cust,R156/K156*0.35),IF(AI156=\"LLLC\",MIN(AJ156,((L156+'Analysis 103L'!R177)*Incent_Cost_LLLC)-'Analysis 103L'!X177),IF(AE156>=VLOOKUP(I156,Incent_Controls,3,FALSE),MIN(L156,VLOOKUP(I156,Incent_Controls,2,FALSE)),\"\")))","v":{"$error":"#VALUE!"}},"",null,"","",null,"","PASS/PASS","",{"$error":"#VALUE!"},{"$error":"#VALUE!"},{"$error":"#VALUE!"},"",null,10,{"$f":"VLOOKUP('Analysis 103L'!BE177, avoided_costs, ROUND($AT156, 0)+2, FALSE)","v":{"$error":"#N/A"}},{"$error":"#N/A"},{"$error":"#VALUE!"},{"$error":"#N/A"},{"$error":"#N/A"},{"$error":"#VALUE!"},{"$error":"#N/A"},{"$error":"#N/A"},{"$error":"#N/A"},null,null,null,null,null,null,null,null,null,null,null,null,null,null,null,{"$f":"'Analysis 103L'!CF177","v":""},"","","","","",""]
[151,{"$f":"'Analysis 103L'!C178","v":0},null,{"$f":"'Analysis 103L'!I178","v":""},{"$f":"'Analysis 103L'!J178","v":""},{"$f":"'Analysis 103L'!P178","v":0},{"$f":"'Analysis 103L'!N178","v":""},{"$f":"'Analysis 103L'!Q178","v":""},null,null,"",null,"","","","","","",0,"",null,"",{"$f":"'Analysis 103L'!$Y$232*(T157/('Analysis 103L'!$Y$230+'Analysis 103L'!$Y$231))","v":{"$error":"#VALUE!"}},null,null,{"$f":"IF(R157=\"\",\"\",R157*'Analysis 103L'!$D$23)","v":""},null,null,null,null,{"$error":"#VALUE!"},{"$f":"IF(AND(V157=\"\",AL157=\"Custom\"),MIN(L157*Incent_Cost_Controls_Cust,R157/K157*0.35),IF(AI157=\"LLLC\",MIN(AJ157,((L157+'Analysis 103L'!R178)*Incent_Cost_LLLC)-'Analysis 103L'!X178),IF(AE157>=VLOOKUP(I157,Incent_Controls,3,FALSE),MIN(L157,VLOOKUP(I157,Incent_Controls,2,FALSE)),\"\")))","v":{"$error":"#VALUE!"}},"",null,"","",null,"","PASS/PASS","",{"$error":"#VALUE!"},{"$error":"#VALUE!"},{"$error":"#VALUE!"},"",null,10,{"$f":"VLOOKUP('Analysis 103L'!BE178, avoided_costs, ROUND($AT157, 0)+2, FALSE)","v":{"$error":"#N/A"}},{"$error":"#N/A"},{"$error":"#VALUE!"},{"$error":"#N/A"},{"$error":"#N/A"},{"$error":"#VALUE!"},{"$error":"#N/A"},{"$error":"#N/A"},{"$error":"#N/A"},null,null,null,null,null,null,null,null,null,null,null,null,null,null,null,{"$f":"'Analysis 103L'!CF178","v":""},"","","","","",""]
[152,{"$f":"'Analysis 103L'!C179","v":0},null,{"$f":"'Analysis 103L'!I179","v":""},{"$f":"'Analysis 103L'!J179","v":""},{"$f":"'Analysis 103L'!P179","v":0},{"$f":"'Analysis 103L'!N179","v":""},{"$f":"'Analysis 103L'!Q179","v":""},null,null,"",null,"","","","","","",0,"",null,"",{"$f":"'Analysis 103L'!$Y$232*(T158/('Analysis 103L'!$Y$230+'Analysis 103L'!$Y$231))","v":{"$error":"#VALUE!"}},null,null,{"$f":"IF(R158=\"\",\"\",R158*'Analysis 103L'!$D$23)","v":""},null,null,null,null,{"$error":"#VALUE!"},{"$f":"IF(AND(V158=\"\",AL158=\"Custom\"),MIN(L158*Incent_Cost_Controls_Cust,R158/K158*0.35),IF(AI158=\"LLLC\",MIN(AJ158,((L158+'Analysis 103L'!R179)*Incent_Cost_LLLC)-'Analysis 103L'!X179),IF(AE158>=VLOOKUP(I158,Incent_Controls,3,FALSE),MIN(L158,VLOOKUP(I158,Incent_Controls,2,FALSE)),\"\")))","v":{"$error":"#VALUE!"}},"",null,"","",null,"","PASS/PASS","",{"$error":"#VALUE!"},{"$error":"#VALUE!"},{"$error":"#VALUE!"},"",null,10,{"$f":"VLOOKUP('Analysis 103L'!BE179, avoided_costs, ROUND($AT158, 0)+2, FALSE)","v":{"$error":"#N/A"}},{"$error":"#N/A"},{"$error":"#VALUE!"},{"$error":"#N/A"},{"$error":"#N/A"},{"$error":"#VALUE!"},{"$error":"#N/A"},{"$error":"#N/A"},{"$error":"#N/A"},null,null,null,null,null,null,null,null,null,null,null,null,null,null,null,{"$f":"'Analysis 103L'!CF179","v":""},"","","","","",""]
[153,{"$f":"'Analysis 103L'!C180","v":0},null,{"$f":"'Analysis 103L'!I180","v":""},{"$f":"'Analysis 103L'!J180","v":""},{"$f":"'Analysis 103L'!P180","v":0},{"$f":"'Analysis 103L'!N180","v":""},{"$f":"'Analysis 103L'!Q180","v":""},null,null,"",null,"","","","","","",0,"",null,"",{"$f":"'Analysis 103L'!$Y$232*(T159/('Analysis 103L'!$Y$230+'Analysis 103L'!$Y$231))","v":{"$error":"#VALUE!"}},null,null,{"$f":"IF(R159=\"\",\"\",R159*'Analysis 103L'!$D$23)","v":""},null,null,null,null,{"$error":"#VALUE!"},{"$f":"IF(AND(V159=\"\",AL159=\"Custom\"),MIN(L159*Incent_Cost_Controls_Cust,R159/K159*0.35),IF(AI159=\"LLLC\",MIN(AJ159,((L159+'Analysis 103L'!R180)*Incent_Cost_LLLC)-'Analysis 103L'!X180),IF(AE159>=VLOOKUP(I159,Incent_Controls,3,FALSE),MIN(L159,VLOOKUP(I159,Incent_Controls,2,FALSE)),\"\")))","v":{"$error":"#VALUE!"}},"",null,"","",null,"","PASS/PASS","",{"$error":"#VALUE!"},{"$error":"#VALUE!"},{"$error":"#VALUE!"},"",null,10,{"$f":"VLOOKUP('Analysis 103L'!BE180, avoided_costs, ROUND($AT159, 0)+2, FALSE)","v":{"$error":"#N/A"}},{"$error":"#N/A"},{"$error":"#VALUE!"},{"$error":"#N/A"},{"$error":"#N/A"},{"$error":"#VALUE!"},{"$error":"#N/A"},{"$error":"#N/A"},{"$error":"#N/A"},null,null,null,null,null,null,null,null,null,null,null,null,null,null,null,{"$f":"'Analysis 103L'!CF180","v":""},"","","","","",""]
[154,{"$f":"'Analysis 103L'!C181","v":0},null,{"$f":"'Analysis 103L'!I181","v":""},{"$f":"'Analysis 103L'!J181","v":""},{"$f":"'Analysis 103L'!P181","v":0},{"$f":"'Analysis 103L'!N181","v":""},{"$f":"'Analysis 103L'!Q181","v":""},null,null,"",null,"","","","","","",0,"",null,"",{"$f":"'Analysis 103L'!$Y$232*(T160/('Analysis 103L'!$Y$230+'Analysis 103L'!$Y$231))","v":{"$error":"#VALUE!"}},null,null,{"$f":"IF(R160=\"\",\"\",R160*'Analysis 103L'!$D$23)","v":""},null,null,null,null,{"$error":"#VALUE!"},{"$f":"IF(AND(V160=\"\",AL160=\"Custom\"),MIN(L160*Incent_Cost_Controls_Cust,R160/K160*0.35),IF(AI160=\"LLLC\",MIN(AJ160,((L160+'Analysis 103L'!R181)*Incent_Cost_LLLC)-'Analysis 103L'!X181),IF(AE160>=VLOOKUP(I160,Incent_Controls,3,FALSE),MIN(L160,VLOOKUP(I160,Incent_Controls,2,FALSE)),\"\")))","v":{"$error":"#VALUE!"}},"",null,"","",null,"","PASS/PASS","",{"$error":"#VALUE!"},{"$error":"#VALUE!"},{"$error":"#VALUE!"},"",null,10,{"$f":"VLOOKUP('Analysis 103L'!BE181, avoided_costs, ROUND($AT160, 0)+2, FALSE)","v":{"$error":"#N/A"}},{"$error":"#N/A"},{"$error":"#VALUE!"},{"$error":"#N/A"},{"$error":"#N/A"},{"$error":"#VALUE!"},{"$error":"#N/A"},{"$error":"#N/A"},{"$error":"#N/A"},null,null,null,null,null,null,null,null,null,null,null,null,null,null,null,{"$f":"'Analysis 103L'!CF181","v":""},"","","","","",""]
[155,{"$f":"'Analysis 103L'!C182","v":0},null,{"$f":"'Analysis 103L'!I182","v":""},{"$f":"'Analysis 103L'!J182","v":""},{"$f":"'Analysis 103L'!P182","v":0},{"$f":"'Analysis 103L'!N182","v":""},{"$f":"'Analysis 103L'!Q182","v":""},null,null,"",null,"","","","","","",0,"",null,"",{"$f":"'Analysis 103L'!$Y$232*(T161/('Analysis 103L'!$Y$230+'Analysis 103L'!$Y$231))","v":{"$error":"#VALUE!"}},null,null,{"$f":"IF(R161=\"\",\"\",R161*'Analysis 103L'!$D$23)","v":""},null,null,null,null,{"$error":"#VALUE!"},{"$f":"IF(AND(V161=\"\",AL161=\"Custom\"),MIN(L161*Incent_Cost_Controls_Cust,R161/K161*0.35),IF(AI161=\"LLLC\",MIN(AJ161,((L161+'Analysis 103L'!R182)*Incent_Cost_LLLC)-'Analysis 103L'!X182),IF(AE161>=VLOOKUP(I161,Incent_Controls,3,FALSE),MIN(L161,VLOOKUP(I161,Incent_Controls,2,FALSE)),\"\")))","v":{"$error":"#VALUE!"}},"",null,"","",null,"","PASS/PASS","",{"$error":"#VALUE!"},{"$error":"#VALUE!"},{"$error":"#VALUE!"},"",null,10,{"$f":"VLOOKUP('Analysis 103L'!BE182, avoided_costs, ROUND($AT161, 0)+2, FALSE)","v":{"$error":"#N/A"}},{"$error":"#N/A"},{"$error":"#VALUE!"},{"$error":"#N/A"},{"$error":"#N/A"},{"$error":"#VALUE!"},{"$error":"#N/A"},{"$error":"#N/A"},{"$error":"#N/A"},null,null,null,null,null,null,null,null,null,null,null,null,null,null,null,{"$f":"'Analysis 103L'!CF182","v":""},"","","","","",""]
[156,{"$f":"'Analysis 103L'!C183","v":0},null,{"$f":"'Analysis 103L'!I183","v":""},{"$f":"'Analysis 103L'!J183","v":""},{"$f":"'Analysis 103L'!P183","v":0},{"$f":"'Analysis 103L'!N183","v":""},{"$f":"'Analysis 103L'!Q183","v":""},null,null,"",null,"","","","","","",0,"",null,"",{"$f":"'Analysis 103L'!$Y$232*(T162/('Analysis 103L'!$Y$230+'Analysis 103L'!$Y$231))","v":{"$error":"#VALUE!"}},null,null,{"$f":"IF(R162=\"\",\"\",R162*'Analysis 103L'!$D$23)","v":""},null,null,null,null,{"$error":"#VALUE!"},{"$f":"IF(AND(V162=\"\",AL162=\"Custom\"),MIN(L162*Incent_Cost_Controls_Cust,R162/K162*0.35),IF(AI162=\"LLLC\",MIN(AJ162,((L162+'Analysis 103L'!R183)*Incent_Cost_LLLC)-'Analysis 103L'!X183),IF(AE162>=VLOOKUP(I162,Incent_Controls,3,FALSE),MIN(L162,VLOOKUP(I162,Incent_Controls,2,FALSE)),\"\")))","v":{"$error":"#VALUE!"}},"",null,"","",null,"","PASS/PASS","",{"$error":"#VALUE!"},{"$error":"#VALUE!"},{"$error":"#VALUE!"},"",null,10,{"$f":"VLOOKUP('Analysis 103L'!BE183, avoided_costs, ROUND($AT162, 0)+2, FALSE)","v":{"$error":"#N/A"}},{"$error":"#N/A"},{"$error":"#VALUE!"},{"$error":"#N/A"},{"$error":"#N/A"},{"$error":"#VALUE!"},{"$error":"#N/A"},{"$error":"#N/A"},{"$error":"#N/A"},null,null,null,null,null,null,null,null,null,null,null,null,null,null,null,{"$f":"'Analysis 103L'!CF183","v":""},"","","","","",""]
[157,{"$f":"'Analysis 103L'!C184","v":0},null,{"$f":"'Analysis 103L'!I184","v":""},{"$f":"'Analysis 103L'!J184","v":""},{"$f":"'Analysis 103L'!P184","v":0},{"$f":"'Analysis 103L'!N184","v":""},{"$f":"'Analysis 103L'!Q184","v":""},null,null,"",null,"","","","","","",0,"",null,"",{"$f":"'Analysis 103L'!$Y$232*(T163/('Analysis 103L'!$Y$230+'Analysis 103L'!$Y$231))","v":{"$error":"#VALUE!"}},null,null,{"$f":"IF(R163=\"\",\"\",R163*'Analysis 103L'!$D$23)","v":""},null,null,null,null,{"$error":"#VALUE!"},{"$f":"IF(AND(V163=\"\",AL163=\"Custom\"),MIN(L163*Incent_Cost_Controls_Cust,R163/K163*0.35),IF(AI163=\"LLLC\",MIN(AJ163,((L163+'Analysis 103L'!R184)*Incent_Cost_LLLC)-'Analysis 103L'!X184),IF(AE163>=VLOOKUP(I163,Incent_Controls,3,FALSE),MIN(L163,VLOOKUP(I163,Incent_Controls,2,FALSE)),\"\")))","v":{"$error":"#VALUE!"}},"",null,"","",null,"","PASS/PASS","",{"$error":"#VALUE!"},{"$error":"#VALUE!"},{"$error":"#VALUE!"},"",null,10,{"$f":"VLOOKUP('Analysis 103L'!BE184, avoided_costs, ROUND($AT163, 0)+2, FALSE)","v":{"$error":"#N/A"}},{"$error":"#N/A"},{"$error":"#VALUE!"},{"$error":"#N/A"},{"$error":"#N/A"},{"$error":"#VALUE!"},{"$error":"#N/A"},{"$error":"#N/A"},{"$error":"#N/A"},null,null,null,null,null,null,null,null,null,null,null,null,null,null,null,{"$f":"'Analysis 103L'!CF184","v":""},"","","","","",""]
[158,{"$f":"'Analysis 103L'!C185","v":0},null,{"$f":"'Analysis 103L'!I185","v":""},{"$f":"'Analysis 103L'!J185","v":""},{"$f":"'Analysis 103L'!P185","v":0},{"$f":"'Analysis 103L'!N185","v":""},{"$f":"'Analysis 103L'!Q185","v":""},null,null,"",null,"","","","","","",0,"",null,"",{"$f":"'Analysis 103L'!$Y$232*(T164/('Analysis 103L'!$Y$230+'Analysis 103L'!$Y$231))","v":{"$error":"#VALUE!"}},null,null,{"$f":"IF(R164=\"\",\"\",R164*'Analysis 103L'!$D$23)","v":""},null,null,null,null,{"$error":"#VALUE!"},{"$f":"IF(AND(V164=\"\",AL164=\"Custom\"),MIN(L164*Incent_Cost_Controls_Cust,R164/K164*0.35),IF(AI164=\"LLLC\",MIN(AJ164,((L164+'Analysis 103L'!R185)*Incent_Cost_LLLC)-'Analysis 103L'!X185),IF(AE164>=VLOOKUP(I164,Incent_Controls,3,FALSE),MIN(L164,VLOOKUP(I164,Incent_Controls,2,FALSE)),\"\")))","v":{"$error":"#VALUE!"}},"",null,"","",null,"","PASS/PASS","",{"$error":"#VALUE!"},{"$error":"#VALUE!"},{"$error":"#VALUE!"},"",null,10,{"$f":"VLOOKUP('Analysis 103L'!BE185, avoided_costs, ROUND($AT164, 0)+2, FALSE)","v":{"$error":"#N/A"}},{"$error":"#N/A"},{"$error":"#VALUE!"},{"$error":"#N/A"},{"$error":"#N/A"},{"$error":"#VALUE!"},{"$error":"#N/A"},{"$error":"#N/A"},{"$error":"#N/A"},null,null,null,null,null,null,null,null,null,null,null,null,null,null,null,{"$f":"'Analysis 103L'!CF185","v":""},"","","","","",""]
[159,{"$f":"'Analysis 103L'!C186","v":0},null,{"$f":"'Analysis 103L'!I186","v":""},{"$f":"'Analysis 103L'!J186","v":""},{"$f":"'Analysis 103L'!P186","v":0},{"$f":"'Analysis 103L'!N186","v":""},{"$f":"'Analysis 103L'!Q186","v":""},null,null,"",null,"","","","","","",0,"",null,"",{"$f":"'Analysis 103L'!$Y$232*(T165/('Analysis 103L'!$Y$230+'Analysis 103L'!$Y$231))","v":{"$error":"#VALUE!"}},null,null,{"$f":"IF(R165=\"\",\"\",R165*'Analysis 103L'!$D$23)","v":""},null,null,null,null,{"$error":"#VALUE!"},{"$f":"IF(AND(V165=\"\",AL165=\"Custom\"),MIN(L165*Incent_Cost_Controls_Cust,R165/K165*0.35),IF(AI165=\"LLLC\",MIN(AJ165,((L165+'Analysis 103L'!R186)*Incent_Cost_LLLC)-'Analysis 103L'!X186),IF(AE165>=VLOOKUP(I165,Incent_Controls,3,FALSE),MIN(L165,VLOOKUP(I165,Incent_Controls,2,FALSE)),\"\")))","v":{"$error":"#VALUE!"}},"",null,"","",null,"","PASS/PASS","",{"$error":"#VALUE!"},{"$error":"#VALUE!"},{"$error":"#VALUE!"},"",null,10,{"$f":"VLOOKUP('Analysis 103L'!BE186, avoided_costs, ROUND($AT165, 0)+2, FALSE)","v":{"$error":"#N/A"}},{"$error":"#N/A"},{"$error":"#VALUE!"},{"$error":"#N/A"},{"$error":"#N/A"},{"$error":"#VALUE!"},{"$error":"#N/A"},{"$error":"#N/A"},{"$error":"#N/A"},null,null,null,null,null,null,null,null,null,null,null,null,null,null,null,{"$f":"'Analysis 103L'!CF186","v":""},"","","","","",""]
[160,{"$f":"'Analysis 103L'!C187","v":0},null,{"$f":"'Analysis 103L'!I187","v":""},{"$f":"'Analysis 103L'!J187","v":""},{"$f":"'Analysis 103L'!P187","v":0},{"$f":"'Analysis 103L'!N187","v":""},{"$f":"'Analysis 103L'!Q187","v":""},null,null,"",null,"","","","","","",0,"",null,"",{"$f":"'Analysis 103L'!$Y$232*(T166/('Analysis 103L'!$Y$230+'Analysis 103L'!$Y$231))","v":{"$error":"#VALUE!"}},null,null,{"$f":"IF(R166=\"\",\"\",R166*'Analysis 103L'!$D$23)","v":""},null,null,null,null,{"$error":"#VALUE!"},{"$f":"IF(AND(V166=\"\",AL166=\"Custom\"),MIN(L166*Incent_Cost_Controls_Cust,R166/K166*0.35),IF(AI166=\"LLLC\",MIN(AJ166,((L166+'Analysis 103L'!R187)*Incent_Cost_LLLC)-'Analysis 103L'!X187),IF(AE166>=VLOOKUP(I166,Incent_Controls,3,FALSE),MIN(L166,VLOOKUP(I166,Incent_Controls,2,FALSE)),\"\")))","v":{"$error":"#VALUE!"}},"",null,"","",null,"","PASS/PASS","",{"$error":"#VALUE!"},{"$error":"#VALUE!"},{"$error":"#VALUE!"},"",null,10,{"$f":"VLOOKUP('Analysis 103L'!BE187, avoided_costs, ROUND($AT166, 0)+2, FALSE)","v":{"$error":"#N/A"}},{"$error":"#N/A"},{"$error":"#VALUE!"},{"$error":"#N/A"},{"$error":"#N/A"},{"$error":"#VALUE!"},{"$error":"#N/A"},{"$error":"#N/A"},{"$error":"#N/A"},null,null,null,null,null,null,null,null,null,null,null,null,null,null,null,{"$f":"'Analysis 103L'!CF187","v":""},"","","","","",""]
[161,{"$f":"'Analysis 103L'!C188","v":0},null,{"$f":"'Analysis 103L'!I188","v":""},{"$f":"'Analysis 103L'!J188","v":""},{"$f":"'Analysis 103L'!P188","v":0},{"$f":"'Analysis 103L'!N188","v":""},{"$f":"'Analysis 103L'!Q188","v":""},null,null,"",null,"","",{"$f":"IF(RIGHT(D167, 4)=\"Case\", \"\",IF(K167=\"\",\"\",IF(AI167=\"LLLC\", VLOOKUP(C167,Space_Type_CSFs, 9, FALSE), VLOOKUP(C167,Space_Type_CSFs, 6, FALSE))))","v":""},"","","",0,"",null,"",{"$f":"'Analysis 103L'!$Y$232*(T167/('Analysis 103L'!$Y$230+'Analysis 103L'!$Y$231))","v":{"$error":"#VALUE!"}},null,null,{"$f":"IF(R167=\"\",\"\",R167*'Analysis 103L'!$D$23)","v":""},null,null,null,null,{"$error":"#VALUE!"},{"$f":"IF(AND(V167=\"\",AL167=\"Custom\"),MIN(L167*Incent_Cost_Controls_Cust,R167/K167*0.35),IF(AI167=\"LLLC\",MIN(AJ167,((L167+'Analysis 103L'!R188)*Incent_Cost_LLLC)-'Analysis 103L'!X188),IF(AE167>=VLOOKUP(I167,Incent_Controls,3,FALSE),MIN(L167,VLOOKUP(I167,Incent_Controls,2,FALSE)),\"\")))","v":{"$error":"#VALUE!"}},"",null,"","",null,"","PASS/PASS",{"$f":"IF(AM167=\"PASS/PASS\",M167,\"0\")","v":""},{"$f":"F167*G167*H167/1000","v":{"$error":"#VALUE!"}},{"$f":"AO167*(1-O167)","v":{"$error":"#VALUE!"}},{"$error":"#VALUE!"},{"$f":"IF(AL167=\"Custom\",0.35*M167,T167)","v":""},null,10,{"$f":"VLOOKUP('Analysis 103L'!BE188, avoided_costs, ROUND($AT167, 0)+2, FALSE)","v":{"$error":"#N/A"}},{"$error":"#N/A"},{"$f":"0.5*M167/AQ167","v":{"$error":"#VALUE!"}},{"$error":"#N/A"},{"$error":"#N/A"},{"$f":"M167/AQ167","v":{"$error":"#VALUE!"}},{"$error":"#N/A"},{"$error":"#N/A"},{"$error":"#N/A"},null,null,null,null,null,null,null,null,null,null,null,null,null,null,null,{"$f":"'Analysis 103L'!CF188","v":""},"","",{"$f":"IF(BT167=\"\", \"\", INDEX($BQ$32:$BQ$33, MATCH($BT167, $BN$32:$BN$33, 0))*$BU167)","v":""},"","",""]
[162,{"$f":"'Analysis 103L'!C189","v":0},null,{"$f":"'Analysis 103L'!I189","v":""},{"$f":"'Analysis 103L'!J189","v":""},{"$f":"'Analysis 103L'!P189","v":0},{"$f":"'Analysis 103L'!N189","v":""},{"$f":"'Analysis 103L'!Q189","v":""},null,null,"",null,"","","","","","",0,"",null,"",{"$f":"'Analysis 103L'!$Y$232*(T168/('Analysis 103L'!$Y$230+'Analysis 103L'!$Y$231))","v":{"$error":"#VALUE!"}},null,null,{"$f":"IF(R168=\"\",\"\",R168*'Analysis 103L'!$D$23)","v":""},null,null,null,null,{"$error":"#VALUE!"},{"$f":"IF(AND(V168=\"\",AL168=\"Custom\"),MIN(L168*Incent_Cost_Controls_Cust,R168/K168*0.35),IF(AI168=\"LLLC\",MIN(AJ168,((L168+'Analysis 103L'!R189)*Incent_Cost_LLLC)-'Analysis 103L'!X189),IF(AE168>=VLOOKUP(I168,Incent_Controls,3,FALSE),MIN(L168,VLOOKUP(I168,Incent_Controls,2,FALSE)),\"\")))","v":{"$error":"#VALUE!"}},"",null,"","",null,"","PASS/PASS","",{"$error":"#VALUE!"},{"$error":"#VALUE!"},{"$error":"#VALUE!"},"",null,10,{"$f":"VLOOKUP('Analysis 103L'!BE189, avoided_costs, ROUND($AT168, 0)+2, FALSE)","v":{"$error":"#N/A"}},{"$error":"#N/A"},{"$error":"#VALUE!"},{"$error":"#N/A"},{"$error":"#N/A"},{"$error":"#VALUE!"},{"$error":"#N/A"},{"$error":"#N/A"},{"$error":"#N/A"},null,null,null,null,null,null,null,null,null,null,null,null,null,null,null,{"$f":"'Analysis 103L'!CF189","v":""},"","","","","",""]
[163,{"$f":"'Analysis 103L'!C190","v":0},null,{"$f":"'Analysis 103L'!I190","v":""},{"$f":"'Analysis 103L'!J190","v":""},{"$f":"'Analysis 103L'!P190","v":0},{"$f":"'Analysis 103L'!N190","v":""},{"$f":"'Analysis 103L'!Q190","v":""},null,null,"",null,"","","","","","",0,"",null,"",{"$f":"'Analysis 103L'!$Y$232*(T169/('Analysis 103L'!$Y$230+'Analysis 103L'!$Y$231))","v":{"$error":"#VALUE!"}},null,null,{"$f":"IF(R169=\"\",\"\",R169*'Analysis 103L'!$D$23)","v":""},null,null,null,null,{"$error":"#VALUE!"},{"$f":"IF(AND(V169=\"\",AL169=\"Custom\"),MIN(L169*Incent_Cost_Controls_Cust,R169/K169*0.35),IF(AI169=\"LLLC\",MIN(AJ169,((L169+'Analysis 103L'!R190)*Incent_Cost_LLLC)-'Analysis 103L'!X190),IF(AE169>=VLOOKUP(I169,Incent_Controls,3,FALSE),MIN(L169,VLOOKUP(I169,Incent_Controls,2,FALSE)),\"\")))","v":{"$error":"#VALUE!"}},"",null,"","",null,"","PASS/PASS","",{"$error":"#VALUE!"},{"$error":"#VALUE!"},{"$error":"#VALUE!"},"",null,10,{"$f":"VLOOKUP('Analysis 103L'!BE190, avoided_costs, ROUND($AT169, 0)+2, FALSE)","v":{"$error":"#N/A"}},{"$error":"#N/A"},{"$error":"#VALUE!"},{"$error":"#N/A"},{"$error":"#N/A"},{"$error":"#VALUE!"},{"$error":"#N/A"},{"$error":"#N/A"},{"$error":"#N/A"},null,null,null,null,null,null,null,null,null,null,null,null,null,null,null,{"$f":"'Analysis 103L'!CF190","v":""},"","","","","",""]
[164,{"$f":"'Analysis 103L'!C191","v":0},null,{"$f":"'Analysis 103L'!I191","v":""},{"$f":"'Analysis 103L'!J191","v":""},{"$f":"'Analysis 103L'!P191","v":0},{"$f":"'Analysis 103L'!N191","v":""},{"$f":"'Analysis 103L'!Q191","v":""},null,null,"",null,"","","","","","",0,"",null,"",{"$f":"'Analysis 103L'!$Y$232*(T170/('Analysis 103L'!$Y$230+'Analysis 103L'!$Y$231))","v":{"$error":"#VALUE!"}},null,null,{"$f":"IF(R170=\"\",\"\",R170*'Analysis 103L'!$D$23)","v":""},null,null,null,null,{"$error":"#VALUE!"},{"$f":"IF(AND(V170=\"\",AL170=\"Custom\"),MIN(L170*Incent_Cost_Controls_Cust,R170/K170*0.35),IF(AI170=\"LLLC\",MIN(AJ170,((L170+'Analysis 103L'!R191)*Incent_Cost_LLLC)-'Analysis 103L'!X191),IF(AE170>=VLOOKUP(I170,Incent_Controls,3,FALSE),MIN(L170,VLOOKUP(I170,Incent_Controls,2,FALSE)),\"\")))","v":{"$error":"#VALUE!"}},"",null,"","",null,"","PASS/PASS","",{"$error":"#VALUE!"},{"$error":"#VALUE!"},{"$error":"#VALUE!"},"",null,10,{"$f":"VLOOKUP('Analysis 103L'!BE191, avoided_costs, ROUND($AT170, 0)+2, FALSE)","v":{"$error":"#N/A"}},{"$error":"#N/A"},{"$error":"#VALUE!"},{"$error":"#N/A"},{"$error":"#N/A"},{"$error":"#VALUE!"},{"$error":"#N/A"},{"$error":"#N/A"},{"$error":"#N/A"},null,null,null,null,null,null,null,null,null,null,null,null,null,null,null,{"$f":"'Analysis 103L'!CF191","v":""},"","","","","",""]
[165,{"$f":"'Analysis 103L'!C192","v":0},null,{"$f":"'Analysis 103L'!I192","v":""},{"$f":"'Analysis 103L'!J192","v":""},{"$f":"'Analysis 103L'!P192","v":0},{"$f":"'Analysis 103L'!N192","v":""},{"$f":"'Analysis 103L'!Q192","v":""},null,null,"",null,"","","","","","",0,"",null,"",{"$f":"'Analysis 103L'!$Y$232*(T171/('Analysis 103L'!$Y$230+'Analysis 103L'!$Y$231))","v":{"$error":"#VALUE!"}},null,null,{"$f":"IF(R171=\"\",\"\",R171*'Analysis 103L'!$D$23)","v":""},null,null,null,null,{"$error":"#VALUE!"},{"$f":"IF(AND(V171=\"\",AL171=\"Custom\"),MIN(L171*Incent_Cost_Controls_Cust,R171/K171*0.35),IF(AI171=\"LLLC\",MIN(AJ171,((L171+'Analysis 103L'!R192)*Incent_Cost_LLLC)-'Analysis 103L'!X192),IF(AE171>=VLOOKUP(I171,Incent_Controls,3,FALSE),MIN(L171,VLOOKUP(I171,Incent_Controls,2,FALSE)),\"\")))","v":{"$error":"#VALUE!"}},"",null,"","",null,"","PASS/PASS","",{"$error":"#VALUE!"},{"$error":"#VALUE!"},{"$error":"#VALUE!"},"",null,10,{"$f":"VLOOKUP('Analysis 103L'!BE192, avoided_costs, ROUND($AT171, 0)+2, FALSE)","v":{"$error":"#N/A"}},{"$error":"#N/A"},{"$error":"#VALUE!"},{"$error":"#N/A"},{"$error":"#N/A"},{"$error":"#VALUE!"},{"$error":"#N/A"},{"$error":"#N/A"},{"$error":"#N/A"},null,null,null,null,null,null,null,null,null,null,null,null,null,null,null,{"$f":"'Analysis 103L'!CF192","v":""},"","","","","",""]
[166,{"$f":"'Analysis 103L'!C193","v":0},null,{"$f":"'Analysis 103L'!I193","v":""},{"$f":"'Analysis 103L'!J193","v":""},{"$f":"'Analysis 103L'!P193","v":0},{"$f":"'Analysis 103L'!N193","v":""},{"$f":"'Analysis 103L'!Q193","v":""},null,null,"",null,"","","","","","",0,"",null,"",{"$f":"'Analysis 103L'!$Y$232*(T172/('Analysis 103L'!$Y$230+'Analysis 103L'!$Y$231))","v":{"$error":"#VALUE!"}},null,null,{"$f":"IF(R172=\"\",\"\",R172*'Analysis 103L'!$D$23)","v":""},null,null,null,null,{"$error":"#VALUE!"},{"$f":"IF(AND(V172=\"\",AL172=\"Custom\"),MIN(L172*Incent_Cost_Controls_Cust,R172/K172*0.35),IF(AI172=\"LLLC\",MIN(AJ172,((L172+'Analysis 103L'!R193)*Incent_Cost_LLLC)-'Analysis 103L'!X193),IF(AE172>=VLOOKUP(I172,Incent_Controls,3,FALSE),MIN(L172,VLOOKUP(I172,Incent_Controls,2,FALSE)),\"\")))","v":{"$error":"#VALUE!"}},"",null,"","",null,"","PASS/PASS","",{"$error":"#VALUE!"},{"$error":"#VALUE!"},{"$error":"#VALUE!"},"",null,10,{"$f":"VLOOKUP('Analysis 103L'!BE193, avoided_costs, ROUND($AT172, 0)+2, FALSE)","v":{"$error":"#N/A"}},{"$error":"#N/A"},{"$error":"#VALUE!"},{"$error":"#N/A"},{"$error":"#N/A"},{"$error":"#VALUE!"},{"$error":"#N/A"},{"$error":"#N/A"},{"$error":"#N/A"},null,null,null,null,null,null,null,null,null,null,null,null,null,null,null,{"$f":"'Analysis 103L'!CF193","v":""},"","","","","",""]
[167,{"$f":"'Analysis 103L'!C194","v":0},null,{"$f":"'Analysis 103L'!I194","v":""},{"$f":"'Analysis 103L'!J194","v":""},{"$f":"'Analysis 103L'!P194","v":0},{"$f":"'Analysis 103L'!N194","v":""},{"$f":"'Analysis 103L'!Q194","v":""},null,null,"",null,"","","","","","",0,"",null,"",{"$f":"'Analysis 103L'!$Y$232*(T173/('Analysis 103L'!$Y$230+'Analysis 103L'!$Y$231))","v":{"$error":"#VALUE!"}},null,null,{"$f":"IF(R173=\"\",\"\",R173*'Analysis 103L'!$D$23)","v":""},null,null,null,null,{"$error":"#VALUE!"},{"$f":"IF(AND(V173=\"\",AL173=\"Custom\"),MIN(L173*Incent_Cost_Controls_Cust,R173/K173*0.35),IF(AI173=\"LLLC\",MIN(AJ173,((L173+'Analysis 103L'!R194)*Incent_Cost_LLLC)-'Analysis 103L'!X194),IF(AE173>=VLOOKUP(I173,Incent_Controls,3,FALSE),MIN(L173,VLOOKUP(I173,Incent_Controls,2,FALSE)),\"\")))","v":{"$error":"#VALUE!"}},"",null,"","",null,"","PASS/PASS","",{"$error":"#VALUE!"},{"$error":"#VALUE!"},{"$error":"#VALUE!"},"",null,10,{"$f":"VLOOKUP('Analysis 103L'!BE194, avoided_costs, ROUND($AT173, 0)+2, FALSE)","v":{"$error":"#N/A"}},{"$error":"#N/A"},{"$error":"#VALUE!"},{"$error":"#N/A"},{"$error":"#N/A"},{"$error":"#VALUE!"},{"$error":"#N/A"},{"$error":"#N/A"},{"$error":"#N/A"},null,null,null,null,null,null,null,null,null,null,null,null,null,null,null,{"$f":"'Analysis 103L'!CF194","v":""},"","","","","",""]
[168,{"$f":"'Analysis 103L'!C195","v":0},null,{"$f":"'Analysis 103L'!I195","v":""},{"$f":"'Analysis 103L'!J195","v":""},{"$f":"'Analysis 103L'!P195","v":0},{"$f":"'Analysis 103L'!N195","v":""},{"$f":"'Analysis 103L'!Q195","v":""},null,null,"",null,"","","","","","",0,"",null,"",{"$f":"'Analysis 103L'!$Y$232*(T174/('Analysis 103L'!$Y$230+'Analysis 103L'!$Y$231))","v":{"$error":"#VALUE!"}},null,null,{"$f":"IF(R174=\"\",\"\",R174*'Analysis 103L'!$D$23)","v":""},null,null,null,null,{"$error":"#VALUE!"},{"$f":"IF(AND(V174=\"\",AL174=\"Custom\"),MIN(L174*Incent_Cost_Controls_Cust,R174/K174*0.35),IF(AI174=\"LLLC\",MIN(AJ174,((L174+'Analysis 103L'!R195)*Incent_Cost_LLLC)-'Analysis 103L'!X195),IF(AE174>=VLOOKUP(I174,Incent_Controls,3,FALSE),MIN(L174,VLOOKUP(I174,Incent_Controls,2,FALSE)),\"\")))","v":{"$error":"#VALUE!"}},"",null,"","",null,"","PASS/PASS","",{"$error":"#VALUE!"},{"$error":"#VALUE!"},{"$error":"#VALUE!"},"",null,10,{"$f":"VLOOKUP('Analysis 103L'!BE195, avoided_costs, ROUND($AT174, 0)+2, FALSE)","v":{"$error":"#N/A"}},{"$error":"#N/A"},{"$error":"#VALUE!"},{"$error":"#N/A"},{"$error":"#N/A"},{"$error":"#VALUE!"},{"$error":"#N/A"},{"$error":"#N/A"},{"$error":"#N/A"},null,null,null,null,null,null,null,null,null,null,null,null,null,null,null,{"$f":"'Analysis 103L'!CF195","v":""},"","","","","",""]
[169,{"$f":"'Analysis 103L'!C196","v":0},null,{"$f":"'Analysis 103L'!I196","v":""},{"$f":"'Analysis 103L'!J196","v":""},{"$f":"'Analysis 103L'!P196","v":0},{"$f":"'Analysis 103L'!N196","v":""},{"$f":"'Analysis 103L'!Q196","v":""},null,null,"",null,"","","","","","",0,"",null,"",{"$f":"'Analysis 103L'!$Y$232*(T175/('Analysis 103L'!$Y$230+'Analysis 103L'!$Y$231))","v":{"$error":"#VALUE!"}},null,null,{"$f":"IF(R175=\"\",\"\",R175*'Analysis 103L'!$D$23)","v":""},null,null,null,null,{"$error":"#VALUE!"},{"$f":"IF(AND(V175=\"\",AL175=\"Custom\"),MIN(L175*Incent_Cost_Controls_Cust,R175/K175*0.35),IF(AI175=\"LLLC\",MIN(AJ175,((L175+'Analysis 103L'!R196)*Incent_Cost_LLLC)-'Analysis 103L'!X196),IF(AE175>=VLOOKUP(I175,Incent_Controls,3,FALSE),MIN(L175,VLOOKUP(I175,Incent_Controls,2,FALSE)),\"\")))","v":{"$error":"#VALUE!"}},"",null,"","",null,"","PASS/PASS","",{"$error":"#VALUE!"},{"$error":"#VALUE!"},{"$error":"#VALUE!"},"",null,10,{"$f":"VLOOKUP('Analysis 103L'!BE196, avoided_costs, ROUND($AT175, 0)+2, FALSE)","v":{"$error":"#N/A"}},{"$error":"#N/A"},{"$error":"#VALUE!"},{"$error":"#N/A"},{"$error":"#N/A"},{"$error":"#VALUE!"},{"$error":"#N/A"},{"$error":"#N/A"},{"$error":"#N/A"},null,null,null,null,null,null,null,null,null,null,null,null,null,null,null,{"$f":"'Analysis 103L'!CF196","v":""},"","","","","",""]
[170,{"$f":"'Analysis 103L'!C197","v":0},null,{"$f":"'Analysis 103L'!I197","v":""},{"$f":"'Analysis 103L'!J197","v":""},{"$f":"'Analysis 103L'!P197","v":0},{"$f":"'Analysis 103L'!N197","v":""},{"$f":"'Analysis 103L'!Q197","v":""},null,null,"",null,"","","","","","",0,"",null,"",{"$f":"'Analysis 103L'!$Y$232*(T176/('Analysis 103L'!$Y$230+'Analysis 103L'!$Y$231))","v":{"$error":"#VALUE!"}},null,null,{"$f":"IF(R176=\"\",\"\",R176*'Analysis 103L'!$D$23)","v":""},null,null,null,null,{"$error":"#VALUE!"},{"$f":"IF(AND(V176=\"\",AL176=\"Custom\"),MIN(L176*Incent_Cost_Controls_Cust,R176/K176*0.35),IF(AI176=\"LLLC\",MIN(AJ176,((L176+'Analysis 103L'!R197)*Incent_Cost_LLLC)-'Analysis 103L'!X197),IF(AE176>=VLOOKUP(I176,Incent_Controls,3,FALSE),MIN(L176,VLOOKUP(I176,Incent_Controls,2,FALSE)),\"\")))","v":{"$error":"#VALUE!"}},"",null,"","",null,"","PASS/PASS","",{"$error":"#VALUE!"},{"$error":"#VALUE!"},{"$error":"#VALUE!"},"",null,10,{"$f":"VLOOKUP('Analysis 103L'!BE197, avoided_costs, ROUND($AT176, 0)+2, FALSE)","v":{"$error":"#N/A"}},{"$error":"#N/A"},{"$error":"#VALUE!"},{"$error":"#N/A"},{"$error":"#N/A"},{"$error":"#VALUE!"},{"$error":"#N/A"},{"$error":"#N/A"},{"$error":"#N/A"},null,null,null,null,null,null,null,null,null,null,null,null,null,null,null,{"$f":"'Analysis 103L'!CF197","v":""},"","","","","",""]
[171,{"$f":"'Analysis 103L'!C198","v":0},null,{"$f":"'Analysis 103L'!I198","v":""},{"$f":"'Analysis 103L'!J198","v":""},{"$f":"'Analysis 103L'!P198","v":0},{"$f":"'Analysis 103L'!N198","v":""},{"$f":"'Analysis 103L'!Q198","v":""},null,null,"",null,"","","","","","",0,"",null,"",{"$f":"'Analysis 103L'!$Y$232*(T177/('Analysis 103L'!$Y$230+'Analysis 103L'!$Y$231))","v":{"$error":"#VALUE!"}},null,null,{"$f":"IF(R177=\"\",\"\",R177*'Analysis 103L'!$D$23)","v":""},null,null,null,null,{"$error":"#VALUE!"},{"$f":"IF(AND(V177=\"\",AL177=\"Custom\"),MIN(L177*Incent_Cost_Controls_Cust,R177/K177*0.35),IF(AI177=\"LLLC\",MIN(AJ177,((L177+'Analysis 103L'!R198)*Incent_Cost_LLLC)-'Analysis 103L'!X198),IF(AE177>=VLOOKUP(I177,Incent_Controls,3,FALSE),MIN(L177,VLOOKUP(I177,Incent_Controls,2,FALSE)),\"\")))","v":{"$error":"#VALUE!"}},"",null,"","",null,"","PASS/PASS","",{"$error":"#VALUE!"},{"$error":"#VALUE!"},{"$error":"#VALUE!"},"",null,10,{"$f":"VLOOKUP('Analysis 103L'!BE198, avoided_costs, ROUND($AT177, 0)+2, FALSE)","v":{"$error":"#N/A"}},{"$error":"#N/A"},{"$error":"#VALUE!"},{"$error":"#N/A"},{"$error":"#N/A"},{"$error":"#VALUE!"},{"$error":"#N/A"},{"$error":"#N/A"},{"$error":"#N/A"},null,null,null,null,null,null,null,null,null,null,null,null,null,null,null,{"$f":"'Analysis 103L'!CF198","v":""},"","","","","",""]
[172,{"$f":"'Analysis 103L'!C199","v":0},null,{"$f":"'Analysis 103L'!I199","v":""},{"$f":"'Analysis 103L'!J199","v":""},{"$f":"'Analysis 103L'!P199","v":0},{"$f":"'Analysis 103L'!N199","v":""},{"$f":"'Analysis 103L'!Q199","v":""},null,null,"",null,"","","","","","",0,"",null,"",{"$f":"'Analysis 103L'!$Y$232*(T178/('Analysis 103L'!$Y$230+'Analysis 103L'!$Y$231))","v":{"$error":"#VALUE!"}},null,null,{"$f":"IF(R178=\"\",\"\",R178*'Analysis 103L'!$D$23)","v":""},null,null,null,null,{"$error":"#VALUE!"},{"$f":"IF(AND(V178=\"\",AL178=\"Custom\"),MIN(L178*Incent_Cost_Controls_Cust,R178/K178*0.35),IF(AI178=\"LLLC\",MIN(AJ178,((L178+'Analysis 103L'!R199)*Incent_Cost_LLLC)-'Analysis 103L'!X199),IF(AE178>=VLOOKUP(I178,Incent_Controls,3,FALSE),MIN(L178,VLOOKUP(I178,Incent_Controls,2,FALSE)),\"\")))","v":{"$error":"#VALUE!"}},"",null,"","",null,"","PASS/PASS","",{"$error":"#VALUE!"},{"$error":"#VALUE!"},{"$error":"#VALUE!"},"",null,10,{"$f":"VLOOKUP('Analysis 103L'!BE199, avoided_costs, ROUND($AT178, 0)+2, FALSE)","v":{"$error":"#N/A"}},{"$error":"#N/A"},{"$error":"#VALUE!"},{"$error":"#N/A"},{"$error":"#N/A"},{"$error":"#VALUE!"},{"$error":"#N/A"},{"$error":"#N/A"},{"$error":"#N/A"},null,null,null,null,null,null,null,null,null,null,null,null,null,null,null,{"$f":"'Analysis 103L'!CF199","v":""},"","","","","",""]
[173,{"$f":"'Analysis 103L'!C200","v":0},null,{"$f":"'Analysis 103L'!I200","v":""},{"$f":"'Analysis 103L'!J200","v":""},{"$f":"'Analysis 103L'!P200","v":0},{"$f":"'Analysis 103L'!N200","v":""},{"$f":"'Analysis 103L'!Q200","v":""},null,null,"",null,"","","","","","",0,"",null,"",{"$f":"'Analysis 103L'!$Y$232*(T179/('Analysis 103L'!$Y$230+'Analysis 103L'!$Y$231))","v":{"$error":"#VALUE!"}},null,null,{"$f":"IF(R179=\"\",\"\",R179*'Analysis 103L'!$D$23)","v":""},null,null,null,null,{"$error":"#VALUE!"},{"$f":"IF(AND(V179=\"\",AL179=\"Custom\"),MIN(L179*Incent_Cost_Controls_Cust,R179/K179*0.35),IF(AI179=\"LLLC\",MIN(AJ179,((L179+'Analysis 103L'!R200)*Incent_Cost_LLLC)-'Analysis 103L'!X200),IF(AE179>=VLOOKUP(I179,Incent_Controls,3,FALSE),MIN(L179,VLOOKUP(I179,Incent_Controls,2,FALSE)),\"\")))","v":{"$error":"#VALUE!"}},"",null,{"$f":"IF(RIGHT(I179,4)=\"LLLC\", \"LLLC\",\"\")","v":""},{"$f":"IF(AI179=\"LLLC\",VLOOKUP(E179,Incent_LLLC,2,FALSE),\"\")","v":""},null,"","PASS/PASS","",{"$error":"#VALUE!"},{"$error":"#VALUE!"},{"$error":"#VALUE!"},"",null,10,{"$f":"VLOOKUP('Analysis 103L'!BE200, avoided_costs, ROUND($AT179, 0)+2, FALSE)","v":{"$error":"#N/A"}},{"$error":"#N/A"},{"$error":"#VALUE!"},{"$error":"#N/A"},{"$error":"#N/A"},{"$error":"#VALUE!"},{"$error":"#N/A"},{"$error":"#N/A"},{"$error":"#N/A"},null,null,null,null,null,null,null,null,null,null,null,null,null,null,null,{"$f":"'Analysis 103L'!CF200","v":""},"","","","","",""]
[174,{"$f":"'Analysis 103L'!C201","v":0},null,{"$f":"'Analysis 103L'!I201","v":""},{"$f":"'Analysis 103L'!J201","v":""},{"$f":"'Analysis 103L'!P201","v":0},{"$f":"'Analysis 103L'!N201","v":""},{"$f":"'Analysis 103L'!Q201","v":""},null,null,"",null,"","","","","","",0,"",null,"",{"$f":"'Analysis 103L'!$Y$232*(T180/('Analysis 103L'!$Y$230+'Analysis 103L'!$Y$231))","v":{"$error":"#VALUE!"}},null,null,{"$f":"IF(R180=\"\",\"\",R180*'Analysis 103L'!$D$23)","v":""},null,null,null,null,{"$error":"#VALUE!"},{"$f":"IF(AND(V180=\"\",AL180=\"Custom\"),MIN(L180*Incent_Cost_Controls_Cust,R180/K180*0.35),IF(AI180=\"LLLC\",MIN(AJ180,((L180+'Analysis 103L'!R201)*Incent_Cost_LLLC)-'Analysis 103L'!X201),IF(AE180>=VLOOKUP(I180,Incent_Controls,3,FALSE),MIN(L180,VLOOKUP(I180,Incent_Controls,2,FALSE)),\"\")))","v":{"$error":"#VALUE!"}},"",null,"","",null,"","PASS/PASS","",{"$error":"#VALUE!"},{"$error":"#VALUE!"},{"$error":"#VALUE!"},"",null,10,{"$f":"VLOOKUP('Analysis 103L'!BE201, avoided_costs, ROUND($AT180, 0)+2, FALSE)","v":{"$error":"#N/A"}},{"$error":"#N/A"},{"$error":"#VALUE!"},{"$error":"#N/A"},{"$error":"#N/A"},{"$error":"#VALUE!"},{"$error":"#N/A"},{"$error":"#N/A"},{"$error":"#N/A"},null,null,null,null,null,null,null,null,null,null,null,null,null,null,null,{"$f":"'Analysis 103L'!CF201","v":""},"","","","","",""]
[175,{"$f":"'Analysis 103L'!C202","v":0},null,{"$f":"'Analysis 103L'!I202","v":""},{"$f":"'Analysis 103L'!J202","v":""},{"$f":"'Analysis 103L'!P202","v":0},{"$f":"'Analysis 103L'!N202","v":""},{"$f":"'Analysis 103L'!Q202","v":""},null,null,"",null,"","","","","","",0,"",null,"",{"$f":"'Analysis 103L'!$Y$232*(T181/('Analysis 103L'!$Y$230+'Analysis 103L'!$Y$231))","v":{"$error":"#VALUE!"}},null,null,{"$f":"IF(R181=\"\",\"\",R181*'Analysis 103L'!$D$23)","v":""},null,null,null,null,{"$error":"#VALUE!"},{"$f":"IF(AND(V181=\"\",AL181=\"Custom\"),MIN(L181*Incent_Cost_Controls_Cust,R181/K181*0.35),IF(AI181=\"LLLC\",MIN(AJ181,((L181+'Analysis 103L'!R202)*Incent_Cost_LLLC)-'Analysis 103L'!X202),IF(AE181>=VLOOKUP(I181,Incent_Controls,3,FALSE),MIN(L181,VLOOKUP(I181,Incent_Controls,2,FALSE)),\"\")))","v":{"$error":"#VALUE!"}},"",null,"","",null,"","PASS/PASS","",{"$error":"#VALUE!"},{"$error":"#VALUE!"},{"$error":"#VALUE!"},"",null,10,{"$f":"VLOOKUP('Analysis 103L'!BE202, avoided_costs, ROUND($AT181, 0)+2, FALSE)","v":{"$error":"#N/A"}},{"$error":"#N/A"},{"$error":"#VALUE!"},{"$error":"#N/A"},{"$error":"#N/A"},{"$error":"#VALUE!"},{"$error":"#N/A"},{"$error":"#N/A"},{"$error":"#N/A"},null,null,null,null,null,null,null,null,null,null,null,null,null,null,null,{"$f":"'Analysis 103L'!CF202","v":""},"","","","","",""]
[176,{"$f":"'Analysis 103L'!C203","v":0},null,{"$f":"'Analysis 103L'!I203","v":""},{"$f":"'Analysis 103L'!J203","v":""},{"$f":"'Analysis 103L'!P203","v":0},{"$f":"'Analysis 103L'!N203","v":""},{"$f":"'Analysis 103L'!Q203","v":""},null,null,"",null,"","","","","","",0,"",null,"",{"$f":"'Analysis 103L'!$Y$232*(T182/('Analysis 103L'!$Y$230+'Analysis 103L'!$Y$231))","v":{"$error":"#VALUE!"}},null,null,{"$f":"IF(R182=\"\",\"\",R182*'Analysis 103L'!$D$23)","v":""},null,null,null,null,{"$error":"#VALUE!"},{"$f":"IF(AND(V182=\"\",AL182=\"Custom\"),MIN(L182*Incent_Cost_Controls_Cust,R182/K182*0.35),IF(AI182=\"LLLC\",MIN(AJ182,((L182+'Analysis 103L'!R203)*Incent_Cost_LLLC)-'Analysis 103L'!X203),IF(AE182>=VLOOKUP(I182,Incent_Controls,3,FALSE),MIN(L182,VLOOKUP(I182,Incent_Controls,2,FALSE)),\"\")))","v":{"$error":"#VALUE!"}},"",null,"","",null,"","PASS/PASS","",{"$error":"#VALUE!"},{"$error":"#VALUE!"},{"$error":"#VALUE!"},"",null,10,{"$f":"VLOOKUP('Analysis 103L'!BE203, avoided_costs, ROUND($AT182, 0)+2, FALSE)","v":{"$error":"#N/A"}},{"$error":"#N/A"},{"$error":"#VALUE!"},{"$error":"#N/A"},{"$error":"#N/A"},{"$error":"#VALUE!"},{"$error":"#N/A"},{"$error":"#N/A"},{"$error":"#N/A"},null,null,null,null,null,null,null,null,null,null,null,null,null,null,null,{"$f":"'Analysis 103L'!CF203","v":""},"","","","","",""]
[177,{"$f":"'Analysis 103L'!C204","v":0},null,{"$f":"'Analysis 103L'!I204","v":""},{"$f":"'Analysis 103L'!J204","v":""},{"$f":"'Analysis 103L'!P204","v":0},{"$f":"'Analysis 103L'!N204","v":""},{"$f":"'Analysis 103L'!Q204","v":""},null,null,"",null,"","","","","","",0,"",null,"",{"$f":"'Analysis 103L'!$Y$232*(T183/('Analysis 103L'!$Y$230+'Analysis 103L'!$Y$231))","v":{"$error":"#VALUE!"}},null,null,{"$f":"IF(R183=\"\",\"\",R183*'Analysis 103L'!$D$23)","v":""},null,null,null,null,{"$error":"#VALUE!"},{"$f":"IF(AND(V183=\"\",AL183=\"Custom\"),MIN(L183*Incent_Cost_Controls_Cust,R183/K183*0.35),IF(AI183=\"LLLC\",MIN(AJ183,((L183+'Analysis 103L'!R204)*Incent_Cost_LLLC)-'Analysis 103L'!X204),IF(AE183>=VLOOKUP(I183,Incent_Controls,3,FALSE),MIN(L183,VLOOKUP(I183,Incent_Controls,2,FALSE)),\"\")))","v":{"$error":"#VALUE!"}},"",null,"","",null,"","PASS/PASS","",{"$error":"#VALUE!"},{"$error":"#VALUE!"},{"$error":"#VALUE!"},"",null,10,{"$f":"VLOOKUP('Analysis 103L'!BE204, avoided_costs, ROUND($AT183, 0)+2, FALSE)","v":{"$error":"#N/A"}},{"$error":"#N/A"},{"$error":"#VALUE!"},{"$error":"#N/A"},{"$error":"#N/A"},{"$error":"#VALUE!"},{"$error":"#N/A"},{"$error":"#N/A"},{"$error":"#N/A"},null,null,null,null,null,null,null,null,null,null,null,null,null,null,null,{"$f":"'Analysis 103L'!CF204","v":""},"","","","","",""]
[178,{"$f":"'Analysis 103L'!C205","v":0},null,{"$f":"'Analysis 103L'!I205","v":""},{"$f":"'Analysis 103L'!J205","v":""},{"$f":"'Analysis 103L'!P205","v":0},{"$f":"'Analysis 103L'!N205","v":""},{"$f":"'Analysis 103L'!Q205","v":""},null,null,"",null,"","","","","","",0,"",null,"",{"$f":"'Analysis 103L'!$Y$232*(T184/('Analysis 103L'!$Y$230+'Analysis 103L'!$Y$231))","v":{"$error":"#VALUE!"}},null,null,{"$f":"IF(R184=\"\",\"\",R184*'Analysis 103L'!$D$23)","v":""},null,null,null,null,{"$error":"#VALUE!"},{"$f":"IF(AND(V184=\"\",AL184=\"Custom\"),MIN(L184*Incent_Cost_Controls_Cust,R184/K184*0.35),IF(AI184=\"LLLC\",MIN(AJ184,((L184+'Analysis 103L'!R205)*Incent_Cost_LLLC)-'Analysis 103L'!X205),IF(AE184>=VLOOKUP(I184,Incent_Controls,3,FALSE),MIN(L184,VLOOKUP(I184,Incent_Controls,2,FALSE)),\"\")))","v":{"$error":"#VALUE!"}},"",null,"","",null,"","PASS/PASS","",{"$error":"#VALUE!"},{"$error":"#VALUE!"},{"$error":"#VALUE!"},"",null,10,{"$f":"VLOOKUP('Analysis 103L'!BE205, avoided_costs, ROUND($AT184, 0)+2, FALSE)","v":{"$error":"#N/A"}},{"$error":"#N/A"},{"$error":"#VALUE!"},{"$error":"#N/A"},{"$error":"#N/A"},{"$error":"#VALUE!"},{"$error":"#N/A"},{"$error":"#N/A"},{"$error":"#N/A"},null,null,null,null,null,null,null,null,null,null,null,null,null,null,null,{"$f":"'Analysis 103L'!CF205","v":""},"","","","","",""]
[179,{"$f":"'Analysis 103L'!C206","v":0},null,{"$f":"'Analysis 103L'!I206","v":""},{"$f":"'Analysis 103L'!J206","v":""},{"$f":"'Analysis 103L'!P206","v":0},{"$f":"'Analysis 103L'!N206","v":""},{"$f":"'Analysis 103L'!Q206","v":""},null,null,"",null,"","","","","","",0,"",null,"",{"$f":"'Analysis 103L'!$Y$232*(T185/('Analysis 103L'!$Y$230+'Analysis 103L'!$Y$231))","v":{"$error":"#VALUE!"}},null,null,{"$f":"IF(R185=\"\",\"\",R185*'Analysis 103L'!$D$23)","v":""},null,null,null,null,{"$error":"#VALUE!"},{"$f":"IF(AND(V185=\"\",AL185=\"Custom\"),MIN(L185*Incent_Cost_Controls_Cust,R185/K185*0.35),IF(AI185=\"LLLC\",MIN(AJ185,((L185+'Analysis 103L'!R206)*Incent_Cost_LLLC)-'Analysis 103L'!X206),IF(AE185>=VLOOKUP(I185,Incent_Controls,3,FALSE),MIN(L185,VLOOKUP(I185,Incent_Controls,2,FALSE)),\"\")))","v":{"$error":"#VALUE!"}},"",null,"","",null,"","PASS/PASS","",{"$error":"#VALUE!"},{"$error":"#VALUE!"},{"$error":"#VALUE!"},"",null,10,{"$f":"VLOOKUP('Analysis 103L'!BE206, avoided_costs, ROUND($AT185, 0)+2, FALSE)","v":{"$error":"#N/A"}},{"$error":"#N/A"},{"$error":"#VALUE!"},{"$error":"#N/A"},{"$error":"#N/A"},{"$error":"#VALUE!"},{"$error":"#N/A"},{"$error":"#N/A"},{"$error":"#N/A"},null,null,null,null,null,null,null,null,null,null,null,null,null,null,null,{"$f":"'Analysis 103L'!CF206","v":""},"","","","","",""]
[180,{"$f":"'Analysis 103L'!C207","v":0},null,{"$f":"'Analysis 103L'!I207","v":""},{"$f":"'Analysis 103L'!J207","v":""},{"$f":"'Analysis 103L'!P207","v":0},{"$f":"'Analysis 103L'!N207","v":""},{"$f":"'Analysis 103L'!Q207","v":""},null,null,"",null,"","","","","","",0,"",null,"",{"$f":"'Analysis 103L'!$Y$232*(T186/('Analysis 103L'!$Y$230+'Analysis 103L'!$Y$231))","v":{"$error":"#VALUE!"}},null,null,{"$f":"IF(R186=\"\",\"\",R186*'Analysis 103L'!$D$23)","v":""},null,null,null,null,{"$error":"#VALUE!"},{"$f":"IF(AND(V186=\"\",AL186=\"Custom\"),MIN(L186*Incent_Cost_Controls_Cust,R186/K186*0.35),IF(AI186=\"LLLC\",MIN(AJ186,((L186+'Analysis 103L'!R207)*Incent_Cost_LLLC)-'Analysis 103L'!X207),IF(AE186>=VLOOKUP(I186,Incent_Controls,3,FALSE),MIN(L186,VLOOKUP(I186,Incent_Controls,2,FALSE)),\"\")))","v":{"$error":"#VALUE!"}},"",null,"","",null,"","PASS/PASS","",{"$error":"#VALUE!"},{"$error":"#VALUE!"},{"$error":"#VALUE!"},"",null,10,{"$f":"VLOOKUP('Analysis 103L'!BE207, avoided_costs, ROUND($AT186, 0)+2, FALSE)","v":{"$error":"#N/A"}},{"$error":"#N/A"},{"$error":"#VALUE!"},{"$error":"#N/A"},{"$error":"#N/A"},{"$error":"#VALUE!"},{"$error":"#N/A"},{"$error":"#N/A"},{"$error":"#N/A"},null,null,null,null,null,null,null,null,null,null,null,null,null,null,null,{"$f":"'Analysis 103L'!CF207","v":""},"","","","","",""]
[181,{"$f":"'Analysis 103L'!C208","v":0},null,{"$f":"'Analysis 103L'!I208","v":""},{"$f":"'Analysis 103L'!J208","v":""},{"$f":"'Analysis 103L'!P208","v":0},{"$f":"'Analysis 103L'!N208","v":""},{"$f":"'Analysis 103L'!Q208","v":""},null,null,"",null,"","","","","","",0,"",null,"",{"$f":"'Analysis 103L'!$Y$232*(T187/('Analysis 103L'!$Y$230+'Analysis 103L'!$Y$231))","v":{"$error":"#VALUE!"}},null,null,{"$f":"IF(R187=\"\",\"\",R187*'Analysis 103L'!$D$23)","v":""},null,null,null,null,{"$error":"#VALUE!"},{"$f":"IF(AND(V187=\"\",AL187=\"Custom\"),MIN(L187*Incent_Cost_Controls_Cust,R187/K187*0.35),IF(AI187=\"LLLC\",MIN(AJ187,((L187+'Analysis 103L'!R208)*Incent_Cost_LLLC)-'Analysis 103L'!X208),IF(AE187>=VLOOKUP(I187,Incent_Controls,3,FALSE),MIN(L187,VLOOKUP(I187,Incent_Controls,2,FALSE)),\"\")))","v":{"$error":"#VALUE!"}},"",null,"","",null,"","PASS/PASS","",{"$error":"#VALUE!"},{"$error":"#VALUE!"},{"$error":"#VALUE!"},"",null,10,{"$f":"VLOOKUP('Analysis 103L'!BE208, avoided_costs, ROUND($AT187, 0)+2, FALSE)","v":{"$error":"#N/A"}},{"$error":"#N/A"},{"$error":"#VALUE!"},{"$error":"#N/A"},{"$error":"#N/A"},{"$error":"#VALUE!"},{"$error":"#N/A"},{"$error":"#N/A"},{"$error":"#N/A"},null,null,null,null,null,null,null,null,null,null,null,null,null,null,null,{"$f":"'Analysis 103L'!CF208","v":""},"","","","","",""]
[182,{"$f":"'Analysis 103L'!C209","v":0},null,{"$f":"'Analysis 103L'!I209","v":""},{"$f":"'Analysis 103L'!J209","v":""},{"$f":"'Analysis 103L'!P209","v":0},{"$f":"'Analysis 103L'!N209","v":""},{"$f":"'Analysis 103L'!Q209","v":""},null,null,"",null,"","","","","","",0,"",null,"",{"$f":"'Analysis 103L'!$Y$232*(T188/('Analysis 103L'!$Y$230+'Analysis 103L'!$Y$231))","v":{"$error":"#VALUE!"}},null,null,{"$f":"IF(R188=\"\",\"\",R188*'Analysis 103L'!$D$23)","v":""},null,null,null,null,{"$error":"#VALUE!"},{"$f":"IF(AND(V188=\"\",AL188=\"Custom\"),MIN(L188*Incent_Cost_Controls_Cust,R188/K188*0.35),IF(AI188=\"LLLC\",MIN(AJ188,((L188+'Analysis 103L'!R209)*Incent_Cost_LLLC)-'Analysis 103L'!X209),IF(AE188>=VLOOKUP(I188,Incent_Controls,3,FALSE),MIN(L188,VLOOKUP(I188,Incent_Controls,2,FALSE)),\"\")))","v":{"$error":"#VALUE!"}},"",null,"","",null,"","PASS/PASS","",{"$error":"#VALUE!"},{"$error":"#VALUE!"},{"$error":"#VALUE!"},"",null,10,{"$f":"VLOOKUP('Analysis 103L'!BE209, avoided_costs, ROUND($AT188, 0)+2, FALSE)","v":{"$error":"#N/A"}},{"$error":"#N/A"},{"$error":"#VALUE!"},{"$error":"#N/A"},{"$error":"#N/A"},{"$error":"#VALUE!"},{"$error":"#N/A"},{"$error":"#N/A"},{"$error":"#N/A"},null,null,null,null,null,null,null,null,null,null,null,null,null,null,null,{"$f":"'Analysis 103L'!CF209","v":""},"","","","","",""]
[183,{"$f":"'Analysis 103L'!C210","v":0},null,{"$f":"'Analysis 103L'!I210","v":""},{"$f":"'Analysis 103L'!J210","v":""},{"$f":"'Analysis 103L'!P210","v":0},{"$f":"'Analysis 103L'!N210","v":""},{"$f":"'Analysis 103L'!Q210","v":""},null,null,"",null,"","","","","","",0,"",null,"",{"$f":"'Analysis 103L'!$Y$232*(T189/('Analysis 103L'!$Y$230+'Analysis 103L'!$Y$231))","v":{"$error":"#VALUE!"}},null,null,{"$f":"IF(R189=\"\",\"\",R189*'Analysis 103L'!$D$23)","v":""},null,null,null,null,{"$error":"#VALUE!"},{"$f":"IF(AND(V189=\"\",AL189=\"Custom\"),MIN(L189*Incent_Cost_Controls_Cust,R189/K189*0.35),IF(AI189=\"LLLC\",MIN(AJ189,((L189+'Analysis 103L'!R210)*Incent_Cost_LLLC)-'Analysis 103L'!X210),IF(AE189>=VLOOKUP(I189,Incent_Controls,3,FALSE),MIN(L189,VLOOKUP(I189,Incent_Controls,2,FALSE)),\"\")))","v":{"$error":"#VALUE!"}},"",null,"","",null,"","PASS/PASS","",{"$error":"#VALUE!"},{"$error":"#VALUE!"},{"$error":"#VALUE!"},"",null,10,{"$f":"VLOOKUP('Analysis 103L'!BE210, avoided_costs, ROUND($AT189, 0)+2, FALSE)","v":{"$error":"#N/A"}},{"$error":"#N/A"},{"$error":"#VALUE!"},{"$error":"#N/A"},{"$error":"#N/A"},{"$error":"#VALUE!"},{"$error":"#N/A"},{"$error":"#N/A"},{"$error":"#N/A"},null,null,null,null,null,null,null,null,null,null,null,null,null,null,null,{"$f":"'Analysis 103L'!CF210","v":""},"","","","","",""]
[184,{"$f":"'Analysis 103L'!C211","v":0},null,{"$f":"'Analysis 103L'!I211","v":""},{"$f":"'Analysis 103L'!J211","v":""},{"$f":"'Analysis 103L'!P211","v":0},{"$f":"'Analysis 103L'!N211","v":""},{"$f":"'Analysis 103L'!Q211","v":""},null,null,"",null,"","","","","","",0,"",null,"",{"$f":"'Analysis 103L'!$Y$232*(T190/('Analysis 103L'!$Y$230+'Analysis 103L'!$Y$231))","v":{"$error":"#VALUE!"}},null,null,{"$f":"IF(R190=\"\",\"\",R190*'Analysis 103L'!$D$23)","v":""},null,null,null,null,{"$error":"#VALUE!"},{"$f":"IF(AND(V190=\"\",AL190=\"Custom\"),MIN(L190*Incent_Cost_Controls_Cust,R190/K190*0.35),IF(AI190=\"LLLC\",MIN(AJ190,((L190+'Analysis 103L'!R211)*Incent_Cost_LLLC)-'Analysis 103L'!X211),IF(AE190>=VLOOKUP(I190,Incent_Controls,3,FALSE),MIN(L190,VLOOKUP(I190,Incent_Controls,2,FALSE)),\"\")))","v":{"$error":"#VALUE!"}},"",null,"","",null,"","PASS/PASS","",{"$error":"#VALUE!"},{"$error":"#VALUE!"},{"$error":"#VALUE!"},"",null,10,{"$f":"VLOOKUP('Analysis 103L'!BE211, avoided_costs, ROUND($AT190, 0)+2, FALSE)","v":{"$error":"#N/A"}},{"$error":"#N/A"},{"$error":"#VALUE!"},{"$error":"#N/A"},{"$error":"#N/A"},{"$error":"#VALUE!"},{"$error":"#N/A"},{"$error":"#N/A"},{"$error":"#N/A"},null,null,null,null,null,null,null,null,null,null,null,null,null,null,null,{"$f":"'Analysis 103L'!CF211","v":""},"","","","","",""]
[185,{"$f":"'Analysis 103L'!C212","v":0},null,{"$f":"'Analysis 103L'!I212","v":""},{"$f":"'Analysis 103L'!J212","v":""},{"$f":"'Analysis 103L'!P212","v":0},{"$f":"'Analysis 103L'!N212","v":""},{"$f":"'Analysis 103L'!Q212","v":""},null,null,"",null,"","","","","","",0,"",null,"",{"$f":"'Analysis 103L'!$Y$232*(T191/('Analysis 103L'!$Y$230+'Analysis 103L'!$Y$231))","v":{"$error":"#VALUE!"}},null,null,{"$f":"IF(R191=\"\",\"\",R191*'Analysis 103L'!$D$23)","v":""},null,null,null,null,{"$error":"#VALUE!"},{"$f":"IF(AND(V191=\"\",AL191=\"Custom\"),MIN(L191*Incent_Cost_Controls_Cust,R191/K191*0.35),IF(AI191=\"LLLC\",MIN(AJ191,((L191+'Analysis 103L'!R212)*Incent_Cost_LLLC)-'Analysis 103L'!X212),IF(AE191>=VLOOKUP(I191,Incent_Controls,3,FALSE),MIN(L191,VLOOKUP(I191,Incent_Controls,2,FALSE)),\"\")))","v":{"$error":"#VALUE!"}},"",null,"","",null,"","PASS/PASS","",{"$error":"#VALUE!"},{"$error":"#VALUE!"},{"$error":"#VALUE!"},"",null,10,{"$f":"VLOOKUP('Analysis 103L'!BE212, avoided_costs, ROUND($AT191, 0)+2, FALSE)","v":{"$error":"#N/A"}},{"$error":"#N/A"},{"$error":"#VALUE!"},{"$error":"#N/A"},{"$error":"#N/A"},{"$error":"#VALUE!"},{"$error":"#N/A"},{"$error":"#N/A"},{"$error":"#N/A"},null,null,null,null,null,null,null,null,null,null,null,null,null,null,null,{"$f":"'Analysis 103L'!CF212","v":""},"","","","","",""]
[186,{"$f":"'Analysis 103L'!C213","v":0},null,{"$f":"'Analysis 103L'!I213","v":""},{"$f":"'Analysis 103L'!J213","v":""},{"$f":"'Analysis 103L'!P213","v":0},{"$f":"'Analysis 103L'!N213","v":""},{"$f":"'Analysis 103L'!Q213","v":""},null,null,"",null,"","","","","","",0,"",null,"",{"$f":"'Analysis 103L'!$Y$232*(T192/('Analysis 103L'!$Y$230+'Analysis 103L'!$Y$231))","v":{"$error":"#VALUE!"}},null,null,{"$f":"IF(R192=\"\",\"\",R192*'Analysis 103L'!$D$23)","v":""},null,null,null,null,{"$error":"#VALUE!"},{"$f":"IF(AND(V192=\"\",AL192=\"Custom\"),MIN(L192*Incent_Cost_Controls_Cust,R192/K192*0.35),IF(AI192=\"LLLC\",MIN(AJ192,((L192+'Analysis 103L'!R213)*Incent_Cost_LLLC)-'Analysis 103L'!X213),IF(AE192>=VLOOKUP(I192,Incent_Controls,3,FALSE),MIN(L192,VLOOKUP(I192,Incent_Controls,2,FALSE)),\"\")))","v":{"$error":"#VALUE!"}},"",null,"","",null,"","PASS/PASS","",{"$error":"#VALUE!"},{"$error":"#VALUE!"},{"$error":"#VALUE!"},"",null,10,{"$f":"VLOOKUP('Analysis 103L'!BE213, avoided_costs, ROUND($AT192, 0)+2, FALSE)","v":{"$error":"#N/A"}},{"$error":"#N/A"},{"$error":"#VALUE!"},{"$error":"#N/A"},{"$error":"#N/A"},{"$error":"#VALUE!"},{"$error":"#N/A"},{"$error":"#N/A"},{"$error":"#N/A"},null,null,null,null,null,null,null,null,null,null,null,null,null,null,null,{"$f":"'Analysis 103L'!CF213","v":""},"","","","","",""]
[187,{"$f":"'Analysis 103L'!C214","v":0},null,{"$f":"'Analysis 103L'!I214","v":""},{"$f":"'Analysis 103L'!J214","v":""},{"$f":"'Analysis 103L'!P214","v":0},{"$f":"'Analysis 103L'!N214","v":""},{"$f":"'Analysis 103L'!Q214","v":""},null,null,"",null,"","","","","","",0,"",null,"",{"$f":"'Analysis 103L'!$Y$232*(T193/('Analysis 103L'!$Y$230+'Analysis 103L'!$Y$231))","v":{"$error":"#VALUE!"}},null,null,{"$f":"IF(R193=\"\",\"\",R193*'Analysis 103L'!$D$23)","v":""},null,null,null,null,{"$error":"#VALUE!"},{"$f":"IF(AND(V193=\"\",AL193=\"Custom\"),MIN(L193*Incent_Cost_Controls_Cust,R193/K193*0.35),IF(AI193=\"LLLC\",MIN(AJ193,((L193+'Analysis 103L'!R214)*Incent_Cost_LLLC)-'Analysis 103L'!X214),IF(AE193>=VLOOKUP(I193,Incent_Controls,3,FALSE),MIN(L193,VLOOKUP(I193,Incent_Controls,2,FALSE)),\"\")))","v":{"$error":"#VALUE!"}},"",null,"","",null,"","PASS/PASS","",{"$error":"#VALUE!"},{"$error":"#VALUE!"},{"$error":"#VALUE!"},"",null,10,{"$f":"VLOOKUP('Analysis 103L'!BE214, avoided_costs, ROUND($AT193, 0)+2, FALSE)","v":{"$error":"#N/A"}},{"$error":"#N/A"},{"$error":"#VALUE!"},{"$error":"#N/A"},{"$error":"#N/A"},{"$error":"#VALUE!"},{"$error":"#N/A"},{"$error":"#N/A"},{"$error":"#N/A"},null,null,null,null,null,null,null,null,null,null,null,null,null,null,null,{"$f":"'Analysis 103L'!CF214","v":""},"","","","","",""]
[188,{"$f":"'Analysis 103L'!C215","v":0},null,{"$f":"'Analysis 103L'!I215","v":""},{"$f":"'Analysis 103L'!J215","v":""},{"$f":"'Analysis 103L'!P215","v":0},{"$f":"'Analysis 103L'!N215","v":""},{"$f":"'Analysis 103L'!Q215","v":""},null,null,"",null,"","","","","","",0,"",null,"",{"$f":"'Analysis 103L'!$Y$232*(T194/('Analysis 103L'!$Y$230+'Analysis 103L'!$Y$231))","v":{"$error":"#VALUE!"}},null,null,{"$f":"IF(R194=\"\",\"\",R194*'Analysis 103L'!$D$23)","v":""},null,null,null,null,{"$error":"#VALUE!"},{"$f":"IF(AND(V194=\"\",AL194=\"Custom\"),MIN(L194*Incent_Cost_Controls_Cust,R194/K194*0.35),IF(AI194=\"LLLC\",MIN(AJ194,((L194+'Analysis 103L'!R215)*Incent_Cost_LLLC)-'Analysis 103L'!X215),IF(AE194>=VLOOKUP(I194,Incent_Controls,3,FALSE),MIN(L194,VLOOKUP(I194,Incent_Controls,2,FALSE)),\"\")))","v":{"$error":"#VALUE!"}},"",null,"","",null,"","PASS/PASS","",{"$error":"#VALUE!"},{"$error":"#VALUE!"},{"$error":"#VALUE!"},"",null,10,{"$f":"VLOOKUP('Analysis 103L'!BE215, avoided_costs, ROUND($AT194, 0)+2, FALSE)","v":{"$error":"#N/A"}},{"$error":"#N/A"},{"$error":"#VALUE!"},{"$error":"#N/A"},{"$error":"#N/A"},{"$error":"#VALUE!"},{"$error":"#N/A"},{"$error":"#N/A"},{"$error":"#N/A"},null,null,null,null,null,null,null,null,null,null,null,null,null,null,null,{"$f":"'Analysis 103L'!CF215","v":""},"","","","","",""]
[189,{"$f":"'Analysis 103L'!C216","v":0},null,{"$f":"'Analysis 103L'!I216","v":""},{"$f":"'Analysis 103L'!J216","v":""},{"$f":"'Analysis 103L'!P216","v":0},{"$f":"'Analysis 103L'!N216","v":""},{"$f":"'Analysis 103L'!Q216","v":""},null,null,"",null,"","","","","","",0,"",null,"",{"$f":"'Analysis 103L'!$Y$232*(T195/('Analysis 103L'!$Y$230+'Analysis 103L'!$Y$231))","v":{"$error":"#VALUE!"}},null,null,{"$f":"IF(R195=\"\",\"\",R195*'Analysis 103L'!$D$23)","v":""},null,null,null,null,{"$error":"#VALUE!"},{"$f":"IF(AND(V195=\"\",AL195=\"Custom\"),MIN(L195*Incent_Cost_Controls_Cust,R195/K195*0.35),IF(AI195=\"LLLC\",MIN(AJ195,((L195+'Analysis 103L'!R216)*Incent_Cost_LLLC)-'Analysis 103L'!X216),IF(AE195>=VLOOKUP(I195,Incent_Controls,3,FALSE),MIN(L195,VLOOKUP(I195,Incent_Controls,2,FALSE)),\"\")))","v":{"$error":"#VALUE!"}},"",null,"","",null,"","PASS/PASS","",{"$error":"#VALUE!"},{"$error":"#VALUE!"},{"$error":"#VALUE!"},"",null,10,{"$f":"VLOOKUP('Analysis 103L'!BE216, avoided_costs, ROUND($AT195, 0)+2, FALSE)","v":{"$error":"#N/A"}},{"$error":"#N/A"},{"$error":"#VALUE!"},{"$error":"#N/A"},{"$error":"#N/A"},{"$error":"#VALUE!"},{"$error":"#N/A"},{"$error":"#N/A"},{"$error":"#N/A"},null,null,null,null,null,null,null,null,null,null,null,null,null,null,null,{"$f":"'Analysis 103L'!CF216","v":""},"","","","","",""]
[190,{"$f":"'Analysis 103L'!C217","v":0},null,{"$f":"'Analysis 103L'!I217","v":""},{"$f":"'Analysis 103L'!J217","v":""},{"$f":"'Analysis 103L'!P217","v":0},{"$f":"'Analysis 103L'!N217","v":""},{"$f":"'Analysis 103L'!Q217","v":""},null,null,"",null,"","","","","","",0,"",null,"",{"$f":"'Analysis 103L'!$Y$232*(T196/('Analysis 103L'!$Y$230+'Analysis 103L'!$Y$231))","v":{"$error":"#VALUE!"}},null,null,{"$f":"IF(R196=\"\",\"\",R196*'Analysis 103L'!$D$23)","v":""},null,null,null,null,{"$error":"#VALUE!"},{"$f":"IF(AND(V196=\"\",AL196=\"Custom\"),MIN(L196*Incent_Cost_Controls_Cust,R196/K196*0.35),IF(AI196=\"LLLC\",MIN(AJ196,((L196+'Analysis 103L'!R217)*Incent_Cost_LLLC)-'Analysis 103L'!X217),IF(AE196>=VLOOKUP(I196,Incent_Controls,3,FALSE),MIN(L196,VLOOKUP(I196,Incent_Controls,2,FALSE)),\"\")))","v":{"$error":"#VALUE!"}},"",null,"","",null,"","PASS/PASS","",{"$error":"#VALUE!"},{"$error":"#VALUE!"},{"$error":"#VALUE!"},"",null,10,{"$f":"VLOOKUP('Analysis 103L'!BE217, avoided_costs, ROUND($AT196, 0)+2, FALSE)","v":{"$error":"#N/A"}},{"$error":"#N/A"},{"$error":"#VALUE!"},{"$error":"#N/A"},{"$error":"#N/A"},{"$error":"#VALUE!"},{"$error":"#N/A"},{"$error":"#N/A"},{"$error":"#N/A"},null,null,null,null,null,null,null,null,null,null,null,null,null,null,null,{"$f":"'Analysis 103L'!CF217","v":""},"","","","","",""]
[191,{"$f":"'Analysis 103L'!C218","v":0},null,{"$f":"'Analysis 103L'!I218","v":""},{"$f":"'Analysis 103L'!J218","v":""},{"$f":"'Analysis 103L'!P218","v":0},{"$f":"'Analysis 103L'!N218","v":""},{"$f":"'Analysis 103L'!Q218","v":""},null,null,"",null,"","","","","","",0,"",null,"",{"$f":"'Analysis 103L'!$Y$232*(T197/('Analysis 103L'!$Y$230+'Analysis 103L'!$Y$231))","v":{"$error":"#VALUE!"}},null,null,{"$f":"IF(R197=\"\",\"\",R197*'Analysis 103L'!$D$23)","v":""},null,null,null,null,{"$error":"#VALUE!"},{"$f":"IF(AND(V197=\"\",AL197=\"Custom\"),MIN(L197*Incent_Cost_Controls_Cust,R197/K197*0.35),IF(AI197=\"LLLC\",MIN(AJ197,((L197+'Analysis 103L'!R218)*Incent_Cost_LLLC)-'Analysis 103L'!X218),IF(AE197>=VLOOKUP(I197,Incent_Controls,3,FALSE),MIN(L197,VLOOKUP(I197,Incent_Controls,2,FALSE)),\"\")))","v":{"$error":"#VALUE!"}},"",null,"","",null,"","PASS/PASS","",{"$error":"#VALUE!"},{"$error":"#VALUE!"},{"$error":"#VALUE!"},"",null,10,{"$f":"VLOOKUP('Analysis 103L'!BE218, avoided_costs, ROUND($AT197, 0)+2, FALSE)","v":{"$error":"#N/A"}},{"$error":"#N/A"},{"$error":"#VALUE!"},{"$error":"#N/A"},{"$error":"#N/A"},{"$error":"#VALUE!"},{"$error":"#N/A"},{"$error":"#N/A"},{"$error":"#N/A"},null,null,null,null,null,null,null,null,null,null,null,null,null,null,null,{"$f":"'Analysis 103L'!CF218","v":""},"","","","","",""]
[192,{"$f":"'Analysis 103L'!C219","v":0},null,{"$f":"'Analysis 103L'!I219","v":""},{"$f":"'Analysis 103L'!J219","v":""},{"$f":"'Analysis 103L'!P219","v":0},{"$f":"'Analysis 103L'!N219","v":""},{"$f":"'Analysis 103L'!Q219","v":""},null,null,"",null,"","","","","","",0,"",null,"",{"$f":"'Analysis 103L'!$Y$232*(T198/('Analysis 103L'!$Y$230+'Analysis 103L'!$Y$231))","v":{"$error":"#VALUE!"}},null,null,{"$f":"IF(R198=\"\",\"\",R198*'Analysis 103L'!$D$23)","v":""},null,null,null,null,{"$error":"#VALUE!"},{"$f":"IF(AND(V198=\"\",AL198=\"Custom\"),MIN(L198*Incent_Cost_Controls_Cust,R198/K198*0.35),IF(AI198=\"LLLC\",MIN(AJ198,((L198+'Analysis 103L'!R219)*Incent_Cost_LLLC)-'Analysis 103L'!X219),IF(AE198>=VLOOKUP(I198,Incent_Controls,3,FALSE),MIN(L198,VLOOKUP(I198,Incent_Controls,2,FALSE)),\"\")))","v":{"$error":"#VALUE!"}},"",null,"","",null,"","PASS/PASS","",{"$error":"#VALUE!"},{"$error":"#VALUE!"},{"$error":"#VALUE!"},"",null,10,{"$f":"VLOOKUP('Analysis 103L'!BE219, avoided_costs, ROUND($AT198, 0)+2, FALSE)","v":{"$error":"#N/A"}},{"$error":"#N/A"},{"$error":"#VALUE!"},{"$error":"#N/A"},{"$error":"#N/A"},{"$error":"#VALUE!"},{"$error":"#N/A"},{"$error":"#N/A"},{"$error":"#N/A"},null,null,null,null,null,null,null,null,null,null,null,null,null,null,null,{"$f":"'Analysis 103L'!CF219","v":""},"","","","","",""]
[193,{"$f":"'Analysis 103L'!C220","v":0},null,{"$f":"'Analysis 103L'!I220","v":""},{"$f":"'Analysis 103L'!J220","v":""},{"$f":"'Analysis 103L'!P220","v":0},{"$f":"'Analysis 103L'!N220","v":""},{"$f":"'Analysis 103L'!Q220","v":""},null,null,"",null,{"$f":"IF(RIGHT(I199, 4)=\"Case\", \"<-- Enter Total Cost.\", IF(K199=\"\",\"\",K199*L199))","v":""},"",{"$f":"IF(RIGHT(D199, 4)=\"Case\", \"\",IF(K199=\"\",\"\",IF(AI199=\"LLLC\", VLOOKUP(C199,Space_Type_CSFs, 9, FALSE), VLOOKUP(C199,Space_Type_CSFs, 6, FALSE))))","v":""},"","","",0,"",null,"",{"$f":"'Analysis 103L'!$Y$232*(T199/('Analysis 103L'!$Y$230+'Analysis 103L'!$Y$231))","v":{"$error":"#VALUE!"}},null,null,{"$f":"IF(R199=\"\",\"\",R199*'Analysis 103L'!$D$23)","v":""},null,null,null,null,{"$error":"#VALUE!"},{"$f":"IF(AND(V199=\"\",AL199=\"Custom\"),MIN(L199*Incent_Cost_Controls_Cust,R199/K199*0.35),IF(AI199=\"LLLC\",MIN(AJ199,((L199+'Analysis 103L'!R220)*Incent_Cost_LLLC)-'Analysis 103L'!X220),IF(AE199>=VLOOKUP(I199,Incent_Controls,3,FALSE),MIN(L199,VLOOKUP(I199,Incent_Controls,2,FALSE)),\"\")))","v":{"$error":"#VALUE!"}},{"$f":"IF(OR(AI199=\"LLLC\",K199=\"\"),\"\",IF(AE199>=VLOOKUP(I199,Incent_Controls,3,FALSE),\"Y\",\"N\"))","v":""},null,"","",null,"",{"$f":"IF(AL199=\"\",\"PASS/PASS\",IF(BC199=\"PASS/PASS\",\"PASS/PASS\",\"FAIL\"))","v":"PASS/PASS"},{"$f":"IF(AM199=\"PASS/PASS\",M199,\"0\")","v":""},{"$f":"F199*G199*H199/1000","v":{"$error":"#VALUE!"}},{"$f":"AO199*(1-O199)","v":{"$error":"#VALUE!"}},{"$error":"#VALUE!"},{"$f":"IF(AL199=\"Custom\",0.35*M199,T199)","v":""},null,10,{"$f":"VLOOKUP('Analysis 103L'!BE220, avoided_costs, ROUND($AT199, 0)+2, FALSE)","v":{"$error":"#N/A"}},{"$error":"#N/A"},{"$f":"0.5*M199/AQ199","v":{"$error":"#VALUE!"}},{"$error":"#N/A"},{"$error":"#N/A"},{"$f":"M199/AQ199","v":{"$error":"#VALUE!"}},{"$f":"AV199/AZ199","v":{"$error":"#N/A"}},{"$error":"#N/A"},{"$f":"AY199&\"/\"&BB199","v":{"$error":"#N/A"}},null,null,null,null,null,null,null,null,null,null,null,null,null,null,null,{"$f":"'Analysis 103L'!CF220","v":""},"","",{"$f":"IF(BT199=\"\", \"\", INDEX($BQ$32:$BQ$33, MATCH($BT199, $BN$32:$BN$33, 0))*$BU199)","v":""},{"$f":"IF(BU199=\"\", \"\", INDEX($BO$32:$BO$33, MATCH($BT199, $BN$32:$BN$33, 0)))","v":""},"",""]
[194,{"$f":"'Analysis 103L'!C221","v":0},null,{"$f":"'Analysis 103L'!I221","v":""},{"$f":"'Analysis 103L'!J221","v":""},{"$f":"'Analysis 103L'!P221","v":0},{"$f":"'Analysis 103L'!N221","v":""},{"$f":"'Analysis 103L'!Q221","v":""},null,null,{"$f":"IF(--ISERROR(FIND(\"LLLC\",I200)),\"\",F200)","v":""},null,"","","","","","",0,"",null,{"$f":"IF(AM200=\"FAIL\",\"Control System Not Cost Effective\",IF(AG200=\"N\",\"Does not meet requirement\",\"\"))","v":""},{"$f":"'Analysis 103L'!$Y$232*(T200/('Analysis 103L'!$Y$230+'Analysis 103L'!$Y$231))","v":{"$error":"#VALUE!"}},null,null,{"$f":"IF(R200=\"\",\"\",R200*'Analysis 103L'!$D$23)","v":""},null,null,null,null,{"$f":"F200*G200/K200","v":{"$error":"#VALUE!"}},{"$f":"IF(AND(V200=\"\",AL200=\"Custom\"),MIN(L200*Incent_Cost_Controls_Cust,R200/K200*0.35),IF(AI200=\"LLLC\",MIN(AJ200,((L200+'Analysis 103L'!R221)*Incent_Cost_LLLC)-'Analysis 103L'!X221),IF(AE200>=VLOOKUP(I200,Incent_Controls,3,FALSE),MIN(L200,VLOOKUP(I200,Incent_Controls,2,FALSE)),\"\")))","v":{"$error":"#VALUE!"}},"",null,"","",null,{"$f":"IF(I200=\"Custom Control System\",\"Custom\",\"\")","v":""},"PASS/PASS","",{"$error":"#VALUE!"},{"$error":"#VALUE!"},{"$f":"AO200-AP200","v":{"$error":"#VALUE!"}},"",null,10,{"$f":"VLOOKUP('Analysis 103L'!BE221, avoided_costs, ROUND($AT200, 0)+2, FALSE)","v":{"$error":"#N/A"}},{"$f":"AU200","v":{"$error":"#N/A"}},{"$error":"#VALUE!"},{"$f":"AU200/AW200","v":{"$error":"#N/A"}},{"$error":"#N/A"},{"$error":"#VALUE!"},{"$error":"#N/A"},{"$error":"#N/A"},{"$error":"#N/A"},null,null,null,null,null,null,null,null,null,null,null,null,null,null,null,{"$f":"'Analysis 103L'!CF221","v":""},"","","","","",""]
[195,{"$f":"'Analysis 103L'!C222","v":0},null,{"$f":"'Analysis 103L'!I222","v":""},{"$f":"'Analysis 103L'!J222","v":""},{"$f":"'Analysis 103L'!P222","v":0},{"$f":"'Analysis 103L'!N222","v":""},{"$f":"'Analysis 103L'!Q222","v":""},null,null,"",null,"","","","","","",0,"",null,"",{"$f":"'Analysis 103L'!$Y$232*(T201/('Analysis 103L'!$Y$230+'Analysis 103L'!$Y$231))","v":{"$error":"#VALUE!"}},null,null,{"$f":"IF(R201=\"\",\"\",R201*'Analysis 103L'!$D$23)","v":""},null,null,null,null,{"$error":"#VALUE!"},{"$f":"IF(AND(V201=\"\",AL201=\"Custom\"),MIN(L201*Incent_Cost_Controls_Cust,R201/K201*0.35),IF(AI201=\"LLLC\",MIN(AJ201,((L201+'Analysis 103L'!R222)*Incent_Cost_LLLC)-'Analysis 103L'!X222),IF(AE201>=VLOOKUP(I201,Incent_Controls,3,FALSE),MIN(L201,VLOOKUP(I201,Incent_Controls,2,FALSE)),\"\")))","v":{"$error":"#VALUE!"}},"",null,"","",null,"","PASS/PASS","",{"$error":"#VALUE!"},{"$error":"#VALUE!"},{"$error":"#VALUE!"},"",null,10,{"$f":"VLOOKUP('Analysis 103L'!BE222, avoided_costs, ROUND($AT201, 0)+2, FALSE)","v":{"$error":"#N/A"}},{"$error":"#N/A"},{"$error":"#VALUE!"},{"$error":"#N/A"},{"$error":"#N/A"},{"$error":"#VALUE!"},{"$error":"#N/A"},{"$error":"#N/A"},{"$error":"#N/A"},null,null,null,null,null,null,null,null,null,null,null,null,null,null,null,{"$f":"'Analysis 103L'!CF222","v":""},"","","","","",""]
[196,{"$f":"'Analysis 103L'!C223","v":0},null,{"$f":"'Analysis 103L'!I223","v":""},{"$f":"'Analysis 103L'!J223","v":""},{"$f":"'Analysis 103L'!P223","v":0},{"$f":"'Analysis 103L'!N223","v":""},{"$f":"'Analysis 103L'!Q223","v":""},null,null,"",null,"",{"$f":"IFERROR(IF(K202=\"\",\"\",IF(LEFT(I202,8) =\"Exterior\", (G202*F202/K202*0.5), G202*F202/K202)),\"\")","v":""},"","","","",{"$f":"IF(AND(ISNUMBER(AF202),ISNUMBER(L202)),AF202,)","v":0},"",null,"",{"$f":"'Analysis 103L'!$Y$232*(T202/('Analysis 103L'!$Y$230+'Analysis 103L'!$Y$231))","v":{"$error":"#VALUE!"}},null,null,{"$f":"IF(R202=\"\",\"\",R202*'Analysis 103L'!$D$23)","v":""},null,null,null,null,{"$error":"#VALUE!"},{"$f":"IF(AND(V202=\"\",AL202=\"Custom\"),MIN(L202*Incent_Cost_Controls_Cust,R202/K202*0.35),IF(AI202=\"LLLC\",MIN(AJ202,((L202+'Analysis 103L'!R223)*Incent_Cost_LLLC)-'Analysis 103L'!X223),IF(AE202>=VLOOKUP(I202,Incent_Controls,3,FALSE),MIN(L202,VLOOKUP(I202,Incent_Controls,2,FALSE)),\"\")))","v":{"$error":"#VALUE!"}},"",null,"","",null,"","PASS/PASS","",{"$error":"#VALUE!"},{"$error":"#VALUE!"},{"$error":"#VALUE!"},"",null,10,{"$f":"VLOOKUP('Analysis 103L'!BE223, avoided_costs, ROUND($AT202, 0)+2, FALSE)","v":{"$error":"#N/A"}},{"$error":"#N/A"},{"$error":"#VALUE!"},{"$error":"#N/A"},{"$error":"#N/A"},{"$error":"#VALUE!"},{"$error":"#N/A"},{"$error":"#N/A"},{"$error":"#N/A"},null,null,null,null,null,null,null,null,null,null,null,null,null,null,null,{"$f":"'Analysis 103L'!CF223","v":""},"","","","","",""]
[197,{"$f":"'Analysis 103L'!C224","v":0},null,{"$f":"'Analysis 103L'!I224","v":""},{"$f":"'Analysis 103L'!J224","v":""},{"$f":"'Analysis 103L'!P224","v":0},{"$f":"'Analysis 103L'!N224","v":""},{"$f":"'Analysis 103L'!Q224","v":""},null,null,"",null,"",{"$f":"IFERROR(IF(K203=\"\",\"\",IF(LEFT(I203,8) =\"Exterior\", (G203*F203/K203*0.5), G203*F203/K203)),\"\")","v":""},"","","","",{"$f":"IF(AND(ISNUMBER(AF203),ISNUMBER(L203)),AF203,)","v":0},"",null,"",{"$f":"'Analysis 103L'!$Y$232*(T203/('Analysis 103L'!$Y$230+'Analysis 103L'!$Y$231))","v":{"$error":"#VALUE!"}},null,null,{"$f":"IF(R203=\"\",\"\",R203*'Analysis 103L'!$D$23)","v":""},null,null,null,null,{"$error":"#VALUE!"},{"$f":"IF(AND(V203=\"\",AL203=\"Custom\"),MIN(L203*Incent_Cost_Controls_Cust,R203/K203*0.35),IF(AI203=\"LLLC\",MIN(AJ203,((L203+'Analysis 103L'!R224)*Incent_Cost_LLLC)-'Analysis 103L'!X224),IF(AE203>=VLOOKUP(I203,Incent_Controls,3,FALSE),MIN(L203,VLOOKUP(I203,Incent_Controls,2,FALSE)),\"\")))","v":{"$error":"#VALUE!"}},"",null,"","",null,"","PASS/PASS","",{"$error":"#VALUE!"},{"$error":"#VALUE!"},{"$error":"#VALUE!"},"",null,10,{"$f":"VLOOKUP('Analysis 103L'!BE224, avoided_costs, ROUND($AT203, 0)+2, FALSE)","v":{"$error":"#N/A"}},{"$error":"#N/A"},{"$error":"#VALUE!"},{"$error":"#N/A"},{"$error":"#N/A"},{"$error":"#VALUE!"},{"$error":"#N/A"},{"$error":"#N/A"},{"$error":"#N/A"},null,null,null,null,null,null,null,null,null,null,null,null,null,null,null,{"$f":"'Analysis 103L'!CF224","v":""},"","","","","",""]
[198,{"$f":"'Analysis 103L'!C225","v":0},null,{"$f":"'Analysis 103L'!I225","v":""},{"$f":"'Analysis 103L'!J225","v":""},{"$f":"'Analysis 103L'!P225","v":0},{"$f":"'Analysis 103L'!N225","v":""},{"$f":"'Analysis 103L'!Q225","v":""},null,null,"",null,"",{"$f":"IFERROR(IF(K204=\"\",\"\",IF(LEFT(I204,8) =\"Exterior\", (G204*F204/K204*0.5), G204*F204/K204)),\"\")","v":""},"","","","",{"$f":"IF(AND(ISNUMBER(AF204),ISNUMBER(L204)),AF204,)","v":0},"",null,"",{"$f":"'Analysis 103L'!$Y$232*(T204/('Analysis 103L'!$Y$230+'Analysis 103L'!$Y$231))","v":{"$error":"#VALUE!"}},null,null,{"$f":"IF(R204=\"\",\"\",R204*'Analysis 103L'!$D$23)","v":""},null,null,null,null,{"$error":"#VALUE!"},{"$f":"IF(AND(V204=\"\",AL204=\"Custom\"),MIN(L204*Incent_Cost_Controls_Cust,R204/K204*0.35),IF(AI204=\"LLLC\",MIN(AJ204,((L204+'Analysis 103L'!R225)*Incent_Cost_LLLC)-'Analysis 103L'!X225),IF(AE204>=VLOOKUP(I204,Incent_Controls,3,FALSE),MIN(L204,VLOOKUP(I204,Incent_Controls,2,FALSE)),\"\")))","v":{"$error":"#VALUE!"}},"",null,"","",null,"","PASS/PASS","",{"$error":"#VALUE!"},{"$error":"#VALUE!"},{"$error":"#VALUE!"},"",null,10,{"$f":"VLOOKUP('Analysis 103L'!BE225, avoided_costs, ROUND($AT204, 0)+2, FALSE)","v":{"$error":"#N/A"}},{"$error":"#N/A"},{"$error":"#VALUE!"},{"$error":"#N/A"},{"$error":"#N/A"},{"$error":"#VALUE!"},{"$error":"#N/A"},{"$error":"#N/A"},{"$error":"#N/A"},null,null,null,null,null,null,null,null,null,null,null,null,null,null,null,{"$f":"'Analysis 103L'!CF225","v":""},"","","","","",""]
[199,{"$f":"'Analysis 103L'!C226","v":0},null,{"$f":"'Analysis 103L'!I226","v":""},{"$f":"'Analysis 103L'!J226","v":""},{"$f":"'Analysis 103L'!P226","v":0},{"$f":"'Analysis 103L'!N226","v":""},{"$f":"'Analysis 103L'!Q226","v":""},null,null,"",null,"",{"$f":"IFERROR(IF(K205=\"\",\"\",IF(LEFT(I205,8) =\"Exterior\", (G205*F205/K205*0.5), G205*F205/K205)),\"\")","v":""},"","","","",{"$f":"IF(AND(ISNUMBER(AF205),ISNUMBER(L205)),AF205,)","v":0},"",null,"",{"$f":"'Analysis 103L'!$Y$232*(T205/('Analysis 103L'!$Y$230+'Analysis 103L'!$Y$231))","v":{"$error":"#VALUE!"}},null,null,{"$f":"IF(R205=\"\",\"\",R205*'Analysis 103L'!$D$23)","v":""},null,null,null,null,{"$error":"#VALUE!"},{"$f":"IF(AND(V205=\"\",AL205=\"Custom\"),MIN(L205*Incent_Cost_Controls_Cust,R205/K205*0.35),IF(AI205=\"LLLC\",MIN(AJ205,((L205+'Analysis 103L'!R226)*Incent_Cost_LLLC)-'Analysis 103L'!X226),IF(AE205>=VLOOKUP(I205,Incent_Controls,3,FALSE),MIN(L205,VLOOKUP(I205,Incent_Controls,2,FALSE)),\"\")))","v":{"$error":"#VALUE!"}},"",null,"","",null,"","PASS/PASS","",{"$error":"#VALUE!"},{"$error":"#VALUE!"},{"$error":"#VALUE!"},"",null,10,{"$f":"VLOOKUP('Analysis 103L'!BE226, avoided_costs, ROUND($AT205, 0)+2, FALSE)","v":{"$error":"#N/A"}},{"$error":"#N/A"},{"$error":"#VALUE!"},{"$error":"#N/A"},{"$error":"#N/A"},{"$error":"#VALUE!"},{"$error":"#N/A"},{"$error":"#N/A"},{"$error":"#N/A"},null,null,null,null,null,null,null,null,null,null,null,null,null,null,null,{"$f":"'Analysis 103L'!CF226","v":""},"","","","",{"$f":"IF(BW205=\"\",\"\",MIN(L205*Incent_Cost_Case,(F205*BW205)))","v":""},""]
[200,{"$f":"'Analysis 103L'!C227","v":0},null,null,{"$f":"'Analysis 103L'!J227","v":"Incentive Cap"},{"$f":"'Analysis 103L'!P227","v":""},{"$f":"'Analysis 103L'!N227","v":0},{"$f":"'Analysis 103L'!Q227","v":0},null,null,"",null,{"$f":"IF(K206=\"\",\"\",K206*L206)","v":""},{"$f":"IFERROR(IF(K206=\"\",\"\",IF(LEFT(I206,8) =\"Exterior\", (G206*F206/K206*0.5), G206*F206/K206)),\"\")","v":""},"","","","",{"$f":"IF(AND(ISNUMBER(AF206),ISNUMBER(L206)),AF206,)","v":0},"",null,{"$f":"IF(AM206=\"FAIL\",\"Control System Not Cost Effective\",\"\")","v":""},{"$f":"'Analysis 103L'!$Y$232*(T206/('Analysis 103L'!$Y$230+'Analysis 103L'!$Y$231))","v":{"$error":"#VALUE!"}},null,null,{"$f":"IF(R206=\"\",\"\",R206*'Analysis 103L'!$D$23)","v":""},null,null,null,null,{"$error":"#VALUE!"},{"$f":"IF(AND(V206=\"\",AL206=\"Custom\"),MIN(L206*Incent_Cost_Controls_Cust,R206/K206*0.35),IF(AI206=\"LLLC\",MIN(AJ206,((L206+'Analysis 103L'!R227)*Incent_Cost_LLLC)-'Analysis 103L'!X227),IF(AE206>=VLOOKUP(I206,Incent_Controls,3,FALSE),MIN(L206,VLOOKUP(I206,Incent_Controls,2,FALSE)),\"\")))","v":{"$error":"#VALUE!"}},null,null,{"$f":"IF(ISNUMBER(T206),T206*IF(OR(LEFT('Analysis 103L'!I227,8)=\"Exterior\",'Analysis 103L'!I227=\"Other_Exterior\",'Analysis 103L'!I227=\"LED_Exterior_Fixtures\"),0,IF('Performance+'!$C$16<=-10,IF('Performance+'!$C$16<=-30,0.2,0.15),0)),0)","v":0},null,null,"","PASS/PASS","",{"$error":"#VALUE!"},{"$error":"#VALUE!"},{"$error":"#VALUE!"},"",null,10,{"$f":"VLOOKUP('Analysis 103L'!BE227, avoided_costs, ROUND($AT206, 0)+2, FALSE)","v":{"$error":"#N/A"}},{"$error":"#N/A"},{"$error":"#VALUE!"},{"$error":"#N/A"},{"$error":"#N/A"},{"$error":"#VALUE!"},{"$error":"#N/A"},{"$error":"#N/A"},{"$error":"#N/A"},null,null,null,null,null,null,null,null,null,null,null,null,null,null,null,{"$f":"'Analysis 103L'!CF227","v":0}]
[null,null,null,null,null,null,null,null,"Totals:",null,{"$f":"SUM(K7:K206)","v":0},null,{"$f":"SUM(M7:M206)+SUMIFS(L7:L205, I7:I205, \"Motion Sensor on Refrigerated Case\")","v":0},null,null,{"$f":"SUM(P7:P206)","v":0},{"$f":"SUM(Q7:Q206)","v":0},{"$f":"SUM(R7:R206)","v":0},null,{"$f":"SUMIF(T7:T206,\"<>#Value!\")","v":0},null,null,{"$f":"SUMIF(W7:W206,\"<>#Value!\")","v":0},null,null,{"$f":"SUMIF(Z7:Z206,\"<>#Value!\")","v":0},null,null,null,null,null,null,null,"total",{"$f":"SUM(AI7:AI206)","v":0},null,null,null,null,null,null,null,{"$f":"SUMIF(AQ7:AQ206,\"<>#Value!\")","v":0}]
[]
[null,null,null,null,null,null,null,null,null,null,null,null,null,null,null,null,null,null,"% Savings:",{"$f":"(P207-Q207)/(P207+0.00000000000001)","v":0}]
[null,null,null,null,null,null,null,null,null,null,null,null,null,null,null,null,null,null,null,null,null,null,"Controls Savings Fractions (CSFs) - Used for lookups of \"Percent Time at Lowest Wattage\" column."]
[null,null,null,null,null,null,null,null,null,null,null,null,null,null,null,null,null,null,null,null,null,null,"From RTF protocol: NonResLightingRetrofitsProtocolCalculator_v5_2, Exterior modified to 25% as per MAD73, updated 4/13/2023 by Brian Owens"]
[null,null,null,null,null,null,null,null,null,null,null,null,null,null,null,null,null,null,null,null,null,null,"Space Type","Manual switch (On/Off)","Bi-level switch/personal tuning","Daylight control - On/Off","Daylight control - Multi-step and Continuous","Occupancy sensor","Occupancy sensor with daylighting control","Networked Lighting Controls","Luminaire Level Lighting Control"]
[null,null,null,null,null,null,null,null,null,null,null,null,null,null,null,null,null,null,null,null,null,null,"Assembly",0,0.15,0.1,0.3,0.25,0.32500000000000001,0.35,0.6]
[null,null,null,null,null,null,null,null,null,null,null,null,null,null,null,null,null,null,null,null,null,null,"Break Room",0,0.15,0.1,0.3,0.25,0.4,0.4,0.6]
[null,null,null,null,null,null,null,null,null,null,null,null,null,null,null,null,null,null,null,null,null,null,"Classroom",0,0.1,0.1,0.3,0.15,0.25,0.35,0.6]
[null,null,null,null,null,null,null,null,null,null,null,null,null,null,null,null,null,null,null,null,null,null,"Computer Room",0,0.15,0.1,0.3,0.25,0.4,0.4,0.6]
[null,null,null,null,null,null,null,null,null,null,null,null,null,null,null,null,null,null,null,null,null,null,"Conference",0,0.15,0.1,0.3,0.25,0.4,0.4,0.6]
[null,null,null,null,null,null,null,null,null,null,null,null,null,null,null,null,null,null,null,null,null,null,"Dining",0,0.15,0.1,0.3,0.15,0.4,0.4,0.6]
[null,null,null,null,null,null,null,null,null,null,null,null,null,null,null,null,null,null,null,null,null,null,"Gymnasium",0,0.15,0.1,0.3,0.25,0.4,0.4,0.6]
[null,null,null,null,null,null,null,null,null,null,null,null,null,null,null,null,null,null,null,null,null,null,"Hallway",0,0.15,0.1,0.3,0.60000000000000009,0.64000000000000012,0.64000000000000012,0.64000000000000012]
[null,null,null,null,null,null,null,null,null,null,null,null,null,null,null,null,null,null,null,null,null,null,"Hospital Room",0,0.15,0.1,0.3,0.25,0.4,0.4,0.6]
[null,null,null,null,null,null,null,null,null,null,null,null,null,null,null,null,null,null,null,null,null,null,"Industrial",0,0.15,0.1,0.3,0.25,0.4,0.4,0.6]
[null,null,null,null,null,null,null,null,null,null,null,null,null,null,null,null,null,null,null,null,null,null,"Kitchen",0,0.15,0.1,0.3,0.25,0.4,0.4,0.6]
[null,null,null,null,null,null,null,null,null,null,null,null,null,null,null,null,null,null,null,null,null,null,"Library",0,0.15,0.1,0.3,0.25,0.4,0.4,0.6]
[null,null,null,null,null,null,null,null,null,null,null,null,null,null,null,null,null,null,null,null,null,null,"Lobby",0,0.15,0.1,0.3,0.25,0.4,0.4,0.6]
[null,null,null,null,null,null,null,null,null,null,null,null,null,null,null,null,null,null,null,null,null,null,"Lodging (Guest Rooms)",0,0.15,0.1,0.3,0.25,0.4,0.4,0.6]
[null,null,null,null,null,null,null,null,null,null,null,null,null,null,null,null,null,null,null,null,null,null,"Open Office",0,0.15,0.1,0.3,0.15,0.4,0.4,0.6]
[null,null,null,null,null,null,null,null,null,null,null,null,null,null,null,null,null,null,null,null,null,null,"Parking Garage",0,0.15,0.1,0.3,0.25,0.4,0.4,0.6]
[null,null,null,null,null,null,null,null,null,null,null,null,null,null,null,null,null,null,null,null,null,null,"Private Office",0,0.2,0.1,0.3,0.15,0.4,0.4,0.6]
[null,null,null,null,null,null,null,null,null,null,null,null,null,null,null,null,null,null,null,null,null,null,"Process",0,0.15,0.1,0.3,0.25,0.4,0.4,0.6]
[null,null,null,null,null,null,null,null,null,null,null,null,null,null,null,null,null,null,null,null,null,null,"Public Assembly",0,0.15,0.1,0.3,0.25,0.4,0.4,0.6]
[null,null,null,null,null,null,null,null,null,null,null,null,null,null,null,null,null,null,null,null,null,null,"Restroom",0,0.15,0.1,0.3,0.5,0.55000000000000004,0.55000000000000004,0.6]
[null,null,null,null,null,null,null,null,null,null,null,null,null,null,null,null,null,null,null,null,null,null,"Retail",0,0.15,0.1,0.3,0.25,0.4,0.4,0.6]
[null,null,null,null,null,null,null,null,null,null,null,null,null,null,null,null,null,null,null,null,null,null,"Stairs",0,0.15,0.1,0.3,0.64000000000000012,0.67600000000000016,0.67600000000000016,0.67600000000000016]
[null,null,null,null,null,null,null,null,null,null,null,null,null,null,null,null,null,null,null,null,null,null,"Storage",0,0.15,0.1,0.3,0.5,0.55000000000000004,0.55000000000000004,0.6]
[null,null,null,null,null,null,null,null,null,null,null,null,null,null,null,null,null,null,null,null,null,null,"Technical Area",0,0.15,0.1,0.3,0.25,0.32500000000000001,0.35,0.6]
[null,null,null,null,null,null,null,null,null,null,null,null,null,null,null,null,null,null,null,null,null,null,"Warehouse Aisle",0,0.15,0.1,0.3,0.5,0.6,0.6,0.7]
[null,null,null,null,null,null,null,null,null,null,null,null,null,null,null,null,null,null,null,null,null,null,"Other",0,0.15,0.1,0.3,0.25,0.4,0.4,0.6]
[null,null,null,null,null,null,null,null,null,null,null,null,null,null,null,null,null,null,null,null,null,null,"Exterior",0,0.625,0.5,0.5,0.625,0.625,0.625,0.625]

{"sheet":"LED Case Lighting","index":7,"n_rows":36,"n_cols":70,"rows_kept":36,"cut":false,"hidden":true,"merged":[[18,2,18,28],[2,1,2,4],[2,5,2,13],[2,18,2,20],[2,25,2,28],[2,31,2,34],[1,1,1,4],[1,5,1,13],[1,14,1,17],[1,18,1,20],[1,25,1,28],[2,14,2,17],[14,1,14,4],[14,31,14,34],[7,18,7,20],[7,25,7,28],[8,1,8,4],[14,5,14,13],[14,14,14,17],[13,1,13,4],[13,5,13,13],[13,14,13,17],[13,18,13,20],[13,25,13,28],[1,35,1,38],[2,35,2,38],[3,35,3,38],[4,35,4,38],[5,35,5,38],[6,35,6,38],[7,35,7,38],[8,35,8,38],[1,31,1,34],[3,31,3,34],[5,31,5,34],[12,1,12,4],[12,5,12,13],[12,14,12,17],[13,22,13,24],[14,22,14,24],[11,22,11,24],[11,1,11,4],[11,5,11,13],[11,14,11,17],[11,18,11,20],[3,1,3,4],[3,5,3,13],[9,1,9,4],[9,5,9,13],[9,18,9,20],[9,25,9,28],[4,31,4,34],[5,1,5,4],[6,1,6,4],[5,18,5,20],[5,25,5,28],[6,31,6,34],[3,18,3,20],[3,25,3,28],[4,1,4,4],[4,5,4,13],[4,18,4,20],[4,25,4,28],[3,14,3,17],[4,14,4,17],[7,31,7,34],[8,31,8,34],[5,14,5,17],[6,14,6,17],[6,5,6,13],[6,18,6,20],[6,25,6,28],[15,25,15,28],[12,18,12,20],[12,25,12,28],[15,35,15,38],[15,31,15,34],[14,18,14,20],[14,25,14,28],[9,35,9,38],[12,31,12,34],[14,35,14,38],[10,35,10,38],[11,35,11,38],[12,35,12,38],[13,35,13,38],[11,31,11,34],[9,31,9,34],[10,25,10,28],[10,31,10,34],[12,22,12,24],[13,31,13,34],[11,25,11,28],[16,2,16,29],[1,21,1,24],[2,22,2,24],[3,22,3,24],[4,22,4,24],[5,22,5,24],[6,22,6,24],[7,22,7,24],[8,22,8,24],[10,1,10,4],[10,5,10,13],[10,14,10,17],[10,18,10,20],[7,1,7,4],[7,5,7,13],[8,5,8,13],[8,18,8,20],[8,25,8,28],[7,14,7,17],[8,14,8,17],[9,14,9,17],[9,22,9,24],[10,22,10,24],[5,5,5,13]]}
[null,null,null,null,null,null,null,null,null,null,null,null,null,null,null,null,null,null,null,null,null,null,null,null,null,null,null,null,null,null,null,null,null,null,null,null,null,null,null,null,null,null,null,null,null,null,null,null,null,null,{"$f":"AY3","v":7}]
[null,"LED Display Case Lighting",null,null,null,"Description/\nRequirements",null,null,null,null,null,null,null,null,"Estimated Average \nSavings \n(kWh/linear ft of fixture)",null,null,null,"Incentive \n(per linear ft of fixture)",null,null,"Quantity",null,null,null,"Total Installed Cost",null,null,null,"Equipment  Type","Model #","Estimated Savings",null,null,null,"Estimated Incentive",null,null,null,null,null,null,null,"Measure Name","ProductCode","Installation Location","High/Low","Existing Equipment"," Energy (kWh) Savings per Ft","Incentive per Ft","Measure Life (years)","Total NEB (Annual $)",null,{"$f":"IF(AS2=BD2, 0, 1)","v":0},"New Product Request ID","ProductCode","ProductDescription","2023 Start Date","2023 End Date","Recommended 2023 Incentives (FINAL APPROVED 10/17/22) ","2023 kWH Savings (FINAL APPROVED 10/17/22)","Savings (therms)","Total NEB (Annual $)","2023 Draft CEC Max Incentive (FINAL APPROVED 10/17/2022","Measure Life (years)","2022 Incentive","2022 Maximum Incentive","Sector Code","Program Code","ProgramDescription"]
[null,"Motion Sensor, on Low Power LED",null,null,null,"• On LED cases, side bar (single) \n• Reach-in or open display cases¹",null,null,null,null,null,null,null,null,9,null,null,null,1.6,null,null,null,"linear ft of fixture",null,null,null,null,null,null,null,{"$f":"IF(AD3=\"\",\"\",VLOOKUP(AD3,'Equipment Type'!$A$1:$F$53,4,FALSE))","v":""},{"$f":"O3*V3","v":0},null,null,null,{"$f":"IF(ISNUMBER(Z3),MIN(Z3*Incent_Cost_Case,(S3*V3)),0)","v":0},null,null,null,null,null,null,null,"Single Row T8_Low Power LED_Med Temp Open Case_Remote Condensing","CLSRT8LOWMEDOPENRC","MED TEMP OPEN REMOTE","LOW","T8",38.889467396175903,8.5,7,1.5323938803295301,null,{"$f":"IF(AS3=BD3, 0, 1)","v":1},5830,"LEDCLSRT8MED","Single Row T8 Low LED Case Lighting - Med Temp Case","2023-01-01","2024-03-31",9,36.76,-0.3,0.92,12.8,7,8,15.05,"COM","BE","Existing Buildings"]
[null,"Motion Sensor, on High Power LED",null,null,null,"• On LED cases, mullion bar (double) \n• Reach-in or open display cases¹",null,null,null,null,null,null,null,null,14,null,null,null,2.4,null,null,null,"linear ft of fixture",null,null,null,null,null,null,null,{"$f":"IF(AD4=\"\",\"\",VLOOKUP(AD4,'Equipment Type'!$A$1:$F$53,4,FALSE))","v":""},{"$f":"O4*V4","v":0},null,null,null,0,null,null,null,null,null,null,null,"Single Row T12_Low Power LED_Med Temp Open Case_Remote Condensing","CLSRT12LOWMEDOPENRC","MED TEMP OPEN REMOTE","LOW","T12",49.089780350136202,8.5,7,3.0827733734169902,null,{"$f":"IF(AS4=BD4, 0, 1)","v":1},5824,"LEDCLSRT12MED","Single Row T12 Low LED Case Lighting - Med Temp Case","2023-01-01","2024-03-31",9,46.83,-0.39,1.28,16.29,7,8,18.84,"COM","BE","Existing Buildings"]
[null,"Single Row T8 Low Power LED (Medium Temp⁯ Case)",null,null,null,"• Replace T8 with LED side bar (single) \n• Inside reach-in or open display cases²",null,null,null,null,null,null,null,null,41,null,null,null,8,null,null,null,"linear ft of fixture",null,null,null,null,null,null,null,{"$f":"IF(AD5=\"\",\"\",VLOOKUP(AD5,'Equipment Type'!$A$1:$F$53,4,FALSE))","v":""},0,null,null,null,0,null,null,null,null,null,null,null,"Double Row T8 _High Power LED_Med Temp Open Case_Remote Condensing","CLDRT8HIGHMEDOPENRC","MED TEMP OPEN REMOTE","HIGH","T8",83.746441356355405,14.5,7,3.0647877606590699,null,{"$f":"IF(AS5=BD5, 0, 1)","v":1},5814,"LEDCLDRT8MED","Double Row T8 High LED Case Lighting - Med Temp Case","2023-01-01","2024-03-31",17,83.71,-0.69,1.84,22.63,7,16,23.91,"COM","BE","Existing Buildings"]
[null,"Single Row T12 Low Power LED (Medium Temp⁯ Case)",null,null,null,"• Replace T12 with LED side bar (single) \n• Inside reach-in or open display cases²",null,null,null,null,null,null,null,null,51,null,null,null,8,null,null,null,"linear ft of fixture",null,null,null,null,null,null,null,{"$f":"IF(AD6=\"\",\"\",VLOOKUP(AD6,'Equipment Type'!$A$1:$F$53,4,FALSE))","v":""},0,null,null,null,0,null,null,null,null,null,null,null,"Double Row T12 _High Power LED_Med Temp Open Case_Remote Condensing","CLDRT12HIGHMEDOPENRC","MED TEMP OPEN REMOTE","HIGH","T12",104.147067264276,14.5,7,6.1655467468339902,null,{"$f":"IF(AS6=BD6, 0, 1)","v":1},5807,"LEDCLDRT12MED","Double Row T12 High LED Case Lighting - Med Temp Case","2023-01-01","2024-03-31",17,103.84,-0.86,2.56,22.63,7,16,23.91,"COM","BE","Existing Buildings"]
[null,"Double Row T8 High Power LED (Medium Temp⁯ Case)",null,null,null,"• Replace T8 with LED mullion (double) \n• Inside reach-in or open display cases² ",null,null,null,null,null,null,null,null,93,null,null,null,16,null,null,null,"linear ft of fixture",null,null,null,null,null,null,null,{"$f":"IF(AD7=\"\",\"\",VLOOKUP(AD7,'Equipment Type'!$A$1:$F$53,4,FALSE))","v":""},0,null,null,null,0,null,null,null,null,null,null,null,"Single Row T8_Low Power LED_Med Temp Closed Case_Remote Condensing","CLSRT8LOWMEDCLSDRC","MED TEMP CLOSED REMOTE","LOW","T8",65.474028368586502,8.5,7,1.5323938803295301,null,{"$f":"IF(AS7=BD7, 0, 1)","v":1},5828,"LEDCLSRT8LOW","Single Row T8 Low LED Case Lighting - Low Temp Case","2023-01-01","2024-03-31",9,45.74,-0.3,0.92,16.55,7,8,18.61,"COM","BE","Existing Buildings"]
[null,"Double Row T12 High Power LED (Medium Temp⁯ Case)",null,null,null,"• Replace T12 with LED mullion (double) \n• Inside reach-in or open display cases² ",null,null,null,null,null,null,null,null,113,null,null,null,16,null,null,null,"linear ft of fixture",null,null,null,null,null,null,null,{"$f":"IF(AD8=\"\",\"\",VLOOKUP(AD8,'Equipment Type'!$A$1:$F$53,4,FALSE))","v":""},0,null,null,null,0,null,null,null,null,null,null,null,"Single Row T12_Low Power LED_Med Temp Closed Case_Remote Condensing","CLSRT12LOWMEDCLSDRC","MED TEMP CLOSED REMOTE","LOW","T12",126.739424539016,8.5,7,3.0827733734169902,null,1,5822,"LEDCLSRT12LOW","Single Row T12 Low LED Case Lighting - Low Temp Case","2023-01-01","2024-03-31",9,58.03,-0.39,1.28,17.489999999999998,7,8,20,"COM","BE","Existing Buildings"]
[null,"Single Row T12 Low Power LED (Medium Temp Case or Low Temp Case)",null,null,null,"• Replace T12 with LED side bar (single) \n• On the canopy or lip of open display cases² ",null,null,null,null,null,null,null,null,44,null,null,null,8,null,null,null,"linear ft of fixture",null,null,null,null,null,null,null,{"$f":"IF(AD9=\"\",\"\",VLOOKUP(AD9,'Equipment Type'!$A$1:$F$53,4,FALSE))","v":""},0,null,null,null,{"$f":"IF(ISNUMBER(Z9),MIN(Z9*Incent_Cost_Case,(S9*V9)),0)","v":0},null,null,null,null,null,null,null,"Double Row T8 _High Power LED_Med Temp Closed Case_Remote Condensing","CLDRT8HIGHMEDCLSDRC","MED TEMP CLOSED REMOTE","HIGH","T8",43.8041965124686,8.5,7,3.0647877606590699,null,1,5812,"LEDCLDRT8LOW","Double Row T8 High LED Case Lighting - Low Temp Case","2023-01-01","2024-03-31",17,104.06,-0.69,1.84,22.63,7,16,23.91,"COM","BE","Existing Buildings"]
[null,"Double Row T8 High Power LED (Medium Temp Case or Low Temp Case)",null,null,null,"• Replace T8 with LED mullion (double) \n• On the canopy or lip of open display cases² ",null,null,null,null,null,null,null,null,79,null,null,null,16,null,null,null,"linear ft of fixture",null,null,null,null,null,null,null,{"$f":"IF(AD10=\"\",\"\",VLOOKUP(AD10,'Equipment Type'!$A$1:$F$53,4,FALSE))","v":""},0,null,null,null,{"$f":"IF(ISNUMBER(Z10),MIN(Z10*Incent_Cost_Case,(S10*V10)),0)","v":0},null,null,null,null,null,null,null,"Double Row T12 _High Power LED_Med Temp Closed Case_Remote Condensing","CLDRT12HIGHMEDCLSDRC","MED TEMP CLOSED REMOTE","HIGH","T12",55.2935930776653,11,7,6.1655467468339902,null,1,5805,"LEDCLDRT12LOW","Double Row T12 High LED Case Lighting - Low Temp Case","2023-01-01","2024-03-31",17,128.63,-0.86,2.56,22.36,7,16,23.91,"COM","BE","Existing Buildings"]
[null,"Double Row T12 High Power LED (Medium Temp Case or Low Temp Case)",null,null,null,"• Replace T12 with LED mullion (double) \n• On the canopy or lip of open display cases² ",null,null,null,null,null,null,null,null,97,null,null,null,16,null,null,null,"linear ft of fixture",null,null,null,null,null,null,null,{"$f":"IF(AD11=\"\",\"\",VLOOKUP(AD11,'Equipment Type'!$A$1:$F$53,4,FALSE))","v":""},0,null,null,null,0,null,null,null,null,null,null,null,"Single Row T8_Low Power LED_Low Temp Open Case_Remote Condensing","CLSRT8LOWLOWOPENRC","LOW TEMP OPEN REMOTE","LOW","T8",94.330054382653998,8.5,7,1.5323938803295301,null,1]
[null,"Single Row T8 Low Power LED (Low Temp Case)",null,null,null,"• Replace T8 with LED side bar (single) \n• Inside reach-in or open display cases² ",null,null,null,null,null,null,null,null,50,null,null,null,8,null,null,null,"linear ft of fixture",null,null,null,null,null,null,null,{"$f":"IF(AD12=\"\",\"\",VLOOKUP(AD12,'Equipment Type'!$A$1:$F$53,4,FALSE))","v":""},0,null,null,null,0,null,null,null,null,null,null,null,"Single Row T12_Low Power LED_Low Temp Open Case_Remote Condensing","CLSRT12LOWLOWOPENRC","LOW TEMP OPEN REMOTE","LOW","T12",117.30884751304799,8.5,7,3.0827733734169902,null,1,5826,"LEDCLSRT12OUT","Single Row T12 Low LED Case Lighting - Outside of Case","2023-01-01","2024-03-31",9,39.47,-0.78,1.28,9.98,7,8,14.45,"COM","BE","Existing Buildings"]
[null,"Single Row T12 Low Power LED (Low Temp Case)",null,null,null,"• Replace T12 with LED side bar (single) \n• Inside reach-in or open display cases² ",null,null,null,null,null,null,null,null,62,null,null,null,8,null,null,null,"linear ft of fixture",null,null,null,null,null,null,null,{"$f":"IF(AD13=\"\",\"\",VLOOKUP(AD13,'Equipment Type'!$A$1:$F$53,4,FALSE))","v":""},0,null,null,null,0,null,null,null,null,null,null,null,"Double Row T8 _High Power LED_Low Temp Open Case_Remote Condensing","CLDRT8HIGHLOWOPENRC","LOW TEMP OPEN REMOTE","HIGH","T8",73.748431057261797,14.5,7,3.0647877606590699,null,1,5816,"LEDCLDRT8OUT","Double Row T8 High LED Case Lighting - Outside of Case","2023-01-01","2024-03-31",17,70.34,-1.38,1.84,17.78,7,16,23.91,"COM","BE","Existing Buildings"]
[null,"Double Row T8 High Power LED (Low Temp Case)",null,null,null,"• Replace T8 with LED mullion (double) \n• Inside reach-in or open display cases² ",null,null,null,null,null,null,null,null,113,null,null,null,16,null,null,null,"linear ft of fixture",null,null,null,null,null,null,null,{"$f":"IF(AD14=\"\",\"\",VLOOKUP(AD14,'Equipment Type'!$A$1:$F$53,4,FALSE))","v":""},0,null,null,null,0,null,null,null,null,null,null,null,"Double Row T12 _High Power LED_Low Temp Open Case_Remote Condensing","CLDRT12HIGHLOWOPENRC","LOW TEMP OPEN REMOTE","HIGH","T12",142.75635615750701,14.5,7,6.1655467468339902,null,1,5809,"LEDCLDRT12OUT","Double Row T12 High LED Case Lighting - Outside of Case","2023-01-01","2024-03-31",17,87.55,-1.72,2.56,22.16,7,16,23.91,"COM","BE","Existing Buildings"]
[null,"Double Row T12 High Power LED (Low Temp Case)",null,null,null,"• Replace T12 with LED mullion (double)\n• Inside reach-in or open display cases²",null,null,null,null,null,null,null,null,138,null,null,null,16,null,null,null,"linear ft of fixture",null,null,null,null,null,null,null,{"$f":"IF(AD15=\"\",\"\",VLOOKUP(AD15,'Equipment Type'!$A$1:$F$53,4,FALSE))","v":""},0,null,null,null,0,null,null,null,null,null,null,null,"Single Row T8_Low Power LED_Low Temp Closed Case_Remote Condensing","CLSRT8LOWLOWCLSDRC","LOW TEMP CLOSED REMOTE","LOW","T8",34.365508481918503,8.5,7,1.5323938803295301,null,1,5820,"MSLEDCL4W","Motion Sensor On LED cases (single) Low Power","2023-01-01","2024-03-31",2.5,7.52,-0.1,0.56999999999999995,2.62,8,1.6,3.52,"COM","BE","Existing Buildings"]
[null,null,null,null,null,null,null,null,null,null,null,null,null,null,null,null,null,null,null,null,"Totals:",{"$f":"SUM(V3:V15)","v":0},null,null,null,{"$f":"SUM(Z3:AC15)","v":0},null,null,null,null,null,{"$f":"SUM(AF3:AI15)","v":0},null,null,null,{"$f":"SUM(AJ3:AM15)","v":0},null,null,null,null,null,null,null,"Single Row T12_Low Power LED_Low Temp Closed Case_Remote Condensing","CLSRT12LOWLOWCLSDRC","LOW TEMP CLOSED REMOTE","LOW","T12",43.379232886177597,8.5,7,3.0827733734169902,null,1,5818,"MSLEDCL4W75W","Motion Sensor On LED cases (Double) High Power","2023-01-01","2024-03-31",2.5,12.16,-0.06,0.74,4.38,8,2.4,3.65,"COM","BE","Existing Buildings"]
[null,null,"1 Motion Sensors – LED Case Lighting Requirements: \n     ᛫  Incentives are based on linear feet of LED fixture controlled by the motion sensor\n     ᛫  Install a motion sensor controlling permanently installed LED lighting in refrigerated reach-in case(s)\n     ᛫  Incentive and energy savings values vary based on the controlled LED luminaire power (low or high): \n          ◦  Low power luminaire is defined as one that uses < 4.5W/ft of fixture (single)\n          ◦  High power luminaire is defined as one using > 4.5W to < 8.5W/ft of fixture (double)\n",null,null,null,null,null,null,null,null,null,null,null,null,null,null,null,null,null,null,null,null,null,null,null,null,null,null,null,null,null,null,null,null,null,null,null,null,null,null,null,null,"Double Row T8 _High Power LED_Low Temp Closed Case_Remote Condensing","CLDRT8HIGHLOWCLSDRC","LOW TEMP CLOSED REMOTE","HIGH","T8",74.004331595585995,14.5,7,3.0647877606590699]
[null,null,"2 LED Case Lighting Requirements:",null,null,null,null,null,null,null,null,null,null,null,null,null,null,null,null,null,null,null,null,null,null,null,null,null,null,null,null,null,null,null,null,null,null,null,null,null,null,null,null,"Double Row T12 _High Power LED_Low Temp Closed Case_Remote Condensing","CLDRT12HIGHLOWCLSDRC","LOW TEMP CLOSED REMOTE","HIGH","T12",92.031780404103998,14.5,7,6.1655467468339902]
[null,null,"   ᛫  Incentives paid are based on linear feet of installed LED fixture.\n   ᛫  Only LED fixtures on the Design Lights Consortium product list for case lighting, under indoor luminaires, are eligible.",null,null,null,null,null,null,null,null,null,null,null,null,null,null,null,null,null,null,null,null,null,null,null,null,null,null,null,null,null,null,null,null,null,null,null,null,null,null,null,null,"Single Row T8_Low Power LED_Med Temp Open Case_Self-Contained","CLSRT8LOWMEDOPENSC","MED TEMP OPEN SELF","LOW","T8",57.8575235892094,8.5,7,1.5323938803295301]
[null,null,null,null,null,null,null,null,null,null,null,null,null,null,null,null,null,null,null,null,null,null,null,null,null,null,null,null,null,null,null,null,null,null,null,null,null,null,null,null,null,null,null,"Single Row T12_Low Power LED_Med Temp Open Case_Self-Contained","CLSRT12LOWMEDOPENSC","MED TEMP OPEN SELF","LOW","T12",111.99599944681501,8.5,7,3.0827733734169902]
[null,null,null,null,null,null,null,null,null,null,null,null,null,null,null,null,null,null,null,null,null,null,null,null,null,null,null,null,null,null,null,null,null,null,null,null,null,null,null,null,null,null,null,"Double Row T8 _High Power LED_Med Temp Open Case_Self-Contained","CLDRT8HIGHMEDOPENSC","MED TEMP OPEN SELF","HIGH","T8",58.668248620764899,14.5,7,3.0647877606590699]
[null,null,null,null,null,null,null,null,null,null,null,null,null,null,null,null,null,null,null,null,null,null,null,null,null,null,null,null,null,null,null,null,null,null,null,null,null,null,null,null,null,null,null,"Double Row T12 _High Power LED_Med Temp Open Case_Self-Contained","CLDRT12HIGHMEDOPENSC","MED TEMP OPEN SELF","HIGH","T12",74.056335330623,14.5,7,6.1655467468339902]
[null,null,null,null,null,null,null,null,null,null,null,null,null,null,null,null,null,null,null,null,null,null,null,null,null,null,null,null,null,null,null,null,null,null,null,null,null,null,null,null,null,null,null,"Single Row T8_Low Power LED_Med Temp Closed Case_Self-Contained","CLSRT8LOWMEDCLSDSC","MED TEMP CLOSED SELF","LOW","T8",126.339015974338,8.5,7,1.5323938803295301]
[null,null,null,null,null,null,null,null,null,null," ",null,null,null,null,null,null,null,null,null,null,null,null,null,null,null,null,null,null,null,null,null,null,null,null,null,null,null,null,null,null,null,null,"Single Row T12_Low Power LED_Med Temp Closed Case_Self-Contained","CLSRT12LOWMEDCLSDSC","MED TEMP CLOSED SELF","LOW","T12",157.115189394054,8.5,7,3.0827733734169902]
[null,null,null,null,null,null,null,null,null,null,null,null,null,null,null,null,null,null,null,null,null,null,null,null,null,null,null,null,null,null,null,null,null,null,null,null,null,null,null,null,null,null,null,"Double Row T8 _High Power LED_Med Temp Closed Case_Self-Contained","CLDRT8HIGHMEDCLSDSC","MED TEMP CLOSED SELF","HIGH","T8",98.773442572498993,14.5,7,3.0647877606590699]
[null,null,null,null,null,null,null,null,null,null,null,null,null,null,null,null,null,null,null,null,null,null,null,null,null,null,null,null,null,null,null,null,null,null,null,null,null,null,null,null,null,null,null,"Double Row T12 _High Power LED_Med Temp Closed Case_Self-Contained","CLDRT12HIGHMEDCLSDSC","MED TEMP CLOSED SELF","HIGH","T12",191.19778610387601,14.5,7,6.1655467468339902]
[null,null,null,null,null,null,null,null,null,null,null,null,null,null,null,null,null,null,null,null,null,null,null,null,null,null,null,null,null,null,null,null,null,null,null,null,null,null,null,null,null,null,null,"Single Row T8_Low Power LED_Low Temp Open Case_Self-Contained","CLSRT8LOWLOWOPENSC","LOW TEMP OPEN SELF","LOW","T8",38.889467396175903,8.5,7,1.5323938803295301]
[null,null,null,null,null,null,null,null,null,null,null,null,null,null,null,null,null,null,null,null,null,null,null,null,null,null,null,null,null,null,null,null,null,null,null,null,null,null,null,null,null,null,null,"Single Row T12_Low Power LED_Low Temp Open Case_Self-Contained","CLSRT12LOWLOWOPENSC","LOW TEMP OPEN SELF","LOW","T12",49.089780350136202,8.5,7,3.0827733734169902]
[null,null,null,null,null,null,null,null,null,null,null,null,null,null,null,null,null,null,null,null,null,null,null,null,null,null,null,null,null,null,null,null,null,null,null,null,null,null,null,null,null,null,null,"Double Row T8 _High Power LED_Low Temp Open Case_Self-Contained","CLDRT8HIGHLOWOPENSC","LOW TEMP OPEN SELF","HIGH","T8",83.746441356355405,14.5,7,3.0647877606590699]
[null,null,null,null,null,null,null,null,null,null,null,null,null,null,null,null,null,null,null,null,null,null,null,null,null,null,null,null,null,null,null,null,null,null,null,null,null,null,null,null,null,null,null,"Double Row T12 _High Power LED_Low Temp Open Case_Self-Contained","CLDRT12HIGHLOWOPENSC","LOW TEMP OPEN SELF","HIGH","T12",104.147067264276,14.5,7,6.1655467468339902]
[null,null,null,null,null,null,null,null,null,null,null,null,null,null,null,null,null,null,null,null,null,null,null,null,null,null,null,null,null,null,null,null,null,null,null,null,null,null,null,null,null,null,null,"Single Row T8_Low Power LED_Low Temp Closed Case_Self-Contained","CLSRT8LOWLOWCLSDSC","LOW TEMP CLOSED SELF","LOW","T8",65.474028368586502,8.5,7,1.5323938803295301]
[null,null,null,null,null,null,null,null,null,null,null,null,null,null,null,null,null,null,null,null,null,null,null,null,null,null,null,null,null,null,null,null,null,null,null,null,null,null,null,null,null,null,null,"Single Row T12_Low Power LED_Low Temp Closed Case_Self-Contained","CLSRT12LOWLOWCLSDSC","LOW TEMP CLOSED SELF","LOW","T12",126.739424539016,8.5,7,3.0827733734169902]
[null,null,null,null,null,null,null,null,null,null,null,null,null,null,null,null,null,null,null,null,null,null,null,null,null,null,null,null,null,null,null,null,null,null,null,null,null,null,null,null,null,null,null,"Double Row T8 _High Power LED_Low Temp Closed Case_Self-Contained","CLDRT8HIGHLOWCLSDSC","LOW TEMP CLOSED SELF","HIGH","T8",43.8041965124686,8.5,7,3.0647877606590699]
[null,null,null,null,null,null,null,null,null,null,null,null,null,null,null,null,null,null,null,null,null,null,null,null,null,null,null,null,null,null,null,null,null,null,null,null,null,null,null,null,null,null,null,"Double Row T12 _High Power LED_Low Temp Closed Case_Self-Contained","CLDRT12HIGHLOWCLSDSC","LOW TEMP CLOSED SELF","HIGH","T12",55.2935930776653,11,7,6.1655467468339902]
[null,null,null,null,null,null,null,null,null,null,null,null,null,null,null,null,null,null,null,null,null,null,null,null,null,null,null,null,null,null,null,null,null,null,null,null,null,null,null,null,null,null,null,"Motion Sensor on LED Lights in Open Cases - LED power between 4.0 and 8.5 watts per linear foot","MSLEDCL4W8P5W",null,null,null,11.1644305915883,3,8,0.60444137687979504]
[null,null,null,null,null,null,null,null,null,null,null,null,null,null,null,null,null,null,null,null,null,null,null,null,null,null,null,null,null,null,null,null,null,null,null,null,null,null,null,null,null,null,null,"Motion Sensor on LED Lights in Open Cases - LED power less than 4.0 watts per linear foot","MSLEDCL4WATT",null,null,null,6.8767834313150003,2,8,0.76569919638372697]

{"sheet":"Incentives","index":8,"n_rows":832,"n_cols":11,"rows_kept":832,"cut":false,"hidden":true,"merged":[]}
["PROPOSED EQUIPMENT",null,null,"SORT BY CONCATENATION COLUMN FOR VLOOKUP",null,"delamping and reduced watt"]
["DESCRIPTION FROM LIGHTING TOOL","LAMP COST","OPERATIONAL LIFE","RQRMT CODE","CONCATENATION","INCENTIVE","NEB","INCENTIVE DESCRIPTION","MAD",null,"2023 Updates in Yellow"]
["2' TLED lamp with new fluorescent ballast",35,50000,"T8_2ft",{"$f":"CONCATENATE(A3, \" from \", D3)","v":"2' TLED lamp with new fluorescent ballast from T8_2ft"},null,null,"TLED",8]
["2' TLED lamp with new fluorescent ballast",35,50000,"T8_U_bent","2' TLED lamp with new fluorescent ballast from T8_U_bent",null,null,"TLED",8]
["2' TLED lamp with new fluorescent ballast",35,50000,"T8_3ft","2' TLED lamp with new fluorescent ballast from T8_3ft",null,null,"TLED",8]
["2' TLED lamp with new fluorescent ballast",35,50000,"T8_4ft","2' TLED lamp with new fluorescent ballast from T8_4ft",null,null,"TLED",8]
["2' TLED lamp with new fluorescent ballast",35,50000,"T8_5ft","2' TLED lamp with new fluorescent ballast from T8_5ft",null,null,"TLED",8]
["2' TLED lamp with new fluorescent ballast",35,50000,"T8_6ft","2' TLED lamp with new fluorescent ballast from T8_6ft",null,null,"TLED",8]
["2' TLED lamp with new fluorescent ballast",35,50000,"T8_8ft","2' TLED lamp with new fluorescent ballast from T8_8ft",null,null,"TLED",8]
["2' TLED lamp with new fluorescent ballast",35,50000,"T12_U_bent","2' TLED lamp with new fluorescent ballast from T12_U_bent",null,null,"TLED",8]
["2' TLED lamp with new fluorescent ballast",35,50000,"T12_2or3ft","2' TLED lamp with new fluorescent ballast from T12_2or3ft",null,null,"TLED",8]
["2' TLED lamp with new fluorescent ballast",35,50000,"T12_4ft","2' TLED lamp with new fluorescent ballast from T12_4ft",null,null,"TLED",8]
["2' TLED lamp with new fluorescent ballast",35,50000,"T12_5ft","2' TLED lamp with new fluorescent ballast from T12_5ft",null,null,"TLED",8]
["2' TLED lamp with new fluorescent ballast",35,50000,"T12_6ft","2' TLED lamp with new fluorescent ballast from T12_6ft",null,null,"TLED",8]
["2' TLED lamp with new fluorescent ballast",35,50000,"T12_8ft","2' TLED lamp with new fluorescent ballast from T12_8ft",null,null,"TLED",8]
["2' TLED lamp with new fluorescent ballast",35,50000,"T5_2ft","2' TLED lamp with new fluorescent ballast from T5_2ft",null,null,"TLED",8]
["2' TLED lamp with new fluorescent ballast",35,50000,"HID","2' TLED lamp with new fluorescent ballast from HID",null,null,"TLED",8]
["2' TLED lamp with new fluorescent ballast",35,50000,"INCAN","2' TLED lamp with new fluorescent ballast from INCAN",null,null,"TLED",8]
["2' TLED lamp with new fluorescent ballast",35,50000,"CFL","2' TLED lamp with new fluorescent ballast from CFL",null,null,"TLED",8]
["2' TLED lamp with new fluorescent ballast",35,50000,"SIGN","2' TLED lamp with new fluorescent ballast from SIGN",null,null,"TLED",8]
["2' TLED lamp with new fluorescent ballast",35,50000,"OTHER","2' TLED lamp with new fluorescent ballast from OTHER",null,null,"TLED",8]
["2' TLED lamp with remote driver",35,50000,"T8_2ft","2' TLED lamp with remote driver from T8_2ft",null,null,"TLED",8]
["2' TLED lamp with remote driver",35,50000,"T8_U_bent","2' TLED lamp with remote driver from T8_U_bent",null,null,"TLED",8]
["2' TLED lamp with remote driver",35,50000,"T8_3ft","2' TLED lamp with remote driver from T8_3ft",null,null,"TLED",8]
["2' TLED lamp with remote driver",35,50000,"T8_4ft","2' TLED lamp with remote driver from T8_4ft",null,null,"TLED",8]
["2' TLED lamp with remote driver",35,50000,"T8_5ft","2' TLED lamp with remote driver from T8_5ft",null,null,"TLED",8]
["2' TLED lamp with remote driver",35,50000,"T8_6ft","2' TLED lamp with remote driver from T8_6ft",null,null,"TLED",8]
["2' TLED lamp with remote driver",35,50000,"T8_8ft","2' TLED lamp with remote driver from T8_8ft",null,null,"TLED",8]
["2' TLED lamp with remote driver",35,50000,"T12_U_bent","2' TLED lamp with remote driver from T12_U_bent",null,null,"TLED",8]
["2' TLED lamp with remote driver",35,50000,"T12_2or3ft","2' TLED lamp with remote driver from T12_2or3ft",null,null,"TLED",8]
["2' TLED lamp with remote driver",35,50000,"T12_4ft","2' TLED lamp with remote driver from T12_4ft",null,null,"TLED",8]
["2' TLED lamp with remote driver",35,50000,"T12_5ft","2' TLED lamp with remote driver from T12_5ft",null,null,"TLED",8]
["2' TLED lamp with remote driver",35,50000,"T12_6ft","2' TLED lamp with remote driver from T12_6ft",null,null,"TLED",8]
["2' TLED lamp with remote driver",35,50000,"T12_8ft","2' TLED lamp with remote driver from T12_8ft",null,null,"TLED",8]
["2' TLED lamp with remote driver",35,50000,"T5_2ft","2' TLED lamp with remote driver from T5_2ft",null,null,"TLED",8]
["2' TLED lamp with remote driver",35,50000,"HID","2' TLED lamp with remote driver from HID",null,null,"TLED",8]
["2' TLED lamp with remote driver",35,50000,"INCAN","2' TLED lamp with remote driver from INCAN",null,null,"TLED",8]
["2' TLED lamp with remote driver",35,50000,"CFL","2' TLED lamp with remote driver from CFL",null,null,"TLED",8]
["2' TLED lamp with remote driver",35,50000,"SIGN","2' TLED lamp with remote driver from SIGN",null,null,"TLED",8]
["2' TLED lamp with remote driver",35,50000,"OTHER","2' TLED lamp with remote driver from OTHER",null,null,"TLED",8]
["2' TLED lamp at line voltage",35,50000,"T8_2ft","2' TLED lamp at line voltage from T8_2ft",null,null,"TLED",8]
["2' TLED lamp at line voltage",35,50000,"T8_U_bent","2' TLED lamp at line voltage from T8_U_bent",null,null,"TLED",8]
["2' TLED lamp at line voltage",35,50000,"T8_3ft","2' TLED lamp at line voltage from T8_3ft",null,null,"TLED",8]
["2' TLED lamp at line voltage",35,50000,"T8_4ft","2' TLED lamp at line voltage from T8_4ft",null,null,"TLED",8]
["2' TLED lamp at line voltage",35,50000,"T8_5ft","2' TLED lamp at line voltage from T8_5ft",null,null,"TLED",8]
["2' TLED lamp at line voltage",35,50000,"T8_6ft","2' TLED lamp at line voltage from T8_6ft",null,null,"TLED",8]
["2' TLED lamp at line voltage",35,50000,"T8_8ft","2' TLED lamp at line voltage from T8_8ft",null,null,"TLED",8]
["2' TLED lamp at line voltage",35,50000,"T12_U_bent","2' TLED lamp at line voltage from T12_U_bent",null,null,"TLED",8]
["2' TLED lamp at line voltage",35,50000,"T12_2or3ft","2' TLED lamp at line voltage from T12_2or3ft",null,null,"TLED",8]
["2' TLED lamp at line voltage",35,50000,"T12_4ft","2' TLED lamp at line voltage from T12_4ft",null,null,"TLED",8]
["2' TLED lamp at line voltage",35,50000,"T12_5ft","2' TLED lamp at line voltage from T12_5ft",null,null,"TLED",8]
["2' TLED lamp at line voltage",35,50000,"T12_6ft","2' TLED lamp at line voltage from T12_6ft",null,null,"TLED",8]
["2' TLED lamp at line voltage",35,50000,"T12_8ft","2' TLED lamp at line voltage from T12_8ft",null,null,"TLED",8]
["2' TLED lamp at line voltage",35,50000,"T5_2ft","2' TLED lamp at line voltage from T5_2ft",null,null,"TLED",8]
["2' TLED lamp at line voltage",35,50000,"HID","2' TLED lamp at line voltage from HID",null,null,"TLED",8]
["2' TLED lamp at line voltage",35,50000,"INCAN","2' TLED lamp at line voltage from INCAN",null,null,"TLED",8]
["2' TLED lamp at line voltage",35,50000,"CFL","2' TLED lamp at line voltage from CFL",null,null,"TLED",8]
["2' TLED lamp at line voltage",35,50000,"SIGN","2' TLED lamp at line voltage from SIGN",null,null,"TLED",8]
["2' TLED lamp at line voltage",35,50000,"OTHER","2' TLED lamp at line voltage from OTHER",null,null,"TLED",8]
["2' TLED lamp using existing fluorescent ballast",35,50000,"T8_2ft","2' TLED lamp using existing fluorescent ballast from T8_2ft",2,null,"TLED",8]
["2' TLED lamp using existing fluorescent ballast",35,50000,"RL-2514","2' TLED lamp using existing fluorescent ballast from RL-2514",2,null,"TLED",8]
["3' TLED lamp with new fluorescent ballast",35,50000,"T8_2ft","3' TLED lamp with new fluorescent ballast from T8_2ft",3,null,"TLED",8]
["3' TLED lamp with new fluorescent ballast",35,50000,"T8_U_bent","3' TLED lamp with new fluorescent ballast from T8_U_bent",3,null,"TLED",8]
["3' TLED lamp with new fluorescent ballast",35,50000,"T8_3ft","3' TLED lamp with new fluorescent ballast from T8_3ft",3,null,"TLED",8]
["3' TLED lamp with new fluorescent ballast",35,50000,"T8_4ft","3' TLED lamp with new fluorescent ballast from T8_4ft",3,null,"TLED",8]
["3' TLED lamp with new fluorescent ballast",35,50000,"T8_5ft","3' TLED lamp with new fluorescent ballast from T8_5ft",3,null,"TLED",8]
["3' TLED lamp with new fluorescent ballast",35,50000,"T8_6ft","3' TLED lamp with new fluorescent ballast from T8_6ft",3,null,"TLED",8]
["3' TLED lamp with new fluorescent ballast",35,50000,"T8_8ft","3' TLED lamp with new fluorescent ballast from T8_8ft",3,null,"TLED",8]
["3' TLED lamp with new fluorescent ballast",35,50000,"T12_U_bent","3' TLED lamp with new fluorescent ballast from T12_U_bent",3,null,"TLED",8]
["3' TLED lamp with new fluorescent ballast",35,50000,"T12_2or3ft","3' TLED lamp with new fluorescent ballast from T12_2or3ft",3,null,"TLED",8]
["3' TLED lamp with new fluorescent ballast",35,50000,"T12_4ft","3' TLED lamp with new fluorescent ballast from T12_4ft",3,null,"TLED",8]
["3' TLED lamp with new fluorescent ballast",35,50000,"T12_5ft","3' TLED lamp with new fluorescent ballast from T12_5ft",3,null,"TLED",8]
["3' TLED lamp with new fluorescent ballast",35,50000,"T12_6ft",{"$f":"CONCATENATE(A73, \" from \", D73)","v":"3' TLED lamp with new fluorescent ballast from T12_6ft"},3,null,"TLED",8]
["3' TLED lamp with new fluorescent ballast",35,50000,"T12_8ft","3' TLED lamp with new fluorescent ballast from T12_8ft",3,null,"TLED",8]
["3' TLED lamp with new fluorescent ballast",35,50000,"T5_4ft","3' TLED lamp with new fluorescent ballast from T5_4ft",3,null,"TLED",8]
["3' TLED lamp with new fluorescent ballast",35,50000,"T5_3ft","3' TLED lamp with new fluorescent ballast from T5_3ft",3,null,"TLED",8]
["3' TLED lamp with new fluorescent ballast",35,50000,"T5_2ft","3' TLED lamp with new fluorescent ballast from T5_2ft",3,null,"TLED",8]
["3' TLED lamp with new fluorescent ballast",35,50000,"HID","3' TLED lamp with new fluorescent ballast from HID",3,null,"TLED",8]
["3' TLED lamp with new fluorescent ballast",35,50000,"INCAN","3' TLED lamp with new fluorescent ballast from INCAN",3,null,"TLED",8]
["3' TLED lamp with new fluorescent ballast",35,50000,"CFL","3' TLED lamp with new fluorescent ballast from CFL",3,null,"TLED",8]
["3' TLED lamp with new fluorescent ballast",35,50000,"SIGN","3' TLED lamp with new fluorescent ballast from SIGN",3,null,"TLED",8]
["3' TLED lamp with new fluorescent ballast",35,50000,"OTHER","3' TLED lamp with new fluorescent ballast from OTHER",3,null,"TLED",8]
["3' TLED lamp with remote driver",35,50000,"T8_2ft","3' TLED lamp with remote driver from T8_2ft",3,null,"TLED",8]
["3' TLED lamp with remote driver",35,50000,"T8_U_bent","3' TLED lamp with remote driver from T8_U_bent",3,null,"TLED",8]
["3' TLED lamp with remote driver",35,50000,"T8_3ft","3' TLED lamp with remote driver from T8_3ft",3,null,"TLED",8]
["3' TLED lamp with remote driver",35,50000,"T8_4ft","3' TLED lamp with remote driver from T8_4ft",3,null,"TLED",8]
["3' TLED lamp with remote driver",35,50000,"T8_5ft","3' TLED lamp with remote driver from T8_5ft",3,null,"TLED",8]
["3' TLED lamp with remote driver",35,50000,"T8_6ft","3' TLED lamp with remote driver from T8_6ft",3,null,"TLED",8]
["3' TLED lamp with remote driver",35,50000,"T8_8ft","3' TLED lamp with remote driver from T8_8ft",3,null,"TLED",8]
["3' TLED lamp with remote driver",35,50000,"T12_U_bent","3' TLED lamp with remote driver from T12_U_bent",3,null,"TLED",8]
["3' TLED lamp with remote driver",35,50000,"T12_2or3ft","3' TLED lamp with remote driver from T12_2or3ft",3,null,"TLED",8]
["3' TLED lamp with remote driver",35,50000,"T12_4ft","3' TLED lamp with remote driver from T12_4ft",3,null,"TLED",8]
["3' TLED lamp with remote driver",35,50000,"T12_5ft","3' TLED lamp with remote driver from T12_5ft",3,null,"TLED",8]
["3' TLED lamp with remote driver",35,50000,"T12_6ft","3' TLED lamp with remote driver from T12_6ft",3,null,"TLED",8]
["3' TLED lamp with remote driver",35,50000,"T12_8ft","3' TLED lamp with remote driver from T12_8ft",3,null,"TLED",8]
["3' TLED lamp with remote driver",35,50000,"T5_4ft","3' TLED lamp with remote driver from T5_4ft",3,null,"TLED",8]
["3' TLED lamp with remote driver",35,50000,"T5_3ft","3' TLED lamp with remote driver from T5_3ft",3,null,"TLED",8]
["3' TLED lamp with remote driver",35,50000,"T5_2ft","3' TLED lamp with remote driver from T5_2ft",3,null,"TLED",8]
["3' TLED lamp with remote driver",35,50000,"HID","3' TLED lamp with remote driver from HID",3,null,"TLED",8]
["3' TLED lamp with remote driver",35,50000,"INCAN","3' TLED lamp with remote driver from INCAN",3,null,"TLED",8]
["3' TLED lamp with remote driver",35,50000,"CFL","3' TLED lamp with remote driver from CFL",3,null,"TLED",8]
["3' TLED lamp with remote driver",35,50000,"SIGN","3' TLED lamp with remote driver from SIGN",3,null,"TLED",8]
["3' TLED lamp with remote driver",35,50000,"OTHER","3' TLED lamp with remote driver from OTHER",3,null,"TLED",8]
["3' TLED lamp at line voltage",35,50000,"T8_2ft","3' TLED lamp at line voltage from T8_2ft",3,null,"TLED",8]
["3' TLED lamp at line voltage",35,50000,"T8_U_bent","3' TLED lamp at line voltage from T8_U_bent",3,null,"TLED",8]
["3' TLED lamp at line voltage",35,50000,"T8_3ft","3' TLED lamp at line voltage from T8_3ft",3,null,"TLED",8]
["3' TLED lamp at line voltage",35,50000,"T8_4ft","3' TLED lamp at line voltage from T8_4ft",3,null,"TLED",8]
["3' TLED lamp at line voltage",35,50000,"T8_5ft","3' TLED lamp at line voltage from T8_5ft",3,null,"TLED",8]
["3' TLED lamp at line voltage",35,50000,"T8_6ft","3' TLED lamp at line voltage from T8_6ft",3,null,"TLED",8]
["3' TLED lamp at line voltage",35,50000,"T8_8ft","3' TLED lamp at line voltage from T8_8ft",3,null,"TLED",8]
["3' TLED lamp at line voltage",35,50000,"T12_U_bent","3' TLED lamp at line voltage from T12_U_bent",3,null,"TLED",8]
["3' TLED lamp at line voltage",35,50000,"T12_2or3ft","3' TLED lamp at line voltage from T12_2or3ft",3,null,"TLED",8]
["3' TLED lamp at line voltage",35,50000,"T12_4ft","3' TLED lamp at line voltage from T12_4ft",3,null,"TLED",8]
["3' TLED lamp at line voltage",35,50000,"T12_5ft","3' TLED lamp at line voltage from T12_5ft",3,null,"TLED",8]
["3' TLED lamp at line voltage",35,50000,"T12_6ft","3' TLED lamp at line voltage from T12_6ft",3,null,"TLED",8]
["3' TLED lamp at line voltage",35,50000,"T12_8ft","3' TLED lamp at line voltage from T12_8ft",3,null,"TLED",8]
["3' TLED lamp at line voltage",35,50000,"T5_4ft","3' TLED lamp at line voltage from T5_4ft",3,null,"TLED",8]
["3' TLED lamp at line voltage",35,50000,"T5_3ft","3' TLED lamp at line voltage from T5_3ft",3,null,"TLED",8]
["3' TLED lamp at line voltage",35,50000,"T5_2ft","3' TLED lamp at line voltage from T5_2ft",3,null,"TLED",8]
["3' TLED lamp at line voltage",35,50000,"HID","3' TLED lamp at line voltage from HID",3,null,"TLED",8]
["3' TLED lamp at line voltage",35,50000,"INCAN","3' TLED lamp at line voltage from INCAN",3,null,"TLED",8]
["3' TLED lamp at line voltage",35,50000,"CFL","3' TLED lamp at line voltage from CFL",3,null,"TLED",8]
["3' TLED lamp at line voltage",35,50000,"SIGN","3' TLED lamp at line voltage from SIGN",3,null,"TLED",8]
["3' TLED lamp at line voltage",35,50000,"OTHER","3' TLED lamp at line voltage from OTHER",3,null,"TLED",8]
["3' TLED lamp using existing fluorescent ballast",35,50000,"RL-3825","3' TLED lamp using existing fluorescent ballast from RL-3825",3,null,"TLED",8]
["3' TLED lamp using existing fluorescent ballast",35,50000,"RL-3521","3' TLED lamp using existing fluorescent ballast from RL-3521",3,null,"TLED",8]
["3' TLED lamp using existing fluorescent ballast",35,50000,"RL-3539","3' TLED lamp using existing fluorescent ballast from RL-3539",3,null,"TLED",8]
["U-Bent TLED lamp (4' bent to fit 2') with new ballast",35,50000,"T8_U_bent","U-Bent TLED lamp (4' bent to fit 2') with new ballast from T8_U_bent",4,null,"TLED",8]
["U-Bent TLED lamp (4' bent to fit 2') with new ballast",35,50000,"T8_2ft","U-Bent TLED lamp (4' bent to fit 2') with new ballast from T8_2ft",4,null,"TLED",8]
["U-Bent TLED lamp (4' bent to fit 2') with new ballast",35,50000,"T8_3ft","U-Bent TLED lamp (4' bent to fit 2') with new ballast from T8_3ft",4,null,"TLED",8]
["U-Bent TLED lamp (4' bent to fit 2') with new ballast",35,50000,"T8_4ft","U-Bent TLED lamp (4' bent to fit 2') with new ballast from T8_4ft",4,null,"TLED",8]
["U-Bent TLED lamp (4' bent to fit 2') with new ballast",35,50000,"T8_5ft","U-Bent TLED lamp (4' bent to fit 2') with new ballast from T8_5ft",4,null,"TLED",8]
["U-Bent TLED lamp (4' bent to fit 2') with new ballast",35,50000,"T8_6ft","U-Bent TLED lamp (4' bent to fit 2') with new ballast from T8_6ft",4,null,"TLED",8]
["U-Bent TLED lamp (4' bent to fit 2') with new ballast",35,50000,"T8_8ft","U-Bent TLED lamp (4' bent to fit 2') with new ballast from T8_8ft",4,null,"TLED",8]
["U-Bent TLED lamp (4' bent to fit 2') with new ballast",35,50000,"T12_U_bent","U-Bent TLED lamp (4' bent to fit 2') with new ballast from T12_U_bent",4,null,"TLED",8]
["U-Bent TLED lamp (4' bent to fit 2') with new ballast",35,50000,"T12_2or3ft","U-Bent TLED lamp (4' bent to fit 2') with new ballast from T12_2or3ft",4,null,"TLED",8]
["U-Bent TLED lamp (4' bent to fit 2') with new ballast",35,50000,"T12_4ft",{"$f":"CONCATENATE(A137, \" from \", D137)","v":"U-Bent TLED lamp (4' bent to fit 2') with new ballast from T12_4ft"},4,null,"TLED",8]
["U-Bent TLED lamp (4' bent to fit 2') with new ballast",35,50000,"T12_5ft","U-Bent TLED lamp (4' bent to fit 2') with new ballast from T12_5ft",4,null,"TLED",8]
["U-Bent TLED lamp (4' bent to fit 2') with new ballast",35,50000,"T12_6ft","U-Bent TLED lamp (4' bent to fit 2') with new ballast from T12_6ft",4,null,"TLED",8]
["U-Bent TLED lamp (4' bent to fit 2') with new ballast",35,50000,"T12_8ft","U-Bent TLED lamp (4' bent to fit 2') with new ballast from T12_8ft",4,null,"TLED",8]
["U-Bent TLED lamp (4' bent to fit 2') with new ballast",35,50000,"T5_4ft","U-Bent TLED lamp (4' bent to fit 2') with new ballast from T5_4ft",4,null,"TLED",8]
["U-Bent TLED lamp (4' bent to fit 2') with new ballast",35,50000,"T5_3ft","U-Bent TLED lamp (4' bent to fit 2') with new ballast from T5_3ft",4,null,"TLED",8]
["U-Bent TLED lamp (4' bent to fit 2') with new ballast",35,50000,"T5_2ft","U-Bent TLED lamp (4' bent to fit 2') with new ballast from T5_2ft",4,null,"TLED",8]
["U-Bent TLED lamp (4' bent to fit 2') with new ballast",35,50000,"HID","U-Bent TLED lamp (4' bent to fit 2') with new ballast from HID",4,null,"TLED",8]
["U-Bent TLED lamp (4' bent to fit 2') with new ballast",35,50000,"INCAN","U-Bent TLED lamp (4' bent to fit 2') with new ballast from INCAN",4,null,"TLED",8]
["U-Bent TLED lamp (4' bent to fit 2') with new ballast",35,50000,"CFL","U-Bent TLED lamp (4' bent to fit 2') with new ballast from CFL",4,null,"TLED",8]
["U-Bent TLED lamp (4' bent to fit 2') with new ballast",35,50000,"SIGN","U-Bent TLED lamp (4' bent to fit 2') with new ballast from SIGN",4,null,"TLED",8]
["U-Bent TLED lamp (4' bent to fit 2') with new ballast",35,50000,"OTHER","U-Bent TLED lamp (4' bent to fit 2') with new ballast from OTHER",4,null,"TLED",8]
["U-Bent TLED lamp (4' bent to fit 2') with remote driver",35,50000,"T8_U_bent","U-Bent TLED lamp (4' bent to fit 2') with remote driver from T8_U_bent",4,null,"TLED",8]
["U-Bent TLED lamp (4' bent to fit 2') with remote driver",35,50000,"T8_2ft","U-Bent TLED lamp (4' bent to fit 2') with remote driver from T8_2ft",4,null,"TLED",8]
["U-Bent TLED lamp (4' bent to fit 2') with remote driver",35,50000,"T8_3ft","U-Bent TLED lamp (4' bent to fit 2') with remote driver from T8_3ft",4,null,"TLED",8]
["U-Bent TLED lamp (4' bent to fit 2') with remote driver",35,50000,"T8_4ft","U-Bent TLED lamp (4' bent to fit 2') with remote driver from T8_4ft",4,null,"TLED",8]
["U-Bent TLED lamp (4' bent to fit 2') with remote driver",35,50000,"T8_5ft","U-Bent TLED lamp (4' bent to fit 2') with remote driver from T8_5ft",4,null,"TLED",8]
["U-Bent TLED lamp (4' bent to fit 2') with remote driver",35,50000,"T8_6ft","U-Bent TLED lamp (4' bent to fit 2') with remote driver from T8_6ft",4,null,"TLED",8]
["U-Bent TLED lamp (4' bent to fit 2') with remote driver",35,50000,"T8_8ft","U-Bent TLED lamp (4' bent to fit 2') with remote driver from T8_8ft",4,null,"TLED",8]
["U-Bent TLED lamp (4' bent to fit 2') with remote driver",35,50000,"T12_U_bent","U-Bent TLED lamp (4' bent to fit 2') with remote driver from T12_U_bent",4,null,"TLED",8]
["U-Bent TLED lamp (4' bent to fit 2') with remote driver",35,50000,"T12_2or3ft","U-Bent TLED lamp (4' bent to fit 2') with remote driver from T12_2or3ft",4,null,"TLED",8]
["U-Bent TLED lamp (4' bent to fit 2') with remote driver",35,50000,"T12_4ft","U-Bent TLED lamp (4' bent to fit 2') with remote driver from T12_4ft",4,null,"TLED",8]
["U-Bent TLED lamp (4' bent to fit 2') with remote driver",35,50000,"T12_5ft","U-Bent TLED lamp (4' bent to fit 2') with remote driver from T12_5ft",4,null,"TLED",8]
["U-Bent TLED lamp (4' bent to fit 2') with remote driver",35,50000,"T12_6ft","U-Bent TLED lamp (4' bent to fit 2') with remote driver from T12_6ft",4,null,"TLED",8]
["U-Bent TLED lamp (4' bent to fit 2') with remote driver",35,50000,"T12_8ft","U-Bent TLED lamp (4' bent to fit 2') with remote driver from T12_8ft",4,null,"TLED",8]
["U-Bent TLED lamp (4' bent to fit 2') with remote driver",35,50000,"T5_4ft","U-Bent TLED lamp (4' bent to fit 2') with remote driver from T5_4ft",4,null,"TLED",8]
["U-Bent TLED lamp (4' bent to fit 2') with remote driver",35,50000,"T5_3ft","U-Bent TLED lamp (4' bent to fit 2') with remote driver from T5_3ft",4,null,"TLED",8]
["U-Bent TLED lamp (4' bent to fit 2') with remote driver",35,50000,"T5_2ft","U-Bent TLED lamp (4' bent to fit 2') with remote driver from T5_2ft",4,null,"TLED",8]
["U-Bent TLED lamp (4' bent to fit 2') with remote driver",35,50000,"HID","U-Bent TLED lamp (4' bent to fit 2') with remote driver from HID",4,null,"TLED",8]
["U-Bent TLED lamp (4' bent to fit 2') with remote driver",35,50000,"INCAN","U-Bent TLED lamp (4' bent to fit 2') with remote driver from INCAN",4,null,"TLED",8]
["U-Bent TLED lamp (4' bent to fit 2') with remote driver",35,50000,"CFL","U-Bent TLED lamp (4' bent to fit 2') with remote driver from CFL",4,null,"TLED",8]
["U-Bent TLED lamp (4' bent to fit 2') with remote driver",35,50000,"SIGN","U-Bent TLED lamp (4' bent to fit 2') with remote driver from SIGN",4,null,"TLED",8]
["U-Bent TLED lamp (4' bent to fit 2') with remote driver",35,50000,"OTHER","U-Bent TLED lamp (4' bent to fit 2') with remote driver from OTHER",4,null,"TLED",8]
["U-Bent TLED lamp (4' bent to fit 2') at line voltage",35,50000,"T8_U_bent","U-Bent TLED lamp (4' bent to fit 2') at line voltage from T8_U_bent",4,null,"TLED",8]
["U-Bent TLED lamp (4' bent to fit 2') at line voltage",35,50000,"T8_2ft","U-Bent TLED lamp (4' bent to fit 2') at line voltage from T8_2ft",4,null,"TLED",8]
["U-Bent TLED lamp (4' bent to fit 2') at line voltage",35,50000,"T8_3ft","U-Bent TLED lamp (4' bent to fit 2') at line voltage from T8_3ft",4,null,"TLED",8]
["U-Bent TLED lamp (4' bent to fit 2') at line voltage",35,50000,"T8_4ft","U-Bent TLED lamp (4' bent to fit 2') at line voltage from T8_4ft",4,null,"TLED",8]
["U-Bent TLED lamp (4' bent to fit 2') at line voltage",35,50000,"T8_5ft","U-Bent TLED lamp (4' bent to fit 2') at line voltage from T8_5ft",4,null,"TLED",8]
["U-Bent TLED lamp (4' bent to fit 2') at line voltage",35,50000,"T8_6ft","U-Bent TLED lamp (4' bent to fit 2') at line voltage from T8_6ft",4,null,"TLED",8]
["U-Bent TLED lamp (4' bent to fit 2') at line voltage",35,50000,"T8_8ft","U-Bent TLED lamp (4' bent to fit 2') at line voltage from T8_8ft",4,null,"TLED",8]
["U-Bent TLED lamp (4' bent to fit 2') at line voltage",35,50000,"T12_U_bent","U-Bent TLED lamp (4' bent to fit 2') at line voltage from T12_U_bent",4,null,"TLED",8]
["U-Bent TLED lamp (4' bent to fit 2') at line voltage",35,50000,"T12_2or3ft","U-Bent TLED lamp (4' bent to fit 2') at line voltage from T12_2or3ft",4,null,"TLED",8]
["U-Bent TLED lamp (4' bent to fit 2') at line voltage",35,50000,"T12_4ft","U-Bent TLED lamp (4' bent to fit 2') at line voltage from T12_4ft",4,null,"TLED",8]
["U-Bent TLED lamp (4' bent to fit 2') at line voltage",35,50000,"T12_5ft","U-Bent TLED lamp (4' bent to fit 2') at line voltage from T12_5ft",4,null,"TLED",8]
["U-Bent TLED lamp (4' bent to fit 2') at line voltage",35,50000,"T12_6ft","U-Bent TLED lamp (4' bent to fit 2') at line voltage from T12_6ft",4,null,"TLED",8]
["U-Bent TLED lamp (4' bent to fit 2') at line voltage",35,50000,"T12_8ft","U-Bent TLED lamp (4' bent to fit 2') at line voltage from T12_8ft",4,null,"TLED",8]
["U-Bent TLED lamp (4' bent to fit 2') at line voltage",35,50000,"T5_4ft","U-Bent TLED lamp (4' bent to fit 2') at line voltage from T5_4ft",4,null,"TLED",8]
["U-Bent TLED lamp (4' bent to fit 2') at line voltage",35,50000,"T5_3ft","U-Bent TLED lamp (4' bent to fit 2') at line voltage from T5_3ft",4,null,"TLED",8]
["U-Bent TLED lamp (4' bent to fit 2') at line voltage",35,50000,"T5_2ft","U-Bent TLED lamp (4' bent to fit 2') at line voltage from T5_2ft",4,null,"TLED",8]
["U-Bent TLED lamp (4' bent to fit 2') at line voltage",35,50000,"HID","U-Bent TLED lamp (4' bent to fit 2') at line voltage from HID",4,null,"TLED",8]
["U-Bent TLED lamp (4' bent to fit 2') at line voltage",35,50000,"INCAN","U-Bent TLED lamp (4' bent to fit 2') at line voltage from INCAN",4,null,"TLED",8]
["U-Bent TLED lamp (4' bent to fit 2') at line voltage",35,50000,"CFL","U-Bent TLED lamp (4' bent to fit 2') at line voltage from CFL",4,null,"TLED",8]
["U-Bent TLED lamp (4' bent to fit 2') at line voltage",35,50000,"SIGN","U-Bent TLED lamp (4' bent to fit 2') at line voltage from SIGN",4,null,"TLED",8]
["U-Bent TLED lamp (4' bent to fit 2') at line voltage",35,50000,"OTHER","U-Bent TLED lamp (4' bent to fit 2') at line voltage from OTHER",4,null,"TLED",8]
["U-Bent TLED lamp (4' to fit 2') using exist. fluorescent ballast",35,50000,"RL-U832","U-Bent TLED lamp (4' to fit 2') using exist. fluorescent ballast from RL-U832",4,null,"TLED",8]
["U-Bent TLED lamp (4' to fit 2') using exist. fluorescent ballast",35,50000,"RL-U831","U-Bent TLED lamp (4' to fit 2') using exist. fluorescent ballast from RL-U831",4,null,"TLED",8]
["5' TLED lamp with new fluorescent ballast",35,50000,"T8_2ft","5' TLED lamp with new fluorescent ballast from T8_2ft",null,null,"TLED",8]
["5' TLED lamp with new fluorescent ballast",35,50000,"T8_U_bent","5' TLED lamp with new fluorescent ballast from T8_U_bent",null,null,"TLED"]
["5' TLED lamp with new fluorescent ballast",35,50000,"T8_3ft","5' TLED lamp with new fluorescent ballast from T8_3ft",null,null,"TLED",8]
["5' TLED lamp with new fluorescent ballast",35,50000,"T8_4ft","5' TLED lamp with new fluorescent ballast from T8_4ft",null,null,"TLED",8]
["5' TLED lamp with new fluorescent ballast",35,50000,"T8_5ft","5' TLED lamp with new fluorescent ballast from T8_5ft",null,null,"TLED",8]
["5' TLED lamp with new fluorescent ballast",35,50000,"T8_6ft","5' TLED lamp with new fluorescent ballast from T8_6ft",null,null,"TLED",8]
["5' TLED lamp with new fluorescent ballast",35,50000,"T8_8ft","5' TLED lamp with new fluorescent ballast from T8_8ft",null,null,"TLED",8]
["5' TLED lamp with new fluorescent ballast",35,50000,"T12_U_bent","5' TLED lamp with new fluorescent ballast from T12_U_bent",null,null,"TLED",8]
["5' TLED lamp with new fluorescent ballast",35,50000,"T12_2or3ft","5' TLED lamp with new fluorescent ballast from T12_2or3ft",null,null,"TLED",8]
["5' TLED lamp with new fluorescent ballast",35,50000,"T12_4ft","5' TLED lamp with new fluorescent ballast from T12_4ft",null,null,"TLED",8]
["5' TLED lamp with new fluorescent ballast",35,50000,"T12_8ft","5' TLED lamp with new fluorescent ballast from T12_8ft",null,null,"TLED",8]
["5' TLED lamp with new fluorescent ballast",35,50000,"T12_5ft","5' TLED lamp with new fluorescent ballast from T12_5ft",null,null,"TLED",8]
["5' TLED lamp with new fluorescent ballast",35,50000,"T12_6ft","5' TLED lamp with new fluorescent ballast from T12_6ft",null,null,"TLED",8]
["5' TLED lamp with new fluorescent ballast",35,50000,"T5_4ft","5' TLED lamp with new fluorescent ballast from T5_4ft",null,null,"TLED",8]
["5' TLED lamp with new fluorescent ballast",35,50000,"T5_3ft","5' TLED lamp with new fluorescent ballast from T5_3ft",null,null,"TLED",8]
["5' TLED lamp with new fluorescent ballast",35,50000,"T5_2ft",{"$f":"CONCATENATE(A208, \" from \", D208)","v":"5' TLED lamp with new fluorescent ballast from T5_2ft"},null,null,"TLED",8]
["5' TLED lamp with new fluorescent ballast",35,50000,"HID","5' TLED lamp with new fluorescent ballast from HID",null,null,"TLED",8]
["5' TLED lamp with new fluorescent ballast",35,50000,"INCAN","5' TLED lamp with new fluorescent ballast from INCAN",null,null,"TLED",8]
["5' TLED lamp with new fluorescent ballast",35,50000,"CFL","5' TLED lamp with new fluorescent ballast from CFL",null,null,"TLED",8]
["5' TLED lamp with new fluorescent ballast",35,50000,"SIGN","5' TLED lamp with new fluorescent ballast from SIGN",null,null,"TLED",8]
["5' TLED lamp with new fluorescent ballast",35,50000,"OTHER","5' TLED lamp with new fluorescent ballast from OTHER",null,null,"TLED",8]
["5' TLED lamp with remote driver",35,50000,"T8_2ft","5' TLED lamp with remote driver from T8_2ft",5,null,"TLED",8]
["5' TLED lamp with remote driver",35,50000,"T8_U_bent","5' TLED lamp with remote driver from T8_U_bent",5,null,"TLED"]
["5' TLED lamp with remote driver",35,50000,"T8_3ft","5' TLED lamp with remote driver from T8_3ft",5,null,"TLED",8]
["5' TLED lamp with remote driver",35,50000,"T8_4ft","5' TLED lamp with remote driver from T8_4ft",5,null,"TLED",8]
["5' TLED lamp with remote driver",35,50000,"T8_5ft","5' TLED lamp with remote driver from T8_5ft",5,null,"TLED",8]
["5' TLED lamp with remote driver",35,50000,"T8_6ft","5' TLED lamp with remote driver from T8_6ft",5,null,"TLED",8]
["5' TLED lamp with remote driver",35,50000,"T8_8ft","5' TLED lamp with remote driver from T8_8ft",5,null,"TLED",8]
["5' TLED lamp with remote driver",35,50000,"T12_U_bent","5' TLED lamp with remote driver from T12_U_bent",5,null,"TLED",8]
["5' TLED lamp with remote driver",35,50000,"T12_2or3ft","5' TLED lamp with remote driver from T12_2or3ft",5,null,"TLED",8]
["5' TLED lamp with remote driver",35,50000,"T12_4ft","5' TLED lamp with remote driver from T12_4ft",5,null,"TLED",8]
["5' TLED lamp with remote driver",35,50000,"T12_8ft","5' TLED lamp with remote driver from T12_8ft",5,null,"TLED",8]
["5' TLED lamp with remote driver",35,50000,"T12_5ft","5' TLED lamp with remote driver from T12_5ft",5,null,"TLED",8]
["5' TLED lamp with remote driver",35,50000,"T12_6ft","5' TLED lamp with remote driver from T12_6ft",5,null,"TLED",8]
["5' TLED lamp with remote driver",35,50000,"T5_4ft","5' TLED lamp with remote driver from T5_4ft",5,null,"TLED",8]
["5' TLED lamp with remote driver",35,50000,"T5_3ft","5' TLED lamp with remote driver from T5_3ft",5,null,"TLED",8]
["5' TLED lamp with remote driver",35,50000,"T5_2ft","5' TLED lamp with remote driver from T5_2ft",5,null,"TLED",8]
["5' TLED lamp with remote driver",35,50000,"HID","5' TLED lamp with remote driver from HID",5,null,"TLED",8]
["5' TLED lamp with remote driver",35,50000,"INCAN","5' TLED lamp with remote driver from INCAN",5,null,"TLED",8]
["5' TLED lamp with remote driver",35,50000,"CFL","5' TLED lamp with remote driver from CFL",5,null,"TLED",8]
["5' TLED lamp with remote driver",35,50000,"SIGN","5' TLED lamp with remote driver from SIGN",5,null,"TLED",8]
["5' TLED lamp with remote driver",35,50000,"OTHER","5' TLED lamp with remote driver from OTHER",5,null,"TLED",8]
["5' TLED lamp at line voltage",35,50000,"T8_2ft","5' TLED lamp at line voltage from T8_2ft",5,null,"TLED",8]
["5' TLED lamp at line voltage",35,50000,"T8_U_bent",{"$f":"CONCATENATE(A236, \" from \", D236)","v":"5' TLED lamp at line voltage from T8_U_bent"},5,null,"TLED",8]
["5' TLED lamp at line voltage",35,50000,"T8_3ft",{"$f":"CONCATENATE(A237, \" from \", D237)","v":"5' TLED lamp at line voltage from T8_3ft"},5,null,"TLED",8]
["5' TLED lamp at line voltage",35,50000,"T8_4ft","5' TLED lamp at line voltage from T8_4ft",5,null,"TLED",8]
["5' TLED lamp at line voltage",35,50000,"T8_5ft","5' TLED lamp at line voltage from T8_5ft",5,null,"TLED",8]
["5' TLED lamp at line voltage",35,50000,"T8_6ft","5' TLED lamp at line voltage from T8_6ft",5,null,"TLED",8]
["5' TLED lamp at line voltage",35,50000,"T8_8ft","5' TLED lamp at line voltage from T8_8ft",5,null,"TLED",8]
["5' TLED lamp at line voltage",35,50000,"T12_U_bent","5' TLED lamp at line voltage from T12_U_bent",5,null,"TLED",8]
["5' TLED lamp at line voltage",35,50000,"T12_2or3ft","5' TLED lamp at line voltage from T12_2or3ft",5,null,"TLED",8]
["5' TLED lamp at line voltage",35,50000,"T12_4ft","5' TLED lamp at line voltage from T12_4ft",5,null,"TLED",8]
["5' TLED lamp at line voltage",35,50000,"T12_8ft","5' TLED lamp at line voltage from T12_8ft",5,null,"TLED",8]
["5' TLED lamp at line voltage",35,50000,"T12_5ft","5' TLED lamp at line voltage from T12_5ft",5,null,"TLED",8]
["5' TLED lamp at line voltage",35,50000,"T12_6ft","5' TLED lamp at line voltage from T12_6ft",5,null,"TLED",8]
["5' TLED lamp at line voltage",35,50000,"T5_4ft","5' TLED lamp at line voltage from T5_4ft",5,null,"TLED",8]
["5' TLED lamp at line voltage",35,50000,"T5_3ft","5' TLED lamp at line voltage from T5_3ft",5,null,"TLED",8]
["5' TLED lamp at line voltage",35,50000,"T5_2ft","5' TLED lamp at line voltage from T5_2ft",5,null,"TLED",9]
["5' TLED lamp at line voltage",35,50000,"HID","5' TLED lamp at line voltage from HID",5,null,"TLED",8]
["5' TLED lamp at line voltage",35,50000,"INCAN","5' TLED lamp at line voltage from INCAN",5,null,"TLED",8]
["5' TLED lamp at line voltage",35,50000,"CFL","5' TLED lamp at line voltage from CFL",5,null,"TLED",8]
["5' TLED lamp at line voltage",35,50000,"SIGN","5' TLED lamp at line voltage from SIGN",5,null,"TLED",8]
["5' TLED lamp at line voltage",35,50000,"OTHER","5' TLED lamp at line voltage from OTHER",5,null,"TLED",8]
["5' TLED lamp using existing fluorescent ballast",35,50000,"RL-5840","5' TLED lamp using existing fluorescent ballast from RL-5840",5,null,"TLED",8]
["6' TLED lamp with new fluorescent ballast",35,50000,"T8_2ft","6' TLED lamp with new fluorescent ballast from T8_2ft",null,null,"TLED",8]
["6' TLED lamp with new fluorescent ballast",35,50000,"T8_U_bent","6' TLED lamp with new fluorescent ballast from T8_U_bent",null,null,"TLED",8]
["6' TLED lamp with new fluorescent ballast",35,50000,"T8_3ft","6' TLED lamp with new fluorescent ballast from T8_3ft",null,null,"TLED",8]
["6' TLED lamp with new fluorescent ballast",35,50000,"T8_4ft","6' TLED lamp with new fluorescent ballast from T8_4ft",null,null,"TLED",8]
["6' TLED lamp with new fluorescent ballast",35,50000,"T8_5ft","6' TLED lamp with new fluorescent ballast from T8_5ft",null,null,"TLED",8]
["6' TLED lamp with new fluorescent ballast",35,50000,"T8_6ft","6' TLED lamp with new fluorescent ballast from T8_6ft",null,null,"TLED",8]
["6' TLED lamp with new fluorescent ballast",35,50000,"T8_8ft","6' TLED lamp with new fluorescent ballast from T8_8ft",null,null,"TLED",8]
["6' TLED lamp with new fluorescent ballast",35,50000,"T12_U_bent","6' TLED lamp with new fluorescent ballast from T12_U_bent",null,null,"TLED",8]
["6' TLED lamp with new fluorescent ballast",35,50000,"T12_2or3ft","6' TLED lamp with new fluorescent ballast from T12_2or3ft",null,null,"TLED",8]
["6' TLED lamp with new fluorescent ballast",35,50000,"T12_4ft","6' TLED lamp with new fluorescent ballast from T12_4ft",null,null,"TLED",8]
["6' TLED lamp with new fluorescent ballast",35,50000,"T12_8ft","6' TLED lamp with new fluorescent ballast from T12_8ft",null,null,"TLED",8]
["6' TLED lamp with new fluorescent ballast",35,50000,"T12_5ft","6' TLED lamp with new fluorescent ballast from T12_5ft",null,null,"TLED",8]
["6' TLED lamp with new fluorescent ballast",35,50000,"T12_6ft","6' TLED lamp with new fluorescent ballast from T12_6ft",null,null,"TLED",8]
["6' TLED lamp with new fluorescent ballast",35,50000,"T5_4ft","6' TLED lamp with new fluorescent ballast from T5_4ft",null,null,"TLED",8]
["6' TLED lamp with new fluorescent ballast",35,50000,"T5_3ft","6' TLED lamp with new fluorescent ballast from T5_3ft",null,null,"TLED",8]
["6' TLED lamp with new fluorescent ballast",35,50000,"T5_2ft","6' TLED lamp with new fluorescent ballast from T5_2ft",null,null,"TLED",9]
["6' TLED lamp with new fluorescent ballast",35,50000,"HID","6' TLED lamp with new fluorescent ballast from HID",null,null,"TLED",8]
["6' TLED lamp with new fluorescent ballast",35,50000,"INCAN","6' TLED lamp with new fluorescent ballast from INCAN",null,null,"TLED",8]
["6' TLED lamp with new fluorescent ballast",35,50000,"CFL","6' TLED lamp with new fluorescent ballast from CFL",null,null,"TLED",8]
["6' TLED lamp with new fluorescent ballast",35,50000,"SIGN","6' TLED lamp with new fluorescent ballast from SIGN",null,null,"TLED",8]
["6' TLED lamp with new fluorescent ballast",35,50000,"OTHER","6' TLED lamp with new fluorescent ballast from OTHER",null,null,"TLED",8]
["6' TLED lamp with remote driver",35,50000,"T8_2ft","6' TLED lamp with remote driver from T8_2ft",6,null,"TLED",8]
["6' TLED lamp with remote driver",35,50000,"T8_U_bent","6' TLED lamp with remote driver from T8_U_bent",6,null,"TLED",8]
["6' TLED lamp with remote driver",35,50000,"T8_3ft","6' TLED lamp with remote driver from T8_3ft",6,null,"TLED",8]
["6' TLED lamp with remote driver",35,50000,"T8_4ft","6' TLED lamp with remote driver from T8_4ft",6,null,"TLED",8]
["6' TLED lamp with remote driver",35,50000,"T8_5ft","6' TLED lamp with remote driver from T8_5ft",6,null,"TLED",8]
["6' TLED lamp with remote driver",35,50000,"T8_6ft","6' TLED lamp with remote driver from T8_6ft",6,null,"TLED",8]
["6' TLED lamp with remote driver",35,50000,"T8_8ft","6' TLED lamp with remote driver from T8_8ft",6,null,"TLED",8]
["6' TLED lamp with remote driver",35,50000,"T12_U_bent","6' TLED lamp with remote driver from T12_U_bent",6,null,"TLED",8]
["6' TLED lamp with remote driver",35,50000,"T12_2or3ft","6' TLED lamp with remote driver from T12_2or3ft",6,null,"TLED",8]
["6' TLED lamp with remote driver",35,50000,"T12_4ft","6' TLED lamp with remote driver from T12_4ft",6,null,"TLED",8]
["6' TLED lamp with remote driver",35,50000,"T12_8ft","6' TLED lamp with remote driver from T12_8ft",6,null,"TLED",8]
["6' TLED lamp with remote driver",35,50000,"T12_5ft","6' TLED lamp with remote driver from T12_5ft",6,null,"TLED",8]
["6' TLED lamp with remote driver",35,50000,"T12_6ft","6' TLED lamp with remote driver from T12_6ft",6,null,"TLED",8]
["6' TLED lamp with remote driver",35,50000,"T5_4ft","6' TLED lamp with remote driver from T5_4ft",6,null,"TLED",8]
["6' TLED lamp with remote driver",35,50000,"T5_3ft","6' TLED lamp with remote driver from T5_3ft",6,null,"TLED",8]
["6' TLED lamp with remote driver",35,50000,"T5_2ft","6' TLED lamp with remote driver from T5_2ft",6,null,"TLED",9]
["6' TLED lamp with remote driver",35,50000,"HID","6' TLED lamp with remote driver from HID",6,null,"TLED",8]
["6' TLED lamp with remote driver",35,50000,"INCAN","6' TLED lamp with remote driver from INCAN",6,null,"TLED",8]
["6' TLED lamp with remote driver",35,50000,"CFL","6' TLED lamp with remote driver from CFL",6,null,"TLED",8]
["6' TLED lamp with remote driver",35,50000,"SIGN","6' TLED lamp with remote driver from SIGN",6,null,"TLED",8]
["6' TLED lamp with remote driver",35,50000,"OTHER","6' TLED lamp with remote driver from OTHER",6,null,"TLED",8]
["6' TLED lamp at line voltage",35,50000,"T8_2ft","6' TLED lamp at line voltage from T8_2ft",6,null,"TLED",8]
["6' TLED lamp at line voltage",35,50000,"T8_U_bent",{"$f":"CONCATENATE(A300, \" from \", D300)","v":"6' TLED lamp at line voltage from T8_U_bent"},6,null,"TLED",8]
["6' TLED lamp at line voltage",35,50000,"T8_3ft",{"$f":"CONCATENATE(A301, \" from \", D301)","v":"6' TLED lamp at line voltage from T8_3ft"},6,null,"TLED",8]
["6' TLED lamp at line voltage",35,50000,"T8_4ft","6' TLED lamp at line voltage from T8_4ft",6,null,"TLED",8]
["6' TLED lamp at line voltage",35,50000,"T8_5ft","6' TLED lamp at line voltage from T8_5ft",6,null,"TLED",8]
["6' TLED lamp at line voltage",35,50000,"T8_6ft","6' TLED lamp at line voltage from T8_6ft",6,null,"TLED",8]
["6' TLED lamp at line voltage",35,50000,"T8_8ft","6' TLED lamp at line voltage from T8_8ft",6,null,"TLED",8]
["6' TLED lamp at line voltage",35,50000,"T12_U_bent","6' TLED lamp at line voltage from T12_U_bent",6,null,"TLED",8]
["6' TLED lamp at line voltage",35,50000,"T12_2or3ft","6' TLED lamp at line voltage from T12_2or3ft",6,null,"TLED",8]
["6' TLED lamp at line voltage",35,50000,"T12_4ft","6' TLED lamp at line voltage from T12_4ft",6,null,"TLED",8]
["6' TLED lamp at line voltage",35,50000,"T12_8ft","6' TLED lamp at line voltage from T12_8ft",6,null,"TLED",8]
["6' TLED lamp at line voltage",35,50000,"T12_5ft","6' TLED lamp at line voltage from T12_5ft",6,null,"TLED",8]
["6' TLED lamp at line voltage",35,50000,"T12_6ft","6' TLED lamp at line voltage from T12_6ft",6,null,"TLED",8]
["6' TLED lamp at line voltage",35,50000,"T5_4ft","6' TLED lamp at line voltage from T5_4ft",6,null,"TLED",8]
["6' TLED lamp at line voltage",35,50000,"T5_3ft","6' TLED lamp at line voltage from T5_3ft",6,null,"TLED",8]
["6' TLED lamp at line voltage",35,50000,"T5_2ft","6' TLED lamp at line voltage from T5_2ft",6,null,"TLED",8]
["6' TLED lamp at line voltage",35,50000,"HID","6' TLED lamp at line voltage from HID",6,null,"TLED",8]
["6' TLED lamp at line voltage",35,50000,"INCAN","6' TLED lamp at line voltage from INCAN",6,null,"TLED",8]
["6' TLED lamp at line voltage",35,50000,"CFL","6' TLED lamp at line voltage from CFL",6,null,"TLED",8]
["6' TLED lamp at line voltage",35,50000,"SIGN","6' TLED lamp at line voltage from SIGN",6,null,"TLED",8]
["6' TLED lamp at line voltage",35,50000,"OTHER","6' TLED lamp at line voltage from OTHER",6,null,"TLED",8]
["6' TLED lamp using existing fluorescent ballast",35,50000,"RL-6858","6' TLED lamp using existing fluorescent ballast from RL-6858",null,null,"TLED",8]
["8' TLED lamp with new fluorescent ballast",35,50000,"T8_2ft","8' TLED lamp with new fluorescent ballast from T8_2ft",8,null,"TLED",8]
["8' TLED lamp with new fluorescent ballast",35,50000,"T8_U_bent","8' TLED lamp with new fluorescent ballast from T8_U_bent",8,null,"TLED",8]
["8' TLED lamp with new fluorescent ballast",35,50000,"T8_3ft","8' TLED lamp with new fluorescent ballast from T8_3ft",8,null,"TLED",8]
["8' TLED lamp with new fluorescent ballast",35,50000,"T8_4ft","8' TLED lamp with new fluorescent ballast from T8_4ft",8,null,"TLED",8]
["8' TLED lamp with new fluorescent ballast",35,50000,"T8_5ft","8' TLED lamp with new fluorescent ballast from T8_5ft",8,null,"TLED",8]
["8' TLED lamp with new fluorescent ballast",35,50000,"T8_6ft","8' TLED lamp with new fluorescent ballast from T8_6ft",8,null,"TLED",8]
["8' TLED lamp with new fluorescent ballast",35,50000,"T8_8ft","8' TLED lamp with new fluorescent ballast from T8_8ft",8,null,"TLED",8]
["8' TLED lamp with new fluorescent ballast",35,50000,"T12_U_bent","8' TLED lamp with new fluorescent ballast from T12_U_bent",8,null,"TLED",8]
["8' TLED lamp with new fluorescent ballast",35,50000,"T12_2or3ft","8' TLED lamp with new fluorescent ballast from T12_2or3ft",8,null,"TLED",8]
["8' TLED lamp with new fluorescent ballast",35,50000,"T12_4ft","8' TLED lamp with new fluorescent ballast from T12_4ft",8,null,"TLED",8]
["8' TLED lamp with new fluorescent ballast",35,50000,"T12_5ft","8' TLED lamp with new fluorescent ballast from T12_5ft",8,null,"TLED",8]
["8' TLED lamp with new fluorescent ballast",35,50000,"T12_6ft","8' TLED lamp with new fluorescent ballast from T12_6ft",8,null,"TLED",8]
["8' TLED lamp with new fluorescent ballast",35,50000,"T12_8ft","8' TLED lamp with new fluorescent ballast from T12_8ft",8,null,"TLED",8]
["8' TLED lamp with new fluorescent ballast",35,50000,"T5_4ft","8' TLED lamp with new fluorescent ballast from T5_4ft",8,null,"TLED",8]
["8' TLED lamp with new fluorescent ballast",35,50000,"T5_3ft","8' TLED lamp with new fluorescent ballast from T5_3ft",8,null,"TLED",8]
["8' TLED lamp with new fluorescent ballast",35,50000,"T5_2ft","8' TLED lamp with new fluorescent ballast from T5_2ft",8,null,"TLED",8]
["8' TLED lamp with new fluorescent ballast",35,50000,"HID","8' TLED lamp with new fluorescent ballast from HID",8,null,"TLED",8]
["8' TLED lamp with new fluorescent ballast",35,50000,"INCAN","8' TLED lamp with new fluorescent ballast from INCAN",8,null,"TLED",8]
["8' TLED lamp with new fluorescent ballast",35,50000,"CFL","8' TLED lamp with new fluorescent ballast from CFL",8,null,"TLED",8]
["8' TLED lamp with new fluorescent ballast",35,50000,"SIGN","8' TLED lamp with new fluorescent ballast from SIGN",8,null,"TLED",8]
["8' TLED lamp with new fluorescent ballast",35,50000,"OTHER","8' TLED lamp with new fluorescent ballast from OTHER",8,null,"TLED",8]
["8' TLED lamp with remote driver",35,50000,"T8_2ft","8' TLED lamp with remote driver from T8_2ft",8,null,"TLED",8]
["8' TLED lamp with remote driver",35,50000,"T8_U_bent","8' TLED lamp with remote driver from T8_U_bent",8,null,"TLED"]
["8' TLED lamp with remote driver",35,50000,"T8_3ft","8' TLED lamp with remote driver from T8_3ft",8,null,"TLED",8]
["8' TLED lamp with remote driver",35,50000,"T8_4ft","8' TLED lamp with remote driver from T8_4ft",8,null,"TLED",8]
["8' TLED lamp with remote driver",35,50000,"T8_5ft","8' TLED lamp with remote driver from T8_5ft",8,null,"TLED",8]
["8' TLED lamp with remote driver",35,50000,"T8_6ft","8' TLED lamp with remote driver from T8_6ft",8,null,"TLED",8]
["8' TLED lamp with remote driver",35,50000,"T8_8ft","8' TLED lamp with remote driver from T8_8ft",8,null,"TLED",8]
["8' TLED lamp with remote driver",35,50000,"T12_U_bent","8' TLED lamp with remote driver from T12_U_bent",8,null,"TLED",8]
["8' TLED lamp with remote driver",35,50000,"T12_2or3ft","8' TLED lamp with remote driver from T12_2or3ft",8,null,"TLED",8]
["8' TLED lamp with remote driver",35,50000,"T12_4ft","8' TLED lamp with remote driver from T12_4ft",8,null,"TLED",8]
["8' TLED lamp with remote driver",35,50000,"T12_5ft","8' TLED lamp with remote driver from T12_5ft",8,null,"TLED",8]
["8' TLED lamp with remote driver",35,50000,"T12_6ft","8' TLED lamp with remote driver from T12_6ft",8,null,"TLED",8]
["8' TLED lamp with remote driver",35,50000,"T12_8ft","8' TLED lamp with remote driver from T12_8ft",8,null,"TLED",8]
["8' TLED lamp with remote driver",35,50000,"T5_4ft","8' TLED lamp with remote driver from T5_4ft",8,null,"TLED",8]
["8' TLED lamp with remote driver",35,50000,"T5_3ft","8' TLED lamp with remote driver from T5_3ft",8,null,"TLED",8]
["8' TLED lamp with remote driver",35,50000,"T5_2ft","8' TLED lamp with remote driver from T5_2ft",8,null,"TLED",8]
["8' TLED lamp with remote driver",35,50000,"HID","8' TLED lamp with remote driver from HID",8,null,"TLED",8]
["8' TLED lamp with remote driver",35,50000,"INCAN","8' TLED lamp with remote driver from INCAN",8,null,"TLED",8]
["8' TLED lamp with remote driver",35,50000,"CFL","8' TLED lamp with remote driver from CFL",8,null,"TLED",8]
["8' TLED lamp with remote driver",35,50000,"SIGN","8' TLED lamp with remote driver from SIGN",8,null,"TLED",8]
["8' TLED lamp with remote driver",35,50000,"OTHER","8' TLED lamp with remote driver from OTHER",8,null,"TLED",8]
["8' TLED lamp at line voltage",35,50000,"T8_2ft","8' TLED lamp at line voltage from T8_2ft",8,null,"TLED",8]
["8' TLED lamp at line voltage",35,50000,"T8_U_bent",{"$f":"CONCATENATE(A364, \" from \", D364)","v":"8' TLED lamp at line voltage from T8_U_bent"},8,null,"TLED",8]
["8' TLED lamp at line voltage",35,50000,"T8_3ft","8' TLED lamp at line voltage from T8_3ft",8,null,"TLED",8]
["8' TLED lamp at line voltage",35,50000,"T8_4ft","8' TLED lamp at line voltage from T8_4ft",8,null,"TLED",8]
["8' TLED lamp at line voltage",35,50000,"T8_5ft","8' TLED lamp at line voltage from T8_5ft",8,null,"TLED",8]
["8' TLED lamp at line voltage",35,50000,"T8_6ft","8' TLED lamp at line voltage from T8_6ft",8,null,"TLED",8]
["8' TLED lamp at line voltage",35,50000,"T8_8ft","8' TLED lamp at line voltage from T8_8ft",8,null,"TLED",8]
["8' TLED lamp at line voltage",35,50000,"T12_U_bent","8' TLED lamp at line voltage from T12_U_bent",8,null,"TLED",8]
["8' TLED lamp at line voltage",35,50000,"T12_2or3ft","8' TLED lamp at line voltage from T12_2or3ft",8,null,"TLED",8]
["8' TLED lamp at line voltage",35,50000,"T12_4ft","8' TLED lamp at line voltage from T12_4ft",8,null,"TLED",8]
["8' TLED lamp at line voltage",35,50000,"T12_5ft","8' TLED lamp at line voltage from T12_5ft",8,null,"TLED",8]
["8' TLED lamp at line voltage",35,50000,"T12_6ft","8' TLED lamp at line voltage from T12_6ft",8,null,"TLED",8]
["8' TLED lamp at line voltage",35,50000,"T12_8ft","8' TLED lamp at line voltage from T12_8ft",8,null,"TLED",8]
["8' TLED lamp at line voltage",35,50000,"T5_4ft","8' TLED lamp at line voltage from T5_4ft",8,null,"TLED",8]
["8' TLED lamp at line voltage",35,50000,"T5_3ft","8' TLED lamp at line voltage from T5_3ft",8,null,"TLED",8]
["8' TLED lamp at line voltage",35,50000,"T5_2ft","8' TLED lamp at line voltage from T5_2ft",8,null,"TLED",8]
["8' TLED lamp at line voltage",35,50000,"HID","8' TLED lamp at line voltage from HID",8,null,"TLED",8]
["8' TLED lamp at line voltage",35,50000,"INCAN","8' TLED lamp at line voltage from INCAN",8,null,"TLED",8]
["8' TLED lamp at line voltage",35,50000,"CFL","8' TLED lamp at line voltage from CFL",8,null,"TLED",8]
["8' TLED lamp at line voltage",35,50000,"SIGN","8' TLED lamp at line voltage from SIGN",8,null,"TLED",8]
["8' TLED lamp at line voltage",35,50000,"OTHER","8' TLED lamp at line voltage from OTHER",8,null,"TLED",8]
["8' TLED lamp using existing fluorescent ballast",35,50000,"RL-8859","8' TLED lamp using existing fluorescent ballast from RL-8859",8,null,"TLED",8]
["8' TLED lamp using existing fluorescent ballast",35,50000,"RL-8886","8' TLED lamp using existing fluorescent ballast from RL-8886",8,null,"TLED",8]
["4' TLED lamp with new fluorescent ballast",35,50000,"T8_2ft","4' TLED lamp with new fluorescent ballast from T8_2ft",4,null,"TLED",8]
["4' TLED lamp with new fluorescent ballast",35,50000,"T8_U_bent","4' TLED lamp with new fluorescent ballast from T8_U_bent",4,null,"TLED",8]
["4' TLED lamp with new fluorescent ballast",35,50000,"T8_3ft","4' TLED lamp with new fluorescent ballast from T8_3ft",4,null,"TLED",8]
["4' TLED lamp with new fluorescent ballast",35,50000,"T8_4ft","4' TLED lamp with new fluorescent ballast from T8_4ft",4,null,"TLED",8]
["4' TLED lamp with new fluorescent ballast",35,50000,"T8_5ft","4' TLED lamp with new fluorescent ballast from T8_5ft",4,null,"TLED",8]
["4' TLED lamp with new fluorescent ballast",35,50000,"T8_6ft","4' TLED lamp with new fluorescent ballast from T8_6ft",4,null,"TLED",8]
["4' TLED lamp with new fluorescent ballast",35,50000,"T8_8ft","4' TLED lamp with new fluorescent ballast from T8_8ft",4,null,"TLED",8]
["4' TLED lamp with new fluorescent ballast",35,50000,"T12_U_bent","4' TLED lamp with new fluorescent ballast from T12_U_bent",4,null,"TLED",8]
["4' TLED lamp with new fluorescent ballast",35,50000,"T12_2or3ft","4' TLED lamp with new fluorescent ballast from T12_2or3ft",4,null,"TLED",8]
["4' TLED lamp with new fluorescent ballast",35,50000,"T12_4ft","4' TLED lamp with new fluorescent ballast from T12_4ft",4,null,"TLED",8]
["4' TLED lamp with new fluorescent ballast",35,50000,"T12_5ft","4' TLED lamp with new fluorescent ballast from T12_5ft",4,null,"TLED",8]
["4' TLED lamp with new fluorescent ballast",35,50000,"T12_6ft","4' TLED lamp with new fluorescent ballast from T12_6ft",4,null,"TLED",8]
["4' TLED lamp with new fluorescent ballast",35,50000,"T12_8ft","4' TLED lamp with new fluorescent ballast from T12_8ft",4,null,"TLED",8]
["4' TLED lamp with new fluorescent ballast",35,50000,"T5_4ft","4' TLED lamp with new fluorescent ballast from T5_4ft",4,null,"TLED",8]
["4' TLED lamp with new fluorescent ballast",35,50000,"T5_3ft","4' TLED lamp with new fluorescent ballast from T5_3ft",4,null,"TLED",8]
["4' TLED lamp with new fluorescent ballast",35,50000,"T5_2ft","4' TLED lamp with new fluorescent ballast from T5_2ft",4,null,"TLED",8]
["4' TLED lamp with new fluorescent ballast",35,50000,"HID","4' TLED lamp with new fluorescent ballast from HID",4,null,"TLED",8]
["4' TLED lamp with new fluorescent ballast",35,50000,"INCAN",{"$f":"CONCATENATE(A403, \" from \", D403)","v":"4' TLED lamp with new fluorescent ballast from INCAN"},4,null,"TLED",8]
["4' TLED lamp with new fluorescent ballast",35,50000,"CFL","4' TLED lamp with new fluorescent ballast from CFL",4,null,"TLED",8]
["4' TLED lamp with new fluorescent ballast",35,50000,"SIGN","4' TLED lamp with new fluorescent ballast from SIGN",4,null,"TLED",8]
["4' TLED lamp with new fluorescent ballast",35,50000,"OTHER","4' TLED lamp with new fluorescent ballast from OTHER",4,null,"TLED",8]
["4' TLED lamp with remote driver",35,50000,"T8_2ft","4' TLED lamp with remote driver from T8_2ft",4,null,"TLED",8]
["4' TLED lamp with remote driver",35,50000,"T8_U_bent","4' TLED lamp with remote driver from T8_U_bent",4,null,"TLED",8]
["4' TLED lamp with remote driver",35,50000,"T8_3ft","4' TLED lamp with remote driver from T8_3ft",4,null,"TLED",8]
["4' TLED lamp with remote driver",35,50000,"T8_4ft","4' TLED lamp with remote driver from T8_4ft",4,null,"TLED",8]
["4' TLED lamp with remote driver",35,50000,"T8_5ft","4' TLED lamp with remote driver from T8_5ft",4,null,"TLED",8]
["4' TLED lamp with remote driver",35,50000,"T8_6ft","4' TLED lamp with remote driver from T8_6ft",4,null,"TLED",8]
["4' TLED lamp with remote driver",35,50000,"T8_8ft","4' TLED lamp with remote driver from T8_8ft",4,null,"TLED",8]
["4' TLED lamp with remote driver",35,50000,"T12_U_bent","4' TLED lamp with remote driver from T12_U_bent",4,null,"TLED",8]
["4' TLED lamp with remote driver",35,50000,"T12_2or3ft","4' TLED lamp with remote driver from T12_2or3ft",4,null,"TLED",8]
["4' TLED lamp with remote driver",35,50000,"T12_4ft","4' TLED lamp with remote driver from T12_4ft",4,null,"TLED",8]
["4' TLED lamp with remote driver",35,50000,"T12_5ft","4' TLED lamp with remote driver from T12_5ft",4,null,"TLED",8]
["4' TLED lamp with remote driver",35,50000,"T12_6ft","4' TLED lamp with remote driver from T12_6ft",4,null,"TLED",8]
["4' TLED lamp with remote driver",35,50000,"T12_8ft","4' TLED lamp with remote driver from T12_8ft",4,null,"TLED",8]
["4' TLED lamp with remote driver",35,50000,"T5_4ft","4' TLED lamp with remote driver from T5_4ft",4,null,"TLED",8]
["4' TLED lamp with remote driver",35,50000,"T5_3ft","4' TLED lamp with remote driver from T5_3ft",4,null,"TLED",8]
["4' TLED lamp with remote driver",35,50000,"T5_2ft","4' TLED lamp with remote driver from T5_2ft",4,null,"TLED",8]
["4' TLED lamp with remote driver",35,50000,"HID","4' TLED lamp with remote driver from HID",4,null,"TLED",8]
["4' TLED lamp with remote driver",35,50000,"INCAN","4' TLED lamp with remote driver from INCAN",4,null,"TLED",8]
["4' TLED lamp with remote driver",35,50000,"CFL","4' TLED lamp with remote driver from CFL",4,null,"TLED",8]
["4' TLED lamp with remote driver",35,50000,"SIGN","4' TLED lamp with remote driver from SIGN",4,null,"TLED",8]
["4' TLED lamp with remote driver",35,50000,"OTHER","4' TLED lamp with remote driver from OTHER",4,null,"TLED",8]
["4' TLED lamp using existing fluorescent ballast",35,50000,"RL-4832","4' TLED lamp using existing fluorescent ballast from RL-4832",4,null,"TLED",8]
["4' TLED lamp using existing fluorescent ballast",35,50000,"RL-4828","4' TLED lamp using existing fluorescent ballast from RL-4828",4,null,"TLED",8]
["4' TLED lamp using existing fluorescent ballast",35,50000,"RL-4825","4' TLED lamp using existing fluorescent ballast from RL-4825",4,null,"TLED",8]
["4' TLED lamp using existing fluorescent ballast",35,50000,"RL-4528","4' TLED lamp using existing fluorescent ballast from RL-4528",4,null,"TLED",8]
["4' TLED lamp using existing fluorescent ballast",35,50000,"RL-4554","4' TLED lamp using existing fluorescent ballast from RL-4554",4,null,"TLED",8]
["4' TLED lamp using existing fluorescent ballast",35,50000,"RL-4844","4' TLED lamp using existing fluorescent ballast from RL-4844",4,null,"TLED",8]
["4' TLED lamp at line voltage",35,50000,"T8_2ft","4' TLED lamp at line voltage from T8_2ft",4,null,"TLED",8]
["4' TLED lamp at line voltage",35,50000,"T8_U_bent","4' TLED lamp at line voltage from T8_U_bent",4,null,"TLED",8]
["4' TLED lamp at line voltage",35,50000,"T8_3ft","4' TLED lamp at line voltage from T8_3ft",4,null,"TLED",8]
["4' TLED lamp at line voltage",35,50000,"T8_4ft","4' TLED lamp at line voltage from T8_4ft",4,null,"TLED",8]
["4' TLED lamp at line voltage",35,50000,"T8_5ft","4' TLED lamp at line voltage from T8_5ft",4,null,"TLED",8]
["4' TLED lamp at line voltage",35,50000,"T8_6ft","4' TLED lamp at line voltage from T8_6ft",4,null,"TLED",8]
["4' TLED lamp at line voltage",35,50000,"T8_8ft","4' TLED lamp at line voltage from T8_8ft",4,null,"TLED",8]
["4' TLED lamp at line voltage",35,50000,"T12_U_bent","4' TLED lamp at line voltage from T12_U_bent",4,null,"TLED",8]
["4' TLED lamp at line voltage",35,50000,"T12_2or3ft","4' TLED lamp at line voltage from T12_2or3ft",4,null,"TLED",8]
["4' TLED lamp at line voltage",35,50000,"T12_4ft","4' TLED lamp at line voltage from T12_4ft",4,null,"TLED",8]
["4' TLED lamp at line voltage",35,50000,"T12_5ft","4' TLED lamp at line voltage from T12_5ft",4,null,"TLED",8]
["4' TLED lamp at line voltage",35,50000,"T12_6ft","4' TLED lamp at line voltage from T12_6ft",4,null,"TLED",8]
["4' TLED lamp at line voltage",35,50000,"T12_8ft","4' TLED lamp at line voltage from T12_8ft",4,null,"TLED",8]
["4' TLED lamp at line voltage",35,50000,"T5_4ft","4' TLED lamp at line voltage from T5_4ft",4,null,"TLED",8]
["4' TLED lamp at line voltage",35,50000,"T5_3ft","4' TLED lamp at line voltage from T5_3ft",4,null,"TLED",8]
["4' TLED lamp at line voltage",35,50000,"T5_2ft","4' TLED lamp at line voltage from T5_2ft",4,null,"TLED",8]
["4' TLED lamp at line voltage",35,50000,"HID","4' TLED lamp at line voltage from HID",4,null,"TLED",8]
["4' TLED lamp at line voltage",35,50000,"INCAN","4' TLED lamp at line voltage from INCAN",4,null,"TLED",8]
["4' TLED lamp at line voltage",35,50000,"CFL","4' TLED lamp at line voltage from CFL",4,null,"TLED",8]
["4' TLED lamp at line voltage",35,50000,"SIGN","4' TLED lamp at line voltage from SIGN",4,null,"TLED",8]
["4' TLED lamp at line voltage",35,50000,"OTHER","4' TLED lamp at line voltage from OTHER",4,null,"TLED",8]
["LED High-Bay or Low-Bay, 40-90W",35,56700,"T8_2ft",{"$f":"CONCATENATE(A455, \" from \", D455)","v":"LED High-Bay or Low-Bay, 40-90W from T8_2ft"},80,null,"LED fixture or kit",211]
["LED High-Bay or Low-Bay, 40-90W",35,56700,"T8_U_bent",{"$f":"CONCATENATE(A456, \" from \", D456)","v":"LED High-Bay or Low-Bay, 40-90W from T8_U_bent"},80,null,"LED fixture or kit",211]
["LED High-Bay or Low-Bay, 40-90W",35,56700,"T8_3ft","LED High-Bay or Low-Bay, 40-90W from T8_3ft",80,null,"LED fixture or kit",211]
["LED High-Bay or Low-Bay, 40-90W",35,56700,"T8_4ft","LED High-Bay or Low-Bay, 40-90W from T8_4ft",80,null,"LED fixture or kit",211]
["LED High-Bay or Low-Bay, 40-90W",35,56700,"T8_5ft","LED High-Bay or Low-Bay, 40-90W from T8_5ft",80,null,"LED fixture or kit",211]
["LED High-Bay or Low-Bay, 40-90W",35,56700,"T8_6ft","LED High-Bay or Low-Bay, 40-90W from T8_6ft",80,null,"LED fixture or kit",211]
["LED High-Bay or Low-Bay, 40-90W",35,56700,"T8_8ft","LED High-Bay or Low-Bay, 40-90W from T8_8ft",80,null,"LED fixture or kit",211]
["LED High-Bay or Low-Bay, 40-90W",35,56700,"T12_U_bent","LED High-Bay or Low-Bay, 40-90W from T12_U_bent",80,null,"LED fixture or kit",211]
["LED High-Bay or Low-Bay, 40-90W",35,56700,"T12_2or3ft","LED High-Bay or Low-Bay, 40-90W from T12_2or3ft",80,null,"LED fixture or kit",211]
["LED High-Bay or Low-Bay, 40-90W",35,56700,"T12_4ft","LED High-Bay or Low-Bay, 40-90W from T12_4ft",80,null,"LED fixture or kit",211]
["LED High-Bay or Low-Bay, 40-90W",35,56700,"T12_5ft","LED High-Bay or Low-Bay, 40-90W from T12_5ft",80,null,"LED fixture or kit",211]
["LED High-Bay or Low-Bay, 40-90W",35,56700,"T12_6ft","LED High-Bay or Low-Bay, 40-90W from T12_6ft",80,null,"LED fixture or kit",211]
["LED High-Bay or Low-Bay, 40-90W",35,56700,"T12_8ft","LED High-Bay or Low-Bay, 40-90W from T12_8ft",80,null,"LED fixture or kit",211]
["LED High-Bay or Low-Bay, 40-90W",35,56700,"T5_4ft","LED High-Bay or Low-Bay, 40-90W from T5_4ft",80,null,"LED fixture or kit",211]
["LED High-Bay or Low-Bay, 40-90W",35,56700,"T5_3ft","LED High-Bay or Low-Bay, 40-90W from T5_3ft",80,null,"LED fixture or kit",211]
["LED High-Bay or Low-Bay, 40-90W",35,56700,"T5_2ft","LED High-Bay or Low-Bay, 40-90W from T5_2ft",80,null,"LED fixture or kit",211]
["LED High-Bay or Low-Bay, 40-90W",35,56700,"HID","LED High-Bay or Low-Bay, 40-90W from HID",80,null,"LED fixture or kit",211]
["LED High-Bay or Low-Bay, 40-90W",35,56700,"INCAN","LED High-Bay or Low-Bay, 40-90W from INCAN",80,null,"LED fixture or kit",211]
["LED High-Bay or Low-Bay, 40-90W",35,56700,"CFL","LED High-Bay or Low-Bay, 40-90W from CFL",80,null,"LED fixture or kit",211]
["LED High-Bay or Low-Bay, 40-90W",35,56700,"SIGN","LED High-Bay or Low-Bay, 40-90W from SIGN",80,null,"LED fixture or kit",211]
["LED High-Bay or Low-Bay, 40-90W",35,56700,"OTHER","LED High-Bay or Low-Bay, 40-90W from OTHER",80,null,"LED fixture or kit",211]
["LED High-Bay or Low-Bay, 91-140W",50,56700,"T8_2ft",{"$f":"CONCATENATE(A476, \" from \", D476)","v":"LED High-Bay or Low-Bay, 91-140W from T8_2ft"},120,null,"LED fixture or kit",211]
["LED High-Bay or Low-Bay, 91-140W",50,56700,"T8_U_bent",{"$f":"CONCATENATE(A477, \" from \", D477)","v":"LED High-Bay or Low-Bay, 91-140W from T8_U_bent"},120,null,"LED fixture or kit",211]
["LED High-Bay or Low-Bay, 91-140W",50,56700,"T8_3ft","LED High-Bay or Low-Bay, 91-140W from T8_3ft",120,null,"LED fixture or kit",211]
["LED High-Bay or Low-Bay, 91-140W",50,56700,"T8_4ft","LED High-Bay or Low-Bay, 91-140W from T8_4ft",120,null,"LED fixture or kit",211]
["LED High-Bay or Low-Bay, 91-140W",50,56700,"T8_5ft","LED High-Bay or Low-Bay, 91-140W from T8_5ft",120,null,"LED fixture or kit",211]
["LED High-Bay or Low-Bay, 91-140W",50,56700,"T8_6ft","LED High-Bay or Low-Bay, 91-140W from T8_6ft",120,null,"LED fixture or kit",211]
["LED High-Bay or Low-Bay, 91-140W",50,56700,"T8_8ft","LED High-Bay or Low-Bay, 91-140W from T8_8ft",120,null,"LED fixture or kit",211]
["LED High-Bay or Low-Bay, 91-140W",50,56700,"T12_U_bent","LED High-Bay or Low-Bay, 91-140W from T12_U_bent",120,null,"LED fixture or kit",211]
["LED High-Bay or Low-Bay, 91-140W",50,56700,"T12_2or3ft","LED High-Bay or Low-Bay, 91-140W from T12_2or3ft",120,null,"LED fixture or kit",211]
["LED High-Bay or Low-Bay, 91-140W",50,56700,"T12_4ft","LED High-Bay or Low-Bay, 91-140W from T12_4ft",120,null,"LED fixture or kit",211]
["LED High-Bay or Low-Bay, 91-140W",50,56700,"T12_5ft","LED High-Bay or Low-Bay, 91-140W from T12_5ft",120,null,"LED fixture or kit",211]
["LED High-Bay or Low-Bay, 91-140W",50,56700,"T12_6ft","LED High-Bay or Low-Bay, 91-140W from T12_6ft",120,null,"LED fixture or kit",211]
["LED High-Bay or Low-Bay, 91-140W",50,56700,"T12_8ft","LED High-Bay or Low-Bay, 91-140W from T12_8ft",120,null,"LED fixture or kit",211]
["LED High-Bay or Low-Bay, 91-140W",50,56700,"T5_4ft","LED High-Bay or Low-Bay, 91-140W from T5_4ft",120,null,"LED fixture or kit",211]
["LED High-Bay or Low-Bay, 91-140W",50,56700,"T5_3ft","LED High-Bay or Low-Bay, 91-140W from T5_3ft",120,null,"LED fixture or kit",211]
["LED High-Bay or Low-Bay, 91-140W",50,56700,"T5_2ft","LED High-Bay or Low-Bay, 91-140W from T5_2ft",120,null,"LED fixture or kit",211]
["LED High-Bay or Low-Bay, 91-140W",50,56700,"HID","LED High-Bay or Low-Bay, 91-140W from HID",120,null,"LED fixture or kit",211]
["LED High-Bay or Low-Bay, 91-140W",50,56700,"INCAN","LED High-Bay or Low-Bay, 91-140W from INCAN",120,null,"LED fixture or kit",211]
["LED High-Bay or Low-Bay, 91-140W",50,56700,"CFL","LED High-Bay or Low-Bay, 91-140W from CFL",120,null,"LED fixture or kit",211]
["LED High-Bay or Low-Bay, 91-140W",50,56700,"SIGN","LED High-Bay or Low-Bay, 91-140W from SIGN",120,null,"LED fixture or kit",211]
["LED High-Bay or Low-Bay, 91-140W",50,56700,"OTHER","LED High-Bay or Low-Bay, 91-140W from OTHER",120,null,"LED fixture or kit",211]
["LED High-Bay or Low-Bay, 141-299W",60,56700,"T8_2ft",{"$f":"CONCATENATE(A497, \" from \", D497)","v":"LED High-Bay or Low-Bay, 141-299W from T8_2ft"},150,null,"LED fixture or kit",211]
["LED High-Bay or Low-Bay, 141-299W",60,56700,"T8_U_bent",{"$f":"CONCATENATE(A498, \" from \", D498)","v":"LED High-Bay or Low-Bay, 141-299W from T8_U_bent"},150,null,"LED fixture or kit",211]
["LED High-Bay or Low-Bay, 141-299W",60,56700,"T8_3ft","LED High-Bay or Low-Bay, 141-299W from T8_3ft",150,null,"LED fixture or kit",211]
["LED High-Bay or Low-Bay, 141-299W",60,56700,"T8_4ft","LED High-Bay or Low-Bay, 141-299W from T8_4ft",150,null,"LED fixture or kit",211]
["LED High-Bay or Low-Bay, 141-299W",60,56700,"T8_5ft","LED High-Bay or Low-Bay, 141-299W from T8_5ft",150,null,"LED fixture or kit",211]
["LED High-Bay or Low-Bay, 141-299W",60,56700,"T8_6ft","LED High-Bay or Low-Bay, 141-299W from T8_6ft",150,null,"LED fixture or kit",211]
["LED High-Bay or Low-Bay, 141-299W",60,56700,"T8_8ft","LED High-Bay or Low-Bay, 141-299W from T8_8ft",150,null,"LED fixture or kit",211]
["LED High-Bay or Low-Bay, 141-299W",60,56700,"T12_U_bent","LED High-Bay or Low-Bay, 141-299W from T12_U_bent",150,null,"LED fixture or kit",211]
["LED High-Bay or Low-Bay, 141-299W",60,56700,"T12_2or3ft","LED High-Bay or Low-Bay, 141-299W from T12_2or3ft",150,null,"LED fixture or kit",211]
["LED High-Bay or Low-Bay, 141-299W",60,56700,"T12_4ft","LED High-Bay or Low-Bay, 141-299W from T12_4ft",150,null,"LED fixture or kit",211]
["LED High-Bay or Low-Bay, 141-299W",60,56700,"T12_5ft","LED High-Bay or Low-Bay, 141-299W from T12_5ft",150,null,"LED fixture or kit",211]
["LED High-Bay or Low-Bay, 141-299W",60,56700,"T12_6ft","LED High-Bay or Low-Bay, 141-299W from T12_6ft",150,null,"LED fixture or kit",211]
["LED High-Bay or Low-Bay, 141-299W",60,56700,"T12_8ft","LED High-Bay or Low-Bay, 141-299W from T12_8ft",150,null,"LED fixture or kit",211]
["LED High-Bay or Low-Bay, 141-299W",60,56700,"T5_4ft","LED High-Bay or Low-Bay, 141-299W from T5_4ft",150,null,"LED fixture or kit",211]
["LED High-Bay or Low-Bay, 141-299W",60,56700,"T5_3ft","LED High-Bay or Low-Bay, 141-299W from T5_3ft",150,null,"LED fixture or kit",211]
["LED High-Bay or Low-Bay, 141-299W",60,56700,"HID","LED High-Bay or Low-Bay, 141-299W from HID",150,null,"LED fixture or kit",211]
["LED High-Bay or Low-Bay, 141-299W",60,56700,"INCAN","LED High-Bay or Low-Bay, 141-299W from INCAN",150,null,"LED fixture or kit",211]
["LED High-Bay or Low-Bay, 141-299W",60,56700,"CFL","LED High-Bay or Low-Bay, 141-299W from CFL",150,null,"LED fixture or kit",211]
["LED High-Bay or Low-Bay, 141-299W",60,56700,"SIGN","LED High-Bay or Low-Bay, 141-299W from SIGN",150,null,"LED fixture or kit",211]
["LED High-Bay or Low-Bay, 141-299W",60,56700,"OTHER","LED High-Bay or Low-Bay, 141-299W from OTHER",150,null,"LED fixture or kit",211]
["LED High-Bay or Low-Bay, 300W or greater",80,56700,"T8_2ft",{"$f":"CONCATENATE(A517, \" from \", D517)","v":"LED High-Bay or Low-Bay, 300W or greater from T8_2ft"},200,null,"LED fixture or kit",211]
["LED High-Bay or Low-Bay, 300W or greater",80,56700,"T8_U_bent",{"$f":"CONCATENATE(A518, \" from \", D518)","v":"LED High-Bay or Low-Bay, 300W or greater from T8_U_bent"},200,null,"LED fixture or kit",211]
["LED High-Bay or Low-Bay, 300W or greater",80,56700,"T8_3ft","LED High-Bay or Low-Bay, 300W or greater from T8_3ft",200,null,"LED fixture or kit",211]
["LED High-Bay or Low-Bay, 300W or greater",80,56700,"T8_4ft","LED High-Bay or Low-Bay, 300W or greater from T8_4ft",200,null,"LED fixture or kit",211]
["LED High-Bay or Low-Bay, 300W or greater",80,56700,"T8_5ft","LED High-Bay or Low-Bay, 300W or greater from T8_5ft",200,null,"LED fixture or kit",211]
["LED High-Bay or Low-Bay, 300W or greater",80,56700,"T8_6ft","LED High-Bay or Low-Bay, 300W or greater from T8_6ft",200,null,"LED fixture or kit",211]
["LED High-Bay or Low-Bay, 300W or greater",80,56700,"T8_8ft","LED High-Bay or Low-Bay, 300W or greater from T8_8ft",200,null,"LED fixture or kit",211]
["LED High-Bay or Low-Bay, 300W or greater",80,56700,"T12_U_bent","LED High-Bay or Low-Bay, 300W or greater from T12_U_bent",200,null,"LED fixture or kit",211]
["LED High-Bay or Low-Bay, 300W or greater",80,56700,"T12_2or3ft","LED High-Bay or Low-Bay, 300W or greater from T12_2or3ft",200,null,"LED fixture or kit",211]
["LED High-Bay or Low-Bay, 300W or greater",80,56700,"T12_4ft","LED High-Bay or Low-Bay, 300W or greater from T12_4ft",200,null,"LED fixture or kit",211]
["LED High-Bay or Low-Bay, 300W or greater",80,56700,"T12_5ft","LED High-Bay or Low-Bay, 300W or greater from T12_5ft",200,null,"LED fixture or kit",211]
["LED High-Bay or Low-Bay, 300W or greater",80,56700,"T12_6ft","LED High-Bay or Low-Bay, 300W or greater from T12_6ft",200,null,"LED fixture or kit",211]
["LED High-Bay or Low-Bay, 300W or greater",80,56700,"T12_8ft","LED High-Bay or Low-Bay, 300W or greater from T12_8ft",200,null,"LED fixture or kit",211]
["LED High-Bay or Low-Bay, 300W or greater",80,56700,"T5_4ft","LED High-Bay or Low-Bay, 300W or greater from T5_4ft",200,null,"LED fixture or kit",211]
["LED High-Bay or Low-Bay, 300W or greater",80,56700,"T5_3ft","LED High-Bay or Low-Bay, 300W or greater from T5_3ft",200,null,"LED fixture or kit",211]
["LED High-Bay or Low-Bay, 300W or greater",80,56700,"T5_2ft","LED High-Bay or Low-Bay, 300W or greater from T5_2ft",200,null,"LED fixture or kit",211]
["LED High-Bay or Low-Bay, 300W or greater",80,56700,"HID","LED High-Bay or Low-Bay, 300W or greater from HID",200,null,"LED fixture or kit",211]
["LED High-Bay or Low-Bay, 300W or greater",80,56700,"INCAN","LED High-Bay or Low-Bay, 300W or greater from INCAN",200,null,"LED fixture or kit",211]
["LED High-Bay or Low-Bay, 300W or greater",80,56700,"CFL","LED High-Bay or Low-Bay, 300W or greater from CFL",200,null,"LED fixture or kit",211]
["LED High-Bay or Low-Bay, 300W or greater",80,56700,"SIGN","LED High-Bay or Low-Bay, 300W or greater from SIGN",200,null,"LED fixture or kit",211]
["LED High-Bay or Low-Bay, 300W or greater",80,56700,"OTHER","LED High-Bay or Low-Bay, 300W or greater from OTHER",200,null,"LED fixture or kit",211]
["Interior Recessed Canister Downlight LED",50,25000,"T8_2ft","Interior Recessed Canister Downlight LED from T8_2ft",null,null,"LED fixture or kit"]
["Interior Recessed Canister Downlight LED",50,25000,"T8_U_bent","Interior Recessed Canister Downlight LED from T8_U_bent",null,null,"LED fixture or kit"]
["Interior Recessed Canister Downlight LED",50,25000,"T8_3ft","Interior Recessed Canister Downlight LED from T8_3ft",null,null,"LED fixture or kit"]
["Interior Recessed Canister Downlight LED",50,25000,"T8_4ft","Interior Recessed Canister Downlight LED from T8_4ft",null,null,"LED fixture or kit"]
["Interior Recessed Canister Downlight LED",50,25000,"T8_5ft","Interior Recessed Canister Downlight LED from T8_5ft",null,null,"LED fixture or kit"]
["Interior Recessed Canister Downlight LED",50,25000,"T8_6ft","Interior Recessed Canister Downlight LED from T8_6ft",null,null,"LED fixture or kit"]
["Interior Recessed Canister Downlight LED",50,25000,"T8_8ft","Interior Recessed Canister Downlight LED from T8_8ft",null,null,"LED fixture or kit"]
["Interior Recessed Canister Downlight LED",50,25000,"T12_U_bent","Interior Recessed Canister Downlight LED from T12_U_bent",null,null,"LED fixture or kit"]
["Interior Recessed Canister Downlight LED",50,25000,"T12_2or3ft","Interior Recessed Canister Downlight LED from T12_2or3ft",null,null,"LED fixture or kit"]
["Interior Recessed Canister Downlight LED",50,25000,"T12_4ft","Interior Recessed Canister Downlight LED from T12_4ft",null,null,"LED fixture or kit"]
["Interior Recessed Canister Downlight LED",50,25000,"T12_5ft","Interior Recessed Canister Downlight LED from T12_5ft",null,null,"LED fixture or kit"]
["Interior Recessed Canister Downlight LED",50,25000,"T12_6ft","Interior Recessed Canister Downlight LED from T12_6ft",null,null,"LED fixture or kit"]
["Interior Recessed Canister Downlight LED",50,25000,"T12_8ft","Interior Recessed Canister Downlight LED from T12_8ft",null,null,"LED fixture or kit"]
["Interior Recessed Canister Downlight LED",50,25000,"T5_4ft","Interior Recessed Canister Downlight LED from T5_4ft",null,null,"LED fixture or kit"]
["Interior Recessed Canister Downlight LED",50,25000,"T5_3ft","Interior Recessed Canister Downlight LED from T5_3ft",null,null,"LED fixture or kit"]
["Interior Recessed Canister Downlight LED",50,25000,"T5_2ft","Interior Recessed Canister Downlight LED from T5_2ft",null,null,"LED fixture or kit"]
["Interior Recessed Canister Downlight LED",50,25000,"HID","Interior Recessed Canister Downlight LED from HID",null,null,"LED fixture or kit"]
["Interior Recessed Canister Downlight LED",50,25000,"CFL","Interior Recessed Canister Downlight LED from CFL",null,null,"LED fixture or kit",49]
["Interior Recessed Canister Downlight LED",50,25000,"OTHER","Interior Recessed Canister Downlight LED from OTHER",null,null,"LED fixture or kit"]
["LED fixture or kit, 25W or less",35,55871,"T8_2ft",{"$f":"CONCATENATE(A557, \" from \", D557)","v":"LED fixture or kit, 25W or less from T8_2ft"},30,null,"LED fixture or kit",64]
["LED fixture or kit, 25W or less",35,55871,"T8_U_bent",{"$f":"CONCATENATE(A558, \" from \", D558)","v":"LED fixture or kit, 25W or less from T8_U_bent"},30,null,"LED fixture or kit",64]
["LED fixture or kit, 25W or less",35,55871,"T8_3ft","LED fixture or kit, 25W or less from T8_3ft",30,null,"LED fixture or kit",64]
["LED fixture or kit, 25W or less",35,55871,"T8_4ft","LED fixture or kit, 25W or less from T8_4ft",30,null,"LED fixture or kit",64]
["LED fixture or kit, 25W or less",35,55871,"T8_5ft","LED fixture or kit, 25W or less from T8_5ft",30,null,"LED fixture or kit",64]
["LED fixture or kit, 25W or less",35,55871,"T8_6ft","LED fixture or kit, 25W or less from T8_6ft",30,null,"LED fixture or kit",64]
["LED fixture or kit, 25W or less",35,55871,"T8_8ft","LED fixture or kit, 25W or less from T8_8ft",30,null,"LED fixture or kit",64]
["LED fixture or kit, 25W or less",35,55871,"T12_U_bent","LED fixture or kit, 25W or less from T12_U_bent",30,null,"LED fixture or kit",64]
["LED fixture or kit, 25W or less",35,55871,"T12_2or3ft","LED fixture or kit, 25W or less from T12_2or3ft",30,null,"LED fixture or kit",64]
["LED fixture or kit, 25W or less",35,55871,"T12_4ft","LED fixture or kit, 25W or less from T12_4ft",30,null,"LED fixture or kit",64]
["LED fixture or kit, 25W or less",35,55871,"T12_5ft","LED fixture or kit, 25W or less from T12_5ft",30,null,"LED fixture or kit",64]
["LED fixture or kit, 25W or less",35,55871,"T12_6ft","LED fixture or kit, 25W or less from T12_6ft",30,null,"LED fixture or kit",64]
["LED fixture or kit, 25W or less",35,55871,"T12_8ft","LED fixture or kit, 25W or less from T12_8ft",30,null,"LED fixture or kit",64]
["LED fixture or kit, 25W or less",35,55871,"T5_4ft","LED fixture or kit, 25W or less from T5_4ft",30,null,"LED fixture or kit",64]
["LED fixture or kit, 25W or less",35,55871,"T5_3ft","LED fixture or kit, 25W or less from T5_3ft",30,null,"LED fixture or kit",64]
["LED fixture or kit, 25W or less",35,55871,"T5_2ft","LED fixture or kit, 25W or less from T5_2ft",30,null,"LED fixture or kit",64]
["LED fixture or kit, 25W or less",35,55871,"HID","LED fixture or kit, 25W or less from HID",30,null,"LED fixture or kit",64]
["LED fixture or kit, 25W or less",35,55871,"INCAN","LED fixture or kit, 25W or less from INCAN",30,null,"LED fixture or kit",64]
["LED fixture or kit, 25W or less",35,55871,"CFL","LED fixture or kit, 25W or less from CFL",30,null,"LED fixture or kit",64]
["LED fixture or kit, 25W or less",35,55871,"SIGN","LED fixture or kit, 25W or less from SIGN",30,null,"LED fixture or kit",64]
["LED fixture or kit, 25W or less",35,55871,"OTHER","LED fixture or kit, 25W or less from OTHER",30,null,"LED fixture or kit",64]
["LED fixture or kit, 26-39W",35,55871,"T8_2ft",{"$f":"CONCATENATE(A578, \" from \", D578)","v":"LED fixture or kit, 26-39W from T8_2ft"},50,null,"LED fixture or kit",64]
["LED fixture or kit, 26-39W",35,55871,"T8_U_bent",{"$f":"CONCATENATE(A579, \" from \", D579)","v":"LED fixture or kit, 26-39W from T8_U_bent"},50,null,"LED fixture or kit",64]
["LED fixture or kit, 26-39W",35,55871,"T8_3ft","LED fixture or kit, 26-39W from T8_3ft",50,null,"LED fixture or kit",64]
["LED fixture or kit, 26-39W",35,55871,"T8_4ft","LED fixture or kit, 26-39W from T8_4ft",50,null,"LED fixture or kit",64]
["LED fixture or kit, 26-39W",35,55871,"T8_5ft","LED fixture or kit, 26-39W from T8_5ft",50,null,"LED fixture or kit",64]
["LED fixture or kit, 26-39W",35,55871,"T8_6ft","LED fixture or kit, 26-39W from T8_6ft",50,null,"LED fixture or kit",64]
["LED fixture or kit, 26-39W",35,55871,"T8_8ft","LED fixture or kit, 26-39W from T8_8ft",50,null,"LED fixture or kit",64]
["LED fixture or kit, 26-39W",35,55871,"T12_U_bent","LED fixture or kit, 26-39W from T12_U_bent",50,null,"LED fixture or kit",64]
["LED fixture or kit, 26-39W",35,55871,"T12_2or3ft","LED fixture or kit, 26-39W from T12_2or3ft",50,null,"LED fixture or kit",64]
["LED fixture or kit, 26-39W",35,55871,"T12_4ft","LED fixture or kit, 26-39W from T12_4ft",50,null,"LED fixture or kit",64]
["LED fixture or kit, 26-39W",35,55871,"T12_5ft","LED fixture or kit, 26-39W from T12_5ft",50,null,"LED fixture or kit",64]
["LED fixture or kit, 26-39W",35,55871,"T12_6ft","LED fixture or kit, 26-39W from T12_6ft",50,null,"LED fixture or kit",64]
["LED fixture or kit, 26-39W",35,55871,"T12_8ft","LED fixture or kit, 26-39W from T12_8ft",50,null,"LED fixture or kit",64]
["LED fixture or kit, 26-39W",35,55871,"T5_4ft","LED fixture or kit, 26-39W from T5_4ft",50,null,"LED fixture or kit",64]
["LED fixture or kit, 26-39W",35,55871,"T5_3ft","LED fixture or kit, 26-39W from T5_3ft",50,null,"LED fixture or kit",64]
["LED fixture or kit, 26-39W",35,55871,"T5_2ft","LED fixture or kit, 26-39W from T5_2ft",50,null,"LED fixture or kit",64]
["LED fixture or kit, 26-39W",35,55871,"HID","LED fixture or kit, 26-39W from HID",50,null,"LED fixture or kit",64]
["LED fixture or kit, 26-39W",35,55871,"INCAN","LED fixture or kit, 26-39W from INCAN",50,null,"LED fixture or kit",64]
["LED fixture or kit, 26-39W",35,55871,"CFL","LED fixture or kit, 26-39W from CFL",50,null,"LED fixture or kit",64]
["LED fixture or kit, 26-39W",35,55871,"SIGN","LED fixture or kit, 26-39W from SIGN",50,null,"LED fixture or kit",64]
["LED fixture or kit, 26-39W",35,55871,"OTHER","LED fixture or kit, 26-39W from OTHER",50,null,"LED fixture or kit",64]
["LED fixture or kit, 40-57W",45,55871,"T8_2ft",{"$f":"CONCATENATE(A599, \" from \", D599)","v":"LED fixture or kit, 40-57W from T8_2ft"},65,null,"LED fixture or kit",64]
["LED fixture or kit, 40-57W",45,55871,"T8_U_bent",{"$f":"CONCATENATE(A600, \" from \", D600)","v":"LED fixture or kit, 40-57W from T8_U_bent"},65,null,"LED fixture or kit",64]
["LED fixture or kit, 40-57W",45,55871,"T8_3ft","LED fixture or kit, 40-57W from T8_3ft",65,null,"LED fixture or kit",64]
["LED fixture or kit, 40-57W",45,55871,"T8_4ft","LED fixture or kit, 40-57W from T8_4ft",65,null,"LED fixture or kit",64]
["LED fixture or kit, 40-57W",45,55871,"T8_5ft","LED fixture or kit, 40-57W from T8_5ft",65,null,"LED fixture or kit",64]
["LED fixture or kit, 40-57W",45,55871,"T8_6ft","LED fixture or kit, 40-57W from T8_6ft",65,null,"LED fixture or kit",64]
["LED fixture or kit, 40-57W",45,55871,"T8_8ft","LED fixture or kit, 40-57W from T8_8ft",65,null,"LED fixture or kit",64]
["LED fixture or kit, 40-57W",45,55871,"T12_U_bent","LED fixture or kit, 40-57W from T12_U_bent",65,null,"LED fixture or kit",64]
["LED fixture or kit, 40-57W",45,55871,"T12_2or3ft","LED fixture or kit, 40-57W from T12_2or3ft",65,null,"LED fixture or kit",64]
["LED fixture or kit, 40-57W",45,55871,"T12_4ft","LED fixture or kit, 40-57W from T12_4ft",65,null,"LED fixture or kit",64]
["LED fixture or kit, 40-57W",45,55871,"T12_5ft","LED fixture or kit, 40-57W from T12_5ft",65,null,"LED fixture or kit",64]
["LED fixture or kit, 40-57W",45,55871,"T12_6ft","LED fixture or kit, 40-57W from T12_6ft",65,null,"LED fixture or kit",64]
["LED fixture or kit, 40-57W",45,55871,"T12_8ft","LED fixture or kit, 40-57W from T12_8ft",65,null,"LED fixture or kit",64]
["LED fixture or kit, 40-57W",45,55871,"T5_4ft","LED fixture or kit, 40-57W from T5_4ft",65,null,"LED fixture or kit",64]
["LED fixture or kit, 40-57W",45,55871,"T5_3ft","LED fixture or kit, 40-57W from T5_3ft",65,null,"LED fixture or kit",64]
["LED fixture or kit, 40-57W",45,55871,"T5_2ft","LED fixture or kit, 40-57W from T5_2ft",65,null,"LED fixture or kit",64]
["LED fixture or kit, 40-57W",45,55871,"HID","LED fixture or kit, 40-57W from HID",65,null,"LED fixture or kit",64]
["LED fixture or kit, 40-57W",45,55871,"INCAN","LED fixture or kit, 40-57W from INCAN",65,null,"LED fixture or kit",64]
["LED fixture or kit, 40-57W",45,55871,"CFL","LED fixture or kit, 40-57W from CFL",65,null,"LED fixture or kit",64]
["LED fixture or kit, 40-57W",45,55871,"SIGN","LED fixture or kit, 40-57W from SIGN",65,null,"LED fixture or kit",64]
["LED fixture or kit, 40-57W",45,55871,"OTHER","LED fixture or kit, 40-57W from OTHER",65,null,"LED fixture or kit",64]
["LED fixture or kit, 58-100W",50,55871,"T8_2ft",{"$f":"CONCATENATE(A620, \" from \", D620)","v":"LED fixture or kit, 58-100W from T8_2ft"},75,null,"LED fixture or kit",64]
["LED fixture or kit, 58-100W",50,55871,"T8_U_bent",{"$f":"CONCATENATE(A621, \" from \", D621)","v":"LED fixture or kit, 58-100W from T8_U_bent"},75,null,"LED fixture or kit",64]
["LED fixture or kit, 58-100W",50,55871,"T8_3ft","LED fixture or kit, 58-100W from T8_3ft",75,null,"LED fixture or kit",64]
["LED fixture or kit, 58-100W",50,55871,"T8_4ft","LED fixture or kit, 58-100W from T8_4ft",75,null,"LED fixture or kit",64]
["LED fixture or kit, 58-100W",50,55871,"T8_5ft","LED fixture or kit, 58-100W from T8_5ft",75,null,"LED fixture or kit",64]
["LED fixture or kit, 58-100W",50,55871,"T8_6ft","LED fixture or kit, 58-100W from T8_6ft",75,null,"LED fixture or kit",64]
["LED fixture or kit, 58-100W",50,55871,"T8_8ft","LED fixture or kit, 58-100W from T8_8ft",75,null,"LED fixture or kit",64]
["LED fixture or kit, 58-100W",50,55871,"T12_U_bent","LED fixture or kit, 58-100W from T12_U_bent",75,null,"LED fixture or kit",64]
["LED fixture or kit, 58-100W",50,55871,"T12_2or3ft","LED fixture or kit, 58-100W from T12_2or3ft",75,null,"LED fixture or kit",64]
["LED fixture or kit, 58-100W",50,55871,"T12_4ft","LED fixture or kit, 58-100W from T12_4ft",75,null,"LED fixture or kit",64]
["LED fixture or kit, 58-100W",50,55871,"T12_5ft","LED fixture or kit, 58-100W from T12_5ft",75,null,"LED fixture or kit",64]
["LED fixture or kit, 58-100W",50,55871,"T12_6ft","LED fixture or kit, 58-100W from T12_6ft",75,null,"LED fixture or kit",64]
["LED fixture or kit, 58-100W",50,55871,"T12_8ft","LED fixture or kit, 58-100W from T12_8ft",75,null,"LED fixture or kit",64]
["LED fixture or kit, 58-100W",50,55871,"T5_4ft","LED fixture or kit, 58-100W from T5_4ft",75,null,"LED fixture or kit",64]
["LED fixture or kit, 58-100W",50,55871,"T5_3ft","LED fixture or kit, 58-100W from T5_3ft",75,null,"LED fixture or kit",64]
["LED fixture or kit, 58-100W",50,55871,"T5_2ft","LED fixture or kit, 58-100W from T5_2ft",75,null,"LED fixture or kit",64]
["LED fixture or kit, 58-100W",50,55871,"HID","LED fixture or kit, 58-100W from HID",75,null,"LED fixture or kit",64]
["LED fixture or kit, 58-100W",50,55871,"INCAN","LED fixture or kit, 58-100W from INCAN",75,null,"LED fixture or kit",64]
["LED fixture or kit, 58-100W",50,55871,"CFL","LED fixture or kit, 58-100W from CFL",75,null,"LED fixture or kit",64]
["LED fixture or kit, 58-100W",50,55871,"SIGN","LED fixture or kit, 58-100W from SIGN",75,null,"LED fixture or kit",64]
["LED fixture or kit, 58-100W",50,55871,"OTHER","LED fixture or kit, 58-100W from OTHER",75,null,"LED fixture or kit",64]
["Exterior Recessed Canister Downlight LED",50,25000,"T8_2ft","Exterior Recessed Canister Downlight LED from T8_2ft",25,null,"Exterior LED fixture"]
["Exterior Recessed Canister Downlight LED",50,25000,"T8_U_bent","Exterior Recessed Canister Downlight LED from T8_U_bent",25,null,"Exterior LED fixture"]
["Exterior Recessed Canister Downlight LED",50,25000,"T8_3ft","Exterior Recessed Canister Downlight LED from T8_3ft",25,null,"Exterior LED fixture"]
["Exterior Recessed Canister Downlight LED",50,25000,"T8_4ft","Exterior Recessed Canister Downlight LED from T8_4ft",25,null,"Exterior LED fixture"]
["Exterior Recessed Canister Downlight LED",50,25000,"T8_5ft","Exterior Recessed Canister Downlight LED from T8_5ft",25,null,"Exterior LED fixture"]
["Exterior Recessed Canister Downlight LED",50,25000,"T8_6ft","Exterior Recessed Canister Downlight LED from T8_6ft",25,null,"Exterior LED fixture"]
["Exterior Recessed Canister Downlight LED",50,25000,"T8_8ft","Exterior Recessed Canister Downlight LED from T8_8ft",25,null,"Exterior LED fixture"]
["Exterior Recessed Canister Downlight LED",50,25000,"T12_U_bent","Exterior Recessed Canister Downlight LED from T12_U_bent",25,null,"Exterior LED fixture"]
["Exterior Recessed Canister Downlight LED",50,25000,"T12_2or3ft","Exterior Recessed Canister Downlight LED from T12_2or3ft",25,null,"Exterior LED fixture"]
["Exterior Recessed Canister Downlight LED",50,25000,"T12_4ft","Exterior Recessed Canister Downlight LED from T12_4ft",25,null,"Exterior LED fixture"]
["Exterior Recessed Canister Downlight LED",50,25000,"T12_5ft","Exterior Recessed Canister Downlight LED from T12_5ft",25,null,"Exterior LED fixture"]
["Exterior Recessed Canister Downlight LED",50,25000,"T12_6ft","Exterior Recessed Canister Downlight LED from T12_6ft",25,null,"Exterior LED fixture"]
["Exterior Recessed Canister Downlight LED",50,25000,"T12_8ft","Exterior Recessed Canister Downlight LED from T12_8ft",25,null,"Exterior LED fixture"]
["Exterior Recessed Canister Downlight LED",50,25000,"T5_4ft","Exterior Recessed Canister Downlight LED from T5_4ft",25,null,"Exterior LED fixture"]
["Exterior Recessed Canister Downlight LED",50,25000,"T5_3ft","Exterior Recessed Canister Downlight LED from T5_3ft",25,null,"Exterior LED fixture"]
["Exterior Recessed Canister Downlight LED",50,25000,"T5_2ft","Exterior Recessed Canister Downlight LED from T5_2ft",25,null,"Exterior LED fixture"]
["Exterior Recessed Canister Downlight LED",50,25000,"HID","Exterior Recessed Canister Downlight LED from HID",25,null,"Exterior LED fixture"]
["Exterior Recessed Canister Downlight LED",50,25000,"INCAN","Exterior Recessed Canister Downlight LED from INCAN",25,null,"Exterior LED fixture",49]
["Exterior Recessed Canister Downlight LED",50,25000,"CFL","Exterior Recessed Canister Downlight LED from CFL",25,null,"Exterior LED fixture",49]
["Exterior Recessed Canister Downlight LED",50,25000,"OTHER","Exterior Recessed Canister Downlight LED from OTHER",25,null,"Exterior LED fixture"]
["Exterior LED fixture, 20W or less",35,55186,"T8_2ft","Exterior LED fixture, 20W or less from T8_2ft",30,null,"Exterior LED fixture",62]
["Exterior LED fixture, 20W or less",35,55186,"T8_U_bent","Exterior LED fixture, 20W or less from T8_U_bent",30,null,"Exterior LED fixture",62]
["Exterior LED fixture, 20W or less",35,55186,"T8_3ft","Exterior LED fixture, 20W or less from T8_3ft",30,null,"Exterior LED fixture",62]
["Exterior LED fixture, 20W or less",35,55186,"T8_4ft","Exterior LED fixture, 20W or less from T8_4ft",30,null,"Exterior LED fixture",62]
["Exterior LED fixture, 20W or less",35,55186,"T8_5ft","Exterior LED fixture, 20W or less from T8_5ft",30,null,"Exterior LED fixture",62]
["Exterior LED fixture, 20W or less",35,55186,"T8_6ft","Exterior LED fixture, 20W or less from T8_6ft",30,null,"Exterior LED fixture",62]
["Exterior LED fixture, 20W or less",35,55186,"T8_8ft","Exterior LED fixture, 20W or less from T8_8ft",30,null,"Exterior LED fixture",62]
["Exterior LED fixture, 20W or less",35,55186,"T12_U_bent","Exterior LED fixture, 20W or less from T12_U_bent",30,null,"Exterior LED fixture",62]
["Exterior LED fixture, 20W or less",35,55186,"T12_2or3ft","Exterior LED fixture, 20W or less from T12_2or3ft",30,null,"Exterior LED fixture",62]
["Exterior LED fixture, 20W or less",35,55186,"T12_4ft","Exterior LED fixture, 20W or less from T12_4ft",30,null,"Exterior LED fixture",62]
["Exterior LED fixture, 20W or less",35,55186,"T12_5ft","Exterior LED fixture, 20W or less from T12_5ft",30,null,"Exterior LED fixture",62]
["Exterior LED fixture, 20W or less",35,55186,"T12_6ft","Exterior LED fixture, 20W or less from T12_6ft",30,null,"Exterior LED fixture",62]
["Exterior LED fixture, 20W or less",35,55186,"T12_8ft","Exterior LED fixture, 20W or less from T12_8ft",30,null,"Exterior LED fixture",62]
["Exterior LED fixture, 20W or less",35,55186,"T5_4ft","Exterior LED fixture, 20W or less from T5_4ft",30,null,"Exterior LED fixture",62]
["Exterior LED fixture, 20W or less",35,55186,"T5_3ft","Exterior LED fixture, 20W or less from T5_3ft",30,null,"Exterior LED fixture",62]
["Exterior LED fixture, 20W or less",35,55186,"T5_2ft","Exterior LED fixture, 20W or less from T5_2ft",30,null,"Exterior LED fixture",62]
["Exterior LED fixture, 20W or less",35,55186,"HID","Exterior LED fixture, 20W or less from HID",30,null,"Exterior LED fixture",62]
["Exterior LED fixture, 20W or less",35,55186,"INCAN","Exterior LED fixture, 20W or less from INCAN",30,null,"Exterior LED fixture",62]
["Exterior LED fixture, 20W or less",35,55186,"CFL","Exterior LED fixture, 20W or less from CFL",30,null,"Exterior LED fixture",62]
["Exterior LED fixture, 20W or less",35,55186,"SIGN","Exterior LED fixture, 20W or less from SIGN",30,null,"Exterior LED fixture",62]
["Exterior LED fixture, 20W or less",35,55186,"OTHER","Exterior LED fixture, 20W or less from OTHER",30,null,"Exterior LED fixture",62]
["Exterior LED fixture, 21-40W ",35,55186,"T8_2ft","Exterior LED fixture, 21-40W  from T8_2ft",60,null,"Exterior LED fixture",62]
["Exterior LED fixture, 21-40W ",35,55186,"T8_U_bent","Exterior LED fixture, 21-40W  from T8_U_bent",60,null,"Exterior LED fixture",62]
["Exterior LED fixture, 21-40W ",35,55186,"T8_3ft","Exterior LED fixture, 21-40W  from T8_3ft",60,null,"Exterior LED fixture",62]
["Exterior LED fixture, 21-40W ",35,55186,"T8_4ft","Exterior LED fixture, 21-40W  from T8_4ft",60,null,"Exterior LED fixture",62]
["Exterior LED fixture, 21-40W ",35,55186,"T8_5ft","Exterior LED fixture, 21-40W  from T8_5ft",60,null,"Exterior LED fixture",62]
["Exterior LED fixture, 21-40W ",35,55186,"T8_6ft","Exterior LED fixture, 21-40W  from T8_6ft",60,null,"Exterior LED fixture",62]
["Exterior LED fixture, 21-40W ",35,55186,"T8_8ft","Exterior LED fixture, 21-40W  from T8_8ft",60,null,"Exterior LED fixture",62]
["Exterior LED fixture, 21-40W ",35,55186,"T12_U_bent","Exterior LED fixture, 21-40W  from T12_U_bent",60,null,"Exterior LED fixture",62]
["Exterior LED fixture, 21-40W ",35,55186,"T12_2or3ft","Exterior LED fixture, 21-40W  from T12_2or3ft",60,null,"Exterior LED fixture",62]
["Exterior LED fixture, 21-40W ",35,55186,"T12_4ft","Exterior LED fixture, 21-40W  from T12_4ft",60,null,"Exterior LED fixture",62]
["Exterior LED fixture, 21-40W ",35,55186,"T12_5ft","Exterior LED fixture, 21-40W  from T12_5ft",60,null,"Exterior LED fixture",62]
["Exterior LED fixture, 21-40W ",35,55186,"T12_6ft","Exterior LED fixture, 21-40W  from T12_6ft",60,null,"Exterior LED fixture",62]
["Exterior LED fixture, 21-40W ",35,55186,"T12_8ft","Exterior LED fixture, 21-40W  from T12_8ft",60,null,"Exterior LED fixture",62]
["Exterior LED fixture, 21-40W ",35,55186,"T5_4ft","Exterior LED fixture, 21-40W  from T5_4ft",60,null,"Exterior LED fixture",62]
["Exterior LED fixture, 21-40W ",35,55186,"T5_3ft","Exterior LED fixture, 21-40W  from T5_3ft",60,null,"Exterior LED fixture",62]
["Exterior LED fixture, 21-40W ",35,55186,"T5_2ft","Exterior LED fixture, 21-40W  from T5_2ft",60,null,"Exterior LED fixture",62]
["Exterior LED fixture, 21-40W ",35,55186,"HID","Exterior LED fixture, 21-40W  from HID",60,null,"Exterior LED fixture",62]
["Exterior LED fixture, 21-40W ",35,55186,"INCAN","Exterior LED fixture, 21-40W  from INCAN",60,null,"Exterior LED fixture",62]
["Exterior LED fixture, 21-40W ",35,55186,"CFL","Exterior LED fixture, 21-40W  from CFL",60,null,"Exterior LED fixture",62]
["Exterior LED fixture, 21-40W ",35,55186,"SIGN","Exterior LED fixture, 21-40W  from SIGN",60,null,"Exterior LED fixture",62]
["Exterior LED fixture, 21-40W ",35,55186,"OTHER","Exterior LED fixture, 21-40W  from OTHER",60,null,"Exterior LED fixture",62]
["Exterior LED fixture, 41-90W ",45,55186,"T8_2ft","Exterior LED fixture, 41-90W  from T8_2ft",90,null,"Exterior LED fixture",62]
["Exterior LED fixture, 41-90W ",45,55186,"T8_U_bent","Exterior LED fixture, 41-90W  from T8_U_bent",90,null,"Exterior LED fixture",62]
["Exterior LED fixture, 41-90W ",45,55186,"T8_3ft","Exterior LED fixture, 41-90W  from T8_3ft",90,null,"Exterior LED fixture",62]
["Exterior LED fixture, 41-90W ",45,55186,"T8_4ft","Exterior LED fixture, 41-90W  from T8_4ft",90,null,"Exterior LED fixture",62]
["Exterior LED fixture, 41-90W ",45,55186,"T8_5ft","Exterior LED fixture, 41-90W  from T8_5ft",90,null,"Exterior LED fixture",62]
["Exterior LED fixture, 41-90W ",45,55186,"T8_6ft","Exterior LED fixture, 41-90W  from T8_6ft",90,null,"Exterior LED fixture",62]
["Exterior LED fixture, 41-90W ",45,55186,"T8_8ft","Exterior LED fixture, 41-90W  from T8_8ft",90,null,"Exterior LED fixture",62]
["Exterior LED fixture, 41-90W ",45,55186,"T12_U_bent","Exterior LED fixture, 41-90W  from T12_U_bent",90,null,"Exterior LED fixture",62]
["Exterior LED fixture, 41-90W ",45,55186,"T12_2or3ft",{"$f":"CONCATENATE(A711, \" from \", D711)","v":"Exterior LED fixture, 41-90W  from T12_2or3ft"},90,null,"Exterior LED fixture",62]
["Exterior LED fixture, 41-90W ",45,55186,"T12_4ft","Exterior LED fixture, 41-90W  from T12_4ft",90,null,"Exterior LED fixture",62]
["Exterior LED fixture, 41-90W ",45,55186,"T12_5ft","Exterior LED fixture, 41-90W  from T12_5ft",90,null,"Exterior LED fixture",62]
["Exterior LED fixture, 41-90W ",45,55186,"T12_6ft","Exterior LED fixture, 41-90W  from T12_6ft",90,null,"Exterior LED fixture",62]
["Exterior LED fixture, 41-90W ",45,55186,"T12_8ft","Exterior LED fixture, 41-90W  from T12_8ft",90,null,"Exterior LED fixture",62]
["Exterior LED fixture, 41-90W ",45,55186,"T5_4ft","Exterior LED fixture, 41-90W  from T5_4ft",90,null,"Exterior LED fixture",62]
["Exterior LED fixture, 41-90W ",45,55186,"T5_3ft","Exterior LED fixture, 41-90W  from T5_3ft",90,null,"Exterior LED fixture",62]
["Exterior LED fixture, 41-90W ",45,55186,"T5_2ft","Exterior LED fixture, 41-90W  from T5_2ft",90,null,"Exterior LED fixture",62]
["Exterior LED fixture, 41-90W ",45,55186,"HID","Exterior LED fixture, 41-90W  from HID",90,null,"Exterior LED fixture",62]
["Exterior LED fixture, 41-90W ",45,55186,"INCAN","Exterior LED fixture, 41-90W  from INCAN",90,null,"Exterior LED fixture",62]
["Exterior LED fixture, 41-90W ",45,55186,"CFL","Exterior LED fixture, 41-90W  from CFL",90,null,"Exterior LED fixture",62]
["Exterior LED fixture, 41-90W ",45,55186,"SIGN","Exterior LED fixture, 41-90W  from SIGN",90,null,"Exterior LED fixture",62]
["Exterior LED fixture, 41-90W ",45,55186,"OTHER","Exterior LED fixture, 41-90W  from OTHER",90,null,"Exterior LED fixture",62]
["Exterior LED fixture, 91-140W ",55,55186,"T8_2ft","Exterior LED fixture, 91-140W  from T8_2ft",200,null,"Exterior LED fixture",62]
["Exterior LED fixture, 91-140W ",55,55186,"T8_U_bent","Exterior LED fixture, 91-140W  from T8_U_bent",200,null,"Exterior LED fixture",62]
["Exterior LED fixture, 91-140W ",55,55186,"T8_3ft","Exterior LED fixture, 91-140W  from T8_3ft",200,null,"Exterior LED fixture",62]
["Exterior LED fixture, 91-140W ",55,55186,"T8_4ft","Exterior LED fixture, 91-140W  from T8_4ft",200,null,"Exterior LED fixture",62]
["Exterior LED fixture, 91-140W ",55,55186,"T8_5ft","Exterior LED fixture, 91-140W  from T8_5ft",200,null,"Exterior LED fixture",62]
["Exterior LED fixture, 91-140W ",55,55186,"T8_6ft","Exterior LED fixture, 91-140W  from T8_6ft",200,null,"Exterior LED fixture",62]
["Exterior LED fixture, 91-140W ",55,55186,"T8_8ft","Exterior LED fixture, 91-140W  from T8_8ft",200,null,"Exterior LED fixture",62]
["Exterior LED fixture, 91-140W ",55,55186,"T12_U_bent","Exterior LED fixture, 91-140W  from T12_U_bent",200,null,"Exterior LED fixture",62]
["Exterior LED fixture, 91-140W ",55,55186,"T12_2or3ft","Exterior LED fixture, 91-140W  from T12_2or3ft",200,null,"Exterior LED fixture",62]
["Exterior LED fixture, 91-140W ",55,55186,"T12_4ft","Exterior LED fixture, 91-140W  from T12_4ft",200,null,"Exterior LED fixture",62]
["Exterior LED fixture, 91-140W ",55,55186,"T12_5ft","Exterior LED fixture, 91-140W  from T12_5ft",200,null,"Exterior LED fixture",62]
["Exterior LED fixture, 91-140W ",55,55186,"T12_6ft","Exterior LED fixture, 91-140W  from T12_6ft",200,null,"Exterior LED fixture",62]
["Exterior LED fixture, 91-140W ",55,55186,"T12_8ft","Exterior LED fixture, 91-140W  from T12_8ft",200,null,"Exterior LED fixture",62]
["Exterior LED fixture, 91-140W ",55,55186,"T5_4ft","Exterior LED fixture, 91-140W  from T5_4ft",200,null,"Exterior LED fixture",62]
["Exterior LED fixture, 91-140W ",55,55186,"T5_3ft","Exterior LED fixture, 91-140W  from T5_3ft",200,null,"Exterior LED fixture",62]
["Exterior LED fixture, 91-140W ",55,55186,"T5_2ft","Exterior LED fixture, 91-140W  from T5_2ft",200,null,"Exterior LED fixture",62]
["Exterior LED fixture, 91-140W ",55,55186,"HID","Exterior LED fixture, 91-140W  from HID",200,null,"Exterior LED fixture",62]
["Exterior LED fixture, 91-140W ",55,55186,"INCAN","Exterior LED fixture, 91-140W  from INCAN",200,null,"Exterior LED fixture",62]
["Exterior LED fixture, 91-140W ",55,55186,"CFL","Exterior LED fixture, 91-140W  from CFL",200,null,"Exterior LED fixture",62]
["Exterior LED fixture, 91-140W ",55,55186,"SIGN","Exterior LED fixture, 91-140W  from SIGN",200,null,"Exterior LED fixture",62]
["Exterior LED fixture, 91-140W ",55,55186,"OTHER","Exterior LED fixture, 91-140W  from OTHER",200,null,"Exterior LED fixture",62]
["Exterior LED fixture, 141-299W ",75,59368,"T8_2ft","Exterior LED fixture, 141-299W  from T8_2ft",225,null,"Exterior LED fixture",62]
["Exterior LED fixture, 141-299W ",75,59368,"T8_U_bent","Exterior LED fixture, 141-299W  from T8_U_bent",225,null,"Exterior LED fixture",62]
["Exterior LED fixture, 141-299W ",75,59368,"T8_3ft","Exterior LED fixture, 141-299W  from T8_3ft",225,null,"Exterior LED fixture",62]
["Exterior LED fixture, 141-299W ",75,59368,"T8_4ft","Exterior LED fixture, 141-299W  from T8_4ft",225,null,"Exterior LED fixture",62]
["Exterior LED fixture, 141-299W ",75,59368,"T8_5ft","Exterior LED fixture, 141-299W  from T8_5ft",225,null,"Exterior LED fixture",62]
["Exterior LED fixture, 141-299W ",75,59368,"T8_6ft","Exterior LED fixture, 141-299W  from T8_6ft",225,null,"Exterior LED fixture",62]
["Exterior LED fixture, 141-299W ",75,59368,"T8_8ft","Exterior LED fixture, 141-299W  from T8_8ft",225,null,"Exterior LED fixture",62]
["Exterior LED fixture, 141-299W ",75,59368,"T12_U_bent","Exterior LED fixture, 141-299W  from T12_U_bent",225,null,"Exterior LED fixture",62]
["Exterior LED fixture, 141-299W ",75,59368,"T12_2or3ft","Exterior LED fixture, 141-299W  from T12_2or3ft",225,null,"Exterior LED fixture",62]
["Exterior LED fixture, 141-299W ",75,59368,"T12_4ft","Exterior LED fixture, 141-299W  from T12_4ft",225,null,"Exterior LED fixture",62]
["Exterior LED fixture, 141-299W ",75,59368,"T12_5ft","Exterior LED fixture, 141-299W  from T12_5ft",225,null,"Exterior LED fixture",62]
["Exterior LED fixture, 141-299W ",75,59368,"T12_6ft","Exterior LED fixture, 141-299W  from T12_6ft",225,null,"Exterior LED fixture",62]
["Exterior LED fixture, 141-299W ",75,59368,"T12_8ft","Exterior LED fixture, 141-299W  from T12_8ft",225,null,"Exterior LED fixture",62]
["Exterior LED fixture, 141-299W ",75,59368,"T5_4ft","Exterior LED fixture, 141-299W  from T5_4ft",225,null,"Exterior LED fixture",62]
["Exterior LED fixture, 141-299W ",75,59368,"T5_3ft","Exterior LED fixture, 141-299W  from T5_3ft",225,null,"Exterior LED fixture",62]
["Exterior LED fixture, 141-299W ",75,59368,"T5_2ft","Exterior LED fixture, 141-299W  from T5_2ft",225,null,"Exterior LED fixture",62]
["Exterior LED fixture, 141-299W ",75,59368,"HID","Exterior LED fixture, 141-299W  from HID",225,null,"Exterior LED fixture",62]
["Exterior LED fixture, 141-299W ",75,59368,"INCAN","Exterior LED fixture, 141-299W  from INCAN",225,null,"Exterior LED fixture",62]
["Exterior LED fixture, 141-299W ",75,59368,"CFL","Exterior LED fixture, 141-299W  from CFL",225,null,"Exterior LED fixture",62]
["Exterior LED fixture, 141-299W ",75,59368,"SIGN","Exterior LED fixture, 141-299W  from SIGN",225,null,"Exterior LED fixture",62]
["Exterior LED fixture, 141-299W ",75,59368,"OTHER","Exterior LED fixture, 141-299W  from OTHER",225,null,"Exterior LED fixture",62]
["Exterior LED fixture, 300W or greater",85,59368,"T8_2ft","Exterior LED fixture, 300W or greater from T8_2ft",350,null,"Exterior LED fixture",62]
["Exterior LED fixture, 300W or greater",85,59368,"T8_U_bent","Exterior LED fixture, 300W or greater from T8_U_bent",350,null,"Exterior LED fixture",62]
["Exterior LED fixture, 300W or greater",85,59368,"T8_3ft","Exterior LED fixture, 300W or greater from T8_3ft",350,null,"Exterior LED fixture",62]
["Exterior LED fixture, 300W or greater",85,59368,"T8_4ft","Exterior LED fixture, 300W or greater from T8_4ft",350,null,"Exterior LED fixture",62]
["Exterior LED fixture, 300W or greater",85,59368,"T8_5ft","Exterior LED fixture, 300W or greater from T8_5ft",350,null,"Exterior LED fixture",62]
["Exterior LED fixture, 300W or greater",85,59368,"T8_6ft","Exterior LED fixture, 300W or greater from T8_6ft",350,null,"Exterior LED fixture",62]
["Exterior LED fixture, 300W or greater",85,59368,"T8_8ft","Exterior LED fixture, 300W or greater from T8_8ft",350,null,"Exterior LED fixture",62]
["Exterior LED fixture, 300W or greater",85,59368,"T12_U_bent","Exterior LED fixture, 300W or greater from T12_U_bent",350,null,"Exterior LED fixture",62]
["Exterior LED fixture, 300W or greater",85,59368,"T12_2or3ft","Exterior LED fixture, 300W or greater from T12_2or3ft",350,null,"Exterior LED fixture",62]
["Exterior LED fixture, 300W or greater",85,59368,"T12_4ft","Exterior LED fixture, 300W or greater from T12_4ft",350,null,"Exterior LED fixture",62]
["Exterior LED fixture, 300W or greater",85,59368,"T12_5ft","Exterior LED fixture, 300W or greater from T12_5ft",350,null,"Exterior LED fixture",62]
["Exterior LED fixture, 300W or greater",85,59368,"T12_6ft","Exterior LED fixture, 300W or greater from T12_6ft",350,null,"Exterior LED fixture",62]
["Exterior LED fixture, 300W or greater",85,59368,"T12_8ft","Exterior LED fixture, 300W or greater from T12_8ft",350,null,"Exterior LED fixture",62]
["Exterior LED fixture, 300W or greater",85,59368,"T5_4ft","Exterior LED fixture, 300W or greater from T5_4ft",350,null,"Exterior LED fixture",62]
["Exterior LED fixture, 300W or greater",85,59368,"T5_3ft","Exterior LED fixture, 300W or greater from T5_3ft",350,null,"Exterior LED fixture",62]
["Exterior LED fixture, 300W or greater",85,59368,"T5_2ft","Exterior LED fixture, 300W or greater from T5_2ft",350,null,"Exterior LED fixture",62]
["Exterior LED fixture, 300W or greater",85,59368,"HID","Exterior LED fixture, 300W or greater from HID",350,null,"Exterior LED fixture",62]
["Exterior LED fixture, 300W or greater",85,59368,"INCAN","Exterior LED fixture, 300W or greater from INCAN",350,null,"Exterior LED fixture",62]
["Exterior LED fixture, 300W or greater",85,59368,"CFL",{"$f":"CONCATENATE(A784, \" from \", D784)","v":"Exterior LED fixture, 300W or greater from CFL"},350,null,"Exterior LED fixture",62]
["Exterior LED fixture, 300W or greater",85,59368,"SIGN",{"$f":"CONCATENATE(A785, \" from \", D785)","v":"Exterior LED fixture, 300W or greater from SIGN"},350,null,"Exterior LED fixture",62]
["Exterior LED fixture, 300W or greater",85,59368,"OTHER",{"$f":"CONCATENATE(A786, \" from \", D786)","v":"Exterior LED fixture, 300W or greater from OTHER"},350,null,"Exterior LED fixture",62]
["HID to LED Screw-in, 40W or less",40,50000,"HID",{"$f":"CONCATENATE(A787,\" from \",D787)","v":"HID to LED Screw-in, 40W or less from HID"},35,null,"HID replacement screw-in LED lamp",33]
["HID to LED Screw-in, 41-100W",60,50000,"HID",{"$f":"CONCATENATE(A788,\" from \",D788)","v":"HID to LED Screw-in, 41-100W from HID"},50,null,"HID replacement screw-in LED lamp",33]
["HID to LED Screw-in, 101-160W",70,50000,"HID",{"$f":"CONCATENATE(A789,\" from \",D789)","v":"HID to LED Screw-in, 101-160W from HID"},55,null,"HID replacement screw-in LED lamp",33]
["HID to LED Screw-in, 161W or greater",80,50000,"HID",{"$f":"CONCATENATE(A790,\" from \",D790)","v":"HID to LED Screw-in, 161W or greater from HID"},80,null,"HID replacement screw-in LED lamp",33]
["CFL to pin base LED",28,25000,"CFL",{"$f":"CONCATENATE(A791, \" from \", D791)","v":"CFL to pin base LED from CFL"},0,null,"Light Emitting Diode (LED) Lighting Products (Interior Fixtures - Ambient/Task lighting)",49]
["CFL to pin base LED",28,25000,"CFL","CFL to pin base LED from CFL",0,null,"Light Emitting Diode (LED) Lighting Products (Interior Fixtures - Ambient/Task lighting)",49]
["LED A-Lamp",28,15000,"INCAN","LED A-Lamp from INCAN",null,null,"Light Emitting Diode (LED) Lighting Products (Interior Fixtures - Ambient/Task lighting)",49]
["LED A-Lamp",28,15000,"CFL","LED A-Lamp from CFL",null,null,"Light Emitting Diode (LED) Lighting Products (Interior Fixtures - Ambient/Task lighting)",49]
["LED globe screw-in lamp",28,15000,"INCAN","LED globe screw-in lamp from INCAN",null,null,"Light Emitting Diode (LED) Lighting Products (Interior Fixtures - Ambient/Task lighting)",49]
["LED globe screw-in lamp",28,15000,"CFL","LED globe screw-in lamp from CFL",null,null,"Light Emitting Diode (LED) Lighting Products (Interior Fixtures - Ambient/Task lighting)",49]
["LED lamp <20W (PAR/R/MR)",68,25000,"INCAN","LED lamp <20W (PAR/R/MR) from INCAN",null,null,"Light Emitting Diode (LED) Lighting Products (Interior Fixtures - Ambient/Task lighting)",49]
["LED lamp <20W (PAR/R/MR)",68,25000,"CFL","LED lamp <20W (PAR/R/MR) from CFL",null,null,"Light Emitting Diode (LED) Lighting Products (Interior Fixtures - Ambient/Task lighting)",49]
["LED lamp 20W or greater (PAR/R/MR)",78,25000,"INCAN","LED lamp 20W or greater (PAR/R/MR) from INCAN",null,null,"Light Emitting Diode (LED) Lighting Products (Interior Fixtures - Ambient/Task lighting)",49]
["LED lamp 20W or greater (PAR/R/MR)",78,25000,"CFL","LED lamp 20W or greater (PAR/R/MR) from CFL",null,null,"Light Emitting Diode (LED) Lighting Products (Interior Fixtures - Ambient/Task lighting)",49]
["LED Screw-in Lamp 3W or less",10,15000,"INCAN","LED Screw-in Lamp 3W or less from INCAN",null,null,"Light Emitting Diode (LED) Lighting Products (Interior Fixtures - Ambient/Task lighting)",49]
["LED small screw-base candelabra lamp",10,15000,"CFL","LED small screw-base candelabra lamp from CFL",null,null,"Light Emitting Diode (LED) Lighting Products (Interior Fixtures - Ambient/Task lighting)",49]
["LED Street Lighting replacing 70W HID",null,null,"HPS70","LED Street Lighting replacing 70W HID from HPS70",45,null,"Street Lighting",38]
["LED Street Lighting replacing 70W HID",null,null,"MV75","LED Street Lighting replacing 70W HID from MV75",45,null,"Street Lighting",38]
["LED Street Lighting replacing 70W HID",null,null,"MH70","LED Street Lighting replacing 70W HID from MH70",45,null,"Street Lighting",38]
["LED Street Lighting replacing 100W HID",null,null,"HPS100","LED Street Lighting replacing 100W HID from HPS100",45,null,"Street Lighting",38]
["LED Street Lighting replacing 100W HID",null,null,"MV100",{"$f":"CONCATENATE(A807, \" from \", D807)","v":"LED Street Lighting replacing 100W HID from MV100"},45,null,"Street Lighting",38]
["LED Street Lighting replacing 100W HID",null,null,"MH100","LED Street Lighting replacing 100W HID from MH100",45,null,"Street Lighting",38]
["LED Street Lighting replacing 150W HID",null,null,"MH150",{"$f":"CONCATENATE(A809, \" from \", D809)","v":"LED Street Lighting replacing 150W HID from MH150"},55,null,"Street Lighting",38]
["LED Street Lighting replacing 150W HID",null,null,"HPS150","LED Street Lighting replacing 150W HID from HPS150",55,null,"Street Lighting",38]
["LED Street Lighting replacing 175W HID",null,null,"MV175","LED Street Lighting replacing 175W HID from MV175",55,null,"Street Lighting",38]
["LED Street Lighting replacing 175W HID",null,null,"MH150",{"$f":"CONCATENATE(A812, \" from \", D812)","v":"LED Street Lighting replacing 175W HID from MH150"},55,null,"Street Lighting",38]
["LED Street Lighting replacing 175W HID",null,null,"MH175","LED Street Lighting replacing 175W HID from MH175",55,null,"Street Lighting",38]
["LED Street Lighting replacing 200W HID",null,null,"HPS200","LED Street Lighting replacing 200W HID from HPS200",75,null,"Street Lighting",38]
["LED Street Lighting replacing 250W HID",null,null,"HPS250","LED Street Lighting replacing 250W HID from HPS250",120,null,"Street Lighting",38]
["LED Street Lighting replacing 250W HID",null,null,"MV250","LED Street Lighting replacing 250W HID from MV250",120,null,"Street Lighting",38]
["LED Street Lighting replacing 250W HID",null,null,"MH250","LED Street Lighting replacing 250W HID from MH250",120,null,"Street Lighting",38]
["LED Street Lighting replacing 310W HID",null,null,"HPS310","LED Street Lighting replacing 310W HID from HPS310",120,null,"Street Lighting",38]
["LED Street Lighting replacing 350W HID",null,null,"PSMH320","LED Street Lighting replacing 350W HID from PSMH320",120,null,"Street Lighting",38]
["LED Street Lighting replacing 350W HID",null,null,"PSMH350","LED Street Lighting replacing 350W HID from PSMH350",120,null,"Street Lighting",38]
["LED Street Lighting replacing 400W HID",null,null,"HPS400","LED Street Lighting replacing 400W HID from HPS400",120,null,"Street Lighting",38]
["LED Street Lighting replacing 400W HID",null,null,"MV400","LED Street Lighting replacing 400W HID from MV400",120,null,"Street Lighting",38]
["LED Street Lighting replacing 400W HID",null,null,"MH400","LED Street Lighting replacing 400W HID from MH400",120,null,"Street Lighting",38]
["LED Street Lighting replacing 750W HID",null,null,"HPS750","LED Street Lighting replacing 750W HID from HPS750",300,null,"Street Lighting",38]
["LED Street Lighting replacing 750W HID",null,null,"MV750","LED Street Lighting replacing 750W HID from MV750",300,null,"Street Lighting",38]
["LED Street Lighting replacing 750W HID",null,null,"MH750","LED Street Lighting replacing 750W HID from MH750",300,null,"Street Lighting",38]
["LED Street Lighting replacing 1000W HID",null,null,"HPS1000","LED Street Lighting replacing 1000W HID from HPS1000",300,null,"Street Lighting",38]
["LED Street Lighting replacing 1000W HID",null,null,"MV1000",{"$f":"CONCATENATE(A828, \" from \", D828)","v":"LED Street Lighting replacing 1000W HID from MV1000"},300,null,"Street Lighting",38]
["LED Street Lighting replacing 1000W HID",null,null,"MH1000",{"$f":"CONCATENATE(A829, \" from \", D829)","v":"LED Street Lighting replacing 1000W HID from MH1000"},300,null,"Street Lighting",38]
["LED Street Lighting replacing 1500W HID",null,null,"HPS1500",{"$f":"CONCATENATE(A830, \" from \", D830)","v":"LED Street Lighting replacing 1500W HID from HPS1500"},350,null,"Street Lighting",38]
["LED Street Lighting replacing 1500W HID",null,null,"MV1500",{"$f":"CONCATENATE(A831, \" from \", D831)","v":"LED Street Lighting replacing 1500W HID from MV1500"},350,null,"Street Lighting",38]
["LED Street Lighting replacing 1500W HID",null,null,"MH1500","LED Street Lighting replacing 1500W HID from MH1500",350,null,"Street Lighting",38]

{"sheet":"Incentive Existing","index":9,"n_rows":285,"n_cols":12,"rows_kept":285,"cut":false,"hidden":true,"merged":[]}
["Existing Equipment"]
["Note: All T12 Fluorescent fixtures assume energy efficient lamp and stand. mag ballasts",null,null,null,null,null,null,"** used to udpate the v2018.1 - referenced in MAD 8 "]
["DESCRIPTION FROM LIGHTING TOOL","LAMP COST","OPERATIONAL LIFE","RQRMT CODE",null,null,null,"Table 2: Incumbent Lamp and Ballast Costs - RTF 2017"]
["T8_U_bent",4.4000000000000004,24000,"T8_U_bent",null,null,null,"Commercial Sector Submarkets ",null,"Lamp Life (1,000 hr) ","Lamp Price ($) ","Ballast Price ($) "]
["T8_2ft",5.4,20000,"T8_2ft",null,null,null,"Linear Fixtures"]
["T8_3ft",5.4,20000,"T8_3ft",null,null,null,"T12 <4ft",null,15,3,17]
["T8_4ft",4.4000000000000004,20000,"T8_4ft",null,null,null,"T8 <4ft",null,20,5.4,18]
["T8_5ft",7,24000,"T8_5ft",null,null,null,"T5 <4ft",null,30,6.2,22]
["T8_6ft",7,24000,"T8_6ft",null,null,null,"T12 4ft",null,20,2.5,17]
["T8_8ft",7,24000,"T8_8ft",null,null,null,"T8 4ft",null,24,4.4000000000000004,18]
["T12_U_bent",2.5,20000,"T12_U_bent",null,null,null,"T5 4ft",null,30,6.2,22]
["T12_2or3ft",3,15000,"T12_2or3ft",null,null,null,"T12 >4ft",null,12,5.7,19]
["T12_4ft",2.5,20000,"T12_4ft",null,null,null,"T8 >4ft",null,24,7,22]
["T12_8ft",5.7,12000,"T12_8ft"]
["T12_5ft",5.7,12000,"T12_5ft"]
["T12_6ft",5.7,12000,"T12_6ft"]
["T5_4ft",6.2,30000,"T5_4ft"]
["T5_3ft",6.2,30000,"T5_3ft"]
["T5_2ft",6.2,30000,"T5_2ft"]
["HID",null,null,"HID"]
["INCAN",null,null,"INCAN"]
["CFL",null,null,"CFL"]
["SIGN",null,null,"SIGN"]
["OTHER",null,null,"OTHER"]
["CASE",null,null,"CASE"]
["2' T8 17W",3,15000,"RL-2817","For T8 and TLED","length_type_watt"]
["2' T5 14W",3,15000,"RL-2514"]
["2' T5HO 24W",3,15000,"RL-2524"]
["4' T8 32W",4.4000000000000004,24000,"RL-4832","For T8 and TLED"]
["4' T8 28W",4.4000000000000004,24000,"RL-4828","For T8 and TLED"]
["4' T8 25W",4.4000000000000004,24000,"RL-4825","For T8 and TLED"]
["8' T8 59W",7,24000,"RL-8859","TLED ONLY"]
["8' T8HO 86W",7,24000,"RL-8886","TLED ONLY"]
["3' T8 25W",5.4,20000,"RL-3825","TLED ONLY"]
["Ubent T8 32W",4.4000000000000004,24000,"RL-U832","TLED ONLY"]
["Ubent T8 31W",4.4000000000000004,24000,"RL-U831"]
["4' T5 28W",6.2,30000,"RL-4528","For T8 and TLED"]
["4' T5HO 54W",6.2,30000,"RL-4554","For T8 and TLED"]
["4' T8 HO 44W",4.4000000000000004,24000,"RL-4844"]
["3' T5 21W",6.2,30000,"RL-3521","TLED ONLY"]
["3' T5HO 39W",3.2,30000,"RL-3539","TLED ONLY"]
["6' T8 58W",7,24000,"RL-6858"]
["5' T8 40W",7,24000,"RL-5840"]
["Pin-Compact Fluorescent",null,null,"RL-CFL"]
["2', 1 lamp T12",3,20000,"FL-21"]
["2', 1 lamp T8",5.4,20000,"FL-821"]
["2', 2 lamp T12",3,20000,"FL-2212"]
["2', 2 lamp T8",5.4,20000,"FL-228"]
["2', 1 lamp HP T8 (0.85<BF≤1.0)",5.4,35000,"FL-31"]
["2', 1 lamp HP T8 (BF≤0.85)",5.4,35000,"FL-31"]
["2', 1 lamp T8",5.4,20000,"FL-11"]
["2', 2 lamp HP T8 (0.85<BF≤1.0)",5.4,35000,"FL-228"]
["2', 2 lamp HP T8 (BF≤0.85)",5.4,35000,"FL-228"]
["2', 2 lamp T8",5.4,20000,"FL-228"]
["3', 1 lamp T8",5.4,20000,"FL-3"]
["3', 2 lamp T8",5.4,20000,"FL-3"]
["3', 3 lamp T8",5.4,20000,"FL-3"]
["3', 1 lamp T5",5.4,20000,"FL-3"]
["3', 2 lamp T5",5.4,20000,"FL-3"]
["3', 3 lamp T5",5.4,20000,"FL-3"]
["3', 1 lamp T12",3,15000,"FL-3"]
["3', 2 lamp T12",3,15000,"FL-3212"]
["3', 1 lamp T8",5.4,20000,"FL-11"]
["3', 2 lamp HP T8 (0.85<BF≤1.0)",5.4,35000,"FL-328"]
["3', 2 lamp HP T8 (BF≤0.85)",5.4,35000,"FL-328"]
["4', 1 lamp HP T8 (25W, 0.85<BF≤1.0)",4.4000000000000004,35000,"FL-28"]
["4', 1 lamp HP T8 (25W, BF≤0.85)",4.4000000000000004,35000,"FL-28"]
["4', 1 lamp HP T8 (28W, 0.85<BF≤1.0)",4.4000000000000004,35000,"FL-28"]
["4', 1 lamp HP T8 (28W, BF≤0.85)",4.4000000000000004,35000,"FL-28"]
["4', 1 lamp T12",2.5,20000,"FL-4"]
["4', 1 lamp T8 32W",4.4000000000000004,15000,"FL-4T8"]
["4', 2 lamp HP T8 (25W, 0.85<BF≤1.0)",4.4000000000000004,35000,"FL-428"]
["4', 2 lamp HP T8 (25W, BF≤0.85)",4.4000000000000004,35000,"FL-428"]
["4', 2 lamp HP T8 (25W, BF≥1.01)",4.4000000000000004,35000,"FL-428"]
["4', 2 lamp HP T8 (28W, 0.85<BF≤1.0)",4.4000000000000004,35000,"FL-428"]
["4', 2 lamp HP T8 (28W, BF≤0.85)",4.4000000000000004,35000,"FL-428"]
["4', 2 lamp HP T8 (28W, BF≥1.01)",4.4000000000000004,35000,"FL-428"]
["4', 2 lamp T12",2.5,20000,"FL-4212"]
["4', 2 lamp T8 32W",4.4000000000000004,15000,"FL-4T8b"]
["4', 3 lamp HP T8 (25W, 0.85<BF≤1.0)",4.4000000000000004,35000,"FL-438"]
["4', 3 lamp HP T8 (25W, BF≤0.85)",4.4000000000000004,35000,"FL-438"]
["4', 3 lamp HP T8 (25W, BF≥1.01)",4.4000000000000004,35000,"FL-438"]
["4', 3 lamp HP T8 (28W, 0.85<BF≤1.0)",4.4000000000000004,35000,"FL-438"]
["4', 3 lamp HP T8 (28W, BF≤0.85)",4.4000000000000004,35000,"FL-438"]
["4', 3 lamp HP T8 (28W, BF≥1.01)",4.4000000000000004,35000,"FL-438"]
["4', 3 lamp T12",2.5,20000,"FL-4312"]
["4', 3 lamp T8 32W",4.4000000000000004,15000,"FL-4T8c"]
["4', 4 lamp HP T8 (25W, 0.85<BF≤1.0)",4.4000000000000004,35000,"FL-448"]
["4', 4 lamp HP T8 (25W, BF≤0.85)",4.4000000000000004,35000,"FL-448"]
["4', 4 lamp HP T8 (25W, BF≥1.01)",4.4000000000000004,35000,"FL-448"]
["4', 4 lamp HP T8 (28W, 0.85<BF≤1.0)",4.4000000000000004,35000,"FL-448"]
["4', 4 lamp HP T8 (28W, BF≤0.85)",4.4000000000000004,35000,"FL-448"]
["4', 4 lamp HP T8 (28W, BF≥1.01)",4.4000000000000004,35000,"FL-448"]
["4', 4 lamp T12",2.5,20000,"FL-4412"]
["4', 4 lamp T8 32W",4.4000000000000004,15000,"FL-4T8d"]
["4', 6 lamp T8 32W",7,24000,"FL-4T8e"]
["4', 6 lamp HP T8 (0.85<BF≤1.0)",7,24000,"FL-36"]
["4', 6 lamp HP T8 (BF≥1.01)",7,24000,"FL-36"]
["4', 1 lamp 28W T8 (continuous dimming ballast)",4.4000000000000004,24000,"FL-14"]
["4', 1 lamp HP T8 (0.85<BF≤1.0)",4.4000000000000004,24000,"FL-14"]
["4', 1 lamp HP T8 (25W, 0.85<BF≤1.0)",4.4000000000000004,24000,"FL-14"]
["4', 1 lamp HP T8 (25W, BF≤0.85)",4.4000000000000004,24000,"FL-14"]
["4', 1 lamp HP T8 (28W, 0.85<BF≤1.0)",4.4000000000000004,24000,"FL-14"]
["4', 1 lamp HP T8 (28W, BF≤0.85)",4.4000000000000004,24000,"FL-14"]
["4', 1 lamp HP T8 (BF≤0.85)",4.4000000000000004,24000,"FL-14"]
["4', 1 lamp HP T8 (continuous dimming ballast)",4.4000000000000004,24000,"FL-14"]
["4', 1 lamp T8",4.4000000000000004,24000,"FL-11"]
["4', 1 lamp T8 (BF ≤.78)",4.4000000000000004,24000,"FL-11"]
["4', 2 lamp T8",4.4000000000000004,24000,"FL-12"]
["4', 2 lamp T8 (BF ≤.78)",4.4000000000000004,24000,"FL-12"]
["4', 2 lamp T8 (BF ≥1.00)",4.4000000000000004,24000,"FL-12"]
["4', 3 lamp T8",4.4000000000000004,24000,"FL-13"]
["4', 3 lamp T8 (BF ≤.78)",4.4000000000000004,24000,"FL-13"]
["4', 3 lamp T8 (BF ≥1.00)",4.4000000000000004,24000,"FL-13"]
["4', 4 lamp T8",4.4000000000000004,24000,"FL-14"]
["4', 4 lamp T8 (BF ≤.78)",4.4000000000000004,24000,"FL-14"]
["5', 2 lamp T12",5.7,12000,"FL-5212"]
["5', 2 lamp T8",7,24000,"FL-528"]
["6', 2 lamp T12",5.7,12000,"FL-6212"]
["6, 2 lamp T8",7,24000,"FL-628"]
["8', 1 lamp T12",5.7,12000,"FL-8112"]
["8', 1 lamp T12 HO",5.7,12000,"FL-8112"]
["8', 1 lamp T12 VHO",5.7,12000,"FL-8112"]
["8', 1 lamp T8",7,24000,"FL-818"]
["8', 1 lamp T8 (24,000 + hrs)",7,24000,"FL-818"]
["8', 1 lamp T8 HO",7,24000,"FL-818"]
["8', 2 lamp T12",5.7,12000,"FL-8212"]
["8', 2 lamp T12 HO",5.7,12000,"FL-8212"]
["8', 2 lamp T12 VHO",5.7,12000,"FL-828"]
["8', 2 lamp T8",7,24000,"FL-828"]
["8', 2 lamp T8 (24,000 + hrs)",7,24000,"FL-828"]
["8', 2 lamp T8 HO",7,24000,"FL-828"]
["8', 3 lamp T12",5.7,12000,"FL-8312"]
["8', 3 lamp T12 HO",5.7,12000,"FL-8312"]
["8', 3 lamp T12 VHO",5.7,12000,"FL-8312"]
["8', 3 lamp T8",7,24000,"FL-838"]
["8', 3 lamp T8 (24,000 + hrs)",7,24000,"FL-838"]
["8', 3 lamp T8 HO",7,24000,"FL-838"]
["8', 4 lamp T12",5.7,12000,"FL-8412"]
["8', 4 lamp T12 HO",5.7,12000,"FL-8412"]
["8', 4 lamp T12 VHO",5.7,12000,"FL-8412"]
["8', 4 lamp T8",7,24000,"FL-848"]
["8', 4 lamp T8 (24,000 + hrs)",7,24000,"FL-848"]
["8', 4 lamp T8 HO",7,24000,"FL-848"]
["8', 1 lamp T8",7,24000,"FL-11"]
["8', 1 lamp T8 (24,000 + hrs)",7,24000,"FL-21"]
["8', 1 lamp T8 HO",7,24000,"FL-11"]
["8', 2 lamp T8",7,24000,"FL-12"]
["8', 2 lamp T8 (24,000 + hrs)",7,24000,"FL-22"]
["8', 2 lamp T8 HO",7,24000,"FL-12"]
["8', 3 lamp T8",7,24000,"FL-13"]
["8', 3 lamp T8 (24,000 + hrs)",7,24000,"FL-23"]
["8', 3 lamp T8 HO",7,24000,"FL-13"]
["8', 4 lamp T8",7,24000,"FL-14"]
["8', 4 lamp T8 (24,000 + hrs)",7,24000,"FL-24"]
["8', 4 lamp T8 HO",7,24000,"FL-14",null,null,null,"Updating for 2022 Street Lighting"]
["Compact Fluorescent",2,10000,"CFL"]
["High Pressure Sodium, 100 watts",6,10000,"HPS100",null,null,null,"High Pressure Sodium, 35 watts",null,"HID35",0]
["High Pressure Sodium, 1000 watts",23,10000,"HPS1000",null,null,null,"High Pressure Sodium, 50 watts",null,"HID50",0]
["High Pressure Sodium, 150 watts",6,10000,"HPS150",null,null,null,"High Pressure Sodium, 70 watts",null,"HPS70",40]
["High Pressure Sodium, 200 watts",6,10000,"HPS200",null,null,null,"High Pressure Sodium, 100 watts",null,"HPS100",40]
["High Pressure Sodium, 250 watts",7,10000,"HPS250",null,null,null,"High Pressure Sodium, 150 watts",null,"HPS150",50]
["High Pressure Sodium, 35 watts",5,10000,"HID35",null,null,null,"High Pressure Sodium, 200 watts",null,"HPS200",70]
["High Pressure Sodium, 400 watts",8,10000,"HPS400",null,null,null,"High Pressure Sodium, 250 watts",null,"HPS250",100]
["High Pressure Sodium, 50 watts",5,10000,"HID50",null,null,null,"High Pressure Sodium, 400 watts",null,"HPS400",100]
["High Pressure Sodium, 70 watts",5,10000,"HPS70",null,null,null,"High Pressure Sodium, 1000 watts",null,"HPS1000",250]
["High Pressure Sodium, 310 watts",null,null,"HPS310"]
["High Pressure Sodium, 750 watts",null,null,"HPS750"]
["High Pressure Sodium, 1500 watts",null,null,"HPS1500",null,null,null,"Mercury Vapor, 40 watts",null,"HID40",0]
["Incandescent",1,1000,"INCAN",null,null,null,"Mercury Vapor, 50 watts",null,"HID50",0]
["Marquee or Cabinet Sign, per foot",2,12000,"SIGN",null,null,null,"Mercury Vapor, 75 watts",null,"MV75",40]
["Mercury Vapor, 100 watts",6,10000,"MV100",null,null,null,"Mercury Vapor, 100 watts",null,"MV100",40]
["Mercury Vapor, 1000 watts",21,10000,"MV1000",null,null,null,"Mercury Vapor, 175 watts",null,"MV175",50]
["Mercury Vapor, 175 watts",3,10000,"MV175",null,null,null,"Mercury Vapor, 250 watts",null,"MV250",100]
["Mercury Vapor, 250 watts",7,10000,"MV250",null,null,null,"Mercury Vapor, 400 watts",null,"MV400",100]
["Mercury Vapor, 40 watts",17,10000,"HID40",null,null,null,"Mercury Vapor, 1000 watts",null,"MV1000",250]
["Mercury Vapor, 400 watts",10,10000,"MV400",null,null,null,"Metal Halide, 32 watts",null,"HID35",0]
["Mercury Vapor, 50 watts",17,10000,"HID50",null,null,null,"Metal Halide, 50 watts",null,"HID50",0]
["Mercury Vapor, 75 watts",6,10000,"MV75",null,null,null,"Metal Halide, 70 watts",null,"MH70",40]
["Mercury Vapor, 750 watts",null,null,"MV750",null,null,null,"Metal Halide, 100 watts",null,"MH100",40]
["Mercury Vapor, 1500 watts",null,null,"MV1500",null,null,null,"Metal Halide, 150 watts",null,"MH150",50]
["Metal Halide, 100 watts",10,15000,"MH100",null,null,null,"Metal Halide, 175 watts",null,"MH175",50]
["Metal Halide, 1000 watts",19,16000,"MH1000",null,null,null,"Metal Halide, 250 watts",null,"MH250",100]
["Metal Halide, 150 watts",10,15000,"MH150",null,null,null,"Metal Halide, 400 watts",null,"MH400",100]
["Metal Halide, 175 watts",13,15000,"MH175",null,null,null,"Metal Halide, 1000 watts",null,"MH1000",250]
["Metal Halide, 250 watts",18,15000,"MH250"]
["Metal Halide, 32 watts",30,15000,"HID35",null,null,null,"Added per SK (12/2/21)"]
["Metal Halide, 400 watts",15,20000,"MH400",null,null,null,"Metal Halide, 750 watts",null,"MH750",250]
["Metal Halide, 50 watts",10,15000,"HID50",null,null,null,"Metal Halide, 1500 watts",null,"MH1500",300]
["Metal Halide, 70 watts",10,15000,"MH70",null,null,null,"High Pressure Sodium, 310 watts",null,"HPS310",100]
["Metal Halide, 750 watts",null,null,"MH750",null,null,null,"High Pressure Sodium, 750 watts",null,"HPS750",250]
["Metal Halide, 1500 watts",null,null,"MH1500",null,null,null,"High Pressure Sodium, 1500 watts",null,"HPS1500",300]
["other refrigerated case light",null,null,"CASE",null,null,null,"Mercury Vapor, 750 watts",null,"MV750",250]
["Pulse Start Metal Halide, 320 watts",15,20000,"PSMH320",null,null,null,"Mercury Vapor, 1500 watts",null,"MV1500",300]
["Pulse Start Metal Halide, 350 watts",15,20000,"PSMH350"]
["Pulse Start Metal Halide, 750 watts",19,20000,"HID1000"]
["Relamp 4' T5 54W (only use for T5 relamp)",6,25000,"T5-4RL"]
["T5  1-lamp fixture (28W lamp)",6,25000,"T51"]
["T5  2-lamp fixture (28W lamp)",6,25000,"T52"]
["T5HO 2ft 2 Lamp Fixture",6,25000,"T522"]
["T5HO 2ft 3 Lamp Fixture",6,25000,"T523"]
["T5HO 2ft 4 Lamp Fixture",6,25000,"T524"]
["T5HO10-lamp fixture (54 watt)",6,25000,"T5"]
["T5HO10-lamp fixture (low watt)",6,25000,"T5LW"]
["T5HO12-lamp fixture (54 watt)",6,25000,"T5"]
["T5HO12-lamp fixture (low watt)",6,25000,"T5LW"]
["T5HO1-lamp fixture (54 watt)",6,25000,"T5"]
["T5HO1-lamp fixture (low watt)",6,25000,"T5LW"]
["T5HO2-lamp fixture (54 watt)",6,25000,"T5"]
["T5HO2-lamp fixture (low watt)",6,25000,"T5LW"]
["T5HO3-lamp fixture (54 watt)",6,25000,"T5"]
["T5HO3-lamp fixture (low watt)",6,25000,"T5LW"]
["T5HO4-lamp fixture (54 watt)",6,25000,"T5"]
["T5HO4-lamp fixture (low watt)",6,25000,"T5LW"]
["T5HO5-lamp fixture",6,25000,"T5"]
["T5HO6-lamp fixture (54 watt)",6,25000,"T5"]
["T5HO6-lamp fixture (low watt)",6,25000,"T5LW"]
["T5HO8-lamp fixture (54 watt)",6,25000,"T5"]
["T5HO8-lamp fixture (low watt)",6,25000,"T5LW"]
["U bent 1 lamp T12",6,20000,"FL-U1"]
["U bent 1 lamp T8",6,20000,"FL-8U1"]
["U bent 2 lamp T12",6,20000,"FL-U2"]
["U bent 2 lamp T8",6,20000,"FL-8U2"]
["Electronic Metal Halide, 150 watts",18,15000,"FL-1Metal"]
["Electronic Metal Halide, 200 watts",18,15000,"FL-1Metal"]
["Electronic Metal Halide, 250 watts",18,15000,"FL-1Metal"]
["Electronic Metal Halide, 300 watts",15,20000,"FL-2Metal"]
["Electronic Metal Halide, 320 watts",15,20000,"FL-2Metal"]
["Electronic Metal Halide, 350 watts",15,20000,"FL-2Metal"]
["Electronic Metal Halide, 400 watts",15,20000,"FL-2Metal"]
["Electronic Metal Halide, 450 watts",19,20000,"FL-2Metal"]
["Exterior LED fixture (need catalog # & cut sheet)",210,50000,"FL-5LED"]
["HID replacement screw-in LED lamp",150,50000,"FL-5replacement"]
["Induction lamp",150,70000,"FL-7lamp"]
["LED high-bay luminaire",210,50000,"FL-5LED"]
["Metal Halide, 100 watts",10,15000,"FL-1Halide"]
["Metal Halide, 150 watts",10,15000,"FL-1Halide"]
["Metal Halide, 32 watts",30,15000,"FL-1Halide"]
["Metal Halide, 50 watts",30,15000,"FL-1Halide"]
["Metal Halide, 70 watts",10,15000,"FL-1Halide"]
["Other Exterior LED fixture (need catalog # & cut sheet)",210,50000,"FL-5Exterior"]
["Other LED fixture (need catalog # & cut sheet)",210,50000,"FL-5LED"]
["Other LED replacement lamp (contact Project Coordinator)",50,25000,"FL-2LED"]
["Pulse Start Metal Halide, 150 watts",18,15000,"FL-1Start"]
["Pulse Start Metal Halide, 200 watts",18,15000,"FL-1Start"]
["Pulse Start Metal Halide, 250 watts",18,15000,"FL-1Start"]
["Pulse Start Metal Halide, 300 watts",15,20000,"FL-2Start"]
["Pulse Start Metal Halide, 320 watts",15,20000,"FL-2Start"]
["Pulse Start Metal Halide, 350 watts",15,20000,"FL-2Start"]
["Pulse Start Metal Halide, 400 watts",15,20000,"FL-2Start"]
["Pulse Start Metal Halide, 450 watts",19,20000,"FL-2Start"]
["Pulse Start Metal Halide, 750 watts",19,16000,"FL-1Start"]
["T5  1-lamp fixture (28W lamp)",6,25000,"FL-21"]
["T5  2-lamp fixture (28W lamp)",6,25000,"FL-22"]
["T5HO 2ft 2 Lamp Fixture",6,25000,"FL-22ft"]
["T5HO 2ft 3 Lamp Fixture",6,25000,"FL-22ft"]
["T5HO 2ft 4 Lamp Fixture",6,25000,"FL-22ft"]
["T5HO10-lamp fixture",6,25000,"FL-2lamp"]
["T5HO12-lamp fixture",6,25000,"FL-2lamp"]
["T5HO1-lamp fixture",6,25000,"FL-2lamp"]
["T5HO2-lamp fixture",6,25000,"FL-2lamp"]
["T5HO3-lamp fixture",6,25000,"FL-2lamp"]
["T5HO4-lamp fixture (54watt)",6,25000,"FL-2lamp"]
["T5HO4-lamp fixture (low watt)",6,25000,"FL-2lamp"]
["T5HO5-lamp fixture",6,25000,"FL-2lamp"]
["T5HO6-lamp fixture (54watt)",6,25000,"FL-2lamp"]
["T5HO6-lamp fixture (low watt)",6,25000,"FL-2lamp"]
["T5HO8-lamp fixture",6,25000,"FL-2lamp"]
["U Bent 1 lamp T8",4.4000000000000004,20000,"FL-1Bent"]
["U Bent 1 lamp T8 (BF ≤.78)",4.4000000000000004,20000,"FL-1Bent"]
["U bent 2 lamp HP T8 (0.85<BF≤1.0)",4.4000000000000004,20000,"FL-1bent"]
["U bent 2 lamp HP T8 (BF≤0.85)",4.4000000000000004,20000,"FL-1bent"]
["U Bent 2 lamp T8",4.4000000000000004,20000,"FL-1Bent"]
["U Bent 2 lamp T8 (BF ≤.78)",4.4000000000000004,20000,"FL-1Bent"]
["F24T12/HO – (2’) – 64W",null,null,null,null,50000]
["F36T12/HO – (3’) – 72w",null,null,null,null,50000]
["F48T12/HO – 4’) – 81W",null,null,null,null,50000]
["F60T12/HO – (5’) – 102W",null,null,null,null,50000]
["F64T12/HO – (64”) – 104W",null,null,null,null,50000]
["F72T12/HO – (6’) – 106W",null,null,null,null,50000]
["F84T12/HO – (7’) – 118W",null,null,null,null,50000]
["F96T12/HO – (8’) – 133W",null,null,null,null,50000]
["F108T12/HO – (105 3/16”) – 124W",null,null,null,null,50000]
["F117T12/HO – 114 3/16” – 132W",null,null,null,null,50000]
["F120T12/HO – (117 3/16”) – 135W",null,null,null,null,50000]

{"sheet":"Lookups","index":10,"n_rows":172,"n_cols":13,"rows_kept":172,"cut":false,"hidden":true,"merged":[[27,1,27,2],[27,6,27,7],[27,8,27,9]]}
[null,"Code","Description","Code","Description",null,"Code",null,null,null,"Measure Code","Life"]
[null,"1FLOOR","First Floor","EXCOMLIT","ExCommLight",null,"N"]
[null,"2FLOOR","Second Floor","EXSCHGHT","ExSchoolGasHt",null,"Y",null,null,"Existing Buildings",3,4]
["Remove","3FLOOR","Third Floor","FLAT","FLAT",null,null,null,null,"Production Efficiency",7,8]
["Public Sector Only","BACK","Back of Structure","INDSHFT1","IndShift1",null,null,null,null,"Multifamily",9,10]
[null,"BASEMENT","Basement","INDSHFT2","IndShift2"]
[null,"BEDROOM","Bedroom","STLIGHT ","StreetLight",null,null,null,null,"Current Actual Value:",{"$f":"VLOOKUP('100L Information'!$AI$46, Lookups!$J$3:$K$6, 2, FALSE)","v":3},{"$f":"VLOOKUP('100L Information'!$AI$46, Lookups!$J$3:$L$6, 3, FALSE)","v":4}]
[null,"BOTTOM","Bottom"]
[null,"CEILING","Ceiling"]
[null,"COMMON","Common area"]
[null,"DINING","Dining room"]
[null,"EXTERIOR","Exterior"]
[null,"FAMILYRM","Family room"]
[null,"FLOOR","Floor"]
[null,"FRONT","Front of Structure"]
[null,"GARAGE","Garage"]
[null,"HALL","Hall"]
[null,"KITCHEN","Kitchen"]
[null,"LAUNDRY","Laundry"]
[null,"LIVINGRM","Living room"]
[null,"OFFICE","Office"]
[null,"OTHER","Other"]
[null,"PORCH","Porch"]
[null,"ROOF","Roof"]
[null,"TOP","Top"]
[null,"WALL","Wall"]
[]
[null,"Existing Buildings",null,null,null,null,"Production Efficiency",null,"Multifamily"]
["DESCRIPTION FROM LIGHTING TOOL","Category","PRODUCTCODE","Life","Therm","LP_Gas","PRODUCTCODE","Life","PRODUCTCODE","Life","MAD","Verision","Public Sector"]
["Additional Project Costs","ADDLPROJCOSTS","ADDLPROJCOSTS",0,0,"NONEG","ADDLPROJCOSTS",0,"ADDLPROJCOSTS",0,0]
["Incentive Cap",null,"INCAPE",0,0,"NONEG","INCAPE",0,"INCAPE",0,0]
["Controls only",null,null,10,0,"NONEG",null,0,null,10,73,8]
["LED street light (Utility Owned)","LIGHTING","BECUSTLIGHT",13,0,"NONEG",null,null,null,null,38,4]
["LED Street Lighting replacing 70W HID","LIGHTING","STREETHIDLED70W",13,0,"NONEG",null,null,null,null,38,4]
["LED Street Lighting replacing 100W HID","LIGHTING","STREETHIDLED100W",13,0,"NONEG",null,null,null,null,38,4]
["LED Street Lighting replacing 150W HID","LIGHTING","STREETHIDLED150W",13,0,"NONEG",null,null,null,null,38,4]
["LED Street Lighting replacing 175W HID","LIGHTING","STREETHIDLED175W",13,0,"NONEG",null,null,null,null,38,4]
["LED Street Lighting replacing 200W HID","LIGHTING","STREETHIDLED200W",13,0,"NONEG",null,null,null,null,38,4]
["LED Street Lighting replacing 250W HID","LIGHTING","STREETHIDLED250W",13,0,"NONEG",null,null,null,null,38,4]
["LED Street Lighting replacing 310W HID","LIGHTING","STREETHIDLED310W",13,0,"NONEG",null,null,null,null,38,4]
["LED Street Lighting replacing 350W HID","LIGHTING","STREETHIDLED350W",13,0,"NONEG",null,null,null,null,38,4]
["LED Street Lighting replacing 400W HID","LIGHTING","STREETHIDLED400W",13,0,"NONEG",null,null,null,null,38,4]
["LED Street Lighting replacing 750W HID","LIGHTING","STREETHIDLED750W",13,0,"NONEG",null,null,null,null,38,4]
["LED Street Lighting replacing 1000W HID","LIGHTING","STREETHIDLED1000W",13,0,"NONEG",null,null,null,null,38,4]
["LED Street Lighting replacing 1500W HID","LIGHTING","STREETHIDLED1500W",13,0,"NONEG",null,null,null,null,38,4]
["LED Grow Light","GROW","GROWLED",13,0,"NONEG","GROWLED",13,null,null,0]
["TLED Grow Light","GROW","GROWTLED",13,0,"NONEG","GROWTLED",13,null,null,0]
["Lighting in Refrigerated Spaces","LIGHTING","PELITREF",0,0,"NONEG","PELITREF",0,"PELITREF",0,0]
["Reduced HVAC in indoor grow spaces","GROW",null,null,0,"NONEG","RDCHVACINDOORGRW",10]
[]
["2' TLED lamp using existing fluorescent ballast","Relamp","2TLEDB",10,0,"NONEG","2TLEDB",10,"2TLEDB",10,8,10,1]
[]
[]
["3' TLED lamp at line voltage","TLED","3TLEDLV",12,0,"NONEG","3TLEDLV",12,"3TLEDLV",12,8,10,2.25]
["3' TLED lamp using existing fluorescent ballast","Relamp","3TLEDB",10,0,"NONEG","3TLEDB",10,"3TLEDB",10,8,10,1.5]
["3' TLED lamp with new fluorescent ballast","TLED","3TLEDREBALLAST",12,0,"NONEG","3TLEDREBALLAST",12,"3TLEDREBALLAST",12,8,10,2.25]
["3' TLED lamp with remote driver","TLED","3TLEDRD",12,0,"NONEG","3TLEDRD",12,"3TLEDRD",12,8,10,2.25]
["4' TLED lamp at line voltage","TLED","4TLEDLV",12,0,"NONEG","4TLEDLV",12,"4TLEDLV",12,8,10,3]
["4' TLED lamp using existing fluorescent ballast","Relamp","4TLEDB",10,0,"NONEG","4TLEDB",10,"4TLEDB",10,8,10,2]
["4' TLED lamp with new fluorescent ballast","TLED","4TLEDREBALLAST",12,0,"NONEG","4TLEDREBALLAST",12,"4TLEDREBALLAST",12,8,10,3]
["4' TLED lamp with remote driver","TLED","4TLEDRD",12,0,"NONEG","4TLEDRD",12,"4TLEDRD",12,8,10,3]
["5' TLED lamp at line voltage","TLED","5TLEDLV",12,0,"NONEG","5TLEDLV",12,"5TLEDLV",12,8,10,3.75]
[]
[]
["5' TLED lamp with remote driver","TLED","5TLEDRD",12,0,"NONEG","5TLEDRD",12,"5TLEDRD",12,8,10,3.75]
["6' TLED lamp at line voltage","TLED","6TLEDLV",12,0,"NONEG","6TLEDLV",12,"6TLEDLV",12,8,10,4.5]
[]
[]
["6' TLED lamp with remote driver","TLED","6TLEDRD",12,0,"NONEG","6TLEDRD",12,"6TLEDRD",12,8,10,4.5]
["8' TLED lamp at line voltage","TLED","8TLEDLV",12,0,"NONEG","8TLEDLV",12,"8TLEDLV",12,8,10,6]
["8' TLED lamp using existing fluorescent ballast","Relamp","8TLEDB",10,0,"NONEG","8TLEDB",10,"8TLEDB",10,8,10,4]
["8' TLED lamp with new fluorescent ballast","TLED","8TLEDREBALLAST",12,0,"NONEG","8TLEDREBALLAST",12,"8TLEDREBALLAST",12,8,10,6]
["8' TLED lamp with remote driver","TLED","8TLEDRD",12,0,"NONEG","8TLEDRD",12,"8TLEDRD",12,8,10,6]
["U-Bent TLED lamp (4' to fit 2') using exist. fluorescent ballast","Relamp","TLEDUB",10,0,"NONEG","TLEDUB",10,"TLEDUB",10,8,10,2]
["U-Bent TLED lamp (4' bent to fit 2') at line voltage","TLED","TLEDUBLV",12,0,"NONEG","TLEDUBLV",12,"TLEDUBLV",12,8,10,3]
["U-Bent TLED lamp (4' bent to fit 2') with new ballast","TLED","TLEDUBREBALLAST",12,0,"NONEG","TLEDUBREBALLAST",12,"TLEDUBREBALLAST",12,8,10,3]
["U-Bent TLED lamp (4' bent to fit 2') with remote driver","TLED","TLEDUBRD",12,0,"NONEG","TLEDUBRD",12,"TLEDUBRD",12,8,10,3]
[]
[]
[]
["HID to LED Screw-in, 40W or less","SCREWINLED40W","SCREWINLED40W",13,0,"NONEG","SCREWINLED40W",13,"SCREWINLED40W",13,33,7,15]
["HID to LED Screw-in, 41-100W","SCREWINLED41100","SCREWINLED41100",13,0,"NONEG","SCREWINLED41100",13,"SCREWINLED41100",13,33,7,25]
["HID to LED Screw-in, 101-160W","SCREWINLED101160","SCREWINLED101160",13,0,"NONEG","SCREWINLED101160",13,"SCREWINLED101160",13,33,7,35]
["HID to LED Screw-in, 161W or greater","SCREWINLED161W","SCREWINLED161W",13,0,"NONEG","SCREWINLED161W",13,"SCREWINLED161W",13,33,7,35]
["CFL to pin base LED","CFLPINBASE","CFLPINBASE",12,0,"NONEG","CFLPINBASE",12,"CFLPINBASE",12,49,8]
[]
[]
[]
["Exterior Recessed Canister Downlight LED","EXTERIOR","EXLEDDOWN",12,0,"NONEG","EXLEDDOWN",12,"EXLEDDOWN",12,62,6]
[]
[]
[]
["Exterior LED fixture, 20W or less","EXLED20W","EXLED20W",14,0,"NONEG","EXLED20W",14,"EXLED20W",14,62,6]
["Exterior LED fixture, 21-40W ","EXLED40W","EXLED40W",14,0,"NONEG","EXLED40W",14,"EXLED40W",14,62,6]
["Exterior LED fixture, 41-90W ","EXLED90W","EXLED90W",14,0,"NONEG","EXLED90W",14,"EXLED90W",14,62,6]
["Exterior LED fixture, 91-140W ","EXLED140W","EXLED140W",14,0,"NONEG","EXLED140W",14,"EXLED140W",14,62,6]
["Exterior LED fixture, 141-299W ","EXLED299W","EXLED299W",14,0,"NONEG","EXLED299W",14,"EXLED299W",14,62,6]
["Exterior LED fixture, 300W or greater","EXLED300W","EXLED300W",14,0,"NONEG","EXLED300W",14,"EXLED300W",14,62,6]
["LED fixture or kit, 25W or less","LEDTROFFER25W","LEDTROFFER25W",14,0,"NONEG","LEDTROFFER25W",14,"LEDTROFFER25W",14,64,8]
["LED fixture or kit, 26-39W","LEDTROFFER39W","LEDTROFFER39W",14,0,"NONEG","LEDTROFFER39W",14,"LEDTROFFER39W",14,64,8]
["LED fixture or kit, 40-57W","LEDTROFFER57W","LEDTROFFER57W",14,0,"NONEG","LEDTROFFER57W",14,"LEDTROFFER57W",14,64,8]
["LED fixture or kit, 58-100W","LEDTROFFER100W","LEDTROFFER100W",14,0,"NONEG","LEDTROFFER100W",14,"LEDTROFFER100W",14,64,8]
["Wall Switch Occupancy Sensor, 30W or greater","OCCWLSWITCH30W","OCCWLSWITCH30W",10,0,"NONEG","OCCWLSWITCH30W",10,"OCCWLSWITCH30W",10,73,8]
["Wall Switch Vacancy Sensor, 30W or greater","VACWLSWITCH30W","VACWLSWITCH30W",10,0,"NONEG","VACWLSWITCH30W",10,"VACWLSWITCH30W",10,73,8]
["Hard-Wired Occ Sensor ceiling/corner/surface mount 100W or greater","OCCOTH100W","OCCOTH100W",10,0,"NONEG","OCCOTH100W",10,"OCCOTH100W",10,73,8]
["Exterior Occupancy Sensor, fixture or pole mount, 40W or greater","EXTOCC40W","EXTOCC40W",10,0,"NONEG","EXTOCC40W",10,"EXTOCC40W",10,73,8]
["Hard-Wired Occupancy Sensor, ceiling/corner/surface mount, 100W or greater","OCCOTH100W","OCCOTH100W",10,0,"NONEG","OCCOTH100W",10,"OCCOTH100W",10,73,8]
["Occupancy Sensor, fixture mount, 30W or greater","OCCFIX30W","OCCFIX30W",10,0,"NONEG","OCCFIX30W",10,"OCCFIX30W",10,73,8]
["Wireless Occ Sensor ceiling/corner/surface mount 100W or greater","WIRLESSOCCOTH100W","WIRLESSOCCOTH100W",10,0,"NONEG","WIRLESSOCCOTH100W",10,"WIRLESSOCCOTH100W",10,73,8]
["Interior Fixtures with LLLC","LLLC","INTFXTLLLC",14,0,"NONEG","INTFXTLLLC",14,null,14,73,8]
["High-Bay with LLLC","LLLC","HIBAYLLLC",12,0,"NONEG","HIBAYLLLC",12,null,12,73,8]
["Exterior with LLLC","LLLC","EXTFXTLLC",14,0,"NONEG","EXTFXTLLC",14,null,14,73,8]
["Fixture removal, Interior (no incentive)","FIXREMOVE","FIXREMOVEINT",8,0,"NONEG","FIXREMOVEINT",8,"FIXREMOVEINT",8,244,2]
["Fixture removal, Exterior (no incentive)","FIXREMOVE","FIXREMOVEEXT",8,0,"NONEG","FIXREMOVEEXT",8,"FIXREMOVEEXT",8,244,2]
[]
[]
[]
[]
[]
[]
[]
[]
[]
[]
[]
[]
[]
[]
["LED High-Bay or Low-Bay, 91-140W","LEDHIBAY140","LEDHIBAY140",12,0,"NONEG","LEDHIBAY140",12,"LEDHIBAY140",12,211,6]
["LED High-Bay or Low-Bay, 141-299W","LEDHIBAY299","LEDHIBAY299",12,0,"NONEG","LEDHIBAY299",12,"LEDHIBAY299",12,211,6]
["LED High-Bay or Low-Bay, 300W or greater","LEDHIBAY300","LEDHIBAY300",12,0,"NONEG","LEDHIBAY300",12,"LEDHIBAY300",12,211,6]
["LED High-Bay or Low-Bay, 40-90W","LEDHIBAY90","LEDHIBAY90",12,0,"NONEG","LEDHIBAY90",12,"LEDHIBAY90",12,211,6]
["Custom control system","CUSTOMLIGHT","BECUSTLIGHTCONT",10,0,"NONEG","CUSTOMLIGHTCNTRL",10,"BECUSTLIGHTCONT",10,"Custom"]
["Fixture controlled by other sensor","CUSTOMLIGHT","BECUSTLIGHTCONT",10,0,"NONEG","CUSTOMLIGHTCNTRL",10,"BECUSTLIGHTCONT",10,"Custom"]
["Other","CUSTOMLIGHT","BECUSTLIGHT",14,0,"NONEG","BECUSTLIGHT",14,"BECUSTLIGHT",14,"Custom"]
["Other exterior LED fixture","CUSTOMLIGHT","BECUSLEDFIX",14,0,"NONEG","BECUSLEDFIX",14,"BECUSLEDFIX",14,"Custom"]
["Other LED fixture","CUSTOMLIGHT","BECUSLEDFIX",14,0,"NONEG","BECUSLEDFIX",14,"BECUSLEDFIX",14,"Custom"]
["Other LED replacement lamp (contact Project Coordinator)","CUSTOMLIGHT","CUSTLEDLAMP",7,0,"NONEG","CUSTLEDLAMP",7,"CUSTLEDLAMP",7,"Custom"]
["Single Row T8_Low Power LED_Med Temp Open Case_Remote Condensing","CASE LIGHTING","CLSRT8LOWMEDOPENRC",7,0,"NONEG","CLSRT8LOWMEDOPENRC",7,"CLSRT8LOWMEDOPENRC",7,78,4]
["Single Row T12_Low Power LED_Med Temp Open Case_Remote Condensing","CASE LIGHTING","CLSRT12LOWMEDOPENRC",7,0,"NONEG","CLSRT12LOWMEDOPENRC",7,"CLSRT12LOWMEDOPENRC",7,78,4]
["Double Row T8 _High Power LED_Med Temp Open Case_Remote Condensing","CASE LIGHTING","CLDRT8HIGHMEDOPENRC",7,0,"NONEG","CLDRT8HIGHMEDOPENRC",7,"CLDRT8HIGHMEDOPENRC",7,78,4]
["Double Row T12 _High Power LED_Med Temp Open Case_Remote Condensing","CASE LIGHTING","CLDRT12HIGHMEDOPENRC",7,0,"NONEG","CLDRT12HIGHMEDOPENRC",7,"CLDRT12HIGHMEDOPENRC",7,78,4]
["Single Row T8_Low Power LED_Med Temp Closed Case_Remote Condensing","CASE LIGHTING","CLSRT8LOWMEDCLSDRC",7,0,"NONEG","CLSRT8LOWMEDCLSDRC",7,"CLSRT8LOWMEDCLSDRC",7,78,4]
["Single Row T12_Low Power LED_Med Temp Closed Case_Remote Condensing","CASE LIGHTING","CLSRT12LOWMEDCLSDRC",7,0,"NONEG","CLSRT12LOWMEDCLSDRC",7,"CLSRT12LOWMEDCLSDRC",7,78,4]
["Double Row T8 _High Power LED_Med Temp Closed Case_Remote Condensing","CASE LIGHTING","CLDRT8HIGHMEDCLSDRC",7,0,"NONEG","CLDRT8HIGHMEDCLSDRC",7,"CLDRT8HIGHMEDCLSDRC",7,78,4]
["Double Row T12 _High Power LED_Med Temp Closed Case_Remote Condensing","CASE LIGHTING","CLDRT12HIGHMEDCLSDRC",7,0,"NONEG","CLDRT12HIGHMEDCLSDRC",7,"CLDRT12HIGHMEDCLSDRC",7,78,4]
["Single Row T8_Low Power LED_Low Temp Open Case_Remote Condensing","CASE LIGHTING","CLSRT8LOWLOWOPENRC",7,0,"NONEG","CLSRT8LOWLOWOPENRC",7,"CLSRT8LOWLOWOPENRC",7,78,4]
["Single Row T12_Low Power LED_Low Temp Open Case_Remote Condensing","CASE LIGHTING","CLSRT12LOWLOWOPENRC",7,0,"NONEG","CLSRT12LOWLOWOPENRC",7,"CLSRT12LOWLOWOPENRC",7,78,4]
["Double Row T8 _High Power LED_Low Temp Open Case_Remote Condensing","CASE LIGHTING","CLDRT8HIGHLOWOPENRC",7,0,"NONEG","CLDRT8HIGHLOWOPENRC",7,"CLDRT8HIGHLOWOPENRC",7,78,4]
["Double Row T12 _High Power LED_Low Temp Open Case_Remote Condensing","CASE LIGHTING","CLDRT12HIGHLOWOPENRC",7,0,"NONEG","CLDRT12HIGHLOWOPENRC",7,"CLDRT12HIGHLOWOPENRC",7,78,4]
["Single Row T8_Low Power LED_Low Temp Closed Case_Remote Condensing","CASE LIGHTING","CLSRT8LOWLOWCLSDRC",7,0,"NONEG","CLSRT8LOWLOWCLSDRC",7,"CLSRT8LOWLOWCLSDRC",7,78,4]
["Single Row T12_Low Power LED_Low Temp Closed Case_Remote Condensing","CASE LIGHTING","CLSRT12LOWLOWCLSDRC",7,0,"NONEG","CLSRT12LOWLOWCLSDRC",7,"CLSRT12LOWLOWCLSDRC",7,78,4]
["Double Row T8 _High Power LED_Low Temp Closed Case_Remote Condensing","CASE LIGHTING","CLDRT8HIGHLOWCLSDRC",7,0,"NONEG","CLDRT8HIGHLOWCLSDRC",7,"CLDRT8HIGHLOWCLSDRC",7,78,4]
["Double Row T12 _High Power LED_Low Temp Closed Case_Remote Condensing","CASE LIGHTING","CLDRT12HIGHLOWCLSDRC",7,0,"NONEG","CLDRT12HIGHLOWCLSDRC",7,"CLDRT12HIGHLOWCLSDRC",7,78,4]
["Single Row T8_Low Power LED_Med Temp Open Case_Self-Contained","CASE LIGHTING","CLSRT8LOWMEDOPENSC",7,0,"NONEG","CLSRT8LOWMEDOPENSC",7,"CLSRT8LOWMEDOPENSC",7,78,4]
["Single Row T12_Low Power LED_Med Temp Open Case_Self-Contained","CASE LIGHTING","CLSRT12LOWMEDOPENSC",7,0,"NONEG","CLSRT12LOWMEDOPENSC",7,"CLSRT12LOWMEDOPENSC",7,78,4]
["Double Row T8 _High Power LED_Med Temp Open Case_Self-Contained","CASE LIGHTING","CLDRT8HIGHMEDOPENSC",7,0,"NONEG","CLDRT8HIGHMEDOPENSC",7,"CLDRT8HIGHMEDOPENSC",7,78,4]
["Double Row T12 _High Power LED_Med Temp Open Case_Self-Contained","CASE LIGHTING","CLDRT12HIGHMEDOPENSC",7,0,"NONEG","CLDRT12HIGHMEDOPENSC",7,"CLDRT12HIGHMEDOPENSC",7,78,4]
["Single Row T8_Low Power LED_Med Temp Closed Case_Self-Contained","CASE LIGHTING","CLSRT8LOWMEDCLSDSC",7,0,"NONEG","CLSRT8LOWMEDCLSDSC",7,"CLSRT8LOWMEDCLSDSC",7,78,4]
["Single Row T12_Low Power LED_Med Temp Closed Case_Self-Contained","CASE LIGHTING","CLSRT12LOWMEDCLSDSC",7,0,"NONEG","CLSRT12LOWMEDCLSDSC",7,"CLSRT12LOWMEDCLSDSC",7,78,4]
["Double Row T8 _High Power LED_Med Temp Closed Case_Self-Contained","CASE LIGHTING","CLDRT8HIGHMEDCLSDSC",7,0,"NONEG","CLDRT8HIGHMEDCLSDSC",7,"CLDRT8HIGHMEDCLSDSC",7,78,4]
["Double Row T12 _High Power LED_Med Temp Closed Case_Self-Contained","CASE LIGHTING","CLDRT12HIGHMEDCLSDSC",7,0,"NONEG","CLDRT12HIGHMEDCLSDSC",7,"CLDRT12HIGHMEDCLSDSC",7,78,4]
["Single Row T8_Low Power LED_Low Temp Open Case_Self-Contained","CASE LIGHTING","CLSRT8LOWLOWOPENSC",7,0,"NONEG","CLSRT8LOWLOWOPENSC",7,"CLSRT8LOWLOWOPENSC",7,78,4]
["Single Row T12_Low Power LED_Low Temp Open Case_Self-Contained","CASE LIGHTING","CLSRT12LOWLOWOPENSC",7,0,"NONEG","CLSRT12LOWLOWOPENSC",7,"CLSRT12LOWLOWOPENSC",7,78,4]
["Double Row T8 _High Power LED_Low Temp Open Case_Self-Contained","CASE LIGHTING","CLDRT8HIGHLOWOPENSC",7,0,"NONEG","CLDRT8HIGHLOWOPENSC",7,"CLDRT8HIGHLOWOPENSC",7,78,4]
["Double Row T12 _High Power LED_Low Temp Open Case_Self-Contained","CASE LIGHTING","CLDRT12HIGHLOWOPENSC",7,0,"NONEG","CLDRT12HIGHLOWOPENSC",7,"CLDRT12HIGHLOWOPENSC",7,78,4]
["Single Row T8_Low Power LED_Low Temp Closed Case_Self-Contained","CASE LIGHTING","CLSRT8LOWLOWCLSDSC",7,0,"NONEG","CLSRT8LOWLOWCLSDSC",7,"CLSRT8LOWLOWCLSDSC",7,78,4]
["Single Row T12_Low Power LED_Low Temp Closed Case_Self-Contained","CASE LIGHTING","CLSRT12LOWLOWCLSDSC",7,0,"NONEG","CLSRT12LOWLOWCLSDSC",7,"CLSRT12LOWLOWCLSDSC",7,78,4]
["Double Row T8 _High Power LED_Low Temp Closed Case_Self-Contained","CASE LIGHTING","CLDRT8HIGHLOWCLSDSC",7,0,"NONEG","CLDRT8HIGHLOWCLSDSC",7,"CLDRT8HIGHLOWCLSDSC",7,78,4]
["Double Row T12 _High Power LED_Low Temp Closed Case_Self-Contained","CASE LIGHTING","CLDRT12HIGHLOWCLSDSC",7,0,"NONEG","CLDRT12HIGHLOWCLSDSC",7,"CLDRT12HIGHLOWCLSDSC",7,78,4]
["Motion Sensor on LED Lights in Open Cases - LED power between 4.0 and 8.5 watts per linear foot","CASE LIGHTING","MSLEDCL4W8P5W",8,0,"NONEG","MSLEDCL4W8P5W",8,"MSLEDCL4W8P5W",8,78,4]
["Motion Sensor on LED Lights in Open Cases - LED power less than 4.0 watts per linear foot","CASE LIGHTING","MSLEDCL4WATT",8,0,"NONEG","MSLEDCL4WATT",8,"MSLEDCL4WATT",8,78,4]

{"sheet":"Summary Source","index":11,"n_rows":431,"n_cols":10,"rows_kept":431,"cut":false,"hidden":true,"merged":[[401,9,413,9],[1,9,200,9],[201,9,400,9]]}
["Measure","Install Qty","Total Install Cost","Proposed kWh Savings","Final Incentive Paid","Electric Load Profile","NEB","Location","Existing Condition","Source Worksheet"]
[{"$f":"IF('Analysis 103L'!J28=\"\",\"\",IF(AND(C2=0,D2=0),\"\",IF(RIGHT('Analysis 103L'!I28,4)=\"Case\",'Analysis 103L'!CL28,'Analysis 103L'!J28)))","v":""},{"$f":"IF('Analysis 103L'!P28=\"\",\"\",IF(A2=\"\", \"\", 'Analysis 103L'!P28))","v":""},{"$f":"IF('Analysis 103L'!S28=\"\",\"\",IF(RIGHT('Analysis 103L'!I28,4)=\"Case\",'Analysis 103L'!R28, 'Analysis 103L'!S28))","v":""},{"$f":"IF(ISNUMBER('Analysis 103L'!AT28),'Analysis 103L'!AT28,\"\")","v":""},{"$f":"IF('Analysis 103L'!D28=\"\",\"\",'Analysis 103L'!AA28)","v":""},{"$f":"IF(E2=\"\",\"\",'Analysis 103L'!BE28)","v":""},{"$f":"IFERROR('Analysis 103L'!CD28*B2,\"\")","v":""},{"$f":"IF('Analysis 103L'!C28=\"\",\"\",'Analysis 103L'!C28)","v":""},{"$f":"IF('Analysis 103L'!E28=\"\",\"\",IF(AND(C2=0,D2=0),\"\",'Analysis 103L'!E28))","v":""},"Analysis 103L"]
[{"$f":"IF('Analysis 103L'!J29=\"\",\"\",IF(AND(C3=0,D3=0),\"\",IF(RIGHT('Analysis 103L'!I29,4)=\"Case\",'Analysis 103L'!CL29,'Analysis 103L'!J29)))","v":""},{"$f":"IF('Analysis 103L'!P29=\"\",\"\",IF(A3=\"\", \"\", 'Analysis 103L'!P29))","v":""},{"$f":"IF('Analysis 103L'!S29=\"\",\"\",IF(RIGHT('Analysis 103L'!I29,4)=\"Case\",'Analysis 103L'!R29, 'Analysis 103L'!S29))","v":""},{"$f":"IF(ISNUMBER('Analysis 103L'!AT29),'Analysis 103L'!AT29,\"\")","v":""},{"$f":"IF('Analysis 103L'!D29=\"\",\"\",'Analysis 103L'!AA29)","v":""},{"$f":"IF(E3=\"\",\"\",'Analysis 103L'!BE29)","v":""},{"$f":"IFERROR('Analysis 103L'!CD29*B3,\"\")","v":""},{"$f":"IF('Analysis 103L'!C29=\"\",\"\",'Analysis 103L'!C29)","v":""},{"$f":"IF('Analysis 103L'!E29=\"\",\"\",IF(AND(C3=0,D3=0),\"\",'Analysis 103L'!E29))","v":""}]
[{"$f":"IF('Analysis 103L'!J30=\"\",\"\",IF(AND(C4=0,D4=0),\"\",IF(RIGHT('Analysis 103L'!I30,4)=\"Case\",'Analysis 103L'!CL30,'Analysis 103L'!J30)))","v":""},{"$f":"IF('Analysis 103L'!P30=\"\",\"\",IF(A4=\"\", \"\", 'Analysis 103L'!P30))","v":""},{"$f":"IF('Analysis 103L'!S30=\"\",\"\",IF(RIGHT('Analysis 103L'!I30,4)=\"Case\",'Analysis 103L'!R30, 'Analysis 103L'!S30))","v":""},{"$f":"IF(ISNUMBER('Analysis 103L'!AT30),'Analysis 103L'!AT30,\"\")","v":""},{"$f":"IF('Analysis 103L'!D30=\"\",\"\",'Analysis 103L'!AA30)","v":""},{"$f":"IF(E4=\"\",\"\",'Analysis 103L'!BE30)","v":""},{"$f":"IFERROR('Analysis 103L'!CD30*B4,\"\")","v":""},{"$f":"IF('Analysis 103L'!C30=\"\",\"\",'Analysis 103L'!C30)","v":""},{"$f":"IF('Analysis 103L'!E30=\"\",\"\",IF(AND(C4=0,D4=0),\"\",'Analysis 103L'!E30))","v":""}]
[{"$f":"IF('Analysis 103L'!J31=\"\",\"\",IF(AND(C5=0,D5=0),\"\",IF(RIGHT('Analysis 103L'!I31,4)=\"Case\",'Analysis 103L'!CL31,'Analysis 103L'!J31)))","v":""},{"$f":"IF('Analysis 103L'!P31=\"\",\"\",IF(A5=\"\", \"\", 'Analysis 103L'!P31))","v":""},{"$f":"IF('Analysis 103L'!S31=\"\",\"\",IF(RIGHT('Analysis 103L'!I31,4)=\"Case\",'Analysis 103L'!R31, 'Analysis 103L'!S31))","v":""},{"$f":"IF(ISNUMBER('Analysis 103L'!AT31),'Analysis 103L'!AT31,\"\")","v":""},{"$f":"IF('Analysis 103L'!D31=\"\",\"\",'Analysis 103L'!AA31)","v":""},{"$f":"IF(E5=\"\",\"\",'Analysis 103L'!BE31)","v":""},{"$f":"IFERROR('Analysis 103L'!CD31*B5,\"\")","v":""},{"$f":"IF('Analysis 103L'!C31=\"\",\"\",'Analysis 103L'!C31)","v":""},{"$f":"IF('Analysis 103L'!E31=\"\",\"\",IF(AND(C5=0,D5=0),\"\",'Analysis 103L'!E31))","v":""}]
[{"$f":"IF('Analysis 103L'!J32=\"\",\"\",IF(AND(C6=0,D6=0),\"\",IF(RIGHT('Analysis 103L'!I32,4)=\"Case\",'Analysis 103L'!CL32,'Analysis 103L'!J32)))","v":""},{"$f":"IF('Analysis 103L'!P32=\"\",\"\",IF(A6=\"\", \"\", 'Analysis 103L'!P32))","v":""},{"$f":"IF('Analysis 103L'!S32=\"\",\"\",IF(RIGHT('Analysis 103L'!I32,4)=\"Case\",'Analysis 103L'!R32, 'Analysis 103L'!S32))","v":""},{"$f":"IF(ISNUMBER('Analysis 103L'!AT32),'Analysis 103L'!AT32,\"\")","v":""},{"$f":"IF('Analysis 103L'!D32=\"\",\"\",'Analysis 103L'!AA32)","v":""},{"$f":"IF(E6=\"\",\"\",'Analysis 103L'!BE32)","v":""},{"$f":"IFERROR('Analysis 103L'!CD32*B6,\"\")","v":""},{"$f":"IF('Analysis 103L'!C32=\"\",\"\",'Analysis 103L'!C32)","v":""},{"$f":"IF('Analysis 103L'!E32=\"\",\"\",IF(AND(C6=0,D6=0),\"\",'Analysis 103L'!E32))","v":""}]
[{"$f":"IF('Analysis 103L'!J33=\"\",\"\",IF(AND(C7=0,D7=0),\"\",IF(RIGHT('Analysis 103L'!I33,4)=\"Case\",'Analysis 103L'!CL33,'Analysis 103L'!J33)))","v":""},{"$f":"IF('Analysis 103L'!P33=\"\",\"\",IF(A7=\"\", \"\", 'Analysis 103L'!P33))","v":""},{"$f":"IF('Analysis 103L'!S33=\"\",\"\", IF(LEFT('Analysis 103L'!J33,6)=\"Motion\", \"\", IF(RIGHT('Analysis 103L'!I33,4)=\"Case\",'Analysis 103L'!R33, 'Analysis 103L'!S33)))","v":""},{"$f":"IF(ISNUMBER('Analysis 103L'!AT33),'Analysis 103L'!AT33,\"\")","v":""},{"$f":"IF('Analysis 103L'!D33=\"\",\"\",'Analysis 103L'!AA33)","v":""},{"$f":"IF(E7=\"\",\"\",'Analysis 103L'!BE33)","v":""},{"$f":"IFERROR('Analysis 103L'!CD33*B7,\"\")","v":""},{"$f":"IF('Analysis 103L'!C33=\"\",\"\",'Analysis 103L'!C33)","v":""},{"$f":"IF('Analysis 103L'!E33=\"\",\"\",IF(AND(C7=0,D7=0),\"\",'Analysis 103L'!E33))","v":""}]
[{"$f":"IF('Analysis 103L'!J34=\"\",\"\",IF(AND(C8=0,D8=0),\"\",IF(RIGHT('Analysis 103L'!I34,4)=\"Case\",'Analysis 103L'!CL34,'Analysis 103L'!J34)))","v":""},{"$f":"IF('Analysis 103L'!P34=\"\",\"\",IF(A8=\"\", \"\", 'Analysis 103L'!P34))","v":""},{"$f":"IF('Analysis 103L'!S34=\"\",\"\", IF(LEFT('Analysis 103L'!J34,6)=\"Motion\", \"\", IF(RIGHT('Analysis 103L'!I34,4)=\"Case\",'Analysis 103L'!R34, 'Analysis 103L'!S34)))","v":""},{"$f":"IF(ISNUMBER('Analysis 103L'!AT34),'Analysis 103L'!AT34,\"\")","v":""},{"$f":"IF('Analysis 103L'!D34=\"\",\"\",'Analysis 103L'!AA34)","v":""},{"$f":"IF(E8=\"\",\"\",'Analysis 103L'!BE34)","v":""},{"$f":"IFERROR('Analysis 103L'!CD34*B8,\"\")","v":""},{"$f":"IF('Analysis 103L'!C34=\"\",\"\",'Analysis 103L'!C34)","v":""},{"$f":"IF('Analysis 103L'!E34=\"\",\"\",IF(AND(C8=0,D8=0),\"\",'Analysis 103L'!E34))","v":""}]
[{"$f":"IF('Analysis 103L'!J35=\"\",\"\",IF(AND(C9=0,D9=0),\"\",IF(RIGHT('Analysis 103L'!I35,4)=\"Case\",'Analysis 103L'!CL35,'Analysis 103L'!J35)))","v":""},{"$f":"IF('Analysis 103L'!P35=\"\",\"\",IF(A9=\"\", \"\", 'Analysis 103L'!P35))","v":""},{"$f":"IF('Analysis 103L'!S35=\"\",\"\", IF(LEFT('Analysis 103L'!J35,6)=\"Motion\", \"\", IF(RIGHT('Analysis 103L'!I35,4)=\"Case\",'Analysis 103L'!R35, 'Analysis 103L'!S35)))","v":""},{"$f":"IF(ISNUMBER('Analysis 103L'!AT35),'Analysis 103L'!AT35,\"\")","v":""},{"$f":"IF('Analysis 103L'!D35=\"\",\"\",'Analysis 103L'!AA35)","v":""},{"$f":"IF(E9=\"\",\"\",'Analysis 103L'!BE35)","v":""},{"$f":"IFERROR('Analysis 103L'!CD35*B9,\"\")","v":""},{"$f":"IF('Analysis 103L'!C35=\"\",\"\",'Analysis 103L'!C35)","v":""},{"$f":"IF('Analysis 103L'!E35=\"\",\"\",IF(AND(C9=0,D9=0),\"\",'Analysis 103L'!E35))","v":""}]
[{"$f":"IF('Analysis 103L'!J36=\"\",\"\",IF(AND(C10=0,D10=0),\"\",IF(RIGHT('Analysis 103L'!I36,4)=\"Case\",'Analysis 103L'!CL36,'Analysis 103L'!J36)))","v":""},{"$f":"IF('Analysis 103L'!P36=\"\",\"\",IF(A10=\"\", \"\", 'Analysis 103L'!P36))","v":""},{"$f":"IF('Analysis 103L'!S36=\"\",\"\", IF(LEFT('Analysis 103L'!J36,6)=\"Motion\", \"\", IF(RIGHT('Analysis 103L'!I36,4)=\"Case\",'Analysis 103L'!R36, 'Analysis 103L'!S36)))","v":""},{"$f":"IF(ISNUMBER('Analysis 103L'!AT36),'Analysis 103L'!AT36,\"\")","v":""},{"$f":"IF('Analysis 103L'!D36=\"\",\"\",'Analysis 103L'!AA36)","v":""},{"$f":"IF(E10=\"\",\"\",'Analysis 103L'!BE36)","v":""},{"$f":"IFERROR('Analysis 103L'!CD36*B10,\"\")","v":""},{"$f":"IF('Analysis 103L'!C36=\"\",\"\",'Analysis 103L'!C36)","v":""},{"$f":"IF('Analysis 103L'!E36=\"\",\"\",IF(AND(C10=0,D10=0),\"\",'Analysis 103L'!E36))","v":""}]
[{"$f":"IF('Analysis 103L'!J37=\"\",\"\",IF(AND(C11=0,D11=0),\"\",IF(RIGHT('Analysis 103L'!I37,4)=\"Case\",'Analysis 103L'!CL37,'Analysis 103L'!J37)))","v":""},{"$f":"IF('Analysis 103L'!P37=\"\",\"\",IF(A11=\"\", \"\", 'Analysis 103L'!P37))","v":""},{"$f":"IF('Analysis 103L'!S37=\"\",\"\", IF(LEFT('Analysis 103L'!J37,6)=\"Motion\", \"\", IF(RIGHT('Analysis 103L'!I37,4)=\"Case\",'Analysis 103L'!R37, 'Analysis 103L'!S37)))","v":""},{"$f":"IF(ISNUMBER('Analysis 103L'!AT37),'Analysis 103L'!AT37,\"\")","v":""},{"$f":"IF('Analysis 103L'!D37=\"\",\"\",'Analysis 103L'!AA37)","v":""},{"$f":"IF(E11=\"\",\"\",'Analysis 103L'!BE37)","v":""},{"$f":"IFERROR('Analysis 103L'!CD37*B11,\"\")","v":""},{"$f":"IF('Analysis 103L'!C37=\"\",\"\",'Analysis 103L'!C37)","v":""},{"$f":"IF('Analysis 103L'!E37=\"\",\"\",IF(AND(C11=0,D11=0),\"\",'Analysis 103L'!E37))","v":""}]
[{"$f":"IF('Analysis 103L'!J38=\"\",\"\",IF(AND(C12=0,D12=0),\"\",IF(RIGHT('Analysis 103L'!I38,4)=\"Case\",'Analysis 103L'!CL38,'Analysis 103L'!J38)))","v":""},{"$f":"IF('Analysis 103L'!P38=\"\",\"\",IF(A12=\"\", \"\", 'Analysis 103L'!P38))","v":""},{"$f":"IF('Analysis 103L'!S38=\"\",\"\", IF(LEFT('Analysis 103L'!J38,6)=\"Motion\", \"\", IF(RIGHT('Analysis 103L'!I38,4)=\"Case\",'Analysis 103L'!R38, 'Analysis 103L'!S38)))","v":""},{"$f":"IF(ISNUMBER('Analysis 103L'!AT38),'Analysis 103L'!AT38,\"\")","v":""},{"$f":"IF('Analysis 103L'!D38=\"\",\"\",'Analysis 103L'!AA38)","v":""},{"$f":"IF(E12=\"\",\"\",'Analysis 103L'!BE38)","v":""},{"$f":"IFERROR('Analysis 103L'!CD38*B12,\"\")","v":""},{"$f":"IF('Analysis 103L'!C38=\"\",\"\",'Analysis 103L'!C38)","v":""},{"$f":"IF('Analysis 103L'!E38=\"\",\"\",IF(AND(C12=0,D12=0),\"\",'Analysis 103L'!E38))","v":""}]
[{"$f":"IF('Analysis 103L'!J39=\"\",\"\",IF(AND(C13=0,D13=0),\"\",IF(RIGHT('Analysis 103L'!I39,4)=\"Case\",'Analysis 103L'!CL39,'Analysis 103L'!J39)))","v":""},{"$f":"IF('Analysis 103L'!P39=\"\",\"\",IF(A13=\"\", \"\", 'Analysis 103L'!P39))","v":""},{"$f":"IF('Analysis 103L'!S39=\"\",\"\", IF(LEFT('Analysis 103L'!J39,6)=\"Motion\", \"\", IF(RIGHT('Analysis 103L'!I39,4)=\"Case\",'Analysis 103L'!R39, 'Analysis 103L'!S39)))","v":""},{"$f":"IF(ISNUMBER('Analysis 103L'!AT39),'Analysis 103L'!AT39,\"\")","v":""},{"$f":"IF('Analysis 103L'!D39=\"\",\"\",'Analysis 103L'!AA39)","v":""},{"$f":"IF(E13=\"\",\"\",'Analysis 103L'!BE39)","v":""},{"$f":"IFERROR('Analysis 103L'!CD39*B13,\"\")","v":""},{"$f":"IF('Analysis 103L'!C39=\"\",\"\",'Analysis 103L'!C39)","v":""},{"$f":"IF('Analysis 103L'!E39=\"\",\"\",IF(AND(C13=0,D13=0),\"\",'Analysis 103L'!E39))","v":""}]
[{"$f":"IF('Analysis 103L'!J40=\"\",\"\",IF(AND(C14=0,D14=0),\"\",IF(RIGHT('Analysis 103L'!I40,4)=\"Case\",'Analysis 103L'!CL40,'Analysis 103L'!J40)))","v":""},{"$f":"IF('Analysis 103L'!P40=\"\",\"\",IF(A14=\"\", \"\", 'Analysis 103L'!P40))","v":""},{"$f":"IF('Analysis 103L'!S40=\"\",\"\", IF(LEFT('Analysis 103L'!J40,6)=\"Motion\", \"\", IF(RIGHT('Analysis 103L'!I40,4)=\"Case\",'Analysis 103L'!R40, 'Analysis 103L'!S40)))","v":""},{"$f":"IF(ISNUMBER('Analysis 103L'!AT40),'Analysis 103L'!AT40,\"\")","v":""},{"$f":"IF('Analysis 103L'!D40=\"\",\"\",'Analysis 103L'!AA40)","v":""},{"$f":"IF(E14=\"\",\"\",'Analysis 103L'!BE40)","v":""},{"$f":"IFERROR('Analysis 103L'!CD40*B14,\"\")","v":""},{"$f":"IF('Analysis 103L'!C40=\"\",\"\",'Analysis 103L'!C40)","v":""},{"$f":"IF('Analysis 103L'!E40=\"\",\"\",IF(AND(C14=0,D14=0),\"\",'Analysis 103L'!E40))","v":""}]
[{"$f":"IF('Analysis 103L'!J41=\"\",\"\",IF(AND(C15=0,D15=0),\"\",IF(RIGHT('Analysis 103L'!I41,4)=\"Case\",'Analysis 103L'!CL41,'Analysis 103L'!J41)))","v":""},{"$f":"IF('Analysis 103L'!P41=\"\",\"\",IF(A15=\"\", \"\", 'Analysis 103L'!P41))","v":""},{"$f":"IF('Analysis 103L'!S41=\"\",\"\", IF(LEFT('Analysis 103L'!J41,6)=\"Motion\", \"\", IF(RIGHT('Analysis 103L'!I41,4)=\"Case\",'Analysis 103L'!R41, 'Analysis 103L'!S41)))","v":""},{"$f":"IF(ISNUMBER('Analysis 103L'!AT41),'Analysis 103L'!AT41,\"\")","v":""},{"$f":"IF('Analysis 103L'!D41=\"\",\"\",'Analysis 103L'!AA41)","v":""},{"$f":"IF(E15=\"\",\"\",'Analysis 103L'!BE41)","v":""},{"$f":"IFERROR('Analysis 103L'!CD41*B15,\"\")","v":""},{"$f":"IF('Analysis 103L'!C41=\"\",\"\",'Analysis 103L'!C41)","v":""},{"$f":"IF('Analysis 103L'!E41=\"\",\"\",IF(AND(C15=0,D15=0),\"\",'Analysis 103L'!E41))","v":""}]
[{"$f":"IF('Analysis 103L'!J42=\"\",\"\",IF(AND(C16=0,D16=0),\"\",IF(RIGHT('Analysis 103L'!I42,4)=\"Case\", IF(LEFT('Analysis 103L'!J42,6)=\"Motion\", \"\", 'Analysis 103L'!CL42),'Analysis 103L'!J42)))","v":""},{"$f":"IF('Analysis 103L'!P42=\"\",\"\",IF(A16=\"\", \"\", 'Analysis 103L'!P42))","v":""},{"$f":"IF('Analysis 103L'!S42=\"\",\"\", IF(LEFT('Analysis 103L'!J42,6)=\"Motion\", \"\", IF(RIGHT('Analysis 103L'!I42,4)=\"Case\",'Analysis 103L'!R42, 'Analysis 103L'!S42)))","v":""},{"$f":"IF(ISNUMBER('Analysis 103L'!AT42),'Analysis 103L'!AT42,\"\")","v":""},{"$f":"IF('Analysis 103L'!D42=\"\",\"\",'Analysis 103L'!AA42)","v":""},{"$f":"IF(E16=\"\",\"\",'Analysis 103L'!BE42)","v":""},{"$f":"IFERROR('Analysis 103L'!CD42*B16,\"\")","v":""},{"$f":"IF('Analysis 103L'!C42=\"\",\"\",'Analysis 103L'!C42)","v":""},{"$f":"IF('Analysis 103L'!E42=\"\",\"\",IF(AND(C16=0,D16=0),\"\",'Analysis 103L'!E42))","v":""}]
[{"$f":"IF('Analysis 103L'!J43=\"\",\"\",IF(AND(C17=0,D17=0),\"\",IF(RIGHT('Analysis 103L'!I43,4)=\"Case\", IF(LEFT('Analysis 103L'!J43,6)=\"Motion\", \"\", 'Analysis 103L'!CL43),'Analysis 103L'!J43)))","v":""},{"$f":"IF('Analysis 103L'!P43=\"\",\"\",IF(A17=\"\", \"\", 'Analysis 103L'!P43))","v":""},{"$f":"IF('Analysis 103L'!S43=\"\",\"\", IF(LEFT('Analysis 103L'!J43,6)=\"Motion\", \"\", IF(RIGHT('Analysis 103L'!I43,4)=\"Case\",'Analysis 103L'!R43, 'Analysis 103L'!S43)))","v":""},{"$f":"IF(ISNUMBER('Analysis 103L'!AT43),'Analysis 103L'!AT43,\"\")","v":""},{"$f":"IF('Analysis 103L'!D43=\"\",\"\",'Analysis 103L'!AA43)","v":""},{"$f":"IF(E17=\"\",\"\",'Analysis 103L'!BE43)","v":""},{"$f":"IFERROR('Analysis 103L'!CD43*B17,\"\")","v":""},{"$f":"IF('Analysis 103L'!C43=\"\",\"\",'Analysis 103L'!C43)","v":""},{"$f":"IF('Analysis 103L'!E43=\"\",\"\",IF(AND(C17=0,D17=0),\"\",'Analysis 103L'!E43))","v":""}]
[{"$f":"IF('Analysis 103L'!J44=\"\",\"\",IF(AND(C18=0,D18=0),\"\",IF(RIGHT('Analysis 103L'!I44,4)=\"Case\", IF(LEFT('Analysis 103L'!J44,6)=\"Motion\", \"\", 'Analysis 103L'!CL44),'Analysis 103L'!J44)))","v":""},{"$f":"IF('Analysis 103L'!P44=\"\",\"\",IF(A18=\"\", \"\", 'Analysis 103L'!P44))","v":""},{"$f":"IF('Analysis 103L'!S44=\"\",\"\", IF(LEFT('Analysis 103L'!J44,6)=\"Motion\", \"\", IF(RIGHT('Analysis 103L'!I44,4)=\"Case\",'Analysis 103L'!R44, 'Analysis 103L'!S44)))","v":""},{"$f":"IF(ISNUMBER('Analysis 103L'!AT44),'Analysis 103L'!AT44,\"\")","v":""},{"$f":"IF('Analysis 103L'!D44=\"\",\"\",'Analysis 103L'!AA44)","v":""},{"$f":"IF(E18=\"\",\"\",'Analysis 103L'!BE44)","v":""},{"$f":"IFERROR('Analysis 103L'!CD44*B18,\"\")","v":""},{"$f":"IF('Analysis 103L'!C44=\"\",\"\",'Analysis 103L'!C44)","v":""},{"$f":"IF('Analysis 103L'!E44=\"\",\"\",IF(AND(C18=0,D18=0),\"\",'Analysis 103L'!E44))","v":""}]
[{"$f":"IF('Analysis 103L'!J45=\"\",\"\",IF(AND(C19=0,D19=0),\"\",IF(RIGHT('Analysis 103L'!I45,4)=\"Case\", IF(LEFT('Analysis 103L'!J45,6)=\"Motion\", \"\", 'Analysis 103L'!CL45),'Analysis 103L'!J45)))","v":""},{"$f":"IF('Analysis 103L'!P45=\"\",\"\",IF(A19=\"\", \"\", 'Analysis 103L'!P45))","v":""},{"$f":"IF('Analysis 103L'!S45=\"\",\"\", IF(LEFT('Analysis 103L'!J45,6)=\"Motion\", \"\", IF(RIGHT('Analysis 103L'!I45,4)=\"Case\",'Analysis 103L'!R45, 'Analysis 103L'!S45)))","v":""},{"$f":"IF(ISNUMBER('Analysis 103L'!AT45),'Analysis 103L'!AT45,\"\")","v":""},{"$f":"IF('Analysis 103L'!D45=\"\",\"\",'Analysis 103L'!AA45)","v":""},{"$f":"IF(E19=\"\",\"\",'Analysis 103L'!BE45)","v":""},{"$f":"IFERROR('Analysis 103L'!CD45*B19,\"\")","v":""},{"$f":"IF('Analysis 103L'!C45=\"\",\"\",'Analysis 103L'!C45)","v":""},{"$f":"IF('Analysis 103L'!E45=\"\",\"\",IF(AND(C19=0,D19=0),\"\",'Analysis 103L'!E45))","v":""}]
[{"$f":"IF('Analysis 103L'!J46=\"\",\"\",IF(AND(C20=0,D20=0),\"\",IF(RIGHT('Analysis 103L'!I46,4)=\"Case\", IF(LEFT('Analysis 103L'!J46,6)=\"Motion\", \"\", 'Analysis 103L'!CL46),'Analysis 103L'!J46)))","v":""},{"$f":"IF('Analysis 103L'!P46=\"\",\"\",IF(A20=\"\", \"\", 'Analysis 103L'!P46))","v":""},{"$f":"IF('Analysis 103L'!S46=\"\",\"\", IF(LEFT('Analysis 103L'!J46,6)=\"Motion\", \"\", IF(RIGHT('Analysis 103L'!I46,4)=\"Case\",'Analysis 103L'!R46, 'Analysis 103L'!S46)))","v":""},{"$f":"IF(ISNUMBER('Analysis 103L'!AT46),'Analysis 103L'!AT46,\"\")","v":""},{"$f":"IF('Analysis 103L'!D46=\"\",\"\",'Analysis 103L'!AA46)","v":""},{"$f":"IF(E20=\"\",\"\",'Analysis 103L'!BE46)","v":""},{"$f":"IFERROR('Analysis 103L'!CD46*B20,\"\")","v":""},{"$f":"IF('Analysis 103L'!C46=\"\",\"\",'Analysis 103L'!C46)","v":""},{"$f":"IF('Analysis 103L'!E46=\"\",\"\",IF(AND(C20=0,D20=0),\"\",'Analysis 103L'!E46))","v":""}]
[{"$f":"IF('Analysis 103L'!J47=\"\",\"\",IF(AND(C21=0,D21=0),\"\",IF(RIGHT('Analysis 103L'!I47,4)=\"Case\", IF(LEFT('Analysis 103L'!J47,6)=\"Motion\", \"\", 'Analysis 103L'!CL47),'Analysis 103L'!J47)))","v":""},{"$f":"IF('Analysis 103L'!P47=\"\",\"\",IF(A21=\"\", \"\", 'Analysis 103L'!P47))","v":""},{"$f":"IF('Analysis 103L'!S47=\"\",\"\", IF(LEFT('Analysis 103L'!J47,6)=\"Motion\", \"\", IF(RIGHT('Analysis 103L'!I47,4)=\"Case\",'Analysis 103L'!R47, 'Analysis 103L'!S47)))","v":""},{"$f":"IF(ISNUMBER('Analysis 103L'!AT47),'Analysis 103L'!AT47,\"\")","v":""},{"$f":"IF('Analysis 103L'!D47=\"\",\"\",'Analysis 103L'!AA47)","v":""},{"$f":"IF(E21=\"\",\"\",'Analysis 103L'!BE47)","v":""},{"$f":"IFERROR('Analysis 103L'!CD47*B21,\"\")","v":""},{"$f":"IF('Analysis 103L'!C47=\"\",\"\",'Analysis 103L'!C47)","v":""},{"$f":"IF('Analysis 103L'!E47=\"\",\"\",IF(AND(C21=0,D21=0),\"\",'Analysis 103L'!E47))","v":""}]
[{"$f":"IF('Analysis 103L'!J48=\"\",\"\",IF(AND(C22=0,D22=0),\"\",IF(RIGHT('Analysis 103L'!I48,4)=\"Case\", IF(LEFT('Analysis 103L'!J48,6)=\"Motion\", \"\", 'Analysis 103L'!CL48),'Analysis 103L'!J48)))","v":""},{"$f":"IF('Analysis 103L'!P48=\"\",\"\",IF(A22=\"\", \"\", 'Analysis 103L'!P48))","v":""},{"$f":"IF('Analysis 103L'!S48=\"\",\"\", IF(LEFT('Analysis 103L'!J48,6)=\"Motion\", \"\", IF(RIGHT('Analysis 103L'!I48,4)=\"Case\",'Analysis 103L'!R48, 'Analysis 103L'!S48)))","v":""},{"$f":"IF(ISNUMBER('Analysis 103L'!AT48),'Analysis 103L'!AT48,\"\")","v":""},{"$f":"IF('Analysis 103L'!D48=\"\",\"\",'Analysis 103L'!AA48)","v":""},{"$f":"IF(E22=\"\",\"\",'Analysis 103L'!BE48)","v":""},{"$f":"IFERROR('Analysis 103L'!CD48*B22,\"\")","v":""},{"$f":"IF('Analysis 103L'!C48=\"\",\"\",'Analysis 103L'!C48)","v":""},{"$f":"IF('Analysis 103L'!E48=\"\",\"\",IF(AND(C22=0,D22=0),\"\",'Analysis 103L'!E48))","v":""}]
[{"$f":"IF('Analysis 103L'!J49=\"\",\"\",IF(AND(C23=0,D23=0),\"\",IF(RIGHT('Analysis 103L'!I49,4)=\"Case\", IF(LEFT('Analysis 103L'!J49,6)=\"Motion\", \"\", 'Analysis 103L'!CL49),'Analysis 103L'!J49)))","v":""},{"$f":"IF('Analysis 103L'!P49=\"\",\"\",IF(A23=\"\", \"\", 'Analysis 103L'!P49))","v":""},{"$f":"IF('Analysis 103L'!S49=\"\",\"\", IF(LEFT('Analysis 103L'!J49,6)=\"Motion\", \"\", IF(RIGHT('Analysis 103L'!I49,4)=\"Case\",'Analysis 103L'!R49, 'Analysis 103L'!S49)))","v":""},{"$f":"IF(ISNUMBER('Analysis 103L'!AT49),'Analysis 103L'!AT49,\"\")","v":""},{"$f":"IF('Analysis 103L'!D49=\"\",\"\",'Analysis 103L'!AA49)","v":""},{"$f":"IF(E23=\"\",\"\",'Analysis 103L'!BE49)","v":""},{"$f":"IFERROR('Analysis 103L'!CD49*B23,\"\")","v":""},{"$f":"IF('Analysis 103L'!C49=\"\",\"\",'Analysis 103L'!C49)","v":""},{"$f":"IF('Analysis 103L'!E49=\"\",\"\",IF(AND(C23=0,D23=0),\"\",'Analysis 103L'!E49))","v":""}]
[{"$f":"IF('Analysis 103L'!J50=\"\",\"\",IF(AND(C24=0,D24=0),\"\",IF(RIGHT('Analysis 103L'!I50,4)=\"Case\", IF(LEFT('Analysis 103L'!J50,6)=\"Motion\", \"\", 'Analysis 103L'!CL50),'Analysis 103L'!J50)))","v":""},{"$f":"IF('Analysis 103L'!P50=\"\",\"\",IF(A24=\"\", \"\", 'Analysis 103L'!P50))","v":""},{"$f":"IF('Analysis 103L'!S50=\"\",\"\", IF(LEFT('Analysis 103L'!J50,6)=\"Motion\", \"\", IF(RIGHT('Analysis 103L'!I50,4)=\"Case\",'Analysis 103L'!R50, 'Analysis 103L'!S50)))","v":""},{"$f":"IF(ISNUMBER('Analysis 103L'!AT50),'Analysis 103L'!AT50,\"\")","v":""},{"$f":"IF('Analysis 103L'!D50=\"\",\"\",'Analysis 103L'!AA50)","v":""},{"$f":"IF(E24=\"\",\"\",'Analysis 103L'!BE50)","v":""},{"$f":"IFERROR('Analysis 103L'!CD50*B24,\"\")","v":""},{"$f":"IF('Analysis 103L'!C50=\"\",\"\",'Analysis 103L'!C50)","v":""},{"$f":"IF('Analysis 103L'!E50=\"\",\"\",IF(AND(C24=0,D24=0),\"\",'Analysis 103L'!E50))","v":""}]
[{"$f":"IF('Analysis 103L'!J51=\"\",\"\",IF(AND(C25=0,D25=0),\"\",IF(RIGHT('Analysis 103L'!I51,4)=\"Case\", IF(LEFT('Analysis 103L'!J51,6)=\"Motion\", \"\", 'Analysis 103L'!CL51),'Analysis 103L'!J51)))","v":""},{"$f":"IF('Analysis 103L'!P51=\"\",\"\",IF(A25=\"\", \"\", 'Analysis 103L'!P51))","v":""},{"$f":"IF('Analysis 103L'!S51=\"\",\"\", IF(LEFT('Analysis 103L'!J51,6)=\"Motion\", \"\", IF(RIGHT('Analysis 103L'!I51,4)=\"Case\",'Analysis 103L'!R51, 'Analysis 103L'!S51)))","v":""},{"$f":"IF(ISNUMBER('Analysis 103L'!AT51),'Analysis 103L'!AT51,\"\")","v":""},{"$f":"IF('Analysis 103L'!D51=\"\",\"\",'Analysis 103L'!AA51)","v":""},{"$f":"IF(E25=\"\",\"\",'Analysis 103L'!BE51)","v":""},{"$f":"IFERROR('Analysis 103L'!CD51*B25,\"\")","v":""},{"$f":"IF('Analysis 103L'!C51=\"\",\"\",'Analysis 103L'!C51)","v":""},{"$f":"IF('Analysis 103L'!E51=\"\",\"\",IF(AND(C25=0,D25=0),\"\",'Analysis 103L'!E51))","v":""}]
[{"$f":"IF('Analysis 103L'!J52=\"\",\"\",IF(AND(C26=0,D26=0),\"\",IF(RIGHT('Analysis 103L'!I52,4)=\"Case\", IF(LEFT('Analysis 103L'!J52,6)=\"Motion\", \"\", 'Analysis 103L'!CL52),'Analysis 103L'!J52)))","v":""},{"$f":"IF('Analysis 103L'!P52=\"\",\"\",IF(A26=\"\", \"\", 'Analysis 103L'!P52))","v":""},{"$f":"IF('Analysis 103L'!S52=\"\",\"\", IF(LEFT('Analysis 103L'!J52,6)=\"Motion\", \"\", IF(RIGHT('Analysis 103L'!I52,4)=\"Case\",'Analysis 103L'!R52, 'Analysis 103L'!S52)))","v":""},{"$f":"IF(ISNUMBER('Analysis 103L'!AT52),'Analysis 103L'!AT52,\"\")","v":""},{"$f":"IF('Analysis 103L'!D52=\"\",\"\",'Analysis 103L'!AA52)","v":""},{"$f":"IF(E26=\"\",\"\",'Analysis 103L'!BE52)","v":""},{"$f":"IFERROR('Analysis 103L'!CD52*B26,\"\")","v":""},{"$f":"IF('Analysis 103L'!C52=\"\",\"\",'Analysis 103L'!C52)","v":""},{"$f":"IF('Analysis 103L'!E52=\"\",\"\",IF(AND(C26=0,D26=0),\"\",'Analysis 103L'!E52))","v":""}]
[{"$f":"IF('Analysis 103L'!J53=\"\",\"\",IF(AND(C27=0,D27=0),\"\",IF(RIGHT('Analysis 103L'!I53,4)=\"Case\", IF(LEFT('Analysis 103L'!J53,6)=\"Motion\", \"\", 'Analysis 103L'!CL53),'Analysis 103L'!J53)))","v":""},{"$f":"IF('Analysis 103L'!P53=\"\",\"\",IF(A27=\"\", \"\", 'Analysis 103L'!P53))","v":""},{"$f":"IF('Analysis 103L'!S53=\"\",\"\", IF(LEFT('Analysis 103L'!J53,6)=\"Motion\", \"\", IF(RIGHT('Analysis 103L'!I53,4)=\"Case\",'Analysis 103L'!R53, 'Analysis 103L'!S53)))","v":""},{"$f":"IF(ISNUMBER('Analysis 103L'!AT53),'Analysis 103L'!AT53,\"\")","v":""},{"$f":"IF('Analysis 103L'!D53=\"\",\"\",'Analysis 103L'!AA53)","v":""},{"$f":"IF(E27=\"\",\"\",'Analysis 103L'!BE53)","v":""},{"$f":"IFERROR('Analysis 103L'!CD53*B27,\"\")","v":""},{"$f":"IF('Analysis 103L'!C53=\"\",\"\",'Analysis 103L'!C53)","v":""},{"$f":"IF('Analysis 103L'!E53=\"\",\"\",IF(AND(C27=0,D27=0),\"\",'Analysis 103L'!E53))","v":""}]
[{"$f":"IF('Analysis 103L'!J54=\"\",\"\",IF(AND(C28=0,D28=0),\"\",IF(RIGHT('Analysis 103L'!I54,4)=\"Case\", IF(LEFT('Analysis 103L'!J54,6)=\"Motion\", \"\", 'Analysis 103L'!CL54),'Analysis 103L'!J54)))","v":""},{"$f":"IF('Analysis 103L'!P54=\"\",\"\",IF(A28=\"\", \"\", 'Analysis 103L'!P54))","v":""},{"$f":"IF('Analysis 103L'!S54=\"\",\"\", IF(LEFT('Analysis 103L'!J54,6)=\"Motion\", \"\", IF(RIGHT('Analysis 103L'!I54,4)=\"Case\",'Analysis 103L'!R54, 'Analysis 103L'!S54)))","v":""},{"$f":"IF(ISNUMBER('Analysis 103L'!AT54),'Analysis 103L'!AT54,\"\")","v":""},{"$f":"IF('Analysis 103L'!D54=\"\",\"\",'Analysis 103L'!AA54)","v":""},{"$f":"IF(E28=\"\",\"\",'Analysis 103L'!BE54)","v":""},{"$f":"IFERROR('Analysis 103L'!CD54*B28,\"\")","v":""},{"$f":"IF('Analysis 103L'!C54=\"\",\"\",'Analysis 103L'!C54)","v":""},{"$f":"IF('Analysis 103L'!E54=\"\",\"\",IF(AND(C28=0,D28=0),\"\",'Analysis 103L'!E54))","v":""}]
[{"$f":"IF('Analysis 103L'!J55=\"\",\"\",IF(AND(C29=0,D29=0),\"\",IF(RIGHT('Analysis 103L'!I55,4)=\"Case\", IF(LEFT('Analysis 103L'!J55,6)=\"Motion\", \"\", 'Analysis 103L'!CL55),'Analysis 103L'!J55)))","v":""},{"$f":"IF('Analysis 103L'!P55=\"\",\"\",IF(A29=\"\", \"\", 'Analysis 103L'!P55))","v":""},{"$f":"IF('Analysis 103L'!S55=\"\",\"\", IF(LEFT('Analysis 103L'!J55,6)=\"Motion\", \"\", IF(RIGHT('Analysis 103L'!I55,4)=\"Case\",'Analysis 103L'!R55, 'Analysis 103L'!S55)))","v":""},{"$f":"IF(ISNUMBER('Analysis 103L'!AT55),'Analysis 103L'!AT55,\"\")","v":""},{"$f":"IF('Analysis 103L'!D55=\"\",\"\",'Analysis 103L'!AA55)","v":""},{"$f":"IF(E29=\"\",\"\",'Analysis 103L'!BE55)","v":""},{"$f":"IFERROR('Analysis 103L'!CD55*B29,\"\")","v":""},{"$f":"IF('Analysis 103L'!C55=\"\",\"\",'Analysis 103L'!C55)","v":""},{"$f":"IF('Analysis 103L'!E55=\"\",\"\",IF(AND(C29=0,D29=0),\"\",'Analysis 103L'!E55))","v":""}]
[{"$f":"IF('Analysis 103L'!J56=\"\",\"\",IF(AND(C30=0,D30=0),\"\",IF(RIGHT('Analysis 103L'!I56,4)=\"Case\", IF(LEFT('Analysis 103L'!J56,6)=\"Motion\", \"\", 'Analysis 103L'!CL56),'Analysis 103L'!J56)))","v":""},{"$f":"IF('Analysis 103L'!P56=\"\",\"\",IF(A30=\"\", \"\", 'Analysis 103L'!P56))","v":""},{"$f":"IF('Analysis 103L'!S56=\"\",\"\", IF(LEFT('Analysis 103L'!J56,6)=\"Motion\", \"\", IF(RIGHT('Analysis 103L'!I56,4)=\"Case\",'Analysis 103L'!R56, 'Analysis 103L'!S56)))","v":""},{"$f":"IF(ISNUMBER('Analysis 103L'!AT56),'Analysis 103L'!AT56,\"\")","v":""},{"$f":"IF('Analysis 103L'!D56=\"\",\"\",'Analysis 103L'!AA56)","v":""},{"$f":"IF(E30=\"\",\"\",'Analysis 103L'!BE56)","v":""},{"$f":"IFERROR('Analysis 103L'!CD56*B30,\"\")","v":""},{"$f":"IF('Analysis 103L'!C56=\"\",\"\",'Analysis 103L'!C56)","v":""},{"$f":"IF('Analysis 103L'!E56=\"\",\"\",IF(AND(C30=0,D30=0),\"\",'Analysis 103L'!E56))","v":""}]
[{"$f":"IF('Analysis 103L'!J57=\"\",\"\",IF(AND(C31=0,D31=0),\"\",IF(RIGHT('Analysis 103L'!I57,4)=\"Case\", IF(LEFT('Analysis 103L'!J57,6)=\"Motion\", \"\", 'Analysis 103L'!CL57),'Analysis 103L'!J57)))","v":""},{"$f":"IF('Analysis 103L'!P57=\"\",\"\",IF(A31=\"\", \"\", 'Analysis 103L'!P57))","v":""},{"$f":"IF('Analysis 103L'!S57=\"\",\"\", IF(LEFT('Analysis 103L'!J57,6)=\"Motion\", \"\", IF(RIGHT('Analysis 103L'!I57,4)=\"Case\",'Analysis 103L'!R57, 'Analysis 103L'!S57)))","v":""},{"$f":"IF(ISNUMBER('Analysis 103L'!AT57),'Analysis 103L'!AT57,\"\")","v":""},{"$f":"IF('Analysis 103L'!D57=\"\",\"\",'Analysis 103L'!AA57)","v":""},{"$f":"IF(E31=\"\",\"\",'Analysis 103L'!BE57)","v":""},{"$f":"IFERROR('Analysis 103L'!CD57*B31,\"\")","v":""},{"$f":"IF('Analysis 103L'!C57=\"\",\"\",'Analysis 103L'!C57)","v":""},{"$f":"IF('Analysis 103L'!E57=\"\",\"\",IF(AND(C31=0,D31=0),\"\",'Analysis 103L'!E57))","v":""}]
[{"$f":"IF('Analysis 103L'!J58=\"\",\"\",IF(AND(C32=0,D32=0),\"\",IF(RIGHT('Analysis 103L'!I58,4)=\"Case\", IF(LEFT('Analysis 103L'!J58,6)=\"Motion\", \"\", 'Analysis 103L'!CL58),'Analysis 103L'!J58)))","v":""},{"$f":"IF('Analysis 103L'!P58=\"\",\"\",IF(A32=\"\", \"\", 'Analysis 103L'!P58))","v":""},{"$f":"IF('Analysis 103L'!S58=\"\",\"\", IF(LEFT('Analysis 103L'!J58,6)=\"Motion\", \"\", IF(RIGHT('Analysis 103L'!I58,4)=\"Case\",'Analysis 103L'!R58, 'Analysis 103L'!S58)))","v":""},{"$f":"IF(ISNUMBER('Analysis 103L'!AT58),'Analysis 103L'!AT58,\"\")","v":""},{"$f":"IF('Analysis 103L'!D58=\"\",\"\",'Analysis 103L'!AA58)","v":""},{"$f":"IF(E32=\"\",\"\",'Analysis 103L'!BE58)","v":""},{"$f":"IFERROR('Analysis 103L'!CD58*B32,\"\")","v":""},{"$f":"IF('Analysis 103L'!C58=\"\",\"\",'Analysis 103L'!C58)","v":""},{"$f":"IF('Analysis 103L'!E58=\"\",\"\",IF(AND(C32=0,D32=0),\"\",'Analysis 103L'!E58))","v":""}]
[{"$f":"IF('Analysis 103L'!J59=\"\",\"\",IF(AND(C33=0,D33=0),\"\",IF(RIGHT('Analysis 103L'!I59,4)=\"Case\", IF(LEFT('Analysis 103L'!J59,6)=\"Motion\", \"\", 'Analysis 103L'!CL59),'Analysis 103L'!J59)))","v":""},{"$f":"IF('Analysis 103L'!P59=\"\",\"\",IF(A33=\"\", \"\", 'Analysis 103L'!P59))","v":""},{"$f":"IF('Analysis 103L'!S59=\"\",\"\", IF(LEFT('Analysis 103L'!J59,6)=\"Motion\", \"\", IF(RIGHT('Analysis 103L'!I59,4)=\"Case\",'Analysis 103L'!R59, 'Analysis 103L'!S59)))","v":""},{"$f":"IF(ISNUMBER('Analysis 103L'!AT59),'Analysis 103L'!AT59,\"\")","v":""},{"$f":"IF('Analysis 103L'!D59=\"\",\"\",'Analysis 103L'!AA59)","v":""},{"$f":"IF(E33=\"\",\"\",'Analysis 103L'!BE59)","v":""},{"$f":"IFERROR('Analysis 103L'!CD59*B33,\"\")","v":""},{"$f":"IF('Analysis 103L'!C59=\"\",\"\",'Analysis 103L'!C59)","v":""},{"$f":"IF('Analysis 103L'!E59=\"\",\"\",IF(AND(C33=0,D33=0),\"\",'Analysis 103L'!E59))","v":""}]
[{"$f":"IF('Analysis 103L'!J60=\"\",\"\",IF(AND(C34=0,D34=0),\"\",IF(RIGHT('Analysis 103L'!I60,4)=\"Case\", IF(LEFT('Analysis 103L'!J60,6)=\"Motion\", \"\", 'Analysis 103L'!CL60),'Analysis 103L'!J60)))","v":""},{"$f":"IF('Analysis 103L'!P60=\"\",\"\",IF(A34=\"\", \"\", 'Analysis 103L'!P60))","v":""},{"$f":"IF('Analysis 103L'!S60=\"\",\"\", IF(LEFT('Analysis 103L'!J60,6)=\"Motion\", \"\", IF(RIGHT('Analysis 103L'!I60,4)=\"Case\",'Analysis 103L'!R60, 'Analysis 103L'!S60)))","v":""},{"$f":"IF(ISNUMBER('Analysis 103L'!AT60),'Analysis 103L'!AT60,\"\")","v":""},{"$f":"IF('Analysis 103L'!D60=\"\",\"\",'Analysis 103L'!AA60)","v":""},{"$f":"IF(E34=\"\",\"\",'Analysis 103L'!BE60)","v":""},{"$f":"IFERROR('Analysis 103L'!CD60*B34,\"\")","v":""},{"$f":"IF('Analysis 103L'!C60=\"\",\"\",'Analysis 103L'!C60)","v":""},{"$f":"IF('Analysis 103L'!E60=\"\",\"\",IF(AND(C34=0,D34=0),\"\",'Analysis 103L'!E60))","v":""}]
[{"$f":"IF('Analysis 103L'!J61=\"\",\"\",IF(AND(C35=0,D35=0),\"\",IF(RIGHT('Analysis 103L'!I61,4)=\"Case\", IF(LEFT('Analysis 103L'!J61,6)=\"Motion\", \"\", 'Analysis 103L'!CL61),'Analysis 103L'!J61)))","v":""},{"$f":"IF('Analysis 103L'!P61=\"\",\"\",IF(A35=\"\", \"\", 'Analysis 103L'!P61))","v":""},{"$f":"IF('Analysis 103L'!S61=\"\",\"\", IF(LEFT('Analysis 103L'!J61,6)=\"Motion\", \"\", IF(RIGHT('Analysis 103L'!I61,4)=\"Case\",'Analysis 103L'!R61, 'Analysis 103L'!S61)))","v":""},{"$f":"IF(ISNUMBER('Analysis 103L'!AT61),'Analysis 103L'!AT61,\"\")","v":""},{"$f":"IF('Analysis 103L'!D61=\"\",\"\",'Analysis 103L'!AA61)","v":""},{"$f":"IF(E35=\"\",\"\",'Analysis 103L'!BE61)","v":""},{"$f":"IFERROR('Analysis 103L'!CD61*B35,\"\")","v":""},{"$f":"IF('Analysis 103L'!C61=\"\",\"\",'Analysis 103L'!C61)","v":""},{"$f":"IF('Analysis 103L'!E61=\"\",\"\",IF(AND(C35=0,D35=0),\"\",'Analysis 103L'!E61))","v":""}]
[{"$f":"IF('Analysis 103L'!J62=\"\",\"\",IF(AND(C36=0,D36=0),\"\",IF(RIGHT('Analysis 103L'!I62,4)=\"Case\", IF(LEFT('Analysis 103L'!J62,6)=\"Motion\", \"\", 'Analysis 103L'!CL62),'Analysis 103L'!J62)))","v":""},{"$f":"IF('Analysis 103L'!P62=\"\",\"\",IF(A36=\"\", \"\", 'Analysis 103L'!P62))","v":""},{"$f":"IF('Analysis 103L'!S62=\"\",\"\", IF(LEFT('Analysis 103L'!J62,6)=\"Motion\", \"\", IF(RIGHT('Analysis 103L'!I62,4)=\"Case\",'Analysis 103L'!R62, 'Analysis 103L'!S62)))","v":""},{"$f":"IF(ISNUMBER('Analysis 103L'!AT62),'Analysis 103L'!AT62,\"\")","v":""},{"$f":"IF('Analysis 103L'!D62=\"\",\"\",'Analysis 103L'!AA62)","v":""},{"$f":"IF(E36=\"\",\"\",'Analysis 103L'!BE62)","v":""},{"$f":"IFERROR('Analysis 103L'!CD62*B36,\"\")","v":""},{"$f":"IF('Analysis 103L'!C62=\"\",\"\",'Analysis 103L'!C62)","v":""},{"$f":"IF('Analysis 103L'!E62=\"\",\"\",IF(AND(C36=0,D36=0),\"\",'Analysis 103L'!E62))","v":""}]
[{"$f":"IF('Analysis 103L'!J63=\"\",\"\",IF(AND(C37=0,D37=0),\"\",IF(RIGHT('Analysis 103L'!I63,4)=\"Case\", IF(LEFT('Analysis 103L'!J63,6)=\"Motion\", \"\", 'Analysis 103L'!CL63),'Analysis 103L'!J63)))","v":""},{"$f":"IF('Analysis 103L'!P63=\"\",\"\",IF(A37=\"\", \"\", 'Analysis 103L'!P63))","v":""},{"$f":"IF('Analysis 103L'!S63=\"\",\"\", IF(LEFT('Analysis 103L'!J63,6)=\"Motion\", \"\", IF(RIGHT('Analysis 103L'!I63,4)=\"Case\",'Analysis 103L'!R63, 'Analysis 103L'!S63)))","v":""},{"$f":"IF(ISNUMBER('Analysis 103L'!AT63),'Analysis 103L'!AT63,\"\")","v":""},{"$f":"IF('Analysis 103L'!D63=\"\",\"\",'Analysis 103L'!AA63)","v":""},{"$f":"IF(E37=\"\",\"\",'Analysis 103L'!BE63)","v":""},{"$f":"IFERROR('Analysis 103L'!CD63*B37,\"\")","v":""},{"$f":"IF('Analysis 103L'!C63=\"\",\"\",'Analysis 103L'!C63)","v":""},{"$f":"IF('Analysis 103L'!E63=\"\",\"\",IF(AND(C37=0,D37=0),\"\",'Analysis 103L'!E63))","v":""}]
[{"$f":"IF('Analysis 103L'!J64=\"\",\"\",IF(AND(C38=0,D38=0),\"\",IF(RIGHT('Analysis 103L'!I64,4)=\"Case\", IF(LEFT('Analysis 103L'!J64,6)=\"Motion\", \"\", 'Analysis 103L'!CL64),'Analysis 103L'!J64)))","v":""},{"$f":"IF('Analysis 103L'!P64=\"\",\"\",IF(A38=\"\", \"\", 'Analysis 103L'!P64))","v":""},{"$f":"IF('Analysis 103L'!S64=\"\",\"\", IF(LEFT('Analysis 103L'!J64,6)=\"Motion\", \"\", IF(RIGHT('Analysis 103L'!I64,4)=\"Case\",'Analysis 103L'!R64, 'Analysis 103L'!S64)))","v":""},{"$f":"IF(ISNUMBER('Analysis 103L'!AT64),'Analysis 103L'!AT64,\"\")","v":""},{"$f":"IF('Analysis 103L'!D64=\"\",\"\",'Analysis 103L'!AA64)","v":""},{"$f":"IF(E38=\"\",\"\",'Analysis 103L'!BE64)","v":""},{"$f":"IFERROR('Analysis 103L'!CD64*B38,\"\")","v":""},{"$f":"IF('Analysis 103L'!C64=\"\",\"\",'Analysis 103L'!C64)","v":""},{"$f":"IF('Analysis 103L'!E64=\"\",\"\",IF(AND(C38=0,D38=0),\"\",'Analysis 103L'!E64))","v":""}]
[{"$f":"IF('Analysis 103L'!J65=\"\",\"\",IF(AND(C39=0,D39=0),\"\",IF(RIGHT('Analysis 103L'!I65,4)=\"Case\", IF(LEFT('Analysis 103L'!J65,6)=\"Motion\", \"\", 'Analysis 103L'!CL65),'Analysis 103L'!J65)))","v":""},{"$f":"IF('Analysis 103L'!P65=\"\",\"\",IF(A39=\"\", \"\", 'Analysis 103L'!P65))","v":""},{"$f":"IF('Analysis 103L'!S65=\"\",\"\", IF(LEFT('Analysis 103L'!J65,6)=\"Motion\", \"\", IF(RIGHT('Analysis 103L'!I65,4)=\"Case\",'Analysis 103L'!R65, 'Analysis 103L'!S65)))","v":""},{"$f":"IF(ISNUMBER('Analysis 103L'!AT65),'Analysis 103L'!AT65,\"\")","v":""},{"$f":"IF('Analysis 103L'!D65=\"\",\"\",'Analysis 103L'!AA65)","v":""},{"$f":"IF(E39=\"\",\"\",'Analysis 103L'!BE65)","v":""},{"$f":"IFERROR('Analysis 103L'!CD65*B39,\"\")","v":""},{"$f":"IF('Analysis 103L'!C65=\"\",\"\",'Analysis 103L'!C65)","v":""},{"$f":"IF('Analysis 103L'!E65=\"\",\"\",IF(AND(C39=0,D39=0),\"\",'Analysis 103L'!E65))","v":""}]
[{"$f":"IF('Analysis 103L'!J66=\"\",\"\",IF(AND(C40=0,D40=0),\"\",IF(RIGHT('Analysis 103L'!I66,4)=\"Case\", IF(LEFT('Analysis 103L'!J66,6)=\"Motion\", \"\", 'Analysis 103L'!CL66),'Analysis 103L'!J66)))","v":""},{"$f":"IF('Analysis 103L'!P66=\"\",\"\",IF(A40=\"\", \"\", 'Analysis 103L'!P66))","v":""},{"$f":"IF('Analysis 103L'!S66=\"\",\"\", IF(LEFT('Analysis 103L'!J66,6)=\"Motion\", \"\", IF(RIGHT('Analysis 103L'!I66,4)=\"Case\",'Analysis 103L'!R66, 'Analysis 103L'!S66)))","v":""},{"$f":"IF(ISNUMBER('Analysis 103L'!AT66),'Analysis 103L'!AT66,\"\")","v":""},{"$f":"IF('Analysis 103L'!D66=\"\",\"\",'Analysis 103L'!AA66)","v":""},{"$f":"IF(E40=\"\",\"\",'Analysis 103L'!BE66)","v":""},{"$f":"IFERROR('Analysis 103L'!CD66*B40,\"\")","v":""},{"$f":"IF('Analysis 103L'!C66=\"\",\"\",'Analysis 103L'!C66)","v":""},{"$f":"IF('Analysis 103L'!E66=\"\",\"\",IF(AND(C40=0,D40=0),\"\",'Analysis 103L'!E66))","v":""}]
[{"$f":"IF('Analysis 103L'!J67=\"\",\"\",IF(AND(C41=0,D41=0),\"\",IF(RIGHT('Analysis 103L'!I67,4)=\"Case\", IF(LEFT('Analysis 103L'!J67,6)=\"Motion\", \"\", 'Analysis 103L'!CL67),'Analysis 103L'!J67)))","v":""},{"$f":"IF('Analysis 103L'!P67=\"\",\"\",IF(A41=\"\", \"\", 'Analysis 103L'!P67))","v":""},{"$f":"IF('Analysis 103L'!S67=\"\",\"\", IF(LEFT('Analysis 103L'!J67,6)=\"Motion\", \"\", IF(RIGHT('Analysis 103L'!I67,4)=\"Case\",'Analysis 103L'!R67, 'Analysis 103L'!S67)))","v":""},{"$f":"IF(ISNUMBER('Analysis 103L'!AT67),'Analysis 103L'!AT67,\"\")","v":""},{"$f":"IF('Analysis 103L'!D67=\"\",\"\",'Analysis 103L'!AA67)","v":""},{"$f":"IF(E41=\"\",\"\",'Analysis 103L'!BE67)","v":""},{"$f":"IFERROR('Analysis 103L'!CD67*B41,\"\")","v":""},{"$f":"IF('Analysis 103L'!C67=\"\",\"\",'Analysis 103L'!C67)","v":""},{"$f":"IF('Analysis 103L'!E67=\"\",\"\",IF(AND(C41=0,D41=0),\"\",'Analysis 103L'!E67))","v":""}]
[{"$f":"IF('Analysis 103L'!J68=\"\",\"\",IF(AND(C42=0,D42=0),\"\",IF(RIGHT('Analysis 103L'!I68,4)=\"Case\", IF(LEFT('Analysis 103L'!J68,6)=\"Motion\", \"\", 'Analysis 103L'!CL68),'Analysis 103L'!J68)))","v":""},{"$f":"IF('Analysis 103L'!P68=\"\",\"\",IF(A42=\"\", \"\", 'Analysis 103L'!P68))","v":""},{"$f":"IF('Analysis 103L'!S68=\"\",\"\", IF(LEFT('Analysis 103L'!J68,6)=\"Motion\", \"\", IF(RIGHT('Analysis 103L'!I68,4)=\"Case\",'Analysis 103L'!R68, 'Analysis 103L'!S68)))","v":""},{"$f":"IF(ISNUMBER('Analysis 103L'!AT68),'Analysis 103L'!AT68,\"\")","v":""},{"$f":"IF('Analysis 103L'!D68=\"\",\"\",'Analysis 103L'!AA68)","v":""},{"$f":"IF(E42=\"\",\"\",'Analysis 103L'!BE68)","v":""},{"$f":"IFERROR('Analysis 103L'!CD68*B42,\"\")","v":""},{"$f":"IF('Analysis 103L'!C68=\"\",\"\",'Analysis 103L'!C68)","v":""},{"$f":"IF('Analysis 103L'!E68=\"\",\"\",IF(AND(C42=0,D42=0),\"\",'Analysis 103L'!E68))","v":""}]
[{"$f":"IF('Analysis 103L'!J69=\"\",\"\",IF(AND(C43=0,D43=0),\"\",IF(RIGHT('Analysis 103L'!I69,4)=\"Case\", IF(LEFT('Analysis 103L'!J69,6)=\"Motion\", \"\", 'Analysis 103L'!CL69),'Analysis 103L'!J69)))","v":""},{"$f":"IF('Analysis 103L'!P69=\"\",\"\",IF(A43=\"\", \"\", 'Analysis 103L'!P69))","v":""},{"$f":"IF('Analysis 103L'!S69=\"\",\"\", IF(LEFT('Analysis 103L'!J69,6)=\"Motion\", \"\", IF(RIGHT('Analysis 103L'!I69,4)=\"Case\",'Analysis 103L'!R69, 'Analysis 103L'!S69)))","v":""},{"$f":"IF(ISNUMBER('Analysis 103L'!AT69),'Analysis 103L'!AT69,\"\")","v":""},{"$f":"IF('Analysis 103L'!D69=\"\",\"\",'Analysis 103L'!AA69)","v":""},{"$f":"IF(E43=\"\",\"\",'Analysis 103L'!BE69)","v":""},{"$f":"IFERROR('Analysis 103L'!CD69*B43,\"\")","v":""},{"$f":"IF('Analysis 103L'!C69=\"\",\"\",'Analysis 103L'!C69)","v":""},{"$f":"IF('Analysis 103L'!E69=\"\",\"\",IF(AND(C43=0,D43=0),\"\",'Analysis 103L'!E69))","v":""}]
[{"$f":"IF('Analysis 103L'!J70=\"\",\"\",IF(AND(C44=0,D44=0),\"\",IF(RIGHT('Analysis 103L'!I70,4)=\"Case\", IF(LEFT('Analysis 103L'!J70,6)=\"Motion\", \"\", 'Analysis 103L'!CL70),'Analysis 103L'!J70)))","v":""},{"$f":"IF('Analysis 103L'!P70=\"\",\"\",IF(A44=\"\", \"\", 'Analysis 103L'!P70))","v":""},{"$f":"IF('Analysis 103L'!S70=\"\",\"\", IF(LEFT('Analysis 103L'!J70,6)=\"Motion\", \"\", IF(RIGHT('Analysis 103L'!I70,4)=\"Case\",'Analysis 103L'!R70, 'Analysis 103L'!S70)))","v":""},{"$f":"IF(ISNUMBER('Analysis 103L'!AT70),'Analysis 103L'!AT70,\"\")","v":""},{"$f":"IF('Analysis 103L'!D70=\"\",\"\",'Analysis 103L'!AA70)","v":""},{"$f":"IF(E44=\"\",\"\",'Analysis 103L'!BE70)","v":""},{"$f":"IFERROR('Analysis 103L'!CD70*B44,\"\")","v":""},{"$f":"IF('Analysis 103L'!C70=\"\",\"\",'Analysis 103L'!C70)","v":""},{"$f":"IF('Analysis 103L'!E70=\"\",\"\",IF(AND(C44=0,D44=0),\"\",'Analysis 103L'!E70))","v":""}]
[{"$f":"IF('Analysis 103L'!J71=\"\",\"\",IF(AND(C45=0,D45=0),\"\",IF(RIGHT('Analysis 103L'!I71,4)=\"Case\", IF(LEFT('Analysis 103L'!J71,6)=\"Motion\", \"\", 'Analysis 103L'!CL71),'Analysis 103L'!J71)))","v":""},{"$f":"IF('Analysis 103L'!P71=\"\",\"\",IF(A45=\"\", \"\", 'Analysis 103L'!P71))","v":""},{"$f":"IF('Analysis 103L'!S71=\"\",\"\", IF(LEFT('Analysis 103L'!J71,6)=\"Motion\", \"\", IF(RIGHT('Analysis 103L'!I71,4)=\"Case\",'Analysis 103L'!R71, 'Analysis 103L'!S71)))","v":""},{"$f":"IF(ISNUMBER('Analysis 103L'!AT71),'Analysis 103L'!AT71,\"\")","v":""},{"$f":"IF('Analysis 103L'!D71=\"\",\"\",'Analysis 103L'!AA71)","v":""},{"$f":"IF(E45=\"\",\"\",'Analysis 103L'!BE71)","v":""},{"$f":"IFERROR('Analysis 103L'!CD71*B45,\"\")","v":""},{"$f":"IF('Analysis 103L'!C71=\"\",\"\",'Analysis 103L'!C71)","v":""},{"$f":"IF('Analysis 103L'!E71=\"\",\"\",IF(AND(C45=0,D45=0),\"\",'Analysis 103L'!E71))","v":""}]
[{"$f":"IF('Analysis 103L'!J72=\"\",\"\",IF(AND(C46=0,D46=0),\"\",IF(RIGHT('Analysis 103L'!I72,4)=\"Case\", IF(LEFT('Analysis 103L'!J72,6)=\"Motion\", \"\", 'Analysis 103L'!CL72),'Analysis 103L'!J72)))","v":""},{"$f":"IF('Analysis 103L'!P72=\"\",\"\",IF(A46=\"\", \"\", 'Analysis 103L'!P72))","v":""},{"$f":"IF('Analysis 103L'!S72=\"\",\"\", IF(LEFT('Analysis 103L'!J72,6)=\"Motion\", \"\", IF(RIGHT('Analysis 103L'!I72,4)=\"Case\",'Analysis 103L'!R72, 'Analysis 103L'!S72)))","v":""},{"$f":"IF(ISNUMBER('Analysis 103L'!AT72),'Analysis 103L'!AT72,\"\")","v":""},{"$f":"IF('Analysis 103L'!D72=\"\",\"\",'Analysis 103L'!AA72)","v":""},{"$f":"IF(E46=\"\",\"\",'Analysis 103L'!BE72)","v":""},{"$f":"IFERROR('Analysis 103L'!CD72*B46,\"\")","v":""},{"$f":"IF('Analysis 103L'!C72=\"\",\"\",'Analysis 103L'!C72)","v":""},{"$f":"IF('Analysis 103L'!E72=\"\",\"\",IF(AND(C46=0,D46=0),\"\",'Analysis 103L'!E72))","v":""}]
[{"$f":"IF('Analysis 103L'!J73=\"\",\"\",IF(AND(C47=0,D47=0),\"\",IF(RIGHT('Analysis 103L'!I73,4)=\"Case\", IF(LEFT('Analysis 103L'!J73,6)=\"Motion\", \"\", 'Analysis 103L'!CL73),'Analysis 103L'!J73)))","v":""},{"$f":"IF('Analysis 103L'!P73=\"\",\"\",IF(A47=\"\", \"\", 'Analysis 103L'!P73))","v":""},{"$f":"IF('Analysis 103L'!S73=\"\",\"\", IF(LEFT('Analysis 103L'!J73,6)=\"Motion\", \"\", IF(RIGHT('Analysis 103L'!I73,4)=\"Case\",'Analysis 103L'!R73, 'Analysis 103L'!S73)))","v":""},{"$f":"IF(ISNUMBER('Analysis 103L'!AT73),'Analysis 103L'!AT73,\"\")","v":""},{"$f":"IF('Analysis 103L'!D73=\"\",\"\",'Analysis 103L'!AA73)","v":""},{"$f":"IF(E47=\"\",\"\",'Analysis 103L'!BE73)","v":""},{"$f":"IFERROR('Analysis 103L'!CD73*B47,\"\")","v":""},{"$f":"IF('Analysis 103L'!C73=\"\",\"\",'Analysis 103L'!C73)","v":""},{"$f":"IF('Analysis 103L'!E73=\"\",\"\",IF(AND(C47=0,D47=0),\"\",'Analysis 103L'!E73))","v":""}]
[{"$f":"IF('Analysis 103L'!J74=\"\",\"\",IF(AND(C48=0,D48=0),\"\",IF(RIGHT('Analysis 103L'!I74,4)=\"Case\", IF(LEFT('Analysis 103L'!J74,6)=\"Motion\", \"\", 'Analysis 103L'!CL74),'Analysis 103L'!J74)))","v":""},{"$f":"IF('Analysis 103L'!P74=\"\",\"\",IF(A48=\"\", \"\", 'Analysis 103L'!P74))","v":""},{"$f":"IF('Analysis 103L'!S74=\"\",\"\", IF(LEFT('Analysis 103L'!J74,6)=\"Motion\", \"\", IF(RIGHT('Analysis 103L'!I74,4)=\"Case\",'Analysis 103L'!R74, 'Analysis 103L'!S74)))","v":""},{"$f":"IF(ISNUMBER('Analysis 103L'!AT74),'Analysis 103L'!AT74,\"\")","v":""},{"$f":"IF('Analysis 103L'!D74=\"\",\"\",'Analysis 103L'!AA74)","v":""},{"$f":"IF(E48=\"\",\"\",'Analysis 103L'!BE74)","v":""},{"$f":"IFERROR('Analysis 103L'!CD74*B48,\"\")","v":""},{"$f":"IF('Analysis 103L'!C74=\"\",\"\",'Analysis 103L'!C74)","v":""},{"$f":"IF('Analysis 103L'!E74=\"\",\"\",IF(AND(C48=0,D48=0),\"\",'Analysis 103L'!E74))","v":""}]
[{"$f":"IF('Analysis 103L'!J75=\"\",\"\",IF(AND(C49=0,D49=0),\"\",IF(RIGHT('Analysis 103L'!I75,4)=\"Case\", IF(LEFT('Analysis 103L'!J75,6)=\"Motion\", \"\", 'Analysis 103L'!CL75),'Analysis 103L'!J75)))","v":""},{"$f":"IF('Analysis 103L'!P75=\"\",\"\",IF(A49=\"\", \"\", 'Analysis 103L'!P75))","v":""},{"$f":"IF('Analysis 103L'!S75=\"\",\"\", IF(LEFT('Analysis 103L'!J75,6)=\"Motion\", \"\", IF(RIGHT('Analysis 103L'!I75,4)=\"Case\",'Analysis 103L'!R75, 'Analysis 103L'!S75)))","v":""},{"$f":"IF(ISNUMBER('Analysis 103L'!AT75),'Analysis 103L'!AT75,\"\")","v":""},{"$f":"IF('Analysis 103L'!D75=\"\",\"\",'Analysis 103L'!AA75)","v":""},{"$f":"IF(E49=\"\",\"\",'Analysis 103L'!BE75)","v":""},{"$f":"IFERROR('Analysis 103L'!CD75*B49,\"\")","v":""},{"$f":"IF('Analysis 103L'!C75=\"\",\"\",'Analysis 103L'!C75)","v":""},{"$f":"IF('Analysis 103L'!E75=\"\",\"\",IF(AND(C49=0,D49=0),\"\",'Analysis 103L'!E75))","v":""}]
[{"$f":"IF('Analysis 103L'!J76=\"\",\"\",IF(AND(C50=0,D50=0),\"\",IF(RIGHT('Analysis 103L'!I76,4)=\"Case\", IF(LEFT('Analysis 103L'!J76,6)=\"Motion\", \"\", 'Analysis 103L'!CL76),'Analysis 103L'!J76)))","v":""},{"$f":"IF('Analysis 103L'!P76=\"\",\"\",IF(A50=\"\", \"\", 'Analysis 103L'!P76))","v":""},{"$f":"IF('Analysis 103L'!S76=\"\",\"\", IF(LEFT('Analysis 103L'!J76,6)=\"Motion\", \"\", IF(RIGHT('Analysis 103L'!I76,4)=\"Case\",'Analysis 103L'!R76, 'Analysis 103L'!S76)))","v":""},{"$f":"IF(ISNUMBER('Analysis 103L'!AT76),'Analysis 103L'!AT76,\"\")","v":""},{"$f":"IF('Analysis 103L'!D76=\"\",\"\",'Analysis 103L'!AA76)","v":""},{"$f":"IF(E50=\"\",\"\",'Analysis 103L'!BE76)","v":""},{"$f":"IFERROR('Analysis 103L'!CD76*B50,\"\")","v":""},{"$f":"IF('Analysis 103L'!C76=\"\",\"\",'Analysis 103L'!C76)","v":""},{"$f":"IF('Analysis 103L'!E76=\"\",\"\",IF(AND(C50=0,D50=0),\"\",'Analysis 103L'!E76))","v":""}]
[{"$f":"IF('Analysis 103L'!J77=\"\",\"\",IF(AND(C51=0,D51=0),\"\",IF(RIGHT('Analysis 103L'!I77,4)=\"Case\", IF(LEFT('Analysis 103L'!J77,6)=\"Motion\", \"\", 'Analysis 103L'!CL77),'Analysis 103L'!J77)))","v":""},{"$f":"IF('Analysis 103L'!P77=\"\",\"\",IF(A51=\"\", \"\", 'Analysis 103L'!P77))","v":""},{"$f":"IF('Analysis 103L'!S77=\"\",\"\", IF(LEFT('Analysis 103L'!J77,6)=\"Motion\", \"\", IF(RIGHT('Analysis 103L'!I77,4)=\"Case\",'Analysis 103L'!R77, 'Analysis 103L'!S77)))","v":""},{"$f":"IF(ISNUMBER('Analysis 103L'!AT77),'Analysis 103L'!AT77,\"\")","v":""},{"$f":"IF('Analysis 103L'!D77=\"\",\"\",'Analysis 103L'!AA77)","v":""},{"$f":"IF(E51=\"\",\"\",'Analysis 103L'!BE77)","v":""},{"$f":"IFERROR('Analysis 103L'!CD77*B51,\"\")","v":""},{"$f":"IF('Analysis 103L'!C77=\"\",\"\",'Analysis 103L'!C77)","v":""},{"$f":"IF('Analysis 103L'!E77=\"\",\"\",IF(AND(C51=0,D51=0),\"\",'Analysis 103L'!E77))","v":""}]
[{"$f":"IF('Analysis 103L'!J78=\"\",\"\",IF(AND(C52=0,D52=0),\"\",IF(RIGHT('Analysis 103L'!I78,4)=\"Case\", IF(LEFT('Analysis 103L'!J78,6)=\"Motion\", \"\", 'Analysis 103L'!CL78),'Analysis 103L'!J78)))","v":""},{"$f":"IF('Analysis 103L'!P78=\"\",\"\",IF(A52=\"\", \"\", 'Analysis 103L'!P78))","v":""},{"$f":"IF('Analysis 103L'!S78=\"\",\"\", IF(LEFT('Analysis 103L'!J78,6)=\"Motion\", \"\", IF(RIGHT('Analysis 103L'!I78,4)=\"Case\",'Analysis 103L'!R78, 'Analysis 103L'!S78)))","v":""},{"$f":"IF(ISNUMBER('Analysis 103L'!AT78),'Analysis 103L'!AT78,\"\")","v":""},{"$f":"IF('Analysis 103L'!D78=\"\",\"\",'Analysis 103L'!AA78)","v":""},{"$f":"IF(E52=\"\",\"\",'Analysis 103L'!BE78)","v":""},{"$f":"IFERROR('Analysis 103L'!CD78*B52,\"\")","v":""},{"$f":"IF('Analysis 103L'!C78=\"\",\"\",'Analysis 103L'!C78)","v":""},{"$f":"IF('Analysis 103L'!E78=\"\",\"\",IF(AND(C52=0,D52=0),\"\",'Analysis 103L'!E78))","v":""}]
[{"$f":"IF('Analysis 103L'!J79=\"\",\"\",IF(AND(C53=0,D53=0),\"\",IF(RIGHT('Analysis 103L'!I79,4)=\"Case\", IF(LEFT('Analysis 103L'!J79,6)=\"Motion\", \"\", 'Analysis 103L'!CL79),'Analysis 103L'!J79)))","v":""},{"$f":"IF('Analysis 103L'!P79=\"\",\"\",IF(A53=\"\", \"\", 'Analysis 103L'!P79))","v":""},{"$f":"IF('Analysis 103L'!S79=\"\",\"\", IF(LEFT('Analysis 103L'!J79,6)=\"Motion\", \"\", IF(RIGHT('Analysis 103L'!I79,4)=\"Case\",'Analysis 103L'!R79, 'Analysis 103L'!S79)))","v":""},{"$f":"IF(ISNUMBER('Analysis 103L'!AT79),'Analysis 103L'!AT79,\"\")","v":""},{"$f":"IF('Analysis 103L'!D79=\"\",\"\",'Analysis 103L'!AA79)","v":""},{"$f":"IF(E53=\"\",\"\",'Analysis 103L'!BE79)","v":""},{"$f":"IFERROR('Analysis 103L'!CD79*B53,\"\")","v":""},{"$f":"IF('Analysis 103L'!C79=\"\",\"\",'Analysis 103L'!C79)","v":""},{"$f":"IF('Analysis 103L'!E79=\"\",\"\",IF(AND(C53=0,D53=0),\"\",'Analysis 103L'!E79))","v":""}]
[{"$f":"IF('Analysis 103L'!J80=\"\",\"\",IF(AND(C54=0,D54=0),\"\",IF(RIGHT('Analysis 103L'!I80,4)=\"Case\", IF(LEFT('Analysis 103L'!J80,6)=\"Motion\", \"\", 'Analysis 103L'!CL80),'Analysis 103L'!J80)))","v":""},{"$f":"IF('Analysis 103L'!P80=\"\",\"\",IF(A54=\"\", \"\", 'Analysis 103L'!P80))","v":""},{"$f":"IF('Analysis 103L'!S80=\"\",\"\", IF(LEFT('Analysis 103L'!J80,6)=\"Motion\", \"\", IF(RIGHT('Analysis 103L'!I80,4)=\"Case\",'Analysis 103L'!R80, 'Analysis 103L'!S80)))","v":""},{"$f":"IF(ISNUMBER('Analysis 103L'!AT80),'Analysis 103L'!AT80,\"\")","v":""},{"$f":"IF('Analysis 103L'!D80=\"\",\"\",'Analysis 103L'!AA80)","v":""},{"$f":"IF(E54=\"\",\"\",'Analysis 103L'!BE80)","v":""},{"$f":"IFERROR('Analysis 103L'!CD80*B54,\"\")","v":""},{"$f":"IF('Analysis 103L'!C80=\"\",\"\",'Analysis 103L'!C80)","v":""},{"$f":"IF('Analysis 103L'!E80=\"\",\"\",IF(AND(C54=0,D54=0),\"\",'Analysis 103L'!E80))","v":""}]
[{"$f":"IF('Analysis 103L'!J81=\"\",\"\",IF(AND(C55=0,D55=0),\"\",IF(RIGHT('Analysis 103L'!I81,4)=\"Case\", IF(LEFT('Analysis 103L'!J81,6)=\"Motion\", \"\", 'Analysis 103L'!CL81),'Analysis 103L'!J81)))","v":""},{"$f":"IF('Analysis 103L'!P81=\"\",\"\",IF(A55=\"\", \"\", 'Analysis 103L'!P81))","v":""},{"$f":"IF('Analysis 103L'!S81=\"\",\"\", IF(LEFT('Analysis 103L'!J81,6)=\"Motion\", \"\", IF(RIGHT('Analysis 103L'!I81,4)=\"Case\",'Analysis 103L'!R81, 'Analysis 103L'!S81)))","v":""},{"$f":"IF(ISNUMBER('Analysis 103L'!AT81),'Analysis 103L'!AT81,\"\")","v":""},{"$f":"IF('Analysis 103L'!D81=\"\",\"\",'Analysis 103L'!AA81)","v":""},{"$f":"IF(E55=\"\",\"\",'Analysis 103L'!BE81)","v":""},{"$f":"IFERROR('Analysis 103L'!CD81*B55,\"\")","v":""},{"$f":"IF('Analysis 103L'!C81=\"\",\"\",'Analysis 103L'!C81)","v":""},{"$f":"IF('Analysis 103L'!E81=\"\",\"\",IF(AND(C55=0,D55=0),\"\",'Analysis 103L'!E81))","v":""}]
[{"$f":"IF('Analysis 103L'!J82=\"\",\"\",IF(AND(C56=0,D56=0),\"\",IF(RIGHT('Analysis 103L'!I82,4)=\"Case\", IF(LEFT('Analysis 103L'!J82,6)=\"Motion\", \"\", 'Analysis 103L'!CL82),'Analysis 103L'!J82)))","v":""},{"$f":"IF('Analysis 103L'!P82=\"\",\"\",IF(A56=\"\", \"\", 'Analysis 103L'!P82))","v":""},{"$f":"IF('Analysis 103L'!S82=\"\",\"\", IF(LEFT('Analysis 103L'!J82,6)=\"Motion\", \"\", IF(RIGHT('Analysis 103L'!I82,4)=\"Case\",'Analysis 103L'!R82, 'Analysis 103L'!S82)))","v":""},{"$f":"IF(ISNUMBER('Analysis 103L'!AT82),'Analysis 103L'!AT82,\"\")","v":""},{"$f":"IF('Analysis 103L'!D82=\"\",\"\",'Analysis 103L'!AA82)","v":""},{"$f":"IF(E56=\"\",\"\",'Analysis 103L'!BE82)","v":""},{"$f":"IFERROR('Analysis 103L'!CD82*B56,\"\")","v":""},{"$f":"IF('Analysis 103L'!C82=\"\",\"\",'Analysis 103L'!C82)","v":""},{"$f":"IF('Analysis 103L'!E82=\"\",\"\",IF(AND(C56=0,D56=0),\"\",'Analysis 103L'!E82))","v":""}]
[{"$f":"IF('Analysis 103L'!J83=\"\",\"\",IF(AND(C57=0,D57=0),\"\",IF(RIGHT('Analysis 103L'!I83,4)=\"Case\", IF(LEFT('Analysis 103L'!J83,6)=\"Motion\", \"\", 'Analysis 103L'!CL83),'Analysis 103L'!J83)))","v":""},{"$f":"IF('Analysis 103L'!P83=\"\",\"\",IF(A57=\"\", \"\", 'Analysis 103L'!P83))","v":""},{"$f":"IF('Analysis 103L'!S83=\"\",\"\", IF(LEFT('Analysis 103L'!J83,6)=\"Motion\", \"\", IF(RIGHT('Analysis 103L'!I83,4)=\"Case\",'Analysis 103L'!R83, 'Analysis 103L'!S83)))","v":""},{"$f":"IF(ISNUMBER('Analysis 103L'!AT83),'Analysis 103L'!AT83,\"\")","v":""},{"$f":"IF('Analysis 103L'!D83=\"\",\"\",'Analysis 103L'!AA83)","v":""},{"$f":"IF(E57=\"\",\"\",'Analysis 103L'!BE83)","v":""},{"$f":"IFERROR('Analysis 103L'!CD83*B57,\"\")","v":""},{"$f":"IF('Analysis 103L'!C83=\"\",\"\",'Analysis 103L'!C83)","v":""},{"$f":"IF('Analysis 103L'!E83=\"\",\"\",IF(AND(C57=0,D57=0),\"\",'Analysis 103L'!E83))","v":""}]
[{"$f":"IF('Analysis 103L'!J84=\"\",\"\",IF(AND(C58=0,D58=0),\"\",IF(RIGHT('Analysis 103L'!I84,4)=\"Case\", IF(LEFT('Analysis 103L'!J84,6)=\"Motion\", \"\", 'Analysis 103L'!CL84),'Analysis 103L'!J84)))","v":""},{"$f":"IF('Analysis 103L'!P84=\"\",\"\",IF(A58=\"\", \"\", 'Analysis 103L'!P84))","v":""},{"$f":"IF('Analysis 103L'!S84=\"\",\"\", IF(LEFT('Analysis 103L'!J84,6)=\"Motion\", \"\", IF(RIGHT('Analysis 103L'!I84,4)=\"Case\",'Analysis 103L'!R84, 'Analysis 103L'!S84)))","v":""},{"$f":"IF(ISNUMBER('Analysis 103L'!AT84),'Analysis 103L'!AT84,\"\")","v":""},{"$f":"IF('Analysis 103L'!D84=\"\",\"\",'Analysis 103L'!AA84)","v":""},{"$f":"IF(E58=\"\",\"\",'Analysis 103L'!BE84)","v":""},{"$f":"IFERROR('Analysis 103L'!CD84*B58,\"\")","v":""},{"$f":"IF('Analysis 103L'!C84=\"\",\"\",'Analysis 103L'!C84)","v":""},{"$f":"IF('Analysis 103L'!E84=\"\",\"\",IF(AND(C58=0,D58=0),\"\",'Analysis 103L'!E84))","v":""}]
[{"$f":"IF('Analysis 103L'!J85=\"\",\"\",IF(AND(C59=0,D59=0),\"\",IF(RIGHT('Analysis 103L'!I85,4)=\"Case\", IF(LEFT('Analysis 103L'!J85,6)=\"Motion\", \"\", 'Analysis 103L'!CL85),'Analysis 103L'!J85)))","v":""},{"$f":"IF('Analysis 103L'!P85=\"\",\"\",IF(A59=\"\", \"\", 'Analysis 103L'!P85))","v":""},{"$f":"IF('Analysis 103L'!S85=\"\",\"\", IF(LEFT('Analysis 103L'!J85,6)=\"Motion\", \"\", IF(RIGHT('Analysis 103L'!I85,4)=\"Case\",'Analysis 103L'!R85, 'Analysis 103L'!S85)))","v":""},{"$f":"IF(ISNUMBER('Analysis 103L'!AT85),'Analysis 103L'!AT85,\"\")","v":""},{"$f":"IF('Analysis 103L'!D85=\"\",\"\",'Analysis 103L'!AA85)","v":""},{"$f":"IF(E59=\"\",\"\",'Analysis 103L'!BE85)","v":""},{"$f":"IFERROR('Analysis 103L'!CD85*B59,\"\")","v":""},{"$f":"IF('Analysis 103L'!C85=\"\",\"\",'Analysis 103L'!C85)","v":""},{"$f":"IF('Analysis 103L'!E85=\"\",\"\",IF(AND(C59=0,D59=0),\"\",'Analysis 103L'!E85))","v":""}]
[{"$f":"IF('Analysis 103L'!J86=\"\",\"\",IF(AND(C60=0,D60=0),\"\",IF(RIGHT('Analysis 103L'!I86,4)=\"Case\", IF(LEFT('Analysis 103L'!J86,6)=\"Motion\", \"\", 'Analysis 103L'!CL86),'Analysis 103L'!J86)))","v":""},{"$f":"IF('Analysis 103L'!P86=\"\",\"\",IF(A60=\"\", \"\", 'Analysis 103L'!P86))","v":""},{"$f":"IF('Analysis 103L'!S86=\"\",\"\", IF(LEFT('Analysis 103L'!J86,6)=\"Motion\", \"\", IF(RIGHT('Analysis 103L'!I86,4)=\"Case\",'Analysis 103L'!R86, 'Analysis 103L'!S86)))","v":""},{"$f":"IF(ISNUMBER('Analysis 103L'!AT86),'Analysis 103L'!AT86,\"\")","v":""},{"$f":"IF('Analysis 103L'!D86=\"\",\"\",'Analysis 103L'!AA86)","v":""},{"$f":"IF(E60=\"\",\"\",'Analysis 103L'!BE86)","v":""},{"$f":"IFERROR('Analysis 103L'!CD86*B60,\"\")","v":""},{"$f":"IF('Analysis 103L'!C86=\"\",\"\",'Analysis 103L'!C86)","v":""},{"$f":"IF('Analysis 103L'!E86=\"\",\"\",IF(AND(C60=0,D60=0),\"\",'Analysis 103L'!E86))","v":""}]
[{"$f":"IF('Analysis 103L'!J87=\"\",\"\",IF(AND(C61=0,D61=0),\"\",IF(RIGHT('Analysis 103L'!I87,4)=\"Case\", IF(LEFT('Analysis 103L'!J87,6)=\"Motion\", \"\", 'Analysis 103L'!CL87),'Analysis 103L'!J87)))","v":""},{"$f":"IF('Analysis 103L'!P87=\"\",\"\",IF(A61=\"\", \"\", 'Analysis 103L'!P87))","v":""},{"$f":"IF('Analysis 103L'!S87=\"\",\"\", IF(LEFT('Analysis 103L'!J87,6)=\"Motion\", \"\", IF(RIGHT('Analysis 103L'!I87,4)=\"Case\",'Analysis 103L'!R87, 'Analysis 103L'!S87)))","v":""},{"$f":"IF(ISNUMBER('Analysis 103L'!AT87),'Analysis 103L'!AT87,\"\")","v":""},{"$f":"IF('Analysis 103L'!D87=\"\",\"\",'Analysis 103L'!AA87)","v":""},{"$f":"IF(E61=\"\",\"\",'Analysis 103L'!BE87)","v":""},{"$f":"IFERROR('Analysis 103L'!CD87*B61,\"\")","v":""},{"$f":"IF('Analysis 103L'!C87=\"\",\"\",'Analysis 103L'!C87)","v":""},{"$f":"IF('Analysis 103L'!E87=\"\",\"\",IF(AND(C61=0,D61=0),\"\",'Analysis 103L'!E87))","v":""}]
[{"$f":"IF('Analysis 103L'!J88=\"\",\"\",IF(AND(C62=0,D62=0),\"\",IF(RIGHT('Analysis 103L'!I88,4)=\"Case\", IF(LEFT('Analysis 103L'!J88,6)=\"Motion\", \"\", 'Analysis 103L'!CL88),'Analysis 103L'!J88)))","v":""},{"$f":"IF('Analysis 103L'!P88=\"\",\"\",IF(A62=\"\", \"\", 'Analysis 103L'!P88))","v":""},{"$f":"IF('Analysis 103L'!S88=\"\",\"\", IF(LEFT('Analysis 103L'!J88,6)=\"Motion\", \"\", IF(RIGHT('Analysis 103L'!I88,4)=\"Case\",'Analysis 103L'!R88, 'Analysis 103L'!S88)))","v":""},{"$f":"IF(ISNUMBER('Analysis 103L'!AT88),'Analysis 103L'!AT88,\"\")","v":""},{"$f":"IF('Analysis 103L'!D88=\"\",\"\",'Analysis 103L'!AA88)","v":""},{"$f":"IF(E62=\"\",\"\",'Analysis 103L'!BE88)","v":""},{"$f":"IFERROR('Analysis 103L'!CD88*B62,\"\")","v":""},{"$f":"IF('Analysis 103L'!C88=\"\",\"\",'Analysis 103L'!C88)","v":""},{"$f":"IF('Analysis 103L'!E88=\"\",\"\",IF(AND(C62=0,D62=0),\"\",'Analysis 103L'!E88))","v":""}]
[{"$f":"IF('Analysis 103L'!J89=\"\",\"\",IF(AND(C63=0,D63=0),\"\",IF(RIGHT('Analysis 103L'!I89,4)=\"Case\", IF(LEFT('Analysis 103L'!J89,6)=\"Motion\", \"\", 'Analysis 103L'!CL89),'Analysis 103L'!J89)))","v":""},{"$f":"IF('Analysis 103L'!P89=\"\",\"\",IF(A63=\"\", \"\", 'Analysis 103L'!P89))","v":""},{"$f":"IF('Analysis 103L'!S89=\"\",\"\", IF(LEFT('Analysis 103L'!J89,6)=\"Motion\", \"\", IF(RIGHT('Analysis 103L'!I89,4)=\"Case\",'Analysis 103L'!R89, 'Analysis 103L'!S89)))","v":""},{"$f":"IF(ISNUMBER('Analysis 103L'!AT89),'Analysis 103L'!AT89,\"\")","v":""},{"$f":"IF('Analysis 103L'!D89=\"\",\"\",'Analysis 103L'!AA89)","v":""},{"$f":"IF(E63=\"\",\"\",'Analysis 103L'!BE89)","v":""},{"$f":"IFERROR('Analysis 103L'!CD89*B63,\"\")","v":""},{"$f":"IF('Analysis 103L'!C89=\"\",\"\",'Analysis 103L'!C89)","v":""},{"$f":"IF('Analysis 103L'!E89=\"\",\"\",IF(AND(C63=0,D63=0),\"\",'Analysis 103L'!E89))","v":""}]
[{"$f":"IF('Analysis 103L'!J90=\"\",\"\",IF(AND(C64=0,D64=0),\"\",IF(RIGHT('Analysis 103L'!I90,4)=\"Case\", IF(LEFT('Analysis 103L'!J90,6)=\"Motion\", \"\", 'Analysis 103L'!CL90),'Analysis 103L'!J90)))","v":""},{"$f":"IF('Analysis 103L'!P90=\"\",\"\",IF(A64=\"\", \"\", 'Analysis 103L'!P90))","v":""},{"$f":"IF('Analysis 103L'!S90=\"\",\"\", IF(LEFT('Analysis 103L'!J90,6)=\"Motion\", \"\", IF(RIGHT('Analysis 103L'!I90,4)=\"Case\",'Analysis 103L'!R90, 'Analysis 103L'!S90)))","v":""},{"$f":"IF(ISNUMBER('Analysis 103L'!AT90),'Analysis 103L'!AT90,\"\")","v":""},{"$f":"IF('Analysis 103L'!D90=\"\",\"\",'Analysis 103L'!AA90)","v":""},{"$f":"IF(E64=\"\",\"\",'Analysis 103L'!BE90)","v":""},{"$f":"IFERROR('Analysis 103L'!CD90*B64,\"\")","v":""},{"$f":"IF('Analysis 103L'!C90=\"\",\"\",'Analysis 103L'!C90)","v":""},{"$f":"IF('Analysis 103L'!E90=\"\",\"\",IF(AND(C64=0,D64=0),\"\",'Analysis 103L'!E90))","v":""}]
[{"$f":"IF('Analysis 103L'!J91=\"\",\"\",IF(AND(C65=0,D65=0),\"\",IF(RIGHT('Analysis 103L'!I91,4)=\"Case\", IF(LEFT('Analysis 103L'!J91,6)=\"Motion\", \"\", 'Analysis 103L'!CL91),'Analysis 103L'!J91)))","v":""},{"$f":"IF('Analysis 103L'!P91=\"\",\"\",IF(A65=\"\", \"\", 'Analysis 103L'!P91))","v":""},{"$f":"IF('Analysis 103L'!S91=\"\",\"\", IF(LEFT('Analysis 103L'!J91,6)=\"Motion\", \"\", IF(RIGHT('Analysis 103L'!I91,4)=\"Case\",'Analysis 103L'!R91, 'Analysis 103L'!S91)))","v":""},{"$f":"IF(ISNUMBER('Analysis 103L'!AT91),'Analysis 103L'!AT91,\"\")","v":""},{"$f":"IF('Analysis 103L'!D91=\"\",\"\",'Analysis 103L'!AA91)","v":""},{"$f":"IF(E65=\"\",\"\",'Analysis 103L'!BE91)","v":""},{"$f":"IFERROR('Analysis 103L'!CD91*B65,\"\")","v":""},{"$f":"IF('Analysis 103L'!C91=\"\",\"\",'Analysis 103L'!C91)","v":""},{"$f":"IF('Analysis 103L'!E91=\"\",\"\",IF(AND(C65=0,D65=0),\"\",'Analysis 103L'!E91))","v":""}]
[{"$f":"IF('Analysis 103L'!J92=\"\",\"\",IF(AND(C66=0,D66=0),\"\",IF(RIGHT('Analysis 103L'!I92,4)=\"Case\", IF(LEFT('Analysis 103L'!J92,6)=\"Motion\", \"\", 'Analysis 103L'!CL92),'Analysis 103L'!J92)))","v":""},{"$f":"IF('Analysis 103L'!P92=\"\",\"\",IF(A66=\"\", \"\", 'Analysis 103L'!P92))","v":""},{"$f":"IF('Analysis 103L'!S92=\"\",\"\", IF(LEFT('Analysis 103L'!J92,6)=\"Motion\", \"\", IF(RIGHT('Analysis 103L'!I92,4)=\"Case\",'Analysis 103L'!R92, 'Analysis 103L'!S92)))","v":""},{"$f":"IF(ISNUMBER('Analysis 103L'!AT92),'Analysis 103L'!AT92,\"\")","v":""},{"$f":"IF('Analysis 103L'!D92=\"\",\"\",'Analysis 103L'!AA92)","v":""},{"$f":"IF(E66=\"\",\"\",'Analysis 103L'!BE92)","v":""},{"$f":"IFERROR('Analysis 103L'!CD92*B66,\"\")","v":""},{"$f":"IF('Analysis 103L'!C92=\"\",\"\",'Analysis 103L'!C92)","v":""},{"$f":"IF('Analysis 103L'!E92=\"\",\"\",IF(AND(C66=0,D66=0),\"\",'Analysis 103L'!E92))","v":""}]
[{"$f":"IF('Analysis 103L'!J93=\"\",\"\",IF(AND(C67=0,D67=0),\"\",IF(RIGHT('Analysis 103L'!I93,4)=\"Case\", IF(LEFT('Analysis 103L'!J93,6)=\"Motion\", \"\", 'Analysis 103L'!CL93),'Analysis 103L'!J93)))","v":""},{"$f":"IF('Analysis 103L'!P93=\"\",\"\",IF(A67=\"\", \"\", 'Analysis 103L'!P93))","v":""},{"$f":"IF('Analysis 103L'!S93=\"\",\"\", IF(LEFT('Analysis 103L'!J93,6)=\"Motion\", \"\", IF(RIGHT('Analysis 103L'!I93,4)=\"Case\",'Analysis 103L'!R93, 'Analysis 103L'!S93)))","v":""},{"$f":"IF(ISNUMBER('Analysis 103L'!AT93),'Analysis 103L'!AT93,\"\")","v":""},{"$f":"IF('Analysis 103L'!D93=\"\",\"\",'Analysis 103L'!AA93)","v":""},{"$f":"IF(E67=\"\",\"\",'Analysis 103L'!BE93)","v":""},{"$f":"IFERROR('Analysis 103L'!CD93*B67,\"\")","v":""},{"$f":"IF('Analysis 103L'!C93=\"\",\"\",'Analysis 103L'!C93)","v":""},{"$f":"IF('Analysis 103L'!E93=\"\",\"\",IF(AND(C67=0,D67=0),\"\",'Analysis 103L'!E93))","v":""}]
[{"$f":"IF('Analysis 103L'!J94=\"\",\"\",IF(AND(C68=0,D68=0),\"\",IF(RIGHT('Analysis 103L'!I94,4)=\"Case\", IF(LEFT('Analysis 103L'!J94,6)=\"Motion\", \"\", 'Analysis 103L'!CL94),'Analysis 103L'!J94)))","v":""},{"$f":"IF('Analysis 103L'!P94=\"\",\"\",IF(A68=\"\", \"\", 'Analysis 103L'!P94))","v":""},{"$f":"IF('Analysis 103L'!S94=\"\",\"\", IF(LEFT('Analysis 103L'!J94,6)=\"Motion\", \"\", IF(RIGHT('Analysis 103L'!I94,4)=\"Case\",'Analysis 103L'!R94, 'Analysis 103L'!S94)))","v":""},{"$f":"IF(ISNUMBER('Analysis 103L'!AT94),'Analysis 103L'!AT94,\"\")","v":""},{"$f":"IF('Analysis 103L'!D94=\"\",\"\",'Analysis 103L'!AA94)","v":""},{"$f":"IF(E68=\"\",\"\",'Analysis 103L'!BE94)","v":""},{"$f":"IFERROR('Analysis 103L'!CD94*B68,\"\")","v":""},{"$f":"IF('Analysis 103L'!C94=\"\",\"\",'Analysis 103L'!C94)","v":""},{"$f":"IF('Analysis 103L'!E94=\"\",\"\",IF(AND(C68=0,D68=0),\"\",'Analysis 103L'!E94))","v":""}]
[{"$f":"IF('Analysis 103L'!J95=\"\",\"\",IF(AND(C69=0,D69=0),\"\",IF(RIGHT('Analysis 103L'!I95,4)=\"Case\", IF(LEFT('Analysis 103L'!J95,6)=\"Motion\", \"\", 'Analysis 103L'!CL95),'Analysis 103L'!J95)))","v":""},{"$f":"IF('Analysis 103L'!P95=\"\",\"\",IF(A69=\"\", \"\", 'Analysis 103L'!P95))","v":""},{"$f":"IF('Analysis 103L'!S95=\"\",\"\", IF(LEFT('Analysis 103L'!J95,6)=\"Motion\", \"\", IF(RIGHT('Analysis 103L'!I95,4)=\"Case\",'Analysis 103L'!R95, 'Analysis 103L'!S95)))","v":""},{"$f":"IF(ISNUMBER('Analysis 103L'!AT95),'Analysis 103L'!AT95,\"\")","v":""},{"$f":"IF('Analysis 103L'!D95=\"\",\"\",'Analysis 103L'!AA95)","v":""},{"$f":"IF(E69=\"\",\"\",'Analysis 103L'!BE95)","v":""},{"$f":"IFERROR('Analysis 103L'!CD95*B69,\"\")","v":""},{"$f":"IF('Analysis 103L'!C95=\"\",\"\",'Analysis 103L'!C95)","v":""},{"$f":"IF('Analysis 103L'!E95=\"\",\"\",IF(AND(C69=0,D69=0),\"\",'Analysis 103L'!E95))","v":""}]
[{"$f":"IF('Analysis 103L'!J96=\"\",\"\",IF(AND(C70=0,D70=0),\"\",IF(RIGHT('Analysis 103L'!I96,4)=\"Case\", IF(LEFT('Analysis 103L'!J96,6)=\"Motion\", \"\", 'Analysis 103L'!CL96),'Analysis 103L'!J96)))","v":""},{"$f":"IF('Analysis 103L'!P96=\"\",\"\",IF(A70=\"\", \"\", 'Analysis 103L'!P96))","v":""},{"$f":"IF('Analysis 103L'!S96=\"\",\"\", IF(LEFT('Analysis 103L'!J96,6)=\"Motion\", \"\", IF(RIGHT('Analysis 103L'!I96,4)=\"Case\",'Analysis 103L'!R96, 'Analysis 103L'!S96)))","v":""},{"$f":"IF(ISNUMBER('Analysis 103L'!AT96),'Analysis 103L'!AT96,\"\")","v":""},{"$f":"IF('Analysis 103L'!D96=\"\",\"\",'Analysis 103L'!AA96)","v":""},{"$f":"IF(E70=\"\",\"\",'Analysis 103L'!BE96)","v":""},{"$f":"IFERROR('Analysis 103L'!CD96*B70,\"\")","v":""},{"$f":"IF('Analysis 103L'!C96=\"\",\"\",'Analysis 103L'!C96)","v":""},{"$f":"IF('Analysis 103L'!E96=\"\",\"\",IF(AND(C70=0,D70=0),\"\",'Analysis 103L'!E96))","v":""}]
[{"$f":"IF('Analysis 103L'!J97=\"\",\"\",IF(AND(C71=0,D71=0),\"\",IF(RIGHT('Analysis 103L'!I97,4)=\"Case\", IF(LEFT('Analysis 103L'!J97,6)=\"Motion\", \"\", 'Analysis 103L'!CL97),'Analysis 103L'!J97)))","v":""},{"$f":"IF('Analysis 103L'!P97=\"\",\"\",IF(A71=\"\", \"\", 'Analysis 103L'!P97))","v":""},{"$f":"IF('Analysis 103L'!S97=\"\",\"\", IF(LEFT('Analysis 103L'!J97,6)=\"Motion\", \"\", IF(RIGHT('Analysis 103L'!I97,4)=\"Case\",'Analysis 103L'!R97, 'Analysis 103L'!S97)))","v":""},{"$f":"IF(ISNUMBER('Analysis 103L'!AT97),'Analysis 103L'!AT97,\"\")","v":""},{"$f":"IF('Analysis 103L'!D97=\"\",\"\",'Analysis 103L'!AA97)","v":""},{"$f":"IF(E71=\"\",\"\",'Analysis 103L'!BE97)","v":""},{"$f":"IFERROR('Analysis 103L'!CD97*B71,\"\")","v":""},{"$f":"IF('Analysis 103L'!C97=\"\",\"\",'Analysis 103L'!C97)","v":""},{"$f":"IF('Analysis 103L'!E97=\"\",\"\",IF(AND(C71=0,D71=0),\"\",'Analysis 103L'!E97))","v":""}]
[{"$f":"IF('Analysis 103L'!J98=\"\",\"\",IF(AND(C72=0,D72=0),\"\",IF(RIGHT('Analysis 103L'!I98,4)=\"Case\", IF(LEFT('Analysis 103L'!J98,6)=\"Motion\", \"\", 'Analysis 103L'!CL98),'Analysis 103L'!J98)))","v":""},{"$f":"IF('Analysis 103L'!P98=\"\",\"\",IF(A72=\"\", \"\", 'Analysis 103L'!P98))","v":""},{"$f":"IF('Analysis 103L'!S98=\"\",\"\", IF(LEFT('Analysis 103L'!J98,6)=\"Motion\", \"\", IF(RIGHT('Analysis 103L'!I98,4)=\"Case\",'Analysis 103L'!R98, 'Analysis 103L'!S98)))","v":""},{"$f":"IF(ISNUMBER('Analysis 103L'!AT98),'Analysis 103L'!AT98,\"\")","v":""},{"$f":"IF('Analysis 103L'!D98=\"\",\"\",'Analysis 103L'!AA98)","v":""},{"$f":"IF(E72=\"\",\"\",'Analysis 103L'!BE98)","v":""},{"$f":"IFERROR('Analysis 103L'!CD98*B72,\"\")","v":""},{"$f":"IF('Analysis 103L'!C98=\"\",\"\",'Analysis 103L'!C98)","v":""},{"$f":"IF('Analysis 103L'!E98=\"\",\"\",IF(AND(C72=0,D72=0),\"\",'Analysis 103L'!E98))","v":""}]
[{"$f":"IF('Analysis 103L'!J99=\"\",\"\",IF(AND(C73=0,D73=0),\"\",IF(RIGHT('Analysis 103L'!I99,4)=\"Case\", IF(LEFT('Analysis 103L'!J99,6)=\"Motion\", \"\", 'Analysis 103L'!CL99),'Analysis 103L'!J99)))","v":""},{"$f":"IF('Analysis 103L'!P99=\"\",\"\",IF(A73=\"\", \"\", 'Analysis 103L'!P99))","v":""},{"$f":"IF('Analysis 103L'!S99=\"\",\"\", IF(LEFT('Analysis 103L'!J99,6)=\"Motion\", \"\", IF(RIGHT('Analysis 103L'!I99,4)=\"Case\",'Analysis 103L'!R99, 'Analysis 103L'!S99)))","v":""},{"$f":"IF(ISNUMBER('Analysis 103L'!AT99),'Analysis 103L'!AT99,\"\")","v":""},{"$f":"IF('Analysis 103L'!D99=\"\",\"\",'Analysis 103L'!AA99)","v":""},{"$f":"IF(E73=\"\",\"\",'Analysis 103L'!BE99)","v":""},{"$f":"IFERROR('Analysis 103L'!CD99*B73,\"\")","v":""},{"$f":"IF('Analysis 103L'!C99=\"\",\"\",'Analysis 103L'!C99)","v":""},{"$f":"IF('Analysis 103L'!E99=\"\",\"\",IF(AND(C73=0,D73=0),\"\",'Analysis 103L'!E99))","v":""}]
[{"$f":"IF('Analysis 103L'!J100=\"\",\"\",IF(AND(C74=0,D74=0),\"\",IF(RIGHT('Analysis 103L'!I100,4)=\"Case\", IF(LEFT('Analysis 103L'!J100,6)=\"Motion\", \"\", 'Analysis 103L'!CL100),'Analysis 103L'!J100)))","v":""},{"$f":"IF('Analysis 103L'!P100=\"\",\"\",IF(A74=\"\", \"\", 'Analysis 103L'!P100))","v":""},{"$f":"IF('Analysis 103L'!S100=\"\",\"\", IF(LEFT('Analysis 103L'!J100,6)=\"Motion\", \"\", IF(RIGHT('Analysis 103L'!I100,4)=\"Case\",'Analysis 103L'!R100, 'Analysis 103L'!S100)))","v":""},{"$f":"IF(ISNUMBER('Analysis 103L'!AT100),'Analysis 103L'!AT100,\"\")","v":""},{"$f":"IF('Analysis 103L'!D100=\"\",\"\",'Analysis 103L'!AA100)","v":""},{"$f":"IF(E74=\"\",\"\",'Analysis 103L'!BE100)","v":""},{"$f":"IFERROR('Analysis 103L'!CD100*B74,\"\")","v":""},{"$f":"IF('Analysis 103L'!C100=\"\",\"\",'Analysis 103L'!C100)","v":""},{"$f":"IF('Analysis 103L'!E100=\"\",\"\",IF(AND(C74=0,D74=0),\"\",'Analysis 103L'!E100))","v":""}]
[{"$f":"IF('Analysis 103L'!J101=\"\",\"\",IF(AND(C75=0,D75=0),\"\",IF(RIGHT('Analysis 103L'!I101,4)=\"Case\", IF(LEFT('Analysis 103L'!J101,6)=\"Motion\", \"\", 'Analysis 103L'!CL101),'Analysis 103L'!J101)))","v":""},{"$f":"IF('Analysis 103L'!P101=\"\",\"\",IF(A75=\"\", \"\", 'Analysis 103L'!P101))","v":""},{"$f":"IF('Analysis 103L'!S101=\"\",\"\", IF(LEFT('Analysis 103L'!J101,6)=\"Motion\", \"\", IF(RIGHT('Analysis 103L'!I101,4)=\"Case\",'Analysis 103L'!R101, 'Analysis 103L'!S101)))","v":""},{"$f":"IF(ISNUMBER('Analysis 103L'!AT101),'Analysis 103L'!AT101,\"\")","v":""},{"$f":"IF('Analysis 103L'!D101=\"\",\"\",'Analysis 103L'!AA101)","v":""},{"$f":"IF(E75=\"\",\"\",'Analysis 103L'!BE101)","v":""},{"$f":"IFERROR('Analysis 103L'!CD101*B75,\"\")","v":""},{"$f":"IF('Analysis 103L'!C101=\"\",\"\",'Analysis 103L'!C101)","v":""},{"$f":"IF('Analysis 103L'!E101=\"\",\"\",IF(AND(C75=0,D75=0),\"\",'Analysis 103L'!E101))","v":""}]
[{"$f":"IF('Analysis 103L'!J102=\"\",\"\",IF(AND(C76=0,D76=0),\"\",IF(RIGHT('Analysis 103L'!I102,4)=\"Case\", IF(LEFT('Analysis 103L'!J102,6)=\"Motion\", \"\", 'Analysis 103L'!CL102),'Analysis 103L'!J102)))","v":""},{"$f":"IF('Analysis 103L'!P102=\"\",\"\",IF(A76=\"\", \"\", 'Analysis 103L'!P102))","v":""},{"$f":"IF('Analysis 103L'!S102=\"\",\"\", IF(LEFT('Analysis 103L'!J102,6)=\"Motion\", \"\", IF(RIGHT('Analysis 103L'!I102,4)=\"Case\",'Analysis 103L'!R102, 'Analysis 103L'!S102)))","v":""},{"$f":"IF(ISNUMBER('Analysis 103L'!AT102),'Analysis 103L'!AT102,\"\")","v":""},{"$f":"IF('Analysis 103L'!D102=\"\",\"\",'Analysis 103L'!AA102)","v":""},{"$f":"IF(E76=\"\",\"\",'Analysis 103L'!BE102)","v":""},{"$f":"IFERROR('Analysis 103L'!CD102*B76,\"\")","v":""},{"$f":"IF('Analysis 103L'!C102=\"\",\"\",'Analysis 103L'!C102)","v":""},{"$f":"IF('Analysis 103L'!E102=\"\",\"\",IF(AND(C76=0,D76=0),\"\",'Analysis 103L'!E102))","v":""}]
[{"$f":"IF('Analysis 103L'!J103=\"\",\"\",IF(AND(C77=0,D77=0),\"\",IF(RIGHT('Analysis 103L'!I103,4)=\"Case\", IF(LEFT('Analysis 103L'!J103,6)=\"Motion\", \"\", 'Analysis 103L'!CL103),'Analysis 103L'!J103)))","v":""},{"$f":"IF('Analysis 103L'!P103=\"\",\"\",IF(A77=\"\", \"\", 'Analysis 103L'!P103))","v":""},{"$f":"IF('Analysis 103L'!S103=\"\",\"\", IF(LEFT('Analysis 103L'!J103,6)=\"Motion\", \"\", IF(RIGHT('Analysis 103L'!I103,4)=\"Case\",'Analysis 103L'!R103, 'Analysis 103L'!S103)))","v":""},{"$f":"IF(ISNUMBER('Analysis 103L'!AT103),'Analysis 103L'!AT103,\"\")","v":""},{"$f":"IF('Analysis 103L'!D103=\"\",\"\",'Analysis 103L'!AA103)","v":""},{"$f":"IF(E77=\"\",\"\",'Analysis 103L'!BE103)","v":""},{"$f":"IFERROR('Analysis 103L'!CD103*B77,\"\")","v":""},{"$f":"IF('Analysis 103L'!C103=\"\",\"\",'Analysis 103L'!C103)","v":""},{"$f":"IF('Analysis 103L'!E103=\"\",\"\",IF(AND(C77=0,D77=0),\"\",'Analysis 103L'!E103))","v":""}]
[{"$f":"IF('Analysis 103L'!J104=\"\",\"\",IF(AND(C78=0,D78=0),\"\",IF(RIGHT('Analysis 103L'!I104,4)=\"Case\", IF(LEFT('Analysis 103L'!J104,6)=\"Motion\", \"\", 'Analysis 103L'!CL104),'Analysis 103L'!J104)))","v":""},{"$f":"IF('Analysis 103L'!P104=\"\",\"\",IF(A78=\"\", \"\", 'Analysis 103L'!P104))","v":""},{"$f":"IF('Analysis 103L'!S104=\"\",\"\", IF(LEFT('Analysis 103L'!J104,6)=\"Motion\", \"\", IF(RIGHT('Analysis 103L'!I104,4)=\"Case\",'Analysis 103L'!R104, 'Analysis 103L'!S104)))","v":""},{"$f":"IF(ISNUMBER('Analysis 103L'!AT104),'Analysis 103L'!AT104,\"\")","v":""},{"$f":"IF('Analysis 103L'!D104=\"\",\"\",'Analysis 103L'!AA104)","v":""},{"$f":"IF(E78=\"\",\"\",'Analysis 103L'!BE104)","v":""},{"$f":"IFERROR('Analysis 103L'!CD104*B78,\"\")","v":""},{"$f":"IF('Analysis 103L'!C104=\"\",\"\",'Analysis 103L'!C104)","v":""},{"$f":"IF('Analysis 103L'!E104=\"\",\"\",IF(AND(C78=0,D78=0),\"\",'Analysis 103L'!E104))","v":""}]
[{"$f":"IF('Analysis 103L'!J105=\"\",\"\",IF(AND(C79=0,D79=0),\"\",IF(RIGHT('Analysis 103L'!I105,4)=\"Case\", IF(LEFT('Analysis 103L'!J105,6)=\"Motion\", \"\", 'Analysis 103L'!CL105),'Analysis 103L'!J105)))","v":""},{"$f":"IF('Analysis 103L'!P105=\"\",\"\",IF(A79=\"\", \"\", 'Analysis 103L'!P105))","v":""},{"$f":"IF('Analysis 103L'!S105=\"\",\"\", IF(LEFT('Analysis 103L'!J105,6)=\"Motion\", \"\", IF(RIGHT('Analysis 103L'!I105,4)=\"Case\",'Analysis 103L'!R105, 'Analysis 103L'!S105)))","v":""},{"$f":"IF(ISNUMBER('Analysis 103L'!AT105),'Analysis 103L'!AT105,\"\")","v":""},{"$f":"IF('Analysis 103L'!D105=\"\",\"\",'Analysis 103L'!AA105)","v":""},{"$f":"IF(E79=\"\",\"\",'Analysis 103L'!BE105)","v":""},{"$f":"IFERROR('Analysis 103L'!CD105*B79,\"\")","v":""},{"$f":"IF('Analysis 103L'!C105=\"\",\"\",'Analysis 103L'!C105)","v":""},{"$f":"IF('Analysis 103L'!E105=\"\",\"\",IF(AND(C79=0,D79=0),\"\",'Analysis 103L'!E105))","v":""}]
[{"$f":"IF('Analysis 103L'!J106=\"\",\"\",IF(AND(C80=0,D80=0),\"\",IF(RIGHT('Analysis 103L'!I106,4)=\"Case\", IF(LEFT('Analysis 103L'!J106,6)=\"Motion\", \"\", 'Analysis 103L'!CL106),'Analysis 103L'!J106)))","v":""},{"$f":"IF('Analysis 103L'!P106=\"\",\"\",IF(A80=\"\", \"\", 'Analysis 103L'!P106))","v":""},{"$f":"IF('Analysis 103L'!S106=\"\",\"\", IF(LEFT('Analysis 103L'!J106,6)=\"Motion\", \"\", IF(RIGHT('Analysis 103L'!I106,4)=\"Case\",'Analysis 103L'!R106, 'Analysis 103L'!S106)))","v":""},{"$f":"IF(ISNUMBER('Analysis 103L'!AT106),'Analysis 103L'!AT106,\"\")","v":""},{"$f":"IF('Analysis 103L'!D106=\"\",\"\",'Analysis 103L'!AA106)","v":""},{"$f":"IF(E80=\"\",\"\",'Analysis 103L'!BE106)","v":""},{"$f":"IFERROR('Analysis 103L'!CD106*B80,\"\")","v":""},{"$f":"IF('Analysis 103L'!C106=\"\",\"\",'Analysis 103L'!C106)","v":""},{"$f":"IF('Analysis 103L'!E106=\"\",\"\",IF(AND(C80=0,D80=0),\"\",'Analysis 103L'!E106))","v":""}]
[{"$f":"IF('Analysis 103L'!J107=\"\",\"\",IF(AND(C81=0,D81=0),\"\",IF(RIGHT('Analysis 103L'!I107,4)=\"Case\", IF(LEFT('Analysis 103L'!J107,6)=\"Motion\", \"\", 'Analysis 103L'!CL107),'Analysis 103L'!J107)))","v":""},{"$f":"IF('Analysis 103L'!P107=\"\",\"\",IF(A81=\"\", \"\", 'Analysis 103L'!P107))","v":""},{"$f":"IF('Analysis 103L'!S107=\"\",\"\", IF(LEFT('Analysis 103L'!J107,6)=\"Motion\", \"\", IF(RIGHT('Analysis 103L'!I107,4)=\"Case\",'Analysis 103L'!R107, 'Analysis 103L'!S107)))","v":""},{"$f":"IF(ISNUMBER('Analysis 103L'!AT107),'Analysis 103L'!AT107,\"\")","v":""},{"$f":"IF('Analysis 103L'!D107=\"\",\"\",'Analysis 103L'!AA107)","v":""},{"$f":"IF(E81=\"\",\"\",'Analysis 103L'!BE107)","v":""},{"$f":"IFERROR('Analysis 103L'!CD107*B81,\"\")","v":""},{"$f":"IF('Analysis 103L'!C107=\"\",\"\",'Analysis 103L'!C107)","v":""},{"$f":"IF('Analysis 103L'!E107=\"\",\"\",IF(AND(C81=0,D81=0),\"\",'Analysis 103L'!E107))","v":""}]
[{"$f":"IF('Analysis 103L'!J108=\"\",\"\",IF(AND(C82=0,D82=0),\"\",IF(RIGHT('Analysis 103L'!I108,4)=\"Case\", IF(LEFT('Analysis 103L'!J108,6)=\"Motion\", \"\", 'Analysis 103L'!CL108),'Analysis 103L'!J108)))","v":""},{"$f":"IF('Analysis 103L'!P108=\"\",\"\",IF(A82=\"\", \"\", 'Analysis 103L'!P108))","v":""},{"$f":"IF('Analysis 103L'!S108=\"\",\"\", IF(LEFT('Analysis 103L'!J108,6)=\"Motion\", \"\", IF(RIGHT('Analysis 103L'!I108,4)=\"Case\",'Analysis 103L'!R108, 'Analysis 103L'!S108)))","v":""},{"$f":"IF(ISNUMBER('Analysis 103L'!AT108),'Analysis 103L'!AT108,\"\")","v":""},{"$f":"IF('Analysis 103L'!D108=\"\",\"\",'Analysis 103L'!AA108)","v":""},{"$f":"IF(E82=\"\",\"\",'Analysis 103L'!BE108)","v":""},{"$f":"IFERROR('Analysis 103L'!CD108*B82,\"\")","v":""},{"$f":"IF('Analysis 103L'!C108=\"\",\"\",'Analysis 103L'!C108)","v":""},{"$f":"IF('Analysis 103L'!E108=\"\",\"\",IF(AND(C82=0,D82=0),\"\",'Analysis 103L'!E108))","v":""}]
[{"$f":"IF('Analysis 103L'!J109=\"\",\"\",IF(AND(C83=0,D83=0),\"\",IF(RIGHT('Analysis 103L'!I109,4)=\"Case\", IF(LEFT('Analysis 103L'!J109,6)=\"Motion\", \"\", 'Analysis 103L'!CL109),'Analysis 103L'!J109)))","v":""},{"$f":"IF('Analysis 103L'!P109=\"\",\"\",IF(A83=\"\", \"\", 'Analysis 103L'!P109))","v":""},{"$f":"IF('Analysis 103L'!S109=\"\",\"\", IF(LEFT('Analysis 103L'!J109,6)=\"Motion\", \"\", IF(RIGHT('Analysis 103L'!I109,4)=\"Case\",'Analysis 103L'!R109, 'Analysis 103L'!S109)))","v":""},{"$f":"IF(ISNUMBER('Analysis 103L'!AT109),'Analysis 103L'!AT109,\"\")","v":""},{"$f":"IF('Analysis 103L'!D109=\"\",\"\",'Analysis 103L'!AA109)","v":""},{"$f":"IF(E83=\"\",\"\",'Analysis 103L'!BE109)","v":""},{"$f":"IFERROR('Analysis 103L'!CD109*B83,\"\")","v":""},{"$f":"IF('Analysis 103L'!C109=\"\",\"\",'Analysis 103L'!C109)","v":""},{"$f":"IF('Analysis 103L'!E109=\"\",\"\",IF(AND(C83=0,D83=0),\"\",'Analysis 103L'!E109))","v":""}]
[{"$f":"IF('Analysis 103L'!J110=\"\",\"\",IF(AND(C84=0,D84=0),\"\",IF(RIGHT('Analysis 103L'!I110,4)=\"Case\", IF(LEFT('Analysis 103L'!J110,6)=\"Motion\", \"\", 'Analysis 103L'!CL110),'Analysis 103L'!J110)))","v":""},{"$f":"IF('Analysis 103L'!P110=\"\",\"\",IF(A84=\"\", \"\", 'Analysis 103L'!P110))","v":""},{"$f":"IF('Analysis 103L'!S110=\"\",\"\", IF(LEFT('Analysis 103L'!J110,6)=\"Motion\", \"\", IF(RIGHT('Analysis 103L'!I110,4)=\"Case\",'Analysis 103L'!R110, 'Analysis 103L'!S110)))","v":""},{"$f":"IF(ISNUMBER('Analysis 103L'!AT110),'Analysis 103L'!AT110,\"\")","v":""},{"$f":"IF('Analysis 103L'!D110=\"\",\"\",'Analysis 103L'!AA110)","v":""},{"$f":"IF(E84=\"\",\"\",'Analysis 103L'!BE110)","v":""},{"$f":"IFERROR('Analysis 103L'!CD110*B84,\"\")","v":""},{"$f":"IF('Analysis 103L'!C110=\"\",\"\",'Analysis 103L'!C110)","v":""},{"$f":"IF('Analysis 103L'!E110=\"\",\"\",IF(AND(C84=0,D84=0),\"\",'Analysis 103L'!E110))","v":""}]
[{"$f":"IF('Analysis 103L'!J111=\"\",\"\",IF(AND(C85=0,D85=0),\"\",IF(RIGHT('Analysis 103L'!I111,4)=\"Case\", IF(LEFT('Analysis 103L'!J111,6)=\"Motion\", \"\", 'Analysis 103L'!CL111),'Analysis 103L'!J111)))","v":""},{"$f":"IF('Analysis 103L'!P111=\"\",\"\",IF(A85=\"\", \"\", 'Analysis 103L'!P111))","v":""},{"$f":"IF('Analysis 103L'!S111=\"\",\"\", IF(LEFT('Analysis 103L'!J111,6)=\"Motion\", \"\", IF(RIGHT('Analysis 103L'!I111,4)=\"Case\",'Analysis 103L'!R111, 'Analysis 103L'!S111)))","v":""},{"$f":"IF(ISNUMBER('Analysis 103L'!AT111),'Analysis 103L'!AT111,\"\")","v":""},{"$f":"IF('Analysis 103L'!D111=\"\",\"\",'Analysis 103L'!AA111)","v":""},{"$f":"IF(E85=\"\",\"\",'Analysis 103L'!BE111)","v":""},{"$f":"IFERROR('Analysis 103L'!CD111*B85,\"\")","v":""},{"$f":"IF('Analysis 103L'!C111=\"\",\"\",'Analysis 103L'!C111)","v":""},{"$f":"IF('Analysis 103L'!E111=\"\",\"\",IF(AND(C85=0,D85=0),\"\",'Analysis 103L'!E111))","v":""}]
[{"$f":"IF('Analysis 103L'!J112=\"\",\"\",IF(AND(C86=0,D86=0),\"\",IF(RIGHT('Analysis 103L'!I112,4)=\"Case\", IF(LEFT('Analysis 103L'!J112,6)=\"Motion\", \"\", 'Analysis 103L'!CL112),'Analysis 103L'!J112)))","v":""},{"$f":"IF('Analysis 103L'!P112=\"\",\"\",IF(A86=\"\", \"\", 'Analysis 103L'!P112))","v":""},{"$f":"IF('Analysis 103L'!S112=\"\",\"\", IF(LEFT('Analysis 103L'!J112,6)=\"Motion\", \"\", IF(RIGHT('Analysis 103L'!I112,4)=\"Case\",'Analysis 103L'!R112, 'Analysis 103L'!S112)))","v":""},{"$f":"IF(ISNUMBER('Analysis 103L'!AT112),'Analysis 103L'!AT112,\"\")","v":""},{"$f":"IF('Analysis 103L'!D112=\"\",\"\",'Analysis 103L'!AA112)","v":""},{"$f":"IF(E86=\"\",\"\",'Analysis 103L'!BE112)","v":""},{"$f":"IFERROR('Analysis 103L'!CD112*B86,\"\")","v":""},{"$f":"IF('Analysis 103L'!C112=\"\",\"\",'Analysis 103L'!C112)","v":""},{"$f":"IF('Analysis 103L'!E112=\"\",\"\",IF(AND(C86=0,D86=0),\"\",'Analysis 103L'!E112))","v":""}]
[{"$f":"IF('Analysis 103L'!J113=\"\",\"\",IF(AND(C87=0,D87=0),\"\",IF(RIGHT('Analysis 103L'!I113,4)=\"Case\", IF(LEFT('Analysis 103L'!J113,6)=\"Motion\", \"\", 'Analysis 103L'!CL113),'Analysis 103L'!J113)))","v":""},{"$f":"IF('Analysis 103L'!P113=\"\",\"\",IF(A87=\"\", \"\", 'Analysis 103L'!P113))","v":""},{"$f":"IF('Analysis 103L'!S113=\"\",\"\", IF(LEFT('Analysis 103L'!J113,6)=\"Motion\", \"\", IF(RIGHT('Analysis 103L'!I113,4)=\"Case\",'Analysis 103L'!R113, 'Analysis 103L'!S113)))","v":""},{"$f":"IF(ISNUMBER('Analysis 103L'!AT113),'Analysis 103L'!AT113,\"\")","v":""},{"$f":"IF('Analysis 103L'!D113=\"\",\"\",'Analysis 103L'!AA113)","v":""},{"$f":"IF(E87=\"\",\"\",'Analysis 103L'!BE113)","v":""},{"$f":"IFERROR('Analysis 103L'!CD113*B87,\"\")","v":""},{"$f":"IF('Analysis 103L'!C113=\"\",\"\",'Analysis 103L'!C113)","v":""},{"$f":"IF('Analysis 103L'!E113=\"\",\"\",IF(AND(C87=0,D87=0),\"\",'Analysis 103L'!E113))","v":""}]
[{"$f":"IF('Analysis 103L'!J114=\"\",\"\",IF(AND(C88=0,D88=0),\"\",IF(RIGHT('Analysis 103L'!I114,4)=\"Case\", IF(LEFT('Analysis 103L'!J114,6)=\"Motion\", \"\", 'Analysis 103L'!CL114),'Analysis 103L'!J114)))","v":""},{"$f":"IF('Analysis 103L'!P114=\"\",\"\",IF(A88=\"\", \"\", 'Analysis 103L'!P114))","v":""},{"$f":"IF('Analysis 103L'!S114=\"\",\"\", IF(LEFT('Analysis 103L'!J114,6)=\"Motion\", \"\", IF(RIGHT('Analysis 103L'!I114,4)=\"Case\",'Analysis 103L'!R114, 'Analysis 103L'!S114)))","v":""},{"$f":"IF(ISNUMBER('Analysis 103L'!AT114),'Analysis 103L'!AT114,\"\")","v":""},{"$f":"IF('Analysis 103L'!D114=\"\",\"\",'Analysis 103L'!AA114)","v":""},{"$f":"IF(E88=\"\",\"\",'Analysis 103L'!BE114)","v":""},{"$f":"IFERROR('Analysis 103L'!CD114*B88,\"\")","v":""},{"$f":"IF('Analysis 103L'!C114=\"\",\"\",'Analysis 103L'!C114)","v":""},{"$f":"IF('Analysis 103L'!E114=\"\",\"\",IF(AND(C88=0,D88=0),\"\",'Analysis 103L'!E114))","v":""}]
[{"$f":"IF('Analysis 103L'!J115=\"\",\"\",IF(AND(C89=0,D89=0),\"\",IF(RIGHT('Analysis 103L'!I115,4)=\"Case\", IF(LEFT('Analysis 103L'!J115,6)=\"Motion\", \"\", 'Analysis 103L'!CL115),'Analysis 103L'!J115)))","v":""},{"$f":"IF('Analysis 103L'!P115=\"\",\"\",IF(A89=\"\", \"\", 'Analysis 103L'!P115))","v":""},{"$f":"IF('Analysis 103L'!S115=\"\",\"\", IF(LEFT('Analysis 103L'!J115,6)=\"Motion\", \"\", IF(RIGHT('Analysis 103L'!I115,4)=\"Case\",'Analysis 103L'!R115, 'Analysis 103L'!S115)))","v":""},{"$f":"IF(ISNUMBER('Analysis 103L'!AT115),'Analysis 103L'!AT115,\"\")","v":""},{"$f":"IF('Analysis 103L'!D115=\"\",\"\",'Analysis 103L'!AA115)","v":""},{"$f":"IF(E89=\"\",\"\",'Analysis 103L'!BE115)","v":""},{"$f":"IFERROR('Analysis 103L'!CD115*B89,\"\")","v":""},{"$f":"IF('Analysis 103L'!C115=\"\",\"\",'Analysis 103L'!C115)","v":""},{"$f":"IF('Analysis 103L'!E115=\"\",\"\",IF(AND(C89=0,D89=0),\"\",'Analysis 103L'!E115))","v":""}]
[{"$f":"IF('Analysis 103L'!J116=\"\",\"\",IF(AND(C90=0,D90=0),\"\",IF(RIGHT('Analysis 103L'!I116,4)=\"Case\", IF(LEFT('Analysis 103L'!J116,6)=\"Motion\", \"\", 'Analysis 103L'!CL116),'Analysis 103L'!J116)))","v":""},{"$f":"IF('Analysis 103L'!P116=\"\",\"\",IF(A90=\"\", \"\", 'Analysis 103L'!P116))","v":""},{"$f":"IF('Analysis 103L'!S116=\"\",\"\", IF(LEFT('Analysis 103L'!J116,6)=\"Motion\", \"\", IF(RIGHT('Analysis 103L'!I116,4)=\"Case\",'Analysis 103L'!R116, 'Analysis 103L'!S116)))","v":""},{"$f":"IF(ISNUMBER('Analysis 103L'!AT116),'Analysis 103L'!AT116,\"\")","v":""},{"$f":"IF('Analysis 103L'!D116=\"\",\"\",'Analysis 103L'!AA116)","v":""},{"$f":"IF(E90=\"\",\"\",'Analysis 103L'!BE116)","v":""},{"$f":"IFERROR('Analysis 103L'!CD116*B90,\"\")","v":""},{"$f":"IF('Analysis 103L'!C116=\"\",\"\",'Analysis 103L'!C116)","v":""},{"$f":"IF('Analysis 103L'!E116=\"\",\"\",IF(AND(C90=0,D90=0),\"\",'Analysis 103L'!E116))","v":""}]
[{"$f":"IF('Analysis 103L'!J117=\"\",\"\",IF(AND(C91=0,D91=0),\"\",IF(RIGHT('Analysis 103L'!I117,4)=\"Case\", IF(LEFT('Analysis 103L'!J117,6)=\"Motion\", \"\", 'Analysis 103L'!CL117),'Analysis 103L'!J117)))","v":""},{"$f":"IF('Analysis 103L'!P117=\"\",\"\",IF(A91=\"\", \"\", 'Analysis 103L'!P117))","v":""},{"$f":"IF('Analysis 103L'!S117=\"\",\"\", IF(LEFT('Analysis 103L'!J117,6)=\"Motion\", \"\", IF(RIGHT('Analysis 103L'!I117,4)=\"Case\",'Analysis 103L'!R117, 'Analysis 103L'!S117)))","v":""},{"$f":"IF(ISNUMBER('Analysis 103L'!AT117),'Analysis 103L'!AT117,\"\")","v":""},{"$f":"IF('Analysis 103L'!D117=\"\",\"\",'Analysis 103L'!AA117)","v":""},{"$f":"IF(E91=\"\",\"\",'Analysis 103L'!BE117)","v":""},{"$f":"IFERROR('Analysis 103L'!CD117*B91,\"\")","v":""},{"$f":"IF('Analysis 103L'!C117=\"\",\"\",'Analysis 103L'!C117)","v":""},{"$f":"IF('Analysis 103L'!E117=\"\",\"\",IF(AND(C91=0,D91=0),\"\",'Analysis 103L'!E117))","v":""}]
[{"$f":"IF('Analysis 103L'!J118=\"\",\"\",IF(AND(C92=0,D92=0),\"\",IF(RIGHT('Analysis 103L'!I118,4)=\"Case\", IF(LEFT('Analysis 103L'!J118,6)=\"Motion\", \"\", 'Analysis 103L'!CL118),'Analysis 103L'!J118)))","v":""},{"$f":"IF('Analysis 103L'!P118=\"\",\"\",IF(A92=\"\", \"\", 'Analysis 103L'!P118))","v":""},{"$f":"IF('Analysis 103L'!S118=\"\",\"\", IF(LEFT('Analysis 103L'!J118,6)=\"Motion\", \"\", IF(RIGHT('Analysis 103L'!I118,4)=\"Case\",'Analysis 103L'!R118, 'Analysis 103L'!S118)))","v":""},{"$f":"IF(ISNUMBER('Analysis 103L'!AT118),'Analysis 103L'!AT118,\"\")","v":""},{"$f":"IF('Analysis 103L'!D118=\"\",\"\",'Analysis 103L'!AA118)","v":""},{"$f":"IF(E92=\"\",\"\",'Analysis 103L'!BE118)","v":""},{"$f":"IFERROR('Analysis 103L'!CD118*B92,\"\")","v":""},{"$f":"IF('Analysis 103L'!C118=\"\",\"\",'Analysis 103L'!C118)","v":""},{"$f":"IF('Analysis 103L'!E118=\"\",\"\",IF(AND(C92=0,D92=0),\"\",'Analysis 103L'!E118))","v":""}]
[{"$f":"IF('Analysis 103L'!J119=\"\",\"\",IF(AND(C93=0,D93=0),\"\",IF(RIGHT('Analysis 103L'!I119,4)=\"Case\", IF(LEFT('Analysis 103L'!J119,6)=\"Motion\", \"\", 'Analysis 103L'!CL119),'Analysis 103L'!J119)))","v":""},{"$f":"IF('Analysis 103L'!P119=\"\",\"\",IF(A93=\"\", \"\", 'Analysis 103L'!P119))","v":""},{"$f":"IF('Analysis 103L'!S119=\"\",\"\", IF(LEFT('Analysis 103L'!J119,6)=\"Motion\", \"\", IF(RIGHT('Analysis 103L'!I119,4)=\"Case\",'Analysis 103L'!R119, 'Analysis 103L'!S119)))","v":""},{"$f":"IF(ISNUMBER('Analysis 103L'!AT119),'Analysis 103L'!AT119,\"\")","v":""},{"$f":"IF('Analysis 103L'!D119=\"\",\"\",'Analysis 103L'!AA119)","v":""},{"$f":"IF(E93=\"\",\"\",'Analysis 103L'!BE119)","v":""},{"$f":"IFERROR('Analysis 103L'!CD119*B93,\"\")","v":""},{"$f":"IF('Analysis 103L'!C119=\"\",\"\",'Analysis 103L'!C119)","v":""},{"$f":"IF('Analysis 103L'!E119=\"\",\"\",IF(AND(C93=0,D93=0),\"\",'Analysis 103L'!E119))","v":""}]
[{"$f":"IF('Analysis 103L'!J120=\"\",\"\",IF(AND(C94=0,D94=0),\"\",IF(RIGHT('Analysis 103L'!I120,4)=\"Case\", IF(LEFT('Analysis 103L'!J120,6)=\"Motion\", \"\", 'Analysis 103L'!CL120),'Analysis 103L'!J120)))","v":""},{"$f":"IF('Analysis 103L'!P120=\"\",\"\",IF(A94=\"\", \"\", 'Analysis 103L'!P120))","v":""},{"$f":"IF('Analysis 103L'!S120=\"\",\"\", IF(LEFT('Analysis 103L'!J120,6)=\"Motion\", \"\", IF(RIGHT('Analysis 103L'!I120,4)=\"Case\",'Analysis 103L'!R120, 'Analysis 103L'!S120)))","v":""},{"$f":"IF(ISNUMBER('Analysis 103L'!AT120),'Analysis 103L'!AT120,\"\")","v":""},{"$f":"IF('Analysis 103L'!D120=\"\",\"\",'Analysis 103L'!AA120)","v":""},{"$f":"IF(E94=\"\",\"\",'Analysis 103L'!BE120)","v":""},{"$f":"IFERROR('Analysis 103L'!CD120*B94,\"\")","v":""},{"$f":"IF('Analysis 103L'!C120=\"\",\"\",'Analysis 103L'!C120)","v":""},{"$f":"IF('Analysis 103L'!E120=\"\",\"\",IF(AND(C94=0,D94=0),\"\",'Analysis 103L'!E120))","v":""}]
[{"$f":"IF('Analysis 103L'!J121=\"\",\"\",IF(AND(C95=0,D95=0),\"\",IF(RIGHT('Analysis 103L'!I121,4)=\"Case\", IF(LEFT('Analysis 103L'!J121,6)=\"Motion\", \"\", 'Analysis 103L'!CL121),'Analysis 103L'!J121)))","v":""},{"$f":"IF('Analysis 103L'!P121=\"\",\"\",IF(A95=\"\", \"\", 'Analysis 103L'!P121))","v":""},{"$f":"IF('Analysis 103L'!S121=\"\",\"\", IF(LEFT('Analysis 103L'!J121,6)=\"Motion\", \"\", IF(RIGHT('Analysis 103L'!I121,4)=\"Case\",'Analysis 103L'!R121, 'Analysis 103L'!S121)))","v":""},{"$f":"IF(ISNUMBER('Analysis 103L'!AT121),'Analysis 103L'!AT121,\"\")","v":""},{"$f":"IF('Analysis 103L'!D121=\"\",\"\",'Analysis 103L'!AA121)","v":""},{"$f":"IF(E95=\"\",\"\",'Analysis 103L'!BE121)","v":""},{"$f":"IFERROR('Analysis 103L'!CD121*B95,\"\")","v":""},{"$f":"IF('Analysis 103L'!C121=\"\",\"\",'Analysis 103L'!C121)","v":""},{"$f":"IF('Analysis 103L'!E121=\"\",\"\",IF(AND(C95=0,D95=0),\"\",'Analysis 103L'!E121))","v":""}]
[{"$f":"IF('Analysis 103L'!J122=\"\",\"\",IF(AND(C96=0,D96=0),\"\",IF(RIGHT('Analysis 103L'!I122,4)=\"Case\", IF(LEFT('Analysis 103L'!J122,6)=\"Motion\", \"\", 'Analysis 103L'!CL122),'Analysis 103L'!J122)))","v":""},{"$f":"IF('Analysis 103L'!P122=\"\",\"\",IF(A96=\"\", \"\", 'Analysis 103L'!P122))","v":""},{"$f":"IF('Analysis 103L'!S122=\"\",\"\", IF(LEFT('Analysis 103L'!J122,6)=\"Motion\", \"\", IF(RIGHT('Analysis 103L'!I122,4)=\"Case\",'Analysis 103L'!R122, 'Analysis 103L'!S122)))","v":""},{"$f":"IF(ISNUMBER('Analysis 103L'!AT122),'Analysis 103L'!AT122,\"\")","v":""},{"$f":"IF('Analysis 103L'!D122=\"\",\"\",'Analysis 103L'!AA122)","v":""},{"$f":"IF(E96=\"\",\"\",'Analysis 103L'!BE122)","v":""},{"$f":"IFERROR('Analysis 103L'!CD122*B96,\"\")","v":""},{"$f":"IF('Analysis 103L'!C122=\"\",\"\",'Analysis 103L'!C122)","v":""},{"$f":"IF('Analysis 103L'!E122=\"\",\"\",IF(AND(C96=0,D96=0),\"\",'Analysis 103L'!E122))","v":""}]
[{"$f":"IF('Analysis 103L'!J123=\"\",\"\",IF(AND(C97=0,D97=0),\"\",IF(RIGHT('Analysis 103L'!I123,4)=\"Case\", IF(LEFT('Analysis 103L'!J123,6)=\"Motion\", \"\", 'Analysis 103L'!CL123),'Analysis 103L'!J123)))","v":""},{"$f":"IF('Analysis 103L'!P123=\"\",\"\",IF(A97=\"\", \"\", 'Analysis 103L'!P123))","v":""},{"$f":"IF('Analysis 103L'!S123=\"\",\"\", IF(LEFT('Analysis 103L'!J123,6)=\"Motion\", \"\", IF(RIGHT('Analysis 103L'!I123,4)=\"Case\",'Analysis 103L'!R123, 'Analysis 103L'!S123)))","v":""},{"$f":"IF(ISNUMBER('Analysis 103L'!AT123),'Analysis 103L'!AT123,\"\")","v":""},{"$f":"IF('Analysis 103L'!D123=\"\",\"\",'Analysis 103L'!AA123)","v":""},{"$f":"IF(E97=\"\",\"\",'Analysis 103L'!BE123)","v":""},{"$f":"IFERROR('Analysis 103L'!CD123*B97,\"\")","v":""},{"$f":"IF('Analysis 103L'!C123=\"\",\"\",'Analysis 103L'!C123)","v":""},{"$f":"IF('Analysis 103L'!E123=\"\",\"\",IF(AND(C97=0,D97=0),\"\",'Analysis 103L'!E123))","v":""}]
[{"$f":"IF('Analysis 103L'!J124=\"\",\"\",IF(AND(C98=0,D98=0),\"\",IF(RIGHT('Analysis 103L'!I124,4)=\"Case\", IF(LEFT('Analysis 103L'!J124,6)=\"Motion\", \"\", 'Analysis 103L'!CL124),'Analysis 103L'!J124)))","v":""},{"$f":"IF('Analysis 103L'!P124=\"\",\"\",IF(A98=\"\", \"\", 'Analysis 103L'!P124))","v":""},{"$f":"IF('Analysis 103L'!S124=\"\",\"\", IF(LEFT('Analysis 103L'!J124,6)=\"Motion\", \"\", IF(RIGHT('Analysis 103L'!I124,4)=\"Case\",'Analysis 103L'!R124, 'Analysis 103L'!S124)))","v":""},{"$f":"IF(ISNUMBER('Analysis 103L'!AT124),'Analysis 103L'!AT124,\"\")","v":""},{"$f":"IF('Analysis 103L'!D124=\"\",\"\",'Analysis 103L'!AA124)","v":""},{"$f":"IF(E98=\"\",\"\",'Analysis 103L'!BE124)","v":""},{"$f":"IFERROR('Analysis 103L'!CD124*B98,\"\")","v":""},{"$f":"IF('Analysis 103L'!C124=\"\",\"\",'Analysis 103L'!C124)","v":""},{"$f":"IF('Analysis 103L'!E124=\"\",\"\",IF(AND(C98=0,D98=0),\"\",'Analysis 103L'!E124))","v":""}]
[{"$f":"IF('Analysis 103L'!J125=\"\",\"\",IF(AND(C99=0,D99=0),\"\",IF(RIGHT('Analysis 103L'!I125,4)=\"Case\", IF(LEFT('Analysis 103L'!J125,6)=\"Motion\", \"\", 'Analysis 103L'!CL125),'Analysis 103L'!J125)))","v":""},{"$f":"IF('Analysis 103L'!P125=\"\",\"\",IF(A99=\"\", \"\", 'Analysis 103L'!P125))","v":""},{"$f":"IF('Analysis 103L'!S125=\"\",\"\", IF(LEFT('Analysis 103L'!J125,6)=\"Motion\", \"\", IF(RIGHT('Analysis 103L'!I125,4)=\"Case\",'Analysis 103L'!R125, 'Analysis 103L'!S125)))","v":""},{"$f":"IF(ISNUMBER('Analysis 103L'!AT125),'Analysis 103L'!AT125,\"\")","v":""},{"$f":"IF('Analysis 103L'!D125=\"\",\"\",'Analysis 103L'!AA125)","v":""},{"$f":"IF(E99=\"\",\"\",'Analysis 103L'!BE125)","v":""},{"$f":"IFERROR('Analysis 103L'!CD125*B99,\"\")","v":""},{"$f":"IF('Analysis 103L'!C125=\"\",\"\",'Analysis 103L'!C125)","v":""},{"$f":"IF('Analysis 103L'!E125=\"\",\"\",IF(AND(C99=0,D99=0),\"\",'Analysis 103L'!E125))","v":""}]
[{"$f":"IF('Analysis 103L'!J126=\"\",\"\",IF(AND(C100=0,D100=0),\"\",IF(RIGHT('Analysis 103L'!I126,4)=\"Case\", IF(LEFT('Analysis 103L'!J126,6)=\"Motion\", \"\", 'Analysis 103L'!CL126),'Analysis 103L'!J126)))","v":""},{"$f":"IF('Analysis 103L'!P126=\"\",\"\",IF(A100=\"\", \"\", 'Analysis 103L'!P126))","v":""},{"$f":"IF('Analysis 103L'!S126=\"\",\"\", IF(LEFT('Analysis 103L'!J126,6)=\"Motion\", \"\", IF(RIGHT('Analysis 103L'!I126,4)=\"Case\",'Analysis 103L'!R126, 'Analysis 103L'!S126)))","v":""},{"$f":"IF(ISNUMBER('Analysis 103L'!AT126),'Analysis 103L'!AT126,\"\")","v":""},{"$f":"IF('Analysis 103L'!D126=\"\",\"\",'Analysis 103L'!AA126)","v":""},{"$f":"IF(E100=\"\",\"\",'Analysis 103L'!BE126)","v":""},{"$f":"IFERROR('Analysis 103L'!CD126*B100,\"\")","v":""},{"$f":"IF('Analysis 103L'!C126=\"\",\"\",'Analysis 103L'!C126)","v":""},{"$f":"IF('Analysis 103L'!E126=\"\",\"\",IF(AND(C100=0,D100=0),\"\",'Analysis 103L'!E126))","v":""}]
[{"$f":"IF('Analysis 103L'!J127=\"\",\"\",IF(AND(C101=0,D101=0),\"\",IF(RIGHT('Analysis 103L'!I127,4)=\"Case\", IF(LEFT('Analysis 103L'!J127,6)=\"Motion\", \"\", 'Analysis 103L'!CL127),'Analysis 103L'!J127)))","v":""},{"$f":"IF('Analysis 103L'!P127=\"\",\"\",IF(A101=\"\", \"\", 'Analysis 103L'!P127))","v":""},{"$f":"IF('Analysis 103L'!S127=\"\",\"\", IF(LEFT('Analysis 103L'!J127,6)=\"Motion\", \"\", IF(RIGHT('Analysis 103L'!I127,4)=\"Case\",'Analysis 103L'!R127, 'Analysis 103L'!S127)))","v":""},{"$f":"IF(ISNUMBER('Analysis 103L'!AT127),'Analysis 103L'!AT127,\"\")","v":""},{"$f":"IF('Analysis 103L'!D127=\"\",\"\",'Analysis 103L'!AA127)","v":""},{"$f":"IF(E101=\"\",\"\",'Analysis 103L'!BE127)","v":""},{"$f":"IFERROR('Analysis 103L'!CD127*B101,\"\")","v":""},{"$f":"IF('Analysis 103L'!C127=\"\",\"\",'Analysis 103L'!C127)","v":""},{"$f":"IF('Analysis 103L'!E127=\"\",\"\",IF(AND(C101=0,D101=0),\"\",'Analysis 103L'!E127))","v":""}]
[{"$f":"IF('Analysis 103L'!J128=\"\",\"\",IF(AND(C102=0,D102=0),\"\",IF(RIGHT('Analysis 103L'!I128,4)=\"Case\", IF(LEFT('Analysis 103L'!J128,6)=\"Motion\", \"\", 'Analysis 103L'!CL128),'Analysis 103L'!J128)))","v":""},{"$f":"IF('Analysis 103L'!P128=\"\",\"\",IF(A102=\"\", \"\", 'Analysis 103L'!P128))","v":""},{"$f":"IF('Analysis 103L'!S128=\"\",\"\", IF(LEFT('Analysis 103L'!J128,6)=\"Motion\", \"\", IF(RIGHT('Analysis 103L'!I128,4)=\"Case\",'Analysis 103L'!R128, 'Analysis 103L'!S128)))","v":""},{"$f":"IF(ISNUMBER('Analysis 103L'!AT128),'Analysis 103L'!AT128,\"\")","v":""},{"$f":"IF('Analysis 103L'!D128=\"\",\"\",'Analysis 103L'!AA128)","v":""},{"$f":"IF(E102=\"\",\"\",'Analysis 103L'!BE128)","v":""},{"$f":"IFERROR('Analysis 103L'!CD128*B102,\"\")","v":""},{"$f":"IF('Analysis 103L'!C128=\"\",\"\",'Analysis 103L'!C128)","v":""},{"$f":"IF('Analysis 103L'!E128=\"\",\"\",IF(AND(C102=0,D102=0),\"\",'Analysis 103L'!E128))","v":""}]
[{"$f":"IF('Analysis 103L'!J129=\"\",\"\",IF(AND(C103=0,D103=0),\"\",IF(RIGHT('Analysis 103L'!I129,4)=\"Case\", IF(LEFT('Analysis 103L'!J129,6)=\"Motion\", \"\", 'Analysis 103L'!CL129),'Analysis 103L'!J129)))","v":""},{"$f":"IF('Analysis 103L'!P129=\"\",\"\",IF(A103=\"\", \"\", 'Analysis 103L'!P129))","v":""},{"$f":"IF('Analysis 103L'!S129=\"\",\"\", IF(LEFT('Analysis 103L'!J129,6)=\"Motion\", \"\", IF(RIGHT('Analysis 103L'!I129,4)=\"Case\",'Analysis 103L'!R129, 'Analysis 103L'!S129)))","v":""},{"$f":"IF(ISNUMBER('Analysis 103L'!AT129),'Analysis 103L'!AT129,\"\")","v":""},{"$f":"IF('Analysis 103L'!D129=\"\",\"\",'Analysis 103L'!AA129)","v":""},{"$f":"IF(E103=\"\",\"\",'Analysis 103L'!BE129)","v":""},{"$f":"IFERROR('Analysis 103L'!CD129*B103,\"\")","v":""},{"$f":"IF('Analysis 103L'!C129=\"\",\"\",'Analysis 103L'!C129)","v":""},{"$f":"IF('Analysis 103L'!E129=\"\",\"\",IF(AND(C103=0,D103=0),\"\",'Analysis 103L'!E129))","v":""}]
[{"$f":"IF('Analysis 103L'!J130=\"\",\"\",IF(AND(C104=0,D104=0),\"\",IF(RIGHT('Analysis 103L'!I130,4)=\"Case\", IF(LEFT('Analysis 103L'!J130,6)=\"Motion\", \"\", 'Analysis 103L'!CL130),'Analysis 103L'!J130)))","v":""},{"$f":"IF('Analysis 103L'!P130=\"\",\"\",IF(A104=\"\", \"\", 'Analysis 103L'!P130))","v":""},{"$f":"IF('Analysis 103L'!S130=\"\",\"\", IF(LEFT('Analysis 103L'!J130,6)=\"Motion\", \"\", IF(RIGHT('Analysis 103L'!I130,4)=\"Case\",'Analysis 103L'!R130, 'Analysis 103L'!S130)))","v":""},{"$f":"IF(ISNUMBER('Analysis 103L'!AT130),'Analysis 103L'!AT130,\"\")","v":""},{"$f":"IF('Analysis 103L'!D130=\"\",\"\",'Analysis 103L'!AA130)","v":""},{"$f":"IF(E104=\"\",\"\",'Analysis 103L'!BE130)","v":""},{"$f":"IFERROR('Analysis 103L'!CD130*B104,\"\")","v":""},{"$f":"IF('Analysis 103L'!C130=\"\",\"\",'Analysis 103L'!C130)","v":""},{"$f":"IF('Analysis 103L'!E130=\"\",\"\",IF(AND(C104=0,D104=0),\"\",'Analysis 103L'!E130))","v":""}]
[{"$f":"IF('Analysis 103L'!J131=\"\",\"\",IF(AND(C105=0,D105=0),\"\",IF(RIGHT('Analysis 103L'!I131,4)=\"Case\", IF(LEFT('Analysis 103L'!J131,6)=\"Motion\", \"\", 'Analysis 103L'!CL131),'Analysis 103L'!J131)))","v":""},{"$f":"IF('Analysis 103L'!P131=\"\",\"\",IF(A105=\"\", \"\", 'Analysis 103L'!P131))","v":""},{"$f":"IF('Analysis 103L'!S131=\"\",\"\", IF(LEFT('Analysis 103L'!J131,6)=\"Motion\", \"\", IF(RIGHT('Analysis 103L'!I131,4)=\"Case\",'Analysis 103L'!R131, 'Analysis 103L'!S131)))","v":""},{"$f":"IF(ISNUMBER('Analysis 103L'!AT131),'Analysis 103L'!AT131,\"\")","v":""},{"$f":"IF('Analysis 103L'!D131=\"\",\"\",'Analysis 103L'!AA131)","v":""},{"$f":"IF(E105=\"\",\"\",'Analysis 103L'!BE131)","v":""},{"$f":"IFERROR('Analysis 103L'!CD131*B105,\"\")","v":""},{"$f":"IF('Analysis 103L'!C131=\"\",\"\",'Analysis 103L'!C131)","v":""},{"$f":"IF('Analysis 103L'!E131=\"\",\"\",IF(AND(C105=0,D105=0),\"\",'Analysis 103L'!E131))","v":""}]
[{"$f":"IF('Analysis 103L'!J132=\"\",\"\",IF(AND(C106=0,D106=0),\"\",IF(RIGHT('Analysis 103L'!I132,4)=\"Case\", IF(LEFT('Analysis 103L'!J132,6)=\"Motion\", \"\", 'Analysis 103L'!CL132),'Analysis 103L'!J132)))","v":""},{"$f":"IF('Analysis 103L'!P132=\"\",\"\",IF(A106=\"\", \"\", 'Analysis 103L'!P132))","v":""},{"$f":"IF('Analysis 103L'!S132=\"\",\"\", IF(LEFT('Analysis 103L'!J132,6)=\"Motion\", \"\", IF(RIGHT('Analysis 103L'!I132,4)=\"Case\",'Analysis 103L'!R132, 'Analysis 103L'!S132)))","v":""},{"$f":"IF(ISNUMBER('Analysis 103L'!AT132),'Analysis 103L'!AT132,\"\")","v":""},{"$f":"IF('Analysis 103L'!D132=\"\",\"\",'Analysis 103L'!AA132)","v":""},{"$f":"IF(E106=\"\",\"\",'Analysis 103L'!BE132)","v":""},{"$f":"IFERROR('Analysis 103L'!CD132*B106,\"\")","v":""},{"$f":"IF('Analysis 103L'!C132=\"\",\"\",'Analysis 103L'!C132)","v":""},{"$f":"IF('Analysis 103L'!E132=\"\",\"\",IF(AND(C106=0,D106=0),\"\",'Analysis 103L'!E132))","v":""}]
[{"$f":"IF('Analysis 103L'!J133=\"\",\"\",IF(AND(C107=0,D107=0),\"\",IF(RIGHT('Analysis 103L'!I133,4)=\"Case\", IF(LEFT('Analysis 103L'!J133,6)=\"Motion\", \"\", 'Analysis 103L'!CL133),'Analysis 103L'!J133)))","v":""},{"$f":"IF('Analysis 103L'!P133=\"\",\"\",IF(A107=\"\", \"\", 'Analysis 103L'!P133))","v":""},{"$f":"IF('Analysis 103L'!S133=\"\",\"\", IF(LEFT('Analysis 103L'!J133,6)=\"Motion\", \"\", IF(RIGHT('Analysis 103L'!I133,4)=\"Case\",'Analysis 103L'!R133, 'Analysis 103L'!S133)))","v":""},{"$f":"IF(ISNUMBER('Analysis 103L'!AT133),'Analysis 103L'!AT133,\"\")","v":""},{"$f":"IF('Analysis 103L'!D133=\"\",\"\",'Analysis 103L'!AA133)","v":""},{"$f":"IF(E107=\"\",\"\",'Analysis 103L'!BE133)","v":""},{"$f":"IFERROR('Analysis 103L'!CD133*B107,\"\")","v":""},{"$f":"IF('Analysis 103L'!C133=\"\",\"\",'Analysis 103L'!C133)","v":""},{"$f":"IF('Analysis 103L'!E133=\"\",\"\",IF(AND(C107=0,D107=0),\"\",'Analysis 103L'!E133))","v":""}]
[{"$f":"IF('Analysis 103L'!J134=\"\",\"\",IF(AND(C108=0,D108=0),\"\",IF(RIGHT('Analysis 103L'!I134,4)=\"Case\", IF(LEFT('Analysis 103L'!J134,6)=\"Motion\", \"\", 'Analysis 103L'!CL134),'Analysis 103L'!J134)))","v":""},{"$f":"IF('Analysis 103L'!P134=\"\",\"\",IF(A108=\"\", \"\", 'Analysis 103L'!P134))","v":""},{"$f":"IF('Analysis 103L'!S134=\"\",\"\", IF(LEFT('Analysis 103L'!J134,6)=\"Motion\", \"\", IF(RIGHT('Analysis 103L'!I134,4)=\"Case\",'Analysis 103L'!R134, 'Analysis 103L'!S134)))","v":""},{"$f":"IF(ISNUMBER('Analysis 103L'!AT134),'Analysis 103L'!AT134,\"\")","v":""},{"$f":"IF('Analysis 103L'!D134=\"\",\"\",'Analysis 103L'!AA134)","v":""},{"$f":"IF(E108=\"\",\"\",'Analysis 103L'!BE134)","v":""},{"$f":"IFERROR('Analysis 103L'!CD134*B108,\"\")","v":""},{"$f":"IF('Analysis 103L'!C134=\"\",\"\",'Analysis 103L'!C134)","v":""},{"$f":"IF('Analysis 103L'!E134=\"\",\"\",IF(AND(C108=0,D108=0),\"\",'Analysis 103L'!E134))","v":""}]
[{"$f":"IF('Analysis 103L'!J135=\"\",\"\",IF(AND(C109=0,D109=0),\"\",IF(RIGHT('Analysis 103L'!I135,4)=\"Case\", IF(LEFT('Analysis 103L'!J135,6)=\"Motion\", \"\", 'Analysis 103L'!CL135),'Analysis 103L'!J135)))","v":""},{"$f":"IF('Analysis 103L'!P135=\"\",\"\",IF(A109=\"\", \"\", 'Analysis 103L'!P135))","v":""},{"$f":"IF('Analysis 103L'!S135=\"\",\"\", IF(LEFT('Analysis 103L'!J135,6)=\"Motion\", \"\", IF(RIGHT('Analysis 103L'!I135,4)=\"Case\",'Analysis 103L'!R135, 'Analysis 103L'!S135)))","v":""},{"$f":"IF(ISNUMBER('Analysis 103L'!AT135),'Analysis 103L'!AT135,\"\")","v":""},{"$f":"IF('Analysis 103L'!D135=\"\",\"\",'Analysis 103L'!AA135)","v":""},{"$f":"IF(E109=\"\",\"\",'Analysis 103L'!BE135)","v":""},{"$f":"IFERROR('Analysis 103L'!CD135*B109,\"\")","v":""},{"$f":"IF('Analysis 103L'!C135=\"\",\"\",'Analysis 103L'!C135)","v":""},{"$f":"IF('Analysis 103L'!E135=\"\",\"\",IF(AND(C109=0,D109=0),\"\",'Analysis 103L'!E135))","v":""}]
[{"$f":"IF('Analysis 103L'!J136=\"\",\"\",IF(AND(C110=0,D110=0),\"\",IF(RIGHT('Analysis 103L'!I136,4)=\"Case\", IF(LEFT('Analysis 103L'!J136,6)=\"Motion\", \"\", 'Analysis 103L'!CL136),'Analysis 103L'!J136)))","v":""},{"$f":"IF('Analysis 103L'!P136=\"\",\"\",IF(A110=\"\", \"\", 'Analysis 103L'!P136))","v":""},{"$f":"IF('Analysis 103L'!S136=\"\",\"\", IF(LEFT('Analysis 103L'!J136,6)=\"Motion\", \"\", IF(RIGHT('Analysis 103L'!I136,4)=\"Case\",'Analysis 103L'!R136, 'Analysis 103L'!S136)))","v":""},{"$f":"IF(ISNUMBER('Analysis 103L'!AT136),'Analysis 103L'!AT136,\"\")","v":""},{"$f":"IF('Analysis 103L'!D136=\"\",\"\",'Analysis 103L'!AA136)","v":""},{"$f":"IF(E110=\"\",\"\",'Analysis 103L'!BE136)","v":""},{"$f":"IFERROR('Analysis 103L'!CD136*B110,\"\")","v":""},{"$f":"IF('Analysis 103L'!C136=\"\",\"\",'Analysis 103L'!C136)","v":""},{"$f":"IF('Analysis 103L'!E136=\"\",\"\",IF(AND(C110=0,D110=0),\"\",'Analysis 103L'!E136))","v":""}]
[{"$f":"IF('Analysis 103L'!J137=\"\",\"\",IF(AND(C111=0,D111=0),\"\",IF(RIGHT('Analysis 103L'!I137,4)=\"Case\", IF(LEFT('Analysis 103L'!J137,6)=\"Motion\", \"\", 'Analysis 103L'!CL137),'Analysis 103L'!J137)))","v":""},{"$f":"IF('Analysis 103L'!P137=\"\",\"\",IF(A111=\"\", \"\", 'Analysis 103L'!P137))","v":""},{"$f":"IF('Analysis 103L'!S137=\"\",\"\", IF(LEFT('Analysis 103L'!J137,6)=\"Motion\", \"\", IF(RIGHT('Analysis 103L'!I137,4)=\"Case\",'Analysis 103L'!R137, 'Analysis 103L'!S137)))","v":""},{"$f":"IF(ISNUMBER('Analysis 103L'!AT137),'Analysis 103L'!AT137,\"\")","v":""},{"$f":"IF('Analysis 103L'!D137=\"\",\"\",'Analysis 103L'!AA137)","v":""},{"$f":"IF(E111=\"\",\"\",'Analysis 103L'!BE137)","v":""},{"$f":"IFERROR('Analysis 103L'!CD137*B111,\"\")","v":""},{"$f":"IF('Analysis 103L'!C137=\"\",\"\",'Analysis 103L'!C137)","v":""},{"$f":"IF('Analysis 103L'!E137=\"\",\"\",IF(AND(C111=0,D111=0),\"\",'Analysis 103L'!E137))","v":""}]
[{"$f":"IF('Analysis 103L'!J138=\"\",\"\",IF(AND(C112=0,D112=0),\"\",IF(RIGHT('Analysis 103L'!I138,4)=\"Case\", IF(LEFT('Analysis 103L'!J138,6)=\"Motion\", \"\", 'Analysis 103L'!CL138),'Analysis 103L'!J138)))","v":""},{"$f":"IF('Analysis 103L'!P138=\"\",\"\",IF(A112=\"\", \"\", 'Analysis 103L'!P138))","v":""},{"$f":"IF('Analysis 103L'!S138=\"\",\"\", IF(LEFT('Analysis 103L'!J138,6)=\"Motion\", \"\", IF(RIGHT('Analysis 103L'!I138,4)=\"Case\",'Analysis 103L'!R138, 'Analysis 103L'!S138)))","v":""},{"$f":"IF(ISNUMBER('Analysis 103L'!AT138),'Analysis 103L'!AT138,\"\")","v":""},{"$f":"IF('Analysis 103L'!D138=\"\",\"\",'Analysis 103L'!AA138)","v":""},{"$f":"IF(E112=\"\",\"\",'Analysis 103L'!BE138)","v":""},{"$f":"IFERROR('Analysis 103L'!CD138*B112,\"\")","v":""},{"$f":"IF('Analysis 103L'!C138=\"\",\"\",'Analysis 103L'!C138)","v":""},{"$f":"IF('Analysis 103L'!E138=\"\",\"\",IF(AND(C112=0,D112=0),\"\",'Analysis 103L'!E138))","v":""}]
[{"$f":"IF('Analysis 103L'!J139=\"\",\"\",IF(AND(C113=0,D113=0),\"\",IF(RIGHT('Analysis 103L'!I139,4)=\"Case\", IF(LEFT('Analysis 103L'!J139,6)=\"Motion\", \"\", 'Analysis 103L'!CL139),'Analysis 103L'!J139)))","v":""},{"$f":"IF('Analysis 103L'!P139=\"\",\"\",IF(A113=\"\", \"\", 'Analysis 103L'!P139))","v":""},{"$f":"IF('Analysis 103L'!S139=\"\",\"\", IF(LEFT('Analysis 103L'!J139,6)=\"Motion\", \"\", IF(RIGHT('Analysis 103L'!I139,4)=\"Case\",'Analysis 103L'!R139, 'Analysis 103L'!S139)))","v":""},{"$f":"IF(ISNUMBER('Analysis 103L'!AT139),'Analysis 103L'!AT139,\"\")","v":""},{"$f":"IF('Analysis 103L'!D139=\"\",\"\",'Analysis 103L'!AA139)","v":""},{"$f":"IF(E113=\"\",\"\",'Analysis 103L'!BE139)","v":""},{"$f":"IFERROR('Analysis 103L'!CD139*B113,\"\")","v":""},{"$f":"IF('Analysis 103L'!C139=\"\",\"\",'Analysis 103L'!C139)","v":""},{"$f":"IF('Analysis 103L'!E139=\"\",\"\",IF(AND(C113=0,D113=0),\"\",'Analysis 103L'!E139))","v":""}]
[{"$f":"IF('Analysis 103L'!J140=\"\",\"\",IF(AND(C114=0,D114=0),\"\",IF(RIGHT('Analysis 103L'!I140,4)=\"Case\", IF(LEFT('Analysis 103L'!J140,6)=\"Motion\", \"\", 'Analysis 103L'!CL140),'Analysis 103L'!J140)))","v":""},{"$f":"IF('Analysis 103L'!P140=\"\",\"\",IF(A114=\"\", \"\", 'Analysis 103L'!P140))","v":""},{"$f":"IF('Analysis 103L'!S140=\"\",\"\", IF(LEFT('Analysis 103L'!J140,6)=\"Motion\", \"\", IF(RIGHT('Analysis 103L'!I140,4)=\"Case\",'Analysis 103L'!R140, 'Analysis 103L'!S140)))","v":""},{"$f":"IF(ISNUMBER('Analysis 103L'!AT140),'Analysis 103L'!AT140,\"\")","v":""},{"$f":"IF('Analysis 103L'!D140=\"\",\"\",'Analysis 103L'!AA140)","v":""},{"$f":"IF(E114=\"\",\"\",'Analysis 103L'!BE140)","v":""},{"$f":"IFERROR('Analysis 103L'!CD140*B114,\"\")","v":""},{"$f":"IF('Analysis 103L'!C140=\"\",\"\",'Analysis 103L'!C140)","v":""},{"$f":"IF('Analysis 103L'!E140=\"\",\"\",IF(AND(C114=0,D114=0),\"\",'Analysis 103L'!E140))","v":""}]
[{"$f":"IF('Analysis 103L'!J141=\"\",\"\",IF(AND(C115=0,D115=0),\"\",IF(RIGHT('Analysis 103L'!I141,4)=\"Case\", IF(LEFT('Analysis 103L'!J141,6)=\"Motion\", \"\", 'Analysis 103L'!CL141),'Analysis 103L'!J141)))","v":""},{"$f":"IF('Analysis 103L'!P141=\"\",\"\",IF(A115=\"\", \"\", 'Analysis 103L'!P141))","v":""},{"$f":"IF('Analysis 103L'!S141=\"\",\"\", IF(LEFT('Analysis 103L'!J141,6)=\"Motion\", \"\", IF(RIGHT('Analysis 103L'!I141,4)=\"Case\",'Analysis 103L'!R141, 'Analysis 103L'!S141)))","v":""},{"$f":"IF(ISNUMBER('Analysis 103L'!AT141),'Analysis 103L'!AT141,\"\")","v":""},{"$f":"IF('Analysis 103L'!D141=\"\",\"\",'Analysis 103L'!AA141)","v":""},{"$f":"IF(E115=\"\",\"\",'Analysis 103L'!BE141)","v":""},{"$f":"IFERROR('Analysis 103L'!CD141*B115,\"\")","v":""},{"$f":"IF('Analysis 103L'!C141=\"\",\"\",'Analysis 103L'!C141)","v":""},{"$f":"IF('Analysis 103L'!E141=\"\",\"\",IF(AND(C115=0,D115=0),\"\",'Analysis 103L'!E141))","v":""}]
[{"$f":"IF('Analysis 103L'!J142=\"\",\"\",IF(AND(C116=0,D116=0),\"\",IF(RIGHT('Analysis 103L'!I142,4)=\"Case\", IF(LEFT('Analysis 103L'!J142,6)=\"Motion\", \"\", 'Analysis 103L'!CL142),'Analysis 103L'!J142)))","v":""},{"$f":"IF('Analysis 103L'!P142=\"\",\"\",IF(A116=\"\", \"\", 'Analysis 103L'!P142))","v":""},{"$f":"IF('Analysis 103L'!S142=\"\",\"\", IF(LEFT('Analysis 103L'!J142,6)=\"Motion\", \"\", IF(RIGHT('Analysis 103L'!I142,4)=\"Case\",'Analysis 103L'!R142, 'Analysis 103L'!S142)))","v":""},{"$f":"IF(ISNUMBER('Analysis 103L'!AT142),'Analysis 103L'!AT142,\"\")","v":""},{"$f":"IF('Analysis 103L'!D142=\"\",\"\",'Analysis 103L'!AA142)","v":""},{"$f":"IF(E116=\"\",\"\",'Analysis 103L'!BE142)","v":""},{"$f":"IFERROR('Analysis 103L'!CD142*B116,\"\")","v":""},{"$f":"IF('Analysis 103L'!C142=\"\",\"\",'Analysis 103L'!C142)","v":""},{"$f":"IF('Analysis 103L'!E142=\"\",\"\",IF(AND(C116=0,D116=0),\"\",'Analysis 103L'!E142))","v":""}]
[{"$f":"IF('Analysis 103L'!J143=\"\",\"\",IF(AND(C117=0,D117=0),\"\",IF(RIGHT('Analysis 103L'!I143,4)=\"Case\", IF(LEFT('Analysis 103L'!J143,6)=\"Motion\", \"\", 'Analysis 103L'!CL143),'Analysis 103L'!J143)))","v":""},{"$f":"IF('Analysis 103L'!P143=\"\",\"\",IF(A117=\"\", \"\", 'Analysis 103L'!P143))","v":""},{"$f":"IF('Analysis 103L'!S143=\"\",\"\", IF(LEFT('Analysis 103L'!J143,6)=\"Motion\", \"\", IF(RIGHT('Analysis 103L'!I143,4)=\"Case\",'Analysis 103L'!R143, 'Analysis 103L'!S143)))","v":""},{"$f":"IF(ISNUMBER('Analysis 103L'!AT143),'Analysis 103L'!AT143,\"\")","v":""},{"$f":"IF('Analysis 103L'!D143=\"\",\"\",'Analysis 103L'!AA143)","v":""},{"$f":"IF(E117=\"\",\"\",'Analysis 103L'!BE143)","v":""},{"$f":"IFERROR('Analysis 103L'!CD143*B117,\"\")","v":""},{"$f":"IF('Analysis 103L'!C143=\"\",\"\",'Analysis 103L'!C143)","v":""},{"$f":"IF('Analysis 103L'!E143=\"\",\"\",IF(AND(C117=0,D117=0),\"\",'Analysis 103L'!E143))","v":""}]
[{"$f":"IF('Analysis 103L'!J144=\"\",\"\",IF(AND(C118=0,D118=0),\"\",IF(RIGHT('Analysis 103L'!I144,4)=\"Case\", IF(LEFT('Analysis 103L'!J144,6)=\"Motion\", \"\", 'Analysis 103L'!CL144),'Analysis 103L'!J144)))","v":""},{"$f":"IF('Analysis 103L'!P144=\"\",\"\",IF(A118=\"\", \"\", 'Analysis 103L'!P144))","v":""},{"$f":"IF('Analysis 103L'!S144=\"\",\"\", IF(LEFT('Analysis 103L'!J144,6)=\"Motion\", \"\", IF(RIGHT('Analysis 103L'!I144,4)=\"Case\",'Analysis 103L'!R144, 'Analysis 103L'!S144)))","v":""},{"$f":"IF(ISNUMBER('Analysis 103L'!AT144),'Analysis 103L'!AT144,\"\")","v":""},{"$f":"IF('Analysis 103L'!D144=\"\",\"\",'Analysis 103L'!AA144)","v":""},{"$f":"IF(E118=\"\",\"\",'Analysis 103L'!BE144)","v":""},{"$f":"IFERROR('Analysis 103L'!CD144*B118,\"\")","v":""},{"$f":"IF('Analysis 103L'!C144=\"\",\"\",'Analysis 103L'!C144)","v":""},{"$f":"IF('Analysis 103L'!E144=\"\",\"\",IF(AND(C118=0,D118=0),\"\",'Analysis 103L'!E144))","v":""}]
[{"$f":"IF('Analysis 103L'!J145=\"\",\"\",IF(AND(C119=0,D119=0),\"\",IF(RIGHT('Analysis 103L'!I145,4)=\"Case\", IF(LEFT('Analysis 103L'!J145,6)=\"Motion\", \"\", 'Analysis 103L'!CL145),'Analysis 103L'!J145)))","v":""},{"$f":"IF('Analysis 103L'!P145=\"\",\"\",IF(A119=\"\", \"\", 'Analysis 103L'!P145))","v":""},{"$f":"IF('Analysis 103L'!S145=\"\",\"\", IF(LEFT('Analysis 103L'!J145,6)=\"Motion\", \"\", IF(RIGHT('Analysis 103L'!I145,4)=\"Case\",'Analysis 103L'!R145, 'Analysis 103L'!S145)))","v":""},{"$f":"IF(ISNUMBER('Analysis 103L'!AT145),'Analysis 103L'!AT145,\"\")","v":""},{"$f":"IF('Analysis 103L'!D145=\"\",\"\",'Analysis 103L'!AA145)","v":""},{"$f":"IF(E119=\"\",\"\",'Analysis 103L'!BE145)","v":""},{"$f":"IFERROR('Analysis 103L'!CD145*B119,\"\")","v":""},{"$f":"IF('Analysis 103L'!C145=\"\",\"\",'Analysis 103L'!C145)","v":""},{"$f":"IF('Analysis 103L'!E145=\"\",\"\",IF(AND(C119=0,D119=0),\"\",'Analysis 103L'!E145))","v":""}]
[{"$f":"IF('Analysis 103L'!J146=\"\",\"\",IF(AND(C120=0,D120=0),\"\",IF(RIGHT('Analysis 103L'!I146,4)=\"Case\", IF(LEFT('Analysis 103L'!J146,6)=\"Motion\", \"\", 'Analysis 103L'!CL146),'Analysis 103L'!J146)))","v":""},{"$f":"IF('Analysis 103L'!P146=\"\",\"\",IF(A120=\"\", \"\", 'Analysis 103L'!P146))","v":""},{"$f":"IF('Analysis 103L'!S146=\"\",\"\", IF(LEFT('Analysis 103L'!J146,6)=\"Motion\", \"\", IF(RIGHT('Analysis 103L'!I146,4)=\"Case\",'Analysis 103L'!R146, 'Analysis 103L'!S146)))","v":""},{"$f":"IF(ISNUMBER('Analysis 103L'!AT146),'Analysis 103L'!AT146,\"\")","v":""},{"$f":"IF('Analysis 103L'!D146=\"\",\"\",'Analysis 103L'!AA146)","v":""},{"$f":"IF(E120=\"\",\"\",'Analysis 103L'!BE146)","v":""},{"$f":"IFERROR('Analysis 103L'!CD146*B120,\"\")","v":""},{"$f":"IF('Analysis 103L'!C146=\"\",\"\",'Analysis 103L'!C146)","v":""},{"$f":"IF('Analysis 103L'!E146=\"\",\"\",IF(AND(C120=0,D120=0),\"\",'Analysis 103L'!E146))","v":""}]
[{"$f":"IF('Analysis 103L'!J147=\"\",\"\",IF(AND(C121=0,D121=0),\"\",IF(RIGHT('Analysis 103L'!I147,4)=\"Case\", IF(LEFT('Analysis 103L'!J147,6)=\"Motion\", \"\", 'Analysis 103L'!CL147),'Analysis 103L'!J147)))","v":""},{"$f":"IF('Analysis 103L'!P147=\"\",\"\",IF(A121=\"\", \"\", 'Analysis 103L'!P147))","v":""},{"$f":"IF('Analysis 103L'!S147=\"\",\"\", IF(LEFT('Analysis 103L'!J147,6)=\"Motion\", \"\", IF(RIGHT('Analysis 103L'!I147,4)=\"Case\",'Analysis 103L'!R147, 'Analysis 103L'!S147)))","v":""},{"$f":"IF(ISNUMBER('Analysis 103L'!AT147),'Analysis 103L'!AT147,\"\")","v":""},{"$f":"IF('Analysis 103L'!D147=\"\",\"\",'Analysis 103L'!AA147)","v":""},{"$f":"IF(E121=\"\",\"\",'Analysis 103L'!BE147)","v":""},{"$f":"IFERROR('Analysis 103L'!CD147*B121,\"\")","v":""},{"$f":"IF('Analysis 103L'!C147=\"\",\"\",'Analysis 103L'!C147)","v":""},{"$f":"IF('Analysis 103L'!E147=\"\",\"\",IF(AND(C121=0,D121=0),\"\",'Analysis 103L'!E147))","v":""}]
[{"$f":"IF('Analysis 103L'!J148=\"\",\"\",IF(AND(C122=0,D122=0),\"\",IF(RIGHT('Analysis 103L'!I148,4)=\"Case\", IF(LEFT('Analysis 103L'!J148,6)=\"Motion\", \"\", 'Analysis 103L'!CL148),'Analysis 103L'!J148)))","v":""},{"$f":"IF('Analysis 103L'!P148=\"\",\"\",IF(A122=\"\", \"\", 'Analysis 103L'!P148))","v":""},{"$f":"IF('Analysis 103L'!S148=\"\",\"\", IF(LEFT('Analysis 103L'!J148,6)=\"Motion\", \"\", IF(RIGHT('Analysis 103L'!I148,4)=\"Case\",'Analysis 103L'!R148, 'Analysis 103L'!S148)))","v":""},{"$f":"IF(ISNUMBER('Analysis 103L'!AT148),'Analysis 103L'!AT148,\"\")","v":""},{"$f":"IF('Analysis 103L'!D148=\"\",\"\",'Analysis 103L'!AA148)","v":""},{"$f":"IF(E122=\"\",\"\",'Analysis 103L'!BE148)","v":""},{"$f":"IFERROR('Analysis 103L'!CD148*B122,\"\")","v":""},{"$f":"IF('Analysis 103L'!C148=\"\",\"\",'Analysis 103L'!C148)","v":""},{"$f":"IF('Analysis 103L'!E148=\"\",\"\",IF(AND(C122=0,D122=0),\"\",'Analysis 103L'!E148))","v":""}]
[{"$f":"IF('Analysis 103L'!J149=\"\",\"\",IF(AND(C123=0,D123=0),\"\",IF(RIGHT('Analysis 103L'!I149,4)=\"Case\", IF(LEFT('Analysis 103L'!J149,6)=\"Motion\", \"\", 'Analysis 103L'!CL149),'Analysis 103L'!J149)))","v":""},{"$f":"IF('Analysis 103L'!P149=\"\",\"\",IF(A123=\"\", \"\", 'Analysis 103L'!P149))","v":""},{"$f":"IF('Analysis 103L'!S149=\"\",\"\", IF(LEFT('Analysis 103L'!J149,6)=\"Motion\", \"\", IF(RIGHT('Analysis 103L'!I149,4)=\"Case\",'Analysis 103L'!R149, 'Analysis 103L'!S149)))","v":""},{"$f":"IF(ISNUMBER('Analysis 103L'!AT149),'Analysis 103L'!AT149,\"\")","v":""},{"$f":"IF('Analysis 103L'!D149=\"\",\"\",'Analysis 103L'!AA149)","v":""},{"$f":"IF(E123=\"\",\"\",'Analysis 103L'!BE149)","v":""},{"$f":"IFERROR('Analysis 103L'!CD149*B123,\"\")","v":""},{"$f":"IF('Analysis 103L'!C149=\"\",\"\",'Analysis 103L'!C149)","v":""},{"$f":"IF('Analysis 103L'!E149=\"\",\"\",IF(AND(C123=0,D123=0),\"\",'Analysis 103L'!E149))","v":""}]
[{"$f":"IF('Analysis 103L'!J150=\"\",\"\",IF(AND(C124=0,D124=0),\"\",IF(RIGHT('Analysis 103L'!I150,4)=\"Case\", IF(LEFT('Analysis 103L'!J150,6)=\"Motion\", \"\", 'Analysis 103L'!CL150),'Analysis 103L'!J150)))","v":""},{"$f":"IF('Analysis 103L'!P150=\"\",\"\",IF(A124=\"\", \"\", 'Analysis 103L'!P150))","v":""},{"$f":"IF('Analysis 103L'!S150=\"\",\"\", IF(LEFT('Analysis 103L'!J150,6)=\"Motion\", \"\", IF(RIGHT('Analysis 103L'!I150,4)=\"Case\",'Analysis 103L'!R150, 'Analysis 103L'!S150)))","v":""},{"$f":"IF(ISNUMBER('Analysis 103L'!AT150),'Analysis 103L'!AT150,\"\")","v":""},{"$f":"IF('Analysis 103L'!D150=\"\",\"\",'Analysis 103L'!AA150)","v":""},{"$f":"IF(E124=\"\",\"\",'Analysis 103L'!BE150)","v":""},{"$f":"IFERROR('Analysis 103L'!CD150*B124,\"\")","v":""},{"$f":"IF('Analysis 103L'!C150=\"\",\"\",'Analysis 103L'!C150)","v":""},{"$f":"IF('Analysis 103L'!E150=\"\",\"\",IF(AND(C124=0,D124=0),\"\",'Analysis 103L'!E150))","v":""}]
[{"$f":"IF('Analysis 103L'!J151=\"\",\"\",IF(AND(C125=0,D125=0),\"\",IF(RIGHT('Analysis 103L'!I151,4)=\"Case\", IF(LEFT('Analysis 103L'!J151,6)=\"Motion\", \"\", 'Analysis 103L'!CL151),'Analysis 103L'!J151)))","v":""},{"$f":"IF('Analysis 103L'!P151=\"\",\"\",IF(A125=\"\", \"\", 'Analysis 103L'!P151))","v":""},{"$f":"IF('Analysis 103L'!S151=\"\",\"\", IF(LEFT('Analysis 103L'!J151,6)=\"Motion\", \"\", IF(RIGHT('Analysis 103L'!I151,4)=\"Case\",'Analysis 103L'!R151, 'Analysis 103L'!S151)))","v":""},{"$f":"IF(ISNUMBER('Analysis 103L'!AT151),'Analysis 103L'!AT151,\"\")","v":""},{"$f":"IF('Analysis 103L'!D151=\"\",\"\",'Analysis 103L'!AA151)","v":""},{"$f":"IF(E125=\"\",\"\",'Analysis 103L'!BE151)","v":""},{"$f":"IFERROR('Analysis 103L'!CD151*B125,\"\")","v":""},{"$f":"IF('Analysis 103L'!C151=\"\",\"\",'Analysis 103L'!C151)","v":""},{"$f":"IF('Analysis 103L'!E151=\"\",\"\",IF(AND(C125=0,D125=0),\"\",'Analysis 103L'!E151))","v":""}]
[{"$f":"IF('Analysis 103L'!J152=\"\",\"\",IF(AND(C126=0,D126=0),\"\",IF(RIGHT('Analysis 103L'!I152,4)=\"Case\", IF(LEFT('Analysis 103L'!J152,6)=\"Motion\", \"\", 'Analysis 103L'!CL152),'Analysis 103L'!J152)))","v":""},{"$f":"IF('Analysis 103L'!P152=\"\",\"\",IF(A126=\"\", \"\", 'Analysis 103L'!P152))","v":""},{"$f":"IF('Analysis 103L'!S152=\"\",\"\", IF(LEFT('Analysis 103L'!J152,6)=\"Motion\", \"\", IF(RIGHT('Analysis 103L'!I152,4)=\"Case\",'Analysis 103L'!R152, 'Analysis 103L'!S152)))","v":""},{"$f":"IF(ISNUMBER('Analysis 103L'!AT152),'Analysis 103L'!AT152,\"\")","v":""},{"$f":"IF('Analysis 103L'!D152=\"\",\"\",'Analysis 103L'!AA152)","v":""},{"$f":"IF(E126=\"\",\"\",'Analysis 103L'!BE152)","v":""},{"$f":"IFERROR('Analysis 103L'!CD152*B126,\"\")","v":""},{"$f":"IF('Analysis 103L'!C152=\"\",\"\",'Analysis 103L'!C152)","v":""},{"$f":"IF('Analysis 103L'!E152=\"\",\"\",IF(AND(C126=0,D126=0),\"\",'Analysis 103L'!E152))","v":""}]
[{"$f":"IF('Analysis 103L'!J153=\"\",\"\",IF(AND(C127=0,D127=0),\"\",IF(RIGHT('Analysis 103L'!I153,4)=\"Case\", IF(LEFT('Analysis 103L'!J153,6)=\"Motion\", \"\", 'Analysis 103L'!CL153),'Analysis 103L'!J153)))","v":""},{"$f":"IF('Analysis 103L'!P153=\"\",\"\",IF(A127=\"\", \"\", 'Analysis 103L'!P153))","v":""},{"$f":"IF('Analysis 103L'!S153=\"\",\"\", IF(LEFT('Analysis 103L'!J153,6)=\"Motion\", \"\", IF(RIGHT('Analysis 103L'!I153,4)=\"Case\",'Analysis 103L'!R153, 'Analysis 103L'!S153)))","v":""},{"$f":"IF(ISNUMBER('Analysis 103L'!AT153),'Analysis 103L'!AT153,\"\")","v":""},{"$f":"IF('Analysis 103L'!D153=\"\",\"\",'Analysis 103L'!AA153)","v":""},{"$f":"IF(E127=\"\",\"\",'Analysis 103L'!BE153)","v":""},{"$f":"IFERROR('Analysis 103L'!CD153*B127,\"\")","v":""},{"$f":"IF('Analysis 103L'!C153=\"\",\"\",'Analysis 103L'!C153)","v":""},{"$f":"IF('Analysis 103L'!E153=\"\",\"\",IF(AND(C127=0,D127=0),\"\",'Analysis 103L'!E153))","v":""}]
[{"$f":"IF('Analysis 103L'!J154=\"\",\"\",IF(AND(C128=0,D128=0),\"\",IF(RIGHT('Analysis 103L'!I154,4)=\"Case\", IF(LEFT('Analysis 103L'!J154,6)=\"Motion\", \"\", 'Analysis 103L'!CL154),'Analysis 103L'!J154)))","v":""},{"$f":"IF('Analysis 103L'!P154=\"\",\"\",IF(A128=\"\", \"\", 'Analysis 103L'!P154))","v":""},{"$f":"IF('Analysis 103L'!S154=\"\",\"\", IF(LEFT('Analysis 103L'!J154,6)=\"Motion\", \"\", IF(RIGHT('Analysis 103L'!I154,4)=\"Case\",'Analysis 103L'!R154, 'Analysis 103L'!S154)))","v":""},{"$f":"IF(ISNUMBER('Analysis 103L'!AT154),'Analysis 103L'!AT154,\"\")","v":""},{"$f":"IF('Analysis 103L'!D154=\"\",\"\",'Analysis 103L'!AA154)","v":""},{"$f":"IF(E128=\"\",\"\",'Analysis 103L'!BE154)","v":""},{"$f":"IFERROR('Analysis 103L'!CD154*B128,\"\")","v":""},{"$f":"IF('Analysis 103L'!C154=\"\",\"\",'Analysis 103L'!C154)","v":""},{"$f":"IF('Analysis 103L'!E154=\"\",\"\",IF(AND(C128=0,D128=0),\"\",'Analysis 103L'!E154))","v":""}]
[{"$f":"IF('Analysis 103L'!J155=\"\",\"\",IF(AND(C129=0,D129=0),\"\",IF(RIGHT('Analysis 103L'!I155,4)=\"Case\", IF(LEFT('Analysis 103L'!J155,6)=\"Motion\", \"\", 'Analysis 103L'!CL155),'Analysis 103L'!J155)))","v":""},{"$f":"IF('Analysis 103L'!P155=\"\",\"\",IF(A129=\"\", \"\", 'Analysis 103L'!P155))","v":""},{"$f":"IF('Analysis 103L'!S155=\"\",\"\", IF(LEFT('Analysis 103L'!J155,6)=\"Motion\", \"\", IF(RIGHT('Analysis 103L'!I155,4)=\"Case\",'Analysis 103L'!R155, 'Analysis 103L'!S155)))","v":""},{"$f":"IF(ISNUMBER('Analysis 103L'!AT155),'Analysis 103L'!AT155,\"\")","v":""},{"$f":"IF('Analysis 103L'!D155=\"\",\"\",'Analysis 103L'!AA155)","v":""},{"$f":"IF(E129=\"\",\"\",'Analysis 103L'!BE155)","v":""},{"$f":"IFERROR('Analysis 103L'!CD155*B129,\"\")","v":""},{"$f":"IF('Analysis 103L'!C155=\"\",\"\",'Analysis 103L'!C155)","v":""},{"$f":"IF('Analysis 103L'!E155=\"\",\"\",IF(AND(C129=0,D129=0),\"\",'Analysis 103L'!E155))","v":""}]
[{"$f":"IF('Analysis 103L'!J156=\"\",\"\",IF(AND(C130=0,D130=0),\"\",IF(RIGHT('Analysis 103L'!I156,4)=\"Case\", IF(LEFT('Analysis 103L'!J156,6)=\"Motion\", \"\", 'Analysis 103L'!CL156),'Analysis 103L'!J156)))","v":""},{"$f":"IF('Analysis 103L'!P156=\"\",\"\",IF(A130=\"\", \"\", 'Analysis 103L'!P156))","v":""},{"$f":"IF('Analysis 103L'!S156=\"\",\"\", IF(LEFT('Analysis 103L'!J156,6)=\"Motion\", \"\", IF(RIGHT('Analysis 103L'!I156,4)=\"Case\",'Analysis 103L'!R156, 'Analysis 103L'!S156)))","v":""},{"$f":"IF(ISNUMBER('Analysis 103L'!AT156),'Analysis 103L'!AT156,\"\")","v":""},{"$f":"IF('Analysis 103L'!D156=\"\",\"\",'Analysis 103L'!AA156)","v":""},{"$f":"IF(E130=\"\",\"\",'Analysis 103L'!BE156)","v":""},{"$f":"IFERROR('Analysis 103L'!CD156*B130,\"\")","v":""},{"$f":"IF('Analysis 103L'!C156=\"\",\"\",'Analysis 103L'!C156)","v":""},{"$f":"IF('Analysis 103L'!E156=\"\",\"\",IF(AND(C130=0,D130=0),\"\",'Analysis 103L'!E156))","v":""}]
[{"$f":"IF('Analysis 103L'!J157=\"\",\"\",IF(AND(C131=0,D131=0),\"\",IF(RIGHT('Analysis 103L'!I157,4)=\"Case\", IF(LEFT('Analysis 103L'!J157,6)=\"Motion\", \"\", 'Analysis 103L'!CL157),'Analysis 103L'!J157)))","v":""},{"$f":"IF('Analysis 103L'!P157=\"\",\"\",IF(A131=\"\", \"\", 'Analysis 103L'!P157))","v":""},{"$f":"IF('Analysis 103L'!S157=\"\",\"\", IF(LEFT('Analysis 103L'!J157,6)=\"Motion\", \"\", IF(RIGHT('Analysis 103L'!I157,4)=\"Case\",'Analysis 103L'!R157, 'Analysis 103L'!S157)))","v":""},{"$f":"IF(ISNUMBER('Analysis 103L'!AT157),'Analysis 103L'!AT157,\"\")","v":""},{"$f":"IF('Analysis 103L'!D157=\"\",\"\",'Analysis 103L'!AA157)","v":""},{"$f":"IF(E131=\"\",\"\",'Analysis 103L'!BE157)","v":""},{"$f":"IFERROR('Analysis 103L'!CD157*B131,\"\")","v":""},{"$f":"IF('Analysis 103L'!C157=\"\",\"\",'Analysis 103L'!C157)","v":""},{"$f":"IF('Analysis 103L'!E157=\"\",\"\",IF(AND(C131=0,D131=0),\"\",'Analysis 103L'!E157))","v":""}]
[{"$f":"IF('Analysis 103L'!J158=\"\",\"\",IF(AND(C132=0,D132=0),\"\",IF(RIGHT('Analysis 103L'!I158,4)=\"Case\", IF(LEFT('Analysis 103L'!J158,6)=\"Motion\", \"\", 'Analysis 103L'!CL158),'Analysis 103L'!J158)))","v":""},{"$f":"IF('Analysis 103L'!P158=\"\",\"\",IF(A132=\"\", \"\", 'Analysis 103L'!P158))","v":""},{"$f":"IF('Analysis 103L'!S158=\"\",\"\", IF(LEFT('Analysis 103L'!J158,6)=\"Motion\", \"\", IF(RIGHT('Analysis 103L'!I158,4)=\"Case\",'Analysis 103L'!R158, 'Analysis 103L'!S158)))","v":""},{"$f":"IF(ISNUMBER('Analysis 103L'!AT158),'Analysis 103L'!AT158,\"\")","v":""},{"$f":"IF('Analysis 103L'!D158=\"\",\"\",'Analysis 103L'!AA158)","v":""},{"$f":"IF(E132=\"\",\"\",'Analysis 103L'!BE158)","v":""},{"$f":"IFERROR('Analysis 103L'!CD158*B132,\"\")","v":""},{"$f":"IF('Analysis 103L'!C158=\"\",\"\",'Analysis 103L'!C158)","v":""},{"$f":"IF('Analysis 103L'!E158=\"\",\"\",IF(AND(C132=0,D132=0),\"\",'Analysis 103L'!E158))","v":""}]
[{"$f":"IF('Analysis 103L'!J159=\"\",\"\",IF(AND(C133=0,D133=0),\"\",IF(RIGHT('Analysis 103L'!I159,4)=\"Case\", IF(LEFT('Analysis 103L'!J159,6)=\"Motion\", \"\", 'Analysis 103L'!CL159),'Analysis 103L'!J159)))","v":""},{"$f":"IF('Analysis 103L'!P159=\"\",\"\",IF(A133=\"\", \"\", 'Analysis 103L'!P159))","v":""},{"$f":"IF('Analysis 103L'!S159=\"\",\"\", IF(LEFT('Analysis 103L'!J159,6)=\"Motion\", \"\", IF(RIGHT('Analysis 103L'!I159,4)=\"Case\",'Analysis 103L'!R159, 'Analysis 103L'!S159)))","v":""},{"$f":"IF(ISNUMBER('Analysis 103L'!AT159),'Analysis 103L'!AT159,\"\")","v":""},{"$f":"IF('Analysis 103L'!D159=\"\",\"\",'Analysis 103L'!AA159)","v":""},{"$f":"IF(E133=\"\",\"\",'Analysis 103L'!BE159)","v":""},{"$f":"IFERROR('Analysis 103L'!CD159*B133,\"\")","v":""},{"$f":"IF('Analysis 103L'!C159=\"\",\"\",'Analysis 103L'!C159)","v":""},{"$f":"IF('Analysis 103L'!E159=\"\",\"\",IF(AND(C133=0,D133=0),\"\",'Analysis 103L'!E159))","v":""}]
[{"$f":"IF('Analysis 103L'!J160=\"\",\"\",IF(AND(C134=0,D134=0),\"\",IF(RIGHT('Analysis 103L'!I160,4)=\"Case\", IF(LEFT('Analysis 103L'!J160,6)=\"Motion\", \"\", 'Analysis 103L'!CL160),'Analysis 103L'!J160)))","v":""},{"$f":"IF('Analysis 103L'!P160=\"\",\"\",IF(A134=\"\", \"\", 'Analysis 103L'!P160))","v":""},{"$f":"IF('Analysis 103L'!S160=\"\",\"\", IF(LEFT('Analysis 103L'!J160,6)=\"Motion\", \"\", IF(RIGHT('Analysis 103L'!I160,4)=\"Case\",'Analysis 103L'!R160, 'Analysis 103L'!S160)))","v":""},{"$f":"IF(ISNUMBER('Analysis 103L'!AT160),'Analysis 103L'!AT160,\"\")","v":""},{"$f":"IF('Analysis 103L'!D160=\"\",\"\",'Analysis 103L'!AA160)","v":""},{"$f":"IF(E134=\"\",\"\",'Analysis 103L'!BE160)","v":""},{"$f":"IFERROR('Analysis 103L'!CD160*B134,\"\")","v":""},{"$f":"IF('Analysis 103L'!C160=\"\",\"\",'Analysis 103L'!C160)","v":""},{"$f":"IF('Analysis 103L'!E160=\"\",\"\",IF(AND(C134=0,D134=0),\"\",'Analysis 103L'!E160))","v":""}]
[{"$f":"IF('Analysis 103L'!J161=\"\",\"\",IF(AND(C135=0,D135=0),\"\",IF(RIGHT('Analysis 103L'!I161,4)=\"Case\", IF(LEFT('Analysis 103L'!J161,6)=\"Motion\", \"\", 'Analysis 103L'!CL161),'Analysis 103L'!J161)))","v":""},{"$f":"IF('Analysis 103L'!P161=\"\",\"\",IF(A135=\"\", \"\", 'Analysis 103L'!P161))","v":""},{"$f":"IF('Analysis 103L'!S161=\"\",\"\", IF(LEFT('Analysis 103L'!J161,6)=\"Motion\", \"\", IF(RIGHT('Analysis 103L'!I161,4)=\"Case\",'Analysis 103L'!R161, 'Analysis 103L'!S161)))","v":""},{"$f":"IF(ISNUMBER('Analysis 103L'!AT161),'Analysis 103L'!AT161,\"\")","v":""},{"$f":"IF('Analysis 103L'!D161=\"\",\"\",'Analysis 103L'!AA161)","v":""},{"$f":"IF(E135=\"\",\"\",'Analysis 103L'!BE161)","v":""},{"$f":"IFERROR('Analysis 103L'!CD161*B135,\"\")","v":""},{"$f":"IF('Analysis 103L'!C161=\"\",\"\",'Analysis 103L'!C161)","v":""},{"$f":"IF('Analysis 103L'!E161=\"\",\"\",IF(AND(C135=0,D135=0),\"\",'Analysis 103L'!E161))","v":""}]
[{"$f":"IF('Analysis 103L'!J162=\"\",\"\",IF(AND(C136=0,D136=0),\"\",IF(RIGHT('Analysis 103L'!I162,4)=\"Case\", IF(LEFT('Analysis 103L'!J162,6)=\"Motion\", \"\", 'Analysis 103L'!CL162),'Analysis 103L'!J162)))","v":""},{"$f":"IF('Analysis 103L'!P162=\"\",\"\",IF(A136=\"\", \"\", 'Analysis 103L'!P162))","v":""},{"$f":"IF('Analysis 103L'!S162=\"\",\"\", IF(LEFT('Analysis 103L'!J162,6)=\"Motion\", \"\", IF(RIGHT('Analysis 103L'!I162,4)=\"Case\",'Analysis 103L'!R162, 'Analysis 103L'!S162)))","v":""},{"$f":"IF(ISNUMBER('Analysis 103L'!AT162),'Analysis 103L'!AT162,\"\")","v":""},{"$f":"IF('Analysis 103L'!D162=\"\",\"\",'Analysis 103L'!AA162)","v":""},{"$f":"IF(E136=\"\",\"\",'Analysis 103L'!BE162)","v":""},{"$f":"IFERROR('Analysis 103L'!CD162*B136,\"\")","v":""},{"$f":"IF('Analysis 103L'!C162=\"\",\"\",'Analysis 103L'!C162)","v":""},{"$f":"IF('Analysis 103L'!E162=\"\",\"\",IF(AND(C136=0,D136=0),\"\",'Analysis 103L'!E162))","v":""}]
[{"$f":"IF('Analysis 103L'!J163=\"\",\"\",IF(AND(C137=0,D137=0),\"\",IF(RIGHT('Analysis 103L'!I163,4)=\"Case\", IF(LEFT('Analysis 103L'!J163,6)=\"Motion\", \"\", 'Analysis 103L'!CL163),'Analysis 103L'!J163)))","v":""},{"$f":"IF('Analysis 103L'!P163=\"\",\"\",IF(A137=\"\", \"\", 'Analysis 103L'!P163))","v":""},{"$f":"IF('Analysis 103L'!S163=\"\",\"\", IF(LEFT('Analysis 103L'!J163,6)=\"Motion\", \"\", IF(RIGHT('Analysis 103L'!I163,4)=\"Case\",'Analysis 103L'!R163, 'Analysis 103L'!S163)))","v":""},{"$f":"IF(ISNUMBER('Analysis 103L'!AT163),'Analysis 103L'!AT163,\"\")","v":""},{"$f":"IF('Analysis 103L'!D163=\"\",\"\",'Analysis 103L'!AA163)","v":""},{"$f":"IF(E137=\"\",\"\",'Analysis 103L'!BE163)","v":""},{"$f":"IFERROR('Analysis 103L'!CD163*B137,\"\")","v":""},{"$f":"IF('Analysis 103L'!C163=\"\",\"\",'Analysis 103L'!C163)","v":""},{"$f":"IF('Analysis 103L'!E163=\"\",\"\",IF(AND(C137=0,D137=0),\"\",'Analysis 103L'!E163))","v":""}]
[{"$f":"IF('Analysis 103L'!J164=\"\",\"\",IF(AND(C138=0,D138=0),\"\",IF(RIGHT('Analysis 103L'!I164,4)=\"Case\", IF(LEFT('Analysis 103L'!J164,6)=\"Motion\", \"\", 'Analysis 103L'!CL164),'Analysis 103L'!J164)))","v":""},{"$f":"IF('Analysis 103L'!P164=\"\",\"\",IF(A138=\"\", \"\", 'Analysis 103L'!P164))","v":""},{"$f":"IF('Analysis 103L'!S164=\"\",\"\", IF(LEFT('Analysis 103L'!J164,6)=\"Motion\", \"\", IF(RIGHT('Analysis 103L'!I164,4)=\"Case\",'Analysis 103L'!R164, 'Analysis 103L'!S164)))","v":""},{"$f":"IF(ISNUMBER('Analysis 103L'!AT164),'Analysis 103L'!AT164,\"\")","v":""},{"$f":"IF('Analysis 103L'!D164=\"\",\"\",'Analysis 103L'!AA164)","v":""},{"$f":"IF(E138=\"\",\"\",'Analysis 103L'!BE164)","v":""},{"$f":"IFERROR('Analysis 103L'!CD164*B138,\"\")","v":""},{"$f":"IF('Analysis 103L'!C164=\"\",\"\",'Analysis 103L'!C164)","v":""},{"$f":"IF('Analysis 103L'!E164=\"\",\"\",IF(AND(C138=0,D138=0),\"\",'Analysis 103L'!E164))","v":""}]
[{"$f":"IF('Analysis 103L'!J165=\"\",\"\",IF(AND(C139=0,D139=0),\"\",IF(RIGHT('Analysis 103L'!I165,4)=\"Case\", IF(LEFT('Analysis 103L'!J165,6)=\"Motion\", \"\", 'Analysis 103L'!CL165),'Analysis 103L'!J165)))","v":""},{"$f":"IF('Analysis 103L'!P165=\"\",\"\",IF(A139=\"\", \"\", 'Analysis 103L'!P165))","v":""},{"$f":"IF('Analysis 103L'!S165=\"\",\"\", IF(LEFT('Analysis 103L'!J165,6)=\"Motion\", \"\", IF(RIGHT('Analysis 103L'!I165,4)=\"Case\",'Analysis 103L'!R165, 'Analysis 103L'!S165)))","v":""},{"$f":"IF(ISNUMBER('Analysis 103L'!AT165),'Analysis 103L'!AT165,\"\")","v":""},{"$f":"IF('Analysis 103L'!D165=\"\",\"\",'Analysis 103L'!AA165)","v":""},{"$f":"IF(E139=\"\",\"\",'Analysis 103L'!BE165)","v":""},{"$f":"IFERROR('Analysis 103L'!CD165*B139,\"\")","v":""},{"$f":"IF('Analysis 103L'!C165=\"\",\"\",'Analysis 103L'!C165)","v":""},{"$f":"IF('Analysis 103L'!E165=\"\",\"\",IF(AND(C139=0,D139=0),\"\",'Analysis 103L'!E165))","v":""}]
[{"$f":"IF('Analysis 103L'!J166=\"\",\"\",IF(AND(C140=0,D140=0),\"\",IF(RIGHT('Analysis 103L'!I166,4)=\"Case\", IF(LEFT('Analysis 103L'!J166,6)=\"Motion\", \"\", 'Analysis 103L'!CL166),'Analysis 103L'!J166)))","v":""},{"$f":"IF('Analysis 103L'!P166=\"\",\"\",IF(A140=\"\", \"\", 'Analysis 103L'!P166))","v":""},{"$f":"IF('Analysis 103L'!S166=\"\",\"\", IF(LEFT('Analysis 103L'!J166,6)=\"Motion\", \"\", IF(RIGHT('Analysis 103L'!I166,4)=\"Case\",'Analysis 103L'!R166, 'Analysis 103L'!S166)))","v":""},{"$f":"IF(ISNUMBER('Analysis 103L'!AT166),'Analysis 103L'!AT166,\"\")","v":""},{"$f":"IF('Analysis 103L'!D166=\"\",\"\",'Analysis 103L'!AA166)","v":""},{"$f":"IF(E140=\"\",\"\",'Analysis 103L'!BE166)","v":""},{"$f":"IFERROR('Analysis 103L'!CD166*B140,\"\")","v":""},{"$f":"IF('Analysis 103L'!C166=\"\",\"\",'Analysis 103L'!C166)","v":""},{"$f":"IF('Analysis 103L'!E166=\"\",\"\",IF(AND(C140=0,D140=0),\"\",'Analysis 103L'!E166))","v":""}]
[{"$f":"IF('Analysis 103L'!J167=\"\",\"\",IF(AND(C141=0,D141=0),\"\",IF(RIGHT('Analysis 103L'!I167,4)=\"Case\", IF(LEFT('Analysis 103L'!J167,6)=\"Motion\", \"\", 'Analysis 103L'!CL167),'Analysis 103L'!J167)))","v":""},{"$f":"IF('Analysis 103L'!P167=\"\",\"\",IF(A141=\"\", \"\", 'Analysis 103L'!P167))","v":""},{"$f":"IF('Analysis 103L'!S167=\"\",\"\", IF(LEFT('Analysis 103L'!J167,6)=\"Motion\", \"\", IF(RIGHT('Analysis 103L'!I167,4)=\"Case\",'Analysis 103L'!R167, 'Analysis 103L'!S167)))","v":""},{"$f":"IF(ISNUMBER('Analysis 103L'!AT167),'Analysis 103L'!AT167,\"\")","v":""},{"$f":"IF('Analysis 103L'!D167=\"\",\"\",'Analysis 103L'!AA167)","v":""},{"$f":"IF(E141=\"\",\"\",'Analysis 103L'!BE167)","v":""},{"$f":"IFERROR('Analysis 103L'!CD167*B141,\"\")","v":""},{"$f":"IF('Analysis 103L'!C167=\"\",\"\",'Analysis 103L'!C167)","v":""},{"$f":"IF('Analysis 103L'!E167=\"\",\"\",IF(AND(C141=0,D141=0),\"\",'Analysis 103L'!E167))","v":""}]
[{"$f":"IF('Analysis 103L'!J168=\"\",\"\",IF(AND(C142=0,D142=0),\"\",IF(RIGHT('Analysis 103L'!I168,4)=\"Case\", IF(LEFT('Analysis 103L'!J168,6)=\"Motion\", \"\", 'Analysis 103L'!CL168),'Analysis 103L'!J168)))","v":""},{"$f":"IF('Analysis 103L'!P168=\"\",\"\",IF(A142=\"\", \"\", 'Analysis 103L'!P168))","v":""},{"$f":"IF('Analysis 103L'!S168=\"\",\"\", IF(LEFT('Analysis 103L'!J168,6)=\"Motion\", \"\", IF(RIGHT('Analysis 103L'!I168,4)=\"Case\",'Analysis 103L'!R168, 'Analysis 103L'!S168)))","v":""},{"$f":"IF(ISNUMBER('Analysis 103L'!AT168),'Analysis 103L'!AT168,\"\")","v":""},{"$f":"IF('Analysis 103L'!D168=\"\",\"\",'Analysis 103L'!AA168)","v":""},{"$f":"IF(E142=\"\",\"\",'Analysis 103L'!BE168)","v":""},{"$f":"IFERROR('Analysis 103L'!CD168*B142,\"\")","v":""},{"$f":"IF('Analysis 103L'!C168=\"\",\"\",'Analysis 103L'!C168)","v":""},{"$f":"IF('Analysis 103L'!E168=\"\",\"\",IF(AND(C142=0,D142=0),\"\",'Analysis 103L'!E168))","v":""}]
[{"$f":"IF('Analysis 103L'!J169=\"\",\"\",IF(AND(C143=0,D143=0),\"\",IF(RIGHT('Analysis 103L'!I169,4)=\"Case\", IF(LEFT('Analysis 103L'!J169,6)=\"Motion\", \"\", 'Analysis 103L'!CL169),'Analysis 103L'!J169)))","v":""},{"$f":"IF('Analysis 103L'!P169=\"\",\"\",IF(A143=\"\", \"\", 'Analysis 103L'!P169))","v":""},{"$f":"IF('Analysis 103L'!S169=\"\",\"\", IF(LEFT('Analysis 103L'!J169,6)=\"Motion\", \"\", IF(RIGHT('Analysis 103L'!I169,4)=\"Case\",'Analysis 103L'!R169, 'Analysis 103L'!S169)))","v":""},{"$f":"IF(ISNUMBER('Analysis 103L'!AT169),'Analysis 103L'!AT169,\"\")","v":""},{"$f":"IF('Analysis 103L'!D169=\"\",\"\",'Analysis 103L'!AA169)","v":""},{"$f":"IF(E143=\"\",\"\",'Analysis 103L'!BE169)","v":""},{"$f":"IFERROR('Analysis 103L'!CD169*B143,\"\")","v":""},{"$f":"IF('Analysis 103L'!C169=\"\",\"\",'Analysis 103L'!C169)","v":""},{"$f":"IF('Analysis 103L'!E169=\"\",\"\",IF(AND(C143=0,D143=0),\"\",'Analysis 103L'!E169))","v":""}]
[{"$f":"IF('Analysis 103L'!J170=\"\",\"\",IF(AND(C144=0,D144=0),\"\",IF(RIGHT('Analysis 103L'!I170,4)=\"Case\", IF(LEFT('Analysis 103L'!J170,6)=\"Motion\", \"\", 'Analysis 103L'!CL170),'Analysis 103L'!J170)))","v":""},{"$f":"IF('Analysis 103L'!P170=\"\",\"\",IF(A144=\"\", \"\", 'Analysis 103L'!P170))","v":""},{"$f":"IF('Analysis 103L'!S170=\"\",\"\", IF(LEFT('Analysis 103L'!J170,6)=\"Motion\", \"\", IF(RIGHT('Analysis 103L'!I170,4)=\"Case\",'Analysis 103L'!R170, 'Analysis 103L'!S170)))","v":""},{"$f":"IF(ISNUMBER('Analysis 103L'!AT170),'Analysis 103L'!AT170,\"\")","v":""},{"$f":"IF('Analysis 103L'!D170=\"\",\"\",'Analysis 103L'!AA170)","v":""},{"$f":"IF(E144=\"\",\"\",'Analysis 103L'!BE170)","v":""},{"$f":"IFERROR('Analysis 103L'!CD170*B144,\"\")","v":""},{"$f":"IF('Analysis 103L'!C170=\"\",\"\",'Analysis 103L'!C170)","v":""},{"$f":"IF('Analysis 103L'!E170=\"\",\"\",IF(AND(C144=0,D144=0),\"\",'Analysis 103L'!E170))","v":""}]
[{"$f":"IF('Analysis 103L'!J171=\"\",\"\",IF(AND(C145=0,D145=0),\"\",IF(RIGHT('Analysis 103L'!I171,4)=\"Case\", IF(LEFT('Analysis 103L'!J171,6)=\"Motion\", \"\", 'Analysis 103L'!CL171),'Analysis 103L'!J171)))","v":""},{"$f":"IF('Analysis 103L'!P171=\"\",\"\",IF(A145=\"\", \"\", 'Analysis 103L'!P171))","v":""},{"$f":"IF('Analysis 103L'!S171=\"\",\"\", IF(LEFT('Analysis 103L'!J171,6)=\"Motion\", \"\", IF(RIGHT('Analysis 103L'!I171,4)=\"Case\",'Analysis 103L'!R171, 'Analysis 103L'!S171)))","v":""},{"$f":"IF(ISNUMBER('Analysis 103L'!AT171),'Analysis 103L'!AT171,\"\")","v":""},{"$f":"IF('Analysis 103L'!D171=\"\",\"\",'Analysis 103L'!AA171)","v":""},{"$f":"IF(E145=\"\",\"\",'Analysis 103L'!BE171)","v":""},{"$f":"IFERROR('Analysis 103L'!CD171*B145,\"\")","v":""},{"$f":"IF('Analysis 103L'!C171=\"\",\"\",'Analysis 103L'!C171)","v":""},{"$f":"IF('Analysis 103L'!E171=\"\",\"\",IF(AND(C145=0,D145=0),\"\",'Analysis 103L'!E171))","v":""}]
[{"$f":"IF('Analysis 103L'!J172=\"\",\"\",IF(AND(C146=0,D146=0),\"\",IF(RIGHT('Analysis 103L'!I172,4)=\"Case\", IF(LEFT('Analysis 103L'!J172,6)=\"Motion\", \"\", 'Analysis 103L'!CL172),'Analysis 103L'!J172)))","v":""},{"$f":"IF('Analysis 103L'!P172=\"\",\"\",IF(A146=\"\", \"\", 'Analysis 103L'!P172))","v":""},{"$f":"IF('Analysis 103L'!S172=\"\",\"\", IF(LEFT('Analysis 103L'!J172,6)=\"Motion\", \"\", IF(RIGHT('Analysis 103L'!I172,4)=\"Case\",'Analysis 103L'!R172, 'Analysis 103L'!S172)))","v":""},{"$f":"IF(ISNUMBER('Analysis 103L'!AT172),'Analysis 103L'!AT172,\"\")","v":""},{"$f":"IF('Analysis 103L'!D172=\"\",\"\",'Analysis 103L'!AA172)","v":""},{"$f":"IF(E146=\"\",\"\",'Analysis 103L'!BE172)","v":""},{"$f":"IFERROR('Analysis 103L'!CD172*B146,\"\")","v":""},{"$f":"IF('Analysis 103L'!C172=\"\",\"\",'Analysis 103L'!C172)","v":""},{"$f":"IF('Analysis 103L'!E172=\"\",\"\",IF(AND(C146=0,D146=0),\"\",'Analysis 103L'!E172))","v":""}]
[{"$f":"IF('Analysis 103L'!J173=\"\",\"\",IF(AND(C147=0,D147=0),\"\",IF(RIGHT('Analysis 103L'!I173,4)=\"Case\", IF(LEFT('Analysis 103L'!J173,6)=\"Motion\", \"\", 'Analysis 103L'!CL173),'Analysis 103L'!J173)))","v":""},{"$f":"IF('Analysis 103L'!P173=\"\",\"\",IF(A147=\"\", \"\", 'Analysis 103L'!P173))","v":""},{"$f":"IF('Analysis 103L'!S173=\"\",\"\", IF(LEFT('Analysis 103L'!J173,6)=\"Motion\", \"\", IF(RIGHT('Analysis 103L'!I173,4)=\"Case\",'Analysis 103L'!R173, 'Analysis 103L'!S173)))","v":""},{"$f":"IF(ISNUMBER('Analysis 103L'!AT173),'Analysis 103L'!AT173,\"\")","v":""},{"$f":"IF('Analysis 103L'!D173=\"\",\"\",'Analysis 103L'!AA173)","v":""},{"$f":"IF(E147=\"\",\"\",'Analysis 103L'!BE173)","v":""},{"$f":"IFERROR('Analysis 103L'!CD173*B147,\"\")","v":""},{"$f":"IF('Analysis 103L'!C173=\"\",\"\",'Analysis 103L'!C173)","v":""},{"$f":"IF('Analysis 103L'!E173=\"\",\"\",IF(AND(C147=0,D147=0),\"\",'Analysis 103L'!E173))","v":""}]
[{"$f":"IF('Analysis 103L'!J174=\"\",\"\",IF(AND(C148=0,D148=0),\"\",IF(RIGHT('Analysis 103L'!I174,4)=\"Case\", IF(LEFT('Analysis 103L'!J174,6)=\"Motion\", \"\", 'Analysis 103L'!CL174),'Analysis 103L'!J174)))","v":""},{"$f":"IF('Analysis 103L'!P174=\"\",\"\",IF(A148=\"\", \"\", 'Analysis 103L'!P174))","v":""},{"$f":"IF('Analysis 103L'!S174=\"\",\"\", IF(LEFT('Analysis 103L'!J174,6)=\"Motion\", \"\", IF(RIGHT('Analysis 103L'!I174,4)=\"Case\",'Analysis 103L'!R174, 'Analysis 103L'!S174)))","v":""},{"$f":"IF(ISNUMBER('Analysis 103L'!AT174),'Analysis 103L'!AT174,\"\")","v":""},{"$f":"IF('Analysis 103L'!D174=\"\",\"\",'Analysis 103L'!AA174)","v":""},{"$f":"IF(E148=\"\",\"\",'Analysis 103L'!BE174)","v":""},{"$f":"IFERROR('Analysis 103L'!CD174*B148,\"\")","v":""},{"$f":"IF('Analysis 103L'!C174=\"\",\"\",'Analysis 103L'!C174)","v":""},{"$f":"IF('Analysis 103L'!E174=\"\",\"\",IF(AND(C148=0,D148=0),\"\",'Analysis 103L'!E174))","v":""}]
[{"$f":"IF('Analysis 103L'!J175=\"\",\"\",IF(AND(C149=0,D149=0),\"\",IF(RIGHT('Analysis 103L'!I175,4)=\"Case\", IF(LEFT('Analysis 103L'!J175,6)=\"Motion\", \"\", 'Analysis 103L'!CL175),'Analysis 103L'!J175)))","v":""},{"$f":"IF('Analysis 103L'!P175=\"\",\"\",IF(A149=\"\", \"\", 'Analysis 103L'!P175))","v":""},{"$f":"IF('Analysis 103L'!S175=\"\",\"\", IF(LEFT('Analysis 103L'!J175,6)=\"Motion\", \"\", IF(RIGHT('Analysis 103L'!I175,4)=\"Case\",'Analysis 103L'!R175, 'Analysis 103L'!S175)))","v":""},{"$f":"IF(ISNUMBER('Analysis 103L'!AT175),'Analysis 103L'!AT175,\"\")","v":""},{"$f":"IF('Analysis 103L'!D175=\"\",\"\",'Analysis 103L'!AA175)","v":""},{"$f":"IF(E149=\"\",\"\",'Analysis 103L'!BE175)","v":""},{"$f":"IFERROR('Analysis 103L'!CD175*B149,\"\")","v":""},{"$f":"IF('Analysis 103L'!C175=\"\",\"\",'Analysis 103L'!C175)","v":""},{"$f":"IF('Analysis 103L'!E175=\"\",\"\",IF(AND(C149=0,D149=0),\"\",'Analysis 103L'!E175))","v":""}]
[{"$f":"IF('Analysis 103L'!J176=\"\",\"\",IF(AND(C150=0,D150=0),\"\",IF(RIGHT('Analysis 103L'!I176,4)=\"Case\", IF(LEFT('Analysis 103L'!J176,6)=\"Motion\", \"\", 'Analysis 103L'!CL176),'Analysis 103L'!J176)))","v":""},{"$f":"IF('Analysis 103L'!P176=\"\",\"\",IF(A150=\"\", \"\", 'Analysis 103L'!P176))","v":""},{"$f":"IF('Analysis 103L'!S176=\"\",\"\", IF(LEFT('Analysis 103L'!J176,6)=\"Motion\", \"\", IF(RIGHT('Analysis 103L'!I176,4)=\"Case\",'Analysis 103L'!R176, 'Analysis 103L'!S176)))","v":""},{"$f":"IF(ISNUMBER('Analysis 103L'!AT176),'Analysis 103L'!AT176,\"\")","v":""},{"$f":"IF('Analysis 103L'!D176=\"\",\"\",'Analysis 103L'!AA176)","v":""},{"$f":"IF(E150=\"\",\"\",'Analysis 103L'!BE176)","v":""},{"$f":"IFERROR('Analysis 103L'!CD176*B150,\"\")","v":""},{"$f":"IF('Analysis 103L'!C176=\"\",\"\",'Analysis 103L'!C176)","v":""},{"$f":"IF('Analysis 103L'!E176=\"\",\"\",IF(AND(C150=0,D150=0),\"\",'Analysis 103L'!E176))","v":""}]
[{"$f":"IF('Analysis 103L'!J177=\"\",\"\",IF(AND(C151=0,D151=0),\"\",IF(RIGHT('Analysis 103L'!I177,4)=\"Case\", IF(LEFT('Analysis 103L'!J177,6)=\"Motion\", \"\", 'Analysis 103L'!CL177),'Analysis 103L'!J177)))","v":""},{"$f":"IF('Analysis 103L'!P177=\"\",\"\",IF(A151=\"\", \"\", 'Analysis 103L'!P177))","v":""},{"$f":"IF('Analysis 103L'!S177=\"\",\"\", IF(LEFT('Analysis 103L'!J177,6)=\"Motion\", \"\", IF(RIGHT('Analysis 103L'!I177,4)=\"Case\",'Analysis 103L'!R177, 'Analysis 103L'!S177)))","v":""},{"$f":"IF(ISNUMBER('Analysis 103L'!AT177),'Analysis 103L'!AT177,\"\")","v":""},{"$f":"IF('Analysis 103L'!D177=\"\",\"\",'Analysis 103L'!AA177)","v":""},{"$f":"IF(E151=\"\",\"\",'Analysis 103L'!BE177)","v":""},{"$f":"IFERROR('Analysis 103L'!CD177*B151,\"\")","v":""},{"$f":"IF('Analysis 103L'!C177=\"\",\"\",'Analysis 103L'!C177)","v":""},{"$f":"IF('Analysis 103L'!E177=\"\",\"\",IF(AND(C151=0,D151=0),\"\",'Analysis 103L'!E177))","v":""}]
[{"$f":"IF('Analysis 103L'!J178=\"\",\"\",IF(AND(C152=0,D152=0),\"\",IF(RIGHT('Analysis 103L'!I178,4)=\"Case\", IF(LEFT('Analysis 103L'!J178,6)=\"Motion\", \"\", 'Analysis 103L'!CL178),'Analysis 103L'!J178)))","v":""},{"$f":"IF('Analysis 103L'!P178=\"\",\"\",IF(A152=\"\", \"\", 'Analysis 103L'!P178))","v":""},{"$f":"IF('Analysis 103L'!S178=\"\",\"\", IF(LEFT('Analysis 103L'!J178,6)=\"Motion\", \"\", IF(RIGHT('Analysis 103L'!I178,4)=\"Case\",'Analysis 103L'!R178, 'Analysis 103L'!S178)))","v":""},{"$f":"IF(ISNUMBER('Analysis 103L'!AT178),'Analysis 103L'!AT178,\"\")","v":""},{"$f":"IF('Analysis 103L'!D178=\"\",\"\",'Analysis 103L'!AA178)","v":""},{"$f":"IF(E152=\"\",\"\",'Analysis 103L'!BE178)","v":""},{"$f":"IFERROR('Analysis 103L'!CD178*B152,\"\")","v":""},{"$f":"IF('Analysis 103L'!C178=\"\",\"\",'Analysis 103L'!C178)","v":""},{"$f":"IF('Analysis 103L'!E178=\"\",\"\",IF(AND(C152=0,D152=0),\"\",'Analysis 103L'!E178))","v":""}]
[{"$f":"IF('Analysis 103L'!J179=\"\",\"\",IF(AND(C153=0,D153=0),\"\",IF(RIGHT('Analysis 103L'!I179,4)=\"Case\", IF(LEFT('Analysis 103L'!J179,6)=\"Motion\", \"\", 'Analysis 103L'!CL179),'Analysis 103L'!J179)))","v":""},{"$f":"IF('Analysis 103L'!P179=\"\",\"\",IF(A153=\"\", \"\", 'Analysis 103L'!P179))","v":""},{"$f":"IF('Analysis 103L'!S179=\"\",\"\", IF(LEFT('Analysis 103L'!J179,6)=\"Motion\", \"\", IF(RIGHT('Analysis 103L'!I179,4)=\"Case\",'Analysis 103L'!R179, 'Analysis 103L'!S179)))","v":""},{"$f":"IF(ISNUMBER('Analysis 103L'!AT179),'Analysis 103L'!AT179,\"\")","v":""},{"$f":"IF('Analysis 103L'!D179=\"\",\"\",'Analysis 103L'!AA179)","v":""},{"$f":"IF(E153=\"\",\"\",'Analysis 103L'!BE179)","v":""},{"$f":"IFERROR('Analysis 103L'!CD179*B153,\"\")","v":""},{"$f":"IF('Analysis 103L'!C179=\"\",\"\",'Analysis 103L'!C179)","v":""},{"$f":"IF('Analysis 103L'!E179=\"\",\"\",IF(AND(C153=0,D153=0),\"\",'Analysis 103L'!E179))","v":""}]
[{"$f":"IF('Analysis 103L'!J180=\"\",\"\",IF(AND(C154=0,D154=0),\"\",IF(RIGHT('Analysis 103L'!I180,4)=\"Case\", IF(LEFT('Analysis 103L'!J180,6)=\"Motion\", \"\", 'Analysis 103L'!CL180),'Analysis 103L'!J180)))","v":""},{"$f":"IF('Analysis 103L'!P180=\"\",\"\",IF(A154=\"\", \"\", 'Analysis 103L'!P180))","v":""},{"$f":"IF('Analysis 103L'!S180=\"\",\"\", IF(LEFT('Analysis 103L'!J180,6)=\"Motion\", \"\", IF(RIGHT('Analysis 103L'!I180,4)=\"Case\",'Analysis 103L'!R180, 'Analysis 103L'!S180)))","v":""},{"$f":"IF(ISNUMBER('Analysis 103L'!AT180),'Analysis 103L'!AT180,\"\")","v":""},{"$f":"IF('Analysis 103L'!D180=\"\",\"\",'Analysis 103L'!AA180)","v":""},{"$f":"IF(E154=\"\",\"\",'Analysis 103L'!BE180)","v":""},{"$f":"IFERROR('Analysis 103L'!CD180*B154,\"\")","v":""},{"$f":"IF('Analysis 103L'!C180=\"\",\"\",'Analysis 103L'!C180)","v":""},{"$f":"IF('Analysis 103L'!E180=\"\",\"\",IF(AND(C154=0,D154=0),\"\",'Analysis 103L'!E180))","v":""}]
[{"$f":"IF('Analysis 103L'!J181=\"\",\"\",IF(AND(C155=0,D155=0),\"\",IF(RIGHT('Analysis 103L'!I181,4)=\"Case\", IF(LEFT('Analysis 103L'!J181,6)=\"Motion\", \"\", 'Analysis 103L'!CL181),'Analysis 103L'!J181)))","v":""},{"$f":"IF('Analysis 103L'!P181=\"\",\"\",IF(A155=\"\", \"\", 'Analysis 103L'!P181))","v":""},{"$f":"IF('Analysis 103L'!S181=\"\",\"\", IF(LEFT('Analysis 103L'!J181,6)=\"Motion\", \"\", IF(RIGHT('Analysis 103L'!I181,4)=\"Case\",'Analysis 103L'!R181, 'Analysis 103L'!S181)))","v":""},{"$f":"IF(ISNUMBER('Analysis 103L'!AT181),'Analysis 103L'!AT181,\"\")","v":""},{"$f":"IF('Analysis 103L'!D181=\"\",\"\",'Analysis 103L'!AA181)","v":""},{"$f":"IF(E155=\"\",\"\",'Analysis 103L'!BE181)","v":""},{"$f":"IFERROR('Analysis 103L'!CD181*B155,\"\")","v":""},{"$f":"IF('Analysis 103L'!C181=\"\",\"\",'Analysis 103L'!C181)","v":""},{"$f":"IF('Analysis 103L'!E181=\"\",\"\",IF(AND(C155=0,D155=0),\"\",'Analysis 103L'!E181))","v":""}]
[{"$f":"IF('Analysis 103L'!J182=\"\",\"\",IF(AND(C156=0,D156=0),\"\",IF(RIGHT('Analysis 103L'!I182,4)=\"Case\", IF(LEFT('Analysis 103L'!J182,6)=\"Motion\", \"\", 'Analysis 103L'!CL182),'Analysis 103L'!J182)))","v":""},{"$f":"IF('Analysis 103L'!P182=\"\",\"\",IF(A156=\"\", \"\", 'Analysis 103L'!P182))","v":""},{"$f":"IF('Analysis 103L'!S182=\"\",\"\", IF(LEFT('Analysis 103L'!J182,6)=\"Motion\", \"\", IF(RIGHT('Analysis 103L'!I182,4)=\"Case\",'Analysis 103L'!R182, 'Analysis 103L'!S182)))","v":""},{"$f":"IF(ISNUMBER('Analysis 103L'!AT182),'Analysis 103L'!AT182,\"\")","v":""},{"$f":"IF('Analysis 103L'!D182=\"\",\"\",'Analysis 103L'!AA182)","v":""},{"$f":"IF(E156=\"\",\"\",'Analysis 103L'!BE182)","v":""},{"$f":"IFERROR('Analysis 103L'!CD182*B156,\"\")","v":""},{"$f":"IF('Analysis 103L'!C182=\"\",\"\",'Analysis 103L'!C182)","v":""},{"$f":"IF('Analysis 103L'!E182=\"\",\"\",IF(AND(C156=0,D156=0),\"\",'Analysis 103L'!E182))","v":""}]
[{"$f":"IF('Analysis 103L'!J183=\"\",\"\",IF(AND(C157=0,D157=0),\"\",IF(RIGHT('Analysis 103L'!I183,4)=\"Case\", IF(LEFT('Analysis 103L'!J183,6)=\"Motion\", \"\", 'Analysis 103L'!CL183),'Analysis 103L'!J183)))","v":""},{"$f":"IF('Analysis 103L'!P183=\"\",\"\",IF(A157=\"\", \"\", 'Analysis 103L'!P183))","v":""},{"$f":"IF('Analysis 103L'!S183=\"\",\"\", IF(LEFT('Analysis 103L'!J183,6)=\"Motion\", \"\", IF(RIGHT('Analysis 103L'!I183,4)=\"Case\",'Analysis 103L'!R183, 'Analysis 103L'!S183)))","v":""},{"$f":"IF(ISNUMBER('Analysis 103L'!AT183),'Analysis 103L'!AT183,\"\")","v":""},{"$f":"IF('Analysis 103L'!D183=\"\",\"\",'Analysis 103L'!AA183)","v":""},{"$f":"IF(E157=\"\",\"\",'Analysis 103L'!BE183)","v":""},{"$f":"IFERROR('Analysis 103L'!CD183*B157,\"\")","v":""},{"$f":"IF('Analysis 103L'!C183=\"\",\"\",'Analysis 103L'!C183)","v":""},{"$f":"IF('Analysis 103L'!E183=\"\",\"\",IF(AND(C157=0,D157=0),\"\",'Analysis 103L'!E183))","v":""}]
[{"$f":"IF('Analysis 103L'!J184=\"\",\"\",IF(AND(C158=0,D158=0),\"\",IF(RIGHT('Analysis 103L'!I184,4)=\"Case\", IF(LEFT('Analysis 103L'!J184,6)=\"Motion\", \"\", 'Analysis 103L'!CL184),'Analysis 103L'!J184)))","v":""},{"$f":"IF('Analysis 103L'!P184=\"\",\"\",IF(A158=\"\", \"\", 'Analysis 103L'!P184))","v":""},{"$f":"IF('Analysis 103L'!S184=\"\",\"\", IF(LEFT('Analysis 103L'!J184,6)=\"Motion\", \"\", IF(RIGHT('Analysis 103L'!I184,4)=\"Case\",'Analysis 103L'!R184, 'Analysis 103L'!S184)))","v":""},{"$f":"IF(ISNUMBER('Analysis 103L'!AT184),'Analysis 103L'!AT184,\"\")","v":""},{"$f":"IF('Analysis 103L'!D184=\"\",\"\",'Analysis 103L'!AA184)","v":""},{"$f":"IF(E158=\"\",\"\",'Analysis 103L'!BE184)","v":""},{"$f":"IFERROR('Analysis 103L'!CD184*B158,\"\")","v":""},{"$f":"IF('Analysis 103L'!C184=\"\",\"\",'Analysis 103L'!C184)","v":""},{"$f":"IF('Analysis 103L'!E184=\"\",\"\",IF(AND(C158=0,D158=0),\"\",'Analysis 103L'!E184))","v":""}]
[{"$f":"IF('Analysis 103L'!J185=\"\",\"\",IF(AND(C159=0,D159=0),\"\",IF(RIGHT('Analysis 103L'!I185,4)=\"Case\", IF(LEFT('Analysis 103L'!J185,6)=\"Motion\", \"\", 'Analysis 103L'!CL185),'Analysis 103L'!J185)))","v":""},{"$f":"IF('Analysis 103L'!P185=\"\",\"\",IF(A159=\"\", \"\", 'Analysis 103L'!P185))","v":""},{"$f":"IF('Analysis 103L'!S185=\"\",\"\", IF(LEFT('Analysis 103L'!J185,6)=\"Motion\", \"\", IF(RIGHT('Analysis 103L'!I185,4)=\"Case\",'Analysis 103L'!R185, 'Analysis 103L'!S185)))","v":""},{"$f":"IF(ISNUMBER('Analysis 103L'!AT185),'Analysis 103L'!AT185,\"\")","v":""},{"$f":"IF('Analysis 103L'!D185=\"\",\"\",'Analysis 103L'!AA185)","v":""},{"$f":"IF(E159=\"\",\"\",'Analysis 103L'!BE185)","v":""},{"$f":"IFERROR('Analysis 103L'!CD185*B159,\"\")","v":""},{"$f":"IF('Analysis 103L'!C185=\"\",\"\",'Analysis 103L'!C185)","v":""},{"$f":"IF('Analysis 103L'!E185=\"\",\"\",IF(AND(C159=0,D159=0),\"\",'Analysis 103L'!E185))","v":""}]
[{"$f":"IF('Analysis 103L'!J186=\"\",\"\",IF(AND(C160=0,D160=0),\"\",IF(RIGHT('Analysis 103L'!I186,4)=\"Case\", IF(LEFT('Analysis 103L'!J186,6)=\"Motion\", \"\", 'Analysis 103L'!CL186),'Analysis 103L'!J186)))","v":""},{"$f":"IF('Analysis 103L'!P186=\"\",\"\",IF(A160=\"\", \"\", 'Analysis 103L'!P186))","v":""},{"$f":"IF('Analysis 103L'!S186=\"\",\"\", IF(LEFT('Analysis 103L'!J186,6)=\"Motion\", \"\", IF(RIGHT('Analysis 103L'!I186,4)=\"Case\",'Analysis 103L'!R186, 'Analysis 103L'!S186)))","v":""},{"$f":"IF(ISNUMBER('Analysis 103L'!AT186),'Analysis 103L'!AT186,\"\")","v":""},{"$f":"IF('Analysis 103L'!D186=\"\",\"\",'Analysis 103L'!AA186)","v":""},{"$f":"IF(E160=\"\",\"\",'Analysis 103L'!BE186)","v":""},{"$f":"IFERROR('Analysis 103L'!CD186*B160,\"\")","v":""},{"$f":"IF('Analysis 103L'!C186=\"\",\"\",'Analysis 103L'!C186)","v":""},{"$f":"IF('Analysis 103L'!E186=\"\",\"\",IF(AND(C160=0,D160=0),\"\",'Analysis 103L'!E186))","v":""}]
[{"$f":"IF('Analysis 103L'!J187=\"\",\"\",IF(AND(C161=0,D161=0),\"\",IF(RIGHT('Analysis 103L'!I187,4)=\"Case\", IF(LEFT('Analysis 103L'!J187,6)=\"Motion\", \"\", 'Analysis 103L'!CL187),'Analysis 103L'!J187)))","v":""},{"$f":"IF('Analysis 103L'!P187=\"\",\"\",IF(A161=\"\", \"\", 'Analysis 103L'!P187))","v":""},{"$f":"IF('Analysis 103L'!S187=\"\",\"\", IF(LEFT('Analysis 103L'!J187,6)=\"Motion\", \"\", IF(RIGHT('Analysis 103L'!I187,4)=\"Case\",'Analysis 103L'!R187, 'Analysis 103L'!S187)))","v":""},{"$f":"IF(ISNUMBER('Analysis 103L'!AT187),'Analysis 103L'!AT187,\"\")","v":""},{"$f":"IF('Analysis 103L'!D187=\"\",\"\",'Analysis 103L'!AA187)","v":""},{"$f":"IF(E161=\"\",\"\",'Analysis 103L'!BE187)","v":""},{"$f":"IFERROR('Analysis 103L'!CD187*B161,\"\")","v":""},{"$f":"IF('Analysis 103L'!C187=\"\",\"\",'Analysis 103L'!C187)","v":""},{"$f":"IF('Analysis 103L'!E187=\"\",\"\",IF(AND(C161=0,D161=0),\"\",'Analysis 103L'!E187))","v":""}]
[{"$f":"IF('Analysis 103L'!J188=\"\",\"\",IF(AND(C162=0,D162=0),\"\",IF(RIGHT('Analysis 103L'!I188,4)=\"Case\", IF(LEFT('Analysis 103L'!J188,6)=\"Motion\", \"\", 'Analysis 103L'!CL188),'Analysis 103L'!J188)))","v":""},{"$f":"IF('Analysis 103L'!P188=\"\",\"\",IF(A162=\"\", \"\", 'Analysis 103L'!P188))","v":""},{"$f":"IF('Analysis 103L'!S188=\"\",\"\", IF(LEFT('Analysis 103L'!J188,6)=\"Motion\", \"\", IF(RIGHT('Analysis 103L'!I188,4)=\"Case\",'Analysis 103L'!R188, 'Analysis 103L'!S188)))","v":""},{"$f":"IF(ISNUMBER('Analysis 103L'!AT188),'Analysis 103L'!AT188,\"\")","v":""},{"$f":"IF('Analysis 103L'!D188=\"\",\"\",'Analysis 103L'!AA188)","v":""},{"$f":"IF(E162=\"\",\"\",'Analysis 103L'!BE188)","v":""},{"$f":"IFERROR('Analysis 103L'!CD188*B162,\"\")","v":""},{"$f":"IF('Analysis 103L'!C188=\"\",\"\",'Analysis 103L'!C188)","v":""},{"$f":"IF('Analysis 103L'!E188=\"\",\"\",IF(AND(C162=0,D162=0),\"\",'Analysis 103L'!E188))","v":""}]
[{"$f":"IF('Analysis 103L'!J189=\"\",\"\",IF(AND(C163=0,D163=0),\"\",IF(RIGHT('Analysis 103L'!I189,4)=\"Case\", IF(LEFT('Analysis 103L'!J189,6)=\"Motion\", \"\", 'Analysis 103L'!CL189),'Analysis 103L'!J189)))","v":""},{"$f":"IF('Analysis 103L'!P189=\"\",\"\",IF(A163=\"\", \"\", 'Analysis 103L'!P189))","v":""},{"$f":"IF('Analysis 103L'!S189=\"\",\"\", IF(LEFT('Analysis 103L'!J189,6)=\"Motion\", \"\", IF(RIGHT('Analysis 103L'!I189,4)=\"Case\",'Analysis 103L'!R189, 'Analysis 103L'!S189)))","v":""},{"$f":"IF(ISNUMBER('Analysis 103L'!AT189),'Analysis 103L'!AT189,\"\")","v":""},{"$f":"IF('Analysis 103L'!D189=\"\",\"\",'Analysis 103L'!AA189)","v":""},{"$f":"IF(E163=\"\",\"\",'Analysis 103L'!BE189)","v":""},{"$f":"IFERROR('Analysis 103L'!CD189*B163,\"\")","v":""},{"$f":"IF('Analysis 103L'!C189=\"\",\"\",'Analysis 103L'!C189)","v":""},{"$f":"IF('Analysis 103L'!E189=\"\",\"\",IF(AND(C163=0,D163=0),\"\",'Analysis 103L'!E189))","v":""}]
[{"$f":"IF('Analysis 103L'!J190=\"\",\"\",IF(AND(C164=0,D164=0),\"\",IF(RIGHT('Analysis 103L'!I190,4)=\"Case\", IF(LEFT('Analysis 103L'!J190,6)=\"Motion\", \"\", 'Analysis 103L'!CL190),'Analysis 103L'!J190)))","v":""},{"$f":"IF('Analysis 103L'!P190=\"\",\"\",IF(A164=\"\", \"\", 'Analysis 103L'!P190))","v":""},{"$f":"IF('Analysis 103L'!S190=\"\",\"\", IF(LEFT('Analysis 103L'!J190,6)=\"Motion\", \"\", IF(RIGHT('Analysis 103L'!I190,4)=\"Case\",'Analysis 103L'!R190, 'Analysis 103L'!S190)))","v":""},{"$f":"IF(ISNUMBER('Analysis 103L'!AT190),'Analysis 103L'!AT190,\"\")","v":""},{"$f":"IF('Analysis 103L'!D190=\"\",\"\",'Analysis 103L'!AA190)","v":""},{"$f":"IF(E164=\"\",\"\",'Analysis 103L'!BE190)","v":""},{"$f":"IFERROR('Analysis 103L'!CD190*B164,\"\")","v":""},{"$f":"IF('Analysis 103L'!C190=\"\",\"\",'Analysis 103L'!C190)","v":""},{"$f":"IF('Analysis 103L'!E190=\"\",\"\",IF(AND(C164=0,D164=0),\"\",'Analysis 103L'!E190))","v":""}]
[{"$f":"IF('Analysis 103L'!J191=\"\",\"\",IF(AND(C165=0,D165=0),\"\",IF(RIGHT('Analysis 103L'!I191,4)=\"Case\", IF(LEFT('Analysis 103L'!J191,6)=\"Motion\", \"\", 'Analysis 103L'!CL191),'Analysis 103L'!J191)))","v":""},{"$f":"IF('Analysis 103L'!P191=\"\",\"\",IF(A165=\"\", \"\", 'Analysis 103L'!P191))","v":""},{"$f":"IF('Analysis 103L'!S191=\"\",\"\", IF(LEFT('Analysis 103L'!J191,6)=\"Motion\", \"\", IF(RIGHT('Analysis 103L'!I191,4)=\"Case\",'Analysis 103L'!R191, 'Analysis 103L'!S191)))","v":""},{"$f":"IF(ISNUMBER('Analysis 103L'!AT191),'Analysis 103L'!AT191,\"\")","v":""},{"$f":"IF('Analysis 103L'!D191=\"\",\"\",'Analysis 103L'!AA191)","v":""},{"$f":"IF(E165=\"\",\"\",'Analysis 103L'!BE191)","v":""},{"$f":"IFERROR('Analysis 103L'!CD191*B165,\"\")","v":""},{"$f":"IF('Analysis 103L'!C191=\"\",\"\",'Analysis 103L'!C191)","v":""},{"$f":"IF('Analysis 103L'!E191=\"\",\"\",IF(AND(C165=0,D165=0),\"\",'Analysis 103L'!E191))","v":""}]
[{"$f":"IF('Analysis 103L'!J192=\"\",\"\",IF(AND(C166=0,D166=0),\"\",IF(RIGHT('Analysis 103L'!I192,4)=\"Case\", IF(LEFT('Analysis 103L'!J192,6)=\"Motion\", \"\", 'Analysis 103L'!CL192),'Analysis 103L'!J192)))","v":""},{"$f":"IF('Analysis 103L'!P192=\"\",\"\",IF(A166=\"\", \"\", 'Analysis 103L'!P192))","v":""},{"$f":"IF('Analysis 103L'!S192=\"\",\"\", IF(LEFT('Analysis 103L'!J192,6)=\"Motion\", \"\", IF(RIGHT('Analysis 103L'!I192,4)=\"Case\",'Analysis 103L'!R192, 'Analysis 103L'!S192)))","v":""},{"$f":"IF(ISNUMBER('Analysis 103L'!AT192),'Analysis 103L'!AT192,\"\")","v":""},{"$f":"IF('Analysis 103L'!D192=\"\",\"\",'Analysis 103L'!AA192)","v":""},{"$f":"IF(E166=\"\",\"\",'Analysis 103L'!BE192)","v":""},{"$f":"IFERROR('Analysis 103L'!CD192*B166,\"\")","v":""},{"$f":"IF('Analysis 103L'!C192=\"\",\"\",'Analysis 103L'!C192)","v":""},{"$f":"IF('Analysis 103L'!E192=\"\",\"\",IF(AND(C166=0,D166=0),\"\",'Analysis 103L'!E192))","v":""}]
[{"$f":"IF('Analysis 103L'!J193=\"\",\"\",IF(AND(C167=0,D167=0),\"\",IF(RIGHT('Analysis 103L'!I193,4)=\"Case\", IF(LEFT('Analysis 103L'!J193,6)=\"Motion\", \"\", 'Analysis 103L'!CL193),'Analysis 103L'!J193)))","v":""},{"$f":"IF('Analysis 103L'!P193=\"\",\"\",IF(A167=\"\", \"\", 'Analysis 103L'!P193))","v":""},{"$f":"IF('Analysis 103L'!S193=\"\",\"\", IF(LEFT('Analysis 103L'!J193,6)=\"Motion\", \"\", IF(RIGHT('Analysis 103L'!I193,4)=\"Case\",'Analysis 103L'!R193, 'Analysis 103L'!S193)))","v":""},{"$f":"IF(ISNUMBER('Analysis 103L'!AT193),'Analysis 103L'!AT193,\"\")","v":""},{"$f":"IF('Analysis 103L'!D193=\"\",\"\",'Analysis 103L'!AA193)","v":""},{"$f":"IF(E167=\"\",\"\",'Analysis 103L'!BE193)","v":""},{"$f":"IFERROR('Analysis 103L'!CD193*B167,\"\")","v":""},{"$f":"IF('Analysis 103L'!C193=\"\",\"\",'Analysis 103L'!C193)","v":""},{"$f":"IF('Analysis 103L'!E193=\"\",\"\",IF(AND(C167=0,D167=0),\"\",'Analysis 103L'!E193))","v":""}]
[{"$f":"IF('Analysis 103L'!J194=\"\",\"\",IF(AND(C168=0,D168=0),\"\",IF(RIGHT('Analysis 103L'!I194,4)=\"Case\", IF(LEFT('Analysis 103L'!J194,6)=\"Motion\", \"\", 'Analysis 103L'!CL194),'Analysis 103L'!J194)))","v":""},{"$f":"IF('Analysis 103L'!P194=\"\",\"\",IF(A168=\"\", \"\", 'Analysis 103L'!P194))","v":""},{"$f":"IF('Analysis 103L'!S194=\"\",\"\", IF(LEFT('Analysis 103L'!J194,6)=\"Motion\", \"\", IF(RIGHT('Analysis 103L'!I194,4)=\"Case\",'Analysis 103L'!R194, 'Analysis 103L'!S194)))","v":""},{"$f":"IF(ISNUMBER('Analysis 103L'!AT194),'Analysis 103L'!AT194,\"\")","v":""},{"$f":"IF('Analysis 103L'!D194=\"\",\"\",'Analysis 103L'!AA194)","v":""},{"$f":"IF(E168=\"\",\"\",'Analysis 103L'!BE194)","v":""},{"$f":"IFERROR('Analysis 103L'!CD194*B168,\"\")","v":""},{"$f":"IF('Analysis 103L'!C194=\"\",\"\",'Analysis 103L'!C194)","v":""},{"$f":"IF('Analysis 103L'!E194=\"\",\"\",IF(AND(C168=0,D168=0),\"\",'Analysis 103L'!E194))","v":""}]
[{"$f":"IF('Analysis 103L'!J195=\"\",\"\",IF(AND(C169=0,D169=0),\"\",IF(RIGHT('Analysis 103L'!I195,4)=\"Case\", IF(LEFT('Analysis 103L'!J195,6)=\"Motion\", \"\", 'Analysis 103L'!CL195),'Analysis 103L'!J195)))","v":""},{"$f":"IF('Analysis 103L'!P195=\"\",\"\",IF(A169=\"\", \"\", 'Analysis 103L'!P195))","v":""},{"$f":"IF('Analysis 103L'!S195=\"\",\"\", IF(LEFT('Analysis 103L'!J195,6)=\"Motion\", \"\", IF(RIGHT('Analysis 103L'!I195,4)=\"Case\",'Analysis 103L'!R195, 'Analysis 103L'!S195)))","v":""},{"$f":"IF(ISNUMBER('Analysis 103L'!AT195),'Analysis 103L'!AT195,\"\")","v":""},{"$f":"IF('Analysis 103L'!D195=\"\",\"\",'Analysis 103L'!AA195)","v":""},{"$f":"IF(E169=\"\",\"\",'Analysis 103L'!BE195)","v":""},{"$f":"IFERROR('Analysis 103L'!CD195*B169,\"\")","v":""},{"$f":"IF('Analysis 103L'!C195=\"\",\"\",'Analysis 103L'!C195)","v":""},{"$f":"IF('Analysis 103L'!E195=\"\",\"\",IF(AND(C169=0,D169=0),\"\",'Analysis 103L'!E195))","v":""}]
[{"$f":"IF('Analysis 103L'!J196=\"\",\"\",IF(AND(C170=0,D170=0),\"\",IF(RIGHT('Analysis 103L'!I196,4)=\"Case\", IF(LEFT('Analysis 103L'!J196,6)=\"Motion\", \"\", 'Analysis 103L'!CL196),'Analysis 103L'!J196)))","v":""},{"$f":"IF('Analysis 103L'!P196=\"\",\"\",IF(A170=\"\", \"\", 'Analysis 103L'!P196))","v":""},{"$f":"IF('Analysis 103L'!S196=\"\",\"\", IF(LEFT('Analysis 103L'!J196,6)=\"Motion\", \"\", IF(RIGHT('Analysis 103L'!I196,4)=\"Case\",'Analysis 103L'!R196, 'Analysis 103L'!S196)))","v":""},{"$f":"IF(ISNUMBER('Analysis 103L'!AT196),'Analysis 103L'!AT196,\"\")","v":""},{"$f":"IF('Analysis 103L'!D196=\"\",\"\",'Analysis 103L'!AA196)","v":""},{"$f":"IF(E170=\"\",\"\",'Analysis 103L'!BE196)","v":""},{"$f":"IFERROR('Analysis 103L'!CD196*B170,\"\")","v":""},{"$f":"IF('Analysis 103L'!C196=\"\",\"\",'Analysis 103L'!C196)","v":""},{"$f":"IF('Analysis 103L'!E196=\"\",\"\",IF(AND(C170=0,D170=0),\"\",'Analysis 103L'!E196))","v":""}]
[{"$f":"IF('Analysis 103L'!J197=\"\",\"\",IF(AND(C171=0,D171=0),\"\",IF(RIGHT('Analysis 103L'!I197,4)=\"Case\", IF(LEFT('Analysis 103L'!J197,6)=\"Motion\", \"\", 'Analysis 103L'!CL197),'Analysis 103L'!J197)))","v":""},{"$f":"IF('Analysis 103L'!P197=\"\",\"\",IF(A171=\"\", \"\", 'Analysis 103L'!P197))","v":""},{"$f":"IF('Analysis 103L'!S197=\"\",\"\", IF(LEFT('Analysis 103L'!J197,6)=\"Motion\", \"\", IF(RIGHT('Analysis 103L'!I197,4)=\"Case\",'Analysis 103L'!R197, 'Analysis 103L'!S197)))","v":""},{"$f":"IF(ISNUMBER('Analysis 103L'!AT197),'Analysis 103L'!AT197,\"\")","v":""},{"$f":"IF('Analysis 103L'!D197=\"\",\"\",'Analysis 103L'!AA197)","v":""},{"$f":"IF(E171=\"\",\"\",'Analysis 103L'!BE197)","v":""},{"$f":"IFERROR('Analysis 103L'!CD197*B171,\"\")","v":""},{"$f":"IF('Analysis 103L'!C197=\"\",\"\",'Analysis 103L'!C197)","v":""},{"$f":"IF('Analysis 103L'!E197=\"\",\"\",IF(AND(C171=0,D171=0),\"\",'Analysis 103L'!E197))","v":""}]
[{"$f":"IF('Analysis 103L'!J198=\"\",\"\",IF(AND(C172=0,D172=0),\"\",IF(RIGHT('Analysis 103L'!I198,4)=\"Case\", IF(LEFT('Analysis 103L'!J198,6)=\"Motion\", \"\", 'Analysis 103L'!CL198),'Analysis 103L'!J198)))","v":""},{"$f":"IF('Analysis 103L'!P198=\"\",\"\",IF(A172=\"\", \"\", 'Analysis 103L'!P198))","v":""},{"$f":"IF('Analysis 103L'!S198=\"\",\"\", IF(LEFT('Analysis 103L'!J198,6)=\"Motion\", \"\", IF(RIGHT('Analysis 103L'!I198,4)=\"Case\",'Analysis 103L'!R198, 'Analysis 103L'!S198)))","v":""},{"$f":"IF(ISNUMBER('Analysis 103L'!AT198),'Analysis 103L'!AT198,\"\")","v":""},{"$f":"IF('Analysis 103L'!D198=\"\",\"\",'Analysis 103L'!AA198)","v":""},{"$f":"IF(E172=\"\",\"\",'Analysis 103L'!BE198)","v":""},{"$f":"IFERROR('Analysis 103L'!CD198*B172,\"\")","v":""},{"$f":"IF('Analysis 103L'!C198=\"\",\"\",'Analysis 103L'!C198)","v":""},{"$f":"IF('Analysis 103L'!E198=\"\",\"\",IF(AND(C172=0,D172=0),\"\",'Analysis 103L'!E198))","v":""}]
[{"$f":"IF('Analysis 103L'!J199=\"\",\"\",IF(AND(C173=0,D173=0),\"\",IF(RIGHT('Analysis 103L'!I199,4)=\"Case\", IF(LEFT('Analysis 103L'!J199,6)=\"Motion\", \"\", 'Analysis 103L'!CL199),'Analysis 103L'!J199)))","v":""},{"$f":"IF('Analysis 103L'!P199=\"\",\"\",IF(A173=\"\", \"\", 'Analysis 103L'!P199))","v":""},{"$f":"IF('Analysis 103L'!S199=\"\",\"\", IF(LEFT('Analysis 103L'!J199,6)=\"Motion\", \"\", IF(RIGHT('Analysis 103L'!I199,4)=\"Case\",'Analysis 103L'!R199, 'Analysis 103L'!S199)))","v":""},{"$f":"IF(ISNUMBER('Analysis 103L'!AT199),'Analysis 103L'!AT199,\"\")","v":""},{"$f":"IF('Analysis 103L'!D199=\"\",\"\",'Analysis 103L'!AA199)","v":""},{"$f":"IF(E173=\"\",\"\",'Analysis 103L'!BE199)","v":""},{"$f":"IFERROR('Analysis 103L'!CD199*B173,\"\")","v":""},{"$f":"IF('Analysis 103L'!C199=\"\",\"\",'Analysis 103L'!C199)","v":""},{"$f":"IF('Analysis 103L'!E199=\"\",\"\",IF(AND(C173=0,D173=0),\"\",'Analysis 103L'!E199))","v":""}]
[{"$f":"IF('Analysis 103L'!J200=\"\",\"\",IF(AND(C174=0,D174=0),\"\",IF(RIGHT('Analysis 103L'!I200,4)=\"Case\", IF(LEFT('Analysis 103L'!J200,6)=\"Motion\", \"\", 'Analysis 103L'!CL200),'Analysis 103L'!J200)))","v":""},{"$f":"IF('Analysis 103L'!P200=\"\",\"\",IF(A174=\"\", \"\", 'Analysis 103L'!P200))","v":""},{"$f":"IF('Analysis 103L'!S200=\"\",\"\", IF(LEFT('Analysis 103L'!J200,6)=\"Motion\", \"\", IF(RIGHT('Analysis 103L'!I200,4)=\"Case\",'Analysis 103L'!R200, 'Analysis 103L'!S200)))","v":""},{"$f":"IF(ISNUMBER('Analysis 103L'!AT200),'Analysis 103L'!AT200,\"\")","v":""},{"$f":"IF('Analysis 103L'!D200=\"\",\"\",'Analysis 103L'!AA200)","v":""},{"$f":"IF(E174=\"\",\"\",'Analysis 103L'!BE200)","v":""},{"$f":"IFERROR('Analysis 103L'!CD200*B174,\"\")","v":""},{"$f":"IF('Analysis 103L'!C200=\"\",\"\",'Analysis 103L'!C200)","v":""},{"$f":"IF('Analysis 103L'!E200=\"\",\"\",IF(AND(C174=0,D174=0),\"\",'Analysis 103L'!E200))","v":""}]
[{"$f":"IF('Analysis 103L'!J201=\"\",\"\",IF(AND(C175=0,D175=0),\"\",IF(RIGHT('Analysis 103L'!I201,4)=\"Case\", IF(LEFT('Analysis 103L'!J201,6)=\"Motion\", \"\", 'Analysis 103L'!CL201),'Analysis 103L'!J201)))","v":""},{"$f":"IF('Analysis 103L'!P201=\"\",\"\",IF(A175=\"\", \"\", 'Analysis 103L'!P201))","v":""},{"$f":"IF('Analysis 103L'!S201=\"\",\"\", IF(LEFT('Analysis 103L'!J201,6)=\"Motion\", \"\", IF(RIGHT('Analysis 103L'!I201,4)=\"Case\",'Analysis 103L'!R201, 'Analysis 103L'!S201)))","v":""},{"$f":"IF(ISNUMBER('Analysis 103L'!AT201),'Analysis 103L'!AT201,\"\")","v":""},{"$f":"IF('Analysis 103L'!D201=\"\",\"\",'Analysis 103L'!AA201)","v":""},{"$f":"IF(E175=\"\",\"\",'Analysis 103L'!BE201)","v":""},{"$f":"IFERROR('Analysis 103L'!CD201*B175,\"\")","v":""},{"$f":"IF('Analysis 103L'!C201=\"\",\"\",'Analysis 103L'!C201)","v":""},{"$f":"IF('Analysis 103L'!E201=\"\",\"\",IF(AND(C175=0,D175=0),\"\",'Analysis 103L'!E201))","v":""}]
[{"$f":"IF('Analysis 103L'!J202=\"\",\"\",IF(AND(C176=0,D176=0),\"\",IF(RIGHT('Analysis 103L'!I202,4)=\"Case\", IF(LEFT('Analysis 103L'!J202,6)=\"Motion\", \"\", 'Analysis 103L'!CL202),'Analysis 103L'!J202)))","v":""},{"$f":"IF('Analysis 103L'!P202=\"\",\"\",IF(A176=\"\", \"\", 'Analysis 103L'!P202))","v":""},{"$f":"IF('Analysis 103L'!S202=\"\",\"\", IF(LEFT('Analysis 103L'!J202,6)=\"Motion\", \"\", IF(RIGHT('Analysis 103L'!I202,4)=\"Case\",'Analysis 103L'!R202, 'Analysis 103L'!S202)))","v":""},{"$f":"IF(ISNUMBER('Analysis 103L'!AT202),'Analysis 103L'!AT202,\"\")","v":""},{"$f":"IF('Analysis 103L'!D202=\"\",\"\",'Analysis 103L'!AA202)","v":""},{"$f":"IF(E176=\"\",\"\",'Analysis 103L'!BE202)","v":""},{"$f":"IFERROR('Analysis 103L'!CD202*B176,\"\")","v":""},{"$f":"IF('Analysis 103L'!C202=\"\",\"\",'Analysis 103L'!C202)","v":""},{"$f":"IF('Analysis 103L'!E202=\"\",\"\",IF(AND(C176=0,D176=0),\"\",'Analysis 103L'!E202))","v":""}]
[{"$f":"IF('Analysis 103L'!J203=\"\",\"\",IF(AND(C177=0,D177=0),\"\",IF(RIGHT('Analysis 103L'!I203,4)=\"Case\", IF(LEFT('Analysis 103L'!J203,6)=\"Motion\", \"\", 'Analysis 103L'!CL203),'Analysis 103L'!J203)))","v":""},{"$f":"IF('Analysis 103L'!P203=\"\",\"\",IF(A177=\"\", \"\", 'Analysis 103L'!P203))","v":""},{"$f":"IF('Analysis 103L'!S203=\"\",\"\", IF(LEFT('Analysis 103L'!J203,6)=\"Motion\", \"\", IF(RIGHT('Analysis 103L'!I203,4)=\"Case\",'Analysis 103L'!R203, 'Analysis 103L'!S203)))","v":""},{"$f":"IF(ISNUMBER('Analysis 103L'!AT203),'Analysis 103L'!AT203,\"\")","v":""},{"$f":"IF('Analysis 103L'!D203=\"\",\"\",'Analysis 103L'!AA203)","v":""},{"$f":"IF(E177=\"\",\"\",'Analysis 103L'!BE203)","v":""},{"$f":"IFERROR('Analysis 103L'!CD203*B177,\"\")","v":""},{"$f":"IF('Analysis 103L'!C203=\"\",\"\",'Analysis 103L'!C203)","v":""},{"$f":"IF('Analysis 103L'!E203=\"\",\"\",IF(AND(C177=0,D177=0),\"\",'Analysis 103L'!E203))","v":""}]
[{"$f":"IF('Analysis 103L'!J204=\"\",\"\",IF(AND(C178=0,D178=0),\"\",IF(RIGHT('Analysis 103L'!I204,4)=\"Case\", IF(LEFT('Analysis 103L'!J204,6)=\"Motion\", \"\", 'Analysis 103L'!CL204),'Analysis 103L'!J204)))","v":""},{"$f":"IF('Analysis 103L'!P204=\"\",\"\",IF(A178=\"\", \"\", 'Analysis 103L'!P204))","v":""},{"$f":"IF('Analysis 103L'!S204=\"\",\"\", IF(LEFT('Analysis 103L'!J204,6)=\"Motion\", \"\", IF(RIGHT('Analysis 103L'!I204,4)=\"Case\",'Analysis 103L'!R204, 'Analysis 103L'!S204)))","v":""},{"$f":"IF(ISNUMBER('Analysis 103L'!AT204),'Analysis 103L'!AT204,\"\")","v":""},{"$f":"IF('Analysis 103L'!D204=\"\",\"\",'Analysis 103L'!AA204)","v":""},{"$f":"IF(E178=\"\",\"\",'Analysis 103L'!BE204)","v":""},{"$f":"IFERROR('Analysis 103L'!CD204*B178,\"\")","v":""},{"$f":"IF('Analysis 103L'!C204=\"\",\"\",'Analysis 103L'!C204)","v":""},{"$f":"IF('Analysis 103L'!E204=\"\",\"\",IF(AND(C178=0,D178=0),\"\",'Analysis 103L'!E204))","v":""}]
[{"$f":"IF('Analysis 103L'!J205=\"\",\"\",IF(AND(C179=0,D179=0),\"\",IF(RIGHT('Analysis 103L'!I205,4)=\"Case\", IF(LEFT('Analysis 103L'!J205,6)=\"Motion\", \"\", 'Analysis 103L'!CL205),'Analysis 103L'!J205)))","v":""},{"$f":"IF('Analysis 103L'!P205=\"\",\"\",IF(A179=\"\", \"\", 'Analysis 103L'!P205))","v":""},{"$f":"IF('Analysis 103L'!S205=\"\",\"\", IF(LEFT('Analysis 103L'!J205,6)=\"Motion\", \"\", IF(RIGHT('Analysis 103L'!I205,4)=\"Case\",'Analysis 103L'!R205, 'Analysis 103L'!S205)))","v":""},{"$f":"IF(ISNUMBER('Analysis 103L'!AT205),'Analysis 103L'!AT205,\"\")","v":""},{"$f":"IF('Analysis 103L'!D205=\"\",\"\",'Analysis 103L'!AA205)","v":""},{"$f":"IF(E179=\"\",\"\",'Analysis 103L'!BE205)","v":""},{"$f":"IFERROR('Analysis 103L'!CD205*B179,\"\")","v":""},{"$f":"IF('Analysis 103L'!C205=\"\",\"\",'Analysis 103L'!C205)","v":""},{"$f":"IF('Analysis 103L'!E205=\"\",\"\",IF(AND(C179=0,D179=0),\"\",'Analysis 103L'!E205))","v":""}]
[{"$f":"IF('Analysis 103L'!J206=\"\",\"\",IF(AND(C180=0,D180=0),\"\",IF(RIGHT('Analysis 103L'!I206,4)=\"Case\", IF(LEFT('Analysis 103L'!J206,6)=\"Motion\", \"\", 'Analysis 103L'!CL206),'Analysis 103L'!J206)))","v":""},{"$f":"IF('Analysis 103L'!P206=\"\",\"\",IF(A180=\"\", \"\", 'Analysis 103L'!P206))","v":""},{"$f":"IF('Analysis 103L'!S206=\"\",\"\", IF(LEFT('Analysis 103L'!J206,6)=\"Motion\", \"\", IF(RIGHT('Analysis 103L'!I206,4)=\"Case\",'Analysis 103L'!R206, 'Analysis 103L'!S206)))","v":""},{"$f":"IF(ISNUMBER('Analysis 103L'!AT206),'Analysis 103L'!AT206,\"\")","v":""},{"$f":"IF('Analysis 103L'!D206=\"\",\"\",'Analysis 103L'!AA206)","v":""},{"$f":"IF(E180=\"\",\"\",'Analysis 103L'!BE206)","v":""},{"$f":"IFERROR('Analysis 103L'!CD206*B180,\"\")","v":""},{"$f":"IF('Analysis 103L'!C206=\"\",\"\",'Analysis 103L'!C206)","v":""},{"$f":"IF('Analysis 103L'!E206=\"\",\"\",IF(AND(C180=0,D180=0),\"\",'Analysis 103L'!E206))","v":""}]
[{"$f":"IF('Analysis 103L'!J207=\"\",\"\",IF(AND(C181=0,D181=0),\"\",IF(RIGHT('Analysis 103L'!I207,4)=\"Case\", IF(LEFT('Analysis 103L'!J207,6)=\"Motion\", \"\", 'Analysis 103L'!CL207),'Analysis 103L'!J207)))","v":""},{"$f":"IF('Analysis 103L'!P207=\"\",\"\",IF(A181=\"\", \"\", 'Analysis 103L'!P207))","v":""},{"$f":"IF('Analysis 103L'!S207=\"\",\"\", IF(LEFT('Analysis 103L'!J207,6)=\"Motion\", \"\", IF(RIGHT('Analysis 103L'!I207,4)=\"Case\",'Analysis 103L'!R207, 'Analysis 103L'!S207)))","v":""},{"$f":"IF(ISNUMBER('Analysis 103L'!AT207),'Analysis 103L'!AT207,\"\")","v":""},{"$f":"IF('Analysis 103L'!D207=\"\",\"\",'Analysis 103L'!AA207)","v":""},{"$f":"IF(E181=\"\",\"\",'Analysis 103L'!BE207)","v":""},{"$f":"IFERROR('Analysis 103L'!CD207*B181,\"\")","v":""},{"$f":"IF('Analysis 103L'!C207=\"\",\"\",'Analysis 103L'!C207)","v":""},{"$f":"IF('Analysis 103L'!E207=\"\",\"\",IF(AND(C181=0,D181=0),\"\",'Analysis 103L'!E207))","v":""}]
[{"$f":"IF('Analysis 103L'!J208=\"\",\"\",IF(AND(C182=0,D182=0),\"\",IF(RIGHT('Analysis 103L'!I208,4)=\"Case\", IF(LEFT('Analysis 103L'!J208,6)=\"Motion\", \"\", 'Analysis 103L'!CL208),'Analysis 103L'!J208)))","v":""},{"$f":"IF('Analysis 103L'!P208=\"\",\"\",IF(A182=\"\", \"\", 'Analysis 103L'!P208))","v":""},{"$f":"IF('Analysis 103L'!S208=\"\",\"\", IF(LEFT('Analysis 103L'!J208,6)=\"Motion\", \"\", IF(RIGHT('Analysis 103L'!I208,4)=\"Case\",'Analysis 103L'!R208, 'Analysis 103L'!S208)))","v":""},{"$f":"IF(ISNUMBER('Analysis 103L'!AT208),'Analysis 103L'!AT208,\"\")","v":""},{"$f":"IF('Analysis 103L'!D208=\"\",\"\",'Analysis 103L'!AA208)","v":""},{"$f":"IF(E182=\"\",\"\",'Analysis 103L'!BE208)","v":""},{"$f":"IFERROR('Analysis 103L'!CD208*B182,\"\")","v":""},{"$f":"IF('Analysis 103L'!C208=\"\",\"\",'Analysis 103L'!C208)","v":""},{"$f":"IF('Analysis 103L'!E208=\"\",\"\",IF(AND(C182=0,D182=0),\"\",'Analysis 103L'!E208))","v":""}]
[{"$f":"IF('Analysis 103L'!J209=\"\",\"\",IF(AND(C183=0,D183=0),\"\",IF(RIGHT('Analysis 103L'!I209,4)=\"Case\", IF(LEFT('Analysis 103L'!J209,6)=\"Motion\", \"\", 'Analysis 103L'!CL209),'Analysis 103L'!J209)))","v":""},{"$f":"IF('Analysis 103L'!P209=\"\",\"\",IF(A183=\"\", \"\", 'Analysis 103L'!P209))","v":""},{"$f":"IF('Analysis 103L'!S209=\"\",\"\", IF(LEFT('Analysis 103L'!J209,6)=\"Motion\", \"\", IF(RIGHT('Analysis 103L'!I209,4)=\"Case\",'Analysis 103L'!R209, 'Analysis 103L'!S209)))","v":""},{"$f":"IF(ISNUMBER('Analysis 103L'!AT209),'Analysis 103L'!AT209,\"\")","v":""},{"$f":"IF('Analysis 103L'!D209=\"\",\"\",'Analysis 103L'!AA209)","v":""},{"$f":"IF(E183=\"\",\"\",'Analysis 103L'!BE209)","v":""},{"$f":"IFERROR('Analysis 103L'!CD209*B183,\"\")","v":""},{"$f":"IF('Analysis 103L'!C209=\"\",\"\",'Analysis 103L'!C209)","v":""},{"$f":"IF('Analysis 103L'!E209=\"\",\"\",IF(AND(C183=0,D183=0),\"\",'Analysis 103L'!E209))","v":""}]
[{"$f":"IF('Analysis 103L'!J210=\"\",\"\",IF(AND(C184=0,D184=0),\"\",IF(RIGHT('Analysis 103L'!I210,4)=\"Case\", IF(LEFT('Analysis 103L'!J210,6)=\"Motion\", \"\", 'Analysis 103L'!CL210),'Analysis 103L'!J210)))","v":""},{"$f":"IF('Analysis 103L'!P210=\"\",\"\",IF(A184=\"\", \"\", 'Analysis 103L'!P210))","v":""},{"$f":"IF('Analysis 103L'!S210=\"\",\"\", IF(LEFT('Analysis 103L'!J210,6)=\"Motion\", \"\", IF(RIGHT('Analysis 103L'!I210,4)=\"Case\",'Analysis 103L'!R210, 'Analysis 103L'!S210)))","v":""},{"$f":"IF(ISNUMBER('Analysis 103L'!AT210),'Analysis 103L'!AT210,\"\")","v":""},{"$f":"IF('Analysis 103L'!D210=\"\",\"\",'Analysis 103L'!AA210)","v":""},{"$f":"IF(E184=\"\",\"\",'Analysis 103L'!BE210)","v":""},{"$f":"IFERROR('Analysis 103L'!CD210*B184,\"\")","v":""},{"$f":"IF('Analysis 103L'!C210=\"\",\"\",'Analysis 103L'!C210)","v":""},{"$f":"IF('Analysis 103L'!E210=\"\",\"\",IF(AND(C184=0,D184=0),\"\",'Analysis 103L'!E210))","v":""}]
[{"$f":"IF('Analysis 103L'!J211=\"\",\"\",IF(AND(C185=0,D185=0),\"\",IF(RIGHT('Analysis 103L'!I211,4)=\"Case\", IF(LEFT('Analysis 103L'!J211,6)=\"Motion\", \"\", 'Analysis 103L'!CL211),'Analysis 103L'!J211)))","v":""},{"$f":"IF('Analysis 103L'!P211=\"\",\"\",IF(A185=\"\", \"\", 'Analysis 103L'!P211))","v":""},{"$f":"IF('Analysis 103L'!S211=\"\",\"\", IF(LEFT('Analysis 103L'!J211,6)=\"Motion\", \"\", IF(RIGHT('Analysis 103L'!I211,4)=\"Case\",'Analysis 103L'!R211, 'Analysis 103L'!S211)))","v":""},{"$f":"IF(ISNUMBER('Analysis 103L'!AT211),'Analysis 103L'!AT211,\"\")","v":""},{"$f":"IF('Analysis 103L'!D211=\"\",\"\",'Analysis 103L'!AA211)","v":""},{"$f":"IF(E185=\"\",\"\",'Analysis 103L'!BE211)","v":""},{"$f":"IFERROR('Analysis 103L'!CD211*B185,\"\")","v":""},{"$f":"IF('Analysis 103L'!C211=\"\",\"\",'Analysis 103L'!C211)","v":""},{"$f":"IF('Analysis 103L'!E211=\"\",\"\",IF(AND(C185=0,D185=0),\"\",'Analysis 103L'!E211))","v":""}]
[{"$f":"IF('Analysis 103L'!J212=\"\",\"\",IF(AND(C186=0,D186=0),\"\",IF(RIGHT('Analysis 103L'!I212,4)=\"Case\", IF(LEFT('Analysis 103L'!J212,6)=\"Motion\", \"\", 'Analysis 103L'!CL212),'Analysis 103L'!J212)))","v":""},{"$f":"IF('Analysis 103L'!P212=\"\",\"\",IF(A186=\"\", \"\", 'Analysis 103L'!P212))","v":""},{"$f":"IF('Analysis 103L'!S212=\"\",\"\", IF(LEFT('Analysis 103L'!J212,6)=\"Motion\", \"\", IF(RIGHT('Analysis 103L'!I212,4)=\"Case\",'Analysis 103L'!R212, 'Analysis 103L'!S212)))","v":""},{"$f":"IF(ISNUMBER('Analysis 103L'!AT212),'Analysis 103L'!AT212,\"\")","v":""},{"$f":"IF('Analysis 103L'!D212=\"\",\"\",'Analysis 103L'!AA212)","v":""},{"$f":"IF(E186=\"\",\"\",'Analysis 103L'!BE212)","v":""},{"$f":"IFERROR('Analysis 103L'!CD212*B186,\"\")","v":""},{"$f":"IF('Analysis 103L'!C212=\"\",\"\",'Analysis 103L'!C212)","v":""},{"$f":"IF('Analysis 103L'!E212=\"\",\"\",IF(AND(C186=0,D186=0),\"\",'Analysis 103L'!E212))","v":""}]
[{"$f":"IF('Analysis 103L'!J213=\"\",\"\",IF(AND(C187=0,D187=0),\"\",IF(RIGHT('Analysis 103L'!I213,4)=\"Case\", IF(LEFT('Analysis 103L'!J213,6)=\"Motion\", \"\", 'Analysis 103L'!CL213),'Analysis 103L'!J213)))","v":""},{"$f":"IF('Analysis 103L'!P213=\"\",\"\",IF(A187=\"\", \"\", 'Analysis 103L'!P213))","v":""},{"$f":"IF('Analysis 103L'!S213=\"\",\"\", IF(LEFT('Analysis 103L'!J213,6)=\"Motion\", \"\", IF(RIGHT('Analysis 103L'!I213,4)=\"Case\",'Analysis 103L'!R213, 'Analysis 103L'!S213)))","v":""},{"$f":"IF(ISNUMBER('Analysis 103L'!AT213),'Analysis 103L'!AT213,\"\")","v":""},{"$f":"IF('Analysis 103L'!D213=\"\",\"\",'Analysis 103L'!AA213)","v":""},{"$f":"IF(E187=\"\",\"\",'Analysis 103L'!BE213)","v":""},{"$f":"IFERROR('Analysis 103L'!CD213*B187,\"\")","v":""},{"$f":"IF('Analysis 103L'!C213=\"\",\"\",'Analysis 103L'!C213)","v":""},{"$f":"IF('Analysis 103L'!E213=\"\",\"\",IF(AND(C187=0,D187=0),\"\",'Analysis 103L'!E213))","v":""}]
[{"$f":"IF('Analysis 103L'!J214=\"\",\"\",IF(AND(C188=0,D188=0),\"\",IF(RIGHT('Analysis 103L'!I214,4)=\"Case\", IF(LEFT('Analysis 103L'!J214,6)=\"Motion\", \"\", 'Analysis 103L'!CL214),'Analysis 103L'!J214)))","v":""},{"$f":"IF('Analysis 103L'!P214=\"\",\"\",IF(A188=\"\", \"\", 'Analysis 103L'!P214))","v":""},{"$f":"IF('Analysis 103L'!S214=\"\",\"\", IF(LEFT('Analysis 103L'!J214,6)=\"Motion\", \"\", IF(RIGHT('Analysis 103L'!I214,4)=\"Case\",'Analysis 103L'!R214, 'Analysis 103L'!S214)))","v":""},{"$f":"IF(ISNUMBER('Analysis 103L'!AT214),'Analysis 103L'!AT214,\"\")","v":""},{"$f":"IF('Analysis 103L'!D214=\"\",\"\",'Analysis 103L'!AA214)","v":""},{"$f":"IF(E188=\"\",\"\",'Analysis 103L'!BE214)","v":""},{"$f":"IFERROR('Analysis 103L'!CD214*B188,\"\")","v":""},{"$f":"IF('Analysis 103L'!C214=\"\",\"\",'Analysis 103L'!C214)","v":""},{"$f":"IF('Analysis 103L'!E214=\"\",\"\",IF(AND(C188=0,D188=0),\"\",'Analysis 103L'!E214))","v":""}]
[{"$f":"IF('Analysis 103L'!J215=\"\",\"\",IF(AND(C189=0,D189=0),\"\",IF(RIGHT('Analysis 103L'!I215,4)=\"Case\", IF(LEFT('Analysis 103L'!J215,6)=\"Motion\", \"\", 'Analysis 103L'!CL215),'Analysis 103L'!J215)))","v":""},{"$f":"IF('Analysis 103L'!P215=\"\",\"\",IF(A189=\"\", \"\", 'Analysis 103L'!P215))","v":""},{"$f":"IF('Analysis 103L'!S215=\"\",\"\", IF(LEFT('Analysis 103L'!J215,6)=\"Motion\", \"\", IF(RIGHT('Analysis 103L'!I215,4)=\"Case\",'Analysis 103L'!R215, 'Analysis 103L'!S215)))","v":""},{"$f":"IF(ISNUMBER('Analysis 103L'!AT215),'Analysis 103L'!AT215,\"\")","v":""},{"$f":"IF('Analysis 103L'!D215=\"\",\"\",'Analysis 103L'!AA215)","v":""},{"$f":"IF(E189=\"\",\"\",'Analysis 103L'!BE215)","v":""},{"$f":"IFERROR('Analysis 103L'!CD215*B189,\"\")","v":""},{"$f":"IF('Analysis 103L'!C215=\"\",\"\",'Analysis 103L'!C215)","v":""},{"$f":"IF('Analysis 103L'!E215=\"\",\"\",IF(AND(C189=0,D189=0),\"\",'Analysis 103L'!E215))","v":""}]
[{"$f":"IF('Analysis 103L'!J216=\"\",\"\",IF(AND(C190=0,D190=0),\"\",IF(RIGHT('Analysis 103L'!I216,4)=\"Case\", IF(LEFT('Analysis 103L'!J216,6)=\"Motion\", \"\", 'Analysis 103L'!CL216),'Analysis 103L'!J216)))","v":""},{"$f":"IF('Analysis 103L'!P216=\"\",\"\",IF(A190=\"\", \"\", 'Analysis 103L'!P216))","v":""},{"$f":"IF('Analysis 103L'!S216=\"\",\"\", IF(LEFT('Analysis 103L'!J216,6)=\"Motion\", \"\", IF(RIGHT('Analysis 103L'!I216,4)=\"Case\",'Analysis 103L'!R216, 'Analysis 103L'!S216)))","v":""},{"$f":"IF(ISNUMBER('Analysis 103L'!AT216),'Analysis 103L'!AT216,\"\")","v":""},{"$f":"IF('Analysis 103L'!D216=\"\",\"\",'Analysis 103L'!AA216)","v":""},{"$f":"IF(E190=\"\",\"\",'Analysis 103L'!BE216)","v":""},{"$f":"IFERROR('Analysis 103L'!CD216*B190,\"\")","v":""},{"$f":"IF('Analysis 103L'!C216=\"\",\"\",'Analysis 103L'!C216)","v":""},{"$f":"IF('Analysis 103L'!E216=\"\",\"\",IF(AND(C190=0,D190=0),\"\",'Analysis 103L'!E216))","v":""}]
[{"$f":"IF('Analysis 103L'!J217=\"\",\"\",IF(AND(C191=0,D191=0),\"\",IF(RIGHT('Analysis 103L'!I217,4)=\"Case\", IF(LEFT('Analysis 103L'!J217,6)=\"Motion\", \"\", 'Analysis 103L'!CL217),'Analysis 103L'!J217)))","v":""},{"$f":"IF('Analysis 103L'!P217=\"\",\"\",IF(A191=\"\", \"\", 'Analysis 103L'!P217))","v":""},{"$f":"IF('Analysis 103L'!S217=\"\",\"\", IF(LEFT('Analysis 103L'!J217,6)=\"Motion\", \"\", IF(RIGHT('Analysis 103L'!I217,4)=\"Case\",'Analysis 103L'!R217, 'Analysis 103L'!S217)))","v":""},{"$f":"IF(ISNUMBER('Analysis 103L'!AT217),'Analysis 103L'!AT217,\"\")","v":""},{"$f":"IF('Analysis 103L'!D217=\"\",\"\",'Analysis 103L'!AA217)","v":""},{"$f":"IF(E191=\"\",\"\",'Analysis 103L'!BE217)","v":""},{"$f":"IFERROR('Analysis 103L'!CD217*B191,\"\")","v":""},{"$f":"IF('Analysis 103L'!C217=\"\",\"\",'Analysis 103L'!C217)","v":""},{"$f":"IF('Analysis 103L'!E217=\"\",\"\",IF(AND(C191=0,D191=0),\"\",'Analysis 103L'!E217))","v":""}]
[{"$f":"IF('Analysis 103L'!J218=\"\",\"\",IF(AND(C192=0,D192=0),\"\",IF(RIGHT('Analysis 103L'!I218,4)=\"Case\", IF(LEFT('Analysis 103L'!J218,6)=\"Motion\", \"\", 'Analysis 103L'!CL218),'Analysis 103L'!J218)))","v":""},{"$f":"IF('Analysis 103L'!P218=\"\",\"\",IF(A192=\"\", \"\", 'Analysis 103L'!P218))","v":""},{"$f":"IF('Analysis 103L'!S218=\"\",\"\", IF(LEFT('Analysis 103L'!J218,6)=\"Motion\", \"\", IF(RIGHT('Analysis 103L'!I218,4)=\"Case\",'Analysis 103L'!R218, 'Analysis 103L'!S218)))","v":""},{"$f":"IF(ISNUMBER('Analysis 103L'!AT218),'Analysis 103L'!AT218,\"\")","v":""},{"$f":"IF('Analysis 103L'!D218=\"\",\"\",'Analysis 103L'!AA218)","v":""},{"$f":"IF(E192=\"\",\"\",'Analysis 103L'!BE218)","v":""},{"$f":"IFERROR('Analysis 103L'!CD218*B192,\"\")","v":""},{"$f":"IF('Analysis 103L'!C218=\"\",\"\",'Analysis 103L'!C218)","v":""},{"$f":"IF('Analysis 103L'!E218=\"\",\"\",IF(AND(C192=0,D192=0),\"\",'Analysis 103L'!E218))","v":""}]
[{"$f":"IF('Analysis 103L'!J219=\"\",\"\",IF(AND(C193=0,D193=0),\"\",IF(RIGHT('Analysis 103L'!I219,4)=\"Case\", IF(LEFT('Analysis 103L'!J219,6)=\"Motion\", \"\", 'Analysis 103L'!CL219),'Analysis 103L'!J219)))","v":""},{"$f":"IF('Analysis 103L'!P219=\"\",\"\",IF(A193=\"\", \"\", 'Analysis 103L'!P219))","v":""},{"$f":"IF('Analysis 103L'!S219=\"\",\"\", IF(LEFT('Analysis 103L'!J219,6)=\"Motion\", \"\", IF(RIGHT('Analysis 103L'!I219,4)=\"Case\",'Analysis 103L'!R219, 'Analysis 103L'!S219)))","v":""},{"$f":"IF(ISNUMBER('Analysis 103L'!AT219),'Analysis 103L'!AT219,\"\")","v":""},{"$f":"IF('Analysis 103L'!D219=\"\",\"\",'Analysis 103L'!AA219)","v":""},{"$f":"IF(E193=\"\",\"\",'Analysis 103L'!BE219)","v":""},{"$f":"IFERROR('Analysis 103L'!CD219*B193,\"\")","v":""},{"$f":"IF('Analysis 103L'!C219=\"\",\"\",'Analysis 103L'!C219)","v":""},{"$f":"IF('Analysis 103L'!E219=\"\",\"\",IF(AND(C193=0,D193=0),\"\",'Analysis 103L'!E219))","v":""}]
[{"$f":"IF('Analysis 103L'!J220=\"\",\"\",IF(AND(C194=0,D194=0),\"\",IF(RIGHT('Analysis 103L'!I220,4)=\"Case\", IF(LEFT('Analysis 103L'!J220,6)=\"Motion\", \"\", 'Analysis 103L'!CL220),'Analysis 103L'!J220)))","v":""},{"$f":"IF('Analysis 103L'!P220=\"\",\"\",IF(A194=\"\", \"\", 'Analysis 103L'!P220))","v":""},{"$f":"IF('Analysis 103L'!S220=\"\",\"\", IF(LEFT('Analysis 103L'!J220,6)=\"Motion\", \"\", IF(RIGHT('Analysis 103L'!I220,4)=\"Case\",'Analysis 103L'!R220, 'Analysis 103L'!S220)))","v":""},{"$f":"IF(ISNUMBER('Analysis 103L'!AT220),'Analysis 103L'!AT220,\"\")","v":""},{"$f":"IF('Analysis 103L'!D220=\"\",\"\",'Analysis 103L'!AA220)","v":""},{"$f":"IF(E194=\"\",\"\",'Analysis 103L'!BE220)","v":""},{"$f":"IFERROR('Analysis 103L'!CD220*B194,\"\")","v":""},{"$f":"IF('Analysis 103L'!C220=\"\",\"\",'Analysis 103L'!C220)","v":""},{"$f":"IF('Analysis 103L'!E220=\"\",\"\",IF(AND(C194=0,D194=0),\"\",'Analysis 103L'!E220))","v":""}]
[{"$f":"IF('Analysis 103L'!J221=\"\",\"\",IF(AND(C195=0,D195=0),\"\",IF(RIGHT('Analysis 103L'!I221,4)=\"Case\", IF(LEFT('Analysis 103L'!J221,6)=\"Motion\", \"\", 'Analysis 103L'!CL221),'Analysis 103L'!J221)))","v":""},{"$f":"IF('Analysis 103L'!P221=\"\",\"\",IF(A195=\"\", \"\", 'Analysis 103L'!P221))","v":""},{"$f":"IF('Analysis 103L'!S221=\"\",\"\", IF(LEFT('Analysis 103L'!J221,6)=\"Motion\", \"\", IF(RIGHT('Analysis 103L'!I221,4)=\"Case\",'Analysis 103L'!R221, 'Analysis 103L'!S221)))","v":""},{"$f":"IF(ISNUMBER('Analysis 103L'!AT221),'Analysis 103L'!AT221,\"\")","v":""},{"$f":"IF('Analysis 103L'!D221=\"\",\"\",'Analysis 103L'!AA221)","v":""},{"$f":"IF(E195=\"\",\"\",'Analysis 103L'!BE221)","v":""},{"$f":"IFERROR('Analysis 103L'!CD221*B195,\"\")","v":""},{"$f":"IF('Analysis 103L'!C221=\"\",\"\",'Analysis 103L'!C221)","v":""},{"$f":"IF('Analysis 103L'!E221=\"\",\"\",IF(AND(C195=0,D195=0),\"\",'Analysis 103L'!E221))","v":""}]
[{"$f":"IF('Analysis 103L'!J222=\"\",\"\",IF(AND(C196=0,D196=0),\"\",IF(RIGHT('Analysis 103L'!I222,4)=\"Case\", IF(LEFT('Analysis 103L'!J222,6)=\"Motion\", \"\", 'Analysis 103L'!CL222),'Analysis 103L'!J222)))","v":""},{"$f":"IF('Analysis 103L'!P222=\"\",\"\",IF(A196=\"\", \"\", 'Analysis 103L'!P222))","v":""},{"$f":"IF('Analysis 103L'!S222=\"\",\"\", IF(LEFT('Analysis 103L'!J222,6)=\"Motion\", \"\", IF(RIGHT('Analysis 103L'!I222,4)=\"Case\",'Analysis 103L'!R222, 'Analysis 103L'!S222)))","v":""},{"$f":"IF(ISNUMBER('Analysis 103L'!AT222),'Analysis 103L'!AT222,\"\")","v":""},{"$f":"IF('Analysis 103L'!D222=\"\",\"\",'Analysis 103L'!AA222)","v":""},{"$f":"IF(E196=\"\",\"\",'Analysis 103L'!BE222)","v":""},{"$f":"IFERROR('Analysis 103L'!CD222*B196,\"\")","v":""},{"$f":"IF('Analysis 103L'!C222=\"\",\"\",'Analysis 103L'!C222)","v":""},{"$f":"IF('Analysis 103L'!E222=\"\",\"\",IF(AND(C196=0,D196=0),\"\",'Analysis 103L'!E222))","v":""}]
[{"$f":"IF('Analysis 103L'!J223=\"\",\"\",IF(AND(C197=0,D197=0),\"\",IF(RIGHT('Analysis 103L'!I223,4)=\"Case\", IF(LEFT('Analysis 103L'!J223,6)=\"Motion\", \"\", 'Analysis 103L'!CL223),'Analysis 103L'!J223)))","v":""},{"$f":"IF('Analysis 103L'!P223=\"\",\"\",IF(A197=\"\", \"\", 'Analysis 103L'!P223))","v":""},{"$f":"IF('Analysis 103L'!S223=\"\",\"\", IF(LEFT('Analysis 103L'!J223,6)=\"Motion\", \"\", IF(RIGHT('Analysis 103L'!I223,4)=\"Case\",'Analysis 103L'!R223, 'Analysis 103L'!S223)))","v":""},{"$f":"IF(ISNUMBER('Analysis 103L'!AT223),'Analysis 103L'!AT223,\"\")","v":""},{"$f":"IF('Analysis 103L'!D223=\"\",\"\",'Analysis 103L'!AA223)","v":""},{"$f":"IF(E197=\"\",\"\",'Analysis 103L'!BE223)","v":""},{"$f":"IFERROR('Analysis 103L'!CD223*B197,\"\")","v":""},{"$f":"IF('Analysis 103L'!C223=\"\",\"\",'Analysis 103L'!C223)","v":""},{"$f":"IF('Analysis 103L'!E223=\"\",\"\",IF(AND(C197=0,D197=0),\"\",'Analysis 103L'!E223))","v":""}]
[{"$f":"IF('Analysis 103L'!J224=\"\",\"\",IF(AND(C198=0,D198=0),\"\",IF(RIGHT('Analysis 103L'!I224,4)=\"Case\", IF(LEFT('Analysis 103L'!J224,6)=\"Motion\", \"\", 'Analysis 103L'!CL224),'Analysis 103L'!J224)))","v":""},{"$f":"IF('Analysis 103L'!P224=\"\",\"\",IF(A198=\"\", \"\", 'Analysis 103L'!P224))","v":""},{"$f":"IF('Analysis 103L'!S224=\"\",\"\", IF(LEFT('Analysis 103L'!J224,6)=\"Motion\", \"\", IF(RIGHT('Analysis 103L'!I224,4)=\"Case\",'Analysis 103L'!R224, 'Analysis 103L'!S224)))","v":""},{"$f":"IF(ISNUMBER('Analysis 103L'!AT224),'Analysis 103L'!AT224,\"\")","v":""},{"$f":"IF('Analysis 103L'!D224=\"\",\"\",'Analysis 103L'!AA224)","v":""},{"$f":"IF(E198=\"\",\"\",'Analysis 103L'!BE224)","v":""},{"$f":"IFERROR('Analysis 103L'!CD224*B198,\"\")","v":""},{"$f":"IF('Analysis 103L'!C224=\"\",\"\",'Analysis 103L'!C224)","v":""},{"$f":"IF('Analysis 103L'!E224=\"\",\"\",IF(AND(C198=0,D198=0),\"\",'Analysis 103L'!E224))","v":""}]
[{"$f":"IF('Analysis 103L'!J225=\"\",\"\",IF(AND(C199=0,D199=0),\"\",IF(RIGHT('Analysis 103L'!I225,4)=\"Case\", IF(LEFT('Analysis 103L'!J225,6)=\"Motion\", \"\", 'Analysis 103L'!CL225),'Analysis 103L'!J225)))","v":""},{"$f":"IF('Analysis 103L'!P225=\"\",\"\",IF(A199=\"\", \"\", 'Analysis 103L'!P225))","v":""},{"$f":"IF('Analysis 103L'!S225=\"\",\"\", IF(LEFT('Analysis 103L'!J225,6)=\"Motion\", \"\", IF(RIGHT('Analysis 103L'!I225,4)=\"Case\",'Analysis 103L'!R225, 'Analysis 103L'!S225)))","v":""},{"$f":"IF(ISNUMBER('Analysis 103L'!AT225),'Analysis 103L'!AT225,\"\")","v":""},{"$f":"IF('Analysis 103L'!D225=\"\",\"\",'Analysis 103L'!AA225)","v":""},{"$f":"IF(E199=\"\",\"\",'Analysis 103L'!BE225)","v":""},{"$f":"IFERROR('Analysis 103L'!CD225*B199,\"\")","v":""},{"$f":"IF('Analysis 103L'!C225=\"\",\"\",'Analysis 103L'!C225)","v":""},{"$f":"IF('Analysis 103L'!E225=\"\",\"\",IF(AND(C199=0,D199=0),\"\",'Analysis 103L'!E225))","v":""}]
[{"$f":"IF('Analysis 103L'!J226=\"\",\"\",IF(AND(C200=0,D200=0),\"\",IF(RIGHT('Analysis 103L'!I226,4)=\"Case\", IF(LEFT('Analysis 103L'!J226,6)=\"Motion\", \"\", 'Analysis 103L'!CL226),'Analysis 103L'!J226)))","v":""},{"$f":"IF('Analysis 103L'!P226=\"\",\"\",IF(A200=\"\", \"\", 'Analysis 103L'!P226))","v":""},{"$f":"IF('Analysis 103L'!S226=\"\",\"\", IF(LEFT('Analysis 103L'!J226,6)=\"Motion\", \"\", IF(RIGHT('Analysis 103L'!I226,4)=\"Case\",'Analysis 103L'!R226, 'Analysis 103L'!S226)))","v":""},{"$f":"IF(ISNUMBER('Analysis 103L'!AT226),'Analysis 103L'!AT226,\"\")","v":""},{"$f":"IF('Analysis 103L'!D226=\"\",\"\",'Analysis 103L'!AA226)","v":""},{"$f":"IF(E200=\"\",\"\",'Analysis 103L'!BE226)","v":""},{"$f":"IFERROR('Analysis 103L'!CD226*B200,\"\")","v":""},{"$f":"IF('Analysis 103L'!C226=\"\",\"\",'Analysis 103L'!C226)","v":""},{"$f":"IF('Analysis 103L'!E226=\"\",\"\",IF(AND(C200=0,D200=0),\"\",'Analysis 103L'!E226))","v":""}]
[{"$f":"IF('Analysis 103L'!Y227=0,\"\",'Analysis 103L'!J227)","v":""},{"$f":"IF('Analysis 103L'!P227=\"\",\"\",'Analysis 103L'!P227)","v":""},{"$f":"IF('Analysis 103L'!S227=\"\",\"\",'Analysis 103L'!S227)","v":""},{"$f":"IF(ISNUMBER('Analysis 103L'!AT227),'Analysis 103L'!AT227,\"\")","v":""},{"$f":"IF('Analysis 103L'!D227=\"\",\"\",'Analysis 103L'!AA227)","v":{"$error":"#DIV/0!"}},{"$f":"IF(E201=\"\",\"\",'Analysis 103L'!BE227)","v":{"$error":"#DIV/0!"}},{"$f":"IFERROR('Analysis 103L'!CD227*B201,\"\")","v":""},{"$f":"IF('Analysis 103L'!C227=\"\",\"\",'Analysis 103L'!C227)","v":""},{"$f":"IF('Analysis 103L'!E227=\"\",\"\",IF(AND(C201=0,D201=0),\"\",'Analysis 103L'!E227))","v":""}]
[{"$f":"IF(Controls!I7=\"\",\"\",IF(LEFT(Controls!I7, 6)=\"Motion\", Controls!BT7,Controls!I7))","v":""},{"$f":"IF(LEFT(A202, 6)=\"Motion\", Controls!F7, (IF(Controls!K7=\"\",\"\",Controls!K7)))","v":""},{"$f":"IF(LEFT(A202, 6)=\"Motion\", Controls!L7, IF(Controls!M7=\"\",\"\",Controls!M7))","v":""},{"$f":"IF(Controls!R7=\"\",\"\",Controls!R7)","v":""},{"$f":"IF(Controls!K7=\"\",IF(RIGHT(Controls!D7, 4)=\"Case\", Controls!T7, \"\"),Controls!W7)","v":""},{"$f":"IF(E202=\"\",\"\",'Analysis 103L'!BE28)","v":""},{"$f":"IFERROR(VLOOKUP($A202,Controls!$AC$7:$AD$20,2,FALSE)*B202,\"\")","v":""},{"$f":"IF(Controls!B7=\"\",\"\",Controls!B7)","v":0},null,"Controls"]
[{"$f":"IF(Controls!I8=\"\",\"\",IF(LEFT(Controls!I8, 6)=\"Motion\", Controls!BT8,Controls!I8))","v":""},{"$f":"IF(LEFT(A203, 6)=\"Motion\", Controls!F8, (IF(Controls!K8=\"\",\"\",Controls!K8)))","v":""},{"$f":"IF(LEFT(A203, 6)=\"Motion\", Controls!L8, IF(Controls!M8=\"\",\"\",Controls!M8))","v":""},{"$f":"IF(Controls!R8=\"\",\"\",Controls!R8)","v":""},{"$f":"IF(Controls!K8=\"\",IF(RIGHT(Controls!D8, 4)=\"Case\", Controls!T8, \"\"),Controls!W8)","v":""},{"$f":"IF(E203=\"\",\"\",'Analysis 103L'!BE29)","v":""},{"$f":"IFERROR(VLOOKUP($A203,Controls!$AC$7:$AD$20,2,FALSE)*B203,\"\")","v":""},{"$f":"IF(Controls!B8=\"\",\"\",Controls!B8)","v":0}]
[{"$f":"IF(Controls!I9=\"\",\"\",IF(LEFT(Controls!I9, 6)=\"Motion\", Controls!BT9,Controls!I9))","v":""},{"$f":"IF(LEFT(A204, 6)=\"Motion\", Controls!F9, (IF(Controls!K9=\"\",\"\",Controls!K9)))","v":""},{"$f":"IF(LEFT(A204, 6)=\"Motion\", Controls!L9, IF(Controls!M9=\"\",\"\",Controls!M9))","v":""},{"$f":"IF(Controls!R9=\"\",\"\",Controls!R9)","v":""},{"$f":"IF(Controls!K9=\"\",IF(RIGHT(Controls!D9, 4)=\"Case\", Controls!T9, \"\"),Controls!W9)","v":""},{"$f":"IF(E204=\"\",\"\",'Analysis 103L'!BE30)","v":""},{"$f":"IFERROR(VLOOKUP($A204,Controls!$AC$7:$AD$20,2,FALSE)*B204,\"\")","v":""},{"$f":"IF(Controls!B9=\"\",\"\",Controls!B9)","v":0}]
[{"$f":"IF(Controls!I10=\"\",\"\",IF(LEFT(Controls!I10, 6)=\"Motion\", Controls!BT10,Controls!I10))","v":""},{"$f":"IF(LEFT(A205, 6)=\"Motion\", Controls!F10, (IF(Controls!K10=\"\",\"\",Controls!K10)))","v":""},{"$f":"IF(LEFT(A205, 6)=\"Motion\", Controls!L10, IF(Controls!M10=\"\",\"\",Controls!M10))","v":""},{"$f":"IF(Controls!R10=\"\",\"\",Controls!R10)","v":""},{"$f":"IF(Controls!K10=\"\",IF(RIGHT(Controls!D10, 4)=\"Case\", Controls!T10, \"\"),Controls!W10)","v":""},{"$f":"IF(E205=\"\",\"\",'Analysis 103L'!BE31)","v":""},{"$f":"IFERROR(VLOOKUP($A205,Controls!$AC$7:$AD$20,2,FALSE)*B205,\"\")","v":""},{"$f":"IF(Controls!B10=\"\",\"\",Controls!B10)","v":0}]
[{"$f":"IF(Controls!I11=\"\",\"\",IF(LEFT(Controls!I11, 6)=\"Motion\", Controls!BT11,Controls!I11))","v":""},{"$f":"IF(LEFT(A206, 6)=\"Motion\", Controls!F11, (IF(Controls!K11=\"\",\"\",Controls!K11)))","v":""},{"$f":"IF(LEFT(A206, 6)=\"Motion\", Controls!L11, IF(Controls!M11=\"\",\"\",Controls!M11))","v":""},{"$f":"IF(Controls!R11=\"\",\"\",Controls!R11)","v":""},{"$f":"IF(Controls!K11=\"\",IF(RIGHT(Controls!D11, 4)=\"Case\", Controls!T11, \"\"),Controls!W11)","v":""},{"$f":"IF(E206=\"\",\"\",'Analysis 103L'!BE32)","v":""},{"$f":"IFERROR(VLOOKUP($A206,Controls!$AC$7:$AD$20,2,FALSE)*B206,\"\")","v":""},{"$f":"IF(Controls!B11=\"\",\"\",Controls!B11)","v":0}]
[{"$f":"IF(Controls!I12=\"\",\"\",IF(LEFT(Controls!I12, 6)=\"Motion\", Controls!BT12,Controls!I12))","v":""},{"$f":"IF(LEFT(A207, 6)=\"Motion\", Controls!F12, (IF(Controls!K12=\"\",\"\",Controls!K12)))","v":""},{"$f":"IF(LEFT(A207, 6)=\"Motion\", Controls!L12, IF(Controls!M12=\"\",\"\",Controls!M12))","v":""},{"$f":"IF(Controls!R12=\"\",\"\",Controls!R12)","v":""},{"$f":"IF(Controls!K12=\"\",IF(RIGHT(Controls!D12, 4)=\"Case\", Controls!T12, \"\"),Controls!W12)","v":""},{"$f":"IF(E207=\"\",\"\",'Analysis 103L'!BE33)","v":""},{"$f":"IFERROR(VLOOKUP($A207,Controls!$AC$7:$AD$20,2,FALSE)*B207,\"\")","v":""},{"$f":"IF(Controls!B12=\"\",\"\",Controls!B12)","v":0}]
[{"$f":"IF(Controls!I13=\"\",\"\",IF(LEFT(Controls!I13, 6)=\"Motion\", Controls!BT13,Controls!I13))","v":""},{"$f":"IF(LEFT(A208, 6)=\"Motion\", Controls!F13, (IF(Controls!K13=\"\",\"\",Controls!K13)))","v":""},{"$f":"IF(LEFT(A208, 6)=\"Motion\", Controls!L13, IF(Controls!M13=\"\",\"\",Controls!M13))","v":""},{"$f":"IF(Controls!R13=\"\",\"\",Controls!R13)","v":""},{"$f":"IF(Controls!K13=\"\",IF(RIGHT(Controls!D13, 4)=\"Case\", Controls!T13, \"\"),Controls!W13)","v":""},{"$f":"IF(E208=\"\",\"\",'Analysis 103L'!BE34)","v":""},{"$f":"IFERROR(VLOOKUP($A208,Controls!$AC$7:$AD$20,2,FALSE)*B208,\"\")","v":""},{"$f":"IF(Controls!B13=\"\",\"\",Controls!B13)","v":0}]
[{"$f":"IF(Controls!I14=\"\",\"\",IF(LEFT(Controls!I14, 6)=\"Motion\", Controls!BT14,Controls!I14))","v":""},{"$f":"IF(LEFT(A209, 6)=\"Motion\", Controls!F14, (IF(Controls!K14=\"\",\"\",Controls!K14)))","v":""},{"$f":"IF(LEFT(A209, 6)=\"Motion\", Controls!L14, IF(Controls!M14=\"\",\"\",Controls!M14))","v":""},{"$f":"IF(Controls!R14=\"\",\"\",Controls!R14)","v":""},{"$f":"IF(Controls!K14=\"\",IF(RIGHT(Controls!D14, 4)=\"Case\", Controls!T14, \"\"),Controls!W14)","v":""},{"$f":"IF(E209=\"\",\"\",'Analysis 103L'!BE35)","v":""},{"$f":"IFERROR(VLOOKUP($A209,Controls!$AC$7:$AD$20,2,FALSE)*B209,\"\")","v":""},{"$f":"IF(Controls!B14=\"\",\"\",Controls!B14)","v":0}]
[{"$f":"IF(Controls!I15=\"\",\"\",IF(LEFT(Controls!I15, 6)=\"Motion\", Controls!BT15,Controls!I15))","v":""},{"$f":"IF(LEFT(A210, 6)=\"Motion\", Controls!F15, (IF(Controls!K15=\"\",\"\",Controls!K15)))","v":""},{"$f":"IF(LEFT(A210, 6)=\"Motion\", Controls!L15, IF(Controls!M15=\"\",\"\",Controls!M15))","v":""},{"$f":"IF(Controls!R15=\"\",\"\",Controls!R15)","v":""},{"$f":"IF(Controls!K15=\"\",IF(RIGHT(Controls!D15, 4)=\"Case\", Controls!T15, \"\"),Controls!W15)","v":""},{"$f":"IF(E210=\"\",\"\",'Analysis 103L'!BE36)","v":""},{"$f":"IFERROR(VLOOKUP($A210,Controls!$AC$7:$AD$20,2,FALSE)*B210,\"\")","v":""},{"$f":"IF(Controls!B15=\"\",\"\",Controls!B15)","v":0}]
[{"$f":"IF(Controls!I16=\"\",\"\",IF(LEFT(Controls!I16, 6)=\"Motion\", Controls!BT16,Controls!I16))","v":""},{"$f":"IF(LEFT(A211, 6)=\"Motion\", Controls!F16, (IF(Controls!K16=\"\",\"\",Controls!K16)))","v":""},{"$f":"IF(LEFT(A211, 6)=\"Motion\", Controls!L16, IF(Controls!M16=\"\",\"\",Controls!M16))","v":""},{"$f":"IF(Controls!R16=\"\",\"\",Controls!R16)","v":""},{"$f":"IF(Controls!K16=\"\",IF(RIGHT(Controls!D16, 4)=\"Case\", Controls!T16, \"\"),Controls!W16)","v":""},{"$f":"IF(E211=\"\",\"\",'Analysis 103L'!BE37)","v":""},{"$f":"IFERROR(VLOOKUP($A211,Controls!$AC$7:$AD$20,2,FALSE)*B211,\"\")","v":""},{"$f":"IF(Controls!B16=\"\",\"\",Controls!B16)","v":0}]
[{"$f":"IF(Controls!I17=\"\",\"\",IF(LEFT(Controls!I17, 6)=\"Motion\", Controls!BT17,Controls!I17))","v":""},{"$f":"IF(LEFT(A212, 6)=\"Motion\", Controls!F17, (IF(Controls!K17=\"\",\"\",Controls!K17)))","v":""},{"$f":"IF(LEFT(A212, 6)=\"Motion\", Controls!L17, IF(Controls!M17=\"\",\"\",Controls!M17))","v":""},{"$f":"IF(Controls!R17=\"\",\"\",Controls!R17)","v":""},{"$f":"IF(Controls!K17=\"\",IF(RIGHT(Controls!D17, 4)=\"Case\", Controls!T17, \"\"),Controls!W17)","v":""},{"$f":"IF(E212=\"\",\"\",'Analysis 103L'!BE38)","v":""},{"$f":"IFERROR(VLOOKUP($A212,Controls!$AC$7:$AD$20,2,FALSE)*B212,\"\")","v":""},{"$f":"IF(Controls!B17=\"\",\"\",Controls!B17)","v":0}]
[{"$f":"IF(Controls!I18=\"\",\"\",IF(LEFT(Controls!I18, 6)=\"Motion\", Controls!BT18,Controls!I18))","v":""},{"$f":"IF(LEFT(A213, 6)=\"Motion\", Controls!F18, (IF(Controls!K18=\"\",\"\",Controls!K18)))","v":""},{"$f":"IF(LEFT(A213, 6)=\"Motion\", Controls!L18, IF(Controls!M18=\"\",\"\",Controls!M18))","v":""},{"$f":"IF(Controls!R18=\"\",\"\",Controls!R18)","v":""},{"$f":"IF(Controls!K18=\"\",IF(RIGHT(Controls!D18, 4)=\"Case\", Controls!T18, \"\"),Controls!W18)","v":""},{"$f":"IF(E213=\"\",\"\",'Analysis 103L'!BE39)","v":""},{"$f":"IFERROR(VLOOKUP($A213,Controls!$AC$7:$AD$20,2,FALSE)*B213,\"\")","v":""},{"$f":"IF(Controls!B18=\"\",\"\",Controls!B18)","v":0}]
[{"$f":"IF(Controls!I19=\"\",\"\",IF(LEFT(Controls!I19, 6)=\"Motion\", Controls!BT19,Controls!I19))","v":""},{"$f":"IF(LEFT(A214, 6)=\"Motion\", Controls!F19, (IF(Controls!K19=\"\",\"\",Controls!K19)))","v":""},{"$f":"IF(LEFT(A214, 6)=\"Motion\", Controls!L19, IF(Controls!M19=\"\",\"\",Controls!M19))","v":""},{"$f":"IF(Controls!R19=\"\",\"\",Controls!R19)","v":""},{"$f":"IF(Controls!K19=\"\",IF(RIGHT(Controls!D19, 4)=\"Case\", Controls!T19, \"\"),Controls!W19)","v":""},{"$f":"IF(E214=\"\",\"\",'Analysis 103L'!BE40)","v":""},{"$f":"IFERROR(VLOOKUP($A214,Controls!$AC$7:$AD$20,2,FALSE)*B214,\"\")","v":""},{"$f":"IF(Controls!B19=\"\",\"\",Controls!B19)","v":0}]
[{"$f":"IF(Controls!I20=\"\",\"\",IF(LEFT(Controls!I20, 6)=\"Motion\", Controls!BT20,Controls!I20))","v":""},{"$f":"IF(LEFT(A215, 6)=\"Motion\", Controls!F20, (IF(Controls!K20=\"\",\"\",Controls!K20)))","v":""},{"$f":"IF(LEFT(A215, 6)=\"Motion\", Controls!L20, IF(Controls!M20=\"\",\"\",Controls!M20))","v":""},{"$f":"IF(Controls!R20=\"\",\"\",Controls!R20)","v":""},{"$f":"IF(Controls!K20=\"\",IF(RIGHT(Controls!D20, 4)=\"Case\", Controls!T20, \"\"),Controls!W20)","v":""},{"$f":"IF(E215=\"\",\"\",'Analysis 103L'!BE41)","v":""},{"$f":"IFERROR(VLOOKUP($A215,Controls!$AC$7:$AD$20,2,FALSE)*B215,\"\")","v":""},{"$f":"IF(Controls!B20=\"\",\"\",Controls!B20)","v":0}]
[{"$f":"IF(Controls!I21=\"\",\"\",IF(LEFT(Controls!I21, 6)=\"Motion\", Controls!BT21,Controls!I21))","v":""},{"$f":"IF(LEFT(A216, 6)=\"Motion\", Controls!F21, (IF(Controls!K21=\"\",\"\",Controls!K21)))","v":""},{"$f":"IF(LEFT(A216, 6)=\"Motion\", Controls!L21, IF(Controls!M21=\"\",\"\",Controls!M21))","v":""},{"$f":"IF(Controls!R21=\"\",\"\",Controls!R21)","v":""},{"$f":"IF(Controls!K21=\"\",IF(RIGHT(Controls!D21, 4)=\"Case\", Controls!T21, \"\"),Controls!W21)","v":""},{"$f":"IF(E216=\"\",\"\",'Analysis 103L'!BE42)","v":""},{"$f":"IFERROR(VLOOKUP($A216,Controls!$AC$7:$AD$20,2,FALSE)*B216,\"\")","v":""},{"$f":"IF(Controls!B21=\"\",\"\",Controls!B21)","v":0}]
[{"$f":"IF(Controls!I22=\"\",\"\",IF(LEFT(Controls!I22, 6)=\"Motion\", Controls!BT22,Controls!I22))","v":""},{"$f":"IF(LEFT(A217, 6)=\"Motion\", Controls!F22, (IF(Controls!K22=\"\",\"\",Controls!K22)))","v":""},{"$f":"IF(LEFT(A217, 6)=\"Motion\", Controls!L22, IF(Controls!M22=\"\",\"\",Controls!M22))","v":""},{"$f":"IF(Controls!R22=\"\",\"\",Controls!R22)","v":""},{"$f":"IF(Controls!K22=\"\",IF(RIGHT(Controls!D22, 4)=\"Case\", Controls!T22, \"\"),Controls!W22)","v":""},{"$f":"IF(E217=\"\",\"\",'Analysis 103L'!BE43)","v":""},{"$f":"IFERROR(VLOOKUP($A217,Controls!$AC$7:$AD$20,2,FALSE)*B217,\"\")","v":""},{"$f":"IF(Controls!B22=\"\",\"\",Controls!B22)","v":0}]
[{"$f":"IF(Controls!I23=\"\",\"\",IF(LEFT(Controls!I23, 6)=\"Motion\", Controls!BT23,Controls!I23))","v":""},{"$f":"IF(LEFT(A218, 6)=\"Motion\", Controls!F23, (IF(Controls!K23=\"\",\"\",Controls!K23)))","v":""},{"$f":"IF(LEFT(A218, 6)=\"Motion\", Controls!L23, IF(Controls!M23=\"\",\"\",Controls!M23))","v":""},{"$f":"IF(Controls!R23=\"\",\"\",Controls!R23)","v":""},{"$f":"IF(Controls!K23=\"\",IF(RIGHT(Controls!D23, 4)=\"Case\", Controls!T23, \"\"),Controls!W23)","v":""},{"$f":"IF(E218=\"\",\"\",'Analysis 103L'!BE44)","v":""},{"$f":"IFERROR(VLOOKUP($A218,Controls!$AC$7:$AD$20,2,FALSE)*B218,\"\")","v":""},{"$f":"IF(Controls!B23=\"\",\"\",Controls!B23)","v":0}]
[{"$f":"IF(Controls!I24=\"\",\"\",IF(LEFT(Controls!I24, 6)=\"Motion\", Controls!BT24,Controls!I24))","v":""},{"$f":"IF(LEFT(A219, 6)=\"Motion\", Controls!F24, (IF(Controls!K24=\"\",\"\",Controls!K24)))","v":""},{"$f":"IF(LEFT(A219, 6)=\"Motion\", Controls!L24, IF(Controls!M24=\"\",\"\",Controls!M24))","v":""},{"$f":"IF(Controls!R24=\"\",\"\",Controls!R24)","v":""},{"$f":"IF(Controls!K24=\"\",IF(RIGHT(Controls!D24, 4)=\"Case\", Controls!T24, \"\"),Controls!W24)","v":""},{"$f":"IF(E219=\"\",\"\",'Analysis 103L'!BE45)","v":""},{"$f":"IFERROR(VLOOKUP($A219,Controls!$AC$7:$AD$20,2,FALSE)*B219,\"\")","v":""},{"$f":"IF(Controls!B24=\"\",\"\",Controls!B24)","v":0}]
[{"$f":"IF(Controls!I25=\"\",\"\",IF(LEFT(Controls!I25, 6)=\"Motion\", Controls!BT25,Controls!I25))","v":""},{"$f":"IF(LEFT(A220, 6)=\"Motion\", Controls!F25, (IF(Controls!K25=\"\",\"\",Controls!K25)))","v":""},{"$f":"IF(LEFT(A220, 6)=\"Motion\", Controls!L25, IF(Controls!M25=\"\",\"\",Controls!M25))","v":""},{"$f":"IF(Controls!R25=\"\",\"\",Controls!R25)","v":""},{"$f":"IF(Controls!K25=\"\",IF(RIGHT(Controls!D25, 4)=\"Case\", Controls!T25, \"\"),Controls!W25)","v":""},{"$f":"IF(E220=\"\",\"\",'Analysis 103L'!BE46)","v":""},{"$f":"IFERROR(VLOOKUP($A220,Controls!$AC$7:$AD$20,2,FALSE)*B220,\"\")","v":""},{"$f":"IF(Controls!B25=\"\",\"\",Controls!B25)","v":0}]
[{"$f":"IF(Controls!I26=\"\",\"\",IF(LEFT(Controls!I26, 6)=\"Motion\", Controls!BT26,Controls!I26))","v":""},{"$f":"IF(LEFT(A221, 6)=\"Motion\", Controls!F26, (IF(Controls!K26=\"\",\"\",Controls!K26)))","v":""},{"$f":"IF(LEFT(A221, 6)=\"Motion\", Controls!L26, IF(Controls!M26=\"\",\"\",Controls!M26))","v":""},{"$f":"IF(Controls!R26=\"\",\"\",Controls!R26)","v":""},{"$f":"IF(Controls!K26=\"\",IF(RIGHT(Controls!D26, 4)=\"Case\", Controls!T26, \"\"),Controls!W26)","v":""},{"$f":"IF(E221=\"\",\"\",'Analysis 103L'!BE47)","v":""},{"$f":"IFERROR(VLOOKUP($A221,Controls!$AC$7:$AD$20,2,FALSE)*B221,\"\")","v":""},{"$f":"IF(Controls!B26=\"\",\"\",Controls!B26)","v":0}]
[{"$f":"IF(Controls!I27=\"\",\"\",IF(LEFT(Controls!I27, 6)=\"Motion\", Controls!BT27,Controls!I27))","v":""},{"$f":"IF(LEFT(A222, 6)=\"Motion\", Controls!F27, (IF(Controls!K27=\"\",\"\",Controls!K27)))","v":""},{"$f":"IF(LEFT(A222, 6)=\"Motion\", Controls!L27, IF(Controls!M27=\"\",\"\",Controls!M27))","v":""},{"$f":"IF(Controls!R27=\"\",\"\",Controls!R27)","v":""},{"$f":"IF(Controls!K27=\"\",IF(RIGHT(Controls!D27, 4)=\"Case\", Controls!T27, \"\"),Controls!W27)","v":""},{"$f":"IF(E222=\"\",\"\",'Analysis 103L'!BE48)","v":""},{"$f":"IFERROR(VLOOKUP($A222,Controls!$AC$7:$AD$20,2,FALSE)*B222,\"\")","v":""},{"$f":"IF(Controls!B27=\"\",\"\",Controls!B27)","v":0}]
[{"$f":"IF(Controls!I28=\"\",\"\",IF(LEFT(Controls!I28, 6)=\"Motion\", Controls!BT28,Controls!I28))","v":""},{"$f":"IF(LEFT(A223, 6)=\"Motion\", Controls!F28, (IF(Controls!K28=\"\",\"\",Controls!K28)))","v":""},{"$f":"IF(LEFT(A223, 6)=\"Motion\", Controls!L28, IF(Controls!M28=\"\",\"\",Controls!M28))","v":""},{"$f":"IF(Controls!R28=\"\",\"\",Controls!R28)","v":""},{"$f":"IF(Controls!K28=\"\",IF(RIGHT(Controls!D28, 4)=\"Case\", Controls!T28, \"\"),Controls!W28)","v":""},{"$f":"IF(E223=\"\",\"\",'Analysis 103L'!BE49)","v":""},{"$f":"IFERROR(VLOOKUP($A223,Controls!$AC$7:$AD$20,2,FALSE)*B223,\"\")","v":""},{"$f":"IF(Controls!B28=\"\",\"\",Controls!B28)","v":0}]
[{"$f":"IF(Controls!I29=\"\",\"\",IF(LEFT(Controls!I29, 6)=\"Motion\", Controls!BT29,Controls!I29))","v":""},{"$f":"IF(LEFT(A224, 6)=\"Motion\", Controls!F29, (IF(Controls!K29=\"\",\"\",Controls!K29)))","v":""},{"$f":"IF(LEFT(A224, 6)=\"Motion\", Controls!L29, IF(Controls!M29=\"\",\"\",Controls!M29))","v":""},{"$f":"IF(Controls!R29=\"\",\"\",Controls!R29)","v":""},{"$f":"IF(Controls!K29=\"\",IF(RIGHT(Controls!D29, 4)=\"Case\", Controls!T29, \"\"),Controls!W29)","v":""},{"$f":"IF(E224=\"\",\"\",'Analysis 103L'!BE50)","v":""},{"$f":"IFERROR(VLOOKUP($A224,Controls!$AC$7:$AD$20,2,FALSE)*B224,\"\")","v":""},{"$f":"IF(Controls!B29=\"\",\"\",Controls!B29)","v":0}]
[{"$f":"IF(Controls!I30=\"\",\"\",IF(LEFT(Controls!I30, 6)=\"Motion\", Controls!BT30,Controls!I30))","v":""},{"$f":"IF(LEFT(A225, 6)=\"Motion\", Controls!F30, (IF(Controls!K30=\"\",\"\",Controls!K30)))","v":""},{"$f":"IF(LEFT(A225, 6)=\"Motion\", Controls!L30, IF(Controls!M30=\"\",\"\",Controls!M30))","v":""},{"$f":"IF(Controls!R30=\"\",\"\",Controls!R30)","v":""},{"$f":"IF(Controls!K30=\"\",IF(RIGHT(Controls!D30, 4)=\"Case\", Controls!T30, \"\"),Controls!W30)","v":""},{"$f":"IF(E225=\"\",\"\",'Analysis 103L'!BE51)","v":""},{"$f":"IFERROR(VLOOKUP($A225,Controls!$AC$7:$AD$20,2,FALSE)*B225,\"\")","v":""},{"$f":"IF(Controls!B30=\"\",\"\",Controls!B30)","v":0}]
[{"$f":"IF(Controls!I31=\"\",\"\",IF(LEFT(Controls!I31, 6)=\"Motion\", Controls!BT31,Controls!I31))","v":""},{"$f":"IF(LEFT(A226, 6)=\"Motion\", Controls!F31, (IF(Controls!K31=\"\",\"\",Controls!K31)))","v":""},{"$f":"IF(LEFT(A226, 6)=\"Motion\", Controls!L31, IF(Controls!M31=\"\",\"\",Controls!M31))","v":""},{"$f":"IF(Controls!R31=\"\",\"\",Controls!R31)","v":""},{"$f":"IF(Controls!K31=\"\",IF(RIGHT(Controls!D31, 4)=\"Case\", Controls!T31, \"\"),Controls!W31)","v":""},{"$f":"IF(E226=\"\",\"\",'Analysis 103L'!BE52)","v":""},{"$f":"IFERROR(VLOOKUP($A226,Controls!$AC$7:$AD$20,2,FALSE)*B226,\"\")","v":""},{"$f":"IF(Controls!B31=\"\",\"\",Controls!B31)","v":0}]
[{"$f":"IF(Controls!I32=\"\",\"\",IF(LEFT(Controls!I32, 6)=\"Motion\", Controls!BT32,Controls!I32))","v":""},{"$f":"IF(LEFT(A227, 6)=\"Motion\", Controls!F32, (IF(Controls!K32=\"\",\"\",Controls!K32)))","v":""},{"$f":"IF(LEFT(A227, 6)=\"Motion\", Controls!L32, IF(Controls!M32=\"\",\"\",Controls!M32))","v":""},{"$f":"IF(Controls!R32=\"\",\"\",Controls!R32)","v":""},{"$f":"IF(Controls!K32=\"\",IF(RIGHT(Controls!D32, 4)=\"Case\", Controls!T32, \"\"),Controls!W32)","v":""},{"$f":"IF(E227=\"\",\"\",'Analysis 103L'!BE53)","v":""},{"$f":"IFERROR(VLOOKUP($A227,Controls!$AC$7:$AD$20,2,FALSE)*B227,\"\")","v":""},{"$f":"IF(Controls!B32=\"\",\"\",Controls!B32)","v":0}]
[{"$f":"IF(Controls!I33=\"\",\"\",IF(LEFT(Controls!I33, 6)=\"Motion\", Controls!BT33,Controls!I33))","v":""},{"$f":"IF(LEFT(A228, 6)=\"Motion\", Controls!F33, (IF(Controls!K33=\"\",\"\",Controls!K33)))","v":""},{"$f":"IF(LEFT(A228, 6)=\"Motion\", Controls!L33, IF(Controls!M33=\"\",\"\",Controls!M33))","v":""},{"$f":"IF(Controls!R33=\"\",\"\",Controls!R33)","v":""},{"$f":"IF(Controls!K33=\"\",IF(RIGHT(Controls!D33, 4)=\"Case\", Controls!T33, \"\"),Controls!W33)","v":""},{"$f":"IF(E228=\"\",\"\",'Analysis 103L'!BE54)","v":""},{"$f":"IFERROR(VLOOKUP($A228,Controls!$AC$7:$AD$20,2,FALSE)*B228,\"\")","v":""},{"$f":"IF(Controls!B33=\"\",\"\",Controls!B33)","v":0}]
[{"$f":"IF(Controls!I34=\"\",\"\",IF(LEFT(Controls!I34, 6)=\"Motion\", Controls!BT34,Controls!I34))","v":""},{"$f":"IF(LEFT(A229, 6)=\"Motion\", Controls!F34, (IF(Controls!K34=\"\",\"\",Controls!K34)))","v":""},{"$f":"IF(LEFT(A229, 6)=\"Motion\", Controls!L34, IF(Controls!M34=\"\",\"\",Controls!M34))","v":""},{"$f":"IF(Controls!R34=\"\",\"\",Controls!R34)","v":""},{"$f":"IF(Controls!K34=\"\",IF(RIGHT(Controls!D34, 4)=\"Case\", Controls!T34, \"\"),Controls!W34)","v":""},{"$f":"IF(E229=\"\",\"\",'Analysis 103L'!BE55)","v":""},{"$f":"IFERROR(VLOOKUP($A229,Controls!$AC$7:$AD$20,2,FALSE)*B229,\"\")","v":""},{"$f":"IF(Controls!B34=\"\",\"\",Controls!B34)","v":0}]
[{"$f":"IF(Controls!I35=\"\",\"\",IF(LEFT(Controls!I35, 6)=\"Motion\", Controls!BT35,Controls!I35))","v":""},{"$f":"IF(LEFT(A230, 6)=\"Motion\", Controls!F35, (IF(Controls!K35=\"\",\"\",Controls!K35)))","v":""},{"$f":"IF(LEFT(A230, 6)=\"Motion\", Controls!L35, IF(Controls!M35=\"\",\"\",Controls!M35))","v":""},{"$f":"IF(Controls!R35=\"\",\"\",Controls!R35)","v":""},{"$f":"IF(Controls!K35=\"\",IF(RIGHT(Controls!D35, 4)=\"Case\", Controls!T35, \"\"),Controls!W35)","v":""},{"$f":"IF(E230=\"\",\"\",'Analysis 103L'!BE56)","v":""},{"$f":"IFERROR(VLOOKUP($A230,Controls!$AC$7:$AD$20,2,FALSE)*B230,\"\")","v":""},{"$f":"IF(Controls!B35=\"\",\"\",Controls!B35)","v":0}]
[{"$f":"IF(Controls!I36=\"\",\"\",IF(LEFT(Controls!I36, 6)=\"Motion\", Controls!BT36,Controls!I36))","v":""},{"$f":"IF(LEFT(A231, 6)=\"Motion\", Controls!F36, (IF(Controls!K36=\"\",\"\",Controls!K36)))","v":""},{"$f":"IF(LEFT(A231, 6)=\"Motion\", Controls!L36, IF(Controls!M36=\"\",\"\",Controls!M36))","v":""},{"$f":"IF(Controls!R36=\"\",\"\",Controls!R36)","v":""},{"$f":"IF(Controls!K36=\"\",IF(RIGHT(Controls!D36, 4)=\"Case\", Controls!T36, \"\"),Controls!W36)","v":""},{"$f":"IF(E231=\"\",\"\",'Analysis 103L'!BE57)","v":""},{"$f":"IFERROR(VLOOKUP($A231,Controls!$AC$7:$AD$20,2,FALSE)*B231,\"\")","v":""},{"$f":"IF(Controls!B36=\"\",\"\",Controls!B36)","v":0}]
[{"$f":"IF(Controls!I37=\"\",\"\",IF(LEFT(Controls!I37, 6)=\"Motion\", Controls!BT37,Controls!I37))","v":""},{"$f":"IF(LEFT(A232, 6)=\"Motion\", Controls!F37, (IF(Controls!K37=\"\",\"\",Controls!K37)))","v":""},{"$f":"IF(LEFT(A232, 6)=\"Motion\", Controls!L37, IF(Controls!M37=\"\",\"\",Controls!M37))","v":""},{"$f":"IF(Controls!R37=\"\",\"\",Controls!R37)","v":""},{"$f":"IF(Controls!K37=\"\",IF(RIGHT(Controls!D37, 4)=\"Case\", Controls!T37, \"\"),Controls!W37)","v":""},{"$f":"IF(E232=\"\",\"\",'Analysis 103L'!BE58)","v":""},{"$f":"IFERROR(VLOOKUP($A232,Controls!$AC$7:$AD$20,2,FALSE)*B232,\"\")","v":""},{"$f":"IF(Controls!B37=\"\",\"\",Controls!B37)","v":0}]
[{"$f":"IF(Controls!I38=\"\",\"\",IF(LEFT(Controls!I38, 6)=\"Motion\", Controls!BT38,Controls!I38))","v":""},{"$f":"IF(LEFT(A233, 6)=\"Motion\", Controls!F38, (IF(Controls!K38=\"\",\"\",Controls!K38)))","v":""},{"$f":"IF(LEFT(A233, 6)=\"Motion\", Controls!L38, IF(Controls!M38=\"\",\"\",Controls!M38))","v":""},{"$f":"IF(Controls!R38=\"\",\"\",Controls!R38)","v":""},{"$f":"IF(Controls!K38=\"\",IF(RIGHT(Controls!D38, 4)=\"Case\", Controls!T38, \"\"),Controls!W38)","v":""},{"$f":"IF(E233=\"\",\"\",'Analysis 103L'!BE59)","v":""},{"$f":"IFERROR(VLOOKUP($A233,Controls!$AC$7:$AD$20,2,FALSE)*B233,\"\")","v":""},{"$f":"IF(Controls!B38=\"\",\"\",Controls!B38)","v":0}]
[{"$f":"IF(Controls!I39=\"\",\"\",IF(LEFT(Controls!I39, 6)=\"Motion\", Controls!BT39,Controls!I39))","v":""},{"$f":"IF(LEFT(A234, 6)=\"Motion\", Controls!F39, (IF(Controls!K39=\"\",\"\",Controls!K39)))","v":""},{"$f":"IF(LEFT(A234, 6)=\"Motion\", Controls!L39, IF(Controls!M39=\"\",\"\",Controls!M39))","v":""},{"$f":"IF(Controls!R39=\"\",\"\",Controls!R39)","v":""},{"$f":"IF(Controls!K39=\"\",IF(RIGHT(Controls!D39, 4)=\"Case\", Controls!T39, \"\"),Controls!W39)","v":""},{"$f":"IF(E234=\"\",\"\",'Analysis 103L'!BE60)","v":""},{"$f":"IFERROR(VLOOKUP($A234,Controls!$AC$7:$AD$20,2,FALSE)*B234,\"\")","v":""},{"$f":"IF(Controls!B39=\"\",\"\",Controls!B39)","v":0}]
[{"$f":"IF(Controls!I40=\"\",\"\",IF(LEFT(Controls!I40, 6)=\"Motion\", Controls!BT40,Controls!I40))","v":""},{"$f":"IF(LEFT(A235, 6)=\"Motion\", Controls!F40, (IF(Controls!K40=\"\",\"\",Controls!K40)))","v":""},{"$f":"IF(LEFT(A235, 6)=\"Motion\", Controls!L40, IF(Controls!M40=\"\",\"\",Controls!M40))","v":""},{"$f":"IF(Controls!R40=\"\",\"\",Controls!R40)","v":""},{"$f":"IF(Controls!K40=\"\",IF(RIGHT(Controls!D40, 4)=\"Case\", Controls!T40, \"\"),Controls!W40)","v":""},{"$f":"IF(E235=\"\",\"\",'Analysis 103L'!BE61)","v":""},{"$f":"IFERROR(VLOOKUP($A235,Controls!$AC$7:$AD$20,2,FALSE)*B235,\"\")","v":""},{"$f":"IF(Controls!B40=\"\",\"\",Controls!B40)","v":0}]
[{"$f":"IF(Controls!I41=\"\",\"\",IF(LEFT(Controls!I41, 6)=\"Motion\", Controls!BT41,Controls!I41))","v":""},{"$f":"IF(LEFT(A236, 6)=\"Motion\", Controls!F41, (IF(Controls!K41=\"\",\"\",Controls!K41)))","v":""},{"$f":"IF(LEFT(A236, 6)=\"Motion\", Controls!L41, IF(Controls!M41=\"\",\"\",Controls!M41))","v":""},{"$f":"IF(Controls!R41=\"\",\"\",Controls!R41)","v":""},{"$f":"IF(Controls!K41=\"\",IF(RIGHT(Controls!D41, 4)=\"Case\", Controls!T41, \"\"),Controls!W41)","v":""},{"$f":"IF(E236=\"\",\"\",'Analysis 103L'!BE62)","v":""},{"$f":"IFERROR(VLOOKUP($A236,Controls!$AC$7:$AD$20,2,FALSE)*B236,\"\")","v":""},{"$f":"IF(Controls!B41=\"\",\"\",Controls!B41)","v":0}]
[{"$f":"IF(Controls!I42=\"\",\"\",IF(LEFT(Controls!I42, 6)=\"Motion\", Controls!BT42,Controls!I42))","v":""},{"$f":"IF(LEFT(A237, 6)=\"Motion\", Controls!F42, (IF(Controls!K42=\"\",\"\",Controls!K42)))","v":""},{"$f":"IF(LEFT(A237, 6)=\"Motion\", Controls!L42, IF(Controls!M42=\"\",\"\",Controls!M42))","v":""},{"$f":"IF(Controls!R42=\"\",\"\",Controls!R42)","v":""},{"$f":"IF(Controls!K42=\"\",IF(RIGHT(Controls!D42, 4)=\"Case\", Controls!T42, \"\"),Controls!W42)","v":""},{"$f":"IF(E237=\"\",\"\",'Analysis 103L'!BE63)","v":""},{"$f":"IFERROR(VLOOKUP($A237,Controls!$AC$7:$AD$20,2,FALSE)*B237,\"\")","v":""},{"$f":"IF(Controls!B42=\"\",\"\",Controls!B42)","v":0}]
[{"$f":"IF(Controls!I43=\"\",\"\",IF(LEFT(Controls!I43, 6)=\"Motion\", Controls!BT43,Controls!I43))","v":""},{"$f":"IF(LEFT(A238, 6)=\"Motion\", Controls!F43, (IF(Controls!K43=\"\",\"\",Controls!K43)))","v":""},{"$f":"IF(LEFT(A238, 6)=\"Motion\", Controls!L43, IF(Controls!M43=\"\",\"\",Controls!M43))","v":""},{"$f":"IF(Controls!R43=\"\",\"\",Controls!R43)","v":""},{"$f":"IF(Controls!K43=\"\",IF(RIGHT(Controls!D43, 4)=\"Case\", Controls!T43, \"\"),Controls!W43)","v":""},{"$f":"IF(E238=\"\",\"\",'Analysis 103L'!BE64)","v":""},{"$f":"IFERROR(VLOOKUP($A238,Controls!$AC$7:$AD$20,2,FALSE)*B238,\"\")","v":""},{"$f":"IF(Controls!B43=\"\",\"\",Controls!B43)","v":0}]
[{"$f":"IF(Controls!I44=\"\",\"\",IF(LEFT(Controls!I44, 6)=\"Motion\", Controls!BT44,Controls!I44))","v":""},{"$f":"IF(LEFT(A239, 6)=\"Motion\", Controls!F44, (IF(Controls!K44=\"\",\"\",Controls!K44)))","v":""},{"$f":"IF(LEFT(A239, 6)=\"Motion\", Controls!L44, IF(Controls!M44=\"\",\"\",Controls!M44))","v":""},{"$f":"IF(Controls!R44=\"\",\"\",Controls!R44)","v":""},{"$f":"IF(Controls!K44=\"\",IF(RIGHT(Controls!D44, 4)=\"Case\", Controls!T44, \"\"),Controls!W44)","v":""},{"$f":"IF(E239=\"\",\"\",'Analysis 103L'!BE65)","v":""},{"$f":"IFERROR(VLOOKUP($A239,Controls!$AC$7:$AD$20,2,FALSE)*B239,\"\")","v":""},{"$f":"IF(Controls!B44=\"\",\"\",Controls!B44)","v":0}]
[{"$f":"IF(Controls!I45=\"\",\"\",IF(LEFT(Controls!I45, 6)=\"Motion\", Controls!BT45,Controls!I45))","v":""},{"$f":"IF(LEFT(A240, 6)=\"Motion\", Controls!F45, (IF(Controls!K45=\"\",\"\",Controls!K45)))","v":""},{"$f":"IF(LEFT(A240, 6)=\"Motion\", Controls!L45, IF(Controls!M45=\"\",\"\",Controls!M45))","v":""},{"$f":"IF(Controls!R45=\"\",\"\",Controls!R45)","v":""},{"$f":"IF(Controls!K45=\"\",IF(RIGHT(Controls!D45, 4)=\"Case\", Controls!T45, \"\"),Controls!W45)","v":""},{"$f":"IF(E240=\"\",\"\",'Analysis 103L'!BE66)","v":""},{"$f":"IFERROR(VLOOKUP($A240,Controls!$AC$7:$AD$20,2,FALSE)*B240,\"\")","v":""},{"$f":"IF(Controls!B45=\"\",\"\",Controls!B45)","v":0}]
[{"$f":"IF(Controls!I46=\"\",\"\",IF(LEFT(Controls!I46, 6)=\"Motion\", Controls!BT46,Controls!I46))","v":""},{"$f":"IF(LEFT(A241, 6)=\"Motion\", Controls!F46, (IF(Controls!K46=\"\",\"\",Controls!K46)))","v":""},{"$f":"IF(LEFT(A241, 6)=\"Motion\", Controls!L46, IF(Controls!M46=\"\",\"\",Controls!M46))","v":""},{"$f":"IF(Controls!R46=\"\",\"\",Controls!R46)","v":""},{"$f":"IF(Controls!K46=\"\",IF(RIGHT(Controls!D46, 4)=\"Case\", Controls!T46, \"\"),Controls!W46)","v":""},{"$f":"IF(E241=\"\",\"\",'Analysis 103L'!BE67)","v":""},{"$f":"IFERROR(VLOOKUP($A241,Controls!$AC$7:$AD$20,2,FALSE)*B241,\"\")","v":""},{"$f":"IF(Controls!B46=\"\",\"\",Controls!B46)","v":0}]
[{"$f":"IF(Controls!I47=\"\",\"\",IF(LEFT(Controls!I47, 6)=\"Motion\", Controls!BT47,Controls!I47))","v":""},{"$f":"IF(LEFT(A242, 6)=\"Motion\", Controls!F47, (IF(Controls!K47=\"\",\"\",Controls!K47)))","v":""},{"$f":"IF(LEFT(A242, 6)=\"Motion\", Controls!L47, IF(Controls!M47=\"\",\"\",Controls!M47))","v":""},{"$f":"IF(Controls!R47=\"\",\"\",Controls!R47)","v":""},{"$f":"IF(Controls!K47=\"\",IF(RIGHT(Controls!D47, 4)=\"Case\", Controls!T47, \"\"),Controls!W47)","v":""},{"$f":"IF(E242=\"\",\"\",'Analysis 103L'!BE68)","v":""},{"$f":"IFERROR(VLOOKUP($A242,Controls!$AC$7:$AD$20,2,FALSE)*B242,\"\")","v":""},{"$f":"IF(Controls!B47=\"\",\"\",Controls!B47)","v":0}]
[{"$f":"IF(Controls!I48=\"\",\"\",IF(LEFT(Controls!I48, 6)=\"Motion\", Controls!BT48,Controls!I48))","v":""},{"$f":"IF(LEFT(A243, 6)=\"Motion\", Controls!F48, (IF(Controls!K48=\"\",\"\",Controls!K48)))","v":""},{"$f":"IF(LEFT(A243, 6)=\"Motion\", Controls!L48, IF(Controls!M48=\"\",\"\",Controls!M48))","v":""},{"$f":"IF(Controls!R48=\"\",\"\",Controls!R48)","v":""},{"$f":"IF(Controls!K48=\"\",IF(RIGHT(Controls!D48, 4)=\"Case\", Controls!T48, \"\"),Controls!W48)","v":""},{"$f":"IF(E243=\"\",\"\",'Analysis 103L'!BE69)","v":""},{"$f":"IFERROR(VLOOKUP($A243,Controls!$AC$7:$AD$20,2,FALSE)*B243,\"\")","v":""},{"$f":"IF(Controls!B48=\"\",\"\",Controls!B48)","v":0}]
[{"$f":"IF(Controls!I49=\"\",\"\",IF(LEFT(Controls!I49, 6)=\"Motion\", Controls!BT49,Controls!I49))","v":""},{"$f":"IF(LEFT(A244, 6)=\"Motion\", Controls!F49, (IF(Controls!K49=\"\",\"\",Controls!K49)))","v":""},{"$f":"IF(LEFT(A244, 6)=\"Motion\", Controls!L49, IF(Controls!M49=\"\",\"\",Controls!M49))","v":""},{"$f":"IF(Controls!R49=\"\",\"\",Controls!R49)","v":""},{"$f":"IF(Controls!K49=\"\",IF(RIGHT(Controls!D49, 4)=\"Case\", Controls!T49, \"\"),Controls!W49)","v":""},{"$f":"IF(E244=\"\",\"\",'Analysis 103L'!BE70)","v":""},{"$f":"IFERROR(VLOOKUP($A244,Controls!$AC$7:$AD$20,2,FALSE)*B244,\"\")","v":""},{"$f":"IF(Controls!B49=\"\",\"\",Controls!B49)","v":0}]
[{"$f":"IF(Controls!I50=\"\",\"\",IF(LEFT(Controls!I50, 6)=\"Motion\", Controls!BT50,Controls!I50))","v":""},{"$f":"IF(LEFT(A245, 6)=\"Motion\", Controls!F50, (IF(Controls!K50=\"\",\"\",Controls!K50)))","v":""},{"$f":"IF(LEFT(A245, 6)=\"Motion\", Controls!L50, IF(Controls!M50=\"\",\"\",Controls!M50))","v":""},{"$f":"IF(Controls!R50=\"\",\"\",Controls!R50)","v":""},{"$f":"IF(Controls!K50=\"\",IF(RIGHT(Controls!D50, 4)=\"Case\", Controls!T50, \"\"),Controls!W50)","v":""},{"$f":"IF(E245=\"\",\"\",'Analysis 103L'!BE71)","v":""},{"$f":"IFERROR(VLOOKUP($A245,Controls!$AC$7:$AD$20,2,FALSE)*B245,\"\")","v":""},{"$f":"IF(Controls!B50=\"\",\"\",Controls!B50)","v":0}]
[{"$f":"IF(Controls!I51=\"\",\"\",IF(LEFT(Controls!I51, 6)=\"Motion\", Controls!BT51,Controls!I51))","v":""},{"$f":"IF(LEFT(A246, 6)=\"Motion\", Controls!F51, (IF(Controls!K51=\"\",\"\",Controls!K51)))","v":""},{"$f":"IF(LEFT(A246, 6)=\"Motion\", Controls!L51, IF(Controls!M51=\"\",\"\",Controls!M51))","v":""},{"$f":"IF(Controls!R51=\"\",\"\",Controls!R51)","v":""},{"$f":"IF(Controls!K51=\"\",IF(RIGHT(Controls!D51, 4)=\"Case\", Controls!T51, \"\"),Controls!W51)","v":""},{"$f":"IF(E246=\"\",\"\",'Analysis 103L'!BE72)","v":""},{"$f":"IFERROR(VLOOKUP($A246,Controls!$AC$7:$AD$20,2,FALSE)*B246,\"\")","v":""},{"$f":"IF(Controls!B51=\"\",\"\",Controls!B51)","v":0}]
[{"$f":"IF(Controls!I52=\"\",\"\",IF(LEFT(Controls!I52, 6)=\"Motion\", Controls!BT52,Controls!I52))","v":""},{"$f":"IF(LEFT(A247, 6)=\"Motion\", Controls!F52, (IF(Controls!K52=\"\",\"\",Controls!K52)))","v":""},{"$f":"IF(LEFT(A247, 6)=\"Motion\", Controls!L52, IF(Controls!M52=\"\",\"\",Controls!M52))","v":""},{"$f":"IF(Controls!R52=\"\",\"\",Controls!R52)","v":""},{"$f":"IF(Controls!K52=\"\",IF(RIGHT(Controls!D52, 4)=\"Case\", Controls!T52, \"\"),Controls!W52)","v":""},{"$f":"IF(E247=\"\",\"\",'Analysis 103L'!BE73)","v":""},{"$f":"IFERROR(VLOOKUP($A247,Controls!$AC$7:$AD$20,2,FALSE)*B247,\"\")","v":""},{"$f":"IF(Controls!B52=\"\",\"\",Controls!B52)","v":0}]
[{"$f":"IF(Controls!I53=\"\",\"\",IF(LEFT(Controls!I53, 6)=\"Motion\", Controls!BT53,Controls!I53))","v":""},{"$f":"IF(LEFT(A248, 6)=\"Motion\", Controls!F53, (IF(Controls!K53=\"\",\"\",Controls!K53)))","v":""},{"$f":"IF(LEFT(A248, 6)=\"Motion\", Controls!L53, IF(Controls!M53=\"\",\"\",Controls!M53))","v":""},{"$f":"IF(Controls!R53=\"\",\"\",Controls!R53)","v":""},{"$f":"IF(Controls!K53=\"\",IF(RIGHT(Controls!D53, 4)=\"Case\", Controls!T53, \"\"),Controls!W53)","v":""},{"$f":"IF(E248=\"\",\"\",'Analysis 103L'!BE74)","v":""},{"$f":"IFERROR(VLOOKUP($A248,Controls!$AC$7:$AD$20,2,FALSE)*B248,\"\")","v":""},{"$f":"IF(Controls!B53=\"\",\"\",Controls!B53)","v":0}]
[{"$f":"IF(Controls!I54=\"\",\"\",IF(LEFT(Controls!I54, 6)=\"Motion\", Controls!BT54,Controls!I54))","v":""},{"$f":"IF(LEFT(A249, 6)=\"Motion\", Controls!F54, (IF(Controls!K54=\"\",\"\",Controls!K54)))","v":""},{"$f":"IF(LEFT(A249, 6)=\"Motion\", Controls!L54, IF(Controls!M54=\"\",\"\",Controls!M54))","v":""},{"$f":"IF(Controls!R54=\"\",\"\",Controls!R54)","v":""},{"$f":"IF(Controls!K54=\"\",IF(RIGHT(Controls!D54, 4)=\"Case\", Controls!T54, \"\"),Controls!W54)","v":""},{"$f":"IF(E249=\"\",\"\",'Analysis 103L'!BE75)","v":""},{"$f":"IFERROR(VLOOKUP($A249,Controls!$AC$7:$AD$20,2,FALSE)*B249,\"\")","v":""},{"$f":"IF(Controls!B54=\"\",\"\",Controls!B54)","v":0}]
[{"$f":"IF(Controls!I55=\"\",\"\",IF(LEFT(Controls!I55, 6)=\"Motion\", Controls!BT55,Controls!I55))","v":""},{"$f":"IF(LEFT(A250, 6)=\"Motion\", Controls!F55, (IF(Controls!K55=\"\",\"\",Controls!K55)))","v":""},{"$f":"IF(LEFT(A250, 6)=\"Motion\", Controls!L55, IF(Controls!M55=\"\",\"\",Controls!M55))","v":""},{"$f":"IF(Controls!R55=\"\",\"\",Controls!R55)","v":""},{"$f":"IF(Controls!K55=\"\",IF(RIGHT(Controls!D55, 4)=\"Case\", Controls!T55, \"\"),Controls!W55)","v":""},{"$f":"IF(E250=\"\",\"\",'Analysis 103L'!BE76)","v":""},{"$f":"IFERROR(VLOOKUP($A250,Controls!$AC$7:$AD$20,2,FALSE)*B250,\"\")","v":""},{"$f":"IF(Controls!B55=\"\",\"\",Controls!B55)","v":0}]
[{"$f":"IF(Controls!I56=\"\",\"\",IF(LEFT(Controls!I56, 6)=\"Motion\", Controls!BT56,Controls!I56))","v":""},{"$f":"IF(LEFT(A251, 6)=\"Motion\", Controls!F56, (IF(Controls!K56=\"\",\"\",Controls!K56)))","v":""},{"$f":"IF(LEFT(A251, 6)=\"Motion\", Controls!L56, IF(Controls!M56=\"\",\"\",Controls!M56))","v":""},{"$f":"IF(Controls!R56=\"\",\"\",Controls!R56)","v":""},{"$f":"IF(Controls!K56=\"\",IF(RIGHT(Controls!D56, 4)=\"Case\", Controls!T56, \"\"),Controls!W56)","v":""},{"$f":"IF(E251=\"\",\"\",'Analysis 103L'!BE77)","v":""},{"$f":"IFERROR(VLOOKUP($A251,Controls!$AC$7:$AD$20,2,FALSE)*B251,\"\")","v":""},{"$f":"IF(Controls!B56=\"\",\"\",Controls!B56)","v":0}]
[{"$f":"IF(Controls!I57=\"\",\"\",IF(LEFT(Controls!I57, 6)=\"Motion\", Controls!BT57,Controls!I57))","v":""},{"$f":"IF(LEFT(A252, 6)=\"Motion\", Controls!F57, (IF(Controls!K57=\"\",\"\",Controls!K57)))","v":""},{"$f":"IF(LEFT(A252, 6)=\"Motion\", Controls!L57, IF(Controls!M57=\"\",\"\",Controls!M57))","v":""},{"$f":"IF(Controls!R57=\"\",\"\",Controls!R57)","v":""},{"$f":"IF(Controls!K57=\"\",IF(RIGHT(Controls!D57, 4)=\"Case\", Controls!T57, \"\"),Controls!W57)","v":""},{"$f":"IF(E252=\"\",\"\",'Analysis 103L'!BE78)","v":""},{"$f":"IFERROR(VLOOKUP($A252,Controls!$AC$7:$AD$20,2,FALSE)*B252,\"\")","v":""},{"$f":"IF(Controls!B57=\"\",\"\",Controls!B57)","v":0}]
[{"$f":"IF(Controls!I58=\"\",\"\",IF(LEFT(Controls!I58, 6)=\"Motion\", Controls!BT58,Controls!I58))","v":""},{"$f":"IF(LEFT(A253, 6)=\"Motion\", Controls!F58, (IF(Controls!K58=\"\",\"\",Controls!K58)))","v":""},{"$f":"IF(LEFT(A253, 6)=\"Motion\", Controls!L58, IF(Controls!M58=\"\",\"\",Controls!M58))","v":""},{"$f":"IF(Controls!R58=\"\",\"\",Controls!R58)","v":""},{"$f":"IF(Controls!K58=\"\",IF(RIGHT(Controls!D58, 4)=\"Case\", Controls!T58, \"\"),Controls!W58)","v":""},{"$f":"IF(E253=\"\",\"\",'Analysis 103L'!BE79)","v":""},{"$f":"IFERROR(VLOOKUP($A253,Controls!$AC$7:$AD$20,2,FALSE)*B253,\"\")","v":""},{"$f":"IF(Controls!B58=\"\",\"\",Controls!B58)","v":0}]
[{"$f":"IF(Controls!I59=\"\",\"\",IF(LEFT(Controls!I59, 6)=\"Motion\", Controls!BT59,Controls!I59))","v":""},{"$f":"IF(LEFT(A254, 6)=\"Motion\", Controls!F59, (IF(Controls!K59=\"\",\"\",Controls!K59)))","v":""},{"$f":"IF(LEFT(A254, 6)=\"Motion\", Controls!L59, IF(Controls!M59=\"\",\"\",Controls!M59))","v":""},{"$f":"IF(Controls!R59=\"\",\"\",Controls!R59)","v":""},{"$f":"IF(Controls!K59=\"\",IF(RIGHT(Controls!D59, 4)=\"Case\", Controls!T59, \"\"),Controls!W59)","v":""},{"$f":"IF(E254=\"\",\"\",'Analysis 103L'!BE80)","v":""},{"$f":"IFERROR(VLOOKUP($A254,Controls!$AC$7:$AD$20,2,FALSE)*B254,\"\")","v":""},{"$f":"IF(Controls!B59=\"\",\"\",Controls!B59)","v":0}]
[{"$f":"IF(Controls!I60=\"\",\"\",IF(LEFT(Controls!I60, 6)=\"Motion\", Controls!BT60,Controls!I60))","v":""},{"$f":"IF(LEFT(A255, 6)=\"Motion\", Controls!F60, (IF(Controls!K60=\"\",\"\",Controls!K60)))","v":""},{"$f":"IF(LEFT(A255, 6)=\"Motion\", Controls!L60, IF(Controls!M60=\"\",\"\",Controls!M60))","v":""},{"$f":"IF(Controls!R60=\"\",\"\",Controls!R60)","v":""},{"$f":"IF(Controls!K60=\"\",IF(RIGHT(Controls!D60, 4)=\"Case\", Controls!T60, \"\"),Controls!W60)","v":""},{"$f":"IF(E255=\"\",\"\",'Analysis 103L'!BE81)","v":""},{"$f":"IFERROR(VLOOKUP($A255,Controls!$AC$7:$AD$20,2,FALSE)*B255,\"\")","v":""},{"$f":"IF(Controls!B60=\"\",\"\",Controls!B60)","v":0}]
[{"$f":"IF(Controls!I61=\"\",\"\",IF(LEFT(Controls!I61, 6)=\"Motion\", Controls!BT61,Controls!I61))","v":""},{"$f":"IF(LEFT(A256, 6)=\"Motion\", Controls!F61, (IF(Controls!K61=\"\",\"\",Controls!K61)))","v":""},{"$f":"IF(LEFT(A256, 6)=\"Motion\", Controls!L61, IF(Controls!M61=\"\",\"\",Controls!M61))","v":""},{"$f":"IF(Controls!R61=\"\",\"\",Controls!R61)","v":""},{"$f":"IF(Controls!K61=\"\",IF(RIGHT(Controls!D61, 4)=\"Case\", Controls!T61, \"\"),Controls!W61)","v":""},{"$f":"IF(E256=\"\",\"\",'Analysis 103L'!BE82)","v":""},{"$f":"IFERROR(VLOOKUP($A256,Controls!$AC$7:$AD$20,2,FALSE)*B256,\"\")","v":""},{"$f":"IF(Controls!B61=\"\",\"\",Controls!B61)","v":0}]
[{"$f":"IF(Controls!I62=\"\",\"\",IF(LEFT(Controls!I62, 6)=\"Motion\", Controls!BT62,Controls!I62))","v":""},{"$f":"IF(LEFT(A257, 6)=\"Motion\", Controls!F62, (IF(Controls!K62=\"\",\"\",Controls!K62)))","v":""},{"$f":"IF(LEFT(A257, 6)=\"Motion\", Controls!L62, IF(Controls!M62=\"\",\"\",Controls!M62))","v":""},{"$f":"IF(Controls!R62=\"\",\"\",Controls!R62)","v":""},{"$f":"IF(Controls!K62=\"\",IF(RIGHT(Controls!D62, 4)=\"Case\", Controls!T62, \"\"),Controls!W62)","v":""},{"$f":"IF(E257=\"\",\"\",'Analysis 103L'!BE83)","v":""},{"$f":"IFERROR(VLOOKUP($A257,Controls!$AC$7:$AD$20,2,FALSE)*B257,\"\")","v":""},{"$f":"IF(Controls!B62=\"\",\"\",Controls!B62)","v":0}]
[{"$f":"IF(Controls!I63=\"\",\"\",IF(LEFT(Controls!I63, 6)=\"Motion\", Controls!BT63,Controls!I63))","v":""},{"$f":"IF(LEFT(A258, 6)=\"Motion\", Controls!F63, (IF(Controls!K63=\"\",\"\",Controls!K63)))","v":""},{"$f":"IF(LEFT(A258, 6)=\"Motion\", Controls!L63, IF(Controls!M63=\"\",\"\",Controls!M63))","v":""},{"$f":"IF(Controls!R63=\"\",\"\",Controls!R63)","v":""},{"$f":"IF(Controls!K63=\"\",IF(RIGHT(Controls!D63, 4)=\"Case\", Controls!T63, \"\"),Controls!W63)","v":""},{"$f":"IF(E258=\"\",\"\",'Analysis 103L'!BE84)","v":""},{"$f":"IFERROR(VLOOKUP($A258,Controls!$AC$7:$AD$20,2,FALSE)*B258,\"\")","v":""},{"$f":"IF(Controls!B63=\"\",\"\",Controls!B63)","v":0}]
[{"$f":"IF(Controls!I64=\"\",\"\",IF(LEFT(Controls!I64, 6)=\"Motion\", Controls!BT64,Controls!I64))","v":""},{"$f":"IF(LEFT(A259, 6)=\"Motion\", Controls!F64, (IF(Controls!K64=\"\",\"\",Controls!K64)))","v":""},{"$f":"IF(LEFT(A259, 6)=\"Motion\", Controls!L64, IF(Controls!M64=\"\",\"\",Controls!M64))","v":""},{"$f":"IF(Controls!R64=\"\",\"\",Controls!R64)","v":""},{"$f":"IF(Controls!K64=\"\",IF(RIGHT(Controls!D64, 4)=\"Case\", Controls!T64, \"\"),Controls!W64)","v":""},{"$f":"IF(E259=\"\",\"\",'Analysis 103L'!BE85)","v":""},{"$f":"IFERROR(VLOOKUP($A259,Controls!$AC$7:$AD$20,2,FALSE)*B259,\"\")","v":""},{"$f":"IF(Controls!B64=\"\",\"\",Controls!B64)","v":0}]
[{"$f":"IF(Controls!I65=\"\",\"\",IF(LEFT(Controls!I65, 6)=\"Motion\", Controls!BT65,Controls!I65))","v":""},{"$f":"IF(LEFT(A260, 6)=\"Motion\", Controls!F65, (IF(Controls!K65=\"\",\"\",Controls!K65)))","v":""},{"$f":"IF(LEFT(A260, 6)=\"Motion\", Controls!L65, IF(Controls!M65=\"\",\"\",Controls!M65))","v":""},{"$f":"IF(Controls!R65=\"\",\"\",Controls!R65)","v":""},{"$f":"IF(Controls!K65=\"\",IF(RIGHT(Controls!D65, 4)=\"Case\", Controls!T65, \"\"),Controls!W65)","v":""},{"$f":"IF(E260=\"\",\"\",'Analysis 103L'!BE86)","v":""},{"$f":"IFERROR(VLOOKUP($A260,Controls!$AC$7:$AD$20,2,FALSE)*B260,\"\")","v":""},{"$f":"IF(Controls!B65=\"\",\"\",Controls!B65)","v":0}]
[{"$f":"IF(Controls!I66=\"\",\"\",IF(LEFT(Controls!I66, 6)=\"Motion\", Controls!BT66,Controls!I66))","v":""},{"$f":"IF(LEFT(A261, 6)=\"Motion\", Controls!F66, (IF(Controls!K66=\"\",\"\",Controls!K66)))","v":""},{"$f":"IF(LEFT(A261, 6)=\"Motion\", Controls!L66, IF(Controls!M66=\"\",\"\",Controls!M66))","v":""},{"$f":"IF(Controls!R66=\"\",\"\",Controls!R66)","v":""},{"$f":"IF(Controls!K66=\"\",IF(RIGHT(Controls!D66, 4)=\"Case\", Controls!T66, \"\"),Controls!W66)","v":""},{"$f":"IF(E261=\"\",\"\",'Analysis 103L'!BE87)","v":""},{"$f":"IFERROR(VLOOKUP($A261,Controls!$AC$7:$AD$20,2,FALSE)*B261,\"\")","v":""},{"$f":"IF(Controls!B66=\"\",\"\",Controls!B66)","v":0}]
[{"$f":"IF(Controls!I67=\"\",\"\",IF(LEFT(Controls!I67, 6)=\"Motion\", Controls!BT67,Controls!I67))","v":""},{"$f":"IF(LEFT(A262, 6)=\"Motion\", Controls!F67, (IF(Controls!K67=\"\",\"\",Controls!K67)))","v":""},{"$f":"IF(LEFT(A262, 6)=\"Motion\", Controls!L67, IF(Controls!M67=\"\",\"\",Controls!M67))","v":""},{"$f":"IF(Controls!R67=\"\",\"\",Controls!R67)","v":""},{"$f":"IF(Controls!K67=\"\",IF(RIGHT(Controls!D67, 4)=\"Case\", Controls!T67, \"\"),Controls!W67)","v":""},{"$f":"IF(E262=\"\",\"\",'Analysis 103L'!BE88)","v":""},{"$f":"IFERROR(VLOOKUP($A262,Controls!$AC$7:$AD$20,2,FALSE)*B262,\"\")","v":""},{"$f":"IF(Controls!B67=\"\",\"\",Controls!B67)","v":0}]
[{"$f":"IF(Controls!I68=\"\",\"\",IF(LEFT(Controls!I68, 6)=\"Motion\", Controls!BT68,Controls!I68))","v":""},{"$f":"IF(LEFT(A263, 6)=\"Motion\", Controls!F68, (IF(Controls!K68=\"\",\"\",Controls!K68)))","v":""},{"$f":"IF(LEFT(A263, 6)=\"Motion\", Controls!L68, IF(Controls!M68=\"\",\"\",Controls!M68))","v":""},{"$f":"IF(Controls!R68=\"\",\"\",Controls!R68)","v":""},{"$f":"IF(Controls!K68=\"\",IF(RIGHT(Controls!D68, 4)=\"Case\", Controls!T68, \"\"),Controls!W68)","v":""},{"$f":"IF(E263=\"\",\"\",'Analysis 103L'!BE89)","v":""},{"$f":"IFERROR(VLOOKUP($A263,Controls!$AC$7:$AD$20,2,FALSE)*B263,\"\")","v":""},{"$f":"IF(Controls!B68=\"\",\"\",Controls!B68)","v":0}]
[{"$f":"IF(Controls!I69=\"\",\"\",IF(LEFT(Controls!I69, 6)=\"Motion\", Controls!BT69,Controls!I69))","v":""},{"$f":"IF(LEFT(A264, 6)=\"Motion\", Controls!F69, (IF(Controls!K69=\"\",\"\",Controls!K69)))","v":""},{"$f":"IF(LEFT(A264, 6)=\"Motion\", Controls!L69, IF(Controls!M69=\"\",\"\",Controls!M69))","v":""},{"$f":"IF(Controls!R69=\"\",\"\",Controls!R69)","v":""},{"$f":"IF(Controls!K69=\"\",IF(RIGHT(Controls!D69, 4)=\"Case\", Controls!T69, \"\"),Controls!W69)","v":""},{"$f":"IF(E264=\"\",\"\",'Analysis 103L'!BE90)","v":""},{"$f":"IFERROR(VLOOKUP($A264,Controls!$AC$7:$AD$20,2,FALSE)*B264,\"\")","v":""},{"$f":"IF(Controls!B69=\"\",\"\",Controls!B69)","v":0}]
[{"$f":"IF(Controls!I70=\"\",\"\",IF(LEFT(Controls!I70, 6)=\"Motion\", Controls!BT70,Controls!I70))","v":""},{"$f":"IF(LEFT(A265, 6)=\"Motion\", Controls!F70, (IF(Controls!K70=\"\",\"\",Controls!K70)))","v":""},{"$f":"IF(LEFT(A265, 6)=\"Motion\", Controls!L70, IF(Controls!M70=\"\",\"\",Controls!M70))","v":""},{"$f":"IF(Controls!R70=\"\",\"\",Controls!R70)","v":""},{"$f":"IF(Controls!K70=\"\",IF(RIGHT(Controls!D70, 4)=\"Case\", Controls!T70, \"\"),Controls!W70)","v":""},{"$f":"IF(E265=\"\",\"\",'Analysis 103L'!BE91)","v":""},{"$f":"IFERROR(VLOOKUP($A265,Controls!$AC$7:$AD$20,2,FALSE)*B265,\"\")","v":""},{"$f":"IF(Controls!B70=\"\",\"\",Controls!B70)","v":0}]
[{"$f":"IF(Controls!I71=\"\",\"\",IF(LEFT(Controls!I71, 6)=\"Motion\", Controls!BT71,Controls!I71))","v":""},{"$f":"IF(LEFT(A266, 6)=\"Motion\", Controls!F71, (IF(Controls!K71=\"\",\"\",Controls!K71)))","v":""},{"$f":"IF(LEFT(A266, 6)=\"Motion\", Controls!L71, IF(Controls!M71=\"\",\"\",Controls!M71))","v":""},{"$f":"IF(Controls!R71=\"\",\"\",Controls!R71)","v":""},{"$f":"IF(Controls!K71=\"\",IF(RIGHT(Controls!D71, 4)=\"Case\", Controls!T71, \"\"),Controls!W71)","v":""},{"$f":"IF(E266=\"\",\"\",'Analysis 103L'!BE92)","v":""},{"$f":"IFERROR(VLOOKUP($A266,Controls!$AC$7:$AD$20,2,FALSE)*B266,\"\")","v":""},{"$f":"IF(Controls!B71=\"\",\"\",Controls!B71)","v":0}]
[{"$f":"IF(Controls!I72=\"\",\"\",IF(LEFT(Controls!I72, 6)=\"Motion\", Controls!BT72,Controls!I72))","v":""},{"$f":"IF(LEFT(A267, 6)=\"Motion\", Controls!F72, (IF(Controls!K72=\"\",\"\",Controls!K72)))","v":""},{"$f":"IF(LEFT(A267, 6)=\"Motion\", Controls!L72, IF(Controls!M72=\"\",\"\",Controls!M72))","v":""},{"$f":"IF(Controls!R72=\"\",\"\",Controls!R72)","v":""},{"$f":"IF(Controls!K72=\"\",IF(RIGHT(Controls!D72, 4)=\"Case\", Controls!T72, \"\"),Controls!W72)","v":""},{"$f":"IF(E267=\"\",\"\",'Analysis 103L'!BE93)","v":""},{"$f":"IFERROR(VLOOKUP($A267,Controls!$AC$7:$AD$20,2,FALSE)*B267,\"\")","v":""},{"$f":"IF(Controls!B72=\"\",\"\",Controls!B72)","v":0}]
[{"$f":"IF(Controls!I73=\"\",\"\",IF(LEFT(Controls!I73, 6)=\"Motion\", Controls!BT73,Controls!I73))","v":""},{"$f":"IF(LEFT(A268, 6)=\"Motion\", Controls!F73, (IF(Controls!K73=\"\",\"\",Controls!K73)))","v":""},{"$f":"IF(LEFT(A268, 6)=\"Motion\", Controls!L73, IF(Controls!M73=\"\",\"\",Controls!M73))","v":""},{"$f":"IF(Controls!R73=\"\",\"\",Controls!R73)","v":""},{"$f":"IF(Controls!K73=\"\",IF(RIGHT(Controls!D73, 4)=\"Case\", Controls!T73, \"\"),Controls!W73)","v":""},{"$f":"IF(E268=\"\",\"\",'Analysis 103L'!BE94)","v":""},{"$f":"IFERROR(VLOOKUP($A268,Controls!$AC$7:$AD$20,2,FALSE)*B268,\"\")","v":""},{"$f":"IF(Controls!B73=\"\",\"\",Controls!B73)","v":0}]
[{"$f":"IF(Controls!I74=\"\",\"\",IF(LEFT(Controls!I74, 6)=\"Motion\", Controls!BT74,Controls!I74))","v":""},{"$f":"IF(LEFT(A269, 6)=\"Motion\", Controls!F74, (IF(Controls!K74=\"\",\"\",Controls!K74)))","v":""},{"$f":"IF(LEFT(A269, 6)=\"Motion\", Controls!L74, IF(Controls!M74=\"\",\"\",Controls!M74))","v":""},{"$f":"IF(Controls!R74=\"\",\"\",Controls!R74)","v":""},{"$f":"IF(Controls!K74=\"\",IF(RIGHT(Controls!D74, 4)=\"Case\", Controls!T74, \"\"),Controls!W74)","v":""},{"$f":"IF(E269=\"\",\"\",'Analysis 103L'!BE95)","v":""},{"$f":"IFERROR(VLOOKUP($A269,Controls!$AC$7:$AD$20,2,FALSE)*B269,\"\")","v":""},{"$f":"IF(Controls!B74=\"\",\"\",Controls!B74)","v":0}]
[{"$f":"IF(Controls!I75=\"\",\"\",IF(LEFT(Controls!I75, 6)=\"Motion\", Controls!BT75,Controls!I75))","v":""},{"$f":"IF(LEFT(A270, 6)=\"Motion\", Controls!F75, (IF(Controls!K75=\"\",\"\",Controls!K75)))","v":""},{"$f":"IF(LEFT(A270, 6)=\"Motion\", Controls!L75, IF(Controls!M75=\"\",\"\",Controls!M75))","v":""},{"$f":"IF(Controls!R75=\"\",\"\",Controls!R75)","v":""},{"$f":"IF(Controls!K75=\"\",IF(RIGHT(Controls!D75, 4)=\"Case\", Controls!T75, \"\"),Controls!W75)","v":""},{"$f":"IF(E270=\"\",\"\",'Analysis 103L'!BE96)","v":""},{"$f":"IFERROR(VLOOKUP($A270,Controls!$AC$7:$AD$20,2,FALSE)*B270,\"\")","v":""},{"$f":"IF(Controls!B75=\"\",\"\",Controls!B75)","v":0}]
[{"$f":"IF(Controls!I76=\"\",\"\",IF(LEFT(Controls!I76, 6)=\"Motion\", Controls!BT76,Controls!I76))","v":""},{"$f":"IF(LEFT(A271, 6)=\"Motion\", Controls!F76, (IF(Controls!K76=\"\",\"\",Controls!K76)))","v":""},{"$f":"IF(LEFT(A271, 6)=\"Motion\", Controls!L76, IF(Controls!M76=\"\",\"\",Controls!M76))","v":""},{"$f":"IF(Controls!R76=\"\",\"\",Controls!R76)","v":""},{"$f":"IF(Controls!K76=\"\",IF(RIGHT(Controls!D76, 4)=\"Case\", Controls!T76, \"\"),Controls!W76)","v":""},{"$f":"IF(E271=\"\",\"\",'Analysis 103L'!BE97)","v":""},{"$f":"IFERROR(VLOOKUP($A271,Controls!$AC$7:$AD$20,2,FALSE)*B271,\"\")","v":""},{"$f":"IF(Controls!B76=\"\",\"\",Controls!B76)","v":0}]
[{"$f":"IF(Controls!I77=\"\",\"\",IF(LEFT(Controls!I77, 6)=\"Motion\", Controls!BT77,Controls!I77))","v":""},{"$f":"IF(LEFT(A272, 6)=\"Motion\", Controls!F77, (IF(Controls!K77=\"\",\"\",Controls!K77)))","v":""},{"$f":"IF(LEFT(A272, 6)=\"Motion\", Controls!L77, IF(Controls!M77=\"\",\"\",Controls!M77))","v":""},{"$f":"IF(Controls!R77=\"\",\"\",Controls!R77)","v":""},{"$f":"IF(Controls!K77=\"\",IF(RIGHT(Controls!D77, 4)=\"Case\", Controls!T77, \"\"),Controls!W77)","v":""},{"$f":"IF(E272=\"\",\"\",'Analysis 103L'!BE98)","v":""},{"$f":"IFERROR(VLOOKUP($A272,Controls!$AC$7:$AD$20,2,FALSE)*B272,\"\")","v":""},{"$f":"IF(Controls!B77=\"\",\"\",Controls!B77)","v":0}]
[{"$f":"IF(Controls!I78=\"\",\"\",IF(LEFT(Controls!I78, 6)=\"Motion\", Controls!BT78,Controls!I78))","v":""},{"$f":"IF(LEFT(A273, 6)=\"Motion\", Controls!F78, (IF(Controls!K78=\"\",\"\",Controls!K78)))","v":""},{"$f":"IF(LEFT(A273, 6)=\"Motion\", Controls!L78, IF(Controls!M78=\"\",\"\",Controls!M78))","v":""},{"$f":"IF(Controls!R78=\"\",\"\",Controls!R78)","v":""},{"$f":"IF(Controls!K78=\"\",IF(RIGHT(Controls!D78, 4)=\"Case\", Controls!T78, \"\"),Controls!W78)","v":""},{"$f":"IF(E273=\"\",\"\",'Analysis 103L'!BE99)","v":""},{"$f":"IFERROR(VLOOKUP($A273,Controls!$AC$7:$AD$20,2,FALSE)*B273,\"\")","v":""},{"$f":"IF(Controls!B78=\"\",\"\",Controls!B78)","v":0}]
[{"$f":"IF(Controls!I79=\"\",\"\",IF(LEFT(Controls!I79, 6)=\"Motion\", Controls!BT79,Controls!I79))","v":""},{"$f":"IF(LEFT(A274, 6)=\"Motion\", Controls!F79, (IF(Controls!K79=\"\",\"\",Controls!K79)))","v":""},{"$f":"IF(LEFT(A274, 6)=\"Motion\", Controls!L79, IF(Controls!M79=\"\",\"\",Controls!M79))","v":""},{"$f":"IF(Controls!R79=\"\",\"\",Controls!R79)","v":""},{"$f":"IF(Controls!K79=\"\",IF(RIGHT(Controls!D79, 4)=\"Case\", Controls!T79, \"\"),Controls!W79)","v":""},{"$f":"IF(E274=\"\",\"\",'Analysis 103L'!BE100)","v":""},{"$f":"IFERROR(VLOOKUP($A274,Controls!$AC$7:$AD$20,2,FALSE)*B274,\"\")","v":""},{"$f":"IF(Controls!B79=\"\",\"\",Controls!B79)","v":0}]
[{"$f":"IF(Controls!I80=\"\",\"\",IF(LEFT(Controls!I80, 6)=\"Motion\", Controls!BT80,Controls!I80))","v":""},{"$f":"IF(LEFT(A275, 6)=\"Motion\", Controls!F80, (IF(Controls!K80=\"\",\"\",Controls!K80)))","v":""},{"$f":"IF(LEFT(A275, 6)=\"Motion\", Controls!L80, IF(Controls!M80=\"\",\"\",Controls!M80))","v":""},{"$f":"IF(Controls!R80=\"\",\"\",Controls!R80)","v":""},{"$f":"IF(Controls!K80=\"\",IF(RIGHT(Controls!D80, 4)=\"Case\", Controls!T80, \"\"),Controls!W80)","v":""},{"$f":"IF(E275=\"\",\"\",'Analysis 103L'!BE101)","v":""},{"$f":"IFERROR(VLOOKUP($A275,Controls!$AC$7:$AD$20,2,FALSE)*B275,\"\")","v":""},{"$f":"IF(Controls!B80=\"\",\"\",Controls!B80)","v":0}]
[{"$f":"IF(Controls!I81=\"\",\"\",IF(LEFT(Controls!I81, 6)=\"Motion\", Controls!BT81,Controls!I81))","v":""},{"$f":"IF(LEFT(A276, 6)=\"Motion\", Controls!F81, (IF(Controls!K81=\"\",\"\",Controls!K81)))","v":""},{"$f":"IF(LEFT(A276, 6)=\"Motion\", Controls!L81, IF(Controls!M81=\"\",\"\",Controls!M81))","v":""},{"$f":"IF(Controls!R81=\"\",\"\",Controls!R81)","v":""},{"$f":"IF(Controls!K81=\"\",IF(RIGHT(Controls!D81, 4)=\"Case\", Controls!T81, \"\"),Controls!W81)","v":""},{"$f":"IF(E276=\"\",\"\",'Analysis 103L'!BE102)","v":""},{"$f":"IFERROR(VLOOKUP($A276,Controls!$AC$7:$AD$20,2,FALSE)*B276,\"\")","v":""},{"$f":"IF(Controls!B81=\"\",\"\",Controls!B81)","v":0}]
[{"$f":"IF(Controls!I82=\"\",\"\",IF(LEFT(Controls!I82, 6)=\"Motion\", Controls!BT82,Controls!I82))","v":""},{"$f":"IF(LEFT(A277, 6)=\"Motion\", Controls!F82, (IF(Controls!K82=\"\",\"\",Controls!K82)))","v":""},{"$f":"IF(LEFT(A277, 6)=\"Motion\", Controls!L82, IF(Controls!M82=\"\",\"\",Controls!M82))","v":""},{"$f":"IF(Controls!R82=\"\",\"\",Controls!R82)","v":""},{"$f":"IF(Controls!K82=\"\",IF(RIGHT(Controls!D82, 4)=\"Case\", Controls!T82, \"\"),Controls!W82)","v":""},{"$f":"IF(E277=\"\",\"\",'Analysis 103L'!BE103)","v":""},{"$f":"IFERROR(VLOOKUP($A277,Controls!$AC$7:$AD$20,2,FALSE)*B277,\"\")","v":""},{"$f":"IF(Controls!B82=\"\",\"\",Controls!B82)","v":0}]
[{"$f":"IF(Controls!I83=\"\",\"\",IF(LEFT(Controls!I83, 6)=\"Motion\", Controls!BT83,Controls!I83))","v":""},{"$f":"IF(LEFT(A278, 6)=\"Motion\", Controls!F83, (IF(Controls!K83=\"\",\"\",Controls!K83)))","v":""},{"$f":"IF(LEFT(A278, 6)=\"Motion\", Controls!L83, IF(Controls!M83=\"\",\"\",Controls!M83))","v":""},{"$f":"IF(Controls!R83=\"\",\"\",Controls!R83)","v":""},{"$f":"IF(Controls!K83=\"\",IF(RIGHT(Controls!D83, 4)=\"Case\", Controls!T83, \"\"),Controls!W83)","v":""},{"$f":"IF(E278=\"\",\"\",'Analysis 103L'!BE104)","v":""},{"$f":"IFERROR(VLOOKUP($A278,Controls!$AC$7:$AD$20,2,FALSE)*B278,\"\")","v":""},{"$f":"IF(Controls!B83=\"\",\"\",Controls!B83)","v":0}]
[{"$f":"IF(Controls!I84=\"\",\"\",IF(LEFT(Controls!I84, 6)=\"Motion\", Controls!BT84,Controls!I84))","v":""},{"$f":"IF(LEFT(A279, 6)=\"Motion\", Controls!F84, (IF(Controls!K84=\"\",\"\",Controls!K84)))","v":""},{"$f":"IF(LEFT(A279, 6)=\"Motion\", Controls!L84, IF(Controls!M84=\"\",\"\",Controls!M84))","v":""},{"$f":"IF(Controls!R84=\"\",\"\",Controls!R84)","v":""},{"$f":"IF(Controls!K84=\"\",IF(RIGHT(Controls!D84, 4)=\"Case\", Controls!T84, \"\"),Controls!W84)","v":""},{"$f":"IF(E279=\"\",\"\",'Analysis 103L'!BE105)","v":""},{"$f":"IFERROR(VLOOKUP($A279,Controls!$AC$7:$AD$20,2,FALSE)*B279,\"\")","v":""},{"$f":"IF(Controls!B84=\"\",\"\",Controls!B84)","v":0}]
[{"$f":"IF(Controls!I85=\"\",\"\",IF(LEFT(Controls!I85, 6)=\"Motion\", Controls!BT85,Controls!I85))","v":""},{"$f":"IF(LEFT(A280, 6)=\"Motion\", Controls!F85, (IF(Controls!K85=\"\",\"\",Controls!K85)))","v":""},{"$f":"IF(LEFT(A280, 6)=\"Motion\", Controls!L85, IF(Controls!M85=\"\",\"\",Controls!M85))","v":""},{"$f":"IF(Controls!R85=\"\",\"\",Controls!R85)","v":""},{"$f":"IF(Controls!K85=\"\",IF(RIGHT(Controls!D85, 4)=\"Case\", Controls!T85, \"\"),Controls!W85)","v":""},{"$f":"IF(E280=\"\",\"\",'Analysis 103L'!BE106)","v":""},{"$f":"IFERROR(VLOOKUP($A280,Controls!$AC$7:$AD$20,2,FALSE)*B280,\"\")","v":""},{"$f":"IF(Controls!B85=\"\",\"\",Controls!B85)","v":0}]
[{"$f":"IF(Controls!I86=\"\",\"\",IF(LEFT(Controls!I86, 6)=\"Motion\", Controls!BT86,Controls!I86))","v":""},{"$f":"IF(LEFT(A281, 6)=\"Motion\", Controls!F86, (IF(Controls!K86=\"\",\"\",Controls!K86)))","v":""},{"$f":"IF(LEFT(A281, 6)=\"Motion\", Controls!L86, IF(Controls!M86=\"\",\"\",Controls!M86))","v":""},{"$f":"IF(Controls!R86=\"\",\"\",Controls!R86)","v":""},{"$f":"IF(Controls!K86=\"\",IF(RIGHT(Controls!D86, 4)=\"Case\", Controls!T86, \"\"),Controls!W86)","v":""},{"$f":"IF(E281=\"\",\"\",'Analysis 103L'!BE107)","v":""},{"$f":"IFERROR(VLOOKUP($A281,Controls!$AC$7:$AD$20,2,FALSE)*B281,\"\")","v":""},{"$f":"IF(Controls!B86=\"\",\"\",Controls!B86)","v":0}]
[{"$f":"IF(Controls!I87=\"\",\"\",IF(LEFT(Controls!I87, 6)=\"Motion\", Controls!BT87,Controls!I87))","v":""},{"$f":"IF(LEFT(A282, 6)=\"Motion\", Controls!F87, (IF(Controls!K87=\"\",\"\",Controls!K87)))","v":""},{"$f":"IF(LEFT(A282, 6)=\"Motion\", Controls!L87, IF(Controls!M87=\"\",\"\",Controls!M87))","v":""},{"$f":"IF(Controls!R87=\"\",\"\",Controls!R87)","v":""},{"$f":"IF(Controls!K87=\"\",IF(RIGHT(Controls!D87, 4)=\"Case\", Controls!T87, \"\"),Controls!W87)","v":""},{"$f":"IF(E282=\"\",\"\",'Analysis 103L'!BE108)","v":""},{"$f":"IFERROR(VLOOKUP($A282,Controls!$AC$7:$AD$20,2,FALSE)*B282,\"\")","v":""},{"$f":"IF(Controls!B87=\"\",\"\",Controls!B87)","v":0}]
[{"$f":"IF(Controls!I88=\"\",\"\",IF(LEFT(Controls!I88, 6)=\"Motion\", Controls!BT88,Controls!I88))","v":""},{"$f":"IF(LEFT(A283, 6)=\"Motion\", Controls!F88, (IF(Controls!K88=\"\",\"\",Controls!K88)))","v":""},{"$f":"IF(LEFT(A283, 6)=\"Motion\", Controls!L88, IF(Controls!M88=\"\",\"\",Controls!M88))","v":""},{"$f":"IF(Controls!R88=\"\",\"\",Controls!R88)","v":""},{"$f":"IF(Controls!K88=\"\",IF(RIGHT(Controls!D88, 4)=\"Case\", Controls!T88, \"\"),Controls!W88)","v":""},{"$f":"IF(E283=\"\",\"\",'Analysis 103L'!BE109)","v":""},{"$f":"IFERROR(VLOOKUP($A283,Controls!$AC$7:$AD$20,2,FALSE)*B283,\"\")","v":""},{"$f":"IF(Controls!B88=\"\",\"\",Controls!B88)","v":0}]
[{"$f":"IF(Controls!I89=\"\",\"\",IF(LEFT(Controls!I89, 6)=\"Motion\", Controls!BT89,Controls!I89))","v":""},{"$f":"IF(LEFT(A284, 6)=\"Motion\", Controls!F89, (IF(Controls!K89=\"\",\"\",Controls!K89)))","v":""},{"$f":"IF(LEFT(A284, 6)=\"Motion\", Controls!L89, IF(Controls!M89=\"\",\"\",Controls!M89))","v":""},{"$f":"IF(Controls!R89=\"\",\"\",Controls!R89)","v":""},{"$f":"IF(Controls!K89=\"\",IF(RIGHT(Controls!D89, 4)=\"Case\", Controls!T89, \"\"),Controls!W89)","v":""},{"$f":"IF(E284=\"\",\"\",'Analysis 103L'!BE110)","v":""},{"$f":"IFERROR(VLOOKUP($A284,Controls!$AC$7:$AD$20,2,FALSE)*B284,\"\")","v":""},{"$f":"IF(Controls!B89=\"\",\"\",Controls!B89)","v":0}]
[{"$f":"IF(Controls!I90=\"\",\"\",IF(LEFT(Controls!I90, 6)=\"Motion\", Controls!BT90,Controls!I90))","v":""},{"$f":"IF(LEFT(A285, 6)=\"Motion\", Controls!F90, (IF(Controls!K90=\"\",\"\",Controls!K90)))","v":""},{"$f":"IF(LEFT(A285, 6)=\"Motion\", Controls!L90, IF(Controls!M90=\"\",\"\",Controls!M90))","v":""},{"$f":"IF(Controls!R90=\"\",\"\",Controls!R90)","v":""},{"$f":"IF(Controls!K90=\"\",IF(RIGHT(Controls!D90, 4)=\"Case\", Controls!T90, \"\"),Controls!W90)","v":""},{"$f":"IF(E285=\"\",\"\",'Analysis 103L'!BE111)","v":""},{"$f":"IFERROR(VLOOKUP($A285,Controls!$AC$7:$AD$20,2,FALSE)*B285,\"\")","v":""},{"$f":"IF(Controls!B90=\"\",\"\",Controls!B90)","v":0}]
[{"$f":"IF(Controls!I91=\"\",\"\",IF(LEFT(Controls!I91, 6)=\"Motion\", Controls!BT91,Controls!I91))","v":""},{"$f":"IF(LEFT(A286, 6)=\"Motion\", Controls!F91, (IF(Controls!K91=\"\",\"\",Controls!K91)))","v":""},{"$f":"IF(LEFT(A286, 6)=\"Motion\", Controls!L91, IF(Controls!M91=\"\",\"\",Controls!M91))","v":""},{"$f":"IF(Controls!R91=\"\",\"\",Controls!R91)","v":""},{"$f":"IF(Controls!K91=\"\",IF(RIGHT(Controls!D91, 4)=\"Case\", Controls!T91, \"\"),Controls!W91)","v":""},{"$f":"IF(E286=\"\",\"\",'Analysis 103L'!BE112)","v":""},{"$f":"IFERROR(VLOOKUP($A286,Controls!$AC$7:$AD$20,2,FALSE)*B286,\"\")","v":""},{"$f":"IF(Controls!B91=\"\",\"\",Controls!B91)","v":0}]
[{"$f":"IF(Controls!I92=\"\",\"\",IF(LEFT(Controls!I92, 6)=\"Motion\", Controls!BT92,Controls!I92))","v":""},{"$f":"IF(LEFT(A287, 6)=\"Motion\", Controls!F92, (IF(Controls!K92=\"\",\"\",Controls!K92)))","v":""},{"$f":"IF(LEFT(A287, 6)=\"Motion\", Controls!L92, IF(Controls!M92=\"\",\"\",Controls!M92))","v":""},{"$f":"IF(Controls!R92=\"\",\"\",Controls!R92)","v":""},{"$f":"IF(Controls!K92=\"\",IF(RIGHT(Controls!D92, 4)=\"Case\", Controls!T92, \"\"),Controls!W92)","v":""},{"$f":"IF(E287=\"\",\"\",'Analysis 103L'!BE113)","v":""},{"$f":"IFERROR(VLOOKUP($A287,Controls!$AC$7:$AD$20,2,FALSE)*B287,\"\")","v":""},{"$f":"IF(Controls!B92=\"\",\"\",Controls!B92)","v":0}]
[{"$f":"IF(Controls!I93=\"\",\"\",IF(LEFT(Controls!I93, 6)=\"Motion\", Controls!BT93,Controls!I93))","v":""},{"$f":"IF(LEFT(A288, 6)=\"Motion\", Controls!F93, (IF(Controls!K93=\"\",\"\",Controls!K93)))","v":""},{"$f":"IF(LEFT(A288, 6)=\"Motion\", Controls!L93, IF(Controls!M93=\"\",\"\",Controls!M93))","v":""},{"$f":"IF(Controls!R93=\"\",\"\",Controls!R93)","v":""},{"$f":"IF(Controls!K93=\"\",IF(RIGHT(Controls!D93, 4)=\"Case\", Controls!T93, \"\"),Controls!W93)","v":""},{"$f":"IF(E288=\"\",\"\",'Analysis 103L'!BE114)","v":""},{"$f":"IFERROR(VLOOKUP($A288,Controls!$AC$7:$AD$20,2,FALSE)*B288,\"\")","v":""},{"$f":"IF(Controls!B93=\"\",\"\",Controls!B93)","v":0}]
[{"$f":"IF(Controls!I94=\"\",\"\",IF(LEFT(Controls!I94, 6)=\"Motion\", Controls!BT94,Controls!I94))","v":""},{"$f":"IF(LEFT(A289, 6)=\"Motion\", Controls!F94, (IF(Controls!K94=\"\",\"\",Controls!K94)))","v":""},{"$f":"IF(LEFT(A289, 6)=\"Motion\", Controls!L94, IF(Controls!M94=\"\",\"\",Controls!M94))","v":""},{"$f":"IF(Controls!R94=\"\",\"\",Controls!R94)","v":""},{"$f":"IF(Controls!K94=\"\",IF(RIGHT(Controls!D94, 4)=\"Case\", Controls!T94, \"\"),Controls!W94)","v":""},{"$f":"IF(E289=\"\",\"\",'Analysis 103L'!BE115)","v":""},{"$f":"IFERROR(VLOOKUP($A289,Controls!$AC$7:$AD$20,2,FALSE)*B289,\"\")","v":""},{"$f":"IF(Controls!B94=\"\",\"\",Controls!B94)","v":0}]
[{"$f":"IF(Controls!I95=\"\",\"\",IF(LEFT(Controls!I95, 6)=\"Motion\", Controls!BT95,Controls!I95))","v":""},{"$f":"IF(LEFT(A290, 6)=\"Motion\", Controls!F95, (IF(Controls!K95=\"\",\"\",Controls!K95)))","v":""},{"$f":"IF(LEFT(A290, 6)=\"Motion\", Controls!L95, IF(Controls!M95=\"\",\"\",Controls!M95))","v":""},{"$f":"IF(Controls!R95=\"\",\"\",Controls!R95)","v":""},{"$f":"IF(Controls!K95=\"\",IF(RIGHT(Controls!D95, 4)=\"Case\", Controls!T95, \"\"),Controls!W95)","v":""},{"$f":"IF(E290=\"\",\"\",'Analysis 103L'!BE116)","v":""},{"$f":"IFERROR(VLOOKUP($A290,Controls!$AC$7:$AD$20,2,FALSE)*B290,\"\")","v":""},{"$f":"IF(Controls!B95=\"\",\"\",Controls!B95)","v":0}]
[{"$f":"IF(Controls!I96=\"\",\"\",IF(LEFT(Controls!I96, 6)=\"Motion\", Controls!BT96,Controls!I96))","v":""},{"$f":"IF(LEFT(A291, 6)=\"Motion\", Controls!F96, (IF(Controls!K96=\"\",\"\",Controls!K96)))","v":""},{"$f":"IF(LEFT(A291, 6)=\"Motion\", Controls!L96, IF(Controls!M96=\"\",\"\",Controls!M96))","v":""},{"$f":"IF(Controls!R96=\"\",\"\",Controls!R96)","v":""},{"$f":"IF(Controls!K96=\"\",IF(RIGHT(Controls!D96, 4)=\"Case\", Controls!T96, \"\"),Controls!W96)","v":""},{"$f":"IF(E291=\"\",\"\",'Analysis 103L'!BE117)","v":""},{"$f":"IFERROR(VLOOKUP($A291,Controls!$AC$7:$AD$20,2,FALSE)*B291,\"\")","v":""},{"$f":"IF(Controls!B96=\"\",\"\",Controls!B96)","v":0}]
[{"$f":"IF(Controls!I97=\"\",\"\",IF(LEFT(Controls!I97, 6)=\"Motion\", Controls!BT97,Controls!I97))","v":""},{"$f":"IF(LEFT(A292, 6)=\"Motion\", Controls!F97, (IF(Controls!K97=\"\",\"\",Controls!K97)))","v":""},{"$f":"IF(LEFT(A292, 6)=\"Motion\", Controls!L97, IF(Controls!M97=\"\",\"\",Controls!M97))","v":""},{"$f":"IF(Controls!R97=\"\",\"\",Controls!R97)","v":""},{"$f":"IF(Controls!K97=\"\",IF(RIGHT(Controls!D97, 4)=\"Case\", Controls!T97, \"\"),Controls!W97)","v":""},{"$f":"IF(E292=\"\",\"\",'Analysis 103L'!BE118)","v":""},{"$f":"IFERROR(VLOOKUP($A292,Controls!$AC$7:$AD$20,2,FALSE)*B292,\"\")","v":""},{"$f":"IF(Controls!B97=\"\",\"\",Controls!B97)","v":0}]
[{"$f":"IF(Controls!I98=\"\",\"\",IF(LEFT(Controls!I98, 6)=\"Motion\", Controls!BT98,Controls!I98))","v":""},{"$f":"IF(LEFT(A293, 6)=\"Motion\", Controls!F98, (IF(Controls!K98=\"\",\"\",Controls!K98)))","v":""},{"$f":"IF(LEFT(A293, 6)=\"Motion\", Controls!L98, IF(Controls!M98=\"\",\"\",Controls!M98))","v":""},{"$f":"IF(Controls!R98=\"\",\"\",Controls!R98)","v":""},{"$f":"IF(Controls!K98=\"\",IF(RIGHT(Controls!D98, 4)=\"Case\", Controls!T98, \"\"),Controls!W98)","v":""},{"$f":"IF(E293=\"\",\"\",'Analysis 103L'!BE119)","v":""},{"$f":"IFERROR(VLOOKUP($A293,Controls!$AC$7:$AD$20,2,FALSE)*B293,\"\")","v":""},{"$f":"IF(Controls!B98=\"\",\"\",Controls!B98)","v":0}]
[{"$f":"IF(Controls!I99=\"\",\"\",IF(LEFT(Controls!I99, 6)=\"Motion\", Controls!BT99,Controls!I99))","v":""},{"$f":"IF(LEFT(A294, 6)=\"Motion\", Controls!F99, (IF(Controls!K99=\"\",\"\",Controls!K99)))","v":""},{"$f":"IF(LEFT(A294, 6)=\"Motion\", Controls!L99, IF(Controls!M99=\"\",\"\",Controls!M99))","v":""},{"$f":"IF(Controls!R99=\"\",\"\",Controls!R99)","v":""},{"$f":"IF(Controls!K99=\"\",IF(RIGHT(Controls!D99, 4)=\"Case\", Controls!T99, \"\"),Controls!W99)","v":""},{"$f":"IF(E294=\"\",\"\",'Analysis 103L'!BE120)","v":""},{"$f":"IFERROR(VLOOKUP($A294,Controls!$AC$7:$AD$20,2,FALSE)*B294,\"\")","v":""},{"$f":"IF(Controls!B99=\"\",\"\",Controls!B99)","v":0}]
[{"$f":"IF(Controls!I100=\"\",\"\",IF(LEFT(Controls!I100, 6)=\"Motion\", Controls!BT100,Controls!I100))","v":""},{"$f":"IF(LEFT(A295, 6)=\"Motion\", Controls!F100, (IF(Controls!K100=\"\",\"\",Controls!K100)))","v":""},{"$f":"IF(LEFT(A295, 6)=\"Motion\", Controls!L100, IF(Controls!M100=\"\",\"\",Controls!M100))","v":""},{"$f":"IF(Controls!R100=\"\",\"\",Controls!R100)","v":""},{"$f":"IF(Controls!K100=\"\",IF(RIGHT(Controls!D100, 4)=\"Case\", Controls!T100, \"\"),Controls!W100)","v":""},{"$f":"IF(E295=\"\",\"\",'Analysis 103L'!BE121)","v":""},{"$f":"IFERROR(VLOOKUP($A295,Controls!$AC$7:$AD$20,2,FALSE)*B295,\"\")","v":""},{"$f":"IF(Controls!B100=\"\",\"\",Controls!B100)","v":0}]
[{"$f":"IF(Controls!I101=\"\",\"\",IF(LEFT(Controls!I101, 6)=\"Motion\", Controls!BT101,Controls!I101))","v":""},{"$f":"IF(LEFT(A296, 6)=\"Motion\", Controls!F101, (IF(Controls!K101=\"\",\"\",Controls!K101)))","v":""},{"$f":"IF(LEFT(A296, 6)=\"Motion\", Controls!L101, IF(Controls!M101=\"\",\"\",Controls!M101))","v":""},{"$f":"IF(Controls!R101=\"\",\"\",Controls!R101)","v":""},{"$f":"IF(Controls!K101=\"\",IF(RIGHT(Controls!D101, 4)=\"Case\", Controls!T101, \"\"),Controls!W101)","v":""},{"$f":"IF(E296=\"\",\"\",'Analysis 103L'!BE122)","v":""},{"$f":"IFERROR(VLOOKUP($A296,Controls!$AC$7:$AD$20,2,FALSE)*B296,\"\")","v":""},{"$f":"IF(Controls!B101=\"\",\"\",Controls!B101)","v":0}]
[{"$f":"IF(Controls!I102=\"\",\"\",IF(LEFT(Controls!I102, 6)=\"Motion\", Controls!BT102,Controls!I102))","v":""},{"$f":"IF(LEFT(A297, 6)=\"Motion\", Controls!F102, (IF(Controls!K102=\"\",\"\",Controls!K102)))","v":""},{"$f":"IF(LEFT(A297, 6)=\"Motion\", Controls!L102, IF(Controls!M102=\"\",\"\",Controls!M102))","v":""},{"$f":"IF(Controls!R102=\"\",\"\",Controls!R102)","v":""},{"$f":"IF(Controls!K102=\"\",IF(RIGHT(Controls!D102, 4)=\"Case\", Controls!T102, \"\"),Controls!W102)","v":""},{"$f":"IF(E297=\"\",\"\",'Analysis 103L'!BE123)","v":""},{"$f":"IFERROR(VLOOKUP($A297,Controls!$AC$7:$AD$20,2,FALSE)*B297,\"\")","v":""},{"$f":"IF(Controls!B102=\"\",\"\",Controls!B102)","v":0}]
[{"$f":"IF(Controls!I103=\"\",\"\",IF(LEFT(Controls!I103, 6)=\"Motion\", Controls!BT103,Controls!I103))","v":""},{"$f":"IF(LEFT(A298, 6)=\"Motion\", Controls!F103, (IF(Controls!K103=\"\",\"\",Controls!K103)))","v":""},{"$f":"IF(LEFT(A298, 6)=\"Motion\", Controls!L103, IF(Controls!M103=\"\",\"\",Controls!M103))","v":""},{"$f":"IF(Controls!R103=\"\",\"\",Controls!R103)","v":""},{"$f":"IF(Controls!K103=\"\",IF(RIGHT(Controls!D103, 4)=\"Case\", Controls!T103, \"\"),Controls!W103)","v":""},{"$f":"IF(E298=\"\",\"\",'Analysis 103L'!BE124)","v":""},{"$f":"IFERROR(VLOOKUP($A298,Controls!$AC$7:$AD$20,2,FALSE)*B298,\"\")","v":""},{"$f":"IF(Controls!B103=\"\",\"\",Controls!B103)","v":0}]
[{"$f":"IF(Controls!I104=\"\",\"\",IF(LEFT(Controls!I104, 6)=\"Motion\", Controls!BT104,Controls!I104))","v":""},{"$f":"IF(LEFT(A299, 6)=\"Motion\", Controls!F104, (IF(Controls!K104=\"\",\"\",Controls!K104)))","v":""},{"$f":"IF(LEFT(A299, 6)=\"Motion\", Controls!L104, IF(Controls!M104=\"\",\"\",Controls!M104))","v":""},{"$f":"IF(Controls!R104=\"\",\"\",Controls!R104)","v":""},{"$f":"IF(Controls!K104=\"\",IF(RIGHT(Controls!D104, 4)=\"Case\", Controls!T104, \"\"),Controls!W104)","v":""},{"$f":"IF(E299=\"\",\"\",'Analysis 103L'!BE125)","v":""},{"$f":"IFERROR(VLOOKUP($A299,Controls!$AC$7:$AD$20,2,FALSE)*B299,\"\")","v":""},{"$f":"IF(Controls!B104=\"\",\"\",Controls!B104)","v":0}]
[{"$f":"IF(Controls!I105=\"\",\"\",IF(LEFT(Controls!I105, 6)=\"Motion\", Controls!BT105,Controls!I105))","v":""},{"$f":"IF(LEFT(A300, 6)=\"Motion\", Controls!F105, (IF(Controls!K105=\"\",\"\",Controls!K105)))","v":""},{"$f":"IF(LEFT(A300, 6)=\"Motion\", Controls!L105, IF(Controls!M105=\"\",\"\",Controls!M105))","v":""},{"$f":"IF(Controls!R105=\"\",\"\",Controls!R105)","v":""},{"$f":"IF(Controls!K105=\"\",IF(RIGHT(Controls!D105, 4)=\"Case\", Controls!T105, \"\"),Controls!W105)","v":""},{"$f":"IF(E300=\"\",\"\",'Analysis 103L'!BE126)","v":""},{"$f":"IFERROR(VLOOKUP($A300,Controls!$AC$7:$AD$20,2,FALSE)*B300,\"\")","v":""},{"$f":"IF(Controls!B105=\"\",\"\",Controls!B105)","v":0}]
[{"$f":"IF(Controls!I106=\"\",\"\",IF(LEFT(Controls!I106, 6)=\"Motion\", Controls!BT106,Controls!I106))","v":""},{"$f":"IF(LEFT(A301, 6)=\"Motion\", Controls!F106, (IF(Controls!K106=\"\",\"\",Controls!K106)))","v":""},{"$f":"IF(LEFT(A301, 6)=\"Motion\", Controls!L106, IF(Controls!M106=\"\",\"\",Controls!M106))","v":""},{"$f":"IF(Controls!R106=\"\",\"\",Controls!R106)","v":""},{"$f":"IF(Controls!K106=\"\",IF(RIGHT(Controls!D106, 4)=\"Case\", Controls!T106, \"\"),Controls!W106)","v":""},{"$f":"IF(E301=\"\",\"\",'Analysis 103L'!BE127)","v":""},{"$f":"IFERROR(VLOOKUP($A301,Controls!$AC$7:$AD$20,2,FALSE)*B301,\"\")","v":""},{"$f":"IF(Controls!B106=\"\",\"\",Controls!B106)","v":0}]
[{"$f":"IF(Controls!I107=\"\",\"\",IF(LEFT(Controls!I107, 6)=\"Motion\", Controls!BT107,Controls!I107))","v":""},{"$f":"IF(LEFT(A302, 6)=\"Motion\", Controls!F107, (IF(Controls!K107=\"\",\"\",Controls!K107)))","v":""},{"$f":"IF(LEFT(A302, 6)=\"Motion\", Controls!L107, IF(Controls!M107=\"\",\"\",Controls!M107))","v":""},{"$f":"IF(Controls!R107=\"\",\"\",Controls!R107)","v":""},{"$f":"IF(Controls!K107=\"\",IF(RIGHT(Controls!D107, 4)=\"Case\", Controls!T107, \"\"),Controls!W107)","v":""},{"$f":"IF(E302=\"\",\"\",'Analysis 103L'!BE128)","v":""},{"$f":"IFERROR(VLOOKUP($A302,Controls!$AC$7:$AD$20,2,FALSE)*B302,\"\")","v":""},{"$f":"IF(Controls!B107=\"\",\"\",Controls!B107)","v":0}]
[{"$f":"IF(Controls!I108=\"\",\"\",IF(LEFT(Controls!I108, 6)=\"Motion\", Controls!BT108,Controls!I108))","v":""},{"$f":"IF(LEFT(A303, 6)=\"Motion\", Controls!F108, (IF(Controls!K108=\"\",\"\",Controls!K108)))","v":""},{"$f":"IF(LEFT(A303, 6)=\"Motion\", Controls!L108, IF(Controls!M108=\"\",\"\",Controls!M108))","v":""},{"$f":"IF(Controls!R108=\"\",\"\",Controls!R108)","v":""},{"$f":"IF(Controls!K108=\"\",IF(RIGHT(Controls!D108, 4)=\"Case\", Controls!T108, \"\"),Controls!W108)","v":""},{"$f":"IF(E303=\"\",\"\",'Analysis 103L'!BE129)","v":""},{"$f":"IFERROR(VLOOKUP($A303,Controls!$AC$7:$AD$20,2,FALSE)*B303,\"\")","v":""},{"$f":"IF(Controls!B108=\"\",\"\",Controls!B108)","v":0}]
[{"$f":"IF(Controls!I109=\"\",\"\",IF(LEFT(Controls!I109, 6)=\"Motion\", Controls!BT109,Controls!I109))","v":""},{"$f":"IF(LEFT(A304, 6)=\"Motion\", Controls!F109, (IF(Controls!K109=\"\",\"\",Controls!K109)))","v":""},{"$f":"IF(LEFT(A304, 6)=\"Motion\", Controls!L109, IF(Controls!M109=\"\",\"\",Controls!M109))","v":""},{"$f":"IF(Controls!R109=\"\",\"\",Controls!R109)","v":""},{"$f":"IF(Controls!K109=\"\",IF(RIGHT(Controls!D109, 4)=\"Case\", Controls!T109, \"\"),Controls!W109)","v":""},{"$f":"IF(E304=\"\",\"\",'Analysis 103L'!BE130)","v":""},{"$f":"IFERROR(VLOOKUP($A304,Controls!$AC$7:$AD$20,2,FALSE)*B304,\"\")","v":""},{"$f":"IF(Controls!B109=\"\",\"\",Controls!B109)","v":0}]
[{"$f":"IF(Controls!I110=\"\",\"\",IF(LEFT(Controls!I110, 6)=\"Motion\", Controls!BT110,Controls!I110))","v":""},{"$f":"IF(LEFT(A305, 6)=\"Motion\", Controls!F110, (IF(Controls!K110=\"\",\"\",Controls!K110)))","v":""},{"$f":"IF(LEFT(A305, 6)=\"Motion\", Controls!L110, IF(Controls!M110=\"\",\"\",Controls!M110))","v":""},{"$f":"IF(Controls!R110=\"\",\"\",Controls!R110)","v":""},{"$f":"IF(Controls!K110=\"\",IF(RIGHT(Controls!D110, 4)=\"Case\", Controls!T110, \"\"),Controls!W110)","v":""},{"$f":"IF(E305=\"\",\"\",'Analysis 103L'!BE131)","v":""},{"$f":"IFERROR(VLOOKUP($A305,Controls!$AC$7:$AD$20,2,FALSE)*B305,\"\")","v":""},{"$f":"IF(Controls!B110=\"\",\"\",Controls!B110)","v":0}]
[{"$f":"IF(Controls!I111=\"\",\"\",IF(LEFT(Controls!I111, 6)=\"Motion\", Controls!BT111,Controls!I111))","v":""},{"$f":"IF(LEFT(A306, 6)=\"Motion\", Controls!F111, (IF(Controls!K111=\"\",\"\",Controls!K111)))","v":""},{"$f":"IF(LEFT(A306, 6)=\"Motion\", Controls!L111, IF(Controls!M111=\"\",\"\",Controls!M111))","v":""},{"$f":"IF(Controls!R111=\"\",\"\",Controls!R111)","v":""},{"$f":"IF(Controls!K111=\"\",IF(RIGHT(Controls!D111, 4)=\"Case\", Controls!T111, \"\"),Controls!W111)","v":""},{"$f":"IF(E306=\"\",\"\",'Analysis 103L'!BE132)","v":""},{"$f":"IFERROR(VLOOKUP($A306,Controls!$AC$7:$AD$20,2,FALSE)*B306,\"\")","v":""},{"$f":"IF(Controls!B111=\"\",\"\",Controls!B111)","v":0}]
[{"$f":"IF(Controls!I112=\"\",\"\",IF(LEFT(Controls!I112, 6)=\"Motion\", Controls!BT112,Controls!I112))","v":""},{"$f":"IF(LEFT(A307, 6)=\"Motion\", Controls!F112, (IF(Controls!K112=\"\",\"\",Controls!K112)))","v":""},{"$f":"IF(LEFT(A307, 6)=\"Motion\", Controls!L112, IF(Controls!M112=\"\",\"\",Controls!M112))","v":""},{"$f":"IF(Controls!R112=\"\",\"\",Controls!R112)","v":""},{"$f":"IF(Controls!K112=\"\",IF(RIGHT(Controls!D112, 4)=\"Case\", Controls!T112, \"\"),Controls!W112)","v":""},{"$f":"IF(E307=\"\",\"\",'Analysis 103L'!BE133)","v":""},{"$f":"IFERROR(VLOOKUP($A307,Controls!$AC$7:$AD$20,2,FALSE)*B307,\"\")","v":""},{"$f":"IF(Controls!B112=\"\",\"\",Controls!B112)","v":0}]
[{"$f":"IF(Controls!I113=\"\",\"\",IF(LEFT(Controls!I113, 6)=\"Motion\", Controls!BT113,Controls!I113))","v":""},{"$f":"IF(LEFT(A308, 6)=\"Motion\", Controls!F113, (IF(Controls!K113=\"\",\"\",Controls!K113)))","v":""},{"$f":"IF(LEFT(A308, 6)=\"Motion\", Controls!L113, IF(Controls!M113=\"\",\"\",Controls!M113))","v":""},{"$f":"IF(Controls!R113=\"\",\"\",Controls!R113)","v":""},{"$f":"IF(Controls!K113=\"\",IF(RIGHT(Controls!D113, 4)=\"Case\", Controls!T113, \"\"),Controls!W113)","v":""},{"$f":"IF(E308=\"\",\"\",'Analysis 103L'!BE134)","v":""},{"$f":"IFERROR(VLOOKUP($A308,Controls!$AC$7:$AD$20,2,FALSE)*B308,\"\")","v":""},{"$f":"IF(Controls!B113=\"\",\"\",Controls!B113)","v":0}]
[{"$f":"IF(Controls!I114=\"\",\"\",IF(LEFT(Controls!I114, 6)=\"Motion\", Controls!BT114,Controls!I114))","v":""},{"$f":"IF(LEFT(A309, 6)=\"Motion\", Controls!F114, (IF(Controls!K114=\"\",\"\",Controls!K114)))","v":""},{"$f":"IF(LEFT(A309, 6)=\"Motion\", Controls!L114, IF(Controls!M114=\"\",\"\",Controls!M114))","v":""},{"$f":"IF(Controls!R114=\"\",\"\",Controls!R114)","v":""},{"$f":"IF(Controls!K114=\"\",IF(RIGHT(Controls!D114, 4)=\"Case\", Controls!T114, \"\"),Controls!W114)","v":""},{"$f":"IF(E309=\"\",\"\",'Analysis 103L'!BE135)","v":""},{"$f":"IFERROR(VLOOKUP($A309,Controls!$AC$7:$AD$20,2,FALSE)*B309,\"\")","v":""},{"$f":"IF(Controls!B114=\"\",\"\",Controls!B114)","v":0}]
[{"$f":"IF(Controls!I115=\"\",\"\",IF(LEFT(Controls!I115, 6)=\"Motion\", Controls!BT115,Controls!I115))","v":""},{"$f":"IF(LEFT(A310, 6)=\"Motion\", Controls!F115, (IF(Controls!K115=\"\",\"\",Controls!K115)))","v":""},{"$f":"IF(LEFT(A310, 6)=\"Motion\", Controls!L115, IF(Controls!M115=\"\",\"\",Controls!M115))","v":""},{"$f":"IF(Controls!R115=\"\",\"\",Controls!R115)","v":""},{"$f":"IF(Controls!K115=\"\",IF(RIGHT(Controls!D115, 4)=\"Case\", Controls!T115, \"\"),Controls!W115)","v":""},{"$f":"IF(E310=\"\",\"\",'Analysis 103L'!BE136)","v":""},{"$f":"IFERROR(VLOOKUP($A310,Controls!$AC$7:$AD$20,2,FALSE)*B310,\"\")","v":""},{"$f":"IF(Controls!B115=\"\",\"\",Controls!B115)","v":0}]
[{"$f":"IF(Controls!I116=\"\",\"\",IF(LEFT(Controls!I116, 6)=\"Motion\", Controls!BT116,Controls!I116))","v":""},{"$f":"IF(LEFT(A311, 6)=\"Motion\", Controls!F116, (IF(Controls!K116=\"\",\"\",Controls!K116)))","v":""},{"$f":"IF(LEFT(A311, 6)=\"Motion\", Controls!L116, IF(Controls!M116=\"\",\"\",Controls!M116))","v":""},{"$f":"IF(Controls!R116=\"\",\"\",Controls!R116)","v":""},{"$f":"IF(Controls!K116=\"\",IF(RIGHT(Controls!D116, 4)=\"Case\", Controls!T116, \"\"),Controls!W116)","v":""},{"$f":"IF(E311=\"\",\"\",'Analysis 103L'!BE137)","v":""},{"$f":"IFERROR(VLOOKUP($A311,Controls!$AC$7:$AD$20,2,FALSE)*B311,\"\")","v":""},{"$f":"IF(Controls!B116=\"\",\"\",Controls!B116)","v":0}]
[{"$f":"IF(Controls!I117=\"\",\"\",IF(LEFT(Controls!I117, 6)=\"Motion\", Controls!BT117,Controls!I117))","v":""},{"$f":"IF(LEFT(A312, 6)=\"Motion\", Controls!F117, (IF(Controls!K117=\"\",\"\",Controls!K117)))","v":""},{"$f":"IF(LEFT(A312, 6)=\"Motion\", Controls!L117, IF(Controls!M117=\"\",\"\",Controls!M117))","v":""},{"$f":"IF(Controls!R117=\"\",\"\",Controls!R117)","v":""},{"$f":"IF(Controls!K117=\"\",IF(RIGHT(Controls!D117, 4)=\"Case\", Controls!T117, \"\"),Controls!W117)","v":""},{"$f":"IF(E312=\"\",\"\",'Analysis 103L'!BE138)","v":""},{"$f":"IFERROR(VLOOKUP($A312,Controls!$AC$7:$AD$20,2,FALSE)*B312,\"\")","v":""},{"$f":"IF(Controls!B117=\"\",\"\",Controls!B117)","v":0}]
[{"$f":"IF(Controls!I118=\"\",\"\",IF(LEFT(Controls!I118, 6)=\"Motion\", Controls!BT118,Controls!I118))","v":""},{"$f":"IF(LEFT(A313, 6)=\"Motion\", Controls!F118, (IF(Controls!K118=\"\",\"\",Controls!K118)))","v":""},{"$f":"IF(LEFT(A313, 6)=\"Motion\", Controls!L118, IF(Controls!M118=\"\",\"\",Controls!M118))","v":""},{"$f":"IF(Controls!R118=\"\",\"\",Controls!R118)","v":""},{"$f":"IF(Controls!K118=\"\",IF(RIGHT(Controls!D118, 4)=\"Case\", Controls!T118, \"\"),Controls!W118)","v":""},{"$f":"IF(E313=\"\",\"\",'Analysis 103L'!BE139)","v":""},{"$f":"IFERROR(VLOOKUP($A313,Controls!$AC$7:$AD$20,2,FALSE)*B313,\"\")","v":""},{"$f":"IF(Controls!B118=\"\",\"\",Controls!B118)","v":0}]
[{"$f":"IF(Controls!I119=\"\",\"\",IF(LEFT(Controls!I119, 6)=\"Motion\", Controls!BT119,Controls!I119))","v":""},{"$f":"IF(LEFT(A314, 6)=\"Motion\", Controls!F119, (IF(Controls!K119=\"\",\"\",Controls!K119)))","v":""},{"$f":"IF(LEFT(A314, 6)=\"Motion\", Controls!L119, IF(Controls!M119=\"\",\"\",Controls!M119))","v":""},{"$f":"IF(Controls!R119=\"\",\"\",Controls!R119)","v":""},{"$f":"IF(Controls!K119=\"\",IF(RIGHT(Controls!D119, 4)=\"Case\", Controls!T119, \"\"),Controls!W119)","v":""},{"$f":"IF(E314=\"\",\"\",'Analysis 103L'!BE140)","v":""},{"$f":"IFERROR(VLOOKUP($A314,Controls!$AC$7:$AD$20,2,FALSE)*B314,\"\")","v":""},{"$f":"IF(Controls!B119=\"\",\"\",Controls!B119)","v":0}]
[{"$f":"IF(Controls!I120=\"\",\"\",IF(LEFT(Controls!I120, 6)=\"Motion\", Controls!BT120,Controls!I120))","v":""},{"$f":"IF(LEFT(A315, 6)=\"Motion\", Controls!F120, (IF(Controls!K120=\"\",\"\",Controls!K120)))","v":""},{"$f":"IF(LEFT(A315, 6)=\"Motion\", Controls!L120, IF(Controls!M120=\"\",\"\",Controls!M120))","v":""},{"$f":"IF(Controls!R120=\"\",\"\",Controls!R120)","v":""},{"$f":"IF(Controls!K120=\"\",IF(RIGHT(Controls!D120, 4)=\"Case\", Controls!T120, \"\"),Controls!W120)","v":""},{"$f":"IF(E315=\"\",\"\",'Analysis 103L'!BE141)","v":""},{"$f":"IFERROR(VLOOKUP($A315,Controls!$AC$7:$AD$20,2,FALSE)*B315,\"\")","v":""},{"$f":"IF(Controls!B120=\"\",\"\",Controls!B120)","v":0}]
[{"$f":"IF(Controls!I121=\"\",\"\",IF(LEFT(Controls!I121, 6)=\"Motion\", Controls!BT121,Controls!I121))","v":""},{"$f":"IF(LEFT(A316, 6)=\"Motion\", Controls!F121, (IF(Controls!K121=\"\",\"\",Controls!K121)))","v":""},{"$f":"IF(LEFT(A316, 6)=\"Motion\", Controls!L121, IF(Controls!M121=\"\",\"\",Controls!M121))","v":""},{"$f":"IF(Controls!R121=\"\",\"\",Controls!R121)","v":""},{"$f":"IF(Controls!K121=\"\",IF(RIGHT(Controls!D121, 4)=\"Case\", Controls!T121, \"\"),Controls!W121)","v":""},{"$f":"IF(E316=\"\",\"\",'Analysis 103L'!BE142)","v":""},{"$f":"IFERROR(VLOOKUP($A316,Controls!$AC$7:$AD$20,2,FALSE)*B316,\"\")","v":""},{"$f":"IF(Controls!B121=\"\",\"\",Controls!B121)","v":0}]
[{"$f":"IF(Controls!I122=\"\",\"\",IF(LEFT(Controls!I122, 6)=\"Motion\", Controls!BT122,Controls!I122))","v":""},{"$f":"IF(LEFT(A317, 6)=\"Motion\", Controls!F122, (IF(Controls!K122=\"\",\"\",Controls!K122)))","v":""},{"$f":"IF(LEFT(A317, 6)=\"Motion\", Controls!L122, IF(Controls!M122=\"\",\"\",Controls!M122))","v":""},{"$f":"IF(Controls!R122=\"\",\"\",Controls!R122)","v":""},{"$f":"IF(Controls!K122=\"\",IF(RIGHT(Controls!D122, 4)=\"Case\", Controls!T122, \"\"),Controls!W122)","v":""},{"$f":"IF(E317=\"\",\"\",'Analysis 103L'!BE143)","v":""},{"$f":"IFERROR(VLOOKUP($A317,Controls!$AC$7:$AD$20,2,FALSE)*B317,\"\")","v":""},{"$f":"IF(Controls!B122=\"\",\"\",Controls!B122)","v":0}]
[{"$f":"IF(Controls!I123=\"\",\"\",IF(LEFT(Controls!I123, 6)=\"Motion\", Controls!BT123,Controls!I123))","v":""},{"$f":"IF(LEFT(A318, 6)=\"Motion\", Controls!F123, (IF(Controls!K123=\"\",\"\",Controls!K123)))","v":""},{"$f":"IF(LEFT(A318, 6)=\"Motion\", Controls!L123, IF(Controls!M123=\"\",\"\",Controls!M123))","v":""},{"$f":"IF(Controls!R123=\"\",\"\",Controls!R123)","v":""},{"$f":"IF(Controls!K123=\"\",IF(RIGHT(Controls!D123, 4)=\"Case\", Controls!T123, \"\"),Controls!W123)","v":""},{"$f":"IF(E318=\"\",\"\",'Analysis 103L'!BE144)","v":""},{"$f":"IFERROR(VLOOKUP($A318,Controls!$AC$7:$AD$20,2,FALSE)*B318,\"\")","v":""},{"$f":"IF(Controls!B123=\"\",\"\",Controls!B123)","v":0}]
[{"$f":"IF(Controls!I124=\"\",\"\",IF(LEFT(Controls!I124, 6)=\"Motion\", Controls!BT124,Controls!I124))","v":""},{"$f":"IF(LEFT(A319, 6)=\"Motion\", Controls!F124, (IF(Controls!K124=\"\",\"\",Controls!K124)))","v":""},{"$f":"IF(LEFT(A319, 6)=\"Motion\", Controls!L124, IF(Controls!M124=\"\",\"\",Controls!M124))","v":""},{"$f":"IF(Controls!R124=\"\",\"\",Controls!R124)","v":""},{"$f":"IF(Controls!K124=\"\",IF(RIGHT(Controls!D124, 4)=\"Case\", Controls!T124, \"\"),Controls!W124)","v":""},{"$f":"IF(E319=\"\",\"\",'Analysis 103L'!BE145)","v":""},{"$f":"IFERROR(VLOOKUP($A319,Controls!$AC$7:$AD$20,2,FALSE)*B319,\"\")","v":""},{"$f":"IF(Controls!B124=\"\",\"\",Controls!B124)","v":0}]
[{"$f":"IF(Controls!I125=\"\",\"\",IF(LEFT(Controls!I125, 6)=\"Motion\", Controls!BT125,Controls!I125))","v":""},{"$f":"IF(LEFT(A320, 6)=\"Motion\", Controls!F125, (IF(Controls!K125=\"\",\"\",Controls!K125)))","v":""},{"$f":"IF(LEFT(A320, 6)=\"Motion\", Controls!L125, IF(Controls!M125=\"\",\"\",Controls!M125))","v":""},{"$f":"IF(Controls!R125=\"\",\"\",Controls!R125)","v":""},{"$f":"IF(Controls!K125=\"\",IF(RIGHT(Controls!D125, 4)=\"Case\", Controls!T125, \"\"),Controls!W125)","v":""},{"$f":"IF(E320=\"\",\"\",'Analysis 103L'!BE146)","v":""},{"$f":"IFERROR(VLOOKUP($A320,Controls!$AC$7:$AD$20,2,FALSE)*B320,\"\")","v":""},{"$f":"IF(Controls!B125=\"\",\"\",Controls!B125)","v":0}]
[{"$f":"IF(Controls!I126=\"\",\"\",IF(LEFT(Controls!I126, 6)=\"Motion\", Controls!BT126,Controls!I126))","v":""},{"$f":"IF(LEFT(A321, 6)=\"Motion\", Controls!F126, (IF(Controls!K126=\"\",\"\",Controls!K126)))","v":""},{"$f":"IF(LEFT(A321, 6)=\"Motion\", Controls!L126, IF(Controls!M126=\"\",\"\",Controls!M126))","v":""},{"$f":"IF(Controls!R126=\"\",\"\",Controls!R126)","v":""},{"$f":"IF(Controls!K126=\"\",IF(RIGHT(Controls!D126, 4)=\"Case\", Controls!T126, \"\"),Controls!W126)","v":""},{"$f":"IF(E321=\"\",\"\",'Analysis 103L'!BE147)","v":""},{"$f":"IFERROR(VLOOKUP($A321,Controls!$AC$7:$AD$20,2,FALSE)*B321,\"\")","v":""},{"$f":"IF(Controls!B126=\"\",\"\",Controls!B126)","v":0}]
[{"$f":"IF(Controls!I127=\"\",\"\",IF(LEFT(Controls!I127, 6)=\"Motion\", Controls!BT127,Controls!I127))","v":""},{"$f":"IF(LEFT(A322, 6)=\"Motion\", Controls!F127, (IF(Controls!K127=\"\",\"\",Controls!K127)))","v":""},{"$f":"IF(LEFT(A322, 6)=\"Motion\", Controls!L127, IF(Controls!M127=\"\",\"\",Controls!M127))","v":""},{"$f":"IF(Controls!R127=\"\",\"\",Controls!R127)","v":""},{"$f":"IF(Controls!K127=\"\",IF(RIGHT(Controls!D127, 4)=\"Case\", Controls!T127, \"\"),Controls!W127)","v":""},{"$f":"IF(E322=\"\",\"\",'Analysis 103L'!BE148)","v":""},{"$f":"IFERROR(VLOOKUP($A322,Controls!$AC$7:$AD$20,2,FALSE)*B322,\"\")","v":""},{"$f":"IF(Controls!B127=\"\",\"\",Controls!B127)","v":0}]
[{"$f":"IF(Controls!I128=\"\",\"\",IF(LEFT(Controls!I128, 6)=\"Motion\", Controls!BT128,Controls!I128))","v":""},{"$f":"IF(LEFT(A323, 6)=\"Motion\", Controls!F128, (IF(Controls!K128=\"\",\"\",Controls!K128)))","v":""},{"$f":"IF(LEFT(A323, 6)=\"Motion\", Controls!L128, IF(Controls!M128=\"\",\"\",Controls!M128))","v":""},{"$f":"IF(Controls!R128=\"\",\"\",Controls!R128)","v":""},{"$f":"IF(Controls!K128=\"\",IF(RIGHT(Controls!D128, 4)=\"Case\", Controls!T128, \"\"),Controls!W128)","v":""},{"$f":"IF(E323=\"\",\"\",'Analysis 103L'!BE149)","v":""},{"$f":"IFERROR(VLOOKUP($A323,Controls!$AC$7:$AD$20,2,FALSE)*B323,\"\")","v":""},{"$f":"IF(Controls!B128=\"\",\"\",Controls!B128)","v":0}]
[{"$f":"IF(Controls!I129=\"\",\"\",IF(LEFT(Controls!I129, 6)=\"Motion\", Controls!BT129,Controls!I129))","v":""},{"$f":"IF(LEFT(A324, 6)=\"Motion\", Controls!F129, (IF(Controls!K129=\"\",\"\",Controls!K129)))","v":""},{"$f":"IF(LEFT(A324, 6)=\"Motion\", Controls!L129, IF(Controls!M129=\"\",\"\",Controls!M129))","v":""},{"$f":"IF(Controls!R129=\"\",\"\",Controls!R129)","v":""},{"$f":"IF(Controls!K129=\"\",IF(RIGHT(Controls!D129, 4)=\"Case\", Controls!T129, \"\"),Controls!W129)","v":""},{"$f":"IF(E324=\"\",\"\",'Analysis 103L'!BE150)","v":""},{"$f":"IFERROR(VLOOKUP($A324,Controls!$AC$7:$AD$20,2,FALSE)*B324,\"\")","v":""},{"$f":"IF(Controls!B129=\"\",\"\",Controls!B129)","v":0}]
[{"$f":"IF(Controls!I130=\"\",\"\",IF(LEFT(Controls!I130, 6)=\"Motion\", Controls!BT130,Controls!I130))","v":""},{"$f":"IF(LEFT(A325, 6)=\"Motion\", Controls!F130, (IF(Controls!K130=\"\",\"\",Controls!K130)))","v":""},{"$f":"IF(LEFT(A325, 6)=\"Motion\", Controls!L130, IF(Controls!M130=\"\",\"\",Controls!M130))","v":""},{"$f":"IF(Controls!R130=\"\",\"\",Controls!R130)","v":""},{"$f":"IF(Controls!K130=\"\",IF(RIGHT(Controls!D130, 4)=\"Case\", Controls!T130, \"\"),Controls!W130)","v":""},{"$f":"IF(E325=\"\",\"\",'Analysis 103L'!BE151)","v":""},{"$f":"IFERROR(VLOOKUP($A325,Controls!$AC$7:$AD$20,2,FALSE)*B325,\"\")","v":""},{"$f":"IF(Controls!B130=\"\",\"\",Controls!B130)","v":0}]
[{"$f":"IF(Controls!I131=\"\",\"\",IF(LEFT(Controls!I131, 6)=\"Motion\", Controls!BT131,Controls!I131))","v":""},{"$f":"IF(LEFT(A326, 6)=\"Motion\", Controls!F131, (IF(Controls!K131=\"\",\"\",Controls!K131)))","v":""},{"$f":"IF(LEFT(A326, 6)=\"Motion\", Controls!L131, IF(Controls!M131=\"\",\"\",Controls!M131))","v":""},{"$f":"IF(Controls!R131=\"\",\"\",Controls!R131)","v":""},{"$f":"IF(Controls!K131=\"\",IF(RIGHT(Controls!D131, 4)=\"Case\", Controls!T131, \"\"),Controls!W131)","v":""},{"$f":"IF(E326=\"\",\"\",'Analysis 103L'!BE152)","v":""},{"$f":"IFERROR(VLOOKUP($A326,Controls!$AC$7:$AD$20,2,FALSE)*B326,\"\")","v":""},{"$f":"IF(Controls!B131=\"\",\"\",Controls!B131)","v":0}]
[{"$f":"IF(Controls!I132=\"\",\"\",IF(LEFT(Controls!I132, 6)=\"Motion\", Controls!BT132,Controls!I132))","v":""},{"$f":"IF(LEFT(A327, 6)=\"Motion\", Controls!F132, (IF(Controls!K132=\"\",\"\",Controls!K132)))","v":""},{"$f":"IF(LEFT(A327, 6)=\"Motion\", Controls!L132, IF(Controls!M132=\"\",\"\",Controls!M132))","v":""},{"$f":"IF(Controls!R132=\"\",\"\",Controls!R132)","v":""},{"$f":"IF(Controls!K132=\"\",IF(RIGHT(Controls!D132, 4)=\"Case\", Controls!T132, \"\"),Controls!W132)","v":""},{"$f":"IF(E327=\"\",\"\",'Analysis 103L'!BE153)","v":""},{"$f":"IFERROR(VLOOKUP($A327,Controls!$AC$7:$AD$20,2,FALSE)*B327,\"\")","v":""},{"$f":"IF(Controls!B132=\"\",\"\",Controls!B132)","v":0}]
[{"$f":"IF(Controls!I133=\"\",\"\",IF(LEFT(Controls!I133, 6)=\"Motion\", Controls!BT133,Controls!I133))","v":""},{"$f":"IF(LEFT(A328, 6)=\"Motion\", Controls!F133, (IF(Controls!K133=\"\",\"\",Controls!K133)))","v":""},{"$f":"IF(LEFT(A328, 6)=\"Motion\", Controls!L133, IF(Controls!M133=\"\",\"\",Controls!M133))","v":""},{"$f":"IF(Controls!R133=\"\",\"\",Controls!R133)","v":""},{"$f":"IF(Controls!K133=\"\",IF(RIGHT(Controls!D133, 4)=\"Case\", Controls!T133, \"\"),Controls!W133)","v":""},{"$f":"IF(E328=\"\",\"\",'Analysis 103L'!BE154)","v":""},{"$f":"IFERROR(VLOOKUP($A328,Controls!$AC$7:$AD$20,2,FALSE)*B328,\"\")","v":""},{"$f":"IF(Controls!B133=\"\",\"\",Controls!B133)","v":0}]
[{"$f":"IF(Controls!I134=\"\",\"\",IF(LEFT(Controls!I134, 6)=\"Motion\", Controls!BT134,Controls!I134))","v":""},{"$f":"IF(LEFT(A329, 6)=\"Motion\", Controls!F134, (IF(Controls!K134=\"\",\"\",Controls!K134)))","v":""},{"$f":"IF(LEFT(A329, 6)=\"Motion\", Controls!L134, IF(Controls!M134=\"\",\"\",Controls!M134))","v":""},{"$f":"IF(Controls!R134=\"\",\"\",Controls!R134)","v":""},{"$f":"IF(Controls!K134=\"\",IF(RIGHT(Controls!D134, 4)=\"Case\", Controls!T134, \"\"),Controls!W134)","v":""},{"$f":"IF(E329=\"\",\"\",'Analysis 103L'!BE155)","v":""},{"$f":"IFERROR(VLOOKUP($A329,Controls!$AC$7:$AD$20,2,FALSE)*B329,\"\")","v":""},{"$f":"IF(Controls!B134=\"\",\"\",Controls!B134)","v":0}]
[{"$f":"IF(Controls!I135=\"\",\"\",IF(LEFT(Controls!I135, 6)=\"Motion\", Controls!BT135,Controls!I135))","v":""},{"$f":"IF(LEFT(A330, 6)=\"Motion\", Controls!F135, (IF(Controls!K135=\"\",\"\",Controls!K135)))","v":""},{"$f":"IF(LEFT(A330, 6)=\"Motion\", Controls!L135, IF(Controls!M135=\"\",\"\",Controls!M135))","v":""},{"$f":"IF(Controls!R135=\"\",\"\",Controls!R135)","v":""},{"$f":"IF(Controls!K135=\"\",IF(RIGHT(Controls!D135, 4)=\"Case\", Controls!T135, \"\"),Controls!W135)","v":""},{"$f":"IF(E330=\"\",\"\",'Analysis 103L'!BE156)","v":""},{"$f":"IFERROR(VLOOKUP($A330,Controls!$AC$7:$AD$20,2,FALSE)*B330,\"\")","v":""},{"$f":"IF(Controls!B135=\"\",\"\",Controls!B135)","v":0}]
[{"$f":"IF(Controls!I136=\"\",\"\",IF(LEFT(Controls!I136, 6)=\"Motion\", Controls!BT136,Controls!I136))","v":""},{"$f":"IF(LEFT(A331, 6)=\"Motion\", Controls!F136, (IF(Controls!K136=\"\",\"\",Controls!K136)))","v":""},{"$f":"IF(LEFT(A331, 6)=\"Motion\", Controls!L136, IF(Controls!M136=\"\",\"\",Controls!M136))","v":""},{"$f":"IF(Controls!R136=\"\",\"\",Controls!R136)","v":""},{"$f":"IF(Controls!K136=\"\",IF(RIGHT(Controls!D136, 4)=\"Case\", Controls!T136, \"\"),Controls!W136)","v":""},{"$f":"IF(E331=\"\",\"\",'Analysis 103L'!BE157)","v":""},{"$f":"IFERROR(VLOOKUP($A331,Controls!$AC$7:$AD$20,2,FALSE)*B331,\"\")","v":""},{"$f":"IF(Controls!B136=\"\",\"\",Controls!B136)","v":0}]
[{"$f":"IF(Controls!I137=\"\",\"\",IF(LEFT(Controls!I137, 6)=\"Motion\", Controls!BT137,Controls!I137))","v":""},{"$f":"IF(LEFT(A332, 6)=\"Motion\", Controls!F137, (IF(Controls!K137=\"\",\"\",Controls!K137)))","v":""},{"$f":"IF(LEFT(A332, 6)=\"Motion\", Controls!L137, IF(Controls!M137=\"\",\"\",Controls!M137))","v":""},{"$f":"IF(Controls!R137=\"\",\"\",Controls!R137)","v":""},{"$f":"IF(Controls!K137=\"\",IF(RIGHT(Controls!D137, 4)=\"Case\", Controls!T137, \"\"),Controls!W137)","v":""},{"$f":"IF(E332=\"\",\"\",'Analysis 103L'!BE158)","v":""},{"$f":"IFERROR(VLOOKUP($A332,Controls!$AC$7:$AD$20,2,FALSE)*B332,\"\")","v":""},{"$f":"IF(Controls!B137=\"\",\"\",Controls!B137)","v":0}]
[{"$f":"IF(Controls!I138=\"\",\"\",IF(LEFT(Controls!I138, 6)=\"Motion\", Controls!BT138,Controls!I138))","v":""},{"$f":"IF(LEFT(A333, 6)=\"Motion\", Controls!F138, (IF(Controls!K138=\"\",\"\",Controls!K138)))","v":""},{"$f":"IF(LEFT(A333, 6)=\"Motion\", Controls!L138, IF(Controls!M138=\"\",\"\",Controls!M138))","v":""},{"$f":"IF(Controls!R138=\"\",\"\",Controls!R138)","v":""},{"$f":"IF(Controls!K138=\"\",IF(RIGHT(Controls!D138, 4)=\"Case\", Controls!T138, \"\"),Controls!W138)","v":""},{"$f":"IF(E333=\"\",\"\",'Analysis 103L'!BE159)","v":""},{"$f":"IFERROR(VLOOKUP($A333,Controls!$AC$7:$AD$20,2,FALSE)*B333,\"\")","v":""},{"$f":"IF(Controls!B138=\"\",\"\",Controls!B138)","v":0}]
[{"$f":"IF(Controls!I139=\"\",\"\",IF(LEFT(Controls!I139, 6)=\"Motion\", Controls!BT139,Controls!I139))","v":""},{"$f":"IF(LEFT(A334, 6)=\"Motion\", Controls!F139, (IF(Controls!K139=\"\",\"\",Controls!K139)))","v":""},{"$f":"IF(LEFT(A334, 6)=\"Motion\", Controls!L139, IF(Controls!M139=\"\",\"\",Controls!M139))","v":""},{"$f":"IF(Controls!R139=\"\",\"\",Controls!R139)","v":""},{"$f":"IF(Controls!K139=\"\",IF(RIGHT(Controls!D139, 4)=\"Case\", Controls!T139, \"\"),Controls!W139)","v":""},{"$f":"IF(E334=\"\",\"\",'Analysis 103L'!BE160)","v":""},{"$f":"IFERROR(VLOOKUP($A334,Controls!$AC$7:$AD$20,2,FALSE)*B334,\"\")","v":""},{"$f":"IF(Controls!B139=\"\",\"\",Controls!B139)","v":0}]
[{"$f":"IF(Controls!I140=\"\",\"\",IF(LEFT(Controls!I140, 6)=\"Motion\", Controls!BT140,Controls!I140))","v":""},{"$f":"IF(LEFT(A335, 6)=\"Motion\", Controls!F140, (IF(Controls!K140=\"\",\"\",Controls!K140)))","v":""},{"$f":"IF(LEFT(A335, 6)=\"Motion\", Controls!L140, IF(Controls!M140=\"\",\"\",Controls!M140))","v":""},{"$f":"IF(Controls!R140=\"\",\"\",Controls!R140)","v":""},{"$f":"IF(Controls!K140=\"\",IF(RIGHT(Controls!D140, 4)=\"Case\", Controls!T140, \"\"),Controls!W140)","v":""},{"$f":"IF(E335=\"\",\"\",'Analysis 103L'!BE161)","v":""},{"$f":"IFERROR(VLOOKUP($A335,Controls!$AC$7:$AD$20,2,FALSE)*B335,\"\")","v":""},{"$f":"IF(Controls!B140=\"\",\"\",Controls!B140)","v":0}]
[{"$f":"IF(Controls!I141=\"\",\"\",IF(LEFT(Controls!I141, 6)=\"Motion\", Controls!BT141,Controls!I141))","v":""},{"$f":"IF(LEFT(A336, 6)=\"Motion\", Controls!F141, (IF(Controls!K141=\"\",\"\",Controls!K141)))","v":""},{"$f":"IF(LEFT(A336, 6)=\"Motion\", Controls!L141, IF(Controls!M141=\"\",\"\",Controls!M141))","v":""},{"$f":"IF(Controls!R141=\"\",\"\",Controls!R141)","v":""},{"$f":"IF(Controls!K141=\"\",IF(RIGHT(Controls!D141, 4)=\"Case\", Controls!T141, \"\"),Controls!W141)","v":""},{"$f":"IF(E336=\"\",\"\",'Analysis 103L'!BE162)","v":""},{"$f":"IFERROR(VLOOKUP($A336,Controls!$AC$7:$AD$20,2,FALSE)*B336,\"\")","v":""},{"$f":"IF(Controls!B141=\"\",\"\",Controls!B141)","v":0}]
[{"$f":"IF(Controls!I142=\"\",\"\",IF(LEFT(Controls!I142, 6)=\"Motion\", Controls!BT142,Controls!I142))","v":""},{"$f":"IF(LEFT(A337, 6)=\"Motion\", Controls!F142, (IF(Controls!K142=\"\",\"\",Controls!K142)))","v":""},{"$f":"IF(LEFT(A337, 6)=\"Motion\", Controls!L142, IF(Controls!M142=\"\",\"\",Controls!M142))","v":""},{"$f":"IF(Controls!R142=\"\",\"\",Controls!R142)","v":""},{"$f":"IF(Controls!K142=\"\",IF(RIGHT(Controls!D142, 4)=\"Case\", Controls!T142, \"\"),Controls!W142)","v":""},{"$f":"IF(E337=\"\",\"\",'Analysis 103L'!BE163)","v":""},{"$f":"IFERROR(VLOOKUP($A337,Controls!$AC$7:$AD$20,2,FALSE)*B337,\"\")","v":""},{"$f":"IF(Controls!B142=\"\",\"\",Controls!B142)","v":0}]
[{"$f":"IF(Controls!I143=\"\",\"\",IF(LEFT(Controls!I143, 6)=\"Motion\", Controls!BT143,Controls!I143))","v":""},{"$f":"IF(LEFT(A338, 6)=\"Motion\", Controls!F143, (IF(Controls!K143=\"\",\"\",Controls!K143)))","v":""},{"$f":"IF(LEFT(A338, 6)=\"Motion\", Controls!L143, IF(Controls!M143=\"\",\"\",Controls!M143))","v":""},{"$f":"IF(Controls!R143=\"\",\"\",Controls!R143)","v":""},{"$f":"IF(Controls!K143=\"\",IF(RIGHT(Controls!D143, 4)=\"Case\", Controls!T143, \"\"),Controls!W143)","v":""},{"$f":"IF(E338=\"\",\"\",'Analysis 103L'!BE164)","v":""},{"$f":"IFERROR(VLOOKUP($A338,Controls!$AC$7:$AD$20,2,FALSE)*B338,\"\")","v":""},{"$f":"IF(Controls!B143=\"\",\"\",Controls!B143)","v":0}]
[{"$f":"IF(Controls!I144=\"\",\"\",IF(LEFT(Controls!I144, 6)=\"Motion\", Controls!BT144,Controls!I144))","v":""},{"$f":"IF(LEFT(A339, 6)=\"Motion\", Controls!F144, (IF(Controls!K144=\"\",\"\",Controls!K144)))","v":""},{"$f":"IF(LEFT(A339, 6)=\"Motion\", Controls!L144, IF(Controls!M144=\"\",\"\",Controls!M144))","v":""},{"$f":"IF(Controls!R144=\"\",\"\",Controls!R144)","v":""},{"$f":"IF(Controls!K144=\"\",IF(RIGHT(Controls!D144, 4)=\"Case\", Controls!T144, \"\"),Controls!W144)","v":""},{"$f":"IF(E339=\"\",\"\",'Analysis 103L'!BE165)","v":""},{"$f":"IFERROR(VLOOKUP($A339,Controls!$AC$7:$AD$20,2,FALSE)*B339,\"\")","v":""},{"$f":"IF(Controls!B144=\"\",\"\",Controls!B144)","v":0}]
[{"$f":"IF(Controls!I145=\"\",\"\",IF(LEFT(Controls!I145, 6)=\"Motion\", Controls!BT145,Controls!I145))","v":""},{"$f":"IF(LEFT(A340, 6)=\"Motion\", Controls!F145, (IF(Controls!K145=\"\",\"\",Controls!K145)))","v":""},{"$f":"IF(LEFT(A340, 6)=\"Motion\", Controls!L145, IF(Controls!M145=\"\",\"\",Controls!M145))","v":""},{"$f":"IF(Controls!R145=\"\",\"\",Controls!R145)","v":""},{"$f":"IF(Controls!K145=\"\",IF(RIGHT(Controls!D145, 4)=\"Case\", Controls!T145, \"\"),Controls!W145)","v":""},{"$f":"IF(E340=\"\",\"\",'Analysis 103L'!BE166)","v":""},{"$f":"IFERROR(VLOOKUP($A340,Controls!$AC$7:$AD$20,2,FALSE)*B340,\"\")","v":""},{"$f":"IF(Controls!B145=\"\",\"\",Controls!B145)","v":0}]
[{"$f":"IF(Controls!I146=\"\",\"\",IF(LEFT(Controls!I146, 6)=\"Motion\", Controls!BT146,Controls!I146))","v":""},{"$f":"IF(LEFT(A341, 6)=\"Motion\", Controls!F146, (IF(Controls!K146=\"\",\"\",Controls!K146)))","v":""},{"$f":"IF(LEFT(A341, 6)=\"Motion\", Controls!L146, IF(Controls!M146=\"\",\"\",Controls!M146))","v":""},{"$f":"IF(Controls!R146=\"\",\"\",Controls!R146)","v":""},{"$f":"IF(Controls!K146=\"\",IF(RIGHT(Controls!D146, 4)=\"Case\", Controls!T146, \"\"),Controls!W146)","v":""},{"$f":"IF(E341=\"\",\"\",'Analysis 103L'!BE167)","v":""},{"$f":"IFERROR(VLOOKUP($A341,Controls!$AC$7:$AD$20,2,FALSE)*B341,\"\")","v":""},{"$f":"IF(Controls!B146=\"\",\"\",Controls!B146)","v":0}]
[{"$f":"IF(Controls!I147=\"\",\"\",IF(LEFT(Controls!I147, 6)=\"Motion\", Controls!BT147,Controls!I147))","v":""},{"$f":"IF(LEFT(A342, 6)=\"Motion\", Controls!F147, (IF(Controls!K147=\"\",\"\",Controls!K147)))","v":""},{"$f":"IF(LEFT(A342, 6)=\"Motion\", Controls!L147, IF(Controls!M147=\"\",\"\",Controls!M147))","v":""},{"$f":"IF(Controls!R147=\"\",\"\",Controls!R147)","v":""},{"$f":"IF(Controls!K147=\"\",IF(RIGHT(Controls!D147, 4)=\"Case\", Controls!T147, \"\"),Controls!W147)","v":""},{"$f":"IF(E342=\"\",\"\",'Analysis 103L'!BE168)","v":""},{"$f":"IFERROR(VLOOKUP($A342,Controls!$AC$7:$AD$20,2,FALSE)*B342,\"\")","v":""},{"$f":"IF(Controls!B147=\"\",\"\",Controls!B147)","v":0}]
[{"$f":"IF(Controls!I148=\"\",\"\",IF(LEFT(Controls!I148, 6)=\"Motion\", Controls!BT148,Controls!I148))","v":""},{"$f":"IF(LEFT(A343, 6)=\"Motion\", Controls!F148, (IF(Controls!K148=\"\",\"\",Controls!K148)))","v":""},{"$f":"IF(LEFT(A343, 6)=\"Motion\", Controls!L148, IF(Controls!M148=\"\",\"\",Controls!M148))","v":""},{"$f":"IF(Controls!R148=\"\",\"\",Controls!R148)","v":""},{"$f":"IF(Controls!K148=\"\",IF(RIGHT(Controls!D148, 4)=\"Case\", Controls!T148, \"\"),Controls!W148)","v":""},{"$f":"IF(E343=\"\",\"\",'Analysis 103L'!BE169)","v":""},{"$f":"IFERROR(VLOOKUP($A343,Controls!$AC$7:$AD$20,2,FALSE)*B343,\"\")","v":""},{"$f":"IF(Controls!B148=\"\",\"\",Controls!B148)","v":0}]
[{"$f":"IF(Controls!I149=\"\",\"\",IF(LEFT(Controls!I149, 6)=\"Motion\", Controls!BT149,Controls!I149))","v":""},{"$f":"IF(LEFT(A344, 6)=\"Motion\", Controls!F149, (IF(Controls!K149=\"\",\"\",Controls!K149)))","v":""},{"$f":"IF(LEFT(A344, 6)=\"Motion\", Controls!L149, IF(Controls!M149=\"\",\"\",Controls!M149))","v":""},{"$f":"IF(Controls!R149=\"\",\"\",Controls!R149)","v":""},{"$f":"IF(Controls!K149=\"\",IF(RIGHT(Controls!D149, 4)=\"Case\", Controls!T149, \"\"),Controls!W149)","v":""},{"$f":"IF(E344=\"\",\"\",'Analysis 103L'!BE170)","v":""},{"$f":"IFERROR(VLOOKUP($A344,Controls!$AC$7:$AD$20,2,FALSE)*B344,\"\")","v":""},{"$f":"IF(Controls!B149=\"\",\"\",Controls!B149)","v":0}]
[{"$f":"IF(Controls!I150=\"\",\"\",IF(LEFT(Controls!I150, 6)=\"Motion\", Controls!BT150,Controls!I150))","v":""},{"$f":"IF(LEFT(A345, 6)=\"Motion\", Controls!F150, (IF(Controls!K150=\"\",\"\",Controls!K150)))","v":""},{"$f":"IF(LEFT(A345, 6)=\"Motion\", Controls!L150, IF(Controls!M150=\"\",\"\",Controls!M150))","v":""},{"$f":"IF(Controls!R150=\"\",\"\",Controls!R150)","v":""},{"$f":"IF(Controls!K150=\"\",IF(RIGHT(Controls!D150, 4)=\"Case\", Controls!T150, \"\"),Controls!W150)","v":""},{"$f":"IF(E345=\"\",\"\",'Analysis 103L'!BE171)","v":""},{"$f":"IFERROR(VLOOKUP($A345,Controls!$AC$7:$AD$20,2,FALSE)*B345,\"\")","v":""},{"$f":"IF(Controls!B150=\"\",\"\",Controls!B150)","v":0}]
[{"$f":"IF(Controls!I151=\"\",\"\",IF(LEFT(Controls!I151, 6)=\"Motion\", Controls!BT151,Controls!I151))","v":""},{"$f":"IF(LEFT(A346, 6)=\"Motion\", Controls!F151, (IF(Controls!K151=\"\",\"\",Controls!K151)))","v":""},{"$f":"IF(LEFT(A346, 6)=\"Motion\", Controls!L151, IF(Controls!M151=\"\",\"\",Controls!M151))","v":""},{"$f":"IF(Controls!R151=\"\",\"\",Controls!R151)","v":""},{"$f":"IF(Controls!K151=\"\",IF(RIGHT(Controls!D151, 4)=\"Case\", Controls!T151, \"\"),Controls!W151)","v":""},{"$f":"IF(E346=\"\",\"\",'Analysis 103L'!BE172)","v":""},{"$f":"IFERROR(VLOOKUP($A346,Controls!$AC$7:$AD$20,2,FALSE)*B346,\"\")","v":""},{"$f":"IF(Controls!B151=\"\",\"\",Controls!B151)","v":0}]
[{"$f":"IF(Controls!I152=\"\",\"\",IF(LEFT(Controls!I152, 6)=\"Motion\", Controls!BT152,Controls!I152))","v":""},{"$f":"IF(LEFT(A347, 6)=\"Motion\", Controls!F152, (IF(Controls!K152=\"\",\"\",Controls!K152)))","v":""},{"$f":"IF(LEFT(A347, 6)=\"Motion\", Controls!L152, IF(Controls!M152=\"\",\"\",Controls!M152))","v":""},{"$f":"IF(Controls!R152=\"\",\"\",Controls!R152)","v":""},{"$f":"IF(Controls!K152=\"\",IF(RIGHT(Controls!D152, 4)=\"Case\", Controls!T152, \"\"),Controls!W152)","v":""},{"$f":"IF(E347=\"\",\"\",'Analysis 103L'!BE173)","v":""},{"$f":"IFERROR(VLOOKUP($A347,Controls!$AC$7:$AD$20,2,FALSE)*B347,\"\")","v":""},{"$f":"IF(Controls!B152=\"\",\"\",Controls!B152)","v":0}]
[{"$f":"IF(Controls!I153=\"\",\"\",IF(LEFT(Controls!I153, 6)=\"Motion\", Controls!BT153,Controls!I153))","v":""},{"$f":"IF(LEFT(A348, 6)=\"Motion\", Controls!F153, (IF(Controls!K153=\"\",\"\",Controls!K153)))","v":""},{"$f":"IF(LEFT(A348, 6)=\"Motion\", Controls!L153, IF(Controls!M153=\"\",\"\",Controls!M153))","v":""},{"$f":"IF(Controls!R153=\"\",\"\",Controls!R153)","v":""},{"$f":"IF(Controls!K153=\"\",IF(RIGHT(Controls!D153, 4)=\"Case\", Controls!T153, \"\"),Controls!W153)","v":""},{"$f":"IF(E348=\"\",\"\",'Analysis 103L'!BE174)","v":""},{"$f":"IFERROR(VLOOKUP($A348,Controls!$AC$7:$AD$20,2,FALSE)*B348,\"\")","v":""},{"$f":"IF(Controls!B153=\"\",\"\",Controls!B153)","v":0}]
[{"$f":"IF(Controls!I154=\"\",\"\",IF(LEFT(Controls!I154, 6)=\"Motion\", Controls!BT154,Controls!I154))","v":""},{"$f":"IF(LEFT(A349, 6)=\"Motion\", Controls!F154, (IF(Controls!K154=\"\",\"\",Controls!K154)))","v":""},{"$f":"IF(LEFT(A349, 6)=\"Motion\", Controls!L154, IF(Controls!M154=\"\",\"\",Controls!M154))","v":""},{"$f":"IF(Controls!R154=\"\",\"\",Controls!R154)","v":""},{"$f":"IF(Controls!K154=\"\",IF(RIGHT(Controls!D154, 4)=\"Case\", Controls!T154, \"\"),Controls!W154)","v":""},{"$f":"IF(E349=\"\",\"\",'Analysis 103L'!BE175)","v":""},{"$f":"IFERROR(VLOOKUP($A349,Controls!$AC$7:$AD$20,2,FALSE)*B349,\"\")","v":""},{"$f":"IF(Controls!B154=\"\",\"\",Controls!B154)","v":0}]
[{"$f":"IF(Controls!I155=\"\",\"\",IF(LEFT(Controls!I155, 6)=\"Motion\", Controls!BT155,Controls!I155))","v":""},{"$f":"IF(LEFT(A350, 6)=\"Motion\", Controls!F155, (IF(Controls!K155=\"\",\"\",Controls!K155)))","v":""},{"$f":"IF(LEFT(A350, 6)=\"Motion\", Controls!L155, IF(Controls!M155=\"\",\"\",Controls!M155))","v":""},{"$f":"IF(Controls!R155=\"\",\"\",Controls!R155)","v":""},{"$f":"IF(Controls!K155=\"\",IF(RIGHT(Controls!D155, 4)=\"Case\", Controls!T155, \"\"),Controls!W155)","v":""},{"$f":"IF(E350=\"\",\"\",'Analysis 103L'!BE176)","v":""},{"$f":"IFERROR(VLOOKUP($A350,Controls!$AC$7:$AD$20,2,FALSE)*B350,\"\")","v":""},{"$f":"IF(Controls!B155=\"\",\"\",Controls!B155)","v":0}]
[{"$f":"IF(Controls!I156=\"\",\"\",IF(LEFT(Controls!I156, 6)=\"Motion\", Controls!BT156,Controls!I156))","v":""},{"$f":"IF(LEFT(A351, 6)=\"Motion\", Controls!F156, (IF(Controls!K156=\"\",\"\",Controls!K156)))","v":""},{"$f":"IF(LEFT(A351, 6)=\"Motion\", Controls!L156, IF(Controls!M156=\"\",\"\",Controls!M156))","v":""},{"$f":"IF(Controls!R156=\"\",\"\",Controls!R156)","v":""},{"$f":"IF(Controls!K156=\"\",IF(RIGHT(Controls!D156, 4)=\"Case\", Controls!T156, \"\"),Controls!W156)","v":""},{"$f":"IF(E351=\"\",\"\",'Analysis 103L'!BE177)","v":""},{"$f":"IFERROR(VLOOKUP($A351,Controls!$AC$7:$AD$20,2,FALSE)*B351,\"\")","v":""},{"$f":"IF(Controls!B156=\"\",\"\",Controls!B156)","v":0}]
[{"$f":"IF(Controls!I157=\"\",\"\",IF(LEFT(Controls!I157, 6)=\"Motion\", Controls!BT157,Controls!I157))","v":""},{"$f":"IF(LEFT(A352, 6)=\"Motion\", Controls!F157, (IF(Controls!K157=\"\",\"\",Controls!K157)))","v":""},{"$f":"IF(LEFT(A352, 6)=\"Motion\", Controls!L157, IF(Controls!M157=\"\",\"\",Controls!M157))","v":""},{"$f":"IF(Controls!R157=\"\",\"\",Controls!R157)","v":""},{"$f":"IF(Controls!K157=\"\",IF(RIGHT(Controls!D157, 4)=\"Case\", Controls!T157, \"\"),Controls!W157)","v":""},{"$f":"IF(E352=\"\",\"\",'Analysis 103L'!BE178)","v":""},{"$f":"IFERROR(VLOOKUP($A352,Controls!$AC$7:$AD$20,2,FALSE)*B352,\"\")","v":""},{"$f":"IF(Controls!B157=\"\",\"\",Controls!B157)","v":0}]
[{"$f":"IF(Controls!I158=\"\",\"\",IF(LEFT(Controls!I158, 6)=\"Motion\", Controls!BT158,Controls!I158))","v":""},{"$f":"IF(LEFT(A353, 6)=\"Motion\", Controls!F158, (IF(Controls!K158=\"\",\"\",Controls!K158)))","v":""},{"$f":"IF(LEFT(A353, 6)=\"Motion\", Controls!L158, IF(Controls!M158=\"\",\"\",Controls!M158))","v":""},{"$f":"IF(Controls!R158=\"\",\"\",Controls!R158)","v":""},{"$f":"IF(Controls!K158=\"\",IF(RIGHT(Controls!D158, 4)=\"Case\", Controls!T158, \"\"),Controls!W158)","v":""},{"$f":"IF(E353=\"\",\"\",'Analysis 103L'!BE179)","v":""},{"$f":"IFERROR(VLOOKUP($A353,Controls!$AC$7:$AD$20,2,FALSE)*B353,\"\")","v":""},{"$f":"IF(Controls!B158=\"\",\"\",Controls!B158)","v":0}]
[{"$f":"IF(Controls!I159=\"\",\"\",IF(LEFT(Controls!I159, 6)=\"Motion\", Controls!BT159,Controls!I159))","v":""},{"$f":"IF(LEFT(A354, 6)=\"Motion\", Controls!F159, (IF(Controls!K159=\"\",\"\",Controls!K159)))","v":""},{"$f":"IF(LEFT(A354, 6)=\"Motion\", Controls!L159, IF(Controls!M159=\"\",\"\",Controls!M159))","v":""},{"$f":"IF(Controls!R159=\"\",\"\",Controls!R159)","v":""},{"$f":"IF(Controls!K159=\"\",IF(RIGHT(Controls!D159, 4)=\"Case\", Controls!T159, \"\"),Controls!W159)","v":""},{"$f":"IF(E354=\"\",\"\",'Analysis 103L'!BE180)","v":""},{"$f":"IFERROR(VLOOKUP($A354,Controls!$AC$7:$AD$20,2,FALSE)*B354,\"\")","v":""},{"$f":"IF(Controls!B159=\"\",\"\",Controls!B159)","v":0}]
[{"$f":"IF(Controls!I160=\"\",\"\",IF(LEFT(Controls!I160, 6)=\"Motion\", Controls!BT160,Controls!I160))","v":""},{"$f":"IF(LEFT(A355, 6)=\"Motion\", Controls!F160, (IF(Controls!K160=\"\",\"\",Controls!K160)))","v":""},{"$f":"IF(LEFT(A355, 6)=\"Motion\", Controls!L160, IF(Controls!M160=\"\",\"\",Controls!M160))","v":""},{"$f":"IF(Controls!R160=\"\",\"\",Controls!R160)","v":""},{"$f":"IF(Controls!K160=\"\",IF(RIGHT(Controls!D160, 4)=\"Case\", Controls!T160, \"\"),Controls!W160)","v":""},{"$f":"IF(E355=\"\",\"\",'Analysis 103L'!BE181)","v":""},{"$f":"IFERROR(VLOOKUP($A355,Controls!$AC$7:$AD$20,2,FALSE)*B355,\"\")","v":""},{"$f":"IF(Controls!B160=\"\",\"\",Controls!B160)","v":0}]
[{"$f":"IF(Controls!I161=\"\",\"\",IF(LEFT(Controls!I161, 6)=\"Motion\", Controls!BT161,Controls!I161))","v":""},{"$f":"IF(LEFT(A356, 6)=\"Motion\", Controls!F161, (IF(Controls!K161=\"\",\"\",Controls!K161)))","v":""},{"$f":"IF(LEFT(A356, 6)=\"Motion\", Controls!L161, IF(Controls!M161=\"\",\"\",Controls!M161))","v":""},{"$f":"IF(Controls!R161=\"\",\"\",Controls!R161)","v":""},{"$f":"IF(Controls!K161=\"\",IF(RIGHT(Controls!D161, 4)=\"Case\", Controls!T161, \"\"),Controls!W161)","v":""},{"$f":"IF(E356=\"\",\"\",'Analysis 103L'!BE182)","v":""},{"$f":"IFERROR(VLOOKUP($A356,Controls!$AC$7:$AD$20,2,FALSE)*B356,\"\")","v":""},{"$f":"IF(Controls!B161=\"\",\"\",Controls!B161)","v":0}]
[{"$f":"IF(Controls!I162=\"\",\"\",IF(LEFT(Controls!I162, 6)=\"Motion\", Controls!BT162,Controls!I162))","v":""},{"$f":"IF(LEFT(A357, 6)=\"Motion\", Controls!F162, (IF(Controls!K162=\"\",\"\",Controls!K162)))","v":""},{"$f":"IF(LEFT(A357, 6)=\"Motion\", Controls!L162, IF(Controls!M162=\"\",\"\",Controls!M162))","v":""},{"$f":"IF(Controls!R162=\"\",\"\",Controls!R162)","v":""},{"$f":"IF(Controls!K162=\"\",IF(RIGHT(Controls!D162, 4)=\"Case\", Controls!T162, \"\"),Controls!W162)","v":""},{"$f":"IF(E357=\"\",\"\",'Analysis 103L'!BE183)","v":""},{"$f":"IFERROR(VLOOKUP($A357,Controls!$AC$7:$AD$20,2,FALSE)*B357,\"\")","v":""},{"$f":"IF(Controls!B162=\"\",\"\",Controls!B162)","v":0}]
[{"$f":"IF(Controls!I163=\"\",\"\",IF(LEFT(Controls!I163, 6)=\"Motion\", Controls!BT163,Controls!I163))","v":""},{"$f":"IF(LEFT(A358, 6)=\"Motion\", Controls!F163, (IF(Controls!K163=\"\",\"\",Controls!K163)))","v":""},{"$f":"IF(LEFT(A358, 6)=\"Motion\", Controls!L163, IF(Controls!M163=\"\",\"\",Controls!M163))","v":""},{"$f":"IF(Controls!R163=\"\",\"\",Controls!R163)","v":""},{"$f":"IF(Controls!K163=\"\",IF(RIGHT(Controls!D163, 4)=\"Case\", Controls!T163, \"\"),Controls!W163)","v":""},{"$f":"IF(E358=\"\",\"\",'Analysis 103L'!BE184)","v":""},{"$f":"IFERROR(VLOOKUP($A358,Controls!$AC$7:$AD$20,2,FALSE)*B358,\"\")","v":""},{"$f":"IF(Controls!B163=\"\",\"\",Controls!B163)","v":0}]
[{"$f":"IF(Controls!I164=\"\",\"\",IF(LEFT(Controls!I164, 6)=\"Motion\", Controls!BT164,Controls!I164))","v":""},{"$f":"IF(LEFT(A359, 6)=\"Motion\", Controls!F164, (IF(Controls!K164=\"\",\"\",Controls!K164)))","v":""},{"$f":"IF(LEFT(A359, 6)=\"Motion\", Controls!L164, IF(Controls!M164=\"\",\"\",Controls!M164))","v":""},{"$f":"IF(Controls!R164=\"\",\"\",Controls!R164)","v":""},{"$f":"IF(Controls!K164=\"\",IF(RIGHT(Controls!D164, 4)=\"Case\", Controls!T164, \"\"),Controls!W164)","v":""},{"$f":"IF(E359=\"\",\"\",'Analysis 103L'!BE185)","v":""},{"$f":"IFERROR(VLOOKUP($A359,Controls!$AC$7:$AD$20,2,FALSE)*B359,\"\")","v":""},{"$f":"IF(Controls!B164=\"\",\"\",Controls!B164)","v":0}]
[{"$f":"IF(Controls!I165=\"\",\"\",IF(LEFT(Controls!I165, 6)=\"Motion\", Controls!BT165,Controls!I165))","v":""},{"$f":"IF(LEFT(A360, 6)=\"Motion\", Controls!F165, (IF(Controls!K165=\"\",\"\",Controls!K165)))","v":""},{"$f":"IF(LEFT(A360, 6)=\"Motion\", Controls!L165, IF(Controls!M165=\"\",\"\",Controls!M165))","v":""},{"$f":"IF(Controls!R165=\"\",\"\",Controls!R165)","v":""},{"$f":"IF(Controls!K165=\"\",IF(RIGHT(Controls!D165, 4)=\"Case\", Controls!T165, \"\"),Controls!W165)","v":""},{"$f":"IF(E360=\"\",\"\",'Analysis 103L'!BE186)","v":""},{"$f":"IFERROR(VLOOKUP($A360,Controls!$AC$7:$AD$20,2,FALSE)*B360,\"\")","v":""},{"$f":"IF(Controls!B165=\"\",\"\",Controls!B165)","v":0}]
[{"$f":"IF(Controls!I166=\"\",\"\",IF(LEFT(Controls!I166, 6)=\"Motion\", Controls!BT166,Controls!I166))","v":""},{"$f":"IF(LEFT(A361, 6)=\"Motion\", Controls!F166, (IF(Controls!K166=\"\",\"\",Controls!K166)))","v":""},{"$f":"IF(LEFT(A361, 6)=\"Motion\", Controls!L166, IF(Controls!M166=\"\",\"\",Controls!M166))","v":""},{"$f":"IF(Controls!R166=\"\",\"\",Controls!R166)","v":""},{"$f":"IF(Controls!K166=\"\",IF(RIGHT(Controls!D166, 4)=\"Case\", Controls!T166, \"\"),Controls!W166)","v":""},{"$f":"IF(E361=\"\",\"\",'Analysis 103L'!BE187)","v":""},{"$f":"IFERROR(VLOOKUP($A361,Controls!$AC$7:$AD$20,2,FALSE)*B361,\"\")","v":""},{"$f":"IF(Controls!B166=\"\",\"\",Controls!B166)","v":0}]
[{"$f":"IF(Controls!I167=\"\",\"\",IF(LEFT(Controls!I167, 6)=\"Motion\", Controls!BT167,Controls!I167))","v":""},{"$f":"IF(LEFT(A362, 6)=\"Motion\", Controls!F167, (IF(Controls!K167=\"\",\"\",Controls!K167)))","v":""},{"$f":"IF(LEFT(A362, 6)=\"Motion\", Controls!L167, IF(Controls!M167=\"\",\"\",Controls!M167))","v":""},{"$f":"IF(Controls!R167=\"\",\"\",Controls!R167)","v":""},{"$f":"IF(Controls!K167=\"\",IF(RIGHT(Controls!D167, 4)=\"Case\", Controls!T167, \"\"),Controls!W167)","v":""},{"$f":"IF(E362=\"\",\"\",'Analysis 103L'!BE188)","v":""},{"$f":"IFERROR(VLOOKUP($A362,Controls!$AC$7:$AD$20,2,FALSE)*B362,\"\")","v":""},{"$f":"IF(Controls!B167=\"\",\"\",Controls!B167)","v":0}]
[{"$f":"IF(Controls!I168=\"\",\"\",IF(LEFT(Controls!I168, 6)=\"Motion\", Controls!BT168,Controls!I168))","v":""},{"$f":"IF(LEFT(A363, 6)=\"Motion\", Controls!F168, (IF(Controls!K168=\"\",\"\",Controls!K168)))","v":""},{"$f":"IF(LEFT(A363, 6)=\"Motion\", Controls!L168, IF(Controls!M168=\"\",\"\",Controls!M168))","v":""},{"$f":"IF(Controls!R168=\"\",\"\",Controls!R168)","v":""},{"$f":"IF(Controls!K168=\"\",IF(RIGHT(Controls!D168, 4)=\"Case\", Controls!T168, \"\"),Controls!W168)","v":""},{"$f":"IF(E363=\"\",\"\",'Analysis 103L'!BE189)","v":""},{"$f":"IFERROR(VLOOKUP($A363,Controls!$AC$7:$AD$20,2,FALSE)*B363,\"\")","v":""},{"$f":"IF(Controls!B168=\"\",\"\",Controls!B168)","v":0}]
[{"$f":"IF(Controls!I169=\"\",\"\",IF(LEFT(Controls!I169, 6)=\"Motion\", Controls!BT169,Controls!I169))","v":""},{"$f":"IF(LEFT(A364, 6)=\"Motion\", Controls!F169, (IF(Controls!K169=\"\",\"\",Controls!K169)))","v":""},{"$f":"IF(LEFT(A364, 6)=\"Motion\", Controls!L169, IF(Controls!M169=\"\",\"\",Controls!M169))","v":""},{"$f":"IF(Controls!R169=\"\",\"\",Controls!R169)","v":""},{"$f":"IF(Controls!K169=\"\",IF(RIGHT(Controls!D169, 4)=\"Case\", Controls!T169, \"\"),Controls!W169)","v":""},{"$f":"IF(E364=\"\",\"\",'Analysis 103L'!BE190)","v":""},{"$f":"IFERROR(VLOOKUP($A364,Controls!$AC$7:$AD$20,2,FALSE)*B364,\"\")","v":""},{"$f":"IF(Controls!B169=\"\",\"\",Controls!B169)","v":0}]
[{"$f":"IF(Controls!I170=\"\",\"\",IF(LEFT(Controls!I170, 6)=\"Motion\", Controls!BT170,Controls!I170))","v":""},{"$f":"IF(LEFT(A365, 6)=\"Motion\", Controls!F170, (IF(Controls!K170=\"\",\"\",Controls!K170)))","v":""},{"$f":"IF(LEFT(A365, 6)=\"Motion\", Controls!L170, IF(Controls!M170=\"\",\"\",Controls!M170))","v":""},{"$f":"IF(Controls!R170=\"\",\"\",Controls!R170)","v":""},{"$f":"IF(Controls!K170=\"\",IF(RIGHT(Controls!D170, 4)=\"Case\", Controls!T170, \"\"),Controls!W170)","v":""},{"$f":"IF(E365=\"\",\"\",'Analysis 103L'!BE191)","v":""},{"$f":"IFERROR(VLOOKUP($A365,Controls!$AC$7:$AD$20,2,FALSE)*B365,\"\")","v":""},{"$f":"IF(Controls!B170=\"\",\"\",Controls!B170)","v":0}]
[{"$f":"IF(Controls!I171=\"\",\"\",IF(LEFT(Controls!I171, 6)=\"Motion\", Controls!BT171,Controls!I171))","v":""},{"$f":"IF(LEFT(A366, 6)=\"Motion\", Controls!F171, (IF(Controls!K171=\"\",\"\",Controls!K171)))","v":""},{"$f":"IF(LEFT(A366, 6)=\"Motion\", Controls!L171, IF(Controls!M171=\"\",\"\",Controls!M171))","v":""},{"$f":"IF(Controls!R171=\"\",\"\",Controls!R171)","v":""},{"$f":"IF(Controls!K171=\"\",IF(RIGHT(Controls!D171, 4)=\"Case\", Controls!T171, \"\"),Controls!W171)","v":""},{"$f":"IF(E366=\"\",\"\",'Analysis 103L'!BE192)","v":""},{"$f":"IFERROR(VLOOKUP($A366,Controls!$AC$7:$AD$20,2,FALSE)*B366,\"\")","v":""},{"$f":"IF(Controls!B171=\"\",\"\",Controls!B171)","v":0}]
[{"$f":"IF(Controls!I172=\"\",\"\",IF(LEFT(Controls!I172, 6)=\"Motion\", Controls!BT172,Controls!I172))","v":""},{"$f":"IF(LEFT(A367, 6)=\"Motion\", Controls!F172, (IF(Controls!K172=\"\",\"\",Controls!K172)))","v":""},{"$f":"IF(LEFT(A367, 6)=\"Motion\", Controls!L172, IF(Controls!M172=\"\",\"\",Controls!M172))","v":""},{"$f":"IF(Controls!R172=\"\",\"\",Controls!R172)","v":""},{"$f":"IF(Controls!K172=\"\",IF(RIGHT(Controls!D172, 4)=\"Case\", Controls!T172, \"\"),Controls!W172)","v":""},{"$f":"IF(E367=\"\",\"\",'Analysis 103L'!BE193)","v":""},{"$f":"IFERROR(VLOOKUP($A367,Controls!$AC$7:$AD$20,2,FALSE)*B367,\"\")","v":""},{"$f":"IF(Controls!B172=\"\",\"\",Controls!B172)","v":0}]
[{"$f":"IF(Controls!I173=\"\",\"\",IF(LEFT(Controls!I173, 6)=\"Motion\", Controls!BT173,Controls!I173))","v":""},{"$f":"IF(LEFT(A368, 6)=\"Motion\", Controls!F173, (IF(Controls!K173=\"\",\"\",Controls!K173)))","v":""},{"$f":"IF(LEFT(A368, 6)=\"Motion\", Controls!L173, IF(Controls!M173=\"\",\"\",Controls!M173))","v":""},{"$f":"IF(Controls!R173=\"\",\"\",Controls!R173)","v":""},{"$f":"IF(Controls!K173=\"\",IF(RIGHT(Controls!D173, 4)=\"Case\", Controls!T173, \"\"),Controls!W173)","v":""},{"$f":"IF(E368=\"\",\"\",'Analysis 103L'!BE194)","v":""},{"$f":"IFERROR(VLOOKUP($A368,Controls!$AC$7:$AD$20,2,FALSE)*B368,\"\")","v":""},{"$f":"IF(Controls!B173=\"\",\"\",Controls!B173)","v":0}]
[{"$f":"IF(Controls!I174=\"\",\"\",IF(LEFT(Controls!I174, 6)=\"Motion\", Controls!BT174,Controls!I174))","v":""},{"$f":"IF(LEFT(A369, 6)=\"Motion\", Controls!F174, (IF(Controls!K174=\"\",\"\",Controls!K174)))","v":""},{"$f":"IF(LEFT(A369, 6)=\"Motion\", Controls!L174, IF(Controls!M174=\"\",\"\",Controls!M174))","v":""},{"$f":"IF(Controls!R174=\"\",\"\",Controls!R174)","v":""},{"$f":"IF(Controls!K174=\"\",IF(RIGHT(Controls!D174, 4)=\"Case\", Controls!T174, \"\"),Controls!W174)","v":""},{"$f":"IF(E369=\"\",\"\",'Analysis 103L'!BE195)","v":""},{"$f":"IFERROR(VLOOKUP($A369,Controls!$AC$7:$AD$20,2,FALSE)*B369,\"\")","v":""},{"$f":"IF(Controls!B174=\"\",\"\",Controls!B174)","v":0}]
[{"$f":"IF(Controls!I175=\"\",\"\",IF(LEFT(Controls!I175, 6)=\"Motion\", Controls!BT175,Controls!I175))","v":""},{"$f":"IF(LEFT(A370, 6)=\"Motion\", Controls!F175, (IF(Controls!K175=\"\",\"\",Controls!K175)))","v":""},{"$f":"IF(LEFT(A370, 6)=\"Motion\", Controls!L175, IF(Controls!M175=\"\",\"\",Controls!M175))","v":""},{"$f":"IF(Controls!R175=\"\",\"\",Controls!R175)","v":""},{"$f":"IF(Controls!K175=\"\",IF(RIGHT(Controls!D175, 4)=\"Case\", Controls!T175, \"\"),Controls!W175)","v":""},{"$f":"IF(E370=\"\",\"\",'Analysis 103L'!BE196)","v":""},{"$f":"IFERROR(VLOOKUP($A370,Controls!$AC$7:$AD$20,2,FALSE)*B370,\"\")","v":""},{"$f":"IF(Controls!B175=\"\",\"\",Controls!B175)","v":0}]
[{"$f":"IF(Controls!I176=\"\",\"\",IF(LEFT(Controls!I176, 6)=\"Motion\", Controls!BT176,Controls!I176))","v":""},{"$f":"IF(LEFT(A371, 6)=\"Motion\", Controls!F176, (IF(Controls!K176=\"\",\"\",Controls!K176)))","v":""},{"$f":"IF(LEFT(A371, 6)=\"Motion\", Controls!L176, IF(Controls!M176=\"\",\"\",Controls!M176))","v":""},{"$f":"IF(Controls!R176=\"\",\"\",Controls!R176)","v":""},{"$f":"IF(Controls!K176=\"\",IF(RIGHT(Controls!D176, 4)=\"Case\", Controls!T176, \"\"),Controls!W176)","v":""},{"$f":"IF(E371=\"\",\"\",'Analysis 103L'!BE197)","v":""},{"$f":"IFERROR(VLOOKUP($A371,Controls!$AC$7:$AD$20,2,FALSE)*B371,\"\")","v":""},{"$f":"IF(Controls!B176=\"\",\"\",Controls!B176)","v":0}]
[{"$f":"IF(Controls!I177=\"\",\"\",IF(LEFT(Controls!I177, 6)=\"Motion\", Controls!BT177,Controls!I177))","v":""},{"$f":"IF(LEFT(A372, 6)=\"Motion\", Controls!F177, (IF(Controls!K177=\"\",\"\",Controls!K177)))","v":""},{"$f":"IF(LEFT(A372, 6)=\"Motion\", Controls!L177, IF(Controls!M177=\"\",\"\",Controls!M177))","v":""},{"$f":"IF(Controls!R177=\"\",\"\",Controls!R177)","v":""},{"$f":"IF(Controls!K177=\"\",IF(RIGHT(Controls!D177, 4)=\"Case\", Controls!T177, \"\"),Controls!W177)","v":""},{"$f":"IF(E372=\"\",\"\",'Analysis 103L'!BE198)","v":""},{"$f":"IFERROR(VLOOKUP($A372,Controls!$AC$7:$AD$20,2,FALSE)*B372,\"\")","v":""},{"$f":"IF(Controls!B177=\"\",\"\",Controls!B177)","v":0}]
[{"$f":"IF(Controls!I178=\"\",\"\",IF(LEFT(Controls!I178, 6)=\"Motion\", Controls!BT178,Controls!I178))","v":""},{"$f":"IF(LEFT(A373, 6)=\"Motion\", Controls!F178, (IF(Controls!K178=\"\",\"\",Controls!K178)))","v":""},{"$f":"IF(LEFT(A373, 6)=\"Motion\", Controls!L178, IF(Controls!M178=\"\",\"\",Controls!M178))","v":""},{"$f":"IF(Controls!R178=\"\",\"\",Controls!R178)","v":""},{"$f":"IF(Controls!K178=\"\",IF(RIGHT(Controls!D178, 4)=\"Case\", Controls!T178, \"\"),Controls!W178)","v":""},{"$f":"IF(E373=\"\",\"\",'Analysis 103L'!BE199)","v":""},{"$f":"IFERROR(VLOOKUP($A373,Controls!$AC$7:$AD$20,2,FALSE)*B373,\"\")","v":""},{"$f":"IF(Controls!B178=\"\",\"\",Controls!B178)","v":0}]
[{"$f":"IF(Controls!I179=\"\",\"\",IF(LEFT(Controls!I179, 6)=\"Motion\", Controls!BT179,Controls!I179))","v":""},{"$f":"IF(LEFT(A374, 6)=\"Motion\", Controls!F179, (IF(Controls!K179=\"\",\"\",Controls!K179)))","v":""},{"$f":"IF(LEFT(A374, 6)=\"Motion\", Controls!L179, IF(Controls!M179=\"\",\"\",Controls!M179))","v":""},{"$f":"IF(Controls!R179=\"\",\"\",Controls!R179)","v":""},{"$f":"IF(Controls!K179=\"\",IF(RIGHT(Controls!D179, 4)=\"Case\", Controls!T179, \"\"),Controls!W179)","v":""},{"$f":"IF(E374=\"\",\"\",'Analysis 103L'!BE200)","v":""},{"$f":"IFERROR(VLOOKUP($A374,Controls!$AC$7:$AD$20,2,FALSE)*B374,\"\")","v":""},{"$f":"IF(Controls!B179=\"\",\"\",Controls!B179)","v":0}]
[{"$f":"IF(Controls!I180=\"\",\"\",IF(LEFT(Controls!I180, 6)=\"Motion\", Controls!BT180,Controls!I180))","v":""},{"$f":"IF(LEFT(A375, 6)=\"Motion\", Controls!F180, (IF(Controls!K180=\"\",\"\",Controls!K180)))","v":""},{"$f":"IF(LEFT(A375, 6)=\"Motion\", Controls!L180, IF(Controls!M180=\"\",\"\",Controls!M180))","v":""},{"$f":"IF(Controls!R180=\"\",\"\",Controls!R180)","v":""},{"$f":"IF(Controls!K180=\"\",IF(RIGHT(Controls!D180, 4)=\"Case\", Controls!T180, \"\"),Controls!W180)","v":""},{"$f":"IF(E375=\"\",\"\",'Analysis 103L'!BE201)","v":""},{"$f":"IFERROR(VLOOKUP($A375,Controls!$AC$7:$AD$20,2,FALSE)*B375,\"\")","v":""},{"$f":"IF(Controls!B180=\"\",\"\",Controls!B180)","v":0}]
[{"$f":"IF(Controls!I181=\"\",\"\",IF(LEFT(Controls!I181, 6)=\"Motion\", Controls!BT181,Controls!I181))","v":""},{"$f":"IF(LEFT(A376, 6)=\"Motion\", Controls!F181, (IF(Controls!K181=\"\",\"\",Controls!K181)))","v":""},{"$f":"IF(LEFT(A376, 6)=\"Motion\", Controls!L181, IF(Controls!M181=\"\",\"\",Controls!M181))","v":""},{"$f":"IF(Controls!R181=\"\",\"\",Controls!R181)","v":""},{"$f":"IF(Controls!K181=\"\",IF(RIGHT(Controls!D181, 4)=\"Case\", Controls!T181, \"\"),Controls!W181)","v":""},{"$f":"IF(E376=\"\",\"\",'Analysis 103L'!BE202)","v":""},{"$f":"IFERROR(VLOOKUP($A376,Controls!$AC$7:$AD$20,2,FALSE)*B376,\"\")","v":""},{"$f":"IF(Controls!B181=\"\",\"\",Controls!B181)","v":0}]
[{"$f":"IF(Controls!I182=\"\",\"\",IF(LEFT(Controls!I182, 6)=\"Motion\", Controls!BT182,Controls!I182))","v":""},{"$f":"IF(LEFT(A377, 6)=\"Motion\", Controls!F182, (IF(Controls!K182=\"\",\"\",Controls!K182)))","v":""},{"$f":"IF(LEFT(A377, 6)=\"Motion\", Controls!L182, IF(Controls!M182=\"\",\"\",Controls!M182))","v":""},{"$f":"IF(Controls!R182=\"\",\"\",Controls!R182)","v":""},{"$f":"IF(Controls!K182=\"\",IF(RIGHT(Controls!D182, 4)=\"Case\", Controls!T182, \"\"),Controls!W182)","v":""},{"$f":"IF(E377=\"\",\"\",'Analysis 103L'!BE203)","v":""},{"$f":"IFERROR(VLOOKUP($A377,Controls!$AC$7:$AD$20,2,FALSE)*B377,\"\")","v":""},{"$f":"IF(Controls!B182=\"\",\"\",Controls!B182)","v":0}]
[{"$f":"IF(Controls!I183=\"\",\"\",IF(LEFT(Controls!I183, 6)=\"Motion\", Controls!BT183,Controls!I183))","v":""},{"$f":"IF(LEFT(A378, 6)=\"Motion\", Controls!F183, (IF(Controls!K183=\"\",\"\",Controls!K183)))","v":""},{"$f":"IF(LEFT(A378, 6)=\"Motion\", Controls!L183, IF(Controls!M183=\"\",\"\",Controls!M183))","v":""},{"$f":"IF(Controls!R183=\"\",\"\",Controls!R183)","v":""},{"$f":"IF(Controls!K183=\"\",IF(RIGHT(Controls!D183, 4)=\"Case\", Controls!T183, \"\"),Controls!W183)","v":""},{"$f":"IF(E378=\"\",\"\",'Analysis 103L'!BE204)","v":""},{"$f":"IFERROR(VLOOKUP($A378,Controls!$AC$7:$AD$20,2,FALSE)*B378,\"\")","v":""},{"$f":"IF(Controls!B183=\"\",\"\",Controls!B183)","v":0}]
[{"$f":"IF(Controls!I184=\"\",\"\",IF(LEFT(Controls!I184, 6)=\"Motion\", Controls!BT184,Controls!I184))","v":""},{"$f":"IF(LEFT(A379, 6)=\"Motion\", Controls!F184, (IF(Controls!K184=\"\",\"\",Controls!K184)))","v":""},{"$f":"IF(LEFT(A379, 6)=\"Motion\", Controls!L184, IF(Controls!M184=\"\",\"\",Controls!M184))","v":""},{"$f":"IF(Controls!R184=\"\",\"\",Controls!R184)","v":""},{"$f":"IF(Controls!K184=\"\",IF(RIGHT(Controls!D184, 4)=\"Case\", Controls!T184, \"\"),Controls!W184)","v":""},{"$f":"IF(E379=\"\",\"\",'Analysis 103L'!BE205)","v":""},{"$f":"IFERROR(VLOOKUP($A379,Controls!$AC$7:$AD$20,2,FALSE)*B379,\"\")","v":""},{"$f":"IF(Controls!B184=\"\",\"\",Controls!B184)","v":0}]
[{"$f":"IF(Controls!I185=\"\",\"\",IF(LEFT(Controls!I185, 6)=\"Motion\", Controls!BT185,Controls!I185))","v":""},{"$f":"IF(LEFT(A380, 6)=\"Motion\", Controls!F185, (IF(Controls!K185=\"\",\"\",Controls!K185)))","v":""},{"$f":"IF(LEFT(A380, 6)=\"Motion\", Controls!L185, IF(Controls!M185=\"\",\"\",Controls!M185))","v":""},{"$f":"IF(Controls!R185=\"\",\"\",Controls!R185)","v":""},{"$f":"IF(Controls!K185=\"\",IF(RIGHT(Controls!D185, 4)=\"Case\", Controls!T185, \"\"),Controls!W185)","v":""},{"$f":"IF(E380=\"\",\"\",'Analysis 103L'!BE206)","v":""},{"$f":"IFERROR(VLOOKUP($A380,Controls!$AC$7:$AD$20,2,FALSE)*B380,\"\")","v":""},{"$f":"IF(Controls!B185=\"\",\"\",Controls!B185)","v":0}]
[{"$f":"IF(Controls!I186=\"\",\"\",IF(LEFT(Controls!I186, 6)=\"Motion\", Controls!BT186,Controls!I186))","v":""},{"$f":"IF(LEFT(A381, 6)=\"Motion\", Controls!F186, (IF(Controls!K186=\"\",\"\",Controls!K186)))","v":""},{"$f":"IF(LEFT(A381, 6)=\"Motion\", Controls!L186, IF(Controls!M186=\"\",\"\",Controls!M186))","v":""},{"$f":"IF(Controls!R186=\"\",\"\",Controls!R186)","v":""},{"$f":"IF(Controls!K186=\"\",IF(RIGHT(Controls!D186, 4)=\"Case\", Controls!T186, \"\"),Controls!W186)","v":""},{"$f":"IF(E381=\"\",\"\",'Analysis 103L'!BE207)","v":""},{"$f":"IFERROR(VLOOKUP($A381,Controls!$AC$7:$AD$20,2,FALSE)*B381,\"\")","v":""},{"$f":"IF(Controls!B186=\"\",\"\",Controls!B186)","v":0}]
[{"$f":"IF(Controls!I187=\"\",\"\",IF(LEFT(Controls!I187, 6)=\"Motion\", Controls!BT187,Controls!I187))","v":""},{"$f":"IF(LEFT(A382, 6)=\"Motion\", Controls!F187, (IF(Controls!K187=\"\",\"\",Controls!K187)))","v":""},{"$f":"IF(LEFT(A382, 6)=\"Motion\", Controls!L187, IF(Controls!M187=\"\",\"\",Controls!M187))","v":""},{"$f":"IF(Controls!R187=\"\",\"\",Controls!R187)","v":""},{"$f":"IF(Controls!K187=\"\",IF(RIGHT(Controls!D187, 4)=\"Case\", Controls!T187, \"\"),Controls!W187)","v":""},{"$f":"IF(E382=\"\",\"\",'Analysis 103L'!BE208)","v":""},{"$f":"IFERROR(VLOOKUP($A382,Controls!$AC$7:$AD$20,2,FALSE)*B382,\"\")","v":""},{"$f":"IF(Controls!B187=\"\",\"\",Controls!B187)","v":0}]
[{"$f":"IF(Controls!I188=\"\",\"\",IF(LEFT(Controls!I188, 6)=\"Motion\", Controls!BT188,Controls!I188))","v":""},{"$f":"IF(LEFT(A383, 6)=\"Motion\", Controls!F188, (IF(Controls!K188=\"\",\"\",Controls!K188)))","v":""},{"$f":"IF(LEFT(A383, 6)=\"Motion\", Controls!L188, IF(Controls!M188=\"\",\"\",Controls!M188))","v":""},{"$f":"IF(Controls!R188=\"\",\"\",Controls!R188)","v":""},{"$f":"IF(Controls!K188=\"\",IF(RIGHT(Controls!D188, 4)=\"Case\", Controls!T188, \"\"),Controls!W188)","v":""},{"$f":"IF(E383=\"\",\"\",'Analysis 103L'!BE209)","v":""},{"$f":"IFERROR(VLOOKUP($A383,Controls!$AC$7:$AD$20,2,FALSE)*B383,\"\")","v":""},{"$f":"IF(Controls!B188=\"\",\"\",Controls!B188)","v":0}]
[{"$f":"IF(Controls!I189=\"\",\"\",IF(LEFT(Controls!I189, 6)=\"Motion\", Controls!BT189,Controls!I189))","v":""},{"$f":"IF(LEFT(A384, 6)=\"Motion\", Controls!F189, (IF(Controls!K189=\"\",\"\",Controls!K189)))","v":""},{"$f":"IF(LEFT(A384, 6)=\"Motion\", Controls!L189, IF(Controls!M189=\"\",\"\",Controls!M189))","v":""},{"$f":"IF(Controls!R189=\"\",\"\",Controls!R189)","v":""},{"$f":"IF(Controls!K189=\"\",IF(RIGHT(Controls!D189, 4)=\"Case\", Controls!T189, \"\"),Controls!W189)","v":""},{"$f":"IF(E384=\"\",\"\",'Analysis 103L'!BE210)","v":""},{"$f":"IFERROR(VLOOKUP($A384,Controls!$AC$7:$AD$20,2,FALSE)*B384,\"\")","v":""},{"$f":"IF(Controls!B189=\"\",\"\",Controls!B189)","v":0}]
[{"$f":"IF(Controls!I190=\"\",\"\",IF(LEFT(Controls!I190, 6)=\"Motion\", Controls!BT190,Controls!I190))","v":""},{"$f":"IF(LEFT(A385, 6)=\"Motion\", Controls!F190, (IF(Controls!K190=\"\",\"\",Controls!K190)))","v":""},{"$f":"IF(LEFT(A385, 6)=\"Motion\", Controls!L190, IF(Controls!M190=\"\",\"\",Controls!M190))","v":""},{"$f":"IF(Controls!R190=\"\",\"\",Controls!R190)","v":""},{"$f":"IF(Controls!K190=\"\",IF(RIGHT(Controls!D190, 4)=\"Case\", Controls!T190, \"\"),Controls!W190)","v":""},{"$f":"IF(E385=\"\",\"\",'Analysis 103L'!BE211)","v":""},{"$f":"IFERROR(VLOOKUP($A385,Controls!$AC$7:$AD$20,2,FALSE)*B385,\"\")","v":""},{"$f":"IF(Controls!B190=\"\",\"\",Controls!B190)","v":0}]
[{"$f":"IF(Controls!I191=\"\",\"\",IF(LEFT(Controls!I191, 6)=\"Motion\", Controls!BT191,Controls!I191))","v":""},{"$f":"IF(LEFT(A386, 6)=\"Motion\", Controls!F191, (IF(Controls!K191=\"\",\"\",Controls!K191)))","v":""},{"$f":"IF(LEFT(A386, 6)=\"Motion\", Controls!L191, IF(Controls!M191=\"\",\"\",Controls!M191))","v":""},{"$f":"IF(Controls!R191=\"\",\"\",Controls!R191)","v":""},{"$f":"IF(Controls!K191=\"\",IF(RIGHT(Controls!D191, 4)=\"Case\", Controls!T191, \"\"),Controls!W191)","v":""},{"$f":"IF(E386=\"\",\"\",'Analysis 103L'!BE212)","v":""},{"$f":"IFERROR(VLOOKUP($A386,Controls!$AC$7:$AD$20,2,FALSE)*B386,\"\")","v":""},{"$f":"IF(Controls!B191=\"\",\"\",Controls!B191)","v":0}]
[{"$f":"IF(Controls!I192=\"\",\"\",IF(LEFT(Controls!I192, 6)=\"Motion\", Controls!BT192,Controls!I192))","v":""},{"$f":"IF(LEFT(A387, 6)=\"Motion\", Controls!F192, (IF(Controls!K192=\"\",\"\",Controls!K192)))","v":""},{"$f":"IF(LEFT(A387, 6)=\"Motion\", Controls!L192, IF(Controls!M192=\"\",\"\",Controls!M192))","v":""},{"$f":"IF(Controls!R192=\"\",\"\",Controls!R192)","v":""},{"$f":"IF(Controls!K192=\"\",IF(RIGHT(Controls!D192, 4)=\"Case\", Controls!T192, \"\"),Controls!W192)","v":""},{"$f":"IF(E387=\"\",\"\",'Analysis 103L'!BE213)","v":""},{"$f":"IFERROR(VLOOKUP($A387,Controls!$AC$7:$AD$20,2,FALSE)*B387,\"\")","v":""},{"$f":"IF(Controls!B192=\"\",\"\",Controls!B192)","v":0}]
[{"$f":"IF(Controls!I193=\"\",\"\",IF(LEFT(Controls!I193, 6)=\"Motion\", Controls!BT193,Controls!I193))","v":""},{"$f":"IF(LEFT(A388, 6)=\"Motion\", Controls!F193, (IF(Controls!K193=\"\",\"\",Controls!K193)))","v":""},{"$f":"IF(LEFT(A388, 6)=\"Motion\", Controls!L193, IF(Controls!M193=\"\",\"\",Controls!M193))","v":""},{"$f":"IF(Controls!R193=\"\",\"\",Controls!R193)","v":""},{"$f":"IF(Controls!K193=\"\",IF(RIGHT(Controls!D193, 4)=\"Case\", Controls!T193, \"\"),Controls!W193)","v":""},{"$f":"IF(E388=\"\",\"\",'Analysis 103L'!BE214)","v":""},{"$f":"IFERROR(VLOOKUP($A388,Controls!$AC$7:$AD$20,2,FALSE)*B388,\"\")","v":""},{"$f":"IF(Controls!B193=\"\",\"\",Controls!B193)","v":0}]
[{"$f":"IF(Controls!I194=\"\",\"\",IF(LEFT(Controls!I194, 6)=\"Motion\", Controls!BT194,Controls!I194))","v":""},{"$f":"IF(LEFT(A389, 6)=\"Motion\", Controls!F194, (IF(Controls!K194=\"\",\"\",Controls!K194)))","v":""},{"$f":"IF(LEFT(A389, 6)=\"Motion\", Controls!L194, IF(Controls!M194=\"\",\"\",Controls!M194))","v":""},{"$f":"IF(Controls!R194=\"\",\"\",Controls!R194)","v":""},{"$f":"IF(Controls!K194=\"\",IF(RIGHT(Controls!D194, 4)=\"Case\", Controls!T194, \"\"),Controls!W194)","v":""},{"$f":"IF(E389=\"\",\"\",'Analysis 103L'!BE215)","v":""},{"$f":"IFERROR(VLOOKUP($A389,Controls!$AC$7:$AD$20,2,FALSE)*B389,\"\")","v":""},{"$f":"IF(Controls!B194=\"\",\"\",Controls!B194)","v":0}]
[{"$f":"IF(Controls!I195=\"\",\"\",IF(LEFT(Controls!I195, 6)=\"Motion\", Controls!BT195,Controls!I195))","v":""},{"$f":"IF(LEFT(A390, 6)=\"Motion\", Controls!F195, (IF(Controls!K195=\"\",\"\",Controls!K195)))","v":""},{"$f":"IF(LEFT(A390, 6)=\"Motion\", Controls!L195, IF(Controls!M195=\"\",\"\",Controls!M195))","v":""},{"$f":"IF(Controls!R195=\"\",\"\",Controls!R195)","v":""},{"$f":"IF(Controls!K195=\"\",IF(RIGHT(Controls!D195, 4)=\"Case\", Controls!T195, \"\"),Controls!W195)","v":""},{"$f":"IF(E390=\"\",\"\",'Analysis 103L'!BE216)","v":""},{"$f":"IFERROR(VLOOKUP($A390,Controls!$AC$7:$AD$20,2,FALSE)*B390,\"\")","v":""},{"$f":"IF(Controls!B195=\"\",\"\",Controls!B195)","v":0}]
[{"$f":"IF(Controls!I196=\"\",\"\",IF(LEFT(Controls!I196, 6)=\"Motion\", Controls!BT196,Controls!I196))","v":""},{"$f":"IF(LEFT(A391, 6)=\"Motion\", Controls!F196, (IF(Controls!K196=\"\",\"\",Controls!K196)))","v":""},{"$f":"IF(LEFT(A391, 6)=\"Motion\", Controls!L196, IF(Controls!M196=\"\",\"\",Controls!M196))","v":""},{"$f":"IF(Controls!R196=\"\",\"\",Controls!R196)","v":""},{"$f":"IF(Controls!K196=\"\",IF(RIGHT(Controls!D196, 4)=\"Case\", Controls!T196, \"\"),Controls!W196)","v":""},{"$f":"IF(E391=\"\",\"\",'Analysis 103L'!BE217)","v":""},{"$f":"IFERROR(VLOOKUP($A391,Controls!$AC$7:$AD$20,2,FALSE)*B391,\"\")","v":""},{"$f":"IF(Controls!B196=\"\",\"\",Controls!B196)","v":0}]
[{"$f":"IF(Controls!I197=\"\",\"\",IF(LEFT(Controls!I197, 6)=\"Motion\", Controls!BT197,Controls!I197))","v":""},{"$f":"IF(LEFT(A392, 6)=\"Motion\", Controls!F197, (IF(Controls!K197=\"\",\"\",Controls!K197)))","v":""},{"$f":"IF(LEFT(A392, 6)=\"Motion\", Controls!L197, IF(Controls!M197=\"\",\"\",Controls!M197))","v":""},{"$f":"IF(Controls!R197=\"\",\"\",Controls!R197)","v":""},{"$f":"IF(Controls!K197=\"\",IF(RIGHT(Controls!D197, 4)=\"Case\", Controls!T197, \"\"),Controls!W197)","v":""},{"$f":"IF(E392=\"\",\"\",'Analysis 103L'!BE218)","v":""},{"$f":"IFERROR(VLOOKUP($A392,Controls!$AC$7:$AD$20,2,FALSE)*B392,\"\")","v":""},{"$f":"IF(Controls!B197=\"\",\"\",Controls!B197)","v":0}]
[{"$f":"IF(Controls!I198=\"\",\"\",IF(LEFT(Controls!I198, 6)=\"Motion\", Controls!BT198,Controls!I198))","v":""},{"$f":"IF(LEFT(A393, 6)=\"Motion\", Controls!F198, (IF(Controls!K198=\"\",\"\",Controls!K198)))","v":""},{"$f":"IF(LEFT(A393, 6)=\"Motion\", Controls!L198, IF(Controls!M198=\"\",\"\",Controls!M198))","v":""},{"$f":"IF(Controls!R198=\"\",\"\",Controls!R198)","v":""},{"$f":"IF(Controls!K198=\"\",IF(RIGHT(Controls!D198, 4)=\"Case\", Controls!T198, \"\"),Controls!W198)","v":""},{"$f":"IF(E393=\"\",\"\",'Analysis 103L'!BE219)","v":""},{"$f":"IFERROR(VLOOKUP($A393,Controls!$AC$7:$AD$20,2,FALSE)*B393,\"\")","v":""},{"$f":"IF(Controls!B198=\"\",\"\",Controls!B198)","v":0}]
[{"$f":"IF(Controls!I199=\"\",\"\",IF(LEFT(Controls!I199, 6)=\"Motion\", Controls!BT199,Controls!I199))","v":""},{"$f":"IF(LEFT(A394, 6)=\"Motion\", Controls!F199, (IF(Controls!K199=\"\",\"\",Controls!K199)))","v":""},{"$f":"IF(LEFT(A394, 6)=\"Motion\", Controls!L199, IF(Controls!M199=\"\",\"\",Controls!M199))","v":""},{"$f":"IF(Controls!R199=\"\",\"\",Controls!R199)","v":""},{"$f":"IF(Controls!K199=\"\",IF(RIGHT(Controls!D199, 4)=\"Case\", Controls!T199, \"\"),Controls!W199)","v":""},{"$f":"IF(E394=\"\",\"\",'Analysis 103L'!BE220)","v":""},{"$f":"IFERROR(VLOOKUP($A394,Controls!$AC$7:$AD$20,2,FALSE)*B394,\"\")","v":""},{"$f":"IF(Controls!B199=\"\",\"\",Controls!B199)","v":0}]
[{"$f":"IF(Controls!I200=\"\",\"\",IF(LEFT(Controls!I200, 6)=\"Motion\", Controls!BT200,Controls!I200))","v":""},{"$f":"IF(LEFT(A395, 6)=\"Motion\", Controls!F200, (IF(Controls!K200=\"\",\"\",Controls!K200)))","v":""},{"$f":"IF(LEFT(A395, 6)=\"Motion\", Controls!L200, IF(Controls!M200=\"\",\"\",Controls!M200))","v":""},{"$f":"IF(Controls!R200=\"\",\"\",Controls!R200)","v":""},{"$f":"IF(Controls!K200=\"\",IF(RIGHT(Controls!D200, 4)=\"Case\", Controls!T200, \"\"),Controls!W200)","v":""},{"$f":"IF(E395=\"\",\"\",'Analysis 103L'!BE221)","v":""},{"$f":"IFERROR(VLOOKUP($A395,Controls!$AC$7:$AD$20,2,FALSE)*B395,\"\")","v":""},{"$f":"IF(Controls!B200=\"\",\"\",Controls!B200)","v":0}]
[{"$f":"IF(Controls!I201=\"\",\"\",IF(LEFT(Controls!I201, 6)=\"Motion\", Controls!BT201,Controls!I201))","v":""},{"$f":"IF(LEFT(A396, 6)=\"Motion\", Controls!F201, (IF(Controls!K201=\"\",\"\",Controls!K201)))","v":""},{"$f":"IF(LEFT(A396, 6)=\"Motion\", Controls!L201, IF(Controls!M201=\"\",\"\",Controls!M201))","v":""},{"$f":"IF(Controls!R201=\"\",\"\",Controls!R201)","v":""},{"$f":"IF(Controls!K201=\"\",IF(RIGHT(Controls!D201, 4)=\"Case\", Controls!T201, \"\"),Controls!W201)","v":""},{"$f":"IF(E396=\"\",\"\",'Analysis 103L'!BE222)","v":""},{"$f":"IFERROR(VLOOKUP($A396,Controls!$AC$7:$AD$20,2,FALSE)*B396,\"\")","v":""},{"$f":"IF(Controls!B201=\"\",\"\",Controls!B201)","v":0}]
[{"$f":"IF(Controls!I202=\"\",\"\",IF(LEFT(Controls!I202, 6)=\"Motion\", Controls!BT202,Controls!I202))","v":""},{"$f":"IF(LEFT(A397, 6)=\"Motion\", Controls!F202, (IF(Controls!K202=\"\",\"\",Controls!K202)))","v":""},{"$f":"IF(LEFT(A397, 6)=\"Motion\", Controls!L202, IF(Controls!M202=\"\",\"\",Controls!M202))","v":""},{"$f":"IF(Controls!R202=\"\",\"\",Controls!R202)","v":""},{"$f":"IF(Controls!K202=\"\",IF(RIGHT(Controls!D202, 4)=\"Case\", Controls!T202, \"\"),Controls!W202)","v":""},{"$f":"IF(E397=\"\",\"\",'Analysis 103L'!BE223)","v":""},{"$f":"IFERROR(VLOOKUP($A397,Controls!$AC$7:$AD$20,2,FALSE)*B397,\"\")","v":""},{"$f":"IF(Controls!B202=\"\",\"\",Controls!B202)","v":0}]
[{"$f":"IF(Controls!I203=\"\",\"\",IF(LEFT(Controls!I203, 6)=\"Motion\", Controls!BT203,Controls!I203))","v":""},{"$f":"IF(LEFT(A398, 6)=\"Motion\", Controls!F203, (IF(Controls!K203=\"\",\"\",Controls!K203)))","v":""},{"$f":"IF(LEFT(A398, 6)=\"Motion\", Controls!L203, IF(Controls!M203=\"\",\"\",Controls!M203))","v":""},{"$f":"IF(Controls!R203=\"\",\"\",Controls!R203)","v":""},{"$f":"IF(Controls!K203=\"\",IF(RIGHT(Controls!D203, 4)=\"Case\", Controls!T203, \"\"),Controls!W203)","v":""},{"$f":"IF(E398=\"\",\"\",'Analysis 103L'!BE224)","v":""},{"$f":"IFERROR(VLOOKUP($A398,Controls!$AC$7:$AD$20,2,FALSE)*B398,\"\")","v":""},{"$f":"IF(Controls!B203=\"\",\"\",Controls!B203)","v":0}]
[{"$f":"IF(Controls!I204=\"\",\"\",IF(LEFT(Controls!I204, 6)=\"Motion\", Controls!BT204,Controls!I204))","v":""},{"$f":"IF(LEFT(A399, 6)=\"Motion\", Controls!F204, (IF(Controls!K204=\"\",\"\",Controls!K204)))","v":""},{"$f":"IF(LEFT(A399, 6)=\"Motion\", Controls!L204, IF(Controls!M204=\"\",\"\",Controls!M204))","v":""},{"$f":"IF(Controls!R204=\"\",\"\",Controls!R204)","v":""},{"$f":"IF(Controls!K204=\"\",IF(RIGHT(Controls!D204, 4)=\"Case\", Controls!T204, \"\"),Controls!W204)","v":""},{"$f":"IF(E399=\"\",\"\",'Analysis 103L'!BE225)","v":""},{"$f":"IFERROR(VLOOKUP($A399,Controls!$AC$7:$AD$20,2,FALSE)*B399,\"\")","v":""},{"$f":"IF(Controls!B204=\"\",\"\",Controls!B204)","v":0}]
[{"$f":"IF(Controls!I205=\"\",\"\",IF(LEFT(Controls!I205, 6)=\"Motion\", Controls!BT205,Controls!I205))","v":""},{"$f":"IF(LEFT(A400, 6)=\"Motion\", Controls!F205, (IF(Controls!K205=\"\",\"\",Controls!K205)))","v":""},{"$f":"IF(LEFT(A400, 6)=\"Motion\", Controls!L205, IF(Controls!M205=\"\",\"\",Controls!M205))","v":""},{"$f":"IF(Controls!R205=\"\",\"\",Controls!R205)","v":""},{"$f":"IF(Controls!K205=\"\",IF(RIGHT(Controls!D205, 4)=\"Case\", Controls!T205, \"\"),Controls!W205)","v":""},{"$f":"IF(E400=\"\",\"\",'Analysis 103L'!BE226)","v":""},{"$f":"IFERROR(VLOOKUP($A400,Controls!$AC$7:$AD$20,2,FALSE)*B400,\"\")","v":""},{"$f":"IF(Controls!B205=\"\",\"\",Controls!B205)","v":0}]
[{"$f":"IF(Controls!I206=\"\",\"\",IF(LEFT(Controls!I206, 6)=\"Motion\", Controls!BT206,Controls!I206))","v":""},{"$f":"IF(LEFT(A401, 6)=\"Motion\", Controls!F206, (IF(Controls!K206=\"\",\"\",Controls!K206)))","v":""},{"$f":"IF(LEFT(A401, 6)=\"Motion\", Controls!L206, IF(Controls!M206=\"\",\"\",Controls!M206))","v":""},{"$f":"IF(Controls!R206=\"\",\"\",Controls!R206)","v":""},{"$f":"IF(Controls!K206=\"\",IF(RIGHT(Controls!D206, 4)=\"Case\", Controls!T206, \"\"),Controls!W206)","v":""},{"$f":"IF(E401=\"\",\"\",'Analysis 103L'!BE227)","v":""},{"$f":"IFERROR(VLOOKUP($A401,Controls!$AC$7:$AD$20,2,FALSE)*B401,\"\")","v":""},{"$f":"IF(Controls!B206=\"\",\"\",Controls!B206)","v":0}]
[{"$f":"IF(E402=\"\",\"\",A419)","v":""},{"$f":"IF('LED Case Lighting'!V3=\"\",\"\",'LED Case Lighting'!V3)","v":""},{"$f":"IF('LED Case Lighting'!AD3=\"\",\"\",'LED Case Lighting'!Z3)","v":""},{"$f":"IF('LED Case Lighting'!AD3=\"\",\"\",'LED Case Lighting'!AF3)","v":""},{"$f":"IF('LED Case Lighting'!AD3=\"\",\"\",'LED Case Lighting'!AJ3)","v":""},{"$f":"IF(E402=\"\",\"\",\"Grocery Refrigeration\")","v":""},null,null,null,"LED Case Lighting"]
["",{"$f":"IF('LED Case Lighting'!V4=\"\",\"\",'LED Case Lighting'!V4)","v":""},{"$f":"IF('LED Case Lighting'!AD4=\"\",\"\",'LED Case Lighting'!Z4)","v":""},{"$f":"IF('LED Case Lighting'!AD4=\"\",\"\",'LED Case Lighting'!AF4)","v":""},{"$f":"IF('LED Case Lighting'!AD4=\"\",\"\",'LED Case Lighting'!AJ4)","v":""},{"$f":"IF(E403=\"\",\"\",\"Grocery Refrigeration\")","v":""}]
["",{"$f":"IF('LED Case Lighting'!V5=\"\",\"\",'LED Case Lighting'!V5)","v":""},{"$f":"IF('LED Case Lighting'!AD5=\"\",\"\",'LED Case Lighting'!Z5)","v":""},{"$f":"IF('LED Case Lighting'!AD5=\"\",\"\",'LED Case Lighting'!AF5)","v":""},{"$f":"IF('LED Case Lighting'!AD5=\"\",\"\",'LED Case Lighting'!AJ5)","v":""},{"$f":"IF(E404=\"\",\"\",\"Grocery Refrigeration\")","v":""}]
["",{"$f":"IF('LED Case Lighting'!V6=\"\",\"\",'LED Case Lighting'!V6)","v":""},{"$f":"IF('LED Case Lighting'!AD6=\"\",\"\",'LED Case Lighting'!Z6)","v":""},{"$f":"IF('LED Case Lighting'!AD6=\"\",\"\",'LED Case Lighting'!AF6)","v":""},{"$f":"IF('LED Case Lighting'!AD6=\"\",\"\",'LED Case Lighting'!AJ6)","v":""},{"$f":"IF(E405=\"\",\"\",\"Grocery Refrigeration\")","v":""}]
["",{"$f":"IF('LED Case Lighting'!V7=\"\",\"\",'LED Case Lighting'!V7)","v":""},{"$f":"IF('LED Case Lighting'!AD7=\"\",\"\",'LED Case Lighting'!Z7)","v":""},{"$f":"IF('LED Case Lighting'!AD7=\"\",\"\",'LED Case Lighting'!AF7)","v":""},{"$f":"IF('LED Case Lighting'!AD7=\"\",\"\",'LED Case Lighting'!AJ7)","v":""},{"$f":"IF(E406=\"\",\"\",\"Grocery Refrigeration\")","v":""}]
["",{"$f":"IF('LED Case Lighting'!V8=\"\",\"\",'LED Case Lighting'!V8)","v":""},{"$f":"IF('LED Case Lighting'!AD8=\"\",\"\",'LED Case Lighting'!Z8)","v":""},{"$f":"IF('LED Case Lighting'!AD8=\"\",\"\",'LED Case Lighting'!AF8)","v":""},{"$f":"IF('LED Case Lighting'!AD8=\"\",\"\",'LED Case Lighting'!AJ8)","v":""},{"$f":"IF(E407=\"\",\"\",\"Grocery Refrigeration\")","v":""}]
["",{"$f":"IF('LED Case Lighting'!V9=\"\",\"\",'LED Case Lighting'!V9)","v":""},{"$f":"IF('LED Case Lighting'!AD9=\"\",\"\",'LED Case Lighting'!Z9)","v":""},{"$f":"IF('LED Case Lighting'!AD9=\"\",\"\",'LED Case Lighting'!AF9)","v":""},{"$f":"IF('LED Case Lighting'!AD9=\"\",\"\",'LED Case Lighting'!AJ9)","v":""},""]
["",{"$f":"IF('LED Case Lighting'!V10=\"\",\"\",'LED Case Lighting'!V10)","v":""},{"$f":"IF('LED Case Lighting'!AD10=\"\",\"\",'LED Case Lighting'!Z10)","v":""},{"$f":"IF('LED Case Lighting'!AD10=\"\",\"\",'LED Case Lighting'!AF10)","v":""},{"$f":"IF('LED Case Lighting'!AD10=\"\",\"\",'LED Case Lighting'!AJ10)","v":""},""]
["",{"$f":"IF('LED Case Lighting'!V11=\"\",\"\",'LED Case Lighting'!V11)","v":""},{"$f":"IF('LED Case Lighting'!AD11=\"\",\"\",'LED Case Lighting'!Z11)","v":""},{"$f":"IF('LED Case Lighting'!AD11=\"\",\"\",'LED Case Lighting'!AF11)","v":""},{"$f":"IF('LED Case Lighting'!AD11=\"\",\"\",'LED Case Lighting'!AJ11)","v":""},""]
["",{"$f":"IF('LED Case Lighting'!V12=\"\",\"\",'LED Case Lighting'!V12)","v":""},{"$f":"IF('LED Case Lighting'!AD12=\"\",\"\",'LED Case Lighting'!Z12)","v":""},{"$f":"IF('LED Case Lighting'!AD12=\"\",\"\",'LED Case Lighting'!AF12)","v":""},{"$f":"IF('LED Case Lighting'!AD12=\"\",\"\",'LED Case Lighting'!AJ12)","v":""},""]
["",{"$f":"IF('LED Case Lighting'!V13=\"\",\"\",'LED Case Lighting'!V13)","v":""},{"$f":"IF('LED Case Lighting'!AD13=\"\",\"\",'LED Case Lighting'!Z13)","v":""},{"$f":"IF('LED Case Lighting'!AD13=\"\",\"\",'LED Case Lighting'!AF13)","v":""},{"$f":"IF('LED Case Lighting'!AD13=\"\",\"\",'LED Case Lighting'!AJ13)","v":""},""]
["",{"$f":"IF('LED Case Lighting'!V14=\"\",\"\",'LED Case Lighting'!V14)","v":""},{"$f":"IF('LED Case Lighting'!AD14=\"\",\"\",'LED Case Lighting'!Z14)","v":""},{"$f":"IF('LED Case Lighting'!AD14=\"\",\"\",'LED Case Lighting'!AF14)","v":""},{"$f":"IF('LED Case Lighting'!AD14=\"\",\"\",'LED Case Lighting'!AJ14)","v":""},{"$f":"IF(E413=\"\",\"\",\"Grocery Refrigeration\")","v":""}]
["",{"$f":"IF('LED Case Lighting'!V15=\"\",\"\",'LED Case Lighting'!V15)","v":""},{"$f":"IF('LED Case Lighting'!AD15=\"\",\"\",'LED Case Lighting'!Z15)","v":""},{"$f":"IF('LED Case Lighting'!AD15=\"\",\"\",'LED Case Lighting'!AF15)","v":""},{"$f":"IF('LED Case Lighting'!AD15=\"\",\"\",'LED Case Lighting'!AJ15)","v":""},{"$f":"IF(E414=\"\",\"\",\"Grocery Refrigeration\")","v":""}]
[{"$f":"IF('Performance+'!C27=\"(select)\",\"\",\"Performance+ Lighting Incentive\")","v":""},{"$f":"IF('Performance+'!C27=\"yes\",1,\"\")","v":""},{"$f":"IF('Performance+'!C27=\"yes\",0,\"\")","v":""},{"$f":"IF('Performance+'!C27=\"yes\",0,\"\")","v":""},{"$f":"IF('Performance+'!C27=\"yes\",'Analysis 103L'!#REF!,\"\")","v":""},null,null,{"$f":"IF('Performance+'!C27=\"yes\",0,\"\")","v":""}]
[]
[]
[]
["Motion Sensor, on Low Power LED"]
["Motion Sensor, on High Power LED"]
["Single Row T8 Low Power LED (Medium Temp⁯ Case)"]
["Single Row T12 Low Power LED (Medium Temp⁯ Case)"]
["Double Row T8 High Power LED (Medium Temp⁯ Case)"]
["Double Row T12 High Power LED (Medium Temp⁯ Case)"]
["Single Row T12 Low Power LED (Medium Temp Case or Low Temp Case)"]
["Double Row T8 High Power LED (Medium Temp Case or Low Temp Case)"]
["Double Row T12 High Power LED (Medium Temp Case or Low Temp Case)"]
["Single Row T8 Low Power LED (Low Temp Case)"]
["Single Row T12 Low Power LED (Low Temp Case)"]
["Double Row T8 High Power LED (Low Temp Case)"]
["Double Row T12 High Power LED (Low Temp Case)"]

{"sheet":"Measure Summary","index":12,"n_rows":13,"n_cols":7,"rows_kept":13,"cut":false,"hidden":true,"merged":[[10,0,10,6],[0,3,0,5],[3,3,3,5],[2,3,2,5],[4,3,4,5]]}
[null,null,null,"Program Use Only",null,null,{"$f":"version","v":"v2025.1"}]
[null,null,null,"Project ID",{"$f":"IF('100L Information'!S3=\"\",\"\",'100L Information'!S3)","v":""},"PT ID",{"$f":"IF('100L Information'!AB3=\"\",\"\",'100L Information'!AB3)","v":""}]
[null,null,null,"Eligible to Self-direct?",null,null,{"$f":"IF('100L Information'!Z4=\"\",\"\",'100L Information'!Z4)","v":"(select)"}]
[null,null,null,"Currently using EE Self-direct credits?",null,null,{"$f":"IF('100L Information'!Z5=\"\",\"\",'100L Information'!Z5)","v":"(select)"}]
[null,null,null,"Install Complete",null,null,{"$f":"IF('Analysis 103L'!R5=\"\",\"\",'Analysis 103L'!R5)","v":""}]
[]
[null,null,null,"Quantity","Total Cost","Final Incentive","kWh Savings"]
[null,null,null,{"$f":"SUM(D14:D1000)","v":0},{"$f":"SUM(E14:E1000)","v":0},{"$f":"SUM(F14:F1000)","v":0},{"$f":"SUM(G14:G1000)","v":0}]
[]
["Location","(All)"]
["Analysis And Control Summary"]
[null,null,"Data"]
["Measure","Electric Load Profile","NEBs","Quantity","Total Cost","Final Incentive","kWh Savings"]

{"sheet":"FTImport","index":13,"n_rows":113,"n_cols":19,"rows_kept":113,"cut":false,"hidden":true,"merged":[]}
["MeasureCode","Quantity","UnitCost","CostInstall","UnitSave","Incentive","InstalledDT","ReservationDT","KWh","Therm","LP_ELE","LP_GAS","Life","NEB","EXEQUIP","EXWATT","HOURS","INSTWATT","EXQTY"]
[{"$f":"IF('Measure Summary'!A14=\"\",\"\",VLOOKUP('Measure Summary'!A14,Lookups!$A$30:$J$180,VLOOKUP('100L Information'!$AI$46,Lookups!$J$3:$K$6,2,FALSE), FALSE))","v":""},{"$f":"IF('Measure Summary'!A14=\"\",\"\",'Measure Summary'!D14)","v":""},{"$f":"IF('Measure Summary'!A14=\"\",\"\",\"N\")","v":""},{"$f":"IF('Measure Summary'!A14=\"\",\"\",'Measure Summary'!E14)","v":""},{"$f":"IF('Measure Summary'!A14=\"\",\"\",\"N\")","v":""},{"$f":"IF('Measure Summary'!A14=\"\",\"\",'Measure Summary'!F14)","v":""},{"$f":"IF('Measure Summary'!A14=\"\",\"\",'Analysis 103L'!$R$5)","v":""},{"$f":"IF('Measure Summary'!A14=\"\",\"\",'Analysis 103L'!$R$4)","v":""},{"$f":"IF('Measure Summary'!A14=\"\",\"\", ROUND('Measure Summary'!G14,0))","v":""},{"$f":"IF('Measure Summary'!A14=\"\",\"\",0)","v":""},{"$f":"IF('Measure Summary'!A14=\"\",\"\",'Measure Summary'!B14)","v":""},{"$f":"IF('Measure Summary'!A14=\"\",\"\",\"NONEG\")","v":""},{"$f":"IF('Measure Summary'!A14=\"\",\"\",VLOOKUP('Measure Summary'!A14,Lookups!$A$30:$J$180,Lookups!$L$7,FALSE))","v":""},{"$f":"IF(OR('Measure Summary'!C14=\"(blank)\",'Measure Summary'!C14=0),\"\",'Measure Summary'!C14)","v":""}]
[{"$f":"IF('Measure Summary'!A15=\"\",\"\",VLOOKUP('Measure Summary'!A15,Lookups!$A$30:$J$180,VLOOKUP('100L Information'!$AI$46,Lookups!$J$3:$K$6,2,FALSE), FALSE))","v":""},{"$f":"IF('Measure Summary'!A15=\"\",\"\",'Measure Summary'!D15)","v":""},{"$f":"IF('Measure Summary'!A15=\"\",\"\",\"N\")","v":""},{"$f":"IF('Measure Summary'!A15=\"\",\"\",'Measure Summary'!E15)","v":""},{"$f":"IF('Measure Summary'!A15=\"\",\"\",\"N\")","v":""},{"$f":"IF('Measure Summary'!A15=\"\",\"\",'Measure Summary'!F15)","v":""},{"$f":"IF('Measure Summary'!A15=\"\",\"\",'Analysis 103L'!$R$5)","v":""},{"$f":"IF('Measure Summary'!A15=\"\",\"\",'Analysis 103L'!$R$4)","v":""},{"$f":"IF('Measure Summary'!A15=\"\",\"\", ROUND('Measure Summary'!G15,0))","v":""},{"$f":"IF('Measure Summary'!A15=\"\",\"\",0)","v":""},{"$f":"IF('Measure Summary'!A15=\"\",\"\",'Measure Summary'!B15)","v":""},{"$f":"IF('Measure Summary'!A15=\"\",\"\",\"NONEG\")","v":""},{"$f":"IF('Measure Summary'!A15=\"\",\"\",VLOOKUP('Measure Summary'!A15,Lookups!$A$30:$J$180,Lookups!$L$7,FALSE))","v":""},{"$f":"IF(OR('Measure Summary'!C15=\"(blank)\",'Measure Summary'!C15=0),\"\",'Measure Summary'!C15)","v":""}]
[{"$f":"IF('Measure Summary'!A16=\"\",\"\",VLOOKUP('Measure Summary'!A16,Lookups!$A$30:$J$180,VLOOKUP('100L Information'!$AI$46,Lookups!$J$3:$K$6,2,FALSE), FALSE))","v":""},{"$f":"IF('Measure Summary'!A16=\"\",\"\",'Measure Summary'!D16)","v":""},{"$f":"IF('Measure Summary'!A16=\"\",\"\",\"N\")","v":""},{"$f":"IF('Measure Summary'!A16=\"\",\"\",'Measure Summary'!E16)","v":""},{"$f":"IF('Measure Summary'!A16=\"\",\"\",\"N\")","v":""},{"$f":"IF('Measure Summary'!A16=\"\",\"\",'Measure Summary'!F16)","v":""},{"$f":"IF('Measure Summary'!A16=\"\",\"\",'Analysis 103L'!$R$5)","v":""},{"$f":"IF('Measure Summary'!A16=\"\",\"\",'Analysis 103L'!$R$4)","v":""},{"$f":"IF('Measure Summary'!A16=\"\",\"\", ROUND('Measure Summary'!G16,0))","v":""},{"$f":"IF('Measure Summary'!A16=\"\",\"\",0)","v":""},{"$f":"IF('Measure Summary'!A16=\"\",\"\",'Measure Summary'!B16)","v":""},{"$f":"IF('Measure Summary'!A16=\"\",\"\",\"NONEG\")","v":""},{"$f":"IF('Measure Summary'!A16=\"\",\"\",VLOOKUP('Measure Summary'!A16,Lookups!$A$30:$J$180,Lookups!$L$7,FALSE))","v":""},{"$f":"IF(OR('Measure Summary'!C16=\"(blank)\",'Measure Summary'!C16=0),\"\",'Measure Summary'!C16)","v":""}]
[{"$f":"IF('Measure Summary'!A17=\"\",\"\",VLOOKUP('Measure Summary'!A17,Lookups!$A$30:$J$180,VLOOKUP('100L Information'!$AI$46,Lookups!$J$3:$K$6,2,FALSE), FALSE))","v":""},{"$f":"IF('Measure Summary'!A17=\"\",\"\",'Measure Summary'!D17)","v":""},{"$f":"IF('Measure Summary'!A17=\"\",\"\",\"N\")","v":""},{"$f":"IF('Measure Summary'!A17=\"\",\"\",'Measure Summary'!E17)","v":""},{"$f":"IF('Measure Summary'!A17=\"\",\"\",\"N\")","v":""},{"$f":"IF('Measure Summary'!A17=\"\",\"\",'Measure Summary'!F17)","v":""},{"$f":"IF('Measure Summary'!A17=\"\",\"\",'Analysis 103L'!$R$5)","v":""},{"$f":"IF('Measure Summary'!A17=\"\",\"\",'Analysis 103L'!$R$4)","v":""},{"$f":"IF('Measure Summary'!A17=\"\",\"\", ROUND('Measure Summary'!G17,0))","v":""},{"$f":"IF('Measure Summary'!A17=\"\",\"\",0)","v":""},{"$f":"IF('Measure Summary'!A17=\"\",\"\",'Measure Summary'!B17)","v":""},{"$f":"IF('Measure Summary'!A17=\"\",\"\",\"NONEG\")","v":""},{"$f":"IF('Measure Summary'!A17=\"\",\"\",VLOOKUP('Measure Summary'!A17,Lookups!$A$30:$J$180,Lookups!$L$7,FALSE))","v":""},{"$f":"IF(OR('Measure Summary'!C17=\"(blank)\",'Measure Summary'!C17=0),\"\",'Measure Summary'!C17)","v":""}]
[{"$f":"IF('Measure Summary'!A18=\"\",\"\",VLOOKUP('Measure Summary'!A18,Lookups!$A$30:$J$180,VLOOKUP('100L Information'!$AI$46,Lookups!$J$3:$K$6,2,FALSE), FALSE))","v":""},{"$f":"IF('Measure Summary'!A18=\"\",\"\",'Measure Summary'!D18)","v":""},{"$f":"IF('Measure Summary'!A18=\"\",\"\",\"N\")","v":""},{"$f":"IF('Measure Summary'!A18=\"\",\"\",'Measure Summary'!E18)","v":""},{"$f":"IF('Measure Summary'!A18=\"\",\"\",\"N\")","v":""},{"$f":"IF('Measure Summary'!A18=\"\",\"\",'Measure Summary'!F18)","v":""},{"$f":"IF('Measure Summary'!A18=\"\",\"\",'Analysis 103L'!$R$5)","v":""},{"$f":"IF('Measure Summary'!A18=\"\",\"\",'Analysis 103L'!$R$4)","v":""},{"$f":"IF('Measure Summary'!A18=\"\",\"\", ROUND('Measure Summary'!G18,0))","v":""},{"$f":"IF('Measure Summary'!A18=\"\",\"\",0)","v":""},{"$f":"IF('Measure Summary'!A18=\"\",\"\",'Measure Summary'!B18)","v":""},{"$f":"IF('Measure Summary'!A18=\"\",\"\",\"NONEG\")","v":""},{"$f":"IF('Measure Summary'!A18=\"\",\"\",VLOOKUP('Measure Summary'!A18,Lookups!$A$30:$J$180,Lookups!$L$7,FALSE))","v":""},{"$f":"IF(OR('Measure Summary'!C18=\"(blank)\",'Measure Summary'!C18=0),\"\",'Measure Summary'!C18)","v":""}]
[{"$f":"IF('Measure Summary'!A19=\"\",\"\",VLOOKUP('Measure Summary'!A19,Lookups!$A$30:$J$180,VLOOKUP('100L Information'!$AI$46,Lookups!$J$3:$K$6,2,FALSE), FALSE))","v":""},{"$f":"IF('Measure Summary'!A19=\"\",\"\",'Measure Summary'!D19)","v":""},{"$f":"IF('Measure Summary'!A19=\"\",\"\",\"N\")","v":""},{"$f":"IF('Measure Summary'!A19=\"\",\"\",'Measure Summary'!E19)","v":""},{"$f":"IF('Measure Summary'!A19=\"\",\"\",\"N\")","v":""},{"$f":"IF('Measure Summary'!A19=\"\",\"\",'Measure Summary'!F19)","v":""},{"$f":"IF('Measure Summary'!A19=\"\",\"\",'Analysis 103L'!$R$5)","v":""},{"$f":"IF('Measure Summary'!A19=\"\",\"\",'Analysis 103L'!$R$4)","v":""},{"$f":"IF('Measure Summary'!A19=\"\",\"\", ROUND('Measure Summary'!G19,0))","v":""},{"$f":"IF('Measure Summary'!A19=\"\",\"\",0)","v":""},{"$f":"IF('Measure Summary'!A19=\"\",\"\",'Measure Summary'!B19)","v":""},{"$f":"IF('Measure Summary'!A19=\"\",\"\",\"NONEG\")","v":""},{"$f":"IF('Measure Summary'!A19=\"\",\"\",VLOOKUP('Measure Summary'!A19,Lookups!$A$30:$J$180,Lookups!$L$7,FALSE))","v":""},{"$f":"IF(OR('Measure Summary'!C19=\"(blank)\",'Measure Summary'!C19=0),\"\",'Measure Summary'!C19)","v":""}]
[{"$f":"IF('Measure Summary'!A20=\"\",\"\",VLOOKUP('Measure Summary'!A20,Lookups!$A$30:$J$180,VLOOKUP('100L Information'!$AI$46,Lookups!$J$3:$K$6,2,FALSE), FALSE))","v":""},{"$f":"IF('Measure Summary'!A20=\"\",\"\",'Measure Summary'!D20)","v":""},{"$f":"IF('Measure Summary'!A20=\"\",\"\",\"N\")","v":""},{"$f":"IF('Measure Summary'!A20=\"\",\"\",'Measure Summary'!E20)","v":""},{"$f":"IF('Measure Summary'!A20=\"\",\"\",\"N\")","v":""},{"$f":"IF('Measure Summary'!A20=\"\",\"\",'Measure Summary'!F20)","v":""},{"$f":"IF('Measure Summary'!A20=\"\",\"\",'Analysis 103L'!$R$5)","v":""},{"$f":"IF('Measure Summary'!A20=\"\",\"\",'Analysis 103L'!$R$4)","v":""},{"$f":"IF('Measure Summary'!A20=\"\",\"\", ROUND('Measure Summary'!G20,0))","v":""},{"$f":"IF('Measure Summary'!A20=\"\",\"\",0)","v":""},{"$f":"IF('Measure Summary'!A20=\"\",\"\",'Measure Summary'!B20)","v":""},{"$f":"IF('Measure Summary'!A20=\"\",\"\",\"NONEG\")","v":""},{"$f":"IF('Measure Summary'!A20=\"\",\"\",VLOOKUP('Measure Summary'!A20,Lookups!$A$30:$J$180,Lookups!$L$7,FALSE))","v":""},{"$f":"IF(OR('Measure Summary'!C20=\"(blank)\",'Measure Summary'!C20=0),\"\",'Measure Summary'!C20)","v":""}]
[{"$f":"IF('Measure Summary'!A21=\"\",\"\",VLOOKUP('Measure Summary'!A21,Lookups!$A$30:$J$180,VLOOKUP('100L Information'!$AI$46,Lookups!$J$3:$K$6,2,FALSE), FALSE))","v":""},{"$f":"IF('Measure Summary'!A21=\"\",\"\",'Measure Summary'!D21)","v":""},{"$f":"IF('Measure Summary'!A21=\"\",\"\",\"N\")","v":""},{"$f":"IF('Measure Summary'!A21=\"\",\"\",'Measure Summary'!E21)","v":""},{"$f":"IF('Measure Summary'!A21=\"\",\"\",\"N\")","v":""},{"$f":"IF('Measure Summary'!A21=\"\",\"\",'Measure Summary'!F21)","v":""},{"$f":"IF('Measure Summary'!A21=\"\",\"\",'Analysis 103L'!$R$5)","v":""},{"$f":"IF('Measure Summary'!A21=\"\",\"\",'Analysis 103L'!$R$4)","v":""},{"$f":"IF('Measure Summary'!A21=\"\",\"\", ROUND('Measure Summary'!G21,0))","v":""},{"$f":"IF('Measure Summary'!A21=\"\",\"\",0)","v":""},{"$f":"IF('Measure Summary'!A21=\"\",\"\",'Measure Summary'!B21)","v":""},{"$f":"IF('Measure Summary'!A21=\"\",\"\",\"NONEG\")","v":""},{"$f":"IF('Measure Summary'!A21=\"\",\"\",VLOOKUP('Measure Summary'!A21,Lookups!$A$30:$J$180,Lookups!$L$7,FALSE))","v":""},{"$f":"IF(OR('Measure Summary'!C21=\"(blank)\",'Measure Summary'!C21=0),\"\",'Measure Summary'!C21)","v":""}]
[{"$f":"IF('Measure Summary'!A22=\"\",\"\",VLOOKUP('Measure Summary'!A22,Lookups!$A$30:$J$180,VLOOKUP('100L Information'!$AI$46,Lookups!$J$3:$K$6,2,FALSE), FALSE))","v":""},{"$f":"IF('Measure Summary'!A22=\"\",\"\",'Measure Summary'!D22)","v":""},{"$f":"IF('Measure Summary'!A22=\"\",\"\",\"N\")","v":""},{"$f":"IF('Measure Summary'!A22=\"\",\"\",'Measure Summary'!E22)","v":""},{"$f":"IF('Measure Summary'!A22=\"\",\"\",\"N\")","v":""},{"$f":"IF('Measure Summary'!A22=\"\",\"\",'Measure Summary'!F22)","v":""},{"$f":"IF('Measure Summary'!A22=\"\",\"\",'Analysis 103L'!$R$5)","v":""},{"$f":"IF('Measure Summary'!A22=\"\",\"\",'Analysis 103L'!$R$4)","v":""},{"$f":"IF('Measure Summary'!A22=\"\",\"\", ROUND('Measure Summary'!G22,0))","v":""},{"$f":"IF('Measure Summary'!A22=\"\",\"\",0)","v":""},{"$f":"IF('Measure Summary'!A22=\"\",\"\",'Measure Summary'!B22)","v":""},{"$f":"IF('Measure Summary'!A22=\"\",\"\",\"NONEG\")","v":""},{"$f":"IF('Measure Summary'!A22=\"\",\"\",VLOOKUP('Measure Summary'!A22,Lookups!$A$30:$J$180,Lookups!$L$7,FALSE))","v":""},{"$f":"IF(OR('Measure Summary'!C22=\"(blank)\",'Measure Summary'!C22=0),\"\",'Measure Summary'!C22)","v":""}]
[{"$f":"IF('Measure Summary'!A23=\"\",\"\",VLOOKUP('Measure Summary'!A23,Lookups!$A$30:$J$180,VLOOKUP('100L Information'!$AI$46,Lookups!$J$3:$K$6,2,FALSE), FALSE))","v":""},{"$f":"IF('Measure Summary'!A23=\"\",\"\",'Measure Summary'!D23)","v":""},{"$f":"IF('Measure Summary'!A23=\"\",\"\",\"N\")","v":""},{"$f":"IF('Measure Summary'!A23=\"\",\"\",'Measure Summary'!E23)","v":""},{"$f":"IF('Measure Summary'!A23=\"\",\"\",\"N\")","v":""},{"$f":"IF('Measure Summary'!A23=\"\",\"\",'Measure Summary'!F23)","v":""},{"$f":"IF('Measure Summary'!A23=\"\",\"\",'Analysis 103L'!$R$5)","v":""},{"$f":"IF('Measure Summary'!A23=\"\",\"\",'Analysis 103L'!$R$4)","v":""},{"$f":"IF('Measure Summary'!A23=\"\",\"\", ROUND('Measure Summary'!G23,0))","v":""},{"$f":"IF('Measure Summary'!A23=\"\",\"\",0)","v":""},{"$f":"IF('Measure Summary'!A23=\"\",\"\",'Measure Summary'!B23)","v":""},{"$f":"IF('Measure Summary'!A23=\"\",\"\",\"NONEG\")","v":""},{"$f":"IF('Measure Summary'!A23=\"\",\"\",VLOOKUP('Measure Summary'!A23,Lookups!$A$30:$J$180,Lookups!$L$7,FALSE))","v":""},{"$f":"IF(OR('Measure Summary'!C23=\"(blank)\",'Measure Summary'!C23=0),\"\",'Measure Summary'!C23)","v":""}]
[{"$f":"IF('Measure Summary'!A24=\"\",\"\",VLOOKUP('Measure Summary'!A24,Lookups!$A$30:$J$180,VLOOKUP('100L Information'!$AI$46,Lookups!$J$3:$K$6,2,FALSE), FALSE))","v":""},{"$f":"IF('Measure Summary'!A24=\"\",\"\",'Measure Summary'!D24)","v":""},{"$f":"IF('Measure Summary'!A24=\"\",\"\",\"N\")","v":""},{"$f":"IF('Measure Summary'!A24=\"\",\"\",'Measure Summary'!E24)","v":""},{"$f":"IF('Measure Summary'!A24=\"\",\"\",\"N\")","v":""},{"$f":"IF('Measure Summary'!A24=\"\",\"\",'Measure Summary'!F24)","v":""},{"$f":"IF('Measure Summary'!A24=\"\",\"\",'Analysis 103L'!$R$5)","v":""},{"$f":"IF('Measure Summary'!A24=\"\",\"\",'Analysis 103L'!$R$4)","v":""},{"$f":"IF('Measure Summary'!A24=\"\",\"\", ROUND('Measure Summary'!G24,0))","v":""},{"$f":"IF('Measure Summary'!A24=\"\",\"\",0)","v":""},{"$f":"IF('Measure Summary'!A24=\"\",\"\",'Measure Summary'!B24)","v":""},{"$f":"IF('Measure Summary'!A24=\"\",\"\",\"NONEG\")","v":""},{"$f":"IF('Measure Summary'!A24=\"\",\"\",VLOOKUP('Measure Summary'!A24,Lookups!$A$30:$J$180,Lookups!$L$7,FALSE))","v":""},{"$f":"IF(OR('Measure Summary'!C24=\"(blank)\",'Measure Summary'!C24=0),\"\",'Measure Summary'!C24)","v":""}]
[{"$f":"IF('Measure Summary'!A25=\"\",\"\",VLOOKUP('Measure Summary'!A25,Lookups!$A$30:$J$180,VLOOKUP('100L Information'!$AI$46,Lookups!$J$3:$K$6,2,FALSE), FALSE))","v":""},{"$f":"IF('Measure Summary'!A25=\"\",\"\",'Measure Summary'!D25)","v":""},{"$f":"IF('Measure Summary'!A25=\"\",\"\",\"N\")","v":""},{"$f":"IF('Measure Summary'!A25=\"\",\"\",'Measure Summary'!E25)","v":""},{"$f":"IF('Measure Summary'!A25=\"\",\"\",\"N\")","v":""},{"$f":"IF('Measure Summary'!A25=\"\",\"\",'Measure Summary'!F25)","v":""},{"$f":"IF('Measure Summary'!A25=\"\",\"\",'Analysis 103L'!$R$5)","v":""},{"$f":"IF('Measure Summary'!A25=\"\",\"\",'Analysis 103L'!$R$4)","v":""},{"$f":"IF('Measure Summary'!A25=\"\",\"\", ROUND('Measure Summary'!G25,0))","v":""},{"$f":"IF('Measure Summary'!A25=\"\",\"\",0)","v":""},{"$f":"IF('Measure Summary'!A25=\"\",\"\",'Measure Summary'!B25)","v":""},{"$f":"IF('Measure Summary'!A25=\"\",\"\",\"NONEG\")","v":""},{"$f":"IF('Measure Summary'!A25=\"\",\"\",VLOOKUP('Measure Summary'!A25,Lookups!$A$30:$J$180,Lookups!$L$7,FALSE))","v":""},{"$f":"IF(OR('Measure Summary'!C25=\"(blank)\",'Measure Summary'!C25=0),\"\",'Measure Summary'!C25)","v":""}]
[{"$f":"IF('Measure Summary'!A26=\"\",\"\",VLOOKUP('Measure Summary'!A26,Lookups!$A$30:$J$180,VLOOKUP('100L Information'!$AI$46,Lookups!$J$3:$K$6,2,FALSE), FALSE))","v":""},{"$f":"IF('Measure Summary'!A26=\"\",\"\",'Measure Summary'!D26)","v":""},{"$f":"IF('Measure Summary'!A26=\"\",\"\",\"N\")","v":""},{"$f":"IF('Measure Summary'!A26=\"\",\"\",'Measure Summary'!E26)","v":""},{"$f":"IF('Measure Summary'!A26=\"\",\"\",\"N\")","v":""},{"$f":"IF('Measure Summary'!A26=\"\",\"\",'Measure Summary'!F26)","v":""},{"$f":"IF('Measure Summary'!A26=\"\",\"\",'Analysis 103L'!$R$5)","v":""},{"$f":"IF('Measure Summary'!A26=\"\",\"\",'Analysis 103L'!$R$4)","v":""},{"$f":"IF('Measure Summary'!A26=\"\",\"\", ROUND('Measure Summary'!G26,0))","v":""},{"$f":"IF('Measure Summary'!A26=\"\",\"\",0)","v":""},{"$f":"IF('Measure Summary'!A26=\"\",\"\",'Measure Summary'!B26)","v":""},{"$f":"IF('Measure Summary'!A26=\"\",\"\",\"NONEG\")","v":""},{"$f":"IF('Measure Summary'!A26=\"\",\"\",VLOOKUP('Measure Summary'!A26,Lookups!$A$30:$J$180,Lookups!$L$7,FALSE))","v":""},{"$f":"IF(OR('Measure Summary'!C26=\"(blank)\",'Measure Summary'!C26=0),\"\",'Measure Summary'!C26)","v":""}]
[{"$f":"IF('Measure Summary'!A27=\"\",\"\",VLOOKUP('Measure Summary'!A27,Lookups!$A$30:$J$180,VLOOKUP('100L Information'!$AI$46,Lookups!$J$3:$K$6,2,FALSE), FALSE))","v":""},{"$f":"IF('Measure Summary'!A27=\"\",\"\",'Measure Summary'!D27)","v":""},{"$f":"IF('Measure Summary'!A27=\"\",\"\",\"N\")","v":""},{"$f":"IF('Measure Summary'!A27=\"\",\"\",'Measure Summary'!E27)","v":""},{"$f":"IF('Measure Summary'!A27=\"\",\"\",\"N\")","v":""},{"$f":"IF('Measure Summary'!A27=\"\",\"\",'Measure Summary'!F27)","v":""},{"$f":"IF('Measure Summary'!A27=\"\",\"\",'Analysis 103L'!$R$5)","v":""},{"$f":"IF('Measure Summary'!A27=\"\",\"\",'Analysis 103L'!$R$4)","v":""},{"$f":"IF('Measure Summary'!A27=\"\",\"\", ROUND('Measure Summary'!G27,0))","v":""},{"$f":"IF('Measure Summary'!A27=\"\",\"\",0)","v":""},{"$f":"IF('Measure Summary'!A27=\"\",\"\",'Measure Summary'!B27)","v":""},{"$f":"IF('Measure Summary'!A27=\"\",\"\",\"NONEG\")","v":""},{"$f":"IF('Measure Summary'!A27=\"\",\"\",VLOOKUP('Measure Summary'!A27,Lookups!$A$30:$J$180,Lookups!$L$7,FALSE))","v":""},{"$f":"IF(OR('Measure Summary'!C27=\"(blank)\",'Measure Summary'!C27=0),\"\",'Measure Summary'!C27)","v":""}]
[{"$f":"IF('Measure Summary'!A28=\"\",\"\",VLOOKUP('Measure Summary'!A28,Lookups!$A$30:$J$180,VLOOKUP('100L Information'!$AI$46,Lookups!$J$3:$K$6,2,FALSE), FALSE))","v":""},{"$f":"IF('Measure Summary'!A28=\"\",\"\",'Measure Summary'!D28)","v":""},{"$f":"IF('Measure Summary'!A28=\"\",\"\",\"N\")","v":""},{"$f":"IF('Measure Summary'!A28=\"\",\"\",'Measure Summary'!E28)","v":""},{"$f":"IF('Measure Summary'!A28=\"\",\"\",\"N\")","v":""},{"$f":"IF('Measure Summary'!A28=\"\",\"\",'Measure Summary'!F28)","v":""},{"$f":"IF('Measure Summary'!A28=\"\",\"\",'Analysis 103L'!$R$5)","v":""},{"$f":"IF('Measure Summary'!A28=\"\",\"\",'Analysis 103L'!$R$4)","v":""},{"$f":"IF('Measure Summary'!A28=\"\",\"\", ROUND('Measure Summary'!G28,0))","v":""},{"$f":"IF('Measure Summary'!A28=\"\",\"\",0)","v":""},{"$f":"IF('Measure Summary'!A28=\"\",\"\",'Measure Summary'!B28)","v":""},{"$f":"IF('Measure Summary'!A28=\"\",\"\",\"NONEG\")","v":""},{"$f":"IF('Measure Summary'!A28=\"\",\"\",VLOOKUP('Measure Summary'!A28,Lookups!$A$30:$J$180,Lookups!$L$7,FALSE))","v":""},{"$f":"IF(OR('Measure Summary'!C28=\"(blank)\",'Measure Summary'!C28=0),\"\",'Measure Summary'!C28)","v":""}]
[{"$f":"IF('Measure Summary'!A29=\"\",\"\",VLOOKUP('Measure Summary'!A29,Lookups!$A$30:$J$180,VLOOKUP('100L Information'!$AI$46,Lookups!$J$3:$K$6,2,FALSE), FALSE))","v":""},{"$f":"IF('Measure Summary'!A29=\"\",\"\",'Measure Summary'!D29)","v":""},{"$f":"IF('Measure Summary'!A29=\"\",\"\",\"N\")","v":""},{"$f":"IF('Measure Summary'!A29=\"\",\"\",'Measure Summary'!E29)","v":""},{"$f":"IF('Measure Summary'!A29=\"\",\"\",\"N\")","v":""},{"$f":"IF('Measure Summary'!A29=\"\",\"\",'Measure Summary'!F29)","v":""},{"$f":"IF('Measure Summary'!A29=\"\",\"\",'Analysis 103L'!$R$5)","v":""},{"$f":"IF('Measure Summary'!A29=\"\",\"\",'Analysis 103L'!$R$4)","v":""},{"$f":"IF('Measure Summary'!A29=\"\",\"\", ROUND('Measure Summary'!G29,0))","v":""},{"$f":"IF('Measure Summary'!A29=\"\",\"\",0)","v":""},{"$f":"IF('Measure Summary'!A29=\"\",\"\",'Measure Summary'!B29)","v":""},{"$f":"IF('Measure Summary'!A29=\"\",\"\",\"NONEG\")","v":""},{"$f":"IF('Measure Summary'!A29=\"\",\"\",VLOOKUP('Measure Summary'!A29,Lookups!$A$30:$J$180,Lookups!$L$7,FALSE))","v":""},{"$f":"IF(OR('Measure Summary'!C29=\"(blank)\",'Measure Summary'!C29=0),\"\",'Measure Summary'!C29)","v":""}]
[{"$f":"IF('Measure Summary'!A30=\"\",\"\",VLOOKUP('Measure Summary'!A30,Lookups!$A$30:$J$180,VLOOKUP('100L Information'!$AI$46,Lookups!$J$3:$K$6,2,FALSE), FALSE))","v":""},{"$f":"IF('Measure Summary'!A30=\"\",\"\",'Measure Summary'!D30)","v":""},{"$f":"IF('Measure Summary'!A30=\"\",\"\",\"N\")","v":""},{"$f":"IF('Measure Summary'!A30=\"\",\"\",'Measure Summary'!E30)","v":""},{"$f":"IF('Measure Summary'!A30=\"\",\"\",\"N\")","v":""},{"$f":"IF('Measure Summary'!A30=\"\",\"\",'Measure Summary'!F30)","v":""},{"$f":"IF('Measure Summary'!A30=\"\",\"\",'Analysis 103L'!$R$5)","v":""},{"$f":"IF('Measure Summary'!A30=\"\",\"\",'Analysis 103L'!$R$4)","v":""},{"$f":"IF('Measure Summary'!A30=\"\",\"\", ROUND('Measure Summary'!G30,0))","v":""},{"$f":"IF('Measure Summary'!A30=\"\",\"\",0)","v":""},{"$f":"IF('Measure Summary'!A30=\"\",\"\",'Measure Summary'!B30)","v":""},{"$f":"IF('Measure Summary'!A30=\"\",\"\",\"NONEG\")","v":""},{"$f":"IF('Measure Summary'!A30=\"\",\"\",VLOOKUP('Measure Summary'!A30,Lookups!$A$30:$J$180,Lookups!$L$7,FALSE))","v":""},{"$f":"IF(OR('Measure Summary'!C30=\"(blank)\",'Measure Summary'!C30=0),\"\",'Measure Summary'!C30)","v":""}]
[{"$f":"IF('Measure Summary'!A31=\"\",\"\",VLOOKUP('Measure Summary'!A31,Lookups!$A$30:$J$180,VLOOKUP('100L Information'!$AI$46,Lookups!$J$3:$K$6,2,FALSE), FALSE))","v":""},{"$f":"IF('Measure Summary'!A31=\"\",\"\",'Measure Summary'!D31)","v":""},{"$f":"IF('Measure Summary'!A31=\"\",\"\",\"N\")","v":""},{"$f":"IF('Measure Summary'!A31=\"\",\"\",'Measure Summary'!E31)","v":""},{"$f":"IF('Measure Summary'!A31=\"\",\"\",\"N\")","v":""},{"$f":"IF('Measure Summary'!A31=\"\",\"\",'Measure Summary'!F31)","v":""},{"$f":"IF('Measure Summary'!A31=\"\",\"\",'Analysis 103L'!$R$5)","v":""},{"$f":"IF('Measure Summary'!A31=\"\",\"\",'Analysis 103L'!$R$4)","v":""},{"$f":"IF('Measure Summary'!A31=\"\",\"\", ROUND('Measure Summary'!G31,0))","v":""},{"$f":"IF('Measure Summary'!A31=\"\",\"\",0)","v":""},{"$f":"IF('Measure Summary'!A31=\"\",\"\",'Measure Summary'!B31)","v":""},{"$f":"IF('Measure Summary'!A31=\"\",\"\",\"NONEG\")","v":""},{"$f":"IF('Measure Summary'!A31=\"\",\"\",VLOOKUP('Measure Summary'!A31,Lookups!$A$30:$J$180,Lookups!$L$7,FALSE))","v":""},{"$f":"IF(OR('Measure Summary'!C31=\"(blank)\",'Measure Summary'!C31=0),\"\",'Measure Summary'!C31)","v":""}]
[{"$f":"IF('Measure Summary'!A32=\"\",\"\",VLOOKUP('Measure Summary'!A32,Lookups!$A$30:$J$180,VLOOKUP('100L Information'!$AI$46,Lookups!$J$3:$K$6,2,FALSE), FALSE))","v":""},{"$f":"IF('Measure Summary'!A32=\"\",\"\",'Measure Summary'!D32)","v":""},{"$f":"IF('Measure Summary'!A32=\"\",\"\",\"N\")","v":""},{"$f":"IF('Measure Summary'!A32=\"\",\"\",'Measure Summary'!E32)","v":""},{"$f":"IF('Measure Summary'!A32=\"\",\"\",\"N\")","v":""},{"$f":"IF('Measure Summary'!A32=\"\",\"\",'Measure Summary'!F32)","v":""},{"$f":"IF('Measure Summary'!A32=\"\",\"\",'Analysis 103L'!$R$5)","v":""},{"$f":"IF('Measure Summary'!A32=\"\",\"\",'Analysis 103L'!$R$4)","v":""},{"$f":"IF('Measure Summary'!A32=\"\",\"\", ROUND('Measure Summary'!G32,0))","v":""},{"$f":"IF('Measure Summary'!A32=\"\",\"\",0)","v":""},{"$f":"IF('Measure Summary'!A32=\"\",\"\",'Measure Summary'!B32)","v":""},{"$f":"IF('Measure Summary'!A32=\"\",\"\",\"NONEG\")","v":""},{"$f":"IF('Measure Summary'!A32=\"\",\"\",VLOOKUP('Measure Summary'!A32,Lookups!$A$30:$J$180,Lookups!$L$7,FALSE))","v":""},{"$f":"IF(OR('Measure Summary'!C32=\"(blank)\",'Measure Summary'!C32=0),\"\",'Measure Summary'!C32)","v":""}]
[{"$f":"IF('Measure Summary'!A33=\"\",\"\",VLOOKUP('Measure Summary'!A33,Lookups!$A$30:$J$180,VLOOKUP('100L Information'!$AI$46,Lookups!$J$3:$K$6,2,FALSE), FALSE))","v":""},{"$f":"IF('Measure Summary'!A33=\"\",\"\",'Measure Summary'!D33)","v":""},{"$f":"IF('Measure Summary'!A33=\"\",\"\",\"N\")","v":""},{"$f":"IF('Measure Summary'!A33=\"\",\"\",'Measure Summary'!E33)","v":""},{"$f":"IF('Measure Summary'!A33=\"\",\"\",\"N\")","v":""},{"$f":"IF('Measure Summary'!A33=\"\",\"\",'Measure Summary'!F33)","v":""},{"$f":"IF('Measure Summary'!A33=\"\",\"\",'Analysis 103L'!$R$5)","v":""},{"$f":"IF('Measure Summary'!A33=\"\",\"\",'Analysis 103L'!$R$4)","v":""},{"$f":"IF('Measure Summary'!A33=\"\",\"\", ROUND('Measure Summary'!G33,0))","v":""},{"$f":"IF('Measure Summary'!A33=\"\",\"\",0)","v":""},{"$f":"IF('Measure Summary'!A33=\"\",\"\",'Measure Summary'!B33)","v":""},{"$f":"IF('Measure Summary'!A33=\"\",\"\",\"NONEG\")","v":""},{"$f":"IF('Measure Summary'!A33=\"\",\"\",VLOOKUP('Measure Summary'!A33,Lookups!$A$30:$J$180,Lookups!$L$7,FALSE))","v":""},{"$f":"IF(OR('Measure Summary'!C33=\"(blank)\",'Measure Summary'!C33=0),\"\",'Measure Summary'!C33)","v":""}]
[{"$f":"IF('Measure Summary'!A34=\"\",\"\",VLOOKUP('Measure Summary'!A34,Lookups!$A$30:$J$180,VLOOKUP('100L Information'!$AI$46,Lookups!$J$3:$K$6,2,FALSE), FALSE))","v":""},{"$f":"IF('Measure Summary'!A34=\"\",\"\",'Measure Summary'!D34)","v":""},{"$f":"IF('Measure Summary'!A34=\"\",\"\",\"N\")","v":""},{"$f":"IF('Measure Summary'!A34=\"\",\"\",'Measure Summary'!E34)","v":""},{"$f":"IF('Measure Summary'!A34=\"\",\"\",\"N\")","v":""},{"$f":"IF('Measure Summary'!A34=\"\",\"\",'Measure Summary'!F34)","v":""},{"$f":"IF('Measure Summary'!A34=\"\",\"\",'Analysis 103L'!$R$5)","v":""},{"$f":"IF('Measure Summary'!A34=\"\",\"\",'Analysis 103L'!$R$4)","v":""},{"$f":"IF('Measure Summary'!A34=\"\",\"\", ROUND('Measure Summary'!G34,0))","v":""},{"$f":"IF('Measure Summary'!A34=\"\",\"\",0)","v":""},{"$f":"IF('Measure Summary'!A34=\"\",\"\",'Measure Summary'!B34)","v":""},{"$f":"IF('Measure Summary'!A34=\"\",\"\",\"NONEG\")","v":""},{"$f":"IF('Measure Summary'!A34=\"\",\"\",VLOOKUP('Measure Summary'!A34,Lookups!$A$30:$J$180,Lookups!$L$7,FALSE))","v":""},{"$f":"IF(OR('Measure Summary'!C34=\"(blank)\",'Measure Summary'!C34=0),\"\",'Measure Summary'!C34)","v":""}]
[{"$f":"IF('Measure Summary'!A35=\"\",\"\",VLOOKUP('Measure Summary'!A35,Lookups!$A$30:$J$180,VLOOKUP('100L Information'!$AI$46,Lookups!$J$3:$K$6,2,FALSE), FALSE))","v":""},{"$f":"IF('Measure Summary'!A35=\"\",\"\",'Measure Summary'!D35)","v":""},{"$f":"IF('Measure Summary'!A35=\"\",\"\",\"N\")","v":""},{"$f":"IF('Measure Summary'!A35=\"\",\"\",'Measure Summary'!E35)","v":""},{"$f":"IF('Measure Summary'!A35=\"\",\"\",\"N\")","v":""},{"$f":"IF('Measure Summary'!A35=\"\",\"\",'Measure Summary'!F35)","v":""},{"$f":"IF('Measure Summary'!A35=\"\",\"\",'Analysis 103L'!$R$5)","v":""},{"$f":"IF('Measure Summary'!A35=\"\",\"\",'Analysis 103L'!$R$4)","v":""},{"$f":"IF('Measure Summary'!A35=\"\",\"\", ROUND('Measure Summary'!G35,0))","v":""},{"$f":"IF('Measure Summary'!A35=\"\",\"\",0)","v":""},{"$f":"IF('Measure Summary'!A35=\"\",\"\",'Measure Summary'!B35)","v":""},{"$f":"IF('Measure Summary'!A35=\"\",\"\",\"NONEG\")","v":""},{"$f":"IF('Measure Summary'!A35=\"\",\"\",VLOOKUP('Measure Summary'!A35,Lookups!$A$30:$J$180,Lookups!$L$7,FALSE))","v":""},{"$f":"IF(OR('Measure Summary'!C35=\"(blank)\",'Measure Summary'!C35=0),\"\",'Measure Summary'!C35)","v":""}]
[{"$f":"IF('Measure Summary'!A36=\"\",\"\",VLOOKUP('Measure Summary'!A36,Lookups!$A$30:$J$180,VLOOKUP('100L Information'!$AI$46,Lookups!$J$3:$K$6,2,FALSE), FALSE))","v":""},{"$f":"IF('Measure Summary'!A36=\"\",\"\",'Measure Summary'!D36)","v":""},{"$f":"IF('Measure Summary'!A36=\"\",\"\",\"N\")","v":""},{"$f":"IF('Measure Summary'!A36=\"\",\"\",'Measure Summary'!E36)","v":""},{"$f":"IF('Measure Summary'!A36=\"\",\"\",\"N\")","v":""},{"$f":"IF('Measure Summary'!A36=\"\",\"\",'Measure Summary'!F36)","v":""},{"$f":"IF('Measure Summary'!A36=\"\",\"\",'Analysis 103L'!$R$5)","v":""},{"$f":"IF('Measure Summary'!A36=\"\",\"\",'Analysis 103L'!$R$4)","v":""},{"$f":"IF('Measure Summary'!A36=\"\",\"\", ROUND('Measure Summary'!G36,0))","v":""},{"$f":"IF('Measure Summary'!A36=\"\",\"\",0)","v":""},{"$f":"IF('Measure Summary'!A36=\"\",\"\",'Measure Summary'!B36)","v":""},{"$f":"IF('Measure Summary'!A36=\"\",\"\",\"NONEG\")","v":""},{"$f":"IF('Measure Summary'!A36=\"\",\"\",VLOOKUP('Measure Summary'!A36,Lookups!$A$30:$J$180,Lookups!$L$7,FALSE))","v":""},{"$f":"IF(OR('Measure Summary'!C36=\"(blank)\",'Measure Summary'!C36=0),\"\",'Measure Summary'!C36)","v":""}]
[{"$f":"IF('Measure Summary'!A37=\"\",\"\",VLOOKUP('Measure Summary'!A37,Lookups!$A$30:$J$180,VLOOKUP('100L Information'!$AI$46,Lookups!$J$3:$K$6,2,FALSE), FALSE))","v":""},{"$f":"IF('Measure Summary'!A37=\"\",\"\",'Measure Summary'!D37)","v":""},{"$f":"IF('Measure Summary'!A37=\"\",\"\",\"N\")","v":""},{"$f":"IF('Measure Summary'!A37=\"\",\"\",'Measure Summary'!E37)","v":""},{"$f":"IF('Measure Summary'!A37=\"\",\"\",\"N\")","v":""},{"$f":"IF('Measure Summary'!A37=\"\",\"\",'Measure Summary'!F37)","v":""},{"$f":"IF('Measure Summary'!A37=\"\",\"\",'Analysis 103L'!$R$5)","v":""},{"$f":"IF('Measure Summary'!A37=\"\",\"\",'Analysis 103L'!$R$4)","v":""},{"$f":"IF('Measure Summary'!A37=\"\",\"\", ROUND('Measure Summary'!G37,0))","v":""},{"$f":"IF('Measure Summary'!A37=\"\",\"\",0)","v":""},{"$f":"IF('Measure Summary'!A37=\"\",\"\",'Measure Summary'!B37)","v":""},{"$f":"IF('Measure Summary'!A37=\"\",\"\",\"NONEG\")","v":""},{"$f":"IF('Measure Summary'!A37=\"\",\"\",VLOOKUP('Measure Summary'!A37,Lookups!$A$30:$J$180,Lookups!$L$7,FALSE))","v":""},{"$f":"IF(OR('Measure Summary'!C37=\"(blank)\",'Measure Summary'!C37=0),\"\",'Measure Summary'!C37)","v":""}]
[{"$f":"IF('Measure Summary'!A38=\"\",\"\",VLOOKUP('Measure Summary'!A38,Lookups!$A$30:$J$180,VLOOKUP('100L Information'!$AI$46,Lookups!$J$3:$K$6,2,FALSE), FALSE))","v":""},{"$f":"IF('Measure Summary'!A38=\"\",\"\",'Measure Summary'!D38)","v":""},{"$f":"IF('Measure Summary'!A38=\"\",\"\",\"N\")","v":""},{"$f":"IF('Measure Summary'!A38=\"\",\"\",'Measure Summary'!E38)","v":""},{"$f":"IF('Measure Summary'!A38=\"\",\"\",\"N\")","v":""},{"$f":"IF('Measure Summary'!A38=\"\",\"\",'Measure Summary'!F38)","v":""},{"$f":"IF('Measure Summary'!A38=\"\",\"\",'Analysis 103L'!$R$5)","v":""},{"$f":"IF('Measure Summary'!A38=\"\",\"\",'Analysis 103L'!$R$4)","v":""},{"$f":"IF('Measure Summary'!A38=\"\",\"\", ROUND('Measure Summary'!G38,0))","v":""},{"$f":"IF('Measure Summary'!A38=\"\",\"\",0)","v":""},{"$f":"IF('Measure Summary'!A38=\"\",\"\",'Measure Summary'!B38)","v":""},{"$f":"IF('Measure Summary'!A38=\"\",\"\",\"NONEG\")","v":""},{"$f":"IF('Measure Summary'!A38=\"\",\"\",VLOOKUP('Measure Summary'!A38,Lookups!$A$30:$J$180,Lookups!$L$7,FALSE))","v":""},{"$f":"IF(OR('Measure Summary'!C38=\"(blank)\",'Measure Summary'!C38=0),\"\",'Measure Summary'!C38)","v":""}]
[{"$f":"IF('Measure Summary'!A39=\"\",\"\",VLOOKUP('Measure Summary'!A39,Lookups!$A$30:$J$180,VLOOKUP('100L Information'!$AI$46,Lookups!$J$3:$K$6,2,FALSE), FALSE))","v":""},{"$f":"IF('Measure Summary'!A39=\"\",\"\",'Measure Summary'!D39)","v":""},{"$f":"IF('Measure Summary'!A39=\"\",\"\",\"N\")","v":""},{"$f":"IF('Measure Summary'!A39=\"\",\"\",'Measure Summary'!E39)","v":""},{"$f":"IF('Measure Summary'!A39=\"\",\"\",\"N\")","v":""},{"$f":"IF('Measure Summary'!A39=\"\",\"\",'Measure Summary'!F39)","v":""},{"$f":"IF('Measure Summary'!A39=\"\",\"\",'Analysis 103L'!$R$5)","v":""},{"$f":"IF('Measure Summary'!A39=\"\",\"\",'Analysis 103L'!$R$4)","v":""},{"$f":"IF('Measure Summary'!A39=\"\",\"\", ROUND('Measure Summary'!G39,0))","v":""},{"$f":"IF('Measure Summary'!A39=\"\",\"\",0)","v":""},{"$f":"IF('Measure Summary'!A39=\"\",\"\",'Measure Summary'!B39)","v":""},{"$f":"IF('Measure Summary'!A39=\"\",\"\",\"NONEG\")","v":""},{"$f":"IF('Measure Summary'!A39=\"\",\"\",VLOOKUP('Measure Summary'!A39,Lookups!$A$30:$J$180,Lookups!$L$7,FALSE))","v":""},{"$f":"IF(OR('Measure Summary'!C39=\"(blank)\",'Measure Summary'!C39=0),\"\",'Measure Summary'!C39)","v":""}]
[{"$f":"IF('Measure Summary'!A40=\"\",\"\",VLOOKUP('Measure Summary'!A40,Lookups!$A$30:$J$180,VLOOKUP('100L Information'!$AI$46,Lookups!$J$3:$K$6,2,FALSE), FALSE))","v":""},{"$f":"IF('Measure Summary'!A40=\"\",\"\",'Measure Summary'!D40)","v":""},{"$f":"IF('Measure Summary'!A40=\"\",\"\",\"N\")","v":""},{"$f":"IF('Measure Summary'!A40=\"\",\"\",'Measure Summary'!E40)","v":""},{"$f":"IF('Measure Summary'!A40=\"\",\"\",\"N\")","v":""},{"$f":"IF('Measure Summary'!A40=\"\",\"\",'Measure Summary'!F40)","v":""},{"$f":"IF('Measure Summary'!A40=\"\",\"\",'Analysis 103L'!$R$5)","v":""},{"$f":"IF('Measure Summary'!A40=\"\",\"\",'Analysis 103L'!$R$4)","v":""},{"$f":"IF('Measure Summary'!A40=\"\",\"\", ROUND('Measure Summary'!G40,0))","v":""},{"$f":"IF('Measure Summary'!A40=\"\",\"\",0)","v":""},{"$f":"IF('Measure Summary'!A40=\"\",\"\",'Measure Summary'!B40)","v":""},{"$f":"IF('Measure Summary'!A40=\"\",\"\",\"NONEG\")","v":""},{"$f":"IF('Measure Summary'!A40=\"\",\"\",VLOOKUP('Measure Summary'!A40,Lookups!$A$30:$J$180,Lookups!$L$7,FALSE))","v":""},{"$f":"IF(OR('Measure Summary'!C40=\"(blank)\",'Measure Summary'!C40=0),\"\",'Measure Summary'!C40)","v":""}]
[{"$f":"IF('Measure Summary'!A41=\"\",\"\",VLOOKUP('Measure Summary'!A41,Lookups!$A$30:$J$180,VLOOKUP('100L Information'!$AI$46,Lookups!$J$3:$K$6,2,FALSE), FALSE))","v":""},{"$f":"IF('Measure Summary'!A41=\"\",\"\",'Measure Summary'!D41)","v":""},{"$f":"IF('Measure Summary'!A41=\"\",\"\",\"N\")","v":""},{"$f":"IF('Measure Summary'!A41=\"\",\"\",'Measure Summary'!E41)","v":""},{"$f":"IF('Measure Summary'!A41=\"\",\"\",\"N\")","v":""},{"$f":"IF('Measure Summary'!A41=\"\",\"\",'Measure Summary'!F41)","v":""},{"$f":"IF('Measure Summary'!A41=\"\",\"\",'Analysis 103L'!$R$5)","v":""},{"$f":"IF('Measure Summary'!A41=\"\",\"\",'Analysis 103L'!$R$4)","v":""},{"$f":"IF('Measure Summary'!A41=\"\",\"\", ROUND('Measure Summary'!G41,0))","v":""},{"$f":"IF('Measure Summary'!A41=\"\",\"\",0)","v":""},{"$f":"IF('Measure Summary'!A41=\"\",\"\",'Measure Summary'!B41)","v":""},{"$f":"IF('Measure Summary'!A41=\"\",\"\",\"NONEG\")","v":""},{"$f":"IF('Measure Summary'!A41=\"\",\"\",VLOOKUP('Measure Summary'!A41,Lookups!$A$30:$J$180,Lookups!$L$7,FALSE))","v":""},{"$f":"IF(OR('Measure Summary'!C41=\"(blank)\",'Measure Summary'!C41=0),\"\",'Measure Summary'!C41)","v":""}]
[{"$f":"IF('Measure Summary'!A42=\"\",\"\",VLOOKUP('Measure Summary'!A42,Lookups!$A$30:$J$180,VLOOKUP('100L Information'!$AI$46,Lookups!$J$3:$K$6,2,FALSE), FALSE))","v":""},{"$f":"IF('Measure Summary'!A42=\"\",\"\",'Measure Summary'!D42)","v":""},{"$f":"IF('Measure Summary'!A42=\"\",\"\",\"N\")","v":""},{"$f":"IF('Measure Summary'!A42=\"\",\"\",'Measure Summary'!E42)","v":""},{"$f":"IF('Measure Summary'!A42=\"\",\"\",\"N\")","v":""},{"$f":"IF('Measure Summary'!A42=\"\",\"\",'Measure Summary'!F42)","v":""},{"$f":"IF('Measure Summary'!A42=\"\",\"\",'Analysis 103L'!$R$5)","v":""},{"$f":"IF('Measure Summary'!A42=\"\",\"\",'Analysis 103L'!$R$4)","v":""},{"$f":"IF('Measure Summary'!A42=\"\",\"\", ROUND('Measure Summary'!G42,0))","v":""},{"$f":"IF('Measure Summary'!A42=\"\",\"\",0)","v":""},{"$f":"IF('Measure Summary'!A42=\"\",\"\",'Measure Summary'!B42)","v":""},{"$f":"IF('Measure Summary'!A42=\"\",\"\",\"NONEG\")","v":""},{"$f":"IF('Measure Summary'!A42=\"\",\"\",VLOOKUP('Measure Summary'!A42,Lookups!$A$30:$J$180,Lookups!$L$7,FALSE))","v":""},{"$f":"IF(OR('Measure Summary'!C42=\"(blank)\",'Measure Summary'!C42=0),\"\",'Measure Summary'!C42)","v":""}]
[{"$f":"IF('Measure Summary'!A43=\"\",\"\",VLOOKUP('Measure Summary'!A43,Lookups!$A$30:$J$180,VLOOKUP('100L Information'!$AI$46,Lookups!$J$3:$K$6,2,FALSE), FALSE))","v":""},{"$f":"IF('Measure Summary'!A43=\"\",\"\",'Measure Summary'!D43)","v":""},{"$f":"IF('Measure Summary'!A43=\"\",\"\",\"N\")","v":""},{"$f":"IF('Measure Summary'!A43=\"\",\"\",'Measure Summary'!E43)","v":""},{"$f":"IF('Measure Summary'!A43=\"\",\"\",\"N\")","v":""},{"$f":"IF('Measure Summary'!A43=\"\",\"\",'Measure Summary'!F43)","v":""},{"$f":"IF('Measure Summary'!A43=\"\",\"\",'Analysis 103L'!$R$5)","v":""},{"$f":"IF('Measure Summary'!A43=\"\",\"\",'Analysis 103L'!$R$4)","v":""},{"$f":"IF('Measure Summary'!A43=\"\",\"\", ROUND('Measure Summary'!G43,0))","v":""},{"$f":"IF('Measure Summary'!A43=\"\",\"\",0)","v":""},{"$f":"IF('Measure Summary'!A43=\"\",\"\",'Measure Summary'!B43)","v":""},{"$f":"IF('Measure Summary'!A43=\"\",\"\",\"NONEG\")","v":""},{"$f":"IF('Measure Summary'!A43=\"\",\"\",VLOOKUP('Measure Summary'!A43,Lookups!$A$30:$J$180,Lookups!$L$7,FALSE))","v":""},{"$f":"IF(OR('Measure Summary'!C43=\"(blank)\",'Measure Summary'!C43=0),\"\",'Measure Summary'!C43)","v":""}]
[{"$f":"IF('Measure Summary'!A44=\"\",\"\",VLOOKUP('Measure Summary'!A44,Lookups!$A$30:$J$180,VLOOKUP('100L Information'!$AI$46,Lookups!$J$3:$K$6,2,FALSE), FALSE))","v":""},{"$f":"IF('Measure Summary'!A44=\"\",\"\",'Measure Summary'!D44)","v":""},{"$f":"IF('Measure Summary'!A44=\"\",\"\",\"N\")","v":""},{"$f":"IF('Measure Summary'!A44=\"\",\"\",'Measure Summary'!E44)","v":""},{"$f":"IF('Measure Summary'!A44=\"\",\"\",\"N\")","v":""},{"$f":"IF('Measure Summary'!A44=\"\",\"\",'Measure Summary'!F44)","v":""},{"$f":"IF('Measure Summary'!A44=\"\",\"\",'Analysis 103L'!$R$5)","v":""},{"$f":"IF('Measure Summary'!A44=\"\",\"\",'Analysis 103L'!$R$4)","v":""},{"$f":"IF('Measure Summary'!A44=\"\",\"\", ROUND('Measure Summary'!G44,0))","v":""},{"$f":"IF('Measure Summary'!A44=\"\",\"\",0)","v":""},{"$f":"IF('Measure Summary'!A44=\"\",\"\",'Measure Summary'!B44)","v":""},{"$f":"IF('Measure Summary'!A44=\"\",\"\",\"NONEG\")","v":""},{"$f":"IF('Measure Summary'!A44=\"\",\"\",VLOOKUP('Measure Summary'!A44,Lookups!$A$30:$J$180,Lookups!$L$7,FALSE))","v":""},{"$f":"IF(OR('Measure Summary'!C44=\"(blank)\",'Measure Summary'!C44=0),\"\",'Measure Summary'!C44)","v":""}]
[{"$f":"IF('Measure Summary'!A45=\"\",\"\",VLOOKUP('Measure Summary'!A45,Lookups!$A$30:$J$180,VLOOKUP('100L Information'!$AI$46,Lookups!$J$3:$K$6,2,FALSE), FALSE))","v":""},{"$f":"IF('Measure Summary'!A45=\"\",\"\",'Measure Summary'!D45)","v":""},{"$f":"IF('Measure Summary'!A45=\"\",\"\",\"N\")","v":""},{"$f":"IF('Measure Summary'!A45=\"\",\"\",'Measure Summary'!E45)","v":""},{"$f":"IF('Measure Summary'!A45=\"\",\"\",\"N\")","v":""},{"$f":"IF('Measure Summary'!A45=\"\",\"\",'Measure Summary'!F45)","v":""},{"$f":"IF('Measure Summary'!A45=\"\",\"\",'Analysis 103L'!$R$5)","v":""},{"$f":"IF('Measure Summary'!A45=\"\",\"\",'Analysis 103L'!$R$4)","v":""},{"$f":"IF('Measure Summary'!A45=\"\",\"\", ROUND('Measure Summary'!G45,0))","v":""},{"$f":"IF('Measure Summary'!A45=\"\",\"\",0)","v":""},{"$f":"IF('Measure Summary'!A45=\"\",\"\",'Measure Summary'!B45)","v":""},{"$f":"IF('Measure Summary'!A45=\"\",\"\",\"NONEG\")","v":""},{"$f":"IF('Measure Summary'!A45=\"\",\"\",VLOOKUP('Measure Summary'!A45,Lookups!$A$30:$J$180,Lookups!$L$7,FALSE))","v":""},{"$f":"IF(OR('Measure Summary'!C45=\"(blank)\",'Measure Summary'!C45=0),\"\",'Measure Summary'!C45)","v":""}]
[{"$f":"IF('Measure Summary'!A46=\"\",\"\",VLOOKUP('Measure Summary'!A46,Lookups!$A$30:$J$180,VLOOKUP('100L Information'!$AI$46,Lookups!$J$3:$K$6,2,FALSE), FALSE))","v":""},{"$f":"IF('Measure Summary'!A46=\"\",\"\",'Measure Summary'!D46)","v":""},{"$f":"IF('Measure Summary'!A46=\"\",\"\",\"N\")","v":""},{"$f":"IF('Measure Summary'!A46=\"\",\"\",'Measure Summary'!E46)","v":""},{"$f":"IF('Measure Summary'!A46=\"\",\"\",\"N\")","v":""},{"$f":"IF('Measure Summary'!A46=\"\",\"\",'Measure Summary'!F46)","v":""},{"$f":"IF('Measure Summary'!A46=\"\",\"\",'Analysis 103L'!$R$5)","v":""},{"$f":"IF('Measure Summary'!A46=\"\",\"\",'Analysis 103L'!$R$4)","v":""},{"$f":"IF('Measure Summary'!A46=\"\",\"\", ROUND('Measure Summary'!G46,0))","v":""},{"$f":"IF('Measure Summary'!A46=\"\",\"\",0)","v":""},{"$f":"IF('Measure Summary'!A46=\"\",\"\",'Measure Summary'!B46)","v":""},{"$f":"IF('Measure Summary'!A46=\"\",\"\",\"NONEG\")","v":""},{"$f":"IF('Measure Summary'!A46=\"\",\"\",VLOOKUP('Measure Summary'!A46,Lookups!$A$30:$J$180,Lookups!$L$7,FALSE))","v":""},{"$f":"IF(OR('Measure Summary'!C46=\"(blank)\",'Measure Summary'!C46=0),\"\",'Measure Summary'!C46)","v":""}]
[{"$f":"IF('Measure Summary'!A47=\"\",\"\",VLOOKUP('Measure Summary'!A47,Lookups!$A$30:$J$180,VLOOKUP('100L Information'!$AI$46,Lookups!$J$3:$K$6,2,FALSE), FALSE))","v":""},{"$f":"IF('Measure Summary'!A47=\"\",\"\",'Measure Summary'!D47)","v":""},{"$f":"IF('Measure Summary'!A47=\"\",\"\",\"N\")","v":""},{"$f":"IF('Measure Summary'!A47=\"\",\"\",'Measure Summary'!E47)","v":""},{"$f":"IF('Measure Summary'!A47=\"\",\"\",\"N\")","v":""},{"$f":"IF('Measure Summary'!A47=\"\",\"\",'Measure Summary'!F47)","v":""},{"$f":"IF('Measure Summary'!A47=\"\",\"\",'Analysis 103L'!$R$5)","v":""},{"$f":"IF('Measure Summary'!A47=\"\",\"\",'Analysis 103L'!$R$4)","v":""},{"$f":"IF('Measure Summary'!A47=\"\",\"\", ROUND('Measure Summary'!G47,0))","v":""},{"$f":"IF('Measure Summary'!A47=\"\",\"\",0)","v":""},{"$f":"IF('Measure Summary'!A47=\"\",\"\",'Measure Summary'!B47)","v":""},{"$f":"IF('Measure Summary'!A47=\"\",\"\",\"NONEG\")","v":""},{"$f":"IF('Measure Summary'!A47=\"\",\"\",VLOOKUP('Measure Summary'!A47,Lookups!$A$30:$J$180,Lookups!$L$7,FALSE))","v":""},{"$f":"IF(OR('Measure Summary'!C47=\"(blank)\",'Measure Summary'!C47=0),\"\",'Measure Summary'!C47)","v":""}]
[{"$f":"IF('Measure Summary'!A48=\"\",\"\",VLOOKUP('Measure Summary'!A48,Lookups!$A$30:$J$180,VLOOKUP('100L Information'!$AI$46,Lookups!$J$3:$K$6,2,FALSE), FALSE))","v":""},{"$f":"IF('Measure Summary'!A48=\"\",\"\",'Measure Summary'!D48)","v":""},{"$f":"IF('Measure Summary'!A48=\"\",\"\",\"N\")","v":""},{"$f":"IF('Measure Summary'!A48=\"\",\"\",'Measure Summary'!E48)","v":""},{"$f":"IF('Measure Summary'!A48=\"\",\"\",\"N\")","v":""},{"$f":"IF('Measure Summary'!A48=\"\",\"\",'Measure Summary'!F48)","v":""},{"$f":"IF('Measure Summary'!A48=\"\",\"\",'Analysis 103L'!$R$5)","v":""},{"$f":"IF('Measure Summary'!A48=\"\",\"\",'Analysis 103L'!$R$4)","v":""},{"$f":"IF('Measure Summary'!A48=\"\",\"\", ROUND('Measure Summary'!G48,0))","v":""},{"$f":"IF('Measure Summary'!A48=\"\",\"\",0)","v":""},{"$f":"IF('Measure Summary'!A48=\"\",\"\",'Measure Summary'!B48)","v":""},{"$f":"IF('Measure Summary'!A48=\"\",\"\",\"NONEG\")","v":""},{"$f":"IF('Measure Summary'!A48=\"\",\"\",VLOOKUP('Measure Summary'!A48,Lookups!$A$30:$J$180,Lookups!$L$7,FALSE))","v":""},{"$f":"IF(OR('Measure Summary'!C48=\"(blank)\",'Measure Summary'!C48=0),\"\",'Measure Summary'!C48)","v":""}]
[{"$f":"IF('Measure Summary'!A49=\"\",\"\",VLOOKUP('Measure Summary'!A49,Lookups!$A$30:$J$180,VLOOKUP('100L Information'!$AI$46,Lookups!$J$3:$K$6,2,FALSE), FALSE))","v":""},{"$f":"IF('Measure Summary'!A49=\"\",\"\",'Measure Summary'!D49)","v":""},{"$f":"IF('Measure Summary'!A49=\"\",\"\",\"N\")","v":""},{"$f":"IF('Measure Summary'!A49=\"\",\"\",'Measure Summary'!E49)","v":""},{"$f":"IF('Measure Summary'!A49=\"\",\"\",\"N\")","v":""},{"$f":"IF('Measure Summary'!A49=\"\",\"\",'Measure Summary'!F49)","v":""},{"$f":"IF('Measure Summary'!A49=\"\",\"\",'Analysis 103L'!$R$5)","v":""},{"$f":"IF('Measure Summary'!A49=\"\",\"\",'Analysis 103L'!$R$4)","v":""},{"$f":"IF('Measure Summary'!A49=\"\",\"\", ROUND('Measure Summary'!G49,0))","v":""},{"$f":"IF('Measure Summary'!A49=\"\",\"\",0)","v":""},{"$f":"IF('Measure Summary'!A49=\"\",\"\",'Measure Summary'!B49)","v":""},{"$f":"IF('Measure Summary'!A49=\"\",\"\",\"NONEG\")","v":""},{"$f":"IF('Measure Summary'!A49=\"\",\"\",VLOOKUP('Measure Summary'!A49,Lookups!$A$30:$J$180,Lookups!$L$7,FALSE))","v":""},{"$f":"IF(OR('Measure Summary'!C49=\"(blank)\",'Measure Summary'!C49=0),\"\",'Measure Summary'!C49)","v":""}]
[{"$f":"IF('Measure Summary'!A50=\"\",\"\",VLOOKUP('Measure Summary'!A50,Lookups!$A$30:$J$180,VLOOKUP('100L Information'!$AI$46,Lookups!$J$3:$K$6,2,FALSE), FALSE))","v":""},{"$f":"IF('Measure Summary'!A50=\"\",\"\",'Measure Summary'!D50)","v":""},{"$f":"IF('Measure Summary'!A50=\"\",\"\",\"N\")","v":""},{"$f":"IF('Measure Summary'!A50=\"\",\"\",'Measure Summary'!E50)","v":""},{"$f":"IF('Measure Summary'!A50=\"\",\"\",\"N\")","v":""},{"$f":"IF('Measure Summary'!A50=\"\",\"\",'Measure Summary'!F50)","v":""},{"$f":"IF('Measure Summary'!A50=\"\",\"\",'Analysis 103L'!$R$5)","v":""},{"$f":"IF('Measure Summary'!A50=\"\",\"\",'Analysis 103L'!$R$4)","v":""},{"$f":"IF('Measure Summary'!A50=\"\",\"\", ROUND('Measure Summary'!G50,0))","v":""},{"$f":"IF('Measure Summary'!A50=\"\",\"\",0)","v":""},{"$f":"IF('Measure Summary'!A50=\"\",\"\",'Measure Summary'!B50)","v":""},{"$f":"IF('Measure Summary'!A50=\"\",\"\",\"NONEG\")","v":""},{"$f":"IF('Measure Summary'!A50=\"\",\"\",VLOOKUP('Measure Summary'!A50,Lookups!$A$30:$J$180,Lookups!$L$7,FALSE))","v":""},{"$f":"IF(OR('Measure Summary'!C50=\"(blank)\",'Measure Summary'!C50=0),\"\",'Measure Summary'!C50)","v":""}]
[{"$f":"IF('Measure Summary'!A51=\"\",\"\",VLOOKUP('Measure Summary'!A51,Lookups!$A$30:$J$180,VLOOKUP('100L Information'!$AI$46,Lookups!$J$3:$K$6,2,FALSE), FALSE))","v":""},{"$f":"IF('Measure Summary'!A51=\"\",\"\",'Measure Summary'!D51)","v":""},{"$f":"IF('Measure Summary'!A51=\"\",\"\",\"N\")","v":""},{"$f":"IF('Measure Summary'!A51=\"\",\"\",'Measure Summary'!E51)","v":""},{"$f":"IF('Measure Summary'!A51=\"\",\"\",\"N\")","v":""},{"$f":"IF('Measure Summary'!A51=\"\",\"\",'Measure Summary'!F51)","v":""},{"$f":"IF('Measure Summary'!A51=\"\",\"\",'Analysis 103L'!$R$5)","v":""},{"$f":"IF('Measure Summary'!A51=\"\",\"\",'Analysis 103L'!$R$4)","v":""},{"$f":"IF('Measure Summary'!A51=\"\",\"\", ROUND('Measure Summary'!G51,0))","v":""},{"$f":"IF('Measure Summary'!A51=\"\",\"\",0)","v":""},{"$f":"IF('Measure Summary'!A51=\"\",\"\",'Measure Summary'!B51)","v":""},{"$f":"IF('Measure Summary'!A51=\"\",\"\",\"NONEG\")","v":""},{"$f":"IF('Measure Summary'!A51=\"\",\"\",VLOOKUP('Measure Summary'!A51,Lookups!$A$30:$J$180,Lookups!$L$7,FALSE))","v":""},{"$f":"IF(OR('Measure Summary'!C51=\"(blank)\",'Measure Summary'!C51=0),\"\",'Measure Summary'!C51)","v":""}]
[{"$f":"IF('Measure Summary'!A52=\"\",\"\",VLOOKUP('Measure Summary'!A52,Lookups!$A$30:$J$180,VLOOKUP('100L Information'!$AI$46,Lookups!$J$3:$K$6,2,FALSE), FALSE))","v":""},{"$f":"IF('Measure Summary'!A52=\"\",\"\",'Measure Summary'!D52)","v":""},{"$f":"IF('Measure Summary'!A52=\"\",\"\",\"N\")","v":""},{"$f":"IF('Measure Summary'!A52=\"\",\"\",'Measure Summary'!E52)","v":""},{"$f":"IF('Measure Summary'!A52=\"\",\"\",\"N\")","v":""},{"$f":"IF('Measure Summary'!A52=\"\",\"\",'Measure Summary'!F52)","v":""},{"$f":"IF('Measure Summary'!A52=\"\",\"\",'Analysis 103L'!$R$5)","v":""},{"$f":"IF('Measure Summary'!A52=\"\",\"\",'Analysis 103L'!$R$4)","v":""},{"$f":"IF('Measure Summary'!A52=\"\",\"\", ROUND('Measure Summary'!G52,0))","v":""},{"$f":"IF('Measure Summary'!A52=\"\",\"\",0)","v":""},{"$f":"IF('Measure Summary'!A52=\"\",\"\",'Measure Summary'!B52)","v":""},{"$f":"IF('Measure Summary'!A52=\"\",\"\",\"NONEG\")","v":""},{"$f":"IF('Measure Summary'!A52=\"\",\"\",VLOOKUP('Measure Summary'!A52,Lookups!$A$30:$J$180,Lookups!$L$7,FALSE))","v":""},{"$f":"IF(OR('Measure Summary'!C52=\"(blank)\",'Measure Summary'!C52=0),\"\",'Measure Summary'!C52)","v":""}]
[{"$f":"IF('Measure Summary'!A53=\"\",\"\",VLOOKUP('Measure Summary'!A53,Lookups!$A$30:$J$180,VLOOKUP('100L Information'!$AI$46,Lookups!$J$3:$K$6,2,FALSE), FALSE))","v":""},{"$f":"IF('Measure Summary'!A53=\"\",\"\",'Measure Summary'!D53)","v":""},{"$f":"IF('Measure Summary'!A53=\"\",\"\",\"N\")","v":""},{"$f":"IF('Measure Summary'!A53=\"\",\"\",'Measure Summary'!E53)","v":""},{"$f":"IF('Measure Summary'!A53=\"\",\"\",\"N\")","v":""},{"$f":"IF('Measure Summary'!A53=\"\",\"\",'Measure Summary'!F53)","v":""},{"$f":"IF('Measure Summary'!A53=\"\",\"\",'Analysis 103L'!$R$5)","v":""},{"$f":"IF('Measure Summary'!A53=\"\",\"\",'Analysis 103L'!$R$4)","v":""},{"$f":"IF('Measure Summary'!A53=\"\",\"\", ROUND('Measure Summary'!G53,0))","v":""},{"$f":"IF('Measure Summary'!A53=\"\",\"\",0)","v":""},{"$f":"IF('Measure Summary'!A53=\"\",\"\",'Measure Summary'!B53)","v":""},{"$f":"IF('Measure Summary'!A53=\"\",\"\",\"NONEG\")","v":""},{"$f":"IF('Measure Summary'!A53=\"\",\"\",VLOOKUP('Measure Summary'!A53,Lookups!$A$30:$J$180,Lookups!$L$7,FALSE))","v":""},{"$f":"IF(OR('Measure Summary'!C53=\"(blank)\",'Measure Summary'!C53=0),\"\",'Measure Summary'!C53)","v":""}]
[{"$f":"IF('Measure Summary'!A54=\"\",\"\",VLOOKUP('Measure Summary'!A54,Lookups!$A$30:$J$180,VLOOKUP('100L Information'!$AI$46,Lookups!$J$3:$K$6,2,FALSE), FALSE))","v":""},{"$f":"IF('Measure Summary'!A54=\"\",\"\",'Measure Summary'!D54)","v":""},{"$f":"IF('Measure Summary'!A54=\"\",\"\",\"N\")","v":""},{"$f":"IF('Measure Summary'!A54=\"\",\"\",'Measure Summary'!E54)","v":""},{"$f":"IF('Measure Summary'!A54=\"\",\"\",\"N\")","v":""},{"$f":"IF('Measure Summary'!A54=\"\",\"\",'Measure Summary'!F54)","v":""},{"$f":"IF('Measure Summary'!A54=\"\",\"\",'Analysis 103L'!$R$5)","v":""},{"$f":"IF('Measure Summary'!A54=\"\",\"\",'Analysis 103L'!$R$4)","v":""},{"$f":"IF('Measure Summary'!A54=\"\",\"\", ROUND('Measure Summary'!G54,0))","v":""},{"$f":"IF('Measure Summary'!A54=\"\",\"\",0)","v":""},{"$f":"IF('Measure Summary'!A54=\"\",\"\",'Measure Summary'!B54)","v":""},{"$f":"IF('Measure Summary'!A54=\"\",\"\",\"NONEG\")","v":""},{"$f":"IF('Measure Summary'!A54=\"\",\"\",VLOOKUP('Measure Summary'!A54,Lookups!$A$30:$J$180,Lookups!$L$7,FALSE))","v":""},{"$f":"IF(OR('Measure Summary'!C54=\"(blank)\",'Measure Summary'!C54=0),\"\",'Measure Summary'!C54)","v":""}]
[{"$f":"IF('Measure Summary'!A55=\"\",\"\",VLOOKUP('Measure Summary'!A55,Lookups!$A$30:$J$180,VLOOKUP('100L Information'!$AI$46,Lookups!$J$3:$K$6,2,FALSE), FALSE))","v":""},{"$f":"IF('Measure Summary'!A55=\"\",\"\",'Measure Summary'!D55)","v":""},{"$f":"IF('Measure Summary'!A55=\"\",\"\",\"N\")","v":""},{"$f":"IF('Measure Summary'!A55=\"\",\"\",'Measure Summary'!E55)","v":""},{"$f":"IF('Measure Summary'!A55=\"\",\"\",\"N\")","v":""},{"$f":"IF('Measure Summary'!A55=\"\",\"\",'Measure Summary'!F55)","v":""},{"$f":"IF('Measure Summary'!A55=\"\",\"\",'Analysis 103L'!$R$5)","v":""},{"$f":"IF('Measure Summary'!A55=\"\",\"\",'Analysis 103L'!$R$4)","v":""},{"$f":"IF('Measure Summary'!A55=\"\",\"\", ROUND('Measure Summary'!G55,0))","v":""},{"$f":"IF('Measure Summary'!A55=\"\",\"\",0)","v":""},{"$f":"IF('Measure Summary'!A55=\"\",\"\",'Measure Summary'!B55)","v":""},{"$f":"IF('Measure Summary'!A55=\"\",\"\",\"NONEG\")","v":""},{"$f":"IF('Measure Summary'!A55=\"\",\"\",VLOOKUP('Measure Summary'!A55,Lookups!$A$30:$J$180,Lookups!$L$7,FALSE))","v":""},{"$f":"IF(OR('Measure Summary'!C55=\"(blank)\",'Measure Summary'!C55=0),\"\",'Measure Summary'!C55)","v":""}]
[{"$f":"IF('Measure Summary'!A56=\"\",\"\",VLOOKUP('Measure Summary'!A56,Lookups!$A$30:$J$180,VLOOKUP('100L Information'!$AI$46,Lookups!$J$3:$K$6,2,FALSE), FALSE))","v":""},{"$f":"IF('Measure Summary'!A56=\"\",\"\",'Measure Summary'!D56)","v":""},{"$f":"IF('Measure Summary'!A56=\"\",\"\",\"N\")","v":""},{"$f":"IF('Measure Summary'!A56=\"\",\"\",'Measure Summary'!E56)","v":""},{"$f":"IF('Measure Summary'!A56=\"\",\"\",\"N\")","v":""},{"$f":"IF('Measure Summary'!A56=\"\",\"\",'Measure Summary'!F56)","v":""},{"$f":"IF('Measure Summary'!A56=\"\",\"\",'Analysis 103L'!$R$5)","v":""},{"$f":"IF('Measure Summary'!A56=\"\",\"\",'Analysis 103L'!$R$4)","v":""},{"$f":"IF('Measure Summary'!A56=\"\",\"\", ROUND('Measure Summary'!G56,0))","v":""},{"$f":"IF('Measure Summary'!A56=\"\",\"\",0)","v":""},{"$f":"IF('Measure Summary'!A56=\"\",\"\",'Measure Summary'!B56)","v":""},{"$f":"IF('Measure Summary'!A56=\"\",\"\",\"NONEG\")","v":""},{"$f":"IF('Measure Summary'!A56=\"\",\"\",VLOOKUP('Measure Summary'!A56,Lookups!$A$30:$J$180,Lookups!$L$7,FALSE))","v":""},{"$f":"IF(OR('Measure Summary'!C56=\"(blank)\",'Measure Summary'!C56=0),\"\",'Measure Summary'!C56)","v":""}]
[{"$f":"IF('Measure Summary'!A57=\"\",\"\",VLOOKUP('Measure Summary'!A57,Lookups!$A$30:$J$180,VLOOKUP('100L Information'!$AI$46,Lookups!$J$3:$K$6,2,FALSE), FALSE))","v":""},{"$f":"IF('Measure Summary'!A57=\"\",\"\",'Measure Summary'!D57)","v":""},{"$f":"IF('Measure Summary'!A57=\"\",\"\",\"N\")","v":""},{"$f":"IF('Measure Summary'!A57=\"\",\"\",'Measure Summary'!E57)","v":""},{"$f":"IF('Measure Summary'!A57=\"\",\"\",\"N\")","v":""},{"$f":"IF('Measure Summary'!A57=\"\",\"\",'Measure Summary'!F57)","v":""},{"$f":"IF('Measure Summary'!A57=\"\",\"\",'Analysis 103L'!$R$5)","v":""},{"$f":"IF('Measure Summary'!A57=\"\",\"\",'Analysis 103L'!$R$4)","v":""},{"$f":"IF('Measure Summary'!A57=\"\",\"\", ROUND('Measure Summary'!G57,0))","v":""},{"$f":"IF('Measure Summary'!A57=\"\",\"\",0)","v":""},{"$f":"IF('Measure Summary'!A57=\"\",\"\",'Measure Summary'!B57)","v":""},{"$f":"IF('Measure Summary'!A57=\"\",\"\",\"NONEG\")","v":""},{"$f":"IF('Measure Summary'!A57=\"\",\"\",VLOOKUP('Measure Summary'!A57,Lookups!$A$30:$J$180,Lookups!$L$7,FALSE))","v":""},{"$f":"IF(OR('Measure Summary'!C57=\"(blank)\",'Measure Summary'!C57=0),\"\",'Measure Summary'!C57)","v":""}]
[{"$f":"IF('Measure Summary'!A58=\"\",\"\",VLOOKUP('Measure Summary'!A58,Lookups!$A$30:$J$180,VLOOKUP('100L Information'!$AI$46,Lookups!$J$3:$K$6,2,FALSE), FALSE))","v":""},{"$f":"IF('Measure Summary'!A58=\"\",\"\",'Measure Summary'!D58)","v":""},{"$f":"IF('Measure Summary'!A58=\"\",\"\",\"N\")","v":""},{"$f":"IF('Measure Summary'!A58=\"\",\"\",'Measure Summary'!E58)","v":""},{"$f":"IF('Measure Summary'!A58=\"\",\"\",\"N\")","v":""},{"$f":"IF('Measure Summary'!A58=\"\",\"\",'Measure Summary'!F58)","v":""},{"$f":"IF('Measure Summary'!A58=\"\",\"\",'Analysis 103L'!$R$5)","v":""},{"$f":"IF('Measure Summary'!A58=\"\",\"\",'Analysis 103L'!$R$4)","v":""},{"$f":"IF('Measure Summary'!A58=\"\",\"\", ROUND('Measure Summary'!G58,0))","v":""},{"$f":"IF('Measure Summary'!A58=\"\",\"\",0)","v":""},{"$f":"IF('Measure Summary'!A58=\"\",\"\",'Measure Summary'!B58)","v":""},{"$f":"IF('Measure Summary'!A58=\"\",\"\",\"NONEG\")","v":""},{"$f":"IF('Measure Summary'!A58=\"\",\"\",VLOOKUP('Measure Summary'!A58,Lookups!$A$30:$J$180,Lookups!$L$7,FALSE))","v":""},{"$f":"IF(OR('Measure Summary'!C58=\"(blank)\",'Measure Summary'!C58=0),\"\",'Measure Summary'!C58)","v":""}]
[{"$f":"IF('Measure Summary'!A59=\"\",\"\",VLOOKUP('Measure Summary'!A59,Lookups!$A$30:$J$180,VLOOKUP('100L Information'!$AI$46,Lookups!$J$3:$K$6,2,FALSE), FALSE))","v":""},{"$f":"IF('Measure Summary'!A59=\"\",\"\",'Measure Summary'!D59)","v":""},{"$f":"IF('Measure Summary'!A59=\"\",\"\",\"N\")","v":""},{"$f":"IF('Measure Summary'!A59=\"\",\"\",'Measure Summary'!E59)","v":""},{"$f":"IF('Measure Summary'!A59=\"\",\"\",\"N\")","v":""},{"$f":"IF('Measure Summary'!A59=\"\",\"\",'Measure Summary'!F59)","v":""},{"$f":"IF('Measure Summary'!A59=\"\",\"\",'Analysis 103L'!$R$5)","v":""},{"$f":"IF('Measure Summary'!A59=\"\",\"\",'Analysis 103L'!$R$4)","v":""},{"$f":"IF('Measure Summary'!A59=\"\",\"\", ROUND('Measure Summary'!G59,0))","v":""},{"$f":"IF('Measure Summary'!A59=\"\",\"\",0)","v":""},{"$f":"IF('Measure Summary'!A59=\"\",\"\",'Measure Summary'!B59)","v":""},{"$f":"IF('Measure Summary'!A59=\"\",\"\",\"NONEG\")","v":""},{"$f":"IF('Measure Summary'!A59=\"\",\"\",VLOOKUP('Measure Summary'!A59,Lookups!$A$30:$J$180,Lookups!$L$7,FALSE))","v":""},{"$f":"IF(OR('Measure Summary'!C59=\"(blank)\",'Measure Summary'!C59=0),\"\",'Measure Summary'!C59)","v":""}]
[{"$f":"IF('Measure Summary'!A60=\"\",\"\",VLOOKUP('Measure Summary'!A60,Lookups!$A$30:$J$180,VLOOKUP('100L Information'!$AI$46,Lookups!$J$3:$K$6,2,FALSE), FALSE))","v":""},{"$f":"IF('Measure Summary'!A60=\"\",\"\",'Measure Summary'!D60)","v":""},{"$f":"IF('Measure Summary'!A60=\"\",\"\",\"N\")","v":""},{"$f":"IF('Measure Summary'!A60=\"\",\"\",'Measure Summary'!E60)","v":""},{"$f":"IF('Measure Summary'!A60=\"\",\"\",\"N\")","v":""},{"$f":"IF('Measure Summary'!A60=\"\",\"\",'Measure Summary'!F60)","v":""},{"$f":"IF('Measure Summary'!A60=\"\",\"\",'Analysis 103L'!$R$5)","v":""},{"$f":"IF('Measure Summary'!A60=\"\",\"\",'Analysis 103L'!$R$4)","v":""},{"$f":"IF('Measure Summary'!A60=\"\",\"\", ROUND('Measure Summary'!G60,0))","v":""},{"$f":"IF('Measure Summary'!A60=\"\",\"\",0)","v":""},{"$f":"IF('Measure Summary'!A60=\"\",\"\",'Measure Summary'!B60)","v":""},{"$f":"IF('Measure Summary'!A60=\"\",\"\",\"NONEG\")","v":""},{"$f":"IF('Measure Summary'!A60=\"\",\"\",VLOOKUP('Measure Summary'!A60,Lookups!$A$30:$J$180,Lookups!$L$7,FALSE))","v":""},{"$f":"IF(OR('Measure Summary'!C60=\"(blank)\",'Measure Summary'!C60=0),\"\",'Measure Summary'!C60)","v":""}]
[{"$f":"IF('Measure Summary'!A61=\"\",\"\",VLOOKUP('Measure Summary'!A61,Lookups!$A$30:$J$180,VLOOKUP('100L Information'!$AI$46,Lookups!$J$3:$K$6,2,FALSE), FALSE))","v":""},{"$f":"IF('Measure Summary'!A61=\"\",\"\",'Measure Summary'!D61)","v":""},{"$f":"IF('Measure Summary'!A61=\"\",\"\",\"N\")","v":""},{"$f":"IF('Measure Summary'!A61=\"\",\"\",'Measure Summary'!E61)","v":""},{"$f":"IF('Measure Summary'!A61=\"\",\"\",\"N\")","v":""},{"$f":"IF('Measure Summary'!A61=\"\",\"\",'Measure Summary'!F61)","v":""},{"$f":"IF('Measure Summary'!A61=\"\",\"\",'Analysis 103L'!$R$5)","v":""},{"$f":"IF('Measure Summary'!A61=\"\",\"\",'Analysis 103L'!$R$4)","v":""},{"$f":"IF('Measure Summary'!A61=\"\",\"\", ROUND('Measure Summary'!G61,0))","v":""},{"$f":"IF('Measure Summary'!A61=\"\",\"\",0)","v":""},{"$f":"IF('Measure Summary'!A61=\"\",\"\",'Measure Summary'!B61)","v":""},{"$f":"IF('Measure Summary'!A61=\"\",\"\",\"NONEG\")","v":""},{"$f":"IF('Measure Summary'!A61=\"\",\"\",VLOOKUP('Measure Summary'!A61,Lookups!$A$30:$J$180,Lookups!$L$7,FALSE))","v":""},{"$f":"IF(OR('Measure Summary'!C61=\"(blank)\",'Measure Summary'!C61=0),\"\",'Measure Summary'!C61)","v":""}]
[{"$f":"IF('Measure Summary'!A62=\"\",\"\",VLOOKUP('Measure Summary'!A62,Lookups!$A$30:$J$180,VLOOKUP('100L Information'!$AI$46,Lookups!$J$3:$K$6,2,FALSE), FALSE))","v":""},{"$f":"IF('Measure Summary'!A62=\"\",\"\",'Measure Summary'!D62)","v":""},{"$f":"IF('Measure Summary'!A62=\"\",\"\",\"N\")","v":""},{"$f":"IF('Measure Summary'!A62=\"\",\"\",'Measure Summary'!E62)","v":""},{"$f":"IF('Measure Summary'!A62=\"\",\"\",\"N\")","v":""},{"$f":"IF('Measure Summary'!A62=\"\",\"\",'Measure Summary'!F62)","v":""},{"$f":"IF('Measure Summary'!A62=\"\",\"\",'Analysis 103L'!$R$5)","v":""},{"$f":"IF('Measure Summary'!A62=\"\",\"\",'Analysis 103L'!$R$4)","v":""},{"$f":"IF('Measure Summary'!A62=\"\",\"\", ROUND('Measure Summary'!G62,0))","v":""},{"$f":"IF('Measure Summary'!A62=\"\",\"\",0)","v":""},{"$f":"IF('Measure Summary'!A62=\"\",\"\",'Measure Summary'!B62)","v":""},{"$f":"IF('Measure Summary'!A62=\"\",\"\",\"NONEG\")","v":""},{"$f":"IF('Measure Summary'!A62=\"\",\"\",VLOOKUP('Measure Summary'!A62,Lookups!$A$30:$J$180,Lookups!$L$7,FALSE))","v":""},{"$f":"IF(OR('Measure Summary'!C62=\"(blank)\",'Measure Summary'!C62=0),\"\",'Measure Summary'!C62)","v":""}]
[{"$f":"IF('Measure Summary'!A63=\"\",\"\",VLOOKUP('Measure Summary'!A63,Lookups!$A$30:$J$180,VLOOKUP('100L Information'!$AI$46,Lookups!$J$3:$K$6,2,FALSE), FALSE))","v":""},{"$f":"IF('Measure Summary'!A63=\"\",\"\",'Measure Summary'!D63)","v":""},{"$f":"IF('Measure Summary'!A63=\"\",\"\",\"N\")","v":""},{"$f":"IF('Measure Summary'!A63=\"\",\"\",'Measure Summary'!E63)","v":""},{"$f":"IF('Measure Summary'!A63=\"\",\"\",\"N\")","v":""},{"$f":"IF('Measure Summary'!A63=\"\",\"\",'Measure Summary'!F63)","v":""},{"$f":"IF('Measure Summary'!A63=\"\",\"\",'Analysis 103L'!$R$5)","v":""},{"$f":"IF('Measure Summary'!A63=\"\",\"\",'Analysis 103L'!$R$4)","v":""},{"$f":"IF('Measure Summary'!A63=\"\",\"\", ROUND('Measure Summary'!G63,0))","v":""},{"$f":"IF('Measure Summary'!A63=\"\",\"\",0)","v":""},{"$f":"IF('Measure Summary'!A63=\"\",\"\",'Measure Summary'!B63)","v":""},{"$f":"IF('Measure Summary'!A63=\"\",\"\",\"NONEG\")","v":""},{"$f":"IF('Measure Summary'!A63=\"\",\"\",VLOOKUP('Measure Summary'!A63,Lookups!$A$30:$J$180,Lookups!$L$7,FALSE))","v":""},{"$f":"IF(OR('Measure Summary'!C63=\"(blank)\",'Measure Summary'!C63=0),\"\",'Measure Summary'!C63)","v":""}]
[{"$f":"IF('Measure Summary'!A64=\"\",\"\",VLOOKUP('Measure Summary'!A64,Lookups!$A$30:$J$180,VLOOKUP('100L Information'!$AI$46,Lookups!$J$3:$K$6,2,FALSE), FALSE))","v":""},{"$f":"IF('Measure Summary'!A64=\"\",\"\",'Measure Summary'!D64)","v":""},{"$f":"IF('Measure Summary'!A64=\"\",\"\",\"N\")","v":""},{"$f":"IF('Measure Summary'!A64=\"\",\"\",'Measure Summary'!E64)","v":""},{"$f":"IF('Measure Summary'!A64=\"\",\"\",\"N\")","v":""},{"$f":"IF('Measure Summary'!A64=\"\",\"\",'Measure Summary'!F64)","v":""},{"$f":"IF('Measure Summary'!A64=\"\",\"\",'Analysis 103L'!$R$5)","v":""},{"$f":"IF('Measure Summary'!A64=\"\",\"\",'Analysis 103L'!$R$4)","v":""},{"$f":"IF('Measure Summary'!A64=\"\",\"\", ROUND('Measure Summary'!G64,0))","v":""},{"$f":"IF('Measure Summary'!A64=\"\",\"\",0)","v":""},{"$f":"IF('Measure Summary'!A64=\"\",\"\",'Measure Summary'!B64)","v":""},{"$f":"IF('Measure Summary'!A64=\"\",\"\",\"NONEG\")","v":""},{"$f":"IF('Measure Summary'!A64=\"\",\"\",VLOOKUP('Measure Summary'!A64,Lookups!$A$30:$J$180,Lookups!$L$7,FALSE))","v":""},{"$f":"IF(OR('Measure Summary'!C64=\"(blank)\",'Measure Summary'!C64=0),\"\",'Measure Summary'!C64)","v":""}]
[{"$f":"IF('Measure Summary'!A65=\"\",\"\",VLOOKUP('Measure Summary'!A65,Lookups!$A$30:$J$180,VLOOKUP('100L Information'!$AI$46,Lookups!$J$3:$K$6,2,FALSE), FALSE))","v":""},{"$f":"IF('Measure Summary'!A65=\"\",\"\",'Measure Summary'!D65)","v":""},{"$f":"IF('Measure Summary'!A65=\"\",\"\",\"N\")","v":""},{"$f":"IF('Measure Summary'!A65=\"\",\"\",'Measure Summary'!E65)","v":""},{"$f":"IF('Measure Summary'!A65=\"\",\"\",\"N\")","v":""},{"$f":"IF('Measure Summary'!A65=\"\",\"\",'Measure Summary'!F65)","v":""},{"$f":"IF('Measure Summary'!A65=\"\",\"\",'Analysis 103L'!$R$5)","v":""},{"$f":"IF('Measure Summary'!A65=\"\",\"\",'Analysis 103L'!$R$4)","v":""},{"$f":"IF('Measure Summary'!A65=\"\",\"\", ROUND('Measure Summary'!G65,0))","v":""},{"$f":"IF('Measure Summary'!A65=\"\",\"\",0)","v":""},{"$f":"IF('Measure Summary'!A65=\"\",\"\",'Measure Summary'!B65)","v":""},{"$f":"IF('Measure Summary'!A65=\"\",\"\",\"NONEG\")","v":""},{"$f":"IF('Measure Summary'!A65=\"\",\"\",VLOOKUP('Measure Summary'!A65,Lookups!$A$30:$J$180,Lookups!$L$7,FALSE))","v":""},{"$f":"IF(OR('Measure Summary'!C65=\"(blank)\",'Measure Summary'!C65=0),\"\",'Measure Summary'!C65)","v":""}]
[{"$f":"IF('Measure Summary'!A66=\"\",\"\",VLOOKUP('Measure Summary'!A66,Lookups!$A$30:$J$180,VLOOKUP('100L Information'!$AI$46,Lookups!$J$3:$K$6,2,FALSE), FALSE))","v":""},{"$f":"IF('Measure Summary'!A66=\"\",\"\",'Measure Summary'!D66)","v":""},{"$f":"IF('Measure Summary'!A66=\"\",\"\",\"N\")","v":""},{"$f":"IF('Measure Summary'!A66=\"\",\"\",'Measure Summary'!E66)","v":""},{"$f":"IF('Measure Summary'!A66=\"\",\"\",\"N\")","v":""},{"$f":"IF('Measure Summary'!A66=\"\",\"\",'Measure Summary'!F66)","v":""},{"$f":"IF('Measure Summary'!A66=\"\",\"\",'Analysis 103L'!$R$5)","v":""},{"$f":"IF('Measure Summary'!A66=\"\",\"\",'Analysis 103L'!$R$4)","v":""},{"$f":"IF('Measure Summary'!A66=\"\",\"\", ROUND('Measure Summary'!G66,0))","v":""},{"$f":"IF('Measure Summary'!A66=\"\",\"\",0)","v":""},{"$f":"IF('Measure Summary'!A66=\"\",\"\",'Measure Summary'!B66)","v":""},{"$f":"IF('Measure Summary'!A66=\"\",\"\",\"NONEG\")","v":""},{"$f":"IF('Measure Summary'!A66=\"\",\"\",VLOOKUP('Measure Summary'!A66,Lookups!$A$30:$J$180,Lookups!$L$7,FALSE))","v":""},{"$f":"IF(OR('Measure Summary'!C66=\"(blank)\",'Measure Summary'!C66=0),\"\",'Measure Summary'!C66)","v":""}]
[{"$f":"IF('Measure Summary'!A67=\"\",\"\",VLOOKUP('Measure Summary'!A67,Lookups!$A$30:$J$180,VLOOKUP('100L Information'!$AI$46,Lookups!$J$3:$K$6,2,FALSE), FALSE))","v":""},{"$f":"IF('Measure Summary'!A67=\"\",\"\",'Measure Summary'!D67)","v":""},{"$f":"IF('Measure Summary'!A67=\"\",\"\",\"N\")","v":""},{"$f":"IF('Measure Summary'!A67=\"\",\"\",'Measure Summary'!E67)","v":""},{"$f":"IF('Measure Summary'!A67=\"\",\"\",\"N\")","v":""},{"$f":"IF('Measure Summary'!A67=\"\",\"\",'Measure Summary'!F67)","v":""},{"$f":"IF('Measure Summary'!A67=\"\",\"\",'Analysis 103L'!$R$5)","v":""},{"$f":"IF('Measure Summary'!A67=\"\",\"\",'Analysis 103L'!$R$4)","v":""},{"$f":"IF('Measure Summary'!A67=\"\",\"\", ROUND('Measure Summary'!G67,0))","v":""},{"$f":"IF('Measure Summary'!A67=\"\",\"\",0)","v":""},{"$f":"IF('Measure Summary'!A67=\"\",\"\",'Measure Summary'!B67)","v":""},{"$f":"IF('Measure Summary'!A67=\"\",\"\",\"NONEG\")","v":""},{"$f":"IF('Measure Summary'!A67=\"\",\"\",VLOOKUP('Measure Summary'!A67,Lookups!$A$30:$J$180,Lookups!$L$7,FALSE))","v":""},{"$f":"IF(OR('Measure Summary'!C67=\"(blank)\",'Measure Summary'!C67=0),\"\",'Measure Summary'!C67)","v":""}]
[{"$f":"IF('Measure Summary'!A68=\"\",\"\",VLOOKUP('Measure Summary'!A68,Lookups!$A$30:$J$180,VLOOKUP('100L Information'!$AI$46,Lookups!$J$3:$K$6,2,FALSE), FALSE))","v":""},{"$f":"IF('Measure Summary'!A68=\"\",\"\",'Measure Summary'!D68)","v":""},{"$f":"IF('Measure Summary'!A68=\"\",\"\",\"N\")","v":""},{"$f":"IF('Measure Summary'!A68=\"\",\"\",'Measure Summary'!E68)","v":""},{"$f":"IF('Measure Summary'!A68=\"\",\"\",\"N\")","v":""},{"$f":"IF('Measure Summary'!A68=\"\",\"\",'Measure Summary'!F68)","v":""},{"$f":"IF('Measure Summary'!A68=\"\",\"\",'Analysis 103L'!$R$5)","v":""},{"$f":"IF('Measure Summary'!A68=\"\",\"\",'Analysis 103L'!$R$4)","v":""},{"$f":"IF('Measure Summary'!A68=\"\",\"\", ROUND('Measure Summary'!G68,0))","v":""},{"$f":"IF('Measure Summary'!A68=\"\",\"\",0)","v":""},{"$f":"IF('Measure Summary'!A68=\"\",\"\",'Measure Summary'!B68)","v":""},{"$f":"IF('Measure Summary'!A68=\"\",\"\",\"NONEG\")","v":""},{"$f":"IF('Measure Summary'!A68=\"\",\"\",VLOOKUP('Measure Summary'!A68,Lookups!$A$30:$J$180,Lookups!$L$7,FALSE))","v":""},{"$f":"IF(OR('Measure Summary'!C68=\"(blank)\",'Measure Summary'!C68=0),\"\",'Measure Summary'!C68)","v":""}]
[{"$f":"IF('Measure Summary'!A69=\"\",\"\",VLOOKUP('Measure Summary'!A69,Lookups!$A$30:$J$180,VLOOKUP('100L Information'!$AI$46,Lookups!$J$3:$K$6,2,FALSE), FALSE))","v":""},{"$f":"IF('Measure Summary'!A69=\"\",\"\",'Measure Summary'!D69)","v":""},{"$f":"IF('Measure Summary'!A69=\"\",\"\",\"N\")","v":""},{"$f":"IF('Measure Summary'!A69=\"\",\"\",'Measure Summary'!E69)","v":""},{"$f":"IF('Measure Summary'!A69=\"\",\"\",\"N\")","v":""},{"$f":"IF('Measure Summary'!A69=\"\",\"\",'Measure Summary'!F69)","v":""},{"$f":"IF('Measure Summary'!A69=\"\",\"\",'Analysis 103L'!$R$5)","v":""},{"$f":"IF('Measure Summary'!A69=\"\",\"\",'Analysis 103L'!$R$4)","v":""},{"$f":"IF('Measure Summary'!A69=\"\",\"\", ROUND('Measure Summary'!G69,0))","v":""},{"$f":"IF('Measure Summary'!A69=\"\",\"\",0)","v":""},{"$f":"IF('Measure Summary'!A69=\"\",\"\",'Measure Summary'!B69)","v":""},{"$f":"IF('Measure Summary'!A69=\"\",\"\",\"NONEG\")","v":""},{"$f":"IF('Measure Summary'!A69=\"\",\"\",VLOOKUP('Measure Summary'!A69,Lookups!$A$30:$J$180,Lookups!$L$7,FALSE))","v":""},{"$f":"IF(OR('Measure Summary'!C69=\"(blank)\",'Measure Summary'!C69=0),\"\",'Measure Summary'!C69)","v":""}]
[{"$f":"IF('Measure Summary'!A70=\"\",\"\",VLOOKUP('Measure Summary'!A70,Lookups!$A$30:$J$180,VLOOKUP('100L Information'!$AI$46,Lookups!$J$3:$K$6,2,FALSE), FALSE))","v":""},{"$f":"IF('Measure Summary'!A70=\"\",\"\",'Measure Summary'!D70)","v":""},{"$f":"IF('Measure Summary'!A70=\"\",\"\",\"N\")","v":""},{"$f":"IF('Measure Summary'!A70=\"\",\"\",'Measure Summary'!E70)","v":""},{"$f":"IF('Measure Summary'!A70=\"\",\"\",\"N\")","v":""},{"$f":"IF('Measure Summary'!A70=\"\",\"\",'Measure Summary'!F70)","v":""},{"$f":"IF('Measure Summary'!A70=\"\",\"\",'Analysis 103L'!$R$5)","v":""},{"$f":"IF('Measure Summary'!A70=\"\",\"\",'Analysis 103L'!$R$4)","v":""},{"$f":"IF('Measure Summary'!A70=\"\",\"\", ROUND('Measure Summary'!G70,0))","v":""},{"$f":"IF('Measure Summary'!A70=\"\",\"\",0)","v":""},{"$f":"IF('Measure Summary'!A70=\"\",\"\",'Measure Summary'!B70)","v":""},{"$f":"IF('Measure Summary'!A70=\"\",\"\",\"NONEG\")","v":""},{"$f":"IF('Measure Summary'!A70=\"\",\"\",VLOOKUP('Measure Summary'!A70,Lookups!$A$30:$J$180,Lookups!$L$7,FALSE))","v":""},{"$f":"IF(OR('Measure Summary'!C70=\"(blank)\",'Measure Summary'!C70=0),\"\",'Measure Summary'!C70)","v":""}]
[{"$f":"IF('Measure Summary'!A71=\"\",\"\",VLOOKUP('Measure Summary'!A71,Lookups!$A$30:$J$180,VLOOKUP('100L Information'!$AI$46,Lookups!$J$3:$K$6,2,FALSE), FALSE))","v":""},{"$f":"IF('Measure Summary'!A71=\"\",\"\",'Measure Summary'!D71)","v":""},{"$f":"IF('Measure Summary'!A71=\"\",\"\",\"N\")","v":""},{"$f":"IF('Measure Summary'!A71=\"\",\"\",'Measure Summary'!E71)","v":""},{"$f":"IF('Measure Summary'!A71=\"\",\"\",\"N\")","v":""},{"$f":"IF('Measure Summary'!A71=\"\",\"\",'Measure Summary'!F71)","v":""},{"$f":"IF('Measure Summary'!A71=\"\",\"\",'Analysis 103L'!$R$5)","v":""},{"$f":"IF('Measure Summary'!A71=\"\",\"\",'Analysis 103L'!$R$4)","v":""},{"$f":"IF('Measure Summary'!A71=\"\",\"\", ROUND('Measure Summary'!G71,0))","v":""},{"$f":"IF('Measure Summary'!A71=\"\",\"\",0)","v":""},{"$f":"IF('Measure Summary'!A71=\"\",\"\",'Measure Summary'!B71)","v":""},{"$f":"IF('Measure Summary'!A71=\"\",\"\",\"NONEG\")","v":""},{"$f":"IF('Measure Summary'!A71=\"\",\"\",VLOOKUP('Measure Summary'!A71,Lookups!$A$30:$J$180,Lookups!$L$7,FALSE))","v":""},{"$f":"IF(OR('Measure Summary'!C71=\"(blank)\",'Measure Summary'!C71=0),\"\",'Measure Summary'!C71)","v":""}]
[{"$f":"IF('Measure Summary'!A72=\"\",\"\",VLOOKUP('Measure Summary'!A72,Lookups!$A$30:$J$180,VLOOKUP('100L Information'!$AI$46,Lookups!$J$3:$K$6,2,FALSE), FALSE))","v":""},{"$f":"IF('Measure Summary'!A72=\"\",\"\",'Measure Summary'!D72)","v":""},{"$f":"IF('Measure Summary'!A72=\"\",\"\",\"N\")","v":""},{"$f":"IF('Measure Summary'!A72=\"\",\"\",'Measure Summary'!E72)","v":""},{"$f":"IF('Measure Summary'!A72=\"\",\"\",\"N\")","v":""},{"$f":"IF('Measure Summary'!A72=\"\",\"\",'Measure Summary'!F72)","v":""},{"$f":"IF('Measure Summary'!A72=\"\",\"\",'Analysis 103L'!$R$5)","v":""},{"$f":"IF('Measure Summary'!A72=\"\",\"\",'Analysis 103L'!$R$4)","v":""},{"$f":"IF('Measure Summary'!A72=\"\",\"\", ROUND('Measure Summary'!G72,0))","v":""},{"$f":"IF('Measure Summary'!A72=\"\",\"\",0)","v":""},{"$f":"IF('Measure Summary'!A72=\"\",\"\",'Measure Summary'!B72)","v":""},{"$f":"IF('Measure Summary'!A72=\"\",\"\",\"NONEG\")","v":""},{"$f":"IF('Measure Summary'!A72=\"\",\"\",VLOOKUP('Measure Summary'!A72,Lookups!$A$30:$J$180,Lookups!$L$7,FALSE))","v":""},{"$f":"IF(OR('Measure Summary'!C72=\"(blank)\",'Measure Summary'!C72=0),\"\",'Measure Summary'!C72)","v":""}]
[{"$f":"IF('Measure Summary'!A73=\"\",\"\",VLOOKUP('Measure Summary'!A73,Lookups!$A$30:$J$180,VLOOKUP('100L Information'!$AI$46,Lookups!$J$3:$K$6,2,FALSE), FALSE))","v":""},{"$f":"IF('Measure Summary'!A73=\"\",\"\",'Measure Summary'!D73)","v":""},{"$f":"IF('Measure Summary'!A73=\"\",\"\",\"N\")","v":""},{"$f":"IF('Measure Summary'!A73=\"\",\"\",'Measure Summary'!E73)","v":""},{"$f":"IF('Measure Summary'!A73=\"\",\"\",\"N\")","v":""},{"$f":"IF('Measure Summary'!A73=\"\",\"\",'Measure Summary'!F73)","v":""},{"$f":"IF('Measure Summary'!A73=\"\",\"\",'Analysis 103L'!$R$5)","v":""},{"$f":"IF('Measure Summary'!A73=\"\",\"\",'Analysis 103L'!$R$4)","v":""},{"$f":"IF('Measure Summary'!A73=\"\",\"\", ROUND('Measure Summary'!G73,0))","v":""},{"$f":"IF('Measure Summary'!A73=\"\",\"\",0)","v":""},{"$f":"IF('Measure Summary'!A73=\"\",\"\",'Measure Summary'!B73)","v":""},{"$f":"IF('Measure Summary'!A73=\"\",\"\",\"NONEG\")","v":""},{"$f":"IF('Measure Summary'!A73=\"\",\"\",VLOOKUP('Measure Summary'!A73,Lookups!$A$30:$J$180,Lookups!$L$7,FALSE))","v":""},{"$f":"IF(OR('Measure Summary'!C73=\"(blank)\",'Measure Summary'!C73=0),\"\",'Measure Summary'!C73)","v":""}]
[{"$f":"IF('Measure Summary'!A74=\"\",\"\",VLOOKUP('Measure Summary'!A74,Lookups!$A$30:$J$180,VLOOKUP('100L Information'!$AI$46,Lookups!$J$3:$K$6,2,FALSE), FALSE))","v":""},{"$f":"IF('Measure Summary'!A74=\"\",\"\",'Measure Summary'!D74)","v":""},{"$f":"IF('Measure Summary'!A74=\"\",\"\",\"N\")","v":""},{"$f":"IF('Measure Summary'!A74=\"\",\"\",'Measure Summary'!E74)","v":""},{"$f":"IF('Measure Summary'!A74=\"\",\"\",\"N\")","v":""},{"$f":"IF('Measure Summary'!A74=\"\",\"\",'Measure Summary'!F74)","v":""},{"$f":"IF('Measure Summary'!A74=\"\",\"\",'Analysis 103L'!$R$5)","v":""},{"$f":"IF('Measure Summary'!A74=\"\",\"\",'Analysis 103L'!$R$4)","v":""},{"$f":"IF('Measure Summary'!A74=\"\",\"\", ROUND('Measure Summary'!G74,0))","v":""},{"$f":"IF('Measure Summary'!A74=\"\",\"\",0)","v":""},{"$f":"IF('Measure Summary'!A74=\"\",\"\",'Measure Summary'!B74)","v":""},{"$f":"IF('Measure Summary'!A74=\"\",\"\",\"NONEG\")","v":""},{"$f":"IF('Measure Summary'!A74=\"\",\"\",VLOOKUP('Measure Summary'!A74,Lookups!$A$30:$J$180,Lookups!$L$7,FALSE))","v":""},{"$f":"IF(OR('Measure Summary'!C74=\"(blank)\",'Measure Summary'!C74=0),\"\",'Measure Summary'!C74)","v":""}]
[{"$f":"IF('Measure Summary'!A75=\"\",\"\",VLOOKUP('Measure Summary'!A75,Lookups!$A$30:$J$180,VLOOKUP('100L Information'!$AI$46,Lookups!$J$3:$K$6,2,FALSE), FALSE))","v":""},{"$f":"IF('Measure Summary'!A75=\"\",\"\",'Measure Summary'!D75)","v":""},{"$f":"IF('Measure Summary'!A75=\"\",\"\",\"N\")","v":""},{"$f":"IF('Measure Summary'!A75=\"\",\"\",'Measure Summary'!E75)","v":""},{"$f":"IF('Measure Summary'!A75=\"\",\"\",\"N\")","v":""},{"$f":"IF('Measure Summary'!A75=\"\",\"\",'Measure Summary'!F75)","v":""},{"$f":"IF('Measure Summary'!A75=\"\",\"\",'Analysis 103L'!$R$5)","v":""},{"$f":"IF('Measure Summary'!A75=\"\",\"\",'Analysis 103L'!$R$4)","v":""},{"$f":"IF('Measure Summary'!A75=\"\",\"\", ROUND('Measure Summary'!G75,0))","v":""},{"$f":"IF('Measure Summary'!A75=\"\",\"\",0)","v":""},{"$f":"IF('Measure Summary'!A75=\"\",\"\",'Measure Summary'!B75)","v":""},{"$f":"IF('Measure Summary'!A75=\"\",\"\",\"NONEG\")","v":""},{"$f":"IF('Measure Summary'!A75=\"\",\"\",VLOOKUP('Measure Summary'!A75,Lookups!$A$30:$J$180,Lookups!$L$7,FALSE))","v":""},{"$f":"IF(OR('Measure Summary'!C75=\"(blank)\",'Measure Summary'!C75=0),\"\",'Measure Summary'!C75)","v":""}]
[{"$f":"IF('Measure Summary'!A76=\"\",\"\",VLOOKUP('Measure Summary'!A76,Lookups!$A$30:$J$180,VLOOKUP('100L Information'!$AI$46,Lookups!$J$3:$K$6,2,FALSE), FALSE))","v":""},{"$f":"IF('Measure Summary'!A76=\"\",\"\",'Measure Summary'!D76)","v":""},{"$f":"IF('Measure Summary'!A76=\"\",\"\",\"N\")","v":""},{"$f":"IF('Measure Summary'!A76=\"\",\"\",'Measure Summary'!E76)","v":""},{"$f":"IF('Measure Summary'!A76=\"\",\"\",\"N\")","v":""},{"$f":"IF('Measure Summary'!A76=\"\",\"\",'Measure Summary'!F76)","v":""},{"$f":"IF('Measure Summary'!A76=\"\",\"\",'Analysis 103L'!$R$5)","v":""},{"$f":"IF('Measure Summary'!A76=\"\",\"\",'Analysis 103L'!$R$4)","v":""},{"$f":"IF('Measure Summary'!A76=\"\",\"\", ROUND('Measure Summary'!G76,0))","v":""},{"$f":"IF('Measure Summary'!A76=\"\",\"\",0)","v":""},{"$f":"IF('Measure Summary'!A76=\"\",\"\",'Measure Summary'!B76)","v":""},{"$f":"IF('Measure Summary'!A76=\"\",\"\",\"NONEG\")","v":""},{"$f":"IF('Measure Summary'!A76=\"\",\"\",VLOOKUP('Measure Summary'!A76,Lookups!$A$30:$J$180,Lookups!$L$7,FALSE))","v":""},{"$f":"IF(OR('Measure Summary'!C76=\"(blank)\",'Measure Summary'!C76=0),\"\",'Measure Summary'!C76)","v":""}]
[{"$f":"IF('Measure Summary'!A77=\"\",\"\",VLOOKUP('Measure Summary'!A77,Lookups!$A$30:$J$180,VLOOKUP('100L Information'!$AI$46,Lookups!$J$3:$K$6,2,FALSE), FALSE))","v":""},{"$f":"IF('Measure Summary'!A77=\"\",\"\",'Measure Summary'!D77)","v":""},{"$f":"IF('Measure Summary'!A77=\"\",\"\",\"N\")","v":""},{"$f":"IF('Measure Summary'!A77=\"\",\"\",'Measure Summary'!E77)","v":""},{"$f":"IF('Measure Summary'!A77=\"\",\"\",\"N\")","v":""},{"$f":"IF('Measure Summary'!A77=\"\",\"\",'Measure Summary'!F77)","v":""},{"$f":"IF('Measure Summary'!A77=\"\",\"\",'Analysis 103L'!$R$5)","v":""},{"$f":"IF('Measure Summary'!A77=\"\",\"\",'Analysis 103L'!$R$4)","v":""},{"$f":"IF('Measure Summary'!A77=\"\",\"\", ROUND('Measure Summary'!G77,0))","v":""},{"$f":"IF('Measure Summary'!A77=\"\",\"\",0)","v":""},{"$f":"IF('Measure Summary'!A77=\"\",\"\",'Measure Summary'!B77)","v":""},{"$f":"IF('Measure Summary'!A77=\"\",\"\",\"NONEG\")","v":""},{"$f":"IF('Measure Summary'!A77=\"\",\"\",VLOOKUP('Measure Summary'!A77,Lookups!$A$30:$J$180,Lookups!$L$7,FALSE))","v":""},{"$f":"IF(OR('Measure Summary'!C77=\"(blank)\",'Measure Summary'!C77=0),\"\",'Measure Summary'!C77)","v":""}]
[{"$f":"IF('Measure Summary'!A78=\"\",\"\",VLOOKUP('Measure Summary'!A78,Lookups!$A$30:$J$180,VLOOKUP('100L Information'!$AI$46,Lookups!$J$3:$K$6,2,FALSE), FALSE))","v":""},{"$f":"IF('Measure Summary'!A78=\"\",\"\",'Measure Summary'!D78)","v":""},{"$f":"IF('Measure Summary'!A78=\"\",\"\",\"N\")","v":""},{"$f":"IF('Measure Summary'!A78=\"\",\"\",'Measure Summary'!E78)","v":""},{"$f":"IF('Measure Summary'!A78=\"\",\"\",\"N\")","v":""},{"$f":"IF('Measure Summary'!A78=\"\",\"\",'Measure Summary'!F78)","v":""},{"$f":"IF('Measure Summary'!A78=\"\",\"\",'Analysis 103L'!$R$5)","v":""},{"$f":"IF('Measure Summary'!A78=\"\",\"\",'Analysis 103L'!$R$4)","v":""},{"$f":"IF('Measure Summary'!A78=\"\",\"\", ROUND('Measure Summary'!G78,0))","v":""},{"$f":"IF('Measure Summary'!A78=\"\",\"\",0)","v":""},{"$f":"IF('Measure Summary'!A78=\"\",\"\",'Measure Summary'!B78)","v":""},{"$f":"IF('Measure Summary'!A78=\"\",\"\",\"NONEG\")","v":""},{"$f":"IF('Measure Summary'!A78=\"\",\"\",VLOOKUP('Measure Summary'!A78,Lookups!$A$30:$J$180,Lookups!$L$7,FALSE))","v":""},{"$f":"IF(OR('Measure Summary'!C78=\"(blank)\",'Measure Summary'!C78=0),\"\",'Measure Summary'!C78)","v":""}]
[{"$f":"IF('Measure Summary'!A79=\"\",\"\",VLOOKUP('Measure Summary'!A79,Lookups!$A$30:$J$180,VLOOKUP('100L Information'!$AI$46,Lookups!$J$3:$K$6,2,FALSE), FALSE))","v":""},{"$f":"IF('Measure Summary'!A79=\"\",\"\",'Measure Summary'!D79)","v":""},{"$f":"IF('Measure Summary'!A79=\"\",\"\",\"N\")","v":""},{"$f":"IF('Measure Summary'!A79=\"\",\"\",'Measure Summary'!E79)","v":""},{"$f":"IF('Measure Summary'!A79=\"\",\"\",\"N\")","v":""},{"$f":"IF('Measure Summary'!A79=\"\",\"\",'Measure Summary'!F79)","v":""},{"$f":"IF('Measure Summary'!A79=\"\",\"\",'Analysis 103L'!$R$5)","v":""},{"$f":"IF('Measure Summary'!A79=\"\",\"\",'Analysis 103L'!$R$4)","v":""},{"$f":"IF('Measure Summary'!A79=\"\",\"\", ROUND('Measure Summary'!G79,0))","v":""},{"$f":"IF('Measure Summary'!A79=\"\",\"\",0)","v":""},{"$f":"IF('Measure Summary'!A79=\"\",\"\",'Measure Summary'!B79)","v":""},{"$f":"IF('Measure Summary'!A79=\"\",\"\",\"NONEG\")","v":""},{"$f":"IF('Measure Summary'!A79=\"\",\"\",VLOOKUP('Measure Summary'!A79,Lookups!$A$30:$J$180,Lookups!$L$7,FALSE))","v":""},{"$f":"IF(OR('Measure Summary'!C79=\"(blank)\",'Measure Summary'!C79=0),\"\",'Measure Summary'!C79)","v":""}]
[{"$f":"IF('Measure Summary'!A80=\"\",\"\",VLOOKUP('Measure Summary'!A80,Lookups!$A$30:$J$180,VLOOKUP('100L Information'!$AI$46,Lookups!$J$3:$K$6,2,FALSE), FALSE))","v":""},{"$f":"IF('Measure Summary'!A80=\"\",\"\",'Measure Summary'!D80)","v":""},{"$f":"IF('Measure Summary'!A80=\"\",\"\",\"N\")","v":""},{"$f":"IF('Measure Summary'!A80=\"\",\"\",'Measure Summary'!E80)","v":""},{"$f":"IF('Measure Summary'!A80=\"\",\"\",\"N\")","v":""},{"$f":"IF('Measure Summary'!A80=\"\",\"\",'Measure Summary'!F80)","v":""},{"$f":"IF('Measure Summary'!A80=\"\",\"\",'Analysis 103L'!$R$5)","v":""},{"$f":"IF('Measure Summary'!A80=\"\",\"\",'Analysis 103L'!$R$4)","v":""},{"$f":"IF('Measure Summary'!A80=\"\",\"\", ROUND('Measure Summary'!G80,0))","v":""},{"$f":"IF('Measure Summary'!A80=\"\",\"\",0)","v":""},{"$f":"IF('Measure Summary'!A80=\"\",\"\",'Measure Summary'!B80)","v":""},{"$f":"IF('Measure Summary'!A80=\"\",\"\",\"NONEG\")","v":""},{"$f":"IF('Measure Summary'!A80=\"\",\"\",VLOOKUP('Measure Summary'!A80,Lookups!$A$30:$J$180,Lookups!$L$7,FALSE))","v":""},{"$f":"IF(OR('Measure Summary'!C80=\"(blank)\",'Measure Summary'!C80=0),\"\",'Measure Summary'!C80)","v":""}]
[{"$f":"IF('Measure Summary'!A81=\"\",\"\",VLOOKUP('Measure Summary'!A81,Lookups!$A$30:$J$180,VLOOKUP('100L Information'!$AI$46,Lookups!$J$3:$K$6,2,FALSE), FALSE))","v":""},{"$f":"IF('Measure Summary'!A81=\"\",\"\",'Measure Summary'!D81)","v":""},{"$f":"IF('Measure Summary'!A81=\"\",\"\",\"N\")","v":""},{"$f":"IF('Measure Summary'!A81=\"\",\"\",'Measure Summary'!E81)","v":""},{"$f":"IF('Measure Summary'!A81=\"\",\"\",\"N\")","v":""},{"$f":"IF('Measure Summary'!A81=\"\",\"\",'Measure Summary'!F81)","v":""},{"$f":"IF('Measure Summary'!A81=\"\",\"\",'Analysis 103L'!$R$5)","v":""},{"$f":"IF('Measure Summary'!A81=\"\",\"\",'Analysis 103L'!$R$4)","v":""},{"$f":"IF('Measure Summary'!A81=\"\",\"\", ROUND('Measure Summary'!G81,0))","v":""},{"$f":"IF('Measure Summary'!A81=\"\",\"\",0)","v":""},{"$f":"IF('Measure Summary'!A81=\"\",\"\",'Measure Summary'!B81)","v":""},{"$f":"IF('Measure Summary'!A81=\"\",\"\",\"NONEG\")","v":""},{"$f":"IF('Measure Summary'!A81=\"\",\"\",VLOOKUP('Measure Summary'!A81,Lookups!$A$30:$J$180,Lookups!$L$7,FALSE))","v":""},{"$f":"IF(OR('Measure Summary'!C81=\"(blank)\",'Measure Summary'!C81=0),\"\",'Measure Summary'!C81)","v":""}]
[{"$f":"IF('Measure Summary'!A82=\"\",\"\",VLOOKUP('Measure Summary'!A82,Lookups!$A$30:$J$180,VLOOKUP('100L Information'!$AI$46,Lookups!$J$3:$K$6,2,FALSE), FALSE))","v":""},{"$f":"IF('Measure Summary'!A82=\"\",\"\",'Measure Summary'!D82)","v":""},{"$f":"IF('Measure Summary'!A82=\"\",\"\",\"N\")","v":""},{"$f":"IF('Measure Summary'!A82=\"\",\"\",'Measure Summary'!E82)","v":""},{"$f":"IF('Measure Summary'!A82=\"\",\"\",\"N\")","v":""},{"$f":"IF('Measure Summary'!A82=\"\",\"\",'Measure Summary'!F82)","v":""},{"$f":"IF('Measure Summary'!A82=\"\",\"\",'Analysis 103L'!$R$5)","v":""},{"$f":"IF('Measure Summary'!A82=\"\",\"\",'Analysis 103L'!$R$4)","v":""},{"$f":"IF('Measure Summary'!A82=\"\",\"\", ROUND('Measure Summary'!G82,0))","v":""},{"$f":"IF('Measure Summary'!A82=\"\",\"\",0)","v":""},{"$f":"IF('Measure Summary'!A82=\"\",\"\",'Measure Summary'!B82)","v":""},{"$f":"IF('Measure Summary'!A82=\"\",\"\",\"NONEG\")","v":""},{"$f":"IF('Measure Summary'!A82=\"\",\"\",VLOOKUP('Measure Summary'!A82,Lookups!$A$30:$J$180,Lookups!$L$7,FALSE))","v":""},{"$f":"IF(OR('Measure Summary'!C82=\"(blank)\",'Measure Summary'!C82=0),\"\",'Measure Summary'!C82)","v":""}]
[{"$f":"IF('Measure Summary'!A83=\"\",\"\",VLOOKUP('Measure Summary'!A83,Lookups!$A$30:$J$180,VLOOKUP('100L Information'!$AI$46,Lookups!$J$3:$K$6,2,FALSE), FALSE))","v":""},{"$f":"IF('Measure Summary'!A83=\"\",\"\",'Measure Summary'!D83)","v":""},{"$f":"IF('Measure Summary'!A83=\"\",\"\",\"N\")","v":""},{"$f":"IF('Measure Summary'!A83=\"\",\"\",'Measure Summary'!E83)","v":""},{"$f":"IF('Measure Summary'!A83=\"\",\"\",\"N\")","v":""},{"$f":"IF('Measure Summary'!A83=\"\",\"\",'Measure Summary'!F83)","v":""},{"$f":"IF('Measure Summary'!A83=\"\",\"\",'Analysis 103L'!$R$5)","v":""},{"$f":"IF('Measure Summary'!A83=\"\",\"\",'Analysis 103L'!$R$4)","v":""},{"$f":"IF('Measure Summary'!A83=\"\",\"\", ROUND('Measure Summary'!G83,0))","v":""},{"$f":"IF('Measure Summary'!A83=\"\",\"\",0)","v":""},{"$f":"IF('Measure Summary'!A83=\"\",\"\",'Measure Summary'!B83)","v":""},{"$f":"IF('Measure Summary'!A83=\"\",\"\",\"NONEG\")","v":""},{"$f":"IF('Measure Summary'!A83=\"\",\"\",VLOOKUP('Measure Summary'!A83,Lookups!$A$30:$J$180,Lookups!$L$7,FALSE))","v":""},{"$f":"IF(OR('Measure Summary'!C83=\"(blank)\",'Measure Summary'!C83=0),\"\",'Measure Summary'!C83)","v":""}]
[{"$f":"IF('Measure Summary'!A84=\"\",\"\",VLOOKUP('Measure Summary'!A84,Lookups!$A$30:$J$180,VLOOKUP('100L Information'!$AI$46,Lookups!$J$3:$K$6,2,FALSE), FALSE))","v":""},{"$f":"IF('Measure Summary'!A84=\"\",\"\",'Measure Summary'!D84)","v":""},{"$f":"IF('Measure Summary'!A84=\"\",\"\",\"N\")","v":""},{"$f":"IF('Measure Summary'!A84=\"\",\"\",'Measure Summary'!E84)","v":""},{"$f":"IF('Measure Summary'!A84=\"\",\"\",\"N\")","v":""},{"$f":"IF('Measure Summary'!A84=\"\",\"\",'Measure Summary'!F84)","v":""},{"$f":"IF('Measure Summary'!A84=\"\",\"\",'Analysis 103L'!$R$5)","v":""},{"$f":"IF('Measure Summary'!A84=\"\",\"\",'Analysis 103L'!$R$4)","v":""},{"$f":"IF('Measure Summary'!A84=\"\",\"\", ROUND('Measure Summary'!G84,0))","v":""},{"$f":"IF('Measure Summary'!A84=\"\",\"\",0)","v":""},{"$f":"IF('Measure Summary'!A84=\"\",\"\",'Measure Summary'!B84)","v":""},{"$f":"IF('Measure Summary'!A84=\"\",\"\",\"NONEG\")","v":""},{"$f":"IF('Measure Summary'!A84=\"\",\"\",VLOOKUP('Measure Summary'!A84,Lookups!$A$30:$J$180,Lookups!$L$7,FALSE))","v":""},{"$f":"IF(OR('Measure Summary'!C84=\"(blank)\",'Measure Summary'!C84=0),\"\",'Measure Summary'!C84)","v":""}]
[{"$f":"IF('Measure Summary'!A85=\"\",\"\",VLOOKUP('Measure Summary'!A85,Lookups!$A$30:$J$180,VLOOKUP('100L Information'!$AI$46,Lookups!$J$3:$K$6,2,FALSE), FALSE))","v":""},{"$f":"IF('Measure Summary'!A85=\"\",\"\",'Measure Summary'!D85)","v":""},{"$f":"IF('Measure Summary'!A85=\"\",\"\",\"N\")","v":""},{"$f":"IF('Measure Summary'!A85=\"\",\"\",'Measure Summary'!E85)","v":""},{"$f":"IF('Measure Summary'!A85=\"\",\"\",\"N\")","v":""},{"$f":"IF('Measure Summary'!A85=\"\",\"\",'Measure Summary'!F85)","v":""},{"$f":"IF('Measure Summary'!A85=\"\",\"\",'Analysis 103L'!$R$5)","v":""},{"$f":"IF('Measure Summary'!A85=\"\",\"\",'Analysis 103L'!$R$4)","v":""},{"$f":"IF('Measure Summary'!A85=\"\",\"\", ROUND('Measure Summary'!G85,0))","v":""},{"$f":"IF('Measure Summary'!A85=\"\",\"\",0)","v":""},{"$f":"IF('Measure Summary'!A85=\"\",\"\",'Measure Summary'!B85)","v":""},{"$f":"IF('Measure Summary'!A85=\"\",\"\",\"NONEG\")","v":""},{"$f":"IF('Measure Summary'!A85=\"\",\"\",VLOOKUP('Measure Summary'!A85,Lookups!$A$30:$J$180,Lookups!$L$7,FALSE))","v":""},{"$f":"IF(OR('Measure Summary'!C85=\"(blank)\",'Measure Summary'!C85=0),\"\",'Measure Summary'!C85)","v":""}]
[{"$f":"IF('Measure Summary'!A86=\"\",\"\",VLOOKUP('Measure Summary'!A86,Lookups!$A$30:$J$180,VLOOKUP('100L Information'!$AI$46,Lookups!$J$3:$K$6,2,FALSE), FALSE))","v":""},{"$f":"IF('Measure Summary'!A86=\"\",\"\",'Measure Summary'!D86)","v":""},{"$f":"IF('Measure Summary'!A86=\"\",\"\",\"N\")","v":""},{"$f":"IF('Measure Summary'!A86=\"\",\"\",'Measure Summary'!E86)","v":""},{"$f":"IF('Measure Summary'!A86=\"\",\"\",\"N\")","v":""},{"$f":"IF('Measure Summary'!A86=\"\",\"\",'Measure Summary'!F86)","v":""},{"$f":"IF('Measure Summary'!A86=\"\",\"\",'Analysis 103L'!$R$5)","v":""},{"$f":"IF('Measure Summary'!A86=\"\",\"\",'Analysis 103L'!$R$4)","v":""},{"$f":"IF('Measure Summary'!A86=\"\",\"\", ROUND('Measure Summary'!G86,0))","v":""},{"$f":"IF('Measure Summary'!A86=\"\",\"\",0)","v":""},{"$f":"IF('Measure Summary'!A86=\"\",\"\",'Measure Summary'!B86)","v":""},{"$f":"IF('Measure Summary'!A86=\"\",\"\",\"NONEG\")","v":""},{"$f":"IF('Measure Summary'!A86=\"\",\"\",VLOOKUP('Measure Summary'!A86,Lookups!$A$30:$J$180,Lookups!$L$7,FALSE))","v":""},{"$f":"IF(OR('Measure Summary'!C86=\"(blank)\",'Measure Summary'!C86=0),\"\",'Measure Summary'!C86)","v":""}]
[{"$f":"IF('Measure Summary'!A87=\"\",\"\",VLOOKUP('Measure Summary'!A87,Lookups!$A$30:$J$180,VLOOKUP('100L Information'!$AI$46,Lookups!$J$3:$K$6,2,FALSE), FALSE))","v":""},{"$f":"IF('Measure Summary'!A87=\"\",\"\",'Measure Summary'!D87)","v":""},{"$f":"IF('Measure Summary'!A87=\"\",\"\",\"N\")","v":""},{"$f":"IF('Measure Summary'!A87=\"\",\"\",'Measure Summary'!E87)","v":""},{"$f":"IF('Measure Summary'!A87=\"\",\"\",\"N\")","v":""},{"$f":"IF('Measure Summary'!A87=\"\",\"\",'Measure Summary'!F87)","v":""},{"$f":"IF('Measure Summary'!A87=\"\",\"\",'Analysis 103L'!$R$5)","v":""},{"$f":"IF('Measure Summary'!A87=\"\",\"\",'Analysis 103L'!$R$4)","v":""},{"$f":"IF('Measure Summary'!A87=\"\",\"\", ROUND('Measure Summary'!G87,0))","v":""},{"$f":"IF('Measure Summary'!A87=\"\",\"\",0)","v":""},{"$f":"IF('Measure Summary'!A87=\"\",\"\",'Measure Summary'!B87)","v":""},{"$f":"IF('Measure Summary'!A87=\"\",\"\",\"NONEG\")","v":""},{"$f":"IF('Measure Summary'!A87=\"\",\"\",VLOOKUP('Measure Summary'!A87,Lookups!$A$30:$J$180,Lookups!$L$7,FALSE))","v":""},{"$f":"IF(OR('Measure Summary'!C87=\"(blank)\",'Measure Summary'!C87=0),\"\",'Measure Summary'!C87)","v":""}]
[{"$f":"IF('Measure Summary'!A88=\"\",\"\",VLOOKUP('Measure Summary'!A88,Lookups!$A$30:$J$180,VLOOKUP('100L Information'!$AI$46,Lookups!$J$3:$K$6,2,FALSE), FALSE))","v":""},{"$f":"IF('Measure Summary'!A88=\"\",\"\",'Measure Summary'!D88)","v":""},{"$f":"IF('Measure Summary'!A88=\"\",\"\",\"N\")","v":""},{"$f":"IF('Measure Summary'!A88=\"\",\"\",'Measure Summary'!E88)","v":""},{"$f":"IF('Measure Summary'!A88=\"\",\"\",\"N\")","v":""},{"$f":"IF('Measure Summary'!A88=\"\",\"\",'Measure Summary'!F88)","v":""},{"$f":"IF('Measure Summary'!A88=\"\",\"\",'Analysis 103L'!$R$5)","v":""},{"$f":"IF('Measure Summary'!A88=\"\",\"\",'Analysis 103L'!$R$4)","v":""},{"$f":"IF('Measure Summary'!A88=\"\",\"\", ROUND('Measure Summary'!G88,0))","v":""},{"$f":"IF('Measure Summary'!A88=\"\",\"\",0)","v":""},{"$f":"IF('Measure Summary'!A88=\"\",\"\",'Measure Summary'!B88)","v":""},{"$f":"IF('Measure Summary'!A88=\"\",\"\",\"NONEG\")","v":""},{"$f":"IF('Measure Summary'!A88=\"\",\"\",VLOOKUP('Measure Summary'!A88,Lookups!$A$30:$J$180,Lookups!$L$7,FALSE))","v":""},{"$f":"IF(OR('Measure Summary'!C88=\"(blank)\",'Measure Summary'!C88=0),\"\",'Measure Summary'!C88)","v":""}]
[{"$f":"IF('Measure Summary'!A89=\"\",\"\",VLOOKUP('Measure Summary'!A89,Lookups!$A$30:$J$180,VLOOKUP('100L Information'!$AI$46,Lookups!$J$3:$K$6,2,FALSE), FALSE))","v":""},{"$f":"IF('Measure Summary'!A89=\"\",\"\",'Measure Summary'!D89)","v":""},{"$f":"IF('Measure Summary'!A89=\"\",\"\",\"N\")","v":""},{"$f":"IF('Measure Summary'!A89=\"\",\"\",'Measure Summary'!E89)","v":""},{"$f":"IF('Measure Summary'!A89=\"\",\"\",\"N\")","v":""},{"$f":"IF('Measure Summary'!A89=\"\",\"\",'Measure Summary'!F89)","v":""},{"$f":"IF('Measure Summary'!A89=\"\",\"\",'Analysis 103L'!$R$5)","v":""},{"$f":"IF('Measure Summary'!A89=\"\",\"\",'Analysis 103L'!$R$4)","v":""},{"$f":"IF('Measure Summary'!A89=\"\",\"\", ROUND('Measure Summary'!G89,0))","v":""},{"$f":"IF('Measure Summary'!A89=\"\",\"\",0)","v":""},{"$f":"IF('Measure Summary'!A89=\"\",\"\",'Measure Summary'!B89)","v":""},{"$f":"IF('Measure Summary'!A89=\"\",\"\",\"NONEG\")","v":""},{"$f":"IF('Measure Summary'!A89=\"\",\"\",VLOOKUP('Measure Summary'!A89,Lookups!$A$30:$J$180,Lookups!$L$7,FALSE))","v":""},{"$f":"IF(OR('Measure Summary'!C89=\"(blank)\",'Measure Summary'!C89=0),\"\",'Measure Summary'!C89)","v":""}]
[{"$f":"IF('Measure Summary'!A90=\"\",\"\",VLOOKUP('Measure Summary'!A90,Lookups!$A$30:$J$180,VLOOKUP('100L Information'!$AI$46,Lookups!$J$3:$K$6,2,FALSE), FALSE))","v":""},{"$f":"IF('Measure Summary'!A90=\"\",\"\",'Measure Summary'!D90)","v":""},{"$f":"IF('Measure Summary'!A90=\"\",\"\",\"N\")","v":""},{"$f":"IF('Measure Summary'!A90=\"\",\"\",'Measure Summary'!E90)","v":""},{"$f":"IF('Measure Summary'!A90=\"\",\"\",\"N\")","v":""},{"$f":"IF('Measure Summary'!A90=\"\",\"\",'Measure Summary'!F90)","v":""},{"$f":"IF('Measure Summary'!A90=\"\",\"\",'Analysis 103L'!$R$5)","v":""},{"$f":"IF('Measure Summary'!A90=\"\",\"\",'Analysis 103L'!$R$4)","v":""},{"$f":"IF('Measure Summary'!A90=\"\",\"\", ROUND('Measure Summary'!G90,0))","v":""},{"$f":"IF('Measure Summary'!A90=\"\",\"\",0)","v":""},{"$f":"IF('Measure Summary'!A90=\"\",\"\",'Measure Summary'!B90)","v":""},{"$f":"IF('Measure Summary'!A90=\"\",\"\",\"NONEG\")","v":""},{"$f":"IF('Measure Summary'!A90=\"\",\"\",VLOOKUP('Measure Summary'!A90,Lookups!$A$30:$J$180,Lookups!$L$7,FALSE))","v":""},{"$f":"IF(OR('Measure Summary'!C90=\"(blank)\",'Measure Summary'!C90=0),\"\",'Measure Summary'!C90)","v":""}]
[{"$f":"IF('Measure Summary'!A91=\"\",\"\",VLOOKUP('Measure Summary'!A91,Lookups!$A$30:$J$180,VLOOKUP('100L Information'!$AI$46,Lookups!$J$3:$K$6,2,FALSE), FALSE))","v":""},{"$f":"IF('Measure Summary'!A91=\"\",\"\",'Measure Summary'!D91)","v":""},{"$f":"IF('Measure Summary'!A91=\"\",\"\",\"N\")","v":""},{"$f":"IF('Measure Summary'!A91=\"\",\"\",'Measure Summary'!E91)","v":""},{"$f":"IF('Measure Summary'!A91=\"\",\"\",\"N\")","v":""},{"$f":"IF('Measure Summary'!A91=\"\",\"\",'Measure Summary'!F91)","v":""},{"$f":"IF('Measure Summary'!A91=\"\",\"\",'Analysis 103L'!$R$5)","v":""},{"$f":"IF('Measure Summary'!A91=\"\",\"\",'Analysis 103L'!$R$4)","v":""},{"$f":"IF('Measure Summary'!A91=\"\",\"\", ROUND('Measure Summary'!G91,0))","v":""},{"$f":"IF('Measure Summary'!A91=\"\",\"\",0)","v":""},{"$f":"IF('Measure Summary'!A91=\"\",\"\",'Measure Summary'!B91)","v":""},{"$f":"IF('Measure Summary'!A91=\"\",\"\",\"NONEG\")","v":""},{"$f":"IF('Measure Summary'!A91=\"\",\"\",VLOOKUP('Measure Summary'!A91,Lookups!$A$30:$J$180,Lookups!$L$7,FALSE))","v":""},{"$f":"IF(OR('Measure Summary'!C91=\"(blank)\",'Measure Summary'!C91=0),\"\",'Measure Summary'!C91)","v":""}]
[{"$f":"IF('Measure Summary'!A92=\"\",\"\",VLOOKUP('Measure Summary'!A92,Lookups!$A$30:$J$180,VLOOKUP('100L Information'!$AI$46,Lookups!$J$3:$K$6,2,FALSE), FALSE))","v":""},{"$f":"IF('Measure Summary'!A92=\"\",\"\",'Measure Summary'!D92)","v":""},{"$f":"IF('Measure Summary'!A92=\"\",\"\",\"N\")","v":""},{"$f":"IF('Measure Summary'!A92=\"\",\"\",'Measure Summary'!E92)","v":""},{"$f":"IF('Measure Summary'!A92=\"\",\"\",\"N\")","v":""},{"$f":"IF('Measure Summary'!A92=\"\",\"\",'Measure Summary'!F92)","v":""},{"$f":"IF('Measure Summary'!A92=\"\",\"\",'Analysis 103L'!$R$5)","v":""},{"$f":"IF('Measure Summary'!A92=\"\",\"\",'Analysis 103L'!$R$4)","v":""},{"$f":"IF('Measure Summary'!A92=\"\",\"\", ROUND('Measure Summary'!G92,0))","v":""},{"$f":"IF('Measure Summary'!A92=\"\",\"\",0)","v":""},{"$f":"IF('Measure Summary'!A92=\"\",\"\",'Measure Summary'!B92)","v":""},{"$f":"IF('Measure Summary'!A92=\"\",\"\",\"NONEG\")","v":""},{"$f":"IF('Measure Summary'!A92=\"\",\"\",VLOOKUP('Measure Summary'!A92,Lookups!$A$30:$J$180,Lookups!$L$7,FALSE))","v":""},{"$f":"IF(OR('Measure Summary'!C92=\"(blank)\",'Measure Summary'!C92=0),\"\",'Measure Summary'!C92)","v":""}]
[{"$f":"IF('Measure Summary'!A93=\"\",\"\",VLOOKUP('Measure Summary'!A93,Lookups!$A$30:$J$180,VLOOKUP('100L Information'!$AI$46,Lookups!$J$3:$K$6,2,FALSE), FALSE))","v":""},{"$f":"IF('Measure Summary'!A93=\"\",\"\",'Measure Summary'!D93)","v":""},{"$f":"IF('Measure Summary'!A93=\"\",\"\",\"N\")","v":""},{"$f":"IF('Measure Summary'!A93=\"\",\"\",'Measure Summary'!E93)","v":""},{"$f":"IF('Measure Summary'!A93=\"\",\"\",\"N\")","v":""},{"$f":"IF('Measure Summary'!A93=\"\",\"\",'Measure Summary'!F93)","v":""},{"$f":"IF('Measure Summary'!A93=\"\",\"\",'Analysis 103L'!$R$5)","v":""},{"$f":"IF('Measure Summary'!A93=\"\",\"\",'Analysis 103L'!$R$4)","v":""},{"$f":"IF('Measure Summary'!A93=\"\",\"\", ROUND('Measure Summary'!G93,0))","v":""},{"$f":"IF('Measure Summary'!A93=\"\",\"\",0)","v":""},{"$f":"IF('Measure Summary'!A93=\"\",\"\",'Measure Summary'!B93)","v":""},{"$f":"IF('Measure Summary'!A93=\"\",\"\",\"NONEG\")","v":""},{"$f":"IF('Measure Summary'!A93=\"\",\"\",VLOOKUP('Measure Summary'!A93,Lookups!$A$30:$J$180,Lookups!$L$7,FALSE))","v":""},{"$f":"IF(OR('Measure Summary'!C93=\"(blank)\",'Measure Summary'!C93=0),\"\",'Measure Summary'!C93)","v":""}]
[{"$f":"IF('Measure Summary'!A94=\"\",\"\",VLOOKUP('Measure Summary'!A94,Lookups!$A$30:$J$180,VLOOKUP('100L Information'!$AI$46,Lookups!$J$3:$K$6,2,FALSE), FALSE))","v":""},{"$f":"IF('Measure Summary'!A94=\"\",\"\",'Measure Summary'!D94)","v":""},{"$f":"IF('Measure Summary'!A94=\"\",\"\",\"N\")","v":""},{"$f":"IF('Measure Summary'!A94=\"\",\"\",'Measure Summary'!E94)","v":""},{"$f":"IF('Measure Summary'!A94=\"\",\"\",\"N\")","v":""},{"$f":"IF('Measure Summary'!A94=\"\",\"\",'Measure Summary'!F94)","v":""},{"$f":"IF('Measure Summary'!A94=\"\",\"\",'Analysis 103L'!$R$5)","v":""},{"$f":"IF('Measure Summary'!A94=\"\",\"\",'Analysis 103L'!$R$4)","v":""},{"$f":"IF('Measure Summary'!A94=\"\",\"\", ROUND('Measure Summary'!G94,0))","v":""},{"$f":"IF('Measure Summary'!A94=\"\",\"\",0)","v":""},{"$f":"IF('Measure Summary'!A94=\"\",\"\",'Measure Summary'!B94)","v":""},{"$f":"IF('Measure Summary'!A94=\"\",\"\",\"NONEG\")","v":""},{"$f":"IF('Measure Summary'!A94=\"\",\"\",VLOOKUP('Measure Summary'!A94,Lookups!$A$30:$J$180,Lookups!$L$7,FALSE))","v":""},{"$f":"IF(OR('Measure Summary'!C94=\"(blank)\",'Measure Summary'!C94=0),\"\",'Measure Summary'!C94)","v":""}]
[{"$f":"IF('Measure Summary'!A95=\"\",\"\",VLOOKUP('Measure Summary'!A95,Lookups!$A$30:$J$180,VLOOKUP('100L Information'!$AI$46,Lookups!$J$3:$K$6,2,FALSE), FALSE))","v":""},{"$f":"IF('Measure Summary'!A95=\"\",\"\",'Measure Summary'!D95)","v":""},{"$f":"IF('Measure Summary'!A95=\"\",\"\",\"N\")","v":""},{"$f":"IF('Measure Summary'!A95=\"\",\"\",'Measure Summary'!E95)","v":""},{"$f":"IF('Measure Summary'!A95=\"\",\"\",\"N\")","v":""},{"$f":"IF('Measure Summary'!A95=\"\",\"\",'Measure Summary'!F95)","v":""},{"$f":"IF('Measure Summary'!A95=\"\",\"\",'Analysis 103L'!$R$5)","v":""},{"$f":"IF('Measure Summary'!A95=\"\",\"\",'Analysis 103L'!$R$4)","v":""},{"$f":"IF('Measure Summary'!A95=\"\",\"\", ROUND('Measure Summary'!G95,0))","v":""},{"$f":"IF('Measure Summary'!A95=\"\",\"\",0)","v":""},{"$f":"IF('Measure Summary'!A95=\"\",\"\",'Measure Summary'!B95)","v":""},{"$f":"IF('Measure Summary'!A95=\"\",\"\",\"NONEG\")","v":""},{"$f":"IF('Measure Summary'!A95=\"\",\"\",VLOOKUP('Measure Summary'!A95,Lookups!$A$30:$J$180,Lookups!$L$7,FALSE))","v":""},{"$f":"IF(OR('Measure Summary'!C95=\"(blank)\",'Measure Summary'!C95=0),\"\",'Measure Summary'!C95)","v":""}]
[{"$f":"IF('Measure Summary'!A96=\"\",\"\",VLOOKUP('Measure Summary'!A96,Lookups!$A$30:$J$180,VLOOKUP('100L Information'!$AI$46,Lookups!$J$3:$K$6,2,FALSE), FALSE))","v":""},{"$f":"IF('Measure Summary'!A96=\"\",\"\",'Measure Summary'!D96)","v":""},{"$f":"IF('Measure Summary'!A96=\"\",\"\",\"N\")","v":""},{"$f":"IF('Measure Summary'!A96=\"\",\"\",'Measure Summary'!E96)","v":""},{"$f":"IF('Measure Summary'!A96=\"\",\"\",\"N\")","v":""},{"$f":"IF('Measure Summary'!A96=\"\",\"\",'Measure Summary'!F96)","v":""},{"$f":"IF('Measure Summary'!A96=\"\",\"\",'Analysis 103L'!$R$5)","v":""},{"$f":"IF('Measure Summary'!A96=\"\",\"\",'Analysis 103L'!$R$4)","v":""},{"$f":"IF('Measure Summary'!A96=\"\",\"\", ROUND('Measure Summary'!G96,0))","v":""},{"$f":"IF('Measure Summary'!A96=\"\",\"\",0)","v":""},{"$f":"IF('Measure Summary'!A96=\"\",\"\",'Measure Summary'!B96)","v":""},{"$f":"IF('Measure Summary'!A96=\"\",\"\",\"NONEG\")","v":""},{"$f":"IF('Measure Summary'!A96=\"\",\"\",VLOOKUP('Measure Summary'!A96,Lookups!$A$30:$J$180,Lookups!$L$7,FALSE))","v":""},{"$f":"IF(OR('Measure Summary'!C96=\"(blank)\",'Measure Summary'!C96=0),\"\",'Measure Summary'!C96)","v":""}]
[{"$f":"IF('Measure Summary'!A97=\"\",\"\",VLOOKUP('Measure Summary'!A97,Lookups!$A$30:$J$180,VLOOKUP('100L Information'!$AI$46,Lookups!$J$3:$K$6,2,FALSE), FALSE))","v":""},{"$f":"IF('Measure Summary'!A97=\"\",\"\",'Measure Summary'!D97)","v":""},{"$f":"IF('Measure Summary'!A97=\"\",\"\",\"N\")","v":""},{"$f":"IF('Measure Summary'!A97=\"\",\"\",'Measure Summary'!E97)","v":""},{"$f":"IF('Measure Summary'!A97=\"\",\"\",\"N\")","v":""},{"$f":"IF('Measure Summary'!A97=\"\",\"\",'Measure Summary'!F97)","v":""},{"$f":"IF('Measure Summary'!A97=\"\",\"\",'Analysis 103L'!$R$5)","v":""},{"$f":"IF('Measure Summary'!A97=\"\",\"\",'Analysis 103L'!$R$4)","v":""},{"$f":"IF('Measure Summary'!A97=\"\",\"\", ROUND('Measure Summary'!G97,0))","v":""},{"$f":"IF('Measure Summary'!A97=\"\",\"\",0)","v":""},{"$f":"IF('Measure Summary'!A97=\"\",\"\",'Measure Summary'!B97)","v":""},{"$f":"IF('Measure Summary'!A97=\"\",\"\",\"NONEG\")","v":""},{"$f":"IF('Measure Summary'!A97=\"\",\"\",VLOOKUP('Measure Summary'!A97,Lookups!$A$30:$J$180,Lookups!$L$7,FALSE))","v":""},{"$f":"IF(OR('Measure Summary'!C97=\"(blank)\",'Measure Summary'!C97=0),\"\",'Measure Summary'!C97)","v":""}]
[{"$f":"IF('Measure Summary'!A98=\"\",\"\",VLOOKUP('Measure Summary'!A98,Lookups!$A$30:$J$180,VLOOKUP('100L Information'!$AI$46,Lookups!$J$3:$K$6,2,FALSE), FALSE))","v":""},{"$f":"IF('Measure Summary'!A98=\"\",\"\",'Measure Summary'!D98)","v":""},{"$f":"IF('Measure Summary'!A98=\"\",\"\",\"N\")","v":""},{"$f":"IF('Measure Summary'!A98=\"\",\"\",'Measure Summary'!E98)","v":""},{"$f":"IF('Measure Summary'!A98=\"\",\"\",\"N\")","v":""},{"$f":"IF('Measure Summary'!A98=\"\",\"\",'Measure Summary'!F98)","v":""},{"$f":"IF('Measure Summary'!A98=\"\",\"\",'Analysis 103L'!$R$5)","v":""},{"$f":"IF('Measure Summary'!A98=\"\",\"\",'Analysis 103L'!$R$4)","v":""},{"$f":"IF('Measure Summary'!A98=\"\",\"\", ROUND('Measure Summary'!G98,0))","v":""},{"$f":"IF('Measure Summary'!A98=\"\",\"\",0)","v":""},{"$f":"IF('Measure Summary'!A98=\"\",\"\",'Measure Summary'!B98)","v":""},{"$f":"IF('Measure Summary'!A98=\"\",\"\",\"NONEG\")","v":""},{"$f":"IF('Measure Summary'!A98=\"\",\"\",VLOOKUP('Measure Summary'!A98,Lookups!$A$30:$J$180,Lookups!$L$7,FALSE))","v":""},{"$f":"IF(OR('Measure Summary'!C98=\"(blank)\",'Measure Summary'!C98=0),\"\",'Measure Summary'!C98)","v":""}]
[{"$f":"IF('Measure Summary'!A99=\"\",\"\",VLOOKUP('Measure Summary'!A99,Lookups!$A$30:$J$180,VLOOKUP('100L Information'!$AI$46,Lookups!$J$3:$K$6,2,FALSE), FALSE))","v":""},{"$f":"IF('Measure Summary'!A99=\"\",\"\",'Measure Summary'!D99)","v":""},{"$f":"IF('Measure Summary'!A99=\"\",\"\",\"N\")","v":""},{"$f":"IF('Measure Summary'!A99=\"\",\"\",'Measure Summary'!E99)","v":""},{"$f":"IF('Measure Summary'!A99=\"\",\"\",\"N\")","v":""},{"$f":"IF('Measure Summary'!A99=\"\",\"\",'Measure Summary'!F99)","v":""},{"$f":"IF('Measure Summary'!A99=\"\",\"\",'Analysis 103L'!$R$5)","v":""},{"$f":"IF('Measure Summary'!A99=\"\",\"\",'Analysis 103L'!$R$4)","v":""},{"$f":"IF('Measure Summary'!A99=\"\",\"\", ROUND('Measure Summary'!G99,0))","v":""},{"$f":"IF('Measure Summary'!A99=\"\",\"\",0)","v":""},{"$f":"IF('Measure Summary'!A99=\"\",\"\",'Measure Summary'!B99)","v":""},{"$f":"IF('Measure Summary'!A99=\"\",\"\",\"NONEG\")","v":""},{"$f":"IF('Measure Summary'!A99=\"\",\"\",VLOOKUP('Measure Summary'!A99,Lookups!$A$30:$J$180,Lookups!$L$7,FALSE))","v":""},{"$f":"IF(OR('Measure Summary'!C99=\"(blank)\",'Measure Summary'!C99=0),\"\",'Measure Summary'!C99)","v":""}]
[{"$f":"IF('Measure Summary'!A100=\"\",\"\",VLOOKUP('Measure Summary'!A100,Lookups!$A$30:$J$180,VLOOKUP('100L Information'!$AI$46,Lookups!$J$3:$K$6,2,FALSE), FALSE))","v":""},{"$f":"IF('Measure Summary'!A100=\"\",\"\",'Measure Summary'!D100)","v":""},{"$f":"IF('Measure Summary'!A100=\"\",\"\",\"N\")","v":""},{"$f":"IF('Measure Summary'!A100=\"\",\"\",'Measure Summary'!E100)","v":""},{"$f":"IF('Measure Summary'!A100=\"\",\"\",\"N\")","v":""},{"$f":"IF('Measure Summary'!A100=\"\",\"\",'Measure Summary'!F100)","v":""},{"$f":"IF('Measure Summary'!A100=\"\",\"\",'Analysis 103L'!$R$5)","v":""},{"$f":"IF('Measure Summary'!A100=\"\",\"\",'Analysis 103L'!$R$4)","v":""},{"$f":"IF('Measure Summary'!A100=\"\",\"\", ROUND('Measure Summary'!G100,0))","v":""},{"$f":"IF('Measure Summary'!A100=\"\",\"\",0)","v":""},{"$f":"IF('Measure Summary'!A100=\"\",\"\",'Measure Summary'!B100)","v":""},{"$f":"IF('Measure Summary'!A100=\"\",\"\",\"NONEG\")","v":""},{"$f":"IF('Measure Summary'!A100=\"\",\"\",VLOOKUP('Measure Summary'!A100,Lookups!$A$30:$J$180,Lookups!$L$7,FALSE))","v":""},{"$f":"IF(OR('Measure Summary'!C100=\"(blank)\",'Measure Summary'!C100=0),\"\",'Measure Summary'!C100)","v":""}]
[{"$f":"IF('Measure Summary'!A101=\"\",\"\",VLOOKUP('Measure Summary'!A101,Lookups!$A$30:$J$180,VLOOKUP('100L Information'!$AI$46,Lookups!$J$3:$K$6,2,FALSE), FALSE))","v":""},{"$f":"IF('Measure Summary'!A101=\"\",\"\",'Measure Summary'!D101)","v":""},{"$f":"IF('Measure Summary'!A101=\"\",\"\",\"N\")","v":""},{"$f":"IF('Measure Summary'!A101=\"\",\"\",'Measure Summary'!E101)","v":""},{"$f":"IF('Measure Summary'!A101=\"\",\"\",\"N\")","v":""},{"$f":"IF('Measure Summary'!A101=\"\",\"\",'Measure Summary'!F101)","v":""},{"$f":"IF('Measure Summary'!A101=\"\",\"\",'Analysis 103L'!$R$5)","v":""},{"$f":"IF('Measure Summary'!A101=\"\",\"\",'Analysis 103L'!$R$4)","v":""},{"$f":"IF('Measure Summary'!A101=\"\",\"\", ROUND('Measure Summary'!G101,0))","v":""},{"$f":"IF('Measure Summary'!A101=\"\",\"\",0)","v":""},{"$f":"IF('Measure Summary'!A101=\"\",\"\",'Measure Summary'!B101)","v":""},{"$f":"IF('Measure Summary'!A101=\"\",\"\",\"NONEG\")","v":""},{"$f":"IF('Measure Summary'!A101=\"\",\"\",VLOOKUP('Measure Summary'!A101,Lookups!$A$30:$J$180,Lookups!$L$7,FALSE))","v":""},{"$f":"IF(OR('Measure Summary'!C101=\"(blank)\",'Measure Summary'!C101=0),\"\",'Measure Summary'!C101)","v":""}]
[{"$f":"IF('Measure Summary'!A102=\"\",\"\",VLOOKUP('Measure Summary'!A102,Lookups!$A$30:$J$180,VLOOKUP('100L Information'!$AI$46,Lookups!$J$3:$K$6,2,FALSE), FALSE))","v":""},{"$f":"IF('Measure Summary'!A102=\"\",\"\",'Measure Summary'!D102)","v":""},{"$f":"IF('Measure Summary'!A102=\"\",\"\",\"N\")","v":""},{"$f":"IF('Measure Summary'!A102=\"\",\"\",'Measure Summary'!E102)","v":""},{"$f":"IF('Measure Summary'!A102=\"\",\"\",\"N\")","v":""},{"$f":"IF('Measure Summary'!A102=\"\",\"\",'Measure Summary'!F102)","v":""},{"$f":"IF('Measure Summary'!A102=\"\",\"\",'Analysis 103L'!$R$5)","v":""},{"$f":"IF('Measure Summary'!A102=\"\",\"\",'Analysis 103L'!$R$4)","v":""},{"$f":"IF('Measure Summary'!A102=\"\",\"\", ROUND('Measure Summary'!G102,0))","v":""},{"$f":"IF('Measure Summary'!A102=\"\",\"\",0)","v":""},{"$f":"IF('Measure Summary'!A102=\"\",\"\",'Measure Summary'!B102)","v":""},{"$f":"IF('Measure Summary'!A102=\"\",\"\",\"NONEG\")","v":""},{"$f":"IF('Measure Summary'!A102=\"\",\"\",VLOOKUP('Measure Summary'!A102,Lookups!$A$30:$J$180,Lookups!$L$7,FALSE))","v":""},{"$f":"IF(OR('Measure Summary'!C102=\"(blank)\",'Measure Summary'!C102=0),\"\",'Measure Summary'!C102)","v":""}]
[{"$f":"IF('Measure Summary'!A103=\"\",\"\",VLOOKUP('Measure Summary'!A103,Lookups!$A$30:$J$180,VLOOKUP('100L Information'!$AI$46,Lookups!$J$3:$K$6,2,FALSE), FALSE))","v":""},{"$f":"IF('Measure Summary'!A103=\"\",\"\",'Measure Summary'!D103)","v":""},{"$f":"IF('Measure Summary'!A103=\"\",\"\",\"N\")","v":""},{"$f":"IF('Measure Summary'!A103=\"\",\"\",'Measure Summary'!E103)","v":""},{"$f":"IF('Measure Summary'!A103=\"\",\"\",\"N\")","v":""},{"$f":"IF('Measure Summary'!A103=\"\",\"\",'Measure Summary'!F103)","v":""},{"$f":"IF('Measure Summary'!A103=\"\",\"\",'Analysis 103L'!$R$5)","v":""},{"$f":"IF('Measure Summary'!A103=\"\",\"\",'Analysis 103L'!$R$4)","v":""},{"$f":"IF('Measure Summary'!A103=\"\",\"\", ROUND('Measure Summary'!G103,0))","v":""},{"$f":"IF('Measure Summary'!A103=\"\",\"\",0)","v":""},{"$f":"IF('Measure Summary'!A103=\"\",\"\",'Measure Summary'!B103)","v":""},{"$f":"IF('Measure Summary'!A103=\"\",\"\",\"NONEG\")","v":""},{"$f":"IF('Measure Summary'!A103=\"\",\"\",VLOOKUP('Measure Summary'!A103,Lookups!$A$30:$J$180,Lookups!$L$7,FALSE))","v":""},{"$f":"IF(OR('Measure Summary'!C103=\"(blank)\",'Measure Summary'!C103=0),\"\",'Measure Summary'!C103)","v":""}]
[{"$f":"IF('Measure Summary'!A104=\"\",\"\",VLOOKUP('Measure Summary'!A104,Lookups!$A$30:$J$180,VLOOKUP('100L Information'!$AI$46,Lookups!$J$3:$K$6,2,FALSE), FALSE))","v":""},{"$f":"IF('Measure Summary'!A104=\"\",\"\",'Measure Summary'!D104)","v":""},{"$f":"IF('Measure Summary'!A104=\"\",\"\",\"N\")","v":""},{"$f":"IF('Measure Summary'!A104=\"\",\"\",'Measure Summary'!E104)","v":""},{"$f":"IF('Measure Summary'!A104=\"\",\"\",\"N\")","v":""},{"$f":"IF('Measure Summary'!A104=\"\",\"\",'Measure Summary'!F104)","v":""},{"$f":"IF('Measure Summary'!A104=\"\",\"\",'Analysis 103L'!$R$5)","v":""},{"$f":"IF('Measure Summary'!A104=\"\",\"\",'Analysis 103L'!$R$4)","v":""},{"$f":"IF('Measure Summary'!A104=\"\",\"\", ROUND('Measure Summary'!G104,0))","v":""},{"$f":"IF('Measure Summary'!A104=\"\",\"\",0)","v":""},{"$f":"IF('Measure Summary'!A104=\"\",\"\",'Measure Summary'!B104)","v":""},{"$f":"IF('Measure Summary'!A104=\"\",\"\",\"NONEG\")","v":""},{"$f":"IF('Measure Summary'!A104=\"\",\"\",VLOOKUP('Measure Summary'!A104,Lookups!$A$30:$J$180,Lookups!$L$7,FALSE))","v":""},{"$f":"IF(OR('Measure Summary'!C104=\"(blank)\",'Measure Summary'!C104=0),\"\",'Measure Summary'!C104)","v":""}]
[{"$f":"IF('Measure Summary'!A105=\"\",\"\",VLOOKUP('Measure Summary'!A105,Lookups!$A$30:$J$180,VLOOKUP('100L Information'!$AI$46,Lookups!$J$3:$K$6,2,FALSE), FALSE))","v":""},{"$f":"IF('Measure Summary'!A105=\"\",\"\",'Measure Summary'!D105)","v":""},{"$f":"IF('Measure Summary'!A105=\"\",\"\",\"N\")","v":""},{"$f":"IF('Measure Summary'!A105=\"\",\"\",'Measure Summary'!E105)","v":""},{"$f":"IF('Measure Summary'!A105=\"\",\"\",\"N\")","v":""},{"$f":"IF('Measure Summary'!A105=\"\",\"\",'Measure Summary'!F105)","v":""},{"$f":"IF('Measure Summary'!A105=\"\",\"\",'Analysis 103L'!$R$5)","v":""},{"$f":"IF('Measure Summary'!A105=\"\",\"\",'Analysis 103L'!$R$4)","v":""},{"$f":"IF('Measure Summary'!A105=\"\",\"\", ROUND('Measure Summary'!G105,0))","v":""},{"$f":"IF('Measure Summary'!A105=\"\",\"\",0)","v":""},{"$f":"IF('Measure Summary'!A105=\"\",\"\",'Measure Summary'!B105)","v":""},{"$f":"IF('Measure Summary'!A105=\"\",\"\",\"NONEG\")","v":""},{"$f":"IF('Measure Summary'!A105=\"\",\"\",VLOOKUP('Measure Summary'!A105,Lookups!$A$30:$J$180,Lookups!$L$7,FALSE))","v":""},{"$f":"IF(OR('Measure Summary'!C105=\"(blank)\",'Measure Summary'!C105=0),\"\",'Measure Summary'!C105)","v":""}]
[{"$f":"IF('Measure Summary'!A106=\"\",\"\",VLOOKUP('Measure Summary'!A106,Lookups!$A$30:$J$180,VLOOKUP('100L Information'!$AI$46,Lookups!$J$3:$K$6,2,FALSE), FALSE))","v":""},{"$f":"IF('Measure Summary'!A106=\"\",\"\",'Measure Summary'!D106)","v":""},{"$f":"IF('Measure Summary'!A106=\"\",\"\",\"N\")","v":""},{"$f":"IF('Measure Summary'!A106=\"\",\"\",'Measure Summary'!E106)","v":""},{"$f":"IF('Measure Summary'!A106=\"\",\"\",\"N\")","v":""},{"$f":"IF('Measure Summary'!A106=\"\",\"\",'Measure Summary'!F106)","v":""},{"$f":"IF('Measure Summary'!A106=\"\",\"\",'Analysis 103L'!$R$5)","v":""},{"$f":"IF('Measure Summary'!A106=\"\",\"\",'Analysis 103L'!$R$4)","v":""},{"$f":"IF('Measure Summary'!A106=\"\",\"\", ROUND('Measure Summary'!G106,0))","v":""},{"$f":"IF('Measure Summary'!A106=\"\",\"\",0)","v":""},{"$f":"IF('Measure Summary'!A106=\"\",\"\",'Measure Summary'!B106)","v":""},{"$f":"IF('Measure Summary'!A106=\"\",\"\",\"NONEG\")","v":""},{"$f":"IF('Measure Summary'!A106=\"\",\"\",VLOOKUP('Measure Summary'!A106,Lookups!$A$30:$J$180,Lookups!$L$7,FALSE))","v":""},{"$f":"IF(OR('Measure Summary'!C106=\"(blank)\",'Measure Summary'!C106=0),\"\",'Measure Summary'!C106)","v":""}]
[{"$f":"IF('Measure Summary'!A107=\"\",\"\",VLOOKUP('Measure Summary'!A107,Lookups!$A$30:$J$180,VLOOKUP('100L Information'!$AI$46,Lookups!$J$3:$K$6,2,FALSE), FALSE))","v":""},{"$f":"IF('Measure Summary'!A107=\"\",\"\",'Measure Summary'!D107)","v":""},{"$f":"IF('Measure Summary'!A107=\"\",\"\",\"N\")","v":""},{"$f":"IF('Measure Summary'!A107=\"\",\"\",'Measure Summary'!E107)","v":""},{"$f":"IF('Measure Summary'!A107=\"\",\"\",\"N\")","v":""},{"$f":"IF('Measure Summary'!A107=\"\",\"\",'Measure Summary'!F107)","v":""},{"$f":"IF('Measure Summary'!A107=\"\",\"\",'Analysis 103L'!$R$5)","v":""},{"$f":"IF('Measure Summary'!A107=\"\",\"\",'Analysis 103L'!$R$4)","v":""},{"$f":"IF('Measure Summary'!A107=\"\",\"\", ROUND('Measure Summary'!G107,0))","v":""},{"$f":"IF('Measure Summary'!A107=\"\",\"\",0)","v":""},{"$f":"IF('Measure Summary'!A107=\"\",\"\",'Measure Summary'!B107)","v":""},{"$f":"IF('Measure Summary'!A107=\"\",\"\",\"NONEG\")","v":""},{"$f":"IF('Measure Summary'!A107=\"\",\"\",VLOOKUP('Measure Summary'!A107,Lookups!$A$30:$J$180,Lookups!$L$7,FALSE))","v":""},{"$f":"IF(OR('Measure Summary'!C107=\"(blank)\",'Measure Summary'!C107=0),\"\",'Measure Summary'!C107)","v":""}]
[{"$f":"IF('Measure Summary'!A108=\"\",\"\",VLOOKUP('Measure Summary'!A108,Lookups!$A$30:$J$180,VLOOKUP('100L Information'!$AI$46,Lookups!$J$3:$K$6,2,FALSE), FALSE))","v":""},{"$f":"IF('Measure Summary'!A108=\"\",\"\",'Measure Summary'!D108)","v":""},{"$f":"IF('Measure Summary'!A108=\"\",\"\",\"N\")","v":""},{"$f":"IF('Measure Summary'!A108=\"\",\"\",'Measure Summary'!E108)","v":""},{"$f":"IF('Measure Summary'!A108=\"\",\"\",\"N\")","v":""},{"$f":"IF('Measure Summary'!A108=\"\",\"\",'Measure Summary'!F108)","v":""},{"$f":"IF('Measure Summary'!A108=\"\",\"\",'Analysis 103L'!$R$5)","v":""},{"$f":"IF('Measure Summary'!A108=\"\",\"\",'Analysis 103L'!$R$4)","v":""},{"$f":"IF('Measure Summary'!A108=\"\",\"\", ROUND('Measure Summary'!G108,0))","v":""},{"$f":"IF('Measure Summary'!A108=\"\",\"\",0)","v":""},{"$f":"IF('Measure Summary'!A108=\"\",\"\",'Measure Summary'!B108)","v":""},{"$f":"IF('Measure Summary'!A108=\"\",\"\",\"NONEG\")","v":""},{"$f":"IF('Measure Summary'!A108=\"\",\"\",VLOOKUP('Measure Summary'!A108,Lookups!$A$30:$J$180,Lookups!$L$7,FALSE))","v":""},{"$f":"IF(OR('Measure Summary'!C108=\"(blank)\",'Measure Summary'!C108=0),\"\",'Measure Summary'!C108)","v":""}]
[{"$f":"IF('Measure Summary'!A109=\"\",\"\",VLOOKUP('Measure Summary'!A109,Lookups!$A$30:$J$180,VLOOKUP('100L Information'!$AI$46,Lookups!$J$3:$K$6,2,FALSE), FALSE))","v":""},{"$f":"IF('Measure Summary'!A109=\"\",\"\",'Measure Summary'!D109)","v":""},{"$f":"IF('Measure Summary'!A109=\"\",\"\",\"N\")","v":""},{"$f":"IF('Measure Summary'!A109=\"\",\"\",'Measure Summary'!E109)","v":""},{"$f":"IF('Measure Summary'!A109=\"\",\"\",\"N\")","v":""},{"$f":"IF('Measure Summary'!A109=\"\",\"\",'Measure Summary'!F109)","v":""},{"$f":"IF('Measure Summary'!A109=\"\",\"\",'Analysis 103L'!$R$5)","v":""},{"$f":"IF('Measure Summary'!A109=\"\",\"\",'Analysis 103L'!$R$4)","v":""},{"$f":"IF('Measure Summary'!A109=\"\",\"\", ROUND('Measure Summary'!G109,0))","v":""},{"$f":"IF('Measure Summary'!A109=\"\",\"\",0)","v":""},{"$f":"IF('Measure Summary'!A109=\"\",\"\",'Measure Summary'!B109)","v":""},{"$f":"IF('Measure Summary'!A109=\"\",\"\",\"NONEG\")","v":""},{"$f":"IF('Measure Summary'!A109=\"\",\"\",VLOOKUP('Measure Summary'!A109,Lookups!$A$30:$J$180,Lookups!$L$7,FALSE))","v":""},{"$f":"IF(OR('Measure Summary'!C109=\"(blank)\",'Measure Summary'!C109=0),\"\",'Measure Summary'!C109)","v":""}]
[{"$f":"IF('Measure Summary'!A110=\"\",\"\",VLOOKUP('Measure Summary'!A110,Lookups!$A$30:$J$180,VLOOKUP('100L Information'!$AI$46,Lookups!$J$3:$K$6,2,FALSE), FALSE))","v":""},{"$f":"IF('Measure Summary'!A110=\"\",\"\",'Measure Summary'!D110)","v":""},{"$f":"IF('Measure Summary'!A110=\"\",\"\",\"N\")","v":""},{"$f":"IF('Measure Summary'!A110=\"\",\"\",'Measure Summary'!E110)","v":""},{"$f":"IF('Measure Summary'!A110=\"\",\"\",\"N\")","v":""},{"$f":"IF('Measure Summary'!A110=\"\",\"\",'Measure Summary'!F110)","v":""},{"$f":"IF('Measure Summary'!A110=\"\",\"\",'Analysis 103L'!$R$5)","v":""},{"$f":"IF('Measure Summary'!A110=\"\",\"\",'Analysis 103L'!$R$4)","v":""},{"$f":"IF('Measure Summary'!A110=\"\",\"\", ROUND('Measure Summary'!G110,0))","v":""},{"$f":"IF('Measure Summary'!A110=\"\",\"\",0)","v":""},{"$f":"IF('Measure Summary'!A110=\"\",\"\",'Measure Summary'!B110)","v":""},{"$f":"IF('Measure Summary'!A110=\"\",\"\",\"NONEG\")","v":""},{"$f":"IF('Measure Summary'!A110=\"\",\"\",VLOOKUP('Measure Summary'!A110,Lookups!$A$30:$J$180,Lookups!$L$7,FALSE))","v":""},{"$f":"IF(OR('Measure Summary'!C110=\"(blank)\",'Measure Summary'!C110=0),\"\",'Measure Summary'!C110)","v":""}]
[{"$f":"IF('Measure Summary'!A111=\"\",\"\",VLOOKUP('Measure Summary'!A111,Lookups!$A$30:$J$180,VLOOKUP('100L Information'!$AI$46,Lookups!$J$3:$K$6,2,FALSE), FALSE))","v":""},{"$f":"IF('Measure Summary'!A111=\"\",\"\",'Measure Summary'!D111)","v":""},{"$f":"IF('Measure Summary'!A111=\"\",\"\",\"N\")","v":""},{"$f":"IF('Measure Summary'!A111=\"\",\"\",'Measure Summary'!E111)","v":""},{"$f":"IF('Measure Summary'!A111=\"\",\"\",\"N\")","v":""},{"$f":"IF('Measure Summary'!A111=\"\",\"\",'Measure Summary'!F111)","v":""},{"$f":"IF('Measure Summary'!A111=\"\",\"\",'Analysis 103L'!$R$5)","v":""},{"$f":"IF('Measure Summary'!A111=\"\",\"\",'Analysis 103L'!$R$4)","v":""},{"$f":"IF('Measure Summary'!A111=\"\",\"\", ROUND('Measure Summary'!G111,0))","v":""},{"$f":"IF('Measure Summary'!A111=\"\",\"\",0)","v":""},{"$f":"IF('Measure Summary'!A111=\"\",\"\",'Measure Summary'!B111)","v":""},{"$f":"IF('Measure Summary'!A111=\"\",\"\",\"NONEG\")","v":""},{"$f":"IF('Measure Summary'!A111=\"\",\"\",VLOOKUP('Measure Summary'!A111,Lookups!$A$30:$J$180,Lookups!$L$7,FALSE))","v":""},{"$f":"IF(OR('Measure Summary'!C111=\"(blank)\",'Measure Summary'!C111=0),\"\",'Measure Summary'!C111)","v":""}]
[{"$f":"IF('Measure Summary'!A112=\"\",\"\",VLOOKUP('Measure Summary'!A112,Lookups!$A$30:$J$180,VLOOKUP('100L Information'!$AI$46,Lookups!$J$3:$K$6,2,FALSE), FALSE))","v":""},{"$f":"IF('Measure Summary'!A112=\"\",\"\",'Measure Summary'!D112)","v":""},{"$f":"IF('Measure Summary'!A112=\"\",\"\",\"N\")","v":""},{"$f":"IF('Measure Summary'!A112=\"\",\"\",'Measure Summary'!E112)","v":""},{"$f":"IF('Measure Summary'!A112=\"\",\"\",\"N\")","v":""},{"$f":"IF('Measure Summary'!A112=\"\",\"\",'Measure Summary'!F112)","v":""},{"$f":"IF('Measure Summary'!A112=\"\",\"\",'Analysis 103L'!$R$5)","v":""},{"$f":"IF('Measure Summary'!A112=\"\",\"\",'Analysis 103L'!$R$4)","v":""},{"$f":"IF('Measure Summary'!A112=\"\",\"\", ROUND('Measure Summary'!G112,0))","v":""},{"$f":"IF('Measure Summary'!A112=\"\",\"\",0)","v":""},{"$f":"IF('Measure Summary'!A112=\"\",\"\",'Measure Summary'!B112)","v":""},{"$f":"IF('Measure Summary'!A112=\"\",\"\",\"NONEG\")","v":""},{"$f":"IF('Measure Summary'!A112=\"\",\"\",VLOOKUP('Measure Summary'!A112,Lookups!$A$30:$J$180,Lookups!$L$7,FALSE))","v":""},{"$f":"IF(OR('Measure Summary'!C112=\"(blank)\",'Measure Summary'!C112=0),\"\",'Measure Summary'!C112)","v":""}]
[{"$f":"IF('Measure Summary'!A113=\"\",\"\",VLOOKUP('Measure Summary'!A113,Lookups!$A$30:$J$180,VLOOKUP('100L Information'!$AI$46,Lookups!$J$3:$K$6,2,FALSE), FALSE))","v":""},{"$f":"IF('Measure Summary'!A113=\"\",\"\",'Measure Summary'!D113)","v":""},{"$f":"IF('Measure Summary'!A113=\"\",\"\",\"N\")","v":""},{"$f":"IF('Measure Summary'!A113=\"\",\"\",'Measure Summary'!E113)","v":""},{"$f":"IF('Measure Summary'!A113=\"\",\"\",\"N\")","v":""},{"$f":"IF('Measure Summary'!A113=\"\",\"\",'Measure Summary'!F113)","v":""},{"$f":"IF('Measure Summary'!A113=\"\",\"\",'Analysis 103L'!$R$5)","v":""},{"$f":"IF('Measure Summary'!A113=\"\",\"\",'Analysis 103L'!$R$4)","v":""},{"$f":"IF('Measure Summary'!A113=\"\",\"\", ROUND('Measure Summary'!G113,0))","v":""},{"$f":"IF('Measure Summary'!A113=\"\",\"\",0)","v":""},{"$f":"IF('Measure Summary'!A113=\"\",\"\",'Measure Summary'!B113)","v":""},{"$f":"IF('Measure Summary'!A113=\"\",\"\",\"NONEG\")","v":""},{"$f":"IF('Measure Summary'!A113=\"\",\"\",VLOOKUP('Measure Summary'!A113,Lookups!$A$30:$J$180,Lookups!$L$7,FALSE))","v":""},{"$f":"IF(OR('Measure Summary'!C113=\"(blank)\",'Measure Summary'!C113=0),\"\",'Measure Summary'!C113)","v":""}]
[{"$f":"IF('Measure Summary'!A114=\"\",\"\",VLOOKUP('Measure Summary'!A114,Lookups!$A$30:$J$180,VLOOKUP('100L Information'!$AI$46,Lookups!$J$3:$K$6,2,FALSE), FALSE))","v":""},{"$f":"IF('Measure Summary'!A114=\"\",\"\",'Measure Summary'!D114)","v":""},{"$f":"IF('Measure Summary'!A114=\"\",\"\",\"N\")","v":""},{"$f":"IF('Measure Summary'!A114=\"\",\"\",'Measure Summary'!E114)","v":""},{"$f":"IF('Measure Summary'!A114=\"\",\"\",\"N\")","v":""},{"$f":"IF('Measure Summary'!A114=\"\",\"\",'Measure Summary'!F114)","v":""},{"$f":"IF('Measure Summary'!A114=\"\",\"\",'Analysis 103L'!$R$5)","v":""},{"$f":"IF('Measure Summary'!A114=\"\",\"\",'Analysis 103L'!$R$4)","v":""},{"$f":"IF('Measure Summary'!A114=\"\",\"\", ROUND('Measure Summary'!G114,0))","v":""},{"$f":"IF('Measure Summary'!A114=\"\",\"\",0)","v":""},{"$f":"IF('Measure Summary'!A114=\"\",\"\",'Measure Summary'!B114)","v":""},{"$f":"IF('Measure Summary'!A114=\"\",\"\",\"NONEG\")","v":""},{"$f":"IF('Measure Summary'!A114=\"\",\"\",VLOOKUP('Measure Summary'!A114,Lookups!$A$30:$J$180,Lookups!$L$7,FALSE))","v":""},{"$f":"IF(OR('Measure Summary'!C114=\"(blank)\",'Measure Summary'!C114=0),\"\",'Measure Summary'!C114)","v":""}]
[{"$f":"IF('Measure Summary'!A115=\"\",\"\",VLOOKUP('Measure Summary'!A115,Lookups!$A$30:$J$180,VLOOKUP('100L Information'!$AI$46,Lookups!$J$3:$K$6,2,FALSE), FALSE))","v":""},{"$f":"IF('Measure Summary'!A115=\"\",\"\",'Measure Summary'!D115)","v":""},{"$f":"IF('Measure Summary'!A115=\"\",\"\",\"N\")","v":""},{"$f":"IF('Measure Summary'!A115=\"\",\"\",'Measure Summary'!E115)","v":""},{"$f":"IF('Measure Summary'!A115=\"\",\"\",\"N\")","v":""},{"$f":"IF('Measure Summary'!A115=\"\",\"\",'Measure Summary'!F115)","v":""},{"$f":"IF('Measure Summary'!A115=\"\",\"\",'Analysis 103L'!$R$5)","v":""},{"$f":"IF('Measure Summary'!A115=\"\",\"\",'Analysis 103L'!$R$4)","v":""},{"$f":"IF('Measure Summary'!A115=\"\",\"\", ROUND('Measure Summary'!G115,0))","v":""},{"$f":"IF('Measure Summary'!A115=\"\",\"\",0)","v":""},{"$f":"IF('Measure Summary'!A115=\"\",\"\",'Measure Summary'!B115)","v":""},{"$f":"IF('Measure Summary'!A115=\"\",\"\",\"NONEG\")","v":""},{"$f":"IF('Measure Summary'!A115=\"\",\"\",VLOOKUP('Measure Summary'!A115,Lookups!$A$30:$J$180,Lookups!$L$7,FALSE))","v":""},{"$f":"IF(OR('Measure Summary'!C115=\"(blank)\",'Measure Summary'!C115=0),\"\",'Measure Summary'!C115)","v":""}]
[{"$f":"IF('Measure Summary'!A116=\"\",\"\",VLOOKUP('Measure Summary'!A116,Lookups!$A$30:$J$180,VLOOKUP('100L Information'!$AI$46,Lookups!$J$3:$K$6,2,FALSE), FALSE))","v":""},{"$f":"IF('Measure Summary'!A116=\"\",\"\",'Measure Summary'!D116)","v":""},{"$f":"IF('Measure Summary'!A116=\"\",\"\",\"N\")","v":""},{"$f":"IF('Measure Summary'!A116=\"\",\"\",'Measure Summary'!E116)","v":""},{"$f":"IF('Measure Summary'!A116=\"\",\"\",\"N\")","v":""},{"$f":"IF('Measure Summary'!A116=\"\",\"\",'Measure Summary'!F116)","v":""},{"$f":"IF('Measure Summary'!A116=\"\",\"\",'Analysis 103L'!$R$5)","v":""},{"$f":"IF('Measure Summary'!A116=\"\",\"\",'Analysis 103L'!$R$4)","v":""},{"$f":"IF('Measure Summary'!A116=\"\",\"\", ROUND('Measure Summary'!G116,0))","v":""},{"$f":"IF('Measure Summary'!A116=\"\",\"\",0)","v":""},{"$f":"IF('Measure Summary'!A116=\"\",\"\",'Measure Summary'!B116)","v":""},{"$f":"IF('Measure Summary'!A116=\"\",\"\",\"NONEG\")","v":""},{"$f":"IF('Measure Summary'!A116=\"\",\"\",VLOOKUP('Measure Summary'!A116,Lookups!$A$30:$J$180,Lookups!$L$7,FALSE))","v":""},{"$f":"IF(OR('Measure Summary'!C116=\"(blank)\",'Measure Summary'!C116=0),\"\",'Measure Summary'!C116)","v":""}]
[{"$f":"IF('Measure Summary'!A117=\"\",\"\",VLOOKUP('Measure Summary'!A117,Lookups!$A$30:$J$180,VLOOKUP('100L Information'!$AI$46,Lookups!$J$3:$K$6,2,FALSE), FALSE))","v":""},{"$f":"IF('Measure Summary'!A117=\"\",\"\",'Measure Summary'!D117)","v":""},{"$f":"IF('Measure Summary'!A117=\"\",\"\",\"N\")","v":""},{"$f":"IF('Measure Summary'!A117=\"\",\"\",'Measure Summary'!E117)","v":""},{"$f":"IF('Measure Summary'!A117=\"\",\"\",\"N\")","v":""},{"$f":"IF('Measure Summary'!A117=\"\",\"\",'Measure Summary'!F117)","v":""},{"$f":"IF('Measure Summary'!A117=\"\",\"\",'Analysis 103L'!$R$5)","v":""},{"$f":"IF('Measure Summary'!A117=\"\",\"\",'Analysis 103L'!$R$4)","v":""},{"$f":"IF('Measure Summary'!A117=\"\",\"\", ROUND('Measure Summary'!G117,0))","v":""},{"$f":"IF('Measure Summary'!A117=\"\",\"\",0)","v":""},{"$f":"IF('Measure Summary'!A117=\"\",\"\",'Measure Summary'!B117)","v":""},{"$f":"IF('Measure Summary'!A117=\"\",\"\",\"NONEG\")","v":""},{"$f":"IF('Measure Summary'!A117=\"\",\"\",VLOOKUP('Measure Summary'!A117,Lookups!$A$30:$J$180,Lookups!$L$7,FALSE))","v":""},{"$f":"IF(OR('Measure Summary'!C117=\"(blank)\",'Measure Summary'!C117=0),\"\",'Measure Summary'!C117)","v":""}]
[{"$f":"IF('Measure Summary'!A118=\"\",\"\",VLOOKUP('Measure Summary'!A118,Lookups!$A$30:$J$180,VLOOKUP('100L Information'!$AI$46,Lookups!$J$3:$K$6,2,FALSE), FALSE))","v":""},{"$f":"IF('Measure Summary'!A118=\"\",\"\",'Measure Summary'!D118)","v":""},{"$f":"IF('Measure Summary'!A118=\"\",\"\",\"N\")","v":""},{"$f":"IF('Measure Summary'!A118=\"\",\"\",'Measure Summary'!E118)","v":""},{"$f":"IF('Measure Summary'!A118=\"\",\"\",\"N\")","v":""},{"$f":"IF('Measure Summary'!A118=\"\",\"\",'Measure Summary'!F118)","v":""},{"$f":"IF('Measure Summary'!A118=\"\",\"\",'Analysis 103L'!$R$5)","v":""},{"$f":"IF('Measure Summary'!A118=\"\",\"\",'Analysis 103L'!$R$4)","v":""},{"$f":"IF('Measure Summary'!A118=\"\",\"\", ROUND('Measure Summary'!G118,0))","v":""},{"$f":"IF('Measure Summary'!A118=\"\",\"\",0)","v":""},{"$f":"IF('Measure Summary'!A118=\"\",\"\",'Measure Summary'!B118)","v":""},{"$f":"IF('Measure Summary'!A118=\"\",\"\",\"NONEG\")","v":""},{"$f":"IF('Measure Summary'!A118=\"\",\"\",VLOOKUP('Measure Summary'!A118,Lookups!$A$30:$J$180,Lookups!$L$7,FALSE))","v":""},{"$f":"IF(OR('Measure Summary'!C118=\"(blank)\",'Measure Summary'!C118=0),\"\",'Measure Summary'!C118)","v":""}]
[{"$f":"IF('Measure Summary'!A119=\"\",\"\",VLOOKUP('Measure Summary'!A119,Lookups!$A$30:$J$180,VLOOKUP('100L Information'!$AI$46,Lookups!$J$3:$K$6,2,FALSE), FALSE))","v":""},{"$f":"IF('Measure Summary'!A119=\"\",\"\",'Measure Summary'!D119)","v":""},{"$f":"IF('Measure Summary'!A119=\"\",\"\",\"N\")","v":""},{"$f":"IF('Measure Summary'!A119=\"\",\"\",'Measure Summary'!E119)","v":""},{"$f":"IF('Measure Summary'!A119=\"\",\"\",\"N\")","v":""},{"$f":"IF('Measure Summary'!A119=\"\",\"\",'Measure Summary'!F119)","v":""},{"$f":"IF('Measure Summary'!A119=\"\",\"\",'Analysis 103L'!$R$5)","v":""},{"$f":"IF('Measure Summary'!A119=\"\",\"\",'Analysis 103L'!$R$4)","v":""},{"$f":"IF('Measure Summary'!A119=\"\",\"\", ROUND('Measure Summary'!G119,0))","v":""},{"$f":"IF('Measure Summary'!A119=\"\",\"\",0)","v":""},{"$f":"IF('Measure Summary'!A119=\"\",\"\",'Measure Summary'!B119)","v":""},{"$f":"IF('Measure Summary'!A119=\"\",\"\",\"NONEG\")","v":""},{"$f":"IF('Measure Summary'!A119=\"\",\"\",VLOOKUP('Measure Summary'!A119,Lookups!$A$30:$J$180,Lookups!$L$7,FALSE))","v":""},{"$f":"IF(OR('Measure Summary'!C119=\"(blank)\",'Measure Summary'!C119=0),\"\",'Measure Summary'!C119)","v":""}]
[{"$f":"IF('Measure Summary'!A120=\"\",\"\",VLOOKUP('Measure Summary'!A120,Lookups!$A$30:$J$180,VLOOKUP('100L Information'!$AI$46,Lookups!$J$3:$K$6,2,FALSE), FALSE))","v":""},{"$f":"IF('Measure Summary'!A120=\"\",\"\",'Measure Summary'!D120)","v":""},{"$f":"IF('Measure Summary'!A120=\"\",\"\",\"N\")","v":""},{"$f":"IF('Measure Summary'!A120=\"\",\"\",'Measure Summary'!E120)","v":""},{"$f":"IF('Measure Summary'!A120=\"\",\"\",\"N\")","v":""},{"$f":"IF('Measure Summary'!A120=\"\",\"\",'Measure Summary'!F120)","v":""},{"$f":"IF('Measure Summary'!A120=\"\",\"\",'Analysis 103L'!$R$5)","v":""},{"$f":"IF('Measure Summary'!A120=\"\",\"\",'Analysis 103L'!$R$4)","v":""},{"$f":"IF('Measure Summary'!A120=\"\",\"\", ROUND('Measure Summary'!G120,0))","v":""},{"$f":"IF('Measure Summary'!A120=\"\",\"\",0)","v":""},{"$f":"IF('Measure Summary'!A120=\"\",\"\",'Measure Summary'!B120)","v":""},{"$f":"IF('Measure Summary'!A120=\"\",\"\",\"NONEG\")","v":""},{"$f":"IF('Measure Summary'!A120=\"\",\"\",VLOOKUP('Measure Summary'!A120,Lookups!$A$30:$J$180,Lookups!$L$7,FALSE))","v":""},{"$f":"IF(OR('Measure Summary'!C120=\"(blank)\",'Measure Summary'!C120=0),\"\",'Measure Summary'!C120)","v":""}]
[{"$f":"IF('Measure Summary'!A121=\"\",\"\",VLOOKUP('Measure Summary'!A121,Lookups!$A$30:$J$180,VLOOKUP('100L Information'!$AI$46,Lookups!$J$3:$K$6,2,FALSE), FALSE))","v":""},{"$f":"IF('Measure Summary'!A121=\"\",\"\",'Measure Summary'!D121)","v":""},{"$f":"IF('Measure Summary'!A121=\"\",\"\",\"N\")","v":""},{"$f":"IF('Measure Summary'!A121=\"\",\"\",'Measure Summary'!E121)","v":""},{"$f":"IF('Measure Summary'!A121=\"\",\"\",\"N\")","v":""},{"$f":"IF('Measure Summary'!A121=\"\",\"\",'Measure Summary'!F121)","v":""},{"$f":"IF('Measure Summary'!A121=\"\",\"\",'Analysis 103L'!$R$5)","v":""},{"$f":"IF('Measure Summary'!A121=\"\",\"\",'Analysis 103L'!$R$4)","v":""},{"$f":"IF('Measure Summary'!A121=\"\",\"\", ROUND('Measure Summary'!G121,0))","v":""},{"$f":"IF('Measure Summary'!A121=\"\",\"\",0)","v":""},{"$f":"IF('Measure Summary'!A121=\"\",\"\",'Measure Summary'!B121)","v":""},{"$f":"IF('Measure Summary'!A121=\"\",\"\",\"NONEG\")","v":""},{"$f":"IF('Measure Summary'!A121=\"\",\"\",VLOOKUP('Measure Summary'!A121,Lookups!$A$30:$J$180,Lookups!$L$7,FALSE))","v":""},{"$f":"IF(OR('Measure Summary'!C121=\"(blank)\",'Measure Summary'!C121=0),\"\",'Measure Summary'!C121)","v":""}]
[{"$f":"IF('Measure Summary'!A122=\"\",\"\",VLOOKUP('Measure Summary'!A122,Lookups!$A$30:$J$180,VLOOKUP('100L Information'!$AI$46,Lookups!$J$3:$K$6,2,FALSE), FALSE))","v":""},{"$f":"IF('Measure Summary'!A122=\"\",\"\",'Measure Summary'!D122)","v":""},{"$f":"IF('Measure Summary'!A122=\"\",\"\",\"N\")","v":""},{"$f":"IF('Measure Summary'!A122=\"\",\"\",'Measure Summary'!E122)","v":""},{"$f":"IF('Measure Summary'!A122=\"\",\"\",\"N\")","v":""},{"$f":"IF('Measure Summary'!A122=\"\",\"\",'Measure Summary'!F122)","v":""},{"$f":"IF('Measure Summary'!A122=\"\",\"\",'Analysis 103L'!$R$5)","v":""},{"$f":"IF('Measure Summary'!A122=\"\",\"\",'Analysis 103L'!$R$4)","v":""},{"$f":"IF('Measure Summary'!A122=\"\",\"\", ROUND('Measure Summary'!G122,0))","v":""},{"$f":"IF('Measure Summary'!A122=\"\",\"\",0)","v":""},{"$f":"IF('Measure Summary'!A122=\"\",\"\",'Measure Summary'!B122)","v":""},{"$f":"IF('Measure Summary'!A122=\"\",\"\",\"NONEG\")","v":""},{"$f":"IF('Measure Summary'!A122=\"\",\"\",VLOOKUP('Measure Summary'!A122,Lookups!$A$30:$J$180,Lookups!$L$7,FALSE))","v":""},{"$f":"IF(OR('Measure Summary'!C122=\"(blank)\",'Measure Summary'!C122=0),\"\",'Measure Summary'!C122)","v":""}]
[{"$f":"IF('Measure Summary'!A123=\"\",\"\",VLOOKUP('Measure Summary'!A123,Lookups!$A$30:$J$180,VLOOKUP('100L Information'!$AI$46,Lookups!$J$3:$K$6,2,FALSE), FALSE))","v":""},{"$f":"IF('Measure Summary'!A123=\"\",\"\",'Measure Summary'!D123)","v":""},{"$f":"IF('Measure Summary'!A123=\"\",\"\",\"N\")","v":""},{"$f":"IF('Measure Summary'!A123=\"\",\"\",'Measure Summary'!E123)","v":""},{"$f":"IF('Measure Summary'!A123=\"\",\"\",\"N\")","v":""},{"$f":"IF('Measure Summary'!A123=\"\",\"\",'Measure Summary'!F123)","v":""},{"$f":"IF('Measure Summary'!A123=\"\",\"\",'Analysis 103L'!$R$5)","v":""},{"$f":"IF('Measure Summary'!A123=\"\",\"\",'Analysis 103L'!$R$4)","v":""},{"$f":"IF('Measure Summary'!A123=\"\",\"\", ROUND('Measure Summary'!G123,0))","v":""},{"$f":"IF('Measure Summary'!A123=\"\",\"\",0)","v":""},{"$f":"IF('Measure Summary'!A123=\"\",\"\",'Measure Summary'!B123)","v":""},{"$f":"IF('Measure Summary'!A123=\"\",\"\",\"NONEG\")","v":""},{"$f":"IF('Measure Summary'!A123=\"\",\"\",VLOOKUP('Measure Summary'!A123,Lookups!$A$30:$J$180,Lookups!$L$7,FALSE))","v":""},{"$f":"IF(OR('Measure Summary'!C123=\"(blank)\",'Measure Summary'!C123=0),\"\",'Measure Summary'!C123)","v":""}]
[{"$f":"IF('Measure Summary'!A124=\"\",\"\",VLOOKUP('Measure Summary'!A124,Lookups!$A$30:$J$180,VLOOKUP('100L Information'!$AI$46,Lookups!$J$3:$K$6,2,FALSE), FALSE))","v":""},{"$f":"IF('Measure Summary'!A124=\"\",\"\",'Measure Summary'!D124)","v":""},{"$f":"IF('Measure Summary'!A124=\"\",\"\",\"N\")","v":""},{"$f":"IF('Measure Summary'!A124=\"\",\"\",'Measure Summary'!E124)","v":""},{"$f":"IF('Measure Summary'!A124=\"\",\"\",\"N\")","v":""},{"$f":"IF('Measure Summary'!A124=\"\",\"\",'Measure Summary'!F124)","v":""},{"$f":"IF('Measure Summary'!A124=\"\",\"\",'Analysis 103L'!$R$5)","v":""},{"$f":"IF('Measure Summary'!A124=\"\",\"\",'Analysis 103L'!$R$4)","v":""},{"$f":"IF('Measure Summary'!A124=\"\",\"\", ROUND('Measure Summary'!G124,0))","v":""},{"$f":"IF('Measure Summary'!A124=\"\",\"\",0)","v":""},{"$f":"IF('Measure Summary'!A124=\"\",\"\",'Measure Summary'!B124)","v":""},{"$f":"IF('Measure Summary'!A124=\"\",\"\",\"NONEG\")","v":""},{"$f":"IF('Measure Summary'!A124=\"\",\"\",VLOOKUP('Measure Summary'!A124,Lookups!$A$30:$J$180,Lookups!$L$7,FALSE))","v":""},{"$f":"IF(OR('Measure Summary'!C124=\"(blank)\",'Measure Summary'!C124=0),\"\",'Measure Summary'!C124)","v":""}]
["!end!"]

{"sheet":"PT Summary","index":14,"n_rows":247,"n_cols":9,"rows_kept":247,"cut":false,"hidden":true,"merged":[[0,0,1,1],[1,3,1,4],[1,6,1,7],[2,4,2,7],[4,4,4,5],[3,4,3,7]]}
["Lighting Tool Summary"]
[null,null,"Project ID",{"$f":"IF('100L Information'!S3=\"\",\"\",'100L Information'!S3)","v":""},null,"PT ID",{"$f":"IF('100L Information'!AB3=\"\",\"\",'100L Information'!AB3)","v":""}]
[null,null,"Project Name",null,{"$f":"IF('100L Information'!I15=\"\",\"\",'100L Information'!I15)","v":""}]
[null,null,"Site Address",null,{"$f":"IF('100L Information'!F16=\"\",\"\",'100L Information'!F16&\"  \"&'100L Information'!R16&\", \"&'100L Information'!AA16&\"  \"&'100L Information'!AD16)","v":""}]
[null,null,"Reservation Date",null,{"$f":"IF('Analysis 103L'!R4=\"\",\"\",'Analysis 103L'!R4)","v":""}]
[null,"Total Summary",{"$f":"SUM(C8:C118)","v":0},{"$f":"SUM(D8:D118)","v":0},{"$f":"SUM(E8:E118)","v":0},{"$f":"SUM(F8:F118)","v":0},{"$f":"SUM(G8:G118)","v":0}]
["Measure Code","Measure Description","Qty","Total Cost","Incentive","Kwh","Therms","LP_Ele","Installed Date"]
[{"$f":"FTImport!A2","v":""},{"$f":"IF('Measure Summary'!A14=\"\",\"\",'Measure Summary'!A14)","v":""},{"$f":"FTImport!B2","v":""},{"$f":"FTImport!D2","v":""},{"$f":"FTImport!F2","v":""},{"$f":"FTImport!I2","v":""},{"$f":"FTImport!J2","v":""},{"$f":"FTImport!K2","v":""},{"$f":"FTImport!G2","v":""}]
[{"$f":"FTImport!A3","v":""},{"$f":"IF('Measure Summary'!A15=\"\",\"\",'Measure Summary'!A15)","v":""},{"$f":"FTImport!B3","v":""},{"$f":"FTImport!D3","v":""},{"$f":"FTImport!F3","v":""},{"$f":"FTImport!I3","v":""},{"$f":"FTImport!J3","v":""},{"$f":"FTImport!K3","v":""},{"$f":"FTImport!G3","v":""}]
[{"$f":"FTImport!A4","v":""},{"$f":"IF('Measure Summary'!A16=\"\",\"\",'Measure Summary'!A16)","v":""},{"$f":"FTImport!B4","v":""},{"$f":"FTImport!D4","v":""},{"$f":"FTImport!F4","v":""},{"$f":"FTImport!I4","v":""},{"$f":"FTImport!J4","v":""},{"$f":"FTImport!K4","v":""},{"$f":"FTImport!G4","v":""}]
[{"$f":"FTImport!A5","v":""},{"$f":"IF('Measure Summary'!A17=\"\",\"\",'Measure Summary'!A17)","v":""},{"$f":"FTImport!B5","v":""},{"$f":"FTImport!D5","v":""},{"$f":"FTImport!F5","v":""},{"$f":"FTImport!I5","v":""},{"$f":"FTImport!J5","v":""},{"$f":"FTImport!K5","v":""},{"$f":"FTImport!G5","v":""}]
[{"$f":"FTImport!A6","v":""},{"$f":"IF('Measure Summary'!A18=\"\",\"\",'Measure Summary'!A18)","v":""},{"$f":"FTImport!B6","v":""},{"$f":"FTImport!D6","v":""},{"$f":"FTImport!F6","v":""},{"$f":"FTImport!I6","v":""},{"$f":"FTImport!J6","v":""},{"$f":"FTImport!K6","v":""},{"$f":"FTImport!G6","v":""}]
[{"$f":"FTImport!A7","v":""},{"$f":"IF('Measure Summary'!A19=\"\",\"\",'Measure Summary'!A19)","v":""},{"$f":"FTImport!B7","v":""},{"$f":"FTImport!D7","v":""},{"$f":"FTImport!F7","v":""},{"$f":"FTImport!I7","v":""},{"$f":"FTImport!J7","v":""},{"$f":"FTImport!K7","v":""},{"$f":"FTImport!G7","v":""}]
[{"$f":"FTImport!A8","v":""},{"$f":"IF('Measure Summary'!A20=\"\",\"\",'Measure Summary'!A20)","v":""},{"$f":"FTImport!B8","v":""},{"$f":"FTImport!D8","v":""},{"$f":"FTImport!F8","v":""},{"$f":"FTImport!I8","v":""},{"$f":"FTImport!J8","v":""},{"$f":"FTImport!K8","v":""},{"$f":"FTImport!G8","v":""}]
[{"$f":"FTImport!A9","v":""},{"$f":"IF('Measure Summary'!A21=\"\",\"\",'Measure Summary'!A21)","v":""},{"$f":"FTImport!B9","v":""},{"$f":"FTImport!D9","v":""},{"$f":"FTImport!F9","v":""},{"$f":"FTImport!I9","v":""},{"$f":"FTImport!J9","v":""},{"$f":"FTImport!K9","v":""},{"$f":"FTImport!G9","v":""}]
[{"$f":"FTImport!A10","v":""},{"$f":"IF('Measure Summary'!A22=\"\",\"\",'Measure Summary'!A22)","v":""},{"$f":"FTImport!B10","v":""},{"$f":"FTImport!D10","v":""},{"$f":"FTImport!F10","v":""},{"$f":"FTImport!I10","v":""},{"$f":"FTImport!J10","v":""},{"$f":"FTImport!K10","v":""},{"$f":"FTImport!G10","v":""}]
[{"$f":"FTImport!A11","v":""},{"$f":"IF('Measure Summary'!A23=\"\",\"\",'Measure Summary'!A23)","v":""},{"$f":"FTImport!B11","v":""},{"$f":"FTImport!D11","v":""},{"$f":"FTImport!F11","v":""},{"$f":"FTImport!I11","v":""},{"$f":"FTImport!J11","v":""},{"$f":"FTImport!K11","v":""},{"$f":"FTImport!G11","v":""}]
[{"$f":"FTImport!A12","v":""},{"$f":"IF('Measure Summary'!A24=\"\",\"\",'Measure Summary'!A24)","v":""},{"$f":"FTImport!B12","v":""},{"$f":"FTImport!D12","v":""},{"$f":"FTImport!F12","v":""},{"$f":"FTImport!I12","v":""},{"$f":"FTImport!J12","v":""},{"$f":"FTImport!K12","v":""},{"$f":"FTImport!G12","v":""}]
[{"$f":"FTImport!A13","v":""},{"$f":"IF('Measure Summary'!A25=\"\",\"\",'Measure Summary'!A25)","v":""},{"$f":"FTImport!B13","v":""},{"$f":"FTImport!D13","v":""},{"$f":"FTImport!F13","v":""},{"$f":"FTImport!I13","v":""},{"$f":"FTImport!J13","v":""},{"$f":"FTImport!K13","v":""},{"$f":"FTImport!G13","v":""}]
[{"$f":"FTImport!A14","v":""},{"$f":"IF('Measure Summary'!A26=\"\",\"\",'Measure Summary'!A26)","v":""},{"$f":"FTImport!B14","v":""},{"$f":"FTImport!D14","v":""},{"$f":"FTImport!F14","v":""},{"$f":"FTImport!I14","v":""},{"$f":"FTImport!J14","v":""},{"$f":"FTImport!K14","v":""},{"$f":"FTImport!G14","v":""}]
[{"$f":"FTImport!A15","v":""},{"$f":"IF('Measure Summary'!A27=\"\",\"\",'Measure Summary'!A27)","v":""},{"$f":"FTImport!B15","v":""},{"$f":"FTImport!D15","v":""},{"$f":"FTImport!F15","v":""},{"$f":"FTImport!I15","v":""},{"$f":"FTImport!J15","v":""},{"$f":"FTImport!K15","v":""},{"$f":"FTImport!G15","v":""}]
[{"$f":"FTImport!A16","v":""},{"$f":"IF('Measure Summary'!A28=\"\",\"\",'Measure Summary'!A28)","v":""},{"$f":"FTImport!B16","v":""},{"$f":"FTImport!D16","v":""},{"$f":"FTImport!F16","v":""},{"$f":"FTImport!I16","v":""},{"$f":"FTImport!J16","v":""},{"$f":"FTImport!K16","v":""},{"$f":"FTImport!G16","v":""}]
[{"$f":"FTImport!A17","v":""},{"$f":"IF('Measure Summary'!A29=\"\",\"\",'Measure Summary'!A29)","v":""},{"$f":"FTImport!B17","v":""},{"$f":"FTImport!D17","v":""},{"$f":"FTImport!F17","v":""},{"$f":"FTImport!I17","v":""},{"$f":"FTImport!J17","v":""},{"$f":"FTImport!K17","v":""},{"$f":"FTImport!G17","v":""}]
[{"$f":"FTImport!A18","v":""},{"$f":"IF('Measure Summary'!A30=\"\",\"\",'Measure Summary'!A30)","v":""},{"$f":"FTImport!B18","v":""},{"$f":"FTImport!D18","v":""},{"$f":"FTImport!F18","v":""},{"$f":"FTImport!I18","v":""},{"$f":"FTImport!J18","v":""},{"$f":"FTImport!K18","v":""},{"$f":"FTImport!G18","v":""}]
[{"$f":"FTImport!A19","v":""},{"$f":"IF('Measure Summary'!A31=\"\",\"\",'Measure Summary'!A31)","v":""},{"$f":"FTImport!B19","v":""},{"$f":"FTImport!D19","v":""},{"$f":"FTImport!F19","v":""},{"$f":"FTImport!I19","v":""},{"$f":"FTImport!J19","v":""},{"$f":"FTImport!K19","v":""},{"$f":"FTImport!G19","v":""}]
[{"$f":"FTImport!A20","v":""},{"$f":"IF('Measure Summary'!A32=\"\",\"\",'Measure Summary'!A32)","v":""},{"$f":"FTImport!B20","v":""},{"$f":"FTImport!D20","v":""},{"$f":"FTImport!F20","v":""},{"$f":"FTImport!I20","v":""},{"$f":"FTImport!J20","v":""},{"$f":"FTImport!K20","v":""},{"$f":"FTImport!G20","v":""}]
[{"$f":"FTImport!A21","v":""},{"$f":"IF('Measure Summary'!A33=\"\",\"\",'Measure Summary'!A33)","v":""},{"$f":"FTImport!B21","v":""},{"$f":"FTImport!D21","v":""},{"$f":"FTImport!F21","v":""},{"$f":"FTImport!I21","v":""},{"$f":"FTImport!J21","v":""},{"$f":"FTImport!K21","v":""},{"$f":"FTImport!G21","v":""}]
[{"$f":"FTImport!A22","v":""},{"$f":"IF('Measure Summary'!A34=\"\",\"\",'Measure Summary'!A34)","v":""},{"$f":"FTImport!B22","v":""},{"$f":"FTImport!D22","v":""},{"$f":"FTImport!F22","v":""},{"$f":"FTImport!I22","v":""},{"$f":"FTImport!J22","v":""},{"$f":"FTImport!K22","v":""},{"$f":"FTImport!G22","v":""}]
[{"$f":"FTImport!A23","v":""},{"$f":"IF('Measure Summary'!A35=\"\",\"\",'Measure Summary'!A35)","v":""},{"$f":"FTImport!B23","v":""},{"$f":"FTImport!D23","v":""},{"$f":"FTImport!F23","v":""},{"$f":"FTImport!I23","v":""},{"$f":"FTImport!J23","v":""},{"$f":"FTImport!K23","v":""},{"$f":"FTImport!G23","v":""}]
[{"$f":"FTImport!A24","v":""},{"$f":"IF('Measure Summary'!A36=\"\",\"\",'Measure Summary'!A36)","v":""},{"$f":"FTImport!B24","v":""},{"$f":"FTImport!D24","v":""},{"$f":"FTImport!F24","v":""},{"$f":"FTImport!I24","v":""},{"$f":"FTImport!J24","v":""},{"$f":"FTImport!K24","v":""},{"$f":"FTImport!G24","v":""}]
[{"$f":"FTImport!A25","v":""},{"$f":"IF('Measure Summary'!A37=\"\",\"\",'Measure Summary'!A37)","v":""},{"$f":"FTImport!B25","v":""},{"$f":"FTImport!D25","v":""},{"$f":"FTImport!F25","v":""},{"$f":"FTImport!I25","v":""},{"$f":"FTImport!J25","v":""},{"$f":"FTImport!K25","v":""},{"$f":"FTImport!G25","v":""}]
[{"$f":"FTImport!A26","v":""},{"$f":"IF('Measure Summary'!A38=\"\",\"\",'Measure Summary'!A38)","v":""},{"$f":"FTImport!B26","v":""},{"$f":"FTImport!D26","v":""},{"$f":"FTImport!F26","v":""},{"$f":"FTImport!I26","v":""},{"$f":"FTImport!J26","v":""},{"$f":"FTImport!K26","v":""},{"$f":"FTImport!G26","v":""}]
[{"$f":"FTImport!A27","v":""},{"$f":"IF('Measure Summary'!A39=\"\",\"\",'Measure Summary'!A39)","v":""},{"$f":"FTImport!B27","v":""},{"$f":"FTImport!D27","v":""},{"$f":"FTImport!F27","v":""},{"$f":"FTImport!I27","v":""},{"$f":"FTImport!J27","v":""},{"$f":"FTImport!K27","v":""},{"$f":"FTImport!G27","v":""}]
[{"$f":"FTImport!A28","v":""},{"$f":"IF('Measure Summary'!A40=\"\",\"\",'Measure Summary'!A40)","v":""},{"$f":"FTImport!B28","v":""},{"$f":"FTImport!D28","v":""},{"$f":"FTImport!F28","v":""},{"$f":"FTImport!I28","v":""},{"$f":"FTImport!J28","v":""},{"$f":"FTImport!K28","v":""},{"$f":"FTImport!G28","v":""}]
[{"$f":"FTImport!A29","v":""},{"$f":"IF('Measure Summary'!A41=\"\",\"\",'Measure Summary'!A41)","v":""},{"$f":"FTImport!B29","v":""},{"$f":"FTImport!D29","v":""},{"$f":"FTImport!F29","v":""},{"$f":"FTImport!I29","v":""},{"$f":"FTImport!J29","v":""},{"$f":"FTImport!K29","v":""},{"$f":"FTImport!G29","v":""}]
[{"$f":"FTImport!A30","v":""},{"$f":"IF('Measure Summary'!A42=\"\",\"\",'Measure Summary'!A42)","v":""},{"$f":"FTImport!B30","v":""},{"$f":"FTImport!D30","v":""},{"$f":"FTImport!F30","v":""},{"$f":"FTImport!I30","v":""},{"$f":"FTImport!J30","v":""},{"$f":"FTImport!K30","v":""},{"$f":"FTImport!G30","v":""}]
[{"$f":"FTImport!A31","v":""},{"$f":"IF('Measure Summary'!A43=\"\",\"\",'Measure Summary'!A43)","v":""},{"$f":"FTImport!B31","v":""},{"$f":"FTImport!D31","v":""},{"$f":"FTImport!F31","v":""},{"$f":"FTImport!I31","v":""},{"$f":"FTImport!J31","v":""},{"$f":"FTImport!K31","v":""},{"$f":"FTImport!G31","v":""}]
[{"$f":"FTImport!A32","v":""},{"$f":"IF('Measure Summary'!A44=\"\",\"\",'Measure Summary'!A44)","v":""},{"$f":"FTImport!B32","v":""},{"$f":"FTImport!D32","v":""},{"$f":"FTImport!F32","v":""},{"$f":"FTImport!I32","v":""},{"$f":"FTImport!J32","v":""},{"$f":"FTImport!K32","v":""},{"$f":"FTImport!G32","v":""}]
[{"$f":"FTImport!A33","v":""},{"$f":"IF('Measure Summary'!A45=\"\",\"\",'Measure Summary'!A45)","v":""},{"$f":"FTImport!B33","v":""},{"$f":"FTImport!D33","v":""},{"$f":"FTImport!F33","v":""},{"$f":"FTImport!I33","v":""},{"$f":"FTImport!J33","v":""},{"$f":"FTImport!K33","v":""},{"$f":"FTImport!G33","v":""}]
[{"$f":"FTImport!A34","v":""},{"$f":"IF('Measure Summary'!A46=\"\",\"\",'Measure Summary'!A46)","v":""},{"$f":"FTImport!B34","v":""},{"$f":"FTImport!D34","v":""},{"$f":"FTImport!F34","v":""},{"$f":"FTImport!I34","v":""},{"$f":"FTImport!J34","v":""},{"$f":"FTImport!K34","v":""},{"$f":"FTImport!G34","v":""}]
[{"$f":"FTImport!A35","v":""},{"$f":"IF('Measure Summary'!A47=\"\",\"\",'Measure Summary'!A47)","v":""},{"$f":"FTImport!B35","v":""},{"$f":"FTImport!D35","v":""},{"$f":"FTImport!F35","v":""},{"$f":"FTImport!I35","v":""},{"$f":"FTImport!J35","v":""},{"$f":"FTImport!K35","v":""},{"$f":"FTImport!G35","v":""}]
[{"$f":"FTImport!A36","v":""},{"$f":"IF('Measure Summary'!A48=\"\",\"\",'Measure Summary'!A48)","v":""},{"$f":"FTImport!B36","v":""},{"$f":"FTImport!D36","v":""},{"$f":"FTImport!F36","v":""},{"$f":"FTImport!I36","v":""},{"$f":"FTImport!J36","v":""},{"$f":"FTImport!K36","v":""},{"$f":"FTImport!G36","v":""}]
[{"$f":"FTImport!A37","v":""},{"$f":"IF('Measure Summary'!A49=\"\",\"\",'Measure Summary'!A49)","v":""},{"$f":"FTImport!B37","v":""},{"$f":"FTImport!D37","v":""},{"$f":"FTImport!F37","v":""},{"$f":"FTImport!I37","v":""},{"$f":"FTImport!J37","v":""},{"$f":"FTImport!K37","v":""},{"$f":"FTImport!G37","v":""}]
[{"$f":"FTImport!A38","v":""},{"$f":"IF('Measure Summary'!A50=\"\",\"\",'Measure Summary'!A50)","v":""},{"$f":"FTImport!B38","v":""},{"$f":"FTImport!D38","v":""},{"$f":"FTImport!F38","v":""},{"$f":"FTImport!I38","v":""},{"$f":"FTImport!J38","v":""},{"$f":"FTImport!K38","v":""},{"$f":"FTImport!G38","v":""}]
[{"$f":"FTImport!A39","v":""},{"$f":"IF('Measure Summary'!A51=\"\",\"\",'Measure Summary'!A51)","v":""},{"$f":"FTImport!B39","v":""},{"$f":"FTImport!D39","v":""},{"$f":"FTImport!F39","v":""},{"$f":"FTImport!I39","v":""},{"$f":"FTImport!J39","v":""},{"$f":"FTImport!K39","v":""},{"$f":"FTImport!G39","v":""}]
[{"$f":"FTImport!A40","v":""},{"$f":"IF('Measure Summary'!A52=\"\",\"\",'Measure Summary'!A52)","v":""},{"$f":"FTImport!B40","v":""},{"$f":"FTImport!D40","v":""},{"$f":"FTImport!F40","v":""},{"$f":"FTImport!I40","v":""},{"$f":"FTImport!J40","v":""},{"$f":"FTImport!K40","v":""},{"$f":"FTImport!G40","v":""}]
[{"$f":"FTImport!A41","v":""},{"$f":"IF('Measure Summary'!A53=\"\",\"\",'Measure Summary'!A53)","v":""},{"$f":"FTImport!B41","v":""},{"$f":"FTImport!D41","v":""},{"$f":"FTImport!F41","v":""},{"$f":"FTImport!I41","v":""},{"$f":"FTImport!J41","v":""},{"$f":"FTImport!K41","v":""},{"$f":"FTImport!G41","v":""}]
[{"$f":"FTImport!A42","v":""},{"$f":"IF('Measure Summary'!A54=\"\",\"\",'Measure Summary'!A54)","v":""},{"$f":"FTImport!B42","v":""},{"$f":"FTImport!D42","v":""},{"$f":"FTImport!F42","v":""},{"$f":"FTImport!I42","v":""},{"$f":"FTImport!J42","v":""},{"$f":"FTImport!K42","v":""},{"$f":"FTImport!G42","v":""}]
[{"$f":"FTImport!A43","v":""},{"$f":"IF('Measure Summary'!A55=\"\",\"\",'Measure Summary'!A55)","v":""},{"$f":"FTImport!B43","v":""},{"$f":"FTImport!D43","v":""},{"$f":"FTImport!F43","v":""},{"$f":"FTImport!I43","v":""},{"$f":"FTImport!J43","v":""},{"$f":"FTImport!K43","v":""},{"$f":"FTImport!G43","v":""}]
[{"$f":"FTImport!A44","v":""},{"$f":"IF('Measure Summary'!A56=\"\",\"\",'Measure Summary'!A56)","v":""},{"$f":"FTImport!B44","v":""},{"$f":"FTImport!D44","v":""},{"$f":"FTImport!F44","v":""},{"$f":"FTImport!I44","v":""},{"$f":"FTImport!J44","v":""},{"$f":"FTImport!K44","v":""},{"$f":"FTImport!G44","v":""}]
[{"$f":"FTImport!A45","v":""},{"$f":"IF('Measure Summary'!A57=\"\",\"\",'Measure Summary'!A57)","v":""},{"$f":"FTImport!B45","v":""},{"$f":"FTImport!D45","v":""},{"$f":"FTImport!F45","v":""},{"$f":"FTImport!I45","v":""},{"$f":"FTImport!J45","v":""},{"$f":"FTImport!K45","v":""},{"$f":"FTImport!G45","v":""}]
[{"$f":"FTImport!A46","v":""},{"$f":"IF('Measure Summary'!A58=\"\",\"\",'Measure Summary'!A58)","v":""},{"$f":"FTImport!B46","v":""},{"$f":"FTImport!D46","v":""},{"$f":"FTImport!F46","v":""},{"$f":"FTImport!I46","v":""},{"$f":"FTImport!J46","v":""},{"$f":"FTImport!K46","v":""},{"$f":"FTImport!G46","v":""}]
[{"$f":"FTImport!A47","v":""},{"$f":"IF('Measure Summary'!A59=\"\",\"\",'Measure Summary'!A59)","v":""},{"$f":"FTImport!B47","v":""},{"$f":"FTImport!D47","v":""},{"$f":"FTImport!F47","v":""},{"$f":"FTImport!I47","v":""},{"$f":"FTImport!J47","v":""},{"$f":"FTImport!K47","v":""},{"$f":"FTImport!G47","v":""}]
[{"$f":"FTImport!A48","v":""},{"$f":"IF('Measure Summary'!A60=\"\",\"\",'Measure Summary'!A60)","v":""},{"$f":"FTImport!B48","v":""},{"$f":"FTImport!D48","v":""},{"$f":"FTImport!F48","v":""},{"$f":"FTImport!I48","v":""},{"$f":"FTImport!J48","v":""},{"$f":"FTImport!K48","v":""},{"$f":"FTImport!G48","v":""}]
[{"$f":"FTImport!A49","v":""},{"$f":"IF('Measure Summary'!A61=\"\",\"\",'Measure Summary'!A61)","v":""},{"$f":"FTImport!B49","v":""},{"$f":"FTImport!D49","v":""},{"$f":"FTImport!F49","v":""},{"$f":"FTImport!I49","v":""},{"$f":"FTImport!J49","v":""},{"$f":"FTImport!K49","v":""},{"$f":"FTImport!G49","v":""}]
[{"$f":"FTImport!A50","v":""},{"$f":"IF('Measure Summary'!A62=\"\",\"\",'Measure Summary'!A62)","v":""},{"$f":"FTImport!B50","v":""},{"$f":"FTImport!D50","v":""},{"$f":"FTImport!F50","v":""},{"$f":"FTImport!I50","v":""},{"$f":"FTImport!J50","v":""},{"$f":"FTImport!K50","v":""},{"$f":"FTImport!G50","v":""}]
[{"$f":"FTImport!A51","v":""},{"$f":"IF('Measure Summary'!A63=\"\",\"\",'Measure Summary'!A63)","v":""},{"$f":"FTImport!B51","v":""},{"$f":"FTImport!D51","v":""},{"$f":"FTImport!F51","v":""},{"$f":"FTImport!I51","v":""},{"$f":"FTImport!J51","v":""},{"$f":"FTImport!K51","v":""},{"$f":"FTImport!G51","v":""}]
[{"$f":"FTImport!A52","v":""},{"$f":"IF('Measure Summary'!A64=\"\",\"\",'Measure Summary'!A64)","v":""},{"$f":"FTImport!B52","v":""},{"$f":"FTImport!D52","v":""},{"$f":"FTImport!F52","v":""},{"$f":"FTImport!I52","v":""},{"$f":"FTImport!J52","v":""},{"$f":"FTImport!K52","v":""},{"$f":"FTImport!G52","v":""}]
[{"$f":"FTImport!A53","v":""},{"$f":"IF('Measure Summary'!A65=\"\",\"\",'Measure Summary'!A65)","v":""},{"$f":"FTImport!B53","v":""},{"$f":"FTImport!D53","v":""},{"$f":"FTImport!F53","v":""},{"$f":"FTImport!I53","v":""},{"$f":"FTImport!J53","v":""},{"$f":"FTImport!K53","v":""},{"$f":"FTImport!G53","v":""}]
[{"$f":"FTImport!A54","v":""},{"$f":"IF('Measure Summary'!A66=\"\",\"\",'Measure Summary'!A66)","v":""},{"$f":"FTImport!B54","v":""},{"$f":"FTImport!D54","v":""},{"$f":"FTImport!F54","v":""},{"$f":"FTImport!I54","v":""},{"$f":"FTImport!J54","v":""},{"$f":"FTImport!K54","v":""},{"$f":"FTImport!G54","v":""}]
[{"$f":"FTImport!A55","v":""},{"$f":"IF('Measure Summary'!A67=\"\",\"\",'Measure Summary'!A67)","v":""},{"$f":"FTImport!B55","v":""},{"$f":"FTImport!D55","v":""},{"$f":"FTImport!F55","v":""},{"$f":"FTImport!I55","v":""},{"$f":"FTImport!J55","v":""},{"$f":"FTImport!K55","v":""},{"$f":"FTImport!G55","v":""}]
[{"$f":"FTImport!A56","v":""},{"$f":"IF('Measure Summary'!A68=\"\",\"\",'Measure Summary'!A68)","v":""},{"$f":"FTImport!B56","v":""},{"$f":"FTImport!D56","v":""},{"$f":"FTImport!F56","v":""},{"$f":"FTImport!I56","v":""},{"$f":"FTImport!J56","v":""},{"$f":"FTImport!K56","v":""},{"$f":"FTImport!G56","v":""}]
[{"$f":"FTImport!A57","v":""},{"$f":"IF('Measure Summary'!A69=\"\",\"\",'Measure Summary'!A69)","v":""},{"$f":"FTImport!B57","v":""},{"$f":"FTImport!D57","v":""},{"$f":"FTImport!F57","v":""},{"$f":"FTImport!I57","v":""},{"$f":"FTImport!J57","v":""},{"$f":"FTImport!K57","v":""},{"$f":"FTImport!G57","v":""}]
[{"$f":"FTImport!A58","v":""},{"$f":"IF('Measure Summary'!A70=\"\",\"\",'Measure Summary'!A70)","v":""},{"$f":"FTImport!B58","v":""},{"$f":"FTImport!D58","v":""},{"$f":"FTImport!F58","v":""},{"$f":"FTImport!I58","v":""},{"$f":"FTImport!J58","v":""},{"$f":"FTImport!K58","v":""},{"$f":"FTImport!G58","v":""}]
[{"$f":"FTImport!A59","v":""},{"$f":"IF('Measure Summary'!A71=\"\",\"\",'Measure Summary'!A71)","v":""},{"$f":"FTImport!B59","v":""},{"$f":"FTImport!D59","v":""},{"$f":"FTImport!F59","v":""},{"$f":"FTImport!I59","v":""},{"$f":"FTImport!J59","v":""},{"$f":"FTImport!K59","v":""},{"$f":"FTImport!G59","v":""}]
[{"$f":"FTImport!A60","v":""},{"$f":"IF('Measure Summary'!A72=\"\",\"\",'Measure Summary'!A72)","v":""},{"$f":"FTImport!B60","v":""},{"$f":"FTImport!D60","v":""},{"$f":"FTImport!F60","v":""},{"$f":"FTImport!I60","v":""},{"$f":"FTImport!J60","v":""},{"$f":"FTImport!K60","v":""},{"$f":"FTImport!G60","v":""}]
[{"$f":"FTImport!A61","v":""},{"$f":"IF('Measure Summary'!A73=\"\",\"\",'Measure Summary'!A73)","v":""},{"$f":"FTImport!B61","v":""},{"$f":"FTImport!D61","v":""},{"$f":"FTImport!F61","v":""},{"$f":"FTImport!I61","v":""},{"$f":"FTImport!J61","v":""},{"$f":"FTImport!K61","v":""},{"$f":"FTImport!G61","v":""}]
[{"$f":"FTImport!A62","v":""},{"$f":"IF('Measure Summary'!A74=\"\",\"\",'Measure Summary'!A74)","v":""},{"$f":"FTImport!B62","v":""},{"$f":"FTImport!D62","v":""},{"$f":"FTImport!F62","v":""},{"$f":"FTImport!I62","v":""},{"$f":"FTImport!J62","v":""},{"$f":"FTImport!K62","v":""},{"$f":"FTImport!G62","v":""}]
[{"$f":"FTImport!A63","v":""},{"$f":"IF('Measure Summary'!A75=\"\",\"\",'Measure Summary'!A75)","v":""},{"$f":"FTImport!B63","v":""},{"$f":"FTImport!D63","v":""},{"$f":"FTImport!F63","v":""},{"$f":"FTImport!I63","v":""},{"$f":"FTImport!J63","v":""},{"$f":"FTImport!K63","v":""},{"$f":"FTImport!G63","v":""}]
[{"$f":"FTImport!A64","v":""},{"$f":"IF('Measure Summary'!A76=\"\",\"\",'Measure Summary'!A76)","v":""},{"$f":"FTImport!B64","v":""},{"$f":"FTImport!D64","v":""},{"$f":"FTImport!F64","v":""},{"$f":"FTImport!I64","v":""},{"$f":"FTImport!J64","v":""},{"$f":"FTImport!K64","v":""},{"$f":"FTImport!G64","v":""}]
[{"$f":"FTImport!A65","v":""},{"$f":"IF('Measure Summary'!A77=\"\",\"\",'Measure Summary'!A77)","v":""},{"$f":"FTImport!B65","v":""},{"$f":"FTImport!D65","v":""},{"$f":"FTImport!F65","v":""},{"$f":"FTImport!I65","v":""},{"$f":"FTImport!J65","v":""},{"$f":"FTImport!K65","v":""},{"$f":"FTImport!G65","v":""}]
[{"$f":"FTImport!A66","v":""},{"$f":"IF('Measure Summary'!A78=\"\",\"\",'Measure Summary'!A78)","v":""},{"$f":"FTImport!B66","v":""},{"$f":"FTImport!D66","v":""},{"$f":"FTImport!F66","v":""},{"$f":"FTImport!I66","v":""},{"$f":"FTImport!J66","v":""},{"$f":"FTImport!K66","v":""},{"$f":"FTImport!G66","v":""}]
[{"$f":"FTImport!A67","v":""},{"$f":"IF('Measure Summary'!A79=\"\",\"\",'Measure Summary'!A79)","v":""},{"$f":"FTImport!B67","v":""},{"$f":"FTImport!D67","v":""},{"$f":"FTImport!F67","v":""},{"$f":"FTImport!I67","v":""},{"$f":"FTImport!J67","v":""},{"$f":"FTImport!K67","v":""},{"$f":"FTImport!G67","v":""}]
[{"$f":"FTImport!A68","v":""},{"$f":"IF('Measure Summary'!A80=\"\",\"\",'Measure Summary'!A80)","v":""},{"$f":"FTImport!B68","v":""},{"$f":"FTImport!D68","v":""},{"$f":"FTImport!F68","v":""},{"$f":"FTImport!I68","v":""},{"$f":"FTImport!J68","v":""},{"$f":"FTImport!K68","v":""},{"$f":"FTImport!G68","v":""}]
[{"$f":"FTImport!A69","v":""},{"$f":"IF('Measure Summary'!A81=\"\",\"\",'Measure Summary'!A81)","v":""},{"$f":"FTImport!B69","v":""},{"$f":"FTImport!D69","v":""},{"$f":"FTImport!F69","v":""},{"$f":"FTImport!I69","v":""},{"$f":"FTImport!J69","v":""},{"$f":"FTImport!K69","v":""},{"$f":"FTImport!G69","v":""}]
[{"$f":"FTImport!A70","v":""},{"$f":"IF('Measure Summary'!A82=\"\",\"\",'Measure Summary'!A82)","v":""},{"$f":"FTImport!B70","v":""},{"$f":"FTImport!D70","v":""},{"$f":"FTImport!F70","v":""},{"$f":"FTImport!I70","v":""},{"$f":"FTImport!J70","v":""},{"$f":"FTImport!K70","v":""},{"$f":"FTImport!G70","v":""}]
[{"$f":"FTImport!A71","v":""},{"$f":"IF('Measure Summary'!A83=\"\",\"\",'Measure Summary'!A83)","v":""},{"$f":"FTImport!B71","v":""},{"$f":"FTImport!D71","v":""},{"$f":"FTImport!F71","v":""},{"$f":"FTImport!I71","v":""},{"$f":"FTImport!J71","v":""},{"$f":"FTImport!K71","v":""},{"$f":"FTImport!G71","v":""}]
[{"$f":"FTImport!A72","v":""},{"$f":"IF('Measure Summary'!A84=\"\",\"\",'Measure Summary'!A84)","v":""},{"$f":"FTImport!B72","v":""},{"$f":"FTImport!D72","v":""},{"$f":"FTImport!F72","v":""},{"$f":"FTImport!I72","v":""},{"$f":"FTImport!J72","v":""},{"$f":"FTImport!K72","v":""},{"$f":"FTImport!G72","v":""}]
[{"$f":"FTImport!A73","v":""},{"$f":"IF('Measure Summary'!A85=\"\",\"\",'Measure Summary'!A85)","v":""},{"$f":"FTImport!B73","v":""},{"$f":"FTImport!D73","v":""},{"$f":"FTImport!F73","v":""},{"$f":"FTImport!I73","v":""},{"$f":"FTImport!J73","v":""},{"$f":"FTImport!K73","v":""},{"$f":"FTImport!G73","v":""}]
[{"$f":"FTImport!A74","v":""},{"$f":"IF('Measure Summary'!A86=\"\",\"\",'Measure Summary'!A86)","v":""},{"$f":"FTImport!B74","v":""},{"$f":"FTImport!D74","v":""},{"$f":"FTImport!F74","v":""},{"$f":"FTImport!I74","v":""},{"$f":"FTImport!J74","v":""},{"$f":"FTImport!K74","v":""},{"$f":"FTImport!G74","v":""}]
[{"$f":"FTImport!A75","v":""},{"$f":"IF('Measure Summary'!A87=\"\",\"\",'Measure Summary'!A87)","v":""},{"$f":"FTImport!B75","v":""},{"$f":"FTImport!D75","v":""},{"$f":"FTImport!F75","v":""},{"$f":"FTImport!I75","v":""},{"$f":"FTImport!J75","v":""},{"$f":"FTImport!K75","v":""},{"$f":"FTImport!G75","v":""}]
[{"$f":"FTImport!A76","v":""},{"$f":"IF('Measure Summary'!A88=\"\",\"\",'Measure Summary'!A88)","v":""},{"$f":"FTImport!B76","v":""},{"$f":"FTImport!D76","v":""},{"$f":"FTImport!F76","v":""},{"$f":"FTImport!I76","v":""},{"$f":"FTImport!J76","v":""},{"$f":"FTImport!K76","v":""},{"$f":"FTImport!G76","v":""}]
[{"$f":"FTImport!A77","v":""},{"$f":"IF('Measure Summary'!A89=\"\",\"\",'Measure Summary'!A89)","v":""},{"$f":"FTImport!B77","v":""},{"$f":"FTImport!D77","v":""},{"$f":"FTImport!F77","v":""},{"$f":"FTImport!I77","v":""},{"$f":"FTImport!J77","v":""},{"$f":"FTImport!K77","v":""},{"$f":"FTImport!G77","v":""}]
[{"$f":"FTImport!A78","v":""},{"$f":"IF('Measure Summary'!A90=\"\",\"\",'Measure Summary'!A90)","v":""},{"$f":"FTImport!B78","v":""},{"$f":"FTImport!D78","v":""},{"$f":"FTImport!F78","v":""},{"$f":"FTImport!I78","v":""},{"$f":"FTImport!J78","v":""},{"$f":"FTImport!K78","v":""},{"$f":"FTImport!G78","v":""}]
[{"$f":"FTImport!A79","v":""},{"$f":"IF('Measure Summary'!A91=\"\",\"\",'Measure Summary'!A91)","v":""},{"$f":"FTImport!B79","v":""},{"$f":"FTImport!D79","v":""},{"$f":"FTImport!F79","v":""},{"$f":"FTImport!I79","v":""},{"$f":"FTImport!J79","v":""},{"$f":"FTImport!K79","v":""},{"$f":"FTImport!G79","v":""}]
[{"$f":"FTImport!A80","v":""},{"$f":"IF('Measure Summary'!A92=\"\",\"\",'Measure Summary'!A92)","v":""},{"$f":"FTImport!B80","v":""},{"$f":"FTImport!D80","v":""},{"$f":"FTImport!F80","v":""},{"$f":"FTImport!I80","v":""},{"$f":"FTImport!J80","v":""},{"$f":"FTImport!K80","v":""},{"$f":"FTImport!G80","v":""}]
[{"$f":"FTImport!A81","v":""},{"$f":"IF('Measure Summary'!A93=\"\",\"\",'Measure Summary'!A93)","v":""},{"$f":"FTImport!B81","v":""},{"$f":"FTImport!D81","v":""},{"$f":"FTImport!F81","v":""},{"$f":"FTImport!I81","v":""},{"$f":"FTImport!J81","v":""},{"$f":"FTImport!K81","v":""},{"$f":"FTImport!G81","v":""}]
[{"$f":"FTImport!A82","v":""},{"$f":"IF('Measure Summary'!A94=\"\",\"\",'Measure Summary'!A94)","v":""},{"$f":"FTImport!B82","v":""},{"$f":"FTImport!D82","v":""},{"$f":"FTImport!F82","v":""},{"$f":"FTImport!I82","v":""},{"$f":"FTImport!J82","v":""},{"$f":"FTImport!K82","v":""},{"$f":"FTImport!G82","v":""}]
[{"$f":"FTImport!A83","v":""},{"$f":"IF('Measure Summary'!A95=\"\",\"\",'Measure Summary'!A95)","v":""},{"$f":"FTImport!B83","v":""},{"$f":"FTImport!D83","v":""},{"$f":"FTImport!F83","v":""},{"$f":"FTImport!I83","v":""},{"$f":"FTImport!J83","v":""},{"$f":"FTImport!K83","v":""},{"$f":"FTImport!G83","v":""}]
[{"$f":"FTImport!A84","v":""},{"$f":"IF('Measure Summary'!A96=\"\",\"\",'Measure Summary'!A96)","v":""},{"$f":"FTImport!B84","v":""},{"$f":"FTImport!D84","v":""},{"$f":"FTImport!F84","v":""},{"$f":"FTImport!I84","v":""},{"$f":"FTImport!J84","v":""},{"$f":"FTImport!K84","v":""},{"$f":"FTImport!G84","v":""}]
[{"$f":"FTImport!A85","v":""},{"$f":"IF('Measure Summary'!A97=\"\",\"\",'Measure Summary'!A97)","v":""},{"$f":"FTImport!B85","v":""},{"$f":"FTImport!D85","v":""},{"$f":"FTImport!F85","v":""},{"$f":"FTImport!I85","v":""},{"$f":"FTImport!J85","v":""},{"$f":"FTImport!K85","v":""},{"$f":"FTImport!G85","v":""}]
[{"$f":"FTImport!A86","v":""},{"$f":"IF('Measure Summary'!A98=\"\",\"\",'Measure Summary'!A98)","v":""},{"$f":"FTImport!B86","v":""},{"$f":"FTImport!D86","v":""},{"$f":"FTImport!F86","v":""},{"$f":"FTImport!I86","v":""},{"$f":"FTImport!J86","v":""},{"$f":"FTImport!K86","v":""},{"$f":"FTImport!G86","v":""}]
[{"$f":"FTImport!A87","v":""},{"$f":"IF('Measure Summary'!A99=\"\",\"\",'Measure Summary'!A99)","v":""},{"$f":"FTImport!B87","v":""},{"$f":"FTImport!D87","v":""},{"$f":"FTImport!F87","v":""},{"$f":"FTImport!I87","v":""},{"$f":"FTImport!J87","v":""},{"$f":"FTImport!K87","v":""},{"$f":"FTImport!G87","v":""}]
[{"$f":"FTImport!A88","v":""},{"$f":"IF('Measure Summary'!A100=\"\",\"\",'Measure Summary'!A100)","v":""},{"$f":"FTImport!B88","v":""},{"$f":"FTImport!D88","v":""},{"$f":"FTImport!F88","v":""},{"$f":"FTImport!I88","v":""},{"$f":"FTImport!J88","v":""},{"$f":"FTImport!K88","v":""},{"$f":"FTImport!G88","v":""}]
[{"$f":"FTImport!A89","v":""},{"$f":"IF('Measure Summary'!A101=\"\",\"\",'Measure Summary'!A101)","v":""},{"$f":"FTImport!B89","v":""},{"$f":"FTImport!D89","v":""},{"$f":"FTImport!F89","v":""},{"$f":"FTImport!I89","v":""},{"$f":"FTImport!J89","v":""},{"$f":"FTImport!K89","v":""},{"$f":"FTImport!G89","v":""}]
[{"$f":"FTImport!A90","v":""},{"$f":"IF('Measure Summary'!A102=\"\",\"\",'Measure Summary'!A102)","v":""},{"$f":"FTImport!B90","v":""},{"$f":"FTImport!D90","v":""},{"$f":"FTImport!F90","v":""},{"$f":"FTImport!I90","v":""},{"$f":"FTImport!J90","v":""},{"$f":"FTImport!K90","v":""},{"$f":"FTImport!G90","v":""}]
[{"$f":"FTImport!A91","v":""},{"$f":"IF('Measure Summary'!A103=\"\",\"\",'Measure Summary'!A103)","v":""},{"$f":"FTImport!B91","v":""},{"$f":"FTImport!D91","v":""},{"$f":"FTImport!F91","v":""},{"$f":"FTImport!I91","v":""},{"$f":"FTImport!J91","v":""},{"$f":"FTImport!K91","v":""},{"$f":"FTImport!G91","v":""}]
[{"$f":"FTImport!A92","v":""},{"$f":"IF('Measure Summary'!A104=\"\",\"\",'Measure Summary'!A104)","v":""},{"$f":"FTImport!B92","v":""},{"$f":"FTImport!D92","v":""},{"$f":"FTImport!F92","v":""},{"$f":"FTImport!I92","v":""},{"$f":"FTImport!J92","v":""},{"$f":"FTImport!K92","v":""},{"$f":"FTImport!G92","v":""}]
[{"$f":"FTImport!A93","v":""},{"$f":"IF('Measure Summary'!A105=\"\",\"\",'Measure Summary'!A105)","v":""},{"$f":"FTImport!B93","v":""},{"$f":"FTImport!D93","v":""},{"$f":"FTImport!F93","v":""},{"$f":"FTImport!I93","v":""},{"$f":"FTImport!J93","v":""},{"$f":"FTImport!K93","v":""},{"$f":"FTImport!G93","v":""}]
[{"$f":"FTImport!A94","v":""},{"$f":"IF('Measure Summary'!A106=\"\",\"\",'Measure Summary'!A106)","v":""},{"$f":"FTImport!B94","v":""},{"$f":"FTImport!D94","v":""},{"$f":"FTImport!F94","v":""},{"$f":"FTImport!I94","v":""},{"$f":"FTImport!J94","v":""},{"$f":"FTImport!K94","v":""},{"$f":"FTImport!G94","v":""}]
[{"$f":"FTImport!A95","v":""},{"$f":"IF('Measure Summary'!A107=\"\",\"\",'Measure Summary'!A107)","v":""},{"$f":"FTImport!B95","v":""},{"$f":"FTImport!D95","v":""},{"$f":"FTImport!F95","v":""},{"$f":"FTImport!I95","v":""},{"$f":"FTImport!J95","v":""},{"$f":"FTImport!K95","v":""},{"$f":"FTImport!G95","v":""}]
[{"$f":"FTImport!A96","v":""},{"$f":"IF('Measure Summary'!A108=\"\",\"\",'Measure Summary'!A108)","v":""},{"$f":"FTImport!B96","v":""},{"$f":"FTImport!D96","v":""},{"$f":"FTImport!F96","v":""},{"$f":"FTImport!I96","v":""},{"$f":"FTImport!J96","v":""},{"$f":"FTImport!K96","v":""},{"$f":"FTImport!G96","v":""}]
[{"$f":"FTImport!A97","v":""},{"$f":"IF('Measure Summary'!A109=\"\",\"\",'Measure Summary'!A109)","v":""},{"$f":"FTImport!B97","v":""},{"$f":"FTImport!D97","v":""},{"$f":"FTImport!F97","v":""},{"$f":"FTImport!I97","v":""},{"$f":"FTImport!J97","v":""},{"$f":"FTImport!K97","v":""},{"$f":"FTImport!G97","v":""}]
[{"$f":"FTImport!A98","v":""},{"$f":"IF('Measure Summary'!A110=\"\",\"\",'Measure Summary'!A110)","v":""},{"$f":"FTImport!B98","v":""},{"$f":"FTImport!D98","v":""},{"$f":"FTImport!F98","v":""},{"$f":"FTImport!I98","v":""},{"$f":"FTImport!J98","v":""},{"$f":"FTImport!K98","v":""},{"$f":"FTImport!G98","v":""}]
[{"$f":"FTImport!A99","v":""},{"$f":"IF('Measure Summary'!A111=\"\",\"\",'Measure Summary'!A111)","v":""},{"$f":"FTImport!B99","v":""},{"$f":"FTImport!D99","v":""},{"$f":"FTImport!F99","v":""},{"$f":"FTImport!I99","v":""},{"$f":"FTImport!J99","v":""},{"$f":"FTImport!K99","v":""},{"$f":"FTImport!G99","v":""}]
[{"$f":"FTImport!A100","v":""},{"$f":"IF('Measure Summary'!A112=\"\",\"\",'Measure Summary'!A112)","v":""},{"$f":"FTImport!B100","v":""},{"$f":"FTImport!D100","v":""},{"$f":"FTImport!F100","v":""},{"$f":"FTImport!I100","v":""},{"$f":"FTImport!J100","v":""},{"$f":"FTImport!K100","v":""},{"$f":"FTImport!G100","v":""}]
[{"$f":"FTImport!A101","v":""},{"$f":"IF('Measure Summary'!A113=\"\",\"\",'Measure Summary'!A113)","v":""},{"$f":"FTImport!B101","v":""},{"$f":"FTImport!D101","v":""},{"$f":"FTImport!F101","v":""},{"$f":"FTImport!I101","v":""},{"$f":"FTImport!J101","v":""},{"$f":"FTImport!K101","v":""},{"$f":"FTImport!G101","v":""}]
[{"$f":"FTImport!A102","v":""},{"$f":"IF('Measure Summary'!A114=\"\",\"\",'Measure Summary'!A114)","v":""},{"$f":"FTImport!B102","v":""},{"$f":"FTImport!D102","v":""},{"$f":"FTImport!F102","v":""},{"$f":"FTImport!I102","v":""},{"$f":"FTImport!J102","v":""},{"$f":"FTImport!K102","v":""},{"$f":"FTImport!G102","v":""}]
[{"$f":"FTImport!A103","v":""},{"$f":"IF('Measure Summary'!A115=\"\",\"\",'Measure Summary'!A115)","v":""},{"$f":"FTImport!B103","v":""},{"$f":"FTImport!D103","v":""},{"$f":"FTImport!F103","v":""},{"$f":"FTImport!I103","v":""},{"$f":"FTImport!J103","v":""},{"$f":"FTImport!K103","v":""},{"$f":"FTImport!G103","v":""}]
[{"$f":"FTImport!A104","v":""},{"$f":"IF('Measure Summary'!A116=\"\",\"\",'Measure Summary'!A116)","v":""},{"$f":"FTImport!B104","v":""},{"$f":"FTImport!D104","v":""},{"$f":"FTImport!F104","v":""},{"$f":"FTImport!I104","v":""},{"$f":"FTImport!J104","v":""},{"$f":"FTImport!K104","v":""},{"$f":"FTImport!G104","v":""}]
[{"$f":"FTImport!A105","v":""},{"$f":"IF('Measure Summary'!A117=\"\",\"\",'Measure Summary'!A117)","v":""},{"$f":"FTImport!B105","v":""},{"$f":"FTImport!D105","v":""},{"$f":"FTImport!F105","v":""},{"$f":"FTImport!I105","v":""},{"$f":"FTImport!J105","v":""},{"$f":"FTImport!K105","v":""},{"$f":"FTImport!G105","v":""}]
[{"$f":"FTImport!A106","v":""},{"$f":"IF('Measure Summary'!A118=\"\",\"\",'Measure Summary'!A118)","v":""},{"$f":"FTImport!B106","v":""},{"$f":"FTImport!D106","v":""},{"$f":"FTImport!F106","v":""},{"$f":"FTImport!I106","v":""},{"$f":"FTImport!J106","v":""},{"$f":"FTImport!K106","v":""},{"$f":"FTImport!G106","v":""}]
[{"$f":"FTImport!A107","v":""},{"$f":"IF('Measure Summary'!A119=\"\",\"\",'Measure Summary'!A119)","v":""},{"$f":"FTImport!B107","v":""},{"$f":"FTImport!D107","v":""},{"$f":"FTImport!F107","v":""},{"$f":"FTImport!I107","v":""},{"$f":"FTImport!J107","v":""},{"$f":"FTImport!K107","v":""},{"$f":"FTImport!G107","v":""}]
[{"$f":"FTImport!A108","v":""},{"$f":"IF('Measure Summary'!A120=\"\",\"\",'Measure Summary'!A120)","v":""},{"$f":"FTImport!B108","v":""},{"$f":"FTImport!D108","v":""},{"$f":"FTImport!F108","v":""},{"$f":"FTImport!I108","v":""},{"$f":"FTImport!J108","v":""},{"$f":"FTImport!K108","v":""},{"$f":"FTImport!G108","v":""}]
[{"$f":"FTImport!A109","v":""},{"$f":"IF('Measure Summary'!A121=\"\",\"\",'Measure Summary'!A121)","v":""},{"$f":"FTImport!B109","v":""},{"$f":"FTImport!D109","v":""},{"$f":"FTImport!F109","v":""},{"$f":"FTImport!I109","v":""},{"$f":"FTImport!J109","v":""},{"$f":"FTImport!K109","v":""},{"$f":"FTImport!G109","v":""}]
[{"$f":"FTImport!A110","v":""},{"$f":"IF('Measure Summary'!A122=\"\",\"\",'Measure Summary'!A122)","v":""},{"$f":"FTImport!B110","v":""},{"$f":"FTImport!D110","v":""},{"$f":"FTImport!F110","v":""},{"$f":"FTImport!I110","v":""},{"$f":"FTImport!J110","v":""},{"$f":"FTImport!K110","v":""},{"$f":"FTImport!G110","v":""}]
[{"$f":"FTImport!A111","v":""},{"$f":"IF('Measure Summary'!A123=\"\",\"\",'Measure Summary'!A123)","v":""},{"$f":"FTImport!B111","v":""},{"$f":"FTImport!D111","v":""},{"$f":"FTImport!F111","v":""},{"$f":"FTImport!I111","v":""},{"$f":"FTImport!J111","v":""},{"$f":"FTImport!K111","v":""},{"$f":"FTImport!G111","v":""}]
[{"$f":"FTImport!A112","v":""},{"$f":"IF('Measure Summary'!A124=\"\",\"\",'Measure Summary'!A124)","v":""},{"$f":"FTImport!B112","v":""},{"$f":"FTImport!D112","v":""},{"$f":"FTImport!F112","v":""},{"$f":"FTImport!I112","v":""},{"$f":"FTImport!J112","v":""},{"$f":"FTImport!K112","v":""},{"$f":"FTImport!G112","v":""}]
[]
[]
[]
[]
[]
[]
[]
[]
[]
[]
[]
[]
[]
[]
[]
[]
["AEG Export Data"]
["Measure #","Import?","Quantity","Equipment_Cost","Elec_Util_cust_incentive","kwh_impact","LP_Ele","Date_Installed"]
[{"$f":"'PT Summary'!A8","v":""},{"$f":"IF(D137=\"\",\"No\",IF(D137>=0,\"Yes\",\"No\"))","v":"No"},{"$f":"'PT Summary'!C8","v":""},{"$f":"'PT Summary'!D8","v":""},{"$f":"'PT Summary'!E8","v":""},{"$f":"'PT Summary'!F8","v":""},{"$f":"'PT Summary'!H8","v":""},{"$f":"TEXT('PT Summary'!I8,\"MM/DD/YYYY\")","v":""}]
[{"$f":"'PT Summary'!A9","v":""},{"$f":"IF(D138=\"\",\"No\",IF(D138>=0,\"Yes\",\"No\"))","v":"No"},{"$f":"'PT Summary'!C9","v":""},{"$f":"'PT Summary'!D9","v":""},{"$f":"'PT Summary'!E9","v":""},{"$f":"'PT Summary'!F9","v":""},{"$f":"'PT Summary'!H9","v":""},{"$f":"TEXT('PT Summary'!I9,\"MM/DD/YYYY\")","v":""}]
[{"$f":"'PT Summary'!A10","v":""},"No",{"$f":"'PT Summary'!C10","v":""},{"$f":"'PT Summary'!D10","v":""},{"$f":"'PT Summary'!E10","v":""},{"$f":"'PT Summary'!F10","v":""},{"$f":"'PT Summary'!H10","v":""},{"$f":"TEXT('PT Summary'!I10,\"MM/DD/YYYY\")","v":""}]
[{"$f":"'PT Summary'!A11","v":""},"No",{"$f":"'PT Summary'!C11","v":""},{"$f":"'PT Summary'!D11","v":""},{"$f":"'PT Summary'!E11","v":""},{"$f":"'PT Summary'!F11","v":""},{"$f":"'PT Summary'!H11","v":""},{"$f":"TEXT('PT Summary'!I11,\"MM/DD/YYYY\")","v":""}]
[{"$f":"'PT Summary'!A12","v":""},"No",{"$f":"'PT Summary'!C12","v":""},{"$f":"'PT Summary'!D12","v":""},{"$f":"'PT Summary'!E12","v":""},{"$f":"'PT Summary'!F12","v":""},{"$f":"'PT Summary'!H12","v":""},{"$f":"TEXT('PT Summary'!I12,\"MM/DD/YYYY\")","v":""}]
[{"$f":"'PT Summary'!A13","v":""},"No",{"$f":"'PT Summary'!C13","v":""},{"$f":"'PT Summary'!D13","v":""},{"$f":"'PT Summary'!E13","v":""},{"$f":"'PT Summary'!F13","v":""},{"$f":"'PT Summary'!H13","v":""},{"$f":"TEXT('PT Summary'!I13,\"MM/DD/YYYY\")","v":""}]
[{"$f":"'PT Summary'!A14","v":""},"No",{"$f":"'PT Summary'!C14","v":""},{"$f":"'PT Summary'!D14","v":""},{"$f":"'PT Summary'!E14","v":""},{"$f":"'PT Summary'!F14","v":""},{"$f":"'PT Summary'!H14","v":""},{"$f":"TEXT('PT Summary'!I14,\"MM/DD/YYYY\")","v":""}]
[{"$f":"'PT Summary'!A15","v":""},"No",{"$f":"'PT Summary'!C15","v":""},{"$f":"'PT Summary'!D15","v":""},{"$f":"'PT Summary'!E15","v":""},{"$f":"'PT Summary'!F15","v":""},{"$f":"'PT Summary'!H15","v":""},{"$f":"TEXT('PT Summary'!I15,\"MM/DD/YYYY\")","v":""}]
[{"$f":"'PT Summary'!A16","v":""},"No",{"$f":"'PT Summary'!C16","v":""},{"$f":"'PT Summary'!D16","v":""},{"$f":"'PT Summary'!E16","v":""},{"$f":"'PT Summary'!F16","v":""},{"$f":"'PT Summary'!H16","v":""},{"$f":"TEXT('PT Summary'!I16,\"MM/DD/YYYY\")","v":""}]
[{"$f":"'PT Summary'!A17","v":""},"No",{"$f":"'PT Summary'!C17","v":""},{"$f":"'PT Summary'!D17","v":""},{"$f":"'PT Summary'!E17","v":""},{"$f":"'PT Summary'!F17","v":""},{"$f":"'PT Summary'!H17","v":""},{"$f":"TEXT('PT Summary'!I17,\"MM/DD/YYYY\")","v":""}]
[{"$f":"'PT Summary'!A18","v":""},"No",{"$f":"'PT Summary'!C18","v":""},{"$f":"'PT Summary'!D18","v":""},{"$f":"'PT Summary'!E18","v":""},{"$f":"'PT Summary'!F18","v":""},{"$f":"'PT Summary'!H18","v":""},{"$f":"TEXT('PT Summary'!I18,\"MM/DD/YYYY\")","v":""}]
[{"$f":"'PT Summary'!A19","v":""},"No",{"$f":"'PT Summary'!C19","v":""},{"$f":"'PT Summary'!D19","v":""},{"$f":"'PT Summary'!E19","v":""},{"$f":"'PT Summary'!F19","v":""},{"$f":"'PT Summary'!H19","v":""},{"$f":"TEXT('PT Summary'!I19,\"MM/DD/YYYY\")","v":""}]
[{"$f":"'PT Summary'!A20","v":""},"No",{"$f":"'PT Summary'!C20","v":""},{"$f":"'PT Summary'!D20","v":""},{"$f":"'PT Summary'!E20","v":""},{"$f":"'PT Summary'!F20","v":""},{"$f":"'PT Summary'!H20","v":""},{"$f":"TEXT('PT Summary'!I20,\"MM/DD/YYYY\")","v":""}]
[{"$f":"'PT Summary'!A21","v":""},"No",{"$f":"'PT Summary'!C21","v":""},{"$f":"'PT Summary'!D21","v":""},{"$f":"'PT Summary'!E21","v":""},{"$f":"'PT Summary'!F21","v":""},{"$f":"'PT Summary'!H21","v":""},{"$f":"TEXT('PT Summary'!I21,\"MM/DD/YYYY\")","v":""}]
[{"$f":"'PT Summary'!A22","v":""},"No",{"$f":"'PT Summary'!C22","v":""},{"$f":"'PT Summary'!D22","v":""},{"$f":"'PT Summary'!E22","v":""},{"$f":"'PT Summary'!F22","v":""},{"$f":"'PT Summary'!H22","v":""},{"$f":"TEXT('PT Summary'!I22,\"MM/DD/YYYY\")","v":""}]
[{"$f":"'PT Summary'!A23","v":""},"No",{"$f":"'PT Summary'!C23","v":""},{"$f":"'PT Summary'!D23","v":""},{"$f":"'PT Summary'!E23","v":""},{"$f":"'PT Summary'!F23","v":""},{"$f":"'PT Summary'!H23","v":""},{"$f":"TEXT('PT Summary'!I23,\"MM/DD/YYYY\")","v":""}]
[{"$f":"'PT Summary'!A24","v":""},"No",{"$f":"'PT Summary'!C24","v":""},{"$f":"'PT Summary'!D24","v":""},{"$f":"'PT Summary'!E24","v":""},{"$f":"'PT Summary'!F24","v":""},{"$f":"'PT Summary'!H24","v":""},{"$f":"TEXT('PT Summary'!I24,\"MM/DD/YYYY\")","v":""}]
[{"$f":"'PT Summary'!A25","v":""},"No",{"$f":"'PT Summary'!C25","v":""},{"$f":"'PT Summary'!D25","v":""},{"$f":"'PT Summary'!E25","v":""},{"$f":"'PT Summary'!F25","v":""},{"$f":"'PT Summary'!H25","v":""},{"$f":"TEXT('PT Summary'!I25,\"MM/DD/YYYY\")","v":""}]
[{"$f":"'PT Summary'!A26","v":""},"No",{"$f":"'PT Summary'!C26","v":""},{"$f":"'PT Summary'!D26","v":""},{"$f":"'PT Summary'!E26","v":""},{"$f":"'PT Summary'!F26","v":""},{"$f":"'PT Summary'!H26","v":""},{"$f":"TEXT('PT Summary'!I26,\"MM/DD/YYYY\")","v":""}]
[{"$f":"'PT Summary'!A27","v":""},"No",{"$f":"'PT Summary'!C27","v":""},{"$f":"'PT Summary'!D27","v":""},{"$f":"'PT Summary'!E27","v":""},{"$f":"'PT Summary'!F27","v":""},{"$f":"'PT Summary'!H27","v":""},{"$f":"TEXT('PT Summary'!I27,\"MM/DD/YYYY\")","v":""}]
[{"$f":"'PT Summary'!A28","v":""},"No",{"$f":"'PT Summary'!C28","v":""},{"$f":"'PT Summary'!D28","v":""},{"$f":"'PT Summary'!E28","v":""},{"$f":"'PT Summary'!F28","v":""},{"$f":"'PT Summary'!H28","v":""},{"$f":"TEXT('PT Summary'!I28,\"MM/DD/YYYY\")","v":""}]
[{"$f":"'PT Summary'!A29","v":""},"No",{"$f":"'PT Summary'!C29","v":""},{"$f":"'PT Summary'!D29","v":""},{"$f":"'PT Summary'!E29","v":""},{"$f":"'PT Summary'!F29","v":""},{"$f":"'PT Summary'!H29","v":""},{"$f":"TEXT('PT Summary'!I29,\"MM/DD/YYYY\")","v":""}]
[{"$f":"'PT Summary'!A30","v":""},"No",{"$f":"'PT Summary'!C30","v":""},{"$f":"'PT Summary'!D30","v":""},{"$f":"'PT Summary'!E30","v":""},{"$f":"'PT Summary'!F30","v":""},{"$f":"'PT Summary'!H30","v":""},{"$f":"TEXT('PT Summary'!I30,\"MM/DD/YYYY\")","v":""}]
[{"$f":"'PT Summary'!A31","v":""},"No",{"$f":"'PT Summary'!C31","v":""},{"$f":"'PT Summary'!D31","v":""},{"$f":"'PT Summary'!E31","v":""},{"$f":"'PT Summary'!F31","v":""},{"$f":"'PT Summary'!H31","v":""},{"$f":"TEXT('PT Summary'!I31,\"MM/DD/YYYY\")","v":""}]
[{"$f":"'PT Summary'!A32","v":""},"No",{"$f":"'PT Summary'!C32","v":""},{"$f":"'PT Summary'!D32","v":""},{"$f":"'PT Summary'!E32","v":""},{"$f":"'PT Summary'!F32","v":""},{"$f":"'PT Summary'!H32","v":""},{"$f":"TEXT('PT Summary'!I32,\"MM/DD/YYYY\")","v":""}]
[{"$f":"'PT Summary'!A33","v":""},"No",{"$f":"'PT Summary'!C33","v":""},{"$f":"'PT Summary'!D33","v":""},{"$f":"'PT Summary'!E33","v":""},{"$f":"'PT Summary'!F33","v":""},{"$f":"'PT Summary'!H33","v":""},{"$f":"TEXT('PT Summary'!I33,\"MM/DD/YYYY\")","v":""}]
[{"$f":"'PT Summary'!A34","v":""},"No",{"$f":"'PT Summary'!C34","v":""},{"$f":"'PT Summary'!D34","v":""},{"$f":"'PT Summary'!E34","v":""},{"$f":"'PT Summary'!F34","v":""},{"$f":"'PT Summary'!H34","v":""},{"$f":"TEXT('PT Summary'!I34,\"MM/DD/YYYY\")","v":""}]
[{"$f":"'PT Summary'!A35","v":""},"No",{"$f":"'PT Summary'!C35","v":""},{"$f":"'PT Summary'!D35","v":""},{"$f":"'PT Summary'!E35","v":""},{"$f":"'PT Summary'!F35","v":""},{"$f":"'PT Summary'!H35","v":""},{"$f":"TEXT('PT Summary'!I35,\"MM/DD/YYYY\")","v":""}]
[{"$f":"'PT Summary'!A36","v":""},"No",{"$f":"'PT Summary'!C36","v":""},{"$f":"'PT Summary'!D36","v":""},{"$f":"'PT Summary'!E36","v":""},{"$f":"'PT Summary'!F36","v":""},{"$f":"'PT Summary'!H36","v":""},{"$f":"TEXT('PT Summary'!I36,\"MM/DD/YYYY\")","v":""}]
[{"$f":"'PT Summary'!A37","v":""},"No",{"$f":"'PT Summary'!C37","v":""},{"$f":"'PT Summary'!D37","v":""},{"$f":"'PT Summary'!E37","v":""},{"$f":"'PT Summary'!F37","v":""},{"$f":"'PT Summary'!H37","v":""},{"$f":"TEXT('PT Summary'!I37,\"MM/DD/YYYY\")","v":""}]
[{"$f":"'PT Summary'!A38","v":""},"No",{"$f":"'PT Summary'!C38","v":""},{"$f":"'PT Summary'!D38","v":""},{"$f":"'PT Summary'!E38","v":""},{"$f":"'PT Summary'!F38","v":""},{"$f":"'PT Summary'!H38","v":""},{"$f":"TEXT('PT Summary'!I38,\"MM/DD/YYYY\")","v":""}]
[{"$f":"'PT Summary'!A39","v":""},"No",{"$f":"'PT Summary'!C39","v":""},{"$f":"'PT Summary'!D39","v":""},{"$f":"'PT Summary'!E39","v":""},{"$f":"'PT Summary'!F39","v":""},{"$f":"'PT Summary'!H39","v":""},{"$f":"TEXT('PT Summary'!I39,\"MM/DD/YYYY\")","v":""}]
[{"$f":"'PT Summary'!A40","v":""},"No",{"$f":"'PT Summary'!C40","v":""},{"$f":"'PT Summary'!D40","v":""},{"$f":"'PT Summary'!E40","v":""},{"$f":"'PT Summary'!F40","v":""},{"$f":"'PT Summary'!H40","v":""},{"$f":"TEXT('PT Summary'!I40,\"MM/DD/YYYY\")","v":""}]
[{"$f":"'PT Summary'!A41","v":""},"No",{"$f":"'PT Summary'!C41","v":""},{"$f":"'PT Summary'!D41","v":""},{"$f":"'PT Summary'!E41","v":""},{"$f":"'PT Summary'!F41","v":""},{"$f":"'PT Summary'!H41","v":""},{"$f":"TEXT('PT Summary'!I41,\"MM/DD/YYYY\")","v":""}]
[{"$f":"'PT Summary'!A42","v":""},"No",{"$f":"'PT Summary'!C42","v":""},{"$f":"'PT Summary'!D42","v":""},{"$f":"'PT Summary'!E42","v":""},{"$f":"'PT Summary'!F42","v":""},{"$f":"'PT Summary'!H42","v":""},{"$f":"TEXT('PT Summary'!I42,\"MM/DD/YYYY\")","v":""}]
[{"$f":"'PT Summary'!A43","v":""},"No",{"$f":"'PT Summary'!C43","v":""},{"$f":"'PT Summary'!D43","v":""},{"$f":"'PT Summary'!E43","v":""},{"$f":"'PT Summary'!F43","v":""},{"$f":"'PT Summary'!H43","v":""},{"$f":"TEXT('PT Summary'!I43,\"MM/DD/YYYY\")","v":""}]
[{"$f":"'PT Summary'!A44","v":""},"No",{"$f":"'PT Summary'!C44","v":""},{"$f":"'PT Summary'!D44","v":""},{"$f":"'PT Summary'!E44","v":""},{"$f":"'PT Summary'!F44","v":""},{"$f":"'PT Summary'!H44","v":""},{"$f":"TEXT('PT Summary'!I44,\"MM/DD/YYYY\")","v":""}]
[{"$f":"'PT Summary'!A45","v":""},"No",{"$f":"'PT Summary'!C45","v":""},{"$f":"'PT Summary'!D45","v":""},{"$f":"'PT Summary'!E45","v":""},{"$f":"'PT Summary'!F45","v":""},{"$f":"'PT Summary'!H45","v":""},{"$f":"TEXT('PT Summary'!I45,\"MM/DD/YYYY\")","v":""}]
[{"$f":"'PT Summary'!A46","v":""},"No",{"$f":"'PT Summary'!C46","v":""},{"$f":"'PT Summary'!D46","v":""},{"$f":"'PT Summary'!E46","v":""},{"$f":"'PT Summary'!F46","v":""},{"$f":"'PT Summary'!H46","v":""},{"$f":"TEXT('PT Summary'!I46,\"MM/DD/YYYY\")","v":""}]
[{"$f":"'PT Summary'!A47","v":""},"No",{"$f":"'PT Summary'!C47","v":""},{"$f":"'PT Summary'!D47","v":""},{"$f":"'PT Summary'!E47","v":""},{"$f":"'PT Summary'!F47","v":""},{"$f":"'PT Summary'!H47","v":""},{"$f":"TEXT('PT Summary'!I47,\"MM/DD/YYYY\")","v":""}]
[{"$f":"'PT Summary'!A48","v":""},"No",{"$f":"'PT Summary'!C48","v":""},{"$f":"'PT Summary'!D48","v":""},{"$f":"'PT Summary'!E48","v":""},{"$f":"'PT Summary'!F48","v":""},{"$f":"'PT Summary'!H48","v":""},{"$f":"TEXT('PT Summary'!I48,\"MM/DD/YYYY\")","v":""}]
[{"$f":"'PT Summary'!A49","v":""},"No",{"$f":"'PT Summary'!C49","v":""},{"$f":"'PT Summary'!D49","v":""},{"$f":"'PT Summary'!E49","v":""},{"$f":"'PT Summary'!F49","v":""},{"$f":"'PT Summary'!H49","v":""},{"$f":"TEXT('PT Summary'!I49,\"MM/DD/YYYY\")","v":""}]
[{"$f":"'PT Summary'!A50","v":""},"No",{"$f":"'PT Summary'!C50","v":""},{"$f":"'PT Summary'!D50","v":""},{"$f":"'PT Summary'!E50","v":""},{"$f":"'PT Summary'!F50","v":""},{"$f":"'PT Summary'!H50","v":""},{"$f":"TEXT('PT Summary'!I50,\"MM/DD/YYYY\")","v":""}]
[{"$f":"'PT Summary'!A51","v":""},"No",{"$f":"'PT Summary'!C51","v":""},{"$f":"'PT Summary'!D51","v":""},{"$f":"'PT Summary'!E51","v":""},{"$f":"'PT Summary'!F51","v":""},{"$f":"'PT Summary'!H51","v":""},{"$f":"TEXT('PT Summary'!I51,\"MM/DD/YYYY\")","v":""}]
[{"$f":"'PT Summary'!A52","v":""},"No",{"$f":"'PT Summary'!C52","v":""},{"$f":"'PT Summary'!D52","v":""},{"$f":"'PT Summary'!E52","v":""},{"$f":"'PT Summary'!F52","v":""},{"$f":"'PT Summary'!H52","v":""},{"$f":"TEXT('PT Summary'!I52,\"MM/DD/YYYY\")","v":""}]
[{"$f":"'PT Summary'!A53","v":""},"No",{"$f":"'PT Summary'!C53","v":""},{"$f":"'PT Summary'!D53","v":""},{"$f":"'PT Summary'!E53","v":""},{"$f":"'PT Summary'!F53","v":""},{"$f":"'PT Summary'!H53","v":""},{"$f":"TEXT('PT Summary'!I53,\"MM/DD/YYYY\")","v":""}]
[{"$f":"'PT Summary'!A54","v":""},"No",{"$f":"'PT Summary'!C54","v":""},{"$f":"'PT Summary'!D54","v":""},{"$f":"'PT Summary'!E54","v":""},{"$f":"'PT Summary'!F54","v":""},{"$f":"'PT Summary'!H54","v":""},{"$f":"TEXT('PT Summary'!I54,\"MM/DD/YYYY\")","v":""}]
[{"$f":"'PT Summary'!A55","v":""},"No",{"$f":"'PT Summary'!C55","v":""},{"$f":"'PT Summary'!D55","v":""},{"$f":"'PT Summary'!E55","v":""},{"$f":"'PT Summary'!F55","v":""},{"$f":"'PT Summary'!H55","v":""},{"$f":"TEXT('PT Summary'!I55,\"MM/DD/YYYY\")","v":""}]
[{"$f":"'PT Summary'!A56","v":""},"No",{"$f":"'PT Summary'!C56","v":""},{"$f":"'PT Summary'!D56","v":""},{"$f":"'PT Summary'!E56","v":""},{"$f":"'PT Summary'!F56","v":""},{"$f":"'PT Summary'!H56","v":""},{"$f":"TEXT('PT Summary'!I56,\"MM/DD/YYYY\")","v":""}]
[{"$f":"'PT Summary'!A57","v":""},"No",{"$f":"'PT Summary'!C57","v":""},{"$f":"'PT Summary'!D57","v":""},{"$f":"'PT Summary'!E57","v":""},{"$f":"'PT Summary'!F57","v":""},{"$f":"'PT Summary'!H57","v":""},{"$f":"TEXT('PT Summary'!I57,\"MM/DD/YYYY\")","v":""}]
[{"$f":"'PT Summary'!A58","v":""},"No",{"$f":"'PT Summary'!C58","v":""},{"$f":"'PT Summary'!D58","v":""},{"$f":"'PT Summary'!E58","v":""},{"$f":"'PT Summary'!F58","v":""},{"$f":"'PT Summary'!H58","v":""},{"$f":"TEXT('PT Summary'!I58,\"MM/DD/YYYY\")","v":""}]
[{"$f":"'PT Summary'!A59","v":""},"No",{"$f":"'PT Summary'!C59","v":""},{"$f":"'PT Summary'!D59","v":""},{"$f":"'PT Summary'!E59","v":""},{"$f":"'PT Summary'!F59","v":""},{"$f":"'PT Summary'!H59","v":""},{"$f":"TEXT('PT Summary'!I59,\"MM/DD/YYYY\")","v":""}]
[{"$f":"'PT Summary'!A60","v":""},"No",{"$f":"'PT Summary'!C60","v":""},{"$f":"'PT Summary'!D60","v":""},{"$f":"'PT Summary'!E60","v":""},{"$f":"'PT Summary'!F60","v":""},{"$f":"'PT Summary'!H60","v":""},{"$f":"TEXT('PT Summary'!I60,\"MM/DD/YYYY\")","v":""}]
[{"$f":"'PT Summary'!A61","v":""},"No",{"$f":"'PT Summary'!C61","v":""},{"$f":"'PT Summary'!D61","v":""},{"$f":"'PT Summary'!E61","v":""},{"$f":"'PT Summary'!F61","v":""},{"$f":"'PT Summary'!H61","v":""},{"$f":"TEXT('PT Summary'!I61,\"MM/DD/YYYY\")","v":""}]
[{"$f":"'PT Summary'!A62","v":""},"No",{"$f":"'PT Summary'!C62","v":""},{"$f":"'PT Summary'!D62","v":""},{"$f":"'PT Summary'!E62","v":""},{"$f":"'PT Summary'!F62","v":""},{"$f":"'PT Summary'!H62","v":""},{"$f":"TEXT('PT Summary'!I62,\"MM/DD/YYYY\")","v":""}]
[{"$f":"'PT Summary'!A63","v":""},"No",{"$f":"'PT Summary'!C63","v":""},{"$f":"'PT Summary'!D63","v":""},{"$f":"'PT Summary'!E63","v":""},{"$f":"'PT Summary'!F63","v":""},{"$f":"'PT Summary'!H63","v":""},{"$f":"TEXT('PT Summary'!I63,\"MM/DD/YYYY\")","v":""}]
[{"$f":"'PT Summary'!A64","v":""},"No",{"$f":"'PT Summary'!C64","v":""},{"$f":"'PT Summary'!D64","v":""},{"$f":"'PT Summary'!E64","v":""},{"$f":"'PT Summary'!F64","v":""},{"$f":"'PT Summary'!H64","v":""},{"$f":"TEXT('PT Summary'!I64,\"MM/DD/YYYY\")","v":""}]
[{"$f":"'PT Summary'!A65","v":""},"No",{"$f":"'PT Summary'!C65","v":""},{"$f":"'PT Summary'!D65","v":""},{"$f":"'PT Summary'!E65","v":""},{"$f":"'PT Summary'!F65","v":""},{"$f":"'PT Summary'!H65","v":""},{"$f":"TEXT('PT Summary'!I65,\"MM/DD/YYYY\")","v":""}]
[{"$f":"'PT Summary'!A66","v":""},"No",{"$f":"'PT Summary'!C66","v":""},{"$f":"'PT Summary'!D66","v":""},{"$f":"'PT Summary'!E66","v":""},{"$f":"'PT Summary'!F66","v":""},{"$f":"'PT Summary'!H66","v":""},{"$f":"TEXT('PT Summary'!I66,\"MM/DD/YYYY\")","v":""}]
[{"$f":"'PT Summary'!A67","v":""},"No",{"$f":"'PT Summary'!C67","v":""},{"$f":"'PT Summary'!D67","v":""},{"$f":"'PT Summary'!E67","v":""},{"$f":"'PT Summary'!F67","v":""},{"$f":"'PT Summary'!H67","v":""},{"$f":"TEXT('PT Summary'!I67,\"MM/DD/YYYY\")","v":""}]
[{"$f":"'PT Summary'!A68","v":""},"No",{"$f":"'PT Summary'!C68","v":""},{"$f":"'PT Summary'!D68","v":""},{"$f":"'PT Summary'!E68","v":""},{"$f":"'PT Summary'!F68","v":""},{"$f":"'PT Summary'!H68","v":""},{"$f":"TEXT('PT Summary'!I68,\"MM/DD/YYYY\")","v":""}]
[{"$f":"'PT Summary'!A69","v":""},"No",{"$f":"'PT Summary'!C69","v":""},{"$f":"'PT Summary'!D69","v":""},{"$f":"'PT Summary'!E69","v":""},{"$f":"'PT Summary'!F69","v":""},{"$f":"'PT Summary'!H69","v":""},{"$f":"TEXT('PT Summary'!I69,\"MM/DD/YYYY\")","v":""}]
[{"$f":"'PT Summary'!A70","v":""},"No",{"$f":"'PT Summary'!C70","v":""},{"$f":"'PT Summary'!D70","v":""},{"$f":"'PT Summary'!E70","v":""},{"$f":"'PT Summary'!F70","v":""},{"$f":"'PT Summary'!H70","v":""},{"$f":"TEXT('PT Summary'!I70,\"MM/DD/YYYY\")","v":""}]
[{"$f":"'PT Summary'!A71","v":""},"No",{"$f":"'PT Summary'!C71","v":""},{"$f":"'PT Summary'!D71","v":""},{"$f":"'PT Summary'!E71","v":""},{"$f":"'PT Summary'!F71","v":""},{"$f":"'PT Summary'!H71","v":""},{"$f":"TEXT('PT Summary'!I71,\"MM/DD/YYYY\")","v":""}]
[{"$f":"'PT Summary'!A72","v":""},"No",{"$f":"'PT Summary'!C72","v":""},{"$f":"'PT Summary'!D72","v":""},{"$f":"'PT Summary'!E72","v":""},{"$f":"'PT Summary'!F72","v":""},{"$f":"'PT Summary'!H72","v":""},{"$f":"TEXT('PT Summary'!I72,\"MM/DD/YYYY\")","v":""}]
[{"$f":"'PT Summary'!A73","v":""},{"$f":"IF(D202=\"\",\"No\",IF(D202>=0,\"Yes\",\"No\"))","v":"No"},{"$f":"'PT Summary'!C73","v":""},{"$f":"'PT Summary'!D73","v":""},{"$f":"'PT Summary'!E73","v":""},{"$f":"'PT Summary'!F73","v":""},{"$f":"'PT Summary'!H73","v":""},{"$f":"TEXT('PT Summary'!I73,\"MM/DD/YYYY\")","v":""}]
[{"$f":"'PT Summary'!A74","v":""},"No",{"$f":"'PT Summary'!C74","v":""},{"$f":"'PT Summary'!D74","v":""},{"$f":"'PT Summary'!E74","v":""},{"$f":"'PT Summary'!F74","v":""},{"$f":"'PT Summary'!H74","v":""},{"$f":"TEXT('PT Summary'!I74,\"MM/DD/YYYY\")","v":""}]
[{"$f":"'PT Summary'!A75","v":""},"No",{"$f":"'PT Summary'!C75","v":""},{"$f":"'PT Summary'!D75","v":""},{"$f":"'PT Summary'!E75","v":""},{"$f":"'PT Summary'!F75","v":""},{"$f":"'PT Summary'!H75","v":""},{"$f":"TEXT('PT Summary'!I75,\"MM/DD/YYYY\")","v":""}]
[{"$f":"'PT Summary'!A76","v":""},"No",{"$f":"'PT Summary'!C76","v":""},{"$f":"'PT Summary'!D76","v":""},{"$f":"'PT Summary'!E76","v":""},{"$f":"'PT Summary'!F76","v":""},{"$f":"'PT Summary'!H76","v":""},{"$f":"TEXT('PT Summary'!I76,\"MM/DD/YYYY\")","v":""}]
[{"$f":"'PT Summary'!A77","v":""},"No",{"$f":"'PT Summary'!C77","v":""},{"$f":"'PT Summary'!D77","v":""},{"$f":"'PT Summary'!E77","v":""},{"$f":"'PT Summary'!F77","v":""},{"$f":"'PT Summary'!H77","v":""},{"$f":"TEXT('PT Summary'!I77,\"MM/DD/YYYY\")","v":""}]
[{"$f":"'PT Summary'!A78","v":""},"No",{"$f":"'PT Summary'!C78","v":""},{"$f":"'PT Summary'!D78","v":""},{"$f":"'PT Summary'!E78","v":""},{"$f":"'PT Summary'!F78","v":""},{"$f":"'PT Summary'!H78","v":""},{"$f":"TEXT('PT Summary'!I78,\"MM/DD/YYYY\")","v":""}]
[{"$f":"'PT Summary'!A79","v":""},"No",{"$f":"'PT Summary'!C79","v":""},{"$f":"'PT Summary'!D79","v":""},{"$f":"'PT Summary'!E79","v":""},{"$f":"'PT Summary'!F79","v":""},{"$f":"'PT Summary'!H79","v":""},{"$f":"TEXT('PT Summary'!I79,\"MM/DD/YYYY\")","v":""}]
[{"$f":"'PT Summary'!A80","v":""},"No",{"$f":"'PT Summary'!C80","v":""},{"$f":"'PT Summary'!D80","v":""},{"$f":"'PT Summary'!E80","v":""},{"$f":"'PT Summary'!F80","v":""},{"$f":"'PT Summary'!H80","v":""},{"$f":"TEXT('PT Summary'!I80,\"MM/DD/YYYY\")","v":""}]
[{"$f":"'PT Summary'!A81","v":""},"No",{"$f":"'PT Summary'!C81","v":""},{"$f":"'PT Summary'!D81","v":""},{"$f":"'PT Summary'!E81","v":""},{"$f":"'PT Summary'!F81","v":""},{"$f":"'PT Summary'!H81","v":""},{"$f":"TEXT('PT Summary'!I81,\"MM/DD/YYYY\")","v":""}]
[{"$f":"'PT Summary'!A82","v":""},"No",{"$f":"'PT Summary'!C82","v":""},{"$f":"'PT Summary'!D82","v":""},{"$f":"'PT Summary'!E82","v":""},{"$f":"'PT Summary'!F82","v":""},{"$f":"'PT Summary'!H82","v":""},{"$f":"TEXT('PT Summary'!I82,\"MM/DD/YYYY\")","v":""}]
[{"$f":"'PT Summary'!A83","v":""},"No",{"$f":"'PT Summary'!C83","v":""},{"$f":"'PT Summary'!D83","v":""},{"$f":"'PT Summary'!E83","v":""},{"$f":"'PT Summary'!F83","v":""},{"$f":"'PT Summary'!H83","v":""},{"$f":"TEXT('PT Summary'!I83,\"MM/DD/YYYY\")","v":""}]
[{"$f":"'PT Summary'!A84","v":""},"No",{"$f":"'PT Summary'!C84","v":""},{"$f":"'PT Summary'!D84","v":""},{"$f":"'PT Summary'!E84","v":""},{"$f":"'PT Summary'!F84","v":""},{"$f":"'PT Summary'!H84","v":""},{"$f":"TEXT('PT Summary'!I84,\"MM/DD/YYYY\")","v":""}]
[{"$f":"'PT Summary'!A85","v":""},"No",{"$f":"'PT Summary'!C85","v":""},{"$f":"'PT Summary'!D85","v":""},{"$f":"'PT Summary'!E85","v":""},{"$f":"'PT Summary'!F85","v":""},{"$f":"'PT Summary'!H85","v":""},{"$f":"TEXT('PT Summary'!I85,\"MM/DD/YYYY\")","v":""}]
[{"$f":"'PT Summary'!A86","v":""},"No",{"$f":"'PT Summary'!C86","v":""},{"$f":"'PT Summary'!D86","v":""},{"$f":"'PT Summary'!E86","v":""},{"$f":"'PT Summary'!F86","v":""},{"$f":"'PT Summary'!H86","v":""},{"$f":"TEXT('PT Summary'!I86,\"MM/DD/YYYY\")","v":""}]
[{"$f":"'PT Summary'!A87","v":""},"No",{"$f":"'PT Summary'!C87","v":""},{"$f":"'PT Summary'!D87","v":""},{"$f":"'PT Summary'!E87","v":""},{"$f":"'PT Summary'!F87","v":""},{"$f":"'PT Summary'!H87","v":""},{"$f":"TEXT('PT Summary'!I87,\"MM/DD/YYYY\")","v":""}]
[{"$f":"'PT Summary'!A88","v":""},"No",{"$f":"'PT Summary'!C88","v":""},{"$f":"'PT Summary'!D88","v":""},{"$f":"'PT Summary'!E88","v":""},{"$f":"'PT Summary'!F88","v":""},{"$f":"'PT Summary'!H88","v":""},{"$f":"TEXT('PT Summary'!I88,\"MM/DD/YYYY\")","v":""}]
[{"$f":"'PT Summary'!A89","v":""},"No",{"$f":"'PT Summary'!C89","v":""},{"$f":"'PT Summary'!D89","v":""},{"$f":"'PT Summary'!E89","v":""},{"$f":"'PT Summary'!F89","v":""},{"$f":"'PT Summary'!H89","v":""},{"$f":"TEXT('PT Summary'!I89,\"MM/DD/YYYY\")","v":""}]
[{"$f":"'PT Summary'!A90","v":""},"No",{"$f":"'PT Summary'!C90","v":""},{"$f":"'PT Summary'!D90","v":""},{"$f":"'PT Summary'!E90","v":""},{"$f":"'PT Summary'!F90","v":""},{"$f":"'PT Summary'!H90","v":""},{"$f":"TEXT('PT Summary'!I90,\"MM/DD/YYYY\")","v":""}]
[{"$f":"'PT Summary'!A91","v":""},"No",{"$f":"'PT Summary'!C91","v":""},{"$f":"'PT Summary'!D91","v":""},{"$f":"'PT Summary'!E91","v":""},{"$f":"'PT Summary'!F91","v":""},{"$f":"'PT Summary'!H91","v":""},{"$f":"TEXT('PT Summary'!I91,\"MM/DD/YYYY\")","v":""}]
[{"$f":"'PT Summary'!A92","v":""},"No",{"$f":"'PT Summary'!C92","v":""},{"$f":"'PT Summary'!D92","v":""},{"$f":"'PT Summary'!E92","v":""},{"$f":"'PT Summary'!F92","v":""},{"$f":"'PT Summary'!H92","v":""},{"$f":"TEXT('PT Summary'!I92,\"MM/DD/YYYY\")","v":""}]
[{"$f":"'PT Summary'!A93","v":""},"No",{"$f":"'PT Summary'!C93","v":""},{"$f":"'PT Summary'!D93","v":""},{"$f":"'PT Summary'!E93","v":""},{"$f":"'PT Summary'!F93","v":""},{"$f":"'PT Summary'!H93","v":""},{"$f":"TEXT('PT Summary'!I93,\"MM/DD/YYYY\")","v":""}]
[{"$f":"'PT Summary'!A94","v":""},"No",{"$f":"'PT Summary'!C94","v":""},{"$f":"'PT Summary'!D94","v":""},{"$f":"'PT Summary'!E94","v":""},{"$f":"'PT Summary'!F94","v":""},{"$f":"'PT Summary'!H94","v":""},{"$f":"TEXT('PT Summary'!I94,\"MM/DD/YYYY\")","v":""}]
[{"$f":"'PT Summary'!A95","v":""},"No",{"$f":"'PT Summary'!C95","v":""},{"$f":"'PT Summary'!D95","v":""},{"$f":"'PT Summary'!E95","v":""},{"$f":"'PT Summary'!F95","v":""},{"$f":"'PT Summary'!H95","v":""},{"$f":"TEXT('PT Summary'!I95,\"MM/DD/YYYY\")","v":""}]
[{"$f":"'PT Summary'!A96","v":""},"No",{"$f":"'PT Summary'!C96","v":""},{"$f":"'PT Summary'!D96","v":""},{"$f":"'PT Summary'!E96","v":""},{"$f":"'PT Summary'!F96","v":""},{"$f":"'PT Summary'!H96","v":""},{"$f":"TEXT('PT Summary'!I96,\"MM/DD/YYYY\")","v":""}]
[{"$f":"'PT Summary'!A97","v":""},"No",{"$f":"'PT Summary'!C97","v":""},{"$f":"'PT Summary'!D97","v":""},{"$f":"'PT Summary'!E97","v":""},{"$f":"'PT Summary'!F97","v":""},{"$f":"'PT Summary'!H97","v":""},{"$f":"TEXT('PT Summary'!I97,\"MM/DD/YYYY\")","v":""}]
[{"$f":"'PT Summary'!A98","v":""},"No",{"$f":"'PT Summary'!C98","v":""},{"$f":"'PT Summary'!D98","v":""},{"$f":"'PT Summary'!E98","v":""},{"$f":"'PT Summary'!F98","v":""},{"$f":"'PT Summary'!H98","v":""},{"$f":"TEXT('PT Summary'!I98,\"MM/DD/YYYY\")","v":""}]
[{"$f":"'PT Summary'!A99","v":""},"No",{"$f":"'PT Summary'!C99","v":""},{"$f":"'PT Summary'!D99","v":""},{"$f":"'PT Summary'!E99","v":""},{"$f":"'PT Summary'!F99","v":""},{"$f":"'PT Summary'!H99","v":""},{"$f":"TEXT('PT Summary'!I99,\"MM/DD/YYYY\")","v":""}]
[{"$f":"'PT Summary'!A100","v":""},"No",{"$f":"'PT Summary'!C100","v":""},{"$f":"'PT Summary'!D100","v":""},{"$f":"'PT Summary'!E100","v":""},{"$f":"'PT Summary'!F100","v":""},{"$f":"'PT Summary'!H100","v":""},{"$f":"TEXT('PT Summary'!I100,\"MM/DD/YYYY\")","v":""}]
[{"$f":"'PT Summary'!A101","v":""},"No",{"$f":"'PT Summary'!C101","v":""},{"$f":"'PT Summary'!D101","v":""},{"$f":"'PT Summary'!E101","v":""},{"$f":"'PT Summary'!F101","v":""},{"$f":"'PT Summary'!H101","v":""},{"$f":"TEXT('PT Summary'!I101,\"MM/DD/YYYY\")","v":""}]
[{"$f":"'PT Summary'!A102","v":""},"No",{"$f":"'PT Summary'!C102","v":""},{"$f":"'PT Summary'!D102","v":""},{"$f":"'PT Summary'!E102","v":""},{"$f":"'PT Summary'!F102","v":""},{"$f":"'PT Summary'!H102","v":""},{"$f":"TEXT('PT Summary'!I102,\"MM/DD/YYYY\")","v":""}]
[{"$f":"'PT Summary'!A103","v":""},"No",{"$f":"'PT Summary'!C103","v":""},{"$f":"'PT Summary'!D103","v":""},{"$f":"'PT Summary'!E103","v":""},{"$f":"'PT Summary'!F103","v":""},{"$f":"'PT Summary'!H103","v":""},{"$f":"TEXT('PT Summary'!I103,\"MM/DD/YYYY\")","v":""}]
[{"$f":"'PT Summary'!A104","v":""},"No",{"$f":"'PT Summary'!C104","v":""},{"$f":"'PT Summary'!D104","v":""},{"$f":"'PT Summary'!E104","v":""},{"$f":"'PT Summary'!F104","v":""},{"$f":"'PT Summary'!H104","v":""},{"$f":"TEXT('PT Summary'!I104,\"MM/DD/YYYY\")","v":""}]
[{"$f":"'PT Summary'!A105","v":""},"No",{"$f":"'PT Summary'!C105","v":""},{"$f":"'PT Summary'!D105","v":""},{"$f":"'PT Summary'!E105","v":""},{"$f":"'PT Summary'!F105","v":""},{"$f":"'PT Summary'!H105","v":""},{"$f":"TEXT('PT Summary'!I105,\"MM/DD/YYYY\")","v":""}]
[{"$f":"'PT Summary'!A106","v":""},"No",{"$f":"'PT Summary'!C106","v":""},{"$f":"'PT Summary'!D106","v":""},{"$f":"'PT Summary'!E106","v":""},{"$f":"'PT Summary'!F106","v":""},{"$f":"'PT Summary'!H106","v":""},{"$f":"TEXT('PT Summary'!I106,\"MM/DD/YYYY\")","v":""}]
[{"$f":"'PT Summary'!A107","v":""},"No",{"$f":"'PT Summary'!C107","v":""},{"$f":"'PT Summary'!D107","v":""},{"$f":"'PT Summary'!E107","v":""},{"$f":"'PT Summary'!F107","v":""},{"$f":"'PT Summary'!H107","v":""},{"$f":"TEXT('PT Summary'!I107,\"MM/DD/YYYY\")","v":""}]
[{"$f":"'PT Summary'!A108","v":""},"No",{"$f":"'PT Summary'!C108","v":""},{"$f":"'PT Summary'!D108","v":""},{"$f":"'PT Summary'!E108","v":""},{"$f":"'PT Summary'!F108","v":""},{"$f":"'PT Summary'!H108","v":""},{"$f":"TEXT('PT Summary'!I108,\"MM/DD/YYYY\")","v":""}]
[{"$f":"'PT Summary'!A109","v":""},"No",{"$f":"'PT Summary'!C109","v":""},{"$f":"'PT Summary'!D109","v":""},{"$f":"'PT Summary'!E109","v":""},{"$f":"'PT Summary'!F109","v":""},{"$f":"'PT Summary'!H109","v":""},{"$f":"TEXT('PT Summary'!I109,\"MM/DD/YYYY\")","v":""}]
[{"$f":"'PT Summary'!A110","v":""},"No",{"$f":"'PT Summary'!C110","v":""},{"$f":"'PT Summary'!D110","v":""},{"$f":"'PT Summary'!E110","v":""},{"$f":"'PT Summary'!F110","v":""},{"$f":"'PT Summary'!H110","v":""},{"$f":"TEXT('PT Summary'!I110,\"MM/DD/YYYY\")","v":""}]
[{"$f":"'PT Summary'!A111","v":""},"No",{"$f":"'PT Summary'!C111","v":""},{"$f":"'PT Summary'!D111","v":""},{"$f":"'PT Summary'!E111","v":""},{"$f":"'PT Summary'!F111","v":""},{"$f":"'PT Summary'!H111","v":""},{"$f":"TEXT('PT Summary'!I111,\"MM/DD/YYYY\")","v":""}]
[{"$f":"'PT Summary'!A112","v":""},"No",{"$f":"'PT Summary'!C112","v":""},{"$f":"'PT Summary'!D112","v":""},{"$f":"'PT Summary'!E112","v":""},{"$f":"'PT Summary'!F112","v":""},{"$f":"'PT Summary'!H112","v":""},{"$f":"TEXT('PT Summary'!I112,\"MM/DD/YYYY\")","v":""}]
[{"$f":"'PT Summary'!A113","v":""},"No",{"$f":"'PT Summary'!C113","v":""},{"$f":"'PT Summary'!D113","v":""},{"$f":"'PT Summary'!E113","v":""},{"$f":"'PT Summary'!F113","v":""},{"$f":"'PT Summary'!H113","v":""},{"$f":"TEXT('PT Summary'!I113,\"MM/DD/YYYY\")","v":""}]
[{"$f":"'PT Summary'!A114","v":""},"No",{"$f":"'PT Summary'!C114","v":""},{"$f":"'PT Summary'!D114","v":""},{"$f":"'PT Summary'!E114","v":""},{"$f":"'PT Summary'!F114","v":""},{"$f":"'PT Summary'!H114","v":""},{"$f":"TEXT('PT Summary'!I114,\"MM/DD/YYYY\")","v":""}]
[{"$f":"'PT Summary'!A115","v":""},"No",{"$f":"'PT Summary'!C115","v":""},{"$f":"'PT Summary'!D115","v":""},{"$f":"'PT Summary'!E115","v":""},{"$f":"'PT Summary'!F115","v":""},{"$f":"'PT Summary'!H115","v":""},{"$f":"TEXT('PT Summary'!I115,\"MM/DD/YYYY\")","v":""}]
[{"$f":"'PT Summary'!A116","v":""},"No",{"$f":"'PT Summary'!C116","v":""},{"$f":"'PT Summary'!D116","v":""},{"$f":"'PT Summary'!E116","v":""},{"$f":"'PT Summary'!F116","v":""},{"$f":"'PT Summary'!H116","v":""},{"$f":"TEXT('PT Summary'!I116,\"MM/DD/YYYY\")","v":""}]
[{"$f":"'PT Summary'!A117","v":""},"No",{"$f":"'PT Summary'!C117","v":""},{"$f":"'PT Summary'!D117","v":""},{"$f":"'PT Summary'!E117","v":""},{"$f":"'PT Summary'!F117","v":""},{"$f":"'PT Summary'!H117","v":""},{"$f":"TEXT('PT Summary'!I117,\"MM/DD/YYYY\")","v":""}]
[{"$f":"'PT Summary'!A118","v":""},"No",{"$f":"'PT Summary'!C118","v":""},{"$f":"'PT Summary'!D118","v":""},{"$f":"'PT Summary'!E118","v":""},{"$f":"'PT Summary'!F118","v":""},{"$f":"'PT Summary'!H118","v":""},{"$f":"TEXT('PT Summary'!I118,\"MM/DD/YYYY\")","v":""}]

{"sheet":"Project Estimates","index":15,"n_rows":34,"n_cols":7,"rows_kept":34,"cut":false,"hidden":false,"merged":[[16,8,18,10],[13,1,13,7],[30,1,30,7],[31,1,31,3],[33,1,33,7],[16,1,16,3],[17,1,17,3],[18,1,18,3],[19,1,19,3],[22,1,22,3],[23,1,23,3],[27,1,27,3],[26,1,26,4],[15,1,15,2],[21,1,21,2],[25,1,25,2]]}
[]
[]
[]
[null,"Prepared for: ",null,{"$f":"IF('100L Information'!K7=\"\",\"\",'100L Information'!K7)","v":""}]
[null,"Project installation address: ",null,{"$f":"IF('100L Information'!F16=\"\",\"\",CONCATENATE('100L Information'!F16,\", \",'100L Information'!R16,\", \",'100L Information'!AA16,\" \",'100L Information'!AD16))","v":""}]
[null,"Project name:  ",null,{"$f":"IF('100L Information'!I15=\"\",\"\",'100L Information'!I15)","v":""}]
[]
[null,"Date prepared:",null,"Prepared by: "]
[null,{"$f":"IF('100L Information'!Z47 = \"\",\"\", '100L Information'!Z47)","v":""},"",{"$f":"IF('100L Information'!I47 =\"\",\"\",'100L Information'!I47)","v":""}]
[null,null,null,{"$f":"IF('100L Information'!I48 =\"\",\"\",'100L Information'!I48)","v":""}]
[null,null,null,{"$f":"IF('100L Information'!M49 =\"\",\"\",'100L Information'!M49)","v":""}]
[null,null,null,{"$f":"IF('100L Information'!E49 =\"\",\"\",'100L Information'!E49)","v":""}]
[]
[]
[]
[null,"Project Cost:"]
[null,"Estimated installed cost:",null,null,null,{"$f":"'Analysis 103L'!M13","v":0}]
[null,"Minus estimated Energy Trust incentive:",null,null,null,{"$f":"'Analysis 103L'!F20","v":0}]
[null,"Additional Estimated Incentive, if applicable:",null,null,null,{"$f":"IF('Performance+'!C27=\"yes\",'Analysis 103L'!#REF!,0)","v":0}]
[null,"Net estimated installed cost:",null,null,null,{"$f":"F17-(F18+F19)","v":0}]
[]
[null,"Energy Savings:"]
[null,"Estimated annual energy savings:",null,null,null,{"$f":"'Analysis 103L'!L20","v":0},"kWh"]
[null,"Estimated annual energy cost savings:",null,null,null,{"$f":"'Analysis 103L'!F13","v":""}]
[]
[null,"Financial Benefit:"]
[null,"Estimated project payback through energy savings:",null,null,null,{"$f":"IFERROR(F20/F24,\"\")","v":""},"years"]
[null,"Estimated rate of return:",null,null,null,{"$f":"'Analysis 103L'!F15","v":""}]
[]
[]
[null,"Your lighting project is an investment in your business. Because this project may reduce energy use, \nit can also deliver environmental benefits. Energy saved with this project, as proposed, would avoid carbon "]
[null,"dioxide emissions roughly equivalent to:",null,null,{"$f":"(((F23*1.09)/19.6)*23.4)/11244","v":0},"cars off the road."]
[]
[null,"*This summary provides an estimate of potential savings and incentives based on proposed equipment, operating hours and other assumptions. Actual costs, savings and incentives may vary. Energy Trust’s program requirements and incentives are subject to change without notice and to budget availability. These estimates should not be considered legal or financial advice. Energy Trust does not guarantee any energy savings or any other results.This summary was prepared using Lighting Tool v2025.1"]

{"sheet":"120L Incentive Offer","index":16,"n_rows":107,"n_cols":30,"rows_kept":107,"cut":false,"hidden":true,"merged":[[54,34,54,41],[56,34,56,42],[9,19,9,32],[9,15,9,18],[102,0,102,32],[27,0,27,32],[31,0,31,32],[25,27,25,31],[34,0,34,32],[35,0,35,32],[32,0,32,32],[33,16,33,32],[26,12,26,15],[28,0,28,32],[26,27,26,31],[10,0,10,1],[1,28,1,32],[22,9,22,13],[7,0,7,6],[8,0,8,4],[9,0,9,3],[12,0,12,4],[6,6,6,27],[8,5,8,14],[8,17,8,31],[2,20,2,25],[22,29,22,31],[6,0,6,5],[7,7,7,32],[6,28,6,32],[9,4,9,14],[12,17,12,23],[106,0,106,32],[29,0,29,15],[29,16,29,32],[33,0,33,15],[37,7,38,14],[37,0,38,4],[103,0,104,3],[103,4,103,12],[103,13,104,15],[104,4,104,12],[105,0,105,32],[37,18,38,25],[2,28,2,32],[3,27,3,32],[4,27,4,32],[10,2,10,32],[12,29,12,32],[4,17,4,25],[8,15,8,16],[11,8,11,31],[11,0,11,7],[12,26,12,27],[12,24,12,25],[12,15,12,16],[12,5,12,14],[15,23,15,26],[22,14,22,25],[21,0,21,32],[15,1,15,14],[18,1,18,14],[24,12,24,15],[25,22,25,26],[18,23,18,26],[103,27,104,28],[103,29,104,32],[103,16,104,26],[30,0,30,32],[37,5,38,6],[37,15,38,17],[37,28,38,32],[37,26,38,27],[26,22,26,26],[25,12,25,15],[22,27,22,28]]}
[]
[null,null,null,null,null,null,null,null,null,null,null,null,null,null,null,null,null,"Program Use Only",null,null,null,null,null,null,null,null,null,null,{"$f":"version","v":"v2025.1"}]
[null,null,null,null,null,null,null,null,null,null,null,null,null,null,null,null,null,"Project ID",null,null,{"$f":"IF('100L Information'!S3=\"\",\"\",'100L Information'!S3)","v":""},null,null,null,null,null,"Ref ID",null,{"$f":"IF('100L Information'!AB3=\"\",\"\",'100L Information'!AB3)","v":""}]
[null,null,null,null,null,null,null,null,null,null,null,null,null,null,null,null,null,"Currently Self-Directing",null,null,null,null,null,null,null,null,null,{"$f":"IF('100L Information'!Z4=\"\",\"\",'100L Information'!Z4)","v":"(select)"}]
[null,null,null,null,null,null,null,null,null,null,null,null,null,null,null,null,null,"Currently using EE Self-direct credits?",null,null,null,null,null,null,null,null,null,{"$f":"IF('100L Information'!Z5=\"\",\"\",'100L Information'!Z5)","v":"(select)"}]
["Section A: Participant Information"]
["Legal Business Name",null,null,null,null,null,{"$f":"IF('100L Information'!K7=\"\",\"\",'100L Information'!K7)","v":""},null,null,null,null,null,null,null,null,null,null,null,null,null,null,null,null,null,null,null,null,null,"(the \"Participant\")"]
["Assumed Business Name",null,null,null,null,null,null,{"$f":"IF('100L Information'!M8=\"\",\"\",'100L Information'!M8)","v":""}]
["Contact Name",null,null,null,null,{"$f":"IF('100L Information'!$F9=\"\",\"\",'100L Information'!$F9)","v":""},null,null,null,null,null,null,null,null,null,"Title",null,{"$f":"IF('100L Information'!$R9=\"\",\"\",'100L Information'!$R9)","v":""}]
["Phone",null,null,null,{"$f":"IF('100L Information'!E10=\"\",\"\",'100L Information'!E10)","v":""},null,null,null,null,null,null,null,null,null,null,"Cell Phone",null,null,null,{"$f":"IF('100L Information'!T10=\"\",\"\",'100L Information'!T10)","v":""}]
["Email",null,{"$f":"IF('100L Information'!$D11=\"\",\"\",'100L Information'!$D11)","v":""}]
["Project Name (if different)",null,null,null,null,null,null,null,{"$f":"'100L Information'!I15","v":0}]
["Site Address",null,null,null,null,{"$f":"IF('100L Information'!F16:O16=\"\",\"\",'100L Information'!F16:O16)","v":""},null,null,null,null,null,null,null,null,null,"City",null,{"$f":"IF('100L Information'!R16:X16=\"\",\"\",'100L Information'!R16:X16)","v":""},null,null,null,null,null,null,"State",null,{"$f":"IF('100L Information'!AA16:AB16=\"\",\"\",'100L Information'!AA16:AB16)","v":""},null,"Zip",{"$f":"IF('100L Information'!AD16:AF16=\"\",\"\",'100L Information'!AD16:AF16)","v":""}]
["Section B: Electric Utility"]
[null,"Pacific Power Account Number",null,null,null,null,null,null,null,null,null,null,null,null,null,null,null,null,null,null,null,null,null,"Rate Schedule"]
[null,{"$f":"IF('100L Information'!B37=\"\",\"\",'100L Information'!B37)","v":""},null,null,null,null,null,null,null,null,null,null,null,null,null,null,null,null,null,null,null,null,null,{"$f":"IF(B16=\"\",\"\",'100L Information'!X37)","v":""}]
[]
[null,"Portland General Electric (PGE) Account Number",null,null,null,null,null,null,null,null,null,null,null,null,null,null,null,null,null,null,null,null,null,"Rate Schedule"]
[null,{"$f":"IF('100L Information'!B40=\"\",\"\",'100L Information'!B40)","v":""},null,null,null,null,null,null,null,null,null,null,null,null,null,null,null,null,null,null,null,null,null,{"$f":"IF(B19=\"\",\"\",'100L Information'!X40)","v":""}]
[]
["Section C: Proposed Savings Summary (to be completed by program representative)"]
["Based on our review of the following information regarding the proposed lighting project’s design intent, equipment, and operation assumptions, we have identified certain energy efficiency measures that may be eligible for Energy Trust incentives (the Measures). Estimated incentives have been calculated in accordance with current Program requirements and incentive levels. Actual incentive amounts paid may differ from estimated amounts depending on actual Measures installed and final energy savings calculations and project cost documentation. "]
["Lighting Analysis",null,null,null,null,null,null,null,null,"Performed by",null,null,null,null,{"$f":"IF('Analysis 103L'!T4=\"\",\"\",'Analysis 103L'!T4)","v":""},null,null,null,null,null,null,null,null,null,null,null,null,"Date",null,{"$f":"IF('Analysis 103L'!R4=\"\",\"\",'Analysis 103L'!R4)","v":""}]
[]
["Estimated Annual Cost Savings",null,null,null,null,null,null,null,null,null,null,null,{"$f":"'Analysis 103L'!F13","v":""},null,null,null,"Estimated Energy Savings"]
[{"$f":"IF('100L Information'!Z4=\"Yes\",\"Estimated Incentive Amount (50% Self-Direct)\",\"Estimated Incentive Amount\")","v":"Estimated Incentive Amount"},null,null,null,null,null,null,null,null,null,null,null,{"$f":"'Analysis 103L'!F20","v":0},null,null,null,null,null,null,null,null,null,{"$f":"'Analysis 103L'!F10","v":0},null,null,null,null,"kWh per year"]
["Estimated Installed Measure Cost",null,null,null,null,null,null,null,null,null,null,null,{"$f":"'Analysis 103L'!M13","v":0},null,null,null,null,null,null,null,null,null,{"$f":"'Analysis 103L'!F12","v":0},null,null,null,null,"kW demand savings"]
["Section D: Incentive Application Submittal Deadline"]
["To apply for the estimated incentives for the Measure(s) identified, Participant must complete, sign and return this Incentive Application to Energy Trust by the following deadline:"]
[{"$f":"IF(AC38=\"\",\"\",AC38+30)","v":""},null,null,null,null,null,null,null,null,null,null,null,null,null,null,null,"Submittal Deadline"]
["Time is of the essence to submit this application. Incentives are subject to change and funding availability. Estimated incentives are not reserved unless Energy Trust receives this completed, signed Incentive Application by the Submittal Deadline date above. Measure equipment purchases and installation activities occurring before the Form 120L is signed and submitted will not qualify for Energy Trust Incentives. "]
["Section E: Incentive Reservation Period and Installation Commitment"]
["Subject to Section D and the terms and conditions of this Incentive Application, Energy Trust will reserve the estimated amount for Participant’s identified Measure(s) until the Incentive Reservation Expiration Date indicated below."]
["2025-12-01",null,null,null,null,null,null,null,null,null,null,null,null,null,null,null,"Incentive Reservation Expiration Date"]
["During the reservation period, Participant will take actions to complete timely installation of the Measure(s), coordinate with any requested Energy Trust project reviews, and timely provide, if requested, copies of Measure equipment purchase orders and other required project documentation demonstrating progress. Changes to a project during the incentive reservation period that affect Measure eligibility, eligible project costs, or energy savings calculations may result in a revised incentive estimate."]
["Any request for an extension beyond the Incentive Reservation Expiration Date must be submitted to Energy Trust in writing and in advance for review and consideration. Energy Trust retains the right to withdraw an incentive reservation at any point during the reservation period if we determine that Participant is not timely providing required project documentation, the project is no longer eligible for incentive funding, or Participant is not progressing appropriately and in good faith to timely complete project work or submit all required payment request documentation by the Incentive Reservation Expiration Date. "]
["Section F: Program Pre-Authorization Signature"]
["Authorized Energy Representative",null,null,null,null,"Name",null,null,null,null,null,null,null,null,null,"Signature",null,null,null,null,null,null,null,null,null,null,"Date",null,{"$f":"IF('Analysis 103L'!R4=\"\",\"\",'Analysis 103L'!R4)","v":""}]
[]
[]
["Section G: Additional Terms and Conditions"]
[]
[]
[]
[]
[]
[]
[]
[]
[]
[]
[]
[]
[]
[]
[]
[]
[]
[]
[]
[]
[]
[]
[]
[]
[]
[]
[]
[]
[]
[]
[]
[]
[]
[]
[]
[]
[]
[]
[]
[]
[]
[]
[]
[]
[]
[]
[]
[]
[]
[]
[]
[]
[]
[]
[]
[]
[]
[]
[]
[]
[]
["By my signature, below, I represent that the named Participant has read, understands and agrees to the terms and conditions of this agreement and that I am authorized to enter this agreement on behalf of Participant."]
["Participant’s Authorized Representative",null,null,null,null,null,null,null,null,null,null,null,null,"Signature",null,null,null,null,null,null,null,null,null,null,null,null,null,"Date"]
[null,null,null,null,"(print name)"]
[]
["For other questions, call Energy Trust at (800) 326-2917."]

{"sheet":"140L Completion Certification","index":17,"n_rows":39,"n_cols":30,"rows_kept":39,"cut":false,"hidden":true,"merged":[[33,0,34,4],[33,5,33,7],[33,8,33,31],[34,5,34,7],[34,8,34,21],[34,24,34,27],[34,30,34,31],[37,0,37,31],[38,2,38,31],[35,0,35,4],[35,5,35,18],[35,19,35,21],[35,22,35,31],[36,0,36,4],[36,5,36,18],[36,19,36,21],[36,22,36,31],[30,26,30,27],[30,28,30,31],[30,0,30,3],[30,4,30,5],[30,6,30,12],[30,13,30,16],[30,17,30,25],[22,3,22,11],[22,12,22,31],[25,2,25,31],[29,6,29,12],[29,28,29,31],[26,0,27,11],[26,12,27,15],[26,16,27,31],[29,17,29,25],[29,13,29,16],[29,26,29,27],[28,0,28,31],[29,0,29,3],[29,4,29,5],[20,2,20,31],[21,3,21,11],[21,12,21,31],[11,0,11,9],[11,10,11,19],[13,0,13,31],[14,28,14,31],[14,26,14,27],[11,20,11,26],[11,27,11,31],[14,0,14,3],[14,4,14,5],[14,6,14,12],[14,13,14,16],[14,17,14,25],[10,0,10,3],[10,4,10,31],[19,0,19,31],[17,0,17,31],[8,0,8,3],[8,4,8,19],[8,20,8,21],[8,22,8,31],[1,0,3,14],[7,15,7,16],[7,17,7,23],[7,24,7,25],[7,26,7,27],[1,27,1,31],[2,27,2,31],[7,29,7,31],[2,18,2,24],[7,0,7,3],[7,4,7,14],[6,5,6,31],[6,0,6,4]]}
[]
[null,null,null,null,null,null,null,null,null,null,null,null,null,null,null,"Program Use Only",null,null,null,null,null,null,null,null,null,null,null,{"$f":"version","v":"v2025.1"}]
[null,null,null,null,null,null,null,null,null,null,null,null,null,null,null,"Project ID",null,null,{"$f":"'100L Information'!S3","v":0},null,null,null,null,null,null,"Ref ID",null,{"$f":"IF('100L Information'!AB3=\"\",\"\",'100L Information'!AB3)","v":""}]
[null,null,null,null,null,null,null,null,null,null,null,null,null,null,null,"Currently Self-Directing",null,null,null,null,null,null,null,null,null,null,null,null,null,{"$f":"'100L Information'!Z4","v":"(select)"}]
[null,null,null,null,null,null,null,null,null,null,null,null,null,null,null,"Currently using EE Self-direct credits?",null,null,null,null,null,null,null,null,null,null,null,null,null,{"$f":"'100L Information'!Z5","v":"(select)"}]
["Section 1: Project Completion Information"]
["Project Name (if different)",null,null,null,null,{"$f":"'100L Information'!I15","v":0}]
["Site Address",null,null,null,{"$f":"'100L Information'!F16","v":0},null,null,null,null,null,null,null,null,null,null,"City",null,{"$f":"'100L Information'!R16","v":0},null,null,null,null,null,null,"State",null,{"$f":"'100L Information'!AA16","v":0},null,"Zip",{"$f":"'100L Information'!AD16","v":0}]
["Contact Name ",null,null,null,{"$f":"'100L Information'!F9","v":0},null,null,null,null,null,null,null,null,null,null,null,null,null,null,null,"Title",null,{"$f":"'100L Information'!R9","v":0}]
["Measure Installation Completion"]
["Measure(s)",null,null,null,"Lighting Retrofit"]
["Completion Certification Issue Date",null,null,null,null,null,null,null,null,null,{"$f":"'Analysis 103L'!R6","v":"00:00:00"},null,null,null,null,null,null,null,null,null,"Estimated Incentive",null,null,null,null,null,null,{"$f":"IF('Performance+'!C27=\"yes\",'Analysis 103L'!#REF!,'Analysis 103L'!F20)","v":0}]
["Participant Signature"]
["By my signature below, I represent to Energy Trust that I am authorized to submit this Completion Certification, the above Measure(s) have been Installed and completed to Participant’s satisfaction, and all submitted project cost documentation for the Measure(s) was provided to Energy Trust as required by the incentive agreement."]
["Authorized Representative",null,null,null,"Print Name",null,null,null,null,null,null,null,null,"Signature",null,null,null,null,null,null,null,null,null,null,null,null,"Date"]
[]
["Section 2: Payee Information"]
["The Energy Trust incentive payment will be made to Participant unless the Option to Assign Incentive Payment section is selected and completed below. "]
[]
["Check ONE payment option below:"]
[null,null,"Make incentive check payable to Participant (check one name only)"]
[null,null,null,"Participant Legal Name",null,null,null,null,null,null,null,null,{"$f":"'100L Information'!K7","v":0}]
[null,null,null,"Participant Assumed Business Name",null,null,null,null,null,null,null,null,{"$f":"'100L Information'!M8","v":0}]
[null,null,null,null,null,null,null,null,null,null,null,null,"(Information must match previously submitted IRS Form W-9)"]
[]
[null,null,"Assign the incentive check to Business Lighting trade ally or other Payee (if checked, both Participant and its designated Payee must complete and sign the Option to Assign Incentive Payment below and submit a complete, accurate and verifiable IRS Form W-9 for the Payee)"]
["Designated Payee Name \n(must match submitted IRS Form W-9)",null,null,null,null,null,null,null,null,null,null,null,"Print Name"]
[]
["Option to Assign Incentive Payment:  Both Participant (the assignor) and the Payee designated above (the assignee) understand and agree that if this option is selected the incentive check will be issued to the designated Payee at the address indicated and Energy Trust is not responsible for any tax liabilities that may be associated with the incentive payment. In addition, Participant understands that, notwithstanding this assignment, responsibility for complying with the terms and conditions of this incentive agreement shall continue to be the obligation of Participant, and Energy Trust's sole responsibility under this incentive agreement shall be to Participant. Accordingly, Payee understands that it shall have no rights against Energy Trust or the PDC with respect to such assignment or the payment of the incentive, and in the event that Energy Trust does not pay the incentive as a result of Participant's failure to comply with this agreement, Payee's sole recourse shall be against Participant. Participant directs Energy Trust to pay any incentive to which it is entitled to the designated Payee and waives all rights to directly receive the Energy Trust incentives for the identified energy-efficiency project. Each of the individuals signing this Option to Assign Incentive Payment represents and warrants that he or she has been properly authorized by the party indicated to sign this Option to Assign Incentive Payment agreement on such party's behalf."]
["On behalf of Participant Authorized Representative",null,null,null,"Print Name",null,null,null,null,null,null,null,null,"Signature",null,null,null,null,null,null,null,null,null,null,null,null,"Date"]
["On behalf of Payee Authorized Representative ",null,null,null,"Print Name",null,null,null,null,null,null,null,null,"Signature",null,null,null,null,null,null,null,null,null,null,null,null,"Date"]
[]
["Section 3 (Required): Check mailing address (for Participant or other Payee, as indicated in Section 2)"]
["Mailing Address for Check",null,null,null,null,"Address"]
[null,null,null,null,null,"City",null,null,null,null,null,null,null,null,null,null,null,null,null,null,null,null,"State",null,null,null,null,null,"Zip"]
["Contact Name ",null,null,null,null,null,null,null,null,null,null,null,null,null,null,null,null,null,null,"Company"]
["Contact Email Address",null,null,null,null,null,null,null,null,null,null,null,null,null,null,null,null,null,null,"Phone"]
["SIGNATURES: Documents transmitted with faxed, scanned, or digital signatures shall be deemed to be original signatures. At the request of Energy Trust, Participant shall confirm signature by providing an original document."]
["Note:",null," To receive payment, all invoices must be submitted in addition to this Completion Certification form."]

{"sheet":"PI 190L Lighting Incentives","index":18,"n_rows":2,"n_cols":1,"rows_kept":2,"cut":false,"hidden":false,"merged":[[1,0,1,17]]}
[]
["Program Information 190L—Lighting Incentives"]

{"sheet":"MidstreamTable","index":19,"n_rows":39,"n_cols":8,"rows_kept":39,"cut":false,"hidden":true,"merged":[]}
[]
[null,null,null,"Incentives current as of [DATE].  "]
[null,null,null,"Check with [WEBSITE] to insure these are the current incentives."]
[]
[null,"Qualifying DLC Listed LED Products"]
[null,null,null,"per-unit",null,"Total"]
[null,"Category","Sub-Category","Incentive","Deemed Savings","Install Quantity","Deemed Savings","Incentive"]
[null,"Pin-based CFL replacement","All lumens",2.5,null,50,{"$f":"F8*E8","v":0},{"$f":"F8*D8","v":125}]
[null,"HID to LED screw-in","49 W or less",22.5]
[null,"HID to LED screw-in","50-80W",37.5]
[null,"HID to LED screw-in","81W or more",25.5]
[null,"TLED line voltage or remote driver (B/C)","2ft",3]
[null,"TLED line voltage or remote driver (B/C)","3ft",4.5]
[null,"TLED line voltage or remote driver (B/C)","4ft or U-bend",6]
[null,"TLED line voltage or remote driver (B/C)","5ft",7.5]
[null,"TLED line voltage or remote driver (B/C)","6ft",9]
[null,"TLED line voltage or remote driver (B/C)","8ft",12]
[null,"TLED in line (A)","2ft",2.25]
[null,"TLED in line (A)","3ft",3.5]
[null,"TLED in line (A)","4ft or U-bend",4.5]
[null,"TLED in line (A)","5ft",5.5]
[null,"TLED in line (A)","6ft",6.75]
[null,"TLED in line (A)","8ft",9]
[null,"Interior fixture or kit","25W or less",20]
[null,"Interior fixture or kit","36-39W",25]
[null,"Interior fixture or kit","40-57W",35]
[null,"Interior fixture or kit","58-100W",40]
[null,"High/low bay interior fixture or kit","40-90W",90]
[null,"High/low bay interior fixture or kit","91-140W",142.5]
[null,"High/low bay interior fixture or kit","141-299W",157.5]
[null,"High/low bay interior fixture or kit","300W or more",217.5]
[null,"Exterior fixture or kit","20W or less",32]
[null,"Exterior fixture or kit","21-40W",44]
[null,"Exterior fixture or kit","41-90W",85]
[null,"Exterior fixture or kit","91-140W",160]
[null,"Exterior fixture or kit","141-299W",195]
[null,"Exterior fixture or kit","300W or more",300]
[]
[null,"TOTAL"]

{"sheet":"Existing Equipment","index":20,"n_rows":271,"n_cols":22,"rows_kept":271,"cut":false,"hidden":true,"merged":[]}
["Energy Trust of Oregon - Standard Fixture Wattages",null,null,null,null,null,null,null,null,null,null,null,null,null,"Hours of Use from MADs",null,null,null,null,null,null,"Instructions"]
["Existing Equipment",null,null,null,null,null,null,null,null,null,null,null,null,null,"Interior",3871,"This value is referenced from PY 2024 CEC 33; program data analysis showed that the majority of custom projects replaced HIDs.",null,null,null,null,"1.  Update Fixture NEBs in column P:P & Fixture NEBs source detail in column Q:Q."]
["Note: All T12 Fluorescent fixtures assume energy efficient lamp and stand. mag ballasts",null,null,null,null,null,"FIXTURES",null,null,"LAMPS",null,null,null,null,"Exterior",4249,"This value is referenced from PY 2024 CEC",null,null,null,null,"2.  Update Lamp NEBs in column R:R & Lamp NEB source detail in column S:S."]
[null,null,null,null,null,null,null,null,null,null,null,"Weighted Average "]
["Initial","Fixt Description","CWT Watts","Qty-Lamps","Ref. Source",null,null,null,null,null,"Post Standard","Lamps only lookup","Fixture NEB Source CEC (PY 2024)","Fixture CEC Row / Extrapolation (PY 2024)","Fixture NEB",null,"Lamp NEB","Lamp NEB Source CEC (PY 2024)","Lamp CEC Row / Extrapolation (PY 2024)"]
[null,null,null,null,null,null,6,7,8,9,10]
[null,"*******************************************************",null,null,"Column C",null,"RTF's Non-Res","RTF's Non-Res","Measure life","RTF's Non-Res","RTF's Non-Res","Measure life"]
[null,"T-12 FIXTURES - 4 FEET OR LESS","(select)","(select)","Wattage ",null,"Baseline Wattage","Baseline Wattage","Period 1","Baseline Wattage","Baseline Wattage","Period 1"]
[null,"*******************************************************",null,null,"Source",null,"\"Period 2\" (part 2)","\"Period 2\" (part 1)","RTF (years)","\"Period 2\" (part 2)","\"Period 2\" (part 1)","RTF (years)"]
["T12_2or3ft","2', 1 lamp T12",25,"1","RTF",null,1.0094207608825747,5.7721676733645921,8.4409555161644292,0.8463319291772361,8.288452197729832,2.5358184354000253,"64 - LED commercial fixtures","same as 4-lamp version, per lamp * 1/2",1.04537382492356,null,1.7283845808221661,"8 - TLEDS (Type B/C)","same as 2' T8"]
["T12_2or3ft","2', 2 lamp T12",50,"2","RTF",null,1.0094207608825747,11.544335346729184,8.4409555161644292,0.8463319291772361,16.576904395459664,2.5358184354000253,"64 - LED commercial fixtures","same as 4-lamp version, per lamp * 1/2",2.09074764984712,null,3.4567691616443321,"8 - TLEDS (Type B/C)","same as 2' T8"]
["T12_2or3ft","3', 1 lamp T12",34.5,"1","RTF",null,1.0094207608825747,7.9655913892431371,8.4409555161644292,0.8463319291772361,11.438064032867167,2.5358184354000253,"64 - LED commercial fixtures","same as 4-lamp version, per lamp * 3/4",1.5680607373853399,null,1.7283845808221661,"8 - TLEDS (Type B/C)","same as 2' T8"]
["T12_2or3ft","3', 2 lamp T12",69,"2","RTF",null,1.0094207608825747,15.931182778486274,8.4409555161644292,0.8463319291772361,22.876128065734335,2.5358184354000253,"64 - LED commercial fixtures","same as 4-lamp version, per lamp * 3/4",3.1361214747706798,null,3.4567691616443321,"8 - TLEDS (Type B/C)","same as 2' T8"]
["T12_4ft","4', 1 lamp T12",40.799999999999997,"1","RTF",null,1.0094207608825747,9.420177642931014,8.4409555161644292,0.8463319291772361,13.526753986695084,2.5358184354000253,"64 - LED commercial fixtures","same as 4-lamp version, per lamp",2.09074764984712,null,1.288144742401355,"8 - TLEDS (Type B/C)","same as 2-lamp version, per lamp"]
["T12_4ft","4', 2 lamp T12",81.599999999999994,"2","RTF",null,1.0094207608825747,18.840355285862028,8.4409555161644292,0.8463319291772361,27.053507973390168,2.5358184354000253,"64 - LED commercial fixtures","same as 4-lamp version, per lamp",4.1814952996942401,null,2.57628948480271,"8 - TLEDS (Type B/C)","row 132"]
["T12_4ft","4', 3 lamp T12",122.39999999999999,"3","RTF",null,1.0094207608825747,28.26053292879304,8.4409555161644292,0.8463319291772361,40.580261960085252,2.5358184354000253,"64 - LED commercial fixtures","row 54",5.7794527613553797,null,3.7662726973407099,"8 - TLEDS (Type B/C)","Extrapolated between 2 and 4 lamp"]
["T12_4ft","4', 4 lamp T12",163.19999999999999,"4","RTF",null,1.0094207608825747,37.680710571724056,8.4409555161644292,0.8463319291772361,54.107015946780336,2.5358184354000253,"64 - LED commercial fixtures","row 55",8.3629905993884801,null,4.9562559098787098,"8 - TLEDS (Type B/C)","row 130"]
[]
[null,"*******************************************************"]
[null,"T-12 FIXTURES - U - Bent","(select)","(select)",null,null,null,null,null,null,"(select)"]
[null,"*******************************************************"]
["T12_U_bent","U bent 1 lamp T12",42,1,"RTF",null,1.0094207608825747,9.6972416912525148,8.4409555161644292,0.8463319291772361,13.924599692186117,2.5358184354000253,"64 - LED commercial fixtures","same as 4-lamp 4' version, per lamp",2.09074764984712,null,1.288144742401355,"8 - TLEDS (Type B/C)","same as 4-lamp 4' version, per lamp"]
["T12_U_bent","U bent 2 lamp T12",84,2,"RTF",null,1.0094207608825747,19.39448338250503,8.4409555161644292,0.8463319291772361,27.849199384372234,2.5358184354000253,"64 - LED commercial fixtures","same as 4-lamp 4' version, per lamp",4.1814952996942401,null,2.57628948480271,"8 - TLEDS (Type B/C)","same as 4-lamp 4' version, per lamp"]
[]
["*******************************************************"]
[null,"STANDARD T8's","(select)","(select)",null,null,null,null,null,null,"(select)"]
["*******************************************************"]
["T8_2ft","2', 1 lamp T8",14.96,1,"RTF",null,1.0094207608825747,5.334401430582262,8.4409555161644292,0.8463319291772361,5.7079495813418104,2.5358184354000253,"64 - LED commercial fixtures","same as 4-lamp version, per lamp",1.400260816096673,null,1.7283845808221661,"8 - TLEDS (Type B/C)","row 7"]
["T8_2ft","2', 2 lamp T8",29.92,2,"RTF",null,1.0094207608825747,10.668802861164524,8.4409555161644292,0.8463319291772361,11.415899162683621,2.5358184354000253,"64 - LED commercial fixtures","same as 4-lamp version, per lamp",1.400260816096673,null,3.4567691616443321,"8 - TLEDS (Type B/C)","Same as 1 lamp version, per lamp"]
["T8_U_bent","U bent 1 lamp T8",29.44,1,"RTF",null,1.0094207608825747,10.497645596012152,8.4409555161644292,0.8463319291772361,11.23275639536784,2.5358184354000253,"64 - LED commercial fixtures","same as 4-lamp version, per lamp",1.400260816096673,null,1.0974939754815081,"8 - TLEDS (Type B/C)","Same as 28W version"]
["T8_U_bent","U bent 2 lamp T8",58.88,2,"RTF",null,1.0094207608825747,20.995291192024304,8.4409555161644292,0.8463319291772361,22.46551279073568,2.5358184354000253,"64 - LED commercial fixtures","same as 4-lamp version, per lamp",2.8005216321933459,null,2.1949879509630161,"8 - TLEDS (Type B/C)","Same as 28W version"]
["T8_4ft","4', 1 lamp T8 32W",29.207253487253489,1,"RTF",null,1.0094207608825747,10.414653394771641,8.4409555161644292,0.8463319291772361,11.143952561143895,2.5358184354000253,"64 - LED commercial fixtures","same as 4-lamp version, per lamp",1.400260816096673,null,1.0974939754815081,"8 - TLEDS (Type B/C)","Same as 2 lamp version, per lamp"]
["T8_4ft","4', 2 lamp T8 32W",58.414506974506978,2,"RTF",null,1.0094207608825747,20.829306789543281,8.4409555161644292,0.8463319291772361,22.287905122287789,2.5358184354000253,"64 - LED commercial fixtures","row 7",3.1478667014888364,null,2.1949879509630161,"8 - TLEDS (Type B/C)","Same as 2 lamp version, per lamp"]
["T8_4ft","4', 3 lamp T8 32W",87.621760461760459,3,"RTF",null,1.0094207608825747,31.243960184314922,8.4409555161644292,0.8463319291772361,33.43185768343168,2.5358184354000253,"64 - LED commercial fixtures","row 13",4.9092937094983018,null,3.883624486055139,"8 - TLEDS (Type B/C)","Same as 2 lamp version, per lamp"]
["T8_4ft","4', 4 lamp T8 32W",116.82901394901396,4,"RTF",null,1.0094207608825747,41.658613579086563,8.4409555161644292,0.8463319291772361,44.575810244575578,2.5358184354000253,"64 - LED commercial fixtures","row 10",5.6010432643866919,null,4.1948395763519901,"8 - TLEDS (Type B/C)","Same as 2 lamp version, per lamp"]
["T8_4ft","4', 6 lamp T8 32W",175.24352092352092,6,"RTF",null,1.0094207608825747,62.487920368629844,8.4409555161644292,0.8463319291772361,66.86371536686336,2.5358184354000253,"64 - LED commercial fixtures","same as 4-lamp version, per lamp",8.4015648965800374,null,6.1961571674589662,"8 - TLEDS (Type B/C)","Same as 2 lamp version, per lamp"]
["T8_4ft","4', 1 lamp HP T8 (25W, BF≤0.85)",18.75,"1","RTF",null,1.0094207608825747,6.685830670014532,8.4409555161644292,0.8463319291772361,7.1540143482726561,2.5358184354000253,"64 - LED commercial fixtures","same as 4-lamp version, per lamp",1.400260816096673,null,1.0974939754815081,"8 - TLEDS (Type B/C)","Same as 2 lamp version, per lamp"]
["T8_4ft","4', 1 lamp HP T8 (25W, 0.85<BF≤1.0)",21.5,"1","RTF",null,1.0094207608825747,7.6664191682833307,8.4409555161644292,0.8463319291772361,8.2032697860193124,2.5358184354000253,"64 - LED commercial fixtures","same as 4-lamp version, per lamp",1.400260816096673,null,1.0974939754815081,"8 - TLEDS (Type B/C)","Same as 2 lamp version, per lamp"]
["T8_4ft","4', 2 lamp HP T8 (25W, BF≤0.85)",37.5,"2","RTF",null,1.0094207608825747,13.371661340029064,8.4409555161644292,0.8463319291772361,14.308028696545312,2.5358184354000253,"64 - LED commercial fixtures","same as 4-lamp version, per lamp",2.8005216321933459,null,2.1949879509630161,"8 - TLEDS (Type B/C)","Same as 2 lamp version, per lamp"]
["T8_4ft","4', 2 lamp HP T8 (25W, 0.85<BF≤1.0)",43,"2","RTF",null,1.0094207608825747,15.332838336566661,8.4409555161644292,0.8463319291772361,16.406539572038625,2.5358184354000253,"64 - LED commercial fixtures","same as 4-lamp version, per lamp",2.8005216321933459,null,2.1949879509630161,"8 - TLEDS (Type B/C)","Same as 2 lamp version, per lamp"]
["T8_4ft","4', 2 lamp HP T8 (25W, BF≥1.01)",56.999999999999993,"2","RTF",null,1.0094207608825747,20.324925236844177,8.4409555161644292,0.8463319291772361,21.748203618748871,2.5358184354000253,"64 - LED commercial fixtures","same as 4-lamp version, per lamp",2.8005216321933459,null,2.1949879509630161,"8 - TLEDS (Type B/C)","Same as 2 lamp version, per lamp"]
["T8_4ft","4', 3 lamp HP T8 (25W, BF≤0.85)",56.25,"3","RTF",null,1.0094207608825747,20.057492010043596,8.4409555161644292,0.8463319291772361,21.462043044817968,2.5358184354000253,"64 - LED commercial fixtures","same as 4-lamp version, per lamp",4.2007824482900187,null,3.883624486055139,"8 - TLEDS (Type B/C)","Same as 2 lamp version, per lamp"]
["T8_4ft","4', 3 lamp HP T8 (25W, 0.85<BF≤1.0)",64.5,"3","RTF",null,1.0094207608825747,22.999257504849989,8.4409555161644292,0.8463319291772361,24.609809358057937,2.5358184354000253,"64 - LED commercial fixtures","same as 4-lamp version, per lamp",4.2007824482900187,null,3.883624486055139,"8 - TLEDS (Type B/C)","Same as 2 lamp version, per lamp"]
["T8_4ft","4', 3 lamp HP T8 (25W, BF≥1.01)",85.499999999999986,"3","RTF",null,1.0094207608825747,30.487387855266263,8.4409555161644292,0.8463319291772361,32.622305428123305,2.5358184354000253,"64 - LED commercial fixtures","same as 4-lamp version, per lamp",4.2007824482900187,null,3.883624486055139,"8 - TLEDS (Type B/C)","Same as 2 lamp version, per lamp"]
["T8_4ft","4', 4 lamp HP T8 (25W, BF≤0.85)",75,"4","RTF",null,1.0094207608825747,26.743322680058128,8.4409555161644292,0.8463319291772361,28.616057393090625,2.5358184354000253,"64 - LED commercial fixtures","same as 4-lamp version, per lamp",5.6010432643866919,null,4.1948395763519901,"8 - TLEDS (Type B/C)","Same as 2 lamp version, per lamp"]
["T8_4ft","4', 4 lamp HP T8 (25W, 0.85<BF≤1.0)",86,"4","RTF",null,1.0094207608825747,30.665676673133323,8.4409555161644292,0.8463319291772361,32.81307914407725,2.5358184354000253,"64 - LED commercial fixtures","same as 4-lamp version, per lamp",5.6010432643866919,null,4.1948395763519901,"8 - TLEDS (Type B/C)","Same as 2 lamp version, per lamp"]
["T8_4ft","4', 4 lamp HP T8 (25W, BF≥1.01)",113.99999999999999,"4","RTF",null,1.0094207608825747,40.649850473688353,8.4409555161644292,0.8463319291772361,43.496407237497742,2.5358184354000253,"64 - LED commercial fixtures","same as 4-lamp version, per lamp",5.6010432643866919,null,4.1948395763519901,"8 - TLEDS (Type B/C)","Same as 2 lamp version, per lamp"]
["T8_4ft","4', 1 lamp HP T8 (28W, BF≤0.85)",21,"1","RTF",null,1.0094207608825747,7.4881303504162764,8.4409555161644292,0.8463319291772361,8.0124960700653745,2.5358184354000253,"64 - LED commercial fixtures","same as 4-lamp version, per lamp",1.400260816096673,null,1.0974939754815081,"8 - TLEDS (Type B/C)","Same as 2 lamp version, per lamp"]
["T8_4ft","4', 1 lamp HP T8 (28W, 0.85<BF≤1.0)",24.08,"1","RTF",null,1.0094207608825747,8.5863894684773285,8.4409555161644292,0.8463319291772361,9.1876621603416293,2.5358184354000253,"64 - LED commercial fixtures","same as 4-lamp version, per lamp",1.400260816096673,null,1.0974939754815081,"8 - TLEDS (Type B/C)","Same as 2 lamp version, per lamp"]
["T8_4ft","4', 2 lamp HP T8 (28W, BF≤0.85)",42,"2","RTF",null,1.0094207608825747,14.976260700832553,8.4409555161644292,0.8463319291772361,16.024992140130749,2.5358184354000253,"64 - LED commercial fixtures","same as 4-lamp version, per lamp",2.8005216321933459,null,2.1949879509630161,"8 - TLEDS (Type B/C)","Same as 2 lamp version, per lamp"]
["T8_4ft","4', 2 lamp HP T8 (28W, 0.85<BF≤1.0)",48.16,"2","RTF",null,1.0094207608825747,17.172778936954657,8.4409555161644292,0.8463319291772361,18.375324320683259,2.5358184354000253,"64 - LED commercial fixtures","same as 4-lamp version, per lamp",2.8005216321933459,null,2.1949879509630161,"8 - TLEDS (Type B/C)","Same as 2 lamp version, per lamp"]
["T8_4ft","4', 2 lamp HP T8 (28W, BF≥1.01)",63.839999999999996,"2","RTF",null,1.0094207608825747,22.763916265265479,8.4409555161644292,0.8463319291772361,24.357988052998738,2.5358184354000253,"64 - LED commercial fixtures","same as 4-lamp version, per lamp",2.8005216321933459,null,2.1949879509630161,"8 - TLEDS (Type B/C)","Same as 2 lamp version, per lamp"]
["T8_4ft","4', 3 lamp HP T8 (28W, BF≤0.85)",63,"3","RTF",null,1.0094207608825747,22.464391051248828,8.4409555161644292,0.8463319291772361,24.037488210196123,2.5358184354000253,"64 - LED commercial fixtures","same as 4-lamp version, per lamp",4.2007824482900187,null,3.883624486055139,"8 - TLEDS (Type B/C)","Same as 2 lamp version, per lamp"]
["T8_4ft","4', 3 lamp HP T8 (28W, 0.85<BF≤1.0)",72.239999999999995,"3","RTF",null,1.0094207608825747,25.759168405431989,8.4409555161644292,0.8463319291772361,27.562986481024886,2.5358184354000253,"64 - LED commercial fixtures","same as 4-lamp version, per lamp",4.2007824482900187,null,3.883624486055139,"8 - TLEDS (Type B/C)","Same as 2 lamp version, per lamp"]
["T8_4ft","4', 3 lamp HP T8 (28W, BF≥1.01)",95.759999999999991,"3","RTF",null,1.0094207608825747,34.145874397898218,8.4409555161644292,0.8463319291772361,36.536982079498102,2.5358184354000253,"64 - LED commercial fixtures","same as 4-lamp version, per lamp",4.2007824482900187,null,3.883624486055139,"8 - TLEDS (Type B/C)","Same as 2 lamp version, per lamp"]
["T8_4ft","4', 4 lamp HP T8 (28W, BF≤0.85)",84,"4","RTF",null,1.0094207608825747,29.952521401665106,8.4409555161644292,0.8463319291772361,32.049984280261498,2.5358184354000253,"64 - LED commercial fixtures","same as 4-lamp version, per lamp",5.6010432643866919,null,4.1948395763519901,"8 - TLEDS (Type B/C)","Same as 2 lamp version, per lamp"]
["T8_4ft","4', 4 lamp HP T8 (28W, 0.85<BF≤1.0)",96.32,"4","RTF",null,1.0094207608825747,34.345557873909314,8.4409555161644292,0.8463319291772361,36.750648641366517,2.5358184354000253,"64 - LED commercial fixtures","same as 4-lamp version, per lamp",5.6010432643866919,null,4.1948395763519901,"8 - TLEDS (Type B/C)","Same as 2 lamp version, per lamp"]
["T8_4ft","4', 4 lamp HP T8 (28W, BF≥1.01)",127.67999999999999,"4","RTF",null,1.0094207608825747,45.527832530530958,8.4409555161644292,0.8463319291772361,48.715976105997477,2.5358184354000253,"64 - LED commercial fixtures","same as 4-lamp version, per lamp",5.6010432643866919,null,4.1948395763519901,"8 - TLEDS (Type B/C)","Same as 2 lamp version, per lamp"]
["T8_8ft","8', 1 lamp T8",54.28,"1","RTF",null,1.0094207608825747,19.355034067647402,8.4409555161644292,0.8463319291772361,20.710394603959454,2.5358184354000253,"64 - LED commercial fixtures","same as 2-lamp version, per lamp",2.553283300973463,null,1.6620614791179267,"8 - TLEDS (Type B/C)","Same as 2 lamp version, per lamp"]
["T8_8ft","8', 2 lamp T8",108.56,"2","RTF",null,1.0094207608825747,38.710068135294804,8.4409555161644292,0.8463319291772361,41.420789207918908,2.5358184354000253,"64 - LED commercial fixtures","row 38",5.106566601946926,null,3.3241229582358534,"8 - TLEDS (Type B/C)","row 188"]
["T8_8ft","8', 3 lamp T8",162.84,"3","RTF",null,1.0094207608825747,58.065102202942214,8.4409555161644292,0.8463319291772361,62.131183811878365,2.5358184354000253,"64 - LED commercial fixtures","same as 2-lamp version, per lamp",7.6598499029203886,null,4.9861844373537796,"8 - TLEDS (Type B/C)","Same as 2 lamp version, per lamp"]
["T8_8ft","8', 4 lamp T8",217.12,"4","RTF",null,1.0094207608825747,77.420136270589609,8.4409555161644292,0.8463319291772361,82.841578415837816,2.5358184354000253,"64 - LED commercial fixtures","row 73",8.7940546638875112,null,6.6482459164717067,"8 - TLEDS (Type B/C)","Same as 2 lamp version, per lamp"]
["T8_8ft","8', 1 lamp T8 (24,000 + hrs)",54.28,"1","RTF",null,1.0094207608825747,19.355034067647402,8.4409555161644292,0.8463319291772361,20.710394603959454,2.5358184354000253,"64 - LED commercial fixtures","same as 2-lamp version, per lamp",2.553283300973463,null,1.3296491832943413,"8 - TLEDS (Type B/C)","Extrapolated (80% of T8 version)"]
["T8_8ft","8', 2 lamp T8 (24,000 + hrs)",108.56,"2","RTF",null,1.0094207608825747,38.710068135294804,8.4409555161644292,0.8463319291772361,41.420789207918908,2.5358184354000253,"64 - LED commercial fixtures","row 38",5.106566601946926,null,2.6592983665886827,"8 - TLEDS (Type B/C)","Extrapolated (80% of T8 version)"]
["T8_8ft","8', 3 lamp T8 (24,000 + hrs)",162.84,"3","RTF",null,1.0094207608825747,58.065102202942214,8.4409555161644292,0.8463319291772361,62.131183811878365,2.5358184354000253,"64 - LED commercial fixtures","same as 2-lamp version, per lamp",7.6598499029203886,null,3.988947549883024,"8 - TLEDS (Type B/C)","Extrapolated (80% of T8 version)"]
["T8_8ft","8', 4 lamp T8 (24,000 + hrs)",217.12,"4","RTF",null,1.0094207608825747,77.420136270589609,8.4409555161644292,0.8463319291772361,82.841578415837816,2.5358184354000253,"64 - LED commercial fixtures","row 73",8.7940546638875112,null,5.3185967331773654,"8 - TLEDS (Type B/C)","Extrapolated (80% of T8 version)"]
["T8_8ft","8', 1 lamp T8 HO",79.12,"1","RTF",null,1.0094207608825747,28.212422539282656,8.4409555161644292,0.8463319291772361,30.188032812551072,2.5358184354000253,"64 - LED commercial fixtures","same as 2-lamp version, per lamp",2.553283300973463,null,1.6620614791179267,"8 - TLEDS (Type B/C)","Extrapolated (same as 2-lamp version, per lamp)"]
["T8_8ft","8', 2 lamp T8 HO",158.24,"2","RTF",null,1.0094207608825747,56.424845078565312,8.4409555161644292,0.8463319291772361,60.376065625102143,2.5358184354000253,"64 - LED commercial fixtures","row 38",5.106566601946926,null,3.3241229582358534,"8 - TLEDS (Type B/C)","Extrapolated (same as 2-lamp version, per lamp)"]
["T8_8ft","8', 3 lamp T8 HO",237.36,"3","RTF",null,1.0094207608825747,84.637267617847968,8.4409555161644292,0.8463319291772361,90.564098437653215,2.5358184354000253,"64 - LED commercial fixtures","same as 2-lamp version, per lamp",7.6598499029203886,null,4.9861844373537796,"8 - TLEDS (Type B/C)","Extrapolated (same as 2-lamp version, per lamp)"]
["T8_8ft","8', 4 lamp T8 HO",316.48,"4","RTF",null,1.0094207608825747,112.84969015713062,8.4409555161644292,0.8463319291772361,120.75213125020429,2.5358184354000253,"64 - LED commercial fixtures","row 73",8.7940546638875112,null,6.6482459164717067,"8 - TLEDS (Type B/C)","Extrapolated (same as 2-lamp version, per lamp)"]
[]
[null,"*******************************************************"]
[null,"T-12 FIXTURES - 8 FEET","(select)","(select)",null,null,null,null,null,null,"(select)"]
[null,"*******************************************************"]
["T12_8ft","8', 1 lamp T12",69,"1","RTF",null,1.0094207608825747,15.931182778486274,8.4409555161644292,0.8463319291772361,22.876128065734335,2.5358184354000253,"64 - LED commercial fixtures","same as 2-lamp version, per lamp",4.4593638575361663,null,3.8071588984376086,"8 - TLEDS (Type B/C)","Row 285"]
["T12_8ft","8', 2 lamp T12",138,"2","RTF",null,1.0094207608825747,31.862365556972549,8.4409555161644292,0.8463319291772361,45.75225613146867,2.5358184354000253,"64 - LED commercial fixtures","row 51",8.9187277150723325,null,3.8071588984376086,"8 - TLEDS (Type B/C)","Extrapolation (same as 1-lamp, per lamp)"]
["T12_8ft","8', 3 lamp T12",206.99999999999997,"3","RTF",null,1.0094207608825747,47.793548335458816,8.4409555161644292,0.8463319291772361,68.62838419720299,2.5358184354000253,"64 - LED commercial fixtures","same as 2-lamp version, per lamp",13.378091572608499,null,3.8071588984376086,"8 - TLEDS (Type B/C)","Extrapolation (same as 1-lamp, per lamp)"]
["T12_8ft","8', 4 lamp T12",276,"4","RTF",null,1.0094207608825747,63.724731113945097,8.4409555161644292,0.8463319291772361,91.50451226293734,2.5358184354000253,"64 - LED commercial fixtures","row 77",18.747083457135652,null,3.8071588984376086,"8 - TLEDS (Type B/C)","Extrapolation (same as 1-lamp, per lamp)"]
["T12_8ft","8', 1 lamp T12 HO",114,"1","RTF",null,1.0094207608825747,26.32108459054254,8.4409555161644292,0.8463319291772361,37.795342021648032,2.5358184354000253,"64 - LED commercial fixtures","same as 2-lamp version, per lamp",5.3857248765547832,null,3.8071588984376086,"8 - TLEDS (Type B/C)","Same as standard version"]
["T12_8ft","8', 2 lamp T12 HO",228,"2","RTF",null,1.0094207608825747,52.64216918108508,8.4409555161644292,0.8463319291772361,75.590684043296065,2.5358184354000253,"64 - LED commercial fixtures","row 76",10.771449753109566,null,3.8071588984376086,"8 - TLEDS (Type B/C)","Same as standard version"]
["T12_8ft","8', 3 lamp T12 HO",342,"3","RTF",null,0.93932794752763815,134.94012771557627,8.4409555161644292,0.78210714949413318,101.52106303683618,2.5358184354000253,"64 - LED commercial fixtures","same as 2-lamp version, per lamp",16.15717462966435,null,3.8071588984376086,"8 - TLEDS (Type B/C)","Same as standard version"]
["T12_8ft","8', 4 lamp T12 HO",456,"4","RTF",null,0.93932794752763815,179.92017028743501,8.4409555161644292,0.78210714949413318,135.36141738244825,2.5358184354000253,"64 - LED commercial fixtures","same as 2-lamp version, per lamp",21.542899506219133,null,3.8071588984376086,"8 - TLEDS (Type B/C)","Same as standard version"]
["T12_8ft","8', 1 lamp T12 VHO",188.70000000000002,"1","RTF",null,1.0094207608825747,43.568321598555947,8.4409555161644292,0.8463319291772361,62.561237188464773,2.5358184354000253,"64 - LED commercial fixtures","same as T12 HO version",5.3857248765547832,null,3.8071588984376086,"8 - TLEDS (Type B/C)","Same as standard version"]
["T12_8ft","8', 2 lamp T12 VHO",377.40000000000003,"2","RTF",null,0.93932794752763815,148.90761461946926,8.4409555161644292,0.78210714949413318,112.02938359678942,2.5358184354000253,"64 - LED commercial fixtures","same as T12 HO version",10.771449753109566,null,3.8071588984376086,"8 - TLEDS (Type B/C)","Same as standard version"]
["T12_8ft","8', 3 lamp T12 VHO",566.1,"3","RTF",null,0.93932794752763815,223.36142192920389,8.4409555161644292,0.78210714949413318,168.04407539518411,2.5358184354000253,"64 - LED commercial fixtures","same as T12 HO version",16.15717462966435,null,3.8071588984376086,"8 - TLEDS (Type B/C)","Same as standard version"]
["T12_8ft","8', 4 lamp T12 VHO",754.80000000000007,"4","RTF",null,0.93932794752763815,297.81522923893851,8.4409555161644292,0.78210714949413318,224.05876719357883,2.5358184354000253,"64 - LED commercial fixtures","same as T12 HO version",21.542899506219133,null,3.8071588984376086,"8 - TLEDS (Type B/C)","Same as standard version"]
[]
[null,"*******************************************************"]
[null,"T5 FIXTURES","(select)","(select)",null,null,null,null,null,null,"(select)"]
[null,"*******************************************************"]
["T5_4ft","T5HO1-lamp fixture (low watt)",53.900000000000006,"1","RTF",null,0.93932794752763815,26.119974467630453,7.1240293510009254,0.78210714949413318,22.055078586283027,2.5358184354000253,"211- High and Low-Bay LED Luminaires-CEC","Same as 54 watt",4.0891575232733768,null,2.3221437033237238,"8 - TLEDS (Type B/C)","Row 134"]
["T5_4ft","T5HO1-lamp fixture (54 watt)",59.400000000000006,"1","RTF",null,0.93932794752763815,28.7852779847356,7.1240293510009254,0.78210714949413318,24.305596809373132,2.5358184354000253,"211- High and Low-Bay LED Luminaires-CEC","Same as 4 lamp, per lamp",4.0891575232733768,null,2.3221437033237238,"8 - TLEDS (Type B/C)","Extrapolation (same as 1-lamp, per lamp)"]
["T5_4ft","T5HO2-lamp fixture (low watt)",107.80000000000001,"2","RTF",null,0.93932794752763815,52.239948935260905,7.1240293510009254,0.78210714949413318,44.110157172566055,2.5358184354000253,"211- High and Low-Bay LED Luminaires-CEC","Same as 54 watt",8.1783150465467536,null,2.3221437033237238,"8 - TLEDS (Type B/C)","Extrapolation (same as 1-lamp, per lamp)"]
["T5_4ft","T5HO2-lamp fixture (54 watt)",118.80000000000001,"2","RTF",null,0.93932794752763815,57.570555969471201,7.1240293510009254,0.78210714949413318,48.611193618746263,2.5358184354000253,"211- High and Low-Bay LED Luminaires-CEC","Same as 4 lamp, per lamp",8.1783150465467536,null,2.3221437033237238,"8 - TLEDS (Type B/C)","Extrapolation (same as 1-lamp, per lamp)"]
["T5_4ft","T5HO3-lamp fixture (low watt)",161.70000000000002,"3","RTF",null,0.93932794752763815,78.359923402891354,7.1240293510009254,0.78210714949413318,66.165235758849079,2.5358184354000253,"211- High and Low-Bay LED Luminaires-CEC","Same as 54 watt",12.26747256982013,null,2.3221437033237238,"8 - TLEDS (Type B/C)","Extrapolation (same as 1-lamp, per lamp)"]
["T5_4ft","T5HO3-lamp fixture (54 watt)",178.20000000000002,"3","RTF",null,0.93932794752763815,86.355833954206801,7.1240293510009254,0.78210714949413318,72.916790428119398,2.5358184354000253,"211- High and Low-Bay LED Luminaires-CEC","Same as 4 lamp, per lamp",12.26747256982013,null,2.3221437033237238,"8 - TLEDS (Type B/C)","Extrapolation (same as 1-lamp, per lamp)"]
["T5_4ft","T5HO4-lamp fixture (low watt)",215.60000000000002,"4","RTF",null,0.93932794752763815,104.47989787052181,7.1240293510009254,0.78210714949413318,88.22031434513211,2.5358184354000253,"211- High and Low-Bay LED Luminaires-CEC","Same as 54 watt",16.356630093093507,null,2.3221437033237238,"8 - TLEDS (Type B/C)","Extrapolation (same as 1-lamp, per lamp)"]
["T5_4ft","T5HO4-lamp fixture (54 watt)",237.60000000000002,"4","RTF",null,0.93932794752763815,115.1411119389424,7.1240293510009254,0.78210714949413318,97.222387237492526,2.5358184354000253,"211- High and Low-Bay LED Luminaires-CEC","row 8",16.356630093093507,null,2.3221437033237238,"8 - TLEDS (Type B/C)","Extrapolation (same as 1-lamp, per lamp)"]
["T5_4ft","T5HO5-lamp fixture (54 watt)",297,"5","RTF",null,0.93932794752763815,143.92638992367799,7.1240293510009254,0.78210714949413318,121.52798404686565,2.5358184354000253,"211- High and Low-Bay LED Luminaires-CEC","Extrapolated between 6 and 5 lamp",19.727511708775438,null,2.3221437033237238,"8 - TLEDS (Type B/C)","Extrapolation (same as 1-lamp, per lamp)"]
["T5_4ft","T5HO6-lamp fixture (low watt)",323.40000000000003,"6","RTF",null,0.93932794752763815,156.71984680578271,7.1240293510009254,0.78210714949413318,132.33047151769816,2.5358184354000253,"211- High and Low-Bay LED Luminaires-CEC","Same as 54 watt",23.098393324457373,null,2.3221437033237238,"8 - TLEDS (Type B/C)","Extrapolation (same as 1-lamp, per lamp)"]
["T5_4ft","T5HO6-lamp fixture (54 watt)",356.40000000000003,"6","RTF",null,0.93932794752763815,172.7116679084136,7.1240293510009254,0.78210714949413318,145.8335808562388,2.5358184354000253,"211- High and Low-Bay LED Luminaires-CEC","row 9",23.098393324457373,null,2.3221437033237238,"8 - TLEDS (Type B/C)","Extrapolation (same as 1-lamp, per lamp)"]
["T5_4ft","T5HO8-lamp fixture (low watt)",431.20000000000005,"8","RTF",null,0.93932794752763815,208.95979574104362,7.1240293510009254,0.78210714949413318,176.44062869026422,2.5358184354000253,"211- High and Low-Bay LED Luminaires-CEC","Same as 54 watt",34.351798141961254,null,2.3221437033237238,"8 - TLEDS (Type B/C)","Extrapolation (same as 1-lamp, per lamp)"]
["T5_4ft","T5HO8-lamp fixture (54 watt)",475.20000000000005,"8","RTF",null,0.93932794752763815,230.2822238778848,7.1240293510009254,0.78210714949413318,194.44477447498505,2.5358184354000253,"211- High and Low-Bay LED Luminaires-CEC","row 53",34.351798141961254,null,2.3221437033237238,"8 - TLEDS (Type B/C)","Extrapolation (same as 1-lamp, per lamp)"]
["T5_4ft","T5HO10-lamp fixture (low watt)",539,"10","RTF",null,0.93932794752763815,261.19974467630453,7.1240293510009254,0.78210714949413318,220.55078586283025,2.5358184354000253,"211- High and Low-Bay LED Luminaires-CEC","Same as 54 watt",42.939747677451564,null,2.3221437033237238,"8 - TLEDS (Type B/C)","Extrapolation (same as 1-lamp, per lamp)"]
["T5_4ft","T5HO10-lamp fixture (54 watt)",594,"10","RTF",null,0.93932794752763815,287.85277984735598,7.1240293510009254,0.78210714949413318,243.05596809373131,2.5358184354000253,"211- High and Low-Bay LED Luminaires-CEC","Same as 8 lamp, per lamp",42.939747677451564,null,2.3221437033237238,"8 - TLEDS (Type B/C)","Extrapolation (same as 1-lamp, per lamp)"]
["T5_4ft","T5HO12-lamp fixture (low watt)",646.80000000000007,"12","RTF",null,0.93932794752763815,313.43969361156542,7.1240293510009254,0.78210714949413318,264.66094303539631,2.5358184354000253,"211- High and Low-Bay LED Luminaires-CEC","Same as 54 watt",51.527697212941881,null,2.3221437033237238,"8 - TLEDS (Type B/C)","Extrapolation (same as 1-lamp, per lamp)"]
["T5_4ft","T5HO12-lamp fixture (54 watt)",712.80000000000007,"12","RTF",null,0.93932794752763815,345.4233358168272,7.1240293510009254,0.78210714949413318,291.66716171247759,2.5358184354000253,"211- High and Low-Bay LED Luminaires-CEC","Same as 8 lamp, per lamp",51.527697212941881,null,2.3221437033237238,"8 - TLEDS (Type B/C)","Extrapolation (same as 1-lamp, per lamp)"]
[]
[]
[null,"*******************************************************"]
[null,"HALOGEN, INCANDESCENT OR CFL","(select)","(select)",null,null,null,null,null,null,"(select)"]
[null,"*******************************************************",null,null,null,null,"period 2, part 2","period 2, part 1","period 1, (years)","period 2, part 2","period 2, part 1","period 1, (years)"]
["INCAN","Halogen - Decorative Lamp","Enter Watts",null,"RTF",null,0.5,5.9280951854716907E-2,0.18642803877703207,0.5,5.9280951854716907E-2,0.18642803877703207,"49 - screw-in lamps","Not updated, no longer in CEC",5.0599999999999996,null,5.0599999999999996,"49 - screw-in lamps","Not updated, no longer in CEC"]
["INCAN","Halogen - PAR/R/Reflector","Enter Watts",null,"RTF",null,0.5,5.9280951854716907E-2,0.18642803877703207,0.5,5.9280951854716907E-2,0.18642803877703207,"49 - screw-in lamps","Not updated, no longer in CEC",5.37,null,5.37,"49 - screw-in lamps","Not updated, no longer in CEC"]
["INCAN","Halogen - MR-16","Enter Watts",null,"RTF",null,0.5,5.9280951854716907E-2,0.18642803877703207,0.5,5.9280951854716907E-2,0.18642803877703207,"49 - screw-in lamps","Not updated, no longer in CEC",5.05,null,5.05,"49 - screw-in lamps","Not updated, no longer in CEC"]
["INCAN","Halogen - A-Lamp/General Purpose","Enter Watts",null,"RTF",null,0.5,5.9280951854716907E-2,0.18642803877703207,0.5,5.9280951854716907E-2,0.18642803877703207,"49 - screw-in lamps","Not updated, no longer in CEC",5.22,null,5.22,"49 - screw-in lamps","Not updated, no longer in CEC"]
["INCAN","Incandescent - Decorative Lamp","Enter Watts",null,"RTF",null,0.5,5.9280951854716907E-2,0.18642803877703207,0.5,5.9280951854716907E-2,0.18642803877703207,"49 - screw-in lamps","row 7",1.4909351562896722,null,3.9517487089887644,"49 - screw-in lamps","row 7"]
["INCAN","Incandescent - PAR/R/Reflector","Enter Watts",null,"RTF",null,0.5,5.9280951854716907E-2,0.18642803877703207,0.5,5.9280951854716907E-2,0.18642803877703207,"49 - screw-in lamps","Not updated, no longer in CEC",5.19,null,5.19,"49 - screw-in lamps","Not updated, no longer in CEC"]
["INCAN","Incandescent - A-Lamp/General Purpose","Enter Watts",null,"RTF",null,0.5,5.9280951854716907E-2,0.18642803877703207,0.5,5.9280951854716907E-2,0.18642803877703207,"49 - screw-in lamps","Not updated, no longer in CEC",5.22,null,5.22,"49 - screw-in lamps","Not updated, no longer in CEC"]
["CFL","Compact Fluorescent","Enter Watts",null,"RTF",null,0.5,0.17625552430695057,1.2801391996022868,0.5,0.17625552430695057,1.2801391996022868,"49 - screw-in lamps","Not updated, no longer in CEC",1.91,null,1.91,"49 - screw-in lamps","Not updated, no longer in CEC","fixture uses exterior selection (MF primary), lamp only uses interior hours."]
["CFL","Pin-Compact Fluorescent","Enter Watts",null,"RTF",null,0.86062690795399865,0.30338049378820342,1.1807109122545363,0.86062690795399865,0.30338049378820342,1.1807109122545363,"50 - screw-in lamps","average(rows 51-58)",4.5131687805503899,null,4.8244214364057409,"49 - screw-in lamps","row 54-58 average","use lamp for fixture market adjustments, no baseline reverting for Pin-CFL"]
[]
[null,"*******************************************************"]
[null,"HIGH-INTENSITY DISCHARGE (HID)","(select)","(select)",null,null,null,null,null,null,"(select)"]
[null,"*******************************************************",null,"Street Lighting Incentive"]
["HID","Metal Halide, 32 watts",42.219365079365083,null,"RTF",null,1.3296671678873722,16.451593250205775,7.8449831332862621,0.48635626475016602,20.5336527001236,1.5499870834409712,"62 - LED exterior commercial lighting","Extrapolated (same as 70W",15.420330181861756,null,26.004202195388693,"33 - Replacement HID screw-in LED lamp","Extrapolated (same as 100W)"]
["HID","Metal Halide, 50 watts",65.967757936507937,null,"RTF",null,1.3296671678873722,25.705614453446522,7.8449831332862621,0.48635626475016602,32.083832343943122,1.5499870834409712,"62 - LED exterior commercial lighting","Extrapolated (same as 70W",15.420330181861756,null,26.004202195388693,"33 - Replacement HID screw-in LED lamp","Extrapolated (same as 100W)"]
["HID","Metal Halide, 70 watts",92.35486111111112,null,"RTF",null,1.3296671678873722,35.987860234825135,7.8449831332862621,0.48635626475016602,44.917365281520375,1.5499870834409712,"62 - LED exterior commercial lighting","row 8",15.420330181861756,null,26.004202195388693,"33 - Replacement HID screw-in LED lamp","Extrapolated (same as 100W)"]
["HID","Metal Halide, 100 watts",131.93551587301587,null,"RTF",null,1.3296671678873722,51.411228906893044,7.8449831332862621,0.48635626475016602,64.167664687886244,1.5499870834409712,"62 - LED exterior commercial lighting","row 9",15.586296745839405,null,26.004202195388693,"33 - Replacement HID screw-in LED lamp","row 9"]
["HID","Metal Halide, 150 watts",197.90327380952382,null,"RTF",null,1.3296671678873722,77.116843360339573,7.8449831332862621,0.48635626475016602,96.251497031829373,1.5499870834409712,"62 - LED exterior commercial lighting","Average of 100 and 175 W",16.320097689918896,null,28.419853343678806,"33 - Replacement HID screw-in LED lamp","Extrapolated (same as 175W)"]
["HID","Metal Halide, 175 watts",230.8871527777778,null,"RTF",null,1.3296671678873722,89.96965058706283,7.8449831332862621,0.48635626475016602,112.29341320380092,1.5499870834409712,"62 - LED exterior commercial lighting","row 29",17.053898633998386,null,28.419853343678806,"33 - Replacement HID screw-in LED lamp","row 10"]
["HID","Metal Halide, 250 watts",289.16666666666669,null,"RTF",null,1.0895284438900719,92.329423052522358,7.8449831332862621,1.3785952128500951,88.4425311950924,1.5499870834409712,"62 - LED exterior commercial lighting","row 31",18.092519344969983,null,33.036746196269,"33 - Replacement HID screw-in LED lamp","row 7"]
["HID","Metal Halide, 400 watts",462.66666666666669,null,"RTF",null,1.0895284438900719,147.72707688403577,7.8449831332862621,1.3785952128500951,141.50804991214784,1.5499870834409712,"62 - LED exterior commercial lighting","row 51",24.621185971705099,null,35.469588415132222,"33 - Replacement HID screw-in LED lamp","row 29"]
["HID","Metal Halide, 1000 watts",1095.5555555555557,null,"RTF",null,1.0895284438900719,349.80523008563711,7.8449831332862621,1.3785952128500951,335.07909993606575,1.5499870834409712,"62 - LED exterior commercial lighting","row 75",39.707143652240319,null,52.642285179038495,"33 - Replacement HID screw-in LED lamp","row 73"]
["HID","High Pressure Sodium, 35 watts",47.000000000000007,null,"RTF",null,1.3296671678873722,18.314460231842492,7.8449831332862621,0.48635626475016602,22.858744443257805,2.41,"62 - LED exterior commercial lighting","Extrapolated (Same as 50W)",11.913166789890699,null,21.29235183859382,"33 - Replacement HID screw-in LED lamp","Extrapolated (same as 70W)"]
["HID","High Pressure Sodium, 50 watts",67.142857142857153,null,"RTF",null,1.3296671678873722,26.163514616917848,7.8449831332862621,0.48635626475016602,32.655349204654009,2.41,"62 - LED exterior commercial lighting","row 15",11.913166789890699,null,21.29235183859382,"33 - Replacement HID screw-in LED lamp","Extrapolated (same as 70W)"]
["HID","High Pressure Sodium, 70 watts",94.000000000000014,null,"RTF",null,1.3296671678873722,36.628920463684985,7.8449831332862621,0.48635626475016602,45.717488886515611,2.41,"62 - LED exterior commercial lighting","row 13",11.907511653478398,null,21.29235183859382,"33 - Replacement HID screw-in LED lamp","row 8"]
["HID","High Pressure Sodium, 100 watts",134.28571428571431,null,"RTF",null,1.1892495133650876,46.801105987337522,7.8449831332862621,1.5166988013466463,45.186148551318134,2.41,"62 - LED exterior commercial lighting","row 34",13.255556639597323,null,24.120418503185508,"33 - Replacement HID screw-in LED lamp","row 12"]
["HID","High Pressure Sodium, 150 watts",179.33131720430109,null,"RTF",null,1.3296671678873722,69.879920792810708,7.8449831332862621,0.48635626475016602,87.218909588211062,2.41,"62 - LED exterior commercial lighting","row 38",16.340782313909873,null,26.878872391706206,"33 - Replacement HID screw-in LED lamp","Extrapolated between 100 and 400 watts"]
["HID","High Pressure Sodium, 200 watts",239.10842293906813,null,"RTF",null,1.3296671678873722,93.173227723747615,7.8449831332862621,0.48635626475016602,116.29187945094809,2.41,"62 - LED exterior commercial lighting","Extrapolated between 250 and 150 watts",20.169339771604726,null,29.637326280226905,"33 - Replacement HID screw-in LED lamp","Extrapolated between 100 and 400 watts"]
["HID","High Pressure Sodium, 250 watts",298.88552867383515,null,"RTF",null,1.0895284438900719,95.432605491193058,7.8449831332862621,1.3785952128500951,91.415075597108981,2.41,"62 - LED exterior commercial lighting","row 56",20.687276166911406,null,32.395780168747599,"33 - Replacement HID screw-in LED lamp","Extrapolated between 100 and 400 watts"]
["HID","High Pressure Sodium, 400 watts",478.21684587813627,null,"RTF",null,1.0895284438900719,152.6921687859089,7.8449831332862621,1.3785952128500951,146.26412095537438,2.41,"62 - LED exterior commercial lighting","row 77",22.241085352831444,null,40.671141834309694,"33 - Replacement HID screw-in LED lamp","row 76"]
["HID","High Pressure Sodium, 1000 watts",1100,null,"RTF",null,1.0895284438900719,351.22431824014268,7.8449831332862621,1.3785952128500951,336.4384471974696,2.41,"62 - LED exterior commercial lighting","Extrapolated from 250 and 400 watts",28.456322096511595,null,47.542019116913991,"33 - Replacement HID screw-in LED lamp","row 75"]
["HID","Mercury Vapor, 40 watts",52.93333333333333,null,"RTF",null,1.3296671678873722,20.626498473876506,7.8449831332862621,0.48635626475016602,25.744458280775454,2.41,"62 - LED exterior commercial lighting","Extrapolated from 100 and 175 watts",16.65827389966157,null,20.803361756310956,"33 - Replacement HID screw-in LED lamp","Extrapolated (80% of MH version)"]
["HID","Mercury Vapor, 50 watts",66.166666666666657,null,"RTF",null,1.3296671678873722,25.78312309234563,7.8449831332862621,0.48635626475016602,32.180572850969313,2.41,"62 - LED exterior commercial lighting","Extrapolated from 100 and 175 watts",19.851204452799422,null,20.803361756310956,"33 - Replacement HID screw-in LED lamp","Extrapolated (80% of MH version)"]
["HID","Mercury Vapor, 75 watts",99.25,null,"RTF",null,1.3296671678873722,38.67468463851845,7.8449831332862621,0.48635626475016602,48.270859276453976,2.41,"62 - LED exterior commercial lighting","Extrapolated from 100 and 175 watts",27.833530835644055,null,20.803361756310956,"33 - Replacement HID screw-in LED lamp","Extrapolated (80% of MH version)"]
["HID","Mercury Vapor, 100 watts",114.93877551020408,null,"RTF",null,1.3296671678873722,44.788119854857534,7.8449831332862621,0.48635626475016602,55.901193532100713,2.41,"62 - LED exterior commercial lighting","row 18",35.815857218488688,null,20.803361756310956,"33 - Replacement HID screw-in LED lamp","Extrapolated (80% of MH version)"]
["HID","Mercury Vapor, 175 watts",201.14285714285714,null,"RTF",null,1.3296671678873722,78.379209746000683,7.8449831332862621,0.48635626475016602,97.827088681176249,2.41,"62 - LED exterior commercial lighting","row 19",59.762836367022587,null,22.735882674943046,"33 - Replacement HID screw-in LED lamp","Extrapolated (80% of MH version)"]
["HID","Mercury Vapor, 250 watts",287.34693877551018,null,"RTF",null,1.0895284438900719,91.748393336200536,7.8449831332862621,1.3785952128500951,87.885961716890023,2.41,"62 - LED exterior commercial lighting","Extrapolated between 175 and 400 watts",67.222270042901073,null,26.4293969570152,"33 - Replacement HID screw-in LED lamp","Extrapolated (80% of MH version)"]
["HID","Mercury Vapor, 400 watts",459.75510204081633,null,"RTF",null,1.0895284438900719,146.79742933792087,7.8449831332862621,1.3785952128500951,140.61753874702404,2.41,"62 - LED exterior commercial lighting","row 20",82.141137394658031,null,28.375670732105778,"33 - Replacement HID screw-in LED lamp","Extrapolated (80% of MH version)"]
["HID","Mercury Vapor, 1000 watts",1149.3877551020407,null,"RTF",null,1.0895284438900719,366.99357334480214,7.8449831332862621,1.3785952128500951,351.54384686756009,2.41,"62 - LED exterior commercial lighting","row 21",94.244782399774991,null,42.113828143230798,"33 - Replacement HID screw-in LED lamp","Extrapolated (80% of MH version)"]
["HID","Pulse Start Metal Halide, 320 watts",367.93133786848068,null,"RTF",null,1.0895284438900719,117.47857572912793,7.8449831332862621,1.3785952128500951,112.53295271614472,1.5499870834409712,"CEC 38 - Street Lighting (main table)","Extrapolated between 250 and 400 watts",70.59305882111552,null,33.036746196269,"33 - Replacement HID screw-in LED lamp","Extrapolated (Same as MH 250 watts)"]
["HID","Pulse Start Metal Halide, 350 watts",402.42490079365075,null,"RTF",null,1.1892495133650876,140.25267344458726,7.8449831332862621,1.5166988013466463,135.41299940008463,1.5499870834409712,"CEC 38 - Street Lighting (main table)","Extrapolated between 250 and 400 watts",74.926245015064538,null,35.469588415132222,"33 - Replacement HID screw-in LED lamp","Extrapolated (Same as MH 400 watts)"]
["HID","Pulse Start Metal Halide, 750 watts",814,null,"RTF",null,1.0895284438900719,259.90599549770559,7.8449831332862621,1.3785952128500951,248.96445092612751,1.5499870834409712,"CEC 38 - Street Lighting (main table)","Extrapolate between 400 and 1000 watts",82.148222004979573,null,35.469588415132222,"33 - Replacement HID screw-in LED lamp","Extrapolated (Same as MH 400 watts)"]
["HID","Metal Halide, 750 watts",821.66666666666674,null,"RTF",null,1.1892495133650876,286.3663417771308,7.8449831332862621,1.5166988013466463,276.48474938049446,1.5499870834409712,"CEC 38 - Street Lighting (main table)","row 27",79.532785273171427,null,45.486994860744218,"33 - Replacement HID screw-in LED lamp","Extrapolated between 400 and 1000 watts"]
["HID","Metal Halide, 1500 watts",1643.3333333333335,null,"RTF",null,1.1892495133650876,572.7326835542616,7.8449831332862621,1.3785952128500951,502.61864990409862,1.5499870834409712,"CEC 38 - Street Lighting (main table)","row 30",170.23316793728236,null,66.95286581562705,"33 - Replacement HID screw-in LED lamp","Extrapolated between 400 and 1000 watts"]
["HID","High Pressure Sodium, 310 watts",370.6180555555556,null,"RTF",null,1.0895284438900719,118.3364308090794,7.8449831332862621,1.5166988013466463,124.71023148823198,2.41,"CEC 38 - Street Lighting (main table)","row 12",79.62610073051232,null,35.705924834972436,"33 - Replacement HID screw-in LED lamp","Extrapolated between 100 and 400 watts"]
["HID","High Pressure Sodium, 750 watts",896.65658602150552,null,"RTF",null,1.0895284438900719,286.29781647357919,7.8449831332862621,1.5166988013466463,301.71830198765804,2.41,"CEC 38 - Street Lighting (main table)","row 14",82.262124742430032,null,44.67915358249553,"33 - Replacement HID screw-in LED lamp","Extrapolated between 400 and 1000 watts"]
["HID","High Pressure Sodium, 1500 watts",1650.0000000000002,null,"RTF",null,1.0895284438900719,526.83647736021408,7.8449831332862621,1.5166988013466463,555.2127827316217,2.41,"CEC 38 - Street Lighting (main table)","row 16",170.31109865081925,null,53.267750185750906,"33 - Replacement HID screw-in LED lamp","Extrapolated between 400 and 1000 watts"]
["HID","Mercury Vapor, 750 watts",862.0408163265306,null,"RTF",null,1.1892495133650876,300.4374949703855,7.8449831332862621,1.5166988013466463,290.0703517944799,2.41,"CEC 38 - Street Lighting (main table)","Same as MH",79.532785273171427,null,36.389595888595373,"33 - Replacement HID screw-in LED lamp","Extrapolated (80% of MH version)"]
["HID","Mercury Vapor, 1500 watts",1724.0816326530612,null,"RTF",null,1.1892495133650876,600.874989940771,7.8449831332862621,1.5166988013466463,580.14070358895981,2.41,"CEC 38 - Street Lighting (main table)","Same as HPS",170.31109865081925,null,53.56229265250164,"33 - Replacement HID screw-in LED lamp","Extrapolated (80% of MH version)"]
["HID","Pulse Start Metal Halide, 70 watts",80.484980158730153,null,"RTF",null,1.1892495133650876,28.050534688917452,7.8449831332862621,1.5166988013466463,27.082599880016925,1.5499870834409712,"CEC 38 - Street Lighting (main table)","Same as 100 watts",34.732730094786824,null,26.004202195388693,"33 - Replacement HID screw-in LED lamp","Extrapolated (Same as MH version)"]
["HID","Pulse Start Metal Halide, 100 watts",114.97854308390021,null,"RTF",null,1.1892495133650876,40.072192412739213,7.8449831332862621,1.5166988013466463,38.689428400024177,1.5499870834409712,"CEC 38 - Street Lighting (main table)","row 23",34.732730094786824,null,26.004202195388693,"33 - Replacement HID screw-in LED lamp","Extrapolated (Same as MH version)"]
["HID","Pulse Start Metal Halide, 150 watts",172.46781462585031,null,"RTF",null,1.1892495133650876,60.108288619108819,7.8449831332862621,1.5166988013466463,58.034142600036262,1.5499870834409712,"CEC 38 - Street Lighting (main table)","Extrapolated between 150 and 200 watts",36.059822266303826,null,28.419853343678806,"33 - Replacement HID screw-in LED lamp","Extrapolated (Same as MH version)"]
["HID","Pulse Start Metal Halide, 175 watts",201.21245039682537,null,"RTF",null,1.1892495133650876,70.12633672229363,7.8449831332862621,1.5166988013466463,67.706499700042315,1.5499870834409712,"CEC 38 - Street Lighting (main table)","row 24",37.386914437820828,null,28.419853343678806,"33 - Replacement HID screw-in LED lamp","Extrapolated (Same as MH version)"]
["HID","Pulse Start Metal Halide, 200 watts",229.95708616780041,null,"RTF",null,1.1892495133650876,80.144384825478426,7.8449831332862621,1.5166988013466463,77.378856800048354,1.5499870834409712,"CEC 38 - Street Lighting (main table)","Extrapolated between 175 and 250 watts",45.088458865804554,null,28.419853343678806,"33 - Replacement HID screw-in LED lamp","Extrapolated (Same as MH version)"]
["HID","Pulse Start Metal Halide, 250 watts",287.44635770975054,null,"RTF",null,1.1892495133650876,100.18048103184805,7.8449831332862621,1.5166988013466463,96.723571000060446,1.5499870834409712,"CEC 38 - Street Lighting (main table)","row 25",60.482291035234482,null,33.036746196269,"33 - Replacement HID screw-in LED lamp","Extrapolated (Same as MH version)"]
["HID","Pulse Start Metal Halide, 400 watts",459.91417233560082,null,"RTF",null,1.1892495133650876,160.28876965095685,7.8449831332862621,1.5166988013466463,154.75771360009671,1.5499870834409712,"CEC 38 - Street Lighting (main table)","row 231",82.148222004979573,null,35.469588415132222,"33 - Replacement HID screw-in LED lamp","Extrapolated (Same as MH version)"]
["HID","Pulse Start Metal Halide, 1000 watts",1085.3333333333333,null,"RTF",null,1.1892495133650876,378.25915165368667,7.8449831332862621,1.5166988013466463,365.20663041902225,1.5499870834409712,"CEC 38 - Street Lighting (main table)","row 28",174.06529818490014,null,52.642285179038495,"33 - Replacement HID screw-in LED lamp","Extrapolated (Same as MH version)"]
["HID","Pulse Start Metal Halide, 1500 watts",1628,null,"RTF",null,1.1892495133650876,567.38872748053006,7.8449831332862621,1.5166988013466463,547.80994562853334,1.5499870834409712,"CEC 38 - Street Lighting (main table)","row 30",170.23316793728236,null,66.95286581562705,"33 - Replacement HID screw-in LED lamp","Extrapolated (Same as MH version)"]
[]
[]
[null,"*******************************************************"]
[null,"T8 3ft fixtures","(select)","(select)",null,null,null,null,null,null,"(select)"]
[null,"*******************************************************"]
["T8_3ft","3', 1 lamp T8",24,1,"RTF",null,1.0094207608825747,8.5578632576186013,8.4409555161644292,0.8463319291772361,9.1571383657889989,2.5358184354000253,"64 - LED commercial fixtures","Same as 4' version",1.400260816096673,null,1.1375723333695298,"8 - TLEDS (Type B/C)","Extrapolation (same as 2-lamp, per lamp)"]
["T8_3ft","3', 2 lamp T8",48,2,"RTF",null,1.0094207608825747,17.115726515237203,8.4409555161644292,0.8463319291772361,18.314276731577998,2.5358184354000253,"64 - LED commercial fixtures","Same as 4' version",2.8005216321933459,null,1.1375723333695298,"8 - TLEDS (Type B/C)","Row 35"]
["T8_3ft","3', 3 lamp T8",72,3,"RTF",null,1.0094207608825747,25.673589772855806,8.4409555161644292,0.8463319291772361,27.471415097367,2.5358184354000253,"64 - LED commercial fixtures","Same as 4' version",4.2007824482900187,null,1.1375723333695298,"8 - TLEDS (Type B/C)","Extrapolation (same as 2-lamp, per lamp)"]
[]
[null,"*******************************************************"]
[null,"T5 2' and 3' fixtures","(select)","(select)",null,null,null,null,null,null,"(select)"]
[null,"*******************************************************"]
["T5_3ft","3', 1 lamp T5",23.939999999999998,1,"RTF",null,1.0094207608825747,12.467033247940948,8.4409555161644292,0.8463319291772361,7.6950014722081761,2.5358184354000253,"64 - LED commercial fixtures","Same as 4' version",1.400260816096673,null,1.1375723333695298,"8 - TLEDS (Type B/C)","Extrapolation (same as 3' T8, per lamp)"]
["T5_3ft","3', 2 lamp T5",47.879999999999995,2,"RTF",null,1.0094207608825747,24.934066495881897,8.4409555161644292,0.8463319291772361,15.390002944416352,2.5358184354000253,"64 - LED commercial fixtures","Same as 4' version",2.8005216321933459,null,1.1375723333695298,"8 - TLEDS (Type B/C)","Extrapolation (same as 3' T8, per lamp)"]
["T5_3ft","3', 3 lamp T5",71.819999999999993,3,"RTF",null,1.0094207608825747,37.401099743822847,8.4409555161644292,0.8463319291772361,23.085004416624528,2.5358184354000253,"64 - LED commercial fixtures","Same as 4' version",4.2007824482900187,null,1.1375723333695298,"8 - TLEDS (Type B/C)","Extrapolation (same as 3' T8, per lamp)"]
["T5_2ft","2' 1 lamp T5",17.36,1,"RTF",null,1.0094207608825747,9.040421770436712,2.5358184354000253,0.8463319291772361,5.5800010675661635,2.5358184354000253,"64 - LED commercial fixtures","Same as 4' version",1.400260816096673,null,1.1375723333695298,"8 - TLEDS (Type B/C)","Extrapolation (same as 3' T8, per lamp)"]
["T5_2ft","2' 2 lamp T5",34.72,2,"RTF",null,1.0094207608825747,18.080843540873424,2.5358184354000253,0.8463319291772361,11.160002135132327,2.5358184354000253,"64 - LED commercial fixtures","Same as 4' version",2.8005216321933459,null,1.1375723333695298,"8 - TLEDS (Type B/C)","Extrapolation (same as 3' T8, per lamp)"]
["T5_2ft","2' 1 lamp T5HO",26.400000000000002,1,"RTF",null,1.0094207608825747,13.748106839834634,2.5358184354000253,0.8463319291772361,8.4857159092019998,2.5358184354000253,"64 - LED commercial fixtures","Same as 4' version",1.400260816096673,null,1.1375723333695298,"8 - TLEDS (Type B/C)","Extrapolation (same as 3' T8, per lamp)"]
["T5_2ft","2' 2 lamp T5HO",52.800000000000004,2,"RTF",null,1.0094207608825747,27.496213679669268,2.5358184354000253,0.8463319291772361,16.971431818404,2.5358184354000253,"64 - LED commercial fixtures","Same as 4' version",2.8005216321933459,null,1.1375723333695298,"8 - TLEDS (Type B/C)","Extrapolation (same as 3' T8, per lamp)"]
[]
[null,"*******************************************************"]
[null,"OTHERS","(select)","(select)",null,null,null,null,null,null,"(select)"]
[null,"*******************************************************"]
["T8_5ft","5', 1 lamp T8",34,1,"RTF",null,1.0094207608825747,12.123639614959686,8.4409555161644292,0.8463319291772361,12.97261268486775,2.5358184354000253,"64 - LED commercial fixtures","Same as 4' version",1.400260816096673,null,2.212913922170137,"8 - TLEDS (Type B/C)","row 149"]
["T8_5ft","5', 2 lamp T8",68,2,"RTF",null,1.0094207608825747,24.247279229919371,8.4409555161644292,0.8463319291772361,25.9452253697355,2.5358184354000253,"64 - LED commercial fixtures","Same as 4' version",2.8005216321933459,null,2.212913922170137,"8 - TLEDS (Type B/C)","Extrapolation (same as 1-lamp version, per lamp)"]
["T8_6ft","6', 1 lamp T8",59.160000000000004,1,"RTF",null,1.0094207608825747,21.095132930029855,8.4409555161644292,0.8463319291772361,22.572346071669887,2.5358184354000253,"64 - LED commercial fixtures","Same as 4' version",1.400260816096673,null,2.212913922170137,"8 - TLEDS (Type B/C)","Extrapolation (same as 1-lamp 5' version, per lamp)"]
["T8_6ft","6', 2 lamp T8",118.32000000000001,2,"RTF",null,1.0094207608825747,42.190265860059711,8.4409555161644292,0.8463319291772361,45.144692143339775,2.5358184354000253,"64 - LED commercial fixtures","Same as 4' version",2.8005216321933459,null,2.212913922170137,"8 - TLEDS (Type B/C)","Extrapolation (same as 1-lamp 5' version, per lamp)"]
["T8_6ft","6', 1 lamp T8 HO",73.5,1,"RTF",null,1.0094207608825747,26.208456226456967,8.4409555161644292,0.8463319291772361,28.043736245228811,2.5358184354000253,"64 - LED commercial fixtures","Same as 4' version",1.400260816096673,null,2.212913922170137,"8 - TLEDS (Type B/C)","Extrapolation (same as 1-lamp 5' version, per lamp)"]
["T8_6ft","6', 2 lamp T8 HO",147,2,"RTF",null,1.0094207608825747,52.416912452913934,8.4409555161644292,0.8463319291772361,56.087472490457621,2.5358184354000253,"64 - LED commercial fixtures","Same as 4' version",2.8005216321933459,null,2.212913922170137,"8 - TLEDS (Type B/C)","Extrapolation (same as 1-lamp 5' version, per lamp)"]
["T12_5ft","5', 1 lamp T12",60,1,"RTF",null,1.0094207608825747,13.853202416075021,8.4409555161644292,0.8463319291772361,19.892285274551597,2.5358184354000253,"64 - LED commercial fixtures","Same as 4' version",1.400260816096673,null,3.1285023722902747,"8 - TLEDS (Type B/C)","Row 148"]
["T12_5ft","5', 2 lamp T12",120,2,"RTF",null,1.0094207608825747,27.706404832150042,8.4409555161644292,0.8463319291772361,39.784570549103194,2.5358184354000253,"64 - LED commercial fixtures","Same as 4' version",2.8005216321933459,null,3.1285023722902747,"8 - TLEDS (Type B/C)","Extrapolation (same as 1-lamp version, per lamp)"]
["T12_5ft","5', 1 lamp T12 HO",90,1,"RTF",null,1.0094207608825747,20.779803624112532,8.4409555161644292,0.8463319291772361,29.838427911827392,2.5358184354000253,"64 - LED commercial fixtures","Same as 4' version",1.400260816096673,null,3.1285023722902747,"8 - TLEDS (Type B/C)","Extrapolation (same as 1-lamp version, per lamp)"]
["T12_5ft","5', 2 lamp T12 HO",180,2,"RTF",null,1.0094207608825747,41.559607248225063,8.4409555161644292,0.8463319291772361,59.676855823654783,2.5358184354000253,"64 - LED commercial fixtures","Same as 4' version",2.8005216321933459,null,3.1285023722902747,"8 - TLEDS (Type B/C)","Extrapolation (same as 1-lamp version, per lamp)"]
["T12_6ft","6', 1 lamp T12",66,1,"RTF",null,1.0094207608825747,15.238522657682523,8.4409555161644292,0.8463319291772361,21.881513802006754,2.5358184354000253,"64 - LED commercial fixtures","Same as 4' version",1.400260816096673,null,3.6775781452532597,"8 - TLEDS (Type B/C)","row 153"]
["T12_6ft","6', 2 lamp T12",132,2,"RTF",null,1.0094207608825747,30.477045315365046,8.4409555161644292,0.8463319291772361,43.763027604013509,2.5358184354000253,"64 - LED commercial fixtures","Same as 4' version",2.8005216321933459,null,3.6775781452532597,"8 - TLEDS (Type B/C)","Extrapolation (same as 1-lamp version, per lamp)"]
["T12_6ft","6', 1 lamp T12 HO",102,1,"RTF",null,1.0094207608825747,23.550444107327536,8.4409555161644292,0.8463319291772361,33.81688496673771,2.5358184354000253,"64 - LED commercial fixtures","Same as 4' version",1.400260816096673,null,3.6775781452532597,"8 - TLEDS (Type B/C)","Extrapolation (same as 1-lamp version, per lamp)"]
["T12_6ft","6', 2 lamp T12 HO",204,2,"RTF",null,1.0094207608825747,47.100888214655072,8.4409555161644292,0.8463319291772361,67.633769933475421,2.5358184354000253,"64 - LED commercial fixtures","Same as 4' version",2.8005216321933459,null,3.6775781452532597,"8 - TLEDS (Type B/C)","Extrapolation (same as 1-lamp version, per lamp)"]
["OTHER","Other","Enter Watts",null,null,null,1.0094207608825747,0.23088670693458369,8.4409555161644292,0.8463319291772361,0.33153808790919326,2.5358184354000253,"64 - LED commercial fixtures","Same as 4' version",2.1825966403688515,"lowest TLED NEB In this section",3.4709734317742638,"Not updated","Not updated"]
["OTHER","Other LED (NLC only)","Enter Watts",null,null,null,"n/a","n/a",10,"n/a","n/a",10,"242- NLC pilot (CEC/MAD)","Same as 4' version",11.55,"MAD 242 (all eligible measures)",11.55,"Not updated","Not updated"]
[]
[null,"*******************************************************"]
[null,"Relamp","(select)","(select)",null,null,null,null,null,null,"(select)"]
[null,"*******************************************************",null,null,null,null,"not applicable below","not applicable below","not applicable below"]
["Existing_relamp","Pin-Compact Fluorescent","Enter Watts",1,"lamp only","RTF",null,null,null,0.86062690795399865,0.30338049378820342,1.1807109122545363,"8-TLED: Pin-CFL to Pin-LED ",null,0,"CEC 49 (MAD 49 NEB)",1.89,"49 - screw-in lamps","row 6"]
["Existing_relamp","2' T8 17W",14.96,1,"lamp only","RTF",null,null,null,0.8463319291772361,5.7079495813418104,9.509319132750095,"8 - TLED",null,0,"2' T8 replaced with LED light source in line with existing fluorescent ballast (Type A-relamp)",2.225524552742197,"8 - TLED (Type A)","row 12"]
["Existing_relamp","2' T5 14W",17.36,1,"lamp only","RTF",null,null,null,0.8463319291772361,5.5800010675661635,9.509319132750095,"8 - TLED",null,0,"2' T5 replaced with LED light source and remote driver or line voltage (Types B/C)",2.225524552742197,"8 - TLED (Type A)","Extrapolation (same as T8)"]
["Existing_relamp","2' T5HO 24W",26.400000000000002,1,"lamp only","RTF",null,null,null,0.8463319291772361,8.4857159092019998,9.509319132750095,"8 - TLED",null,0,"2' T5HO replaced with LED light source and remote driver or line voltage (Types B/C)",2.225524552742197,"8 - TLED (Type A)","Extrapolation (same as T8)"]
["Existing_relamp","3' T5 21W",23.939999999999998,1,"lamp only","RTF",null,null,null,0.8463319291772361,7.6950014722081761,9.509319132750095,"8 - TLED",null,0,"3' T5 replaced with LED light source in line with existing fluorescent ballast (Type A-relamp)",1.7283845808221661,"8 - TLED (Type A)","row 57"]
["Existing_relamp","3' T5HO 39W",42.900000000000006,1,"lamp only","RTF",null,null,null,0.8463319291772361,13.789288352453251,9.509319132750095,"8 - TLED",null,0,"3' T5HO replaced with LED light source in line with existing fluorescent ballast (Type A-relamp)",1.7283845808221661,"8 - TLED (Type A)","Extrapolation (same as T8)"]
["Existing_relamp","3' T8 25W",24,1,"lamp only","RTF",null,null,null,0.8463319291772361,9.1571383657889989,9.509319132750095,"8 - TLED",null,0,"3' T8 replaced with LED light source in line with existing fluorescent ballast (Type A-relamp)",1.7283845808221661,"8 - TLED (Type A)","Extrapolated (same as 32W version)"]
["Existing_relamp","4' T5 28W",31.919999999999998,1,"lamp only","RTF",null,null,null,0.8463319291772361,12.178994026499369,9.509319132750095,"8 - TLED",null,0,"4' T5 replaced with LED light source in line with existing fluorescent ballast (Type A-relamp)",1.7283845808221661,"8 - TLED (Type A)","Extrapolated (same as 32W version)"]
["Existing_relamp","4' T5HO 54W",59.400000000000006,1,"lamp only","RTF",null,null,null,0.8463319291772361,19.0928607957045,9.509319132750095,"8 - TLED",null,0,"4' T5HO replaced with LED light source in line with existing fluorescent ballast (Type A-relamp)",1.7283845808221661,"8 - TLED (Type A)","Extrapolated (same as 32W version)"]
["Existing_relamp","4' T8 25W",22.818166786916787,1,"lamp only","RTF",null,null,null,0.8463319291772361,7.3344121561577449,9.509319132750095,"8 - TLED",null,0,"4' or U-bend T8 replaced with LED light source in line with existing fluorescent ballast (Type A-relamp)",1.7283845808221661,"8 - TLED (Type A)","Extrapolated (same as 32W version)"]
["Existing_relamp","4' T8 28W",25.556346801346802,1,"lamp only","RTF",null,null,null,0.8463319291772361,9.7509584910009082,9.509319132750095,"8 - TLED",null,0,"4' or U-bend T8 replaced with LED light source in line with existing fluorescent ballast (Type A-relamp)",1.7283845808221661,"8 - TLED (Type A)","Extrapolated (same as 32W version)"]
["Existing_relamp","4' T8 32W",29.207253487253489,1,"lamp only","RTF",null,null,null,0.8463319291772361,11.143952561143895,9.509319132750095,"8 - TLED",null,0,"4' or U-bend T8 replaced with LED light source in line with existing fluorescent ballast (Type A-relamp)",2.1811659884789973,"8 - TLED (Type A)","row 82"]
["Existing_relamp","4' T8 HO 44W",38.72,1,"lamp only","RTF",null,null,null,0.8463319291772361,14.773516563472919,9.509319132750095,"8 - TLED",null,0,"4' or U-bend T8 replaced with LED light source in line with existing fluorescent ballast (Type A-relamp)",2.1811659884789973,"8 - TLED (Type A)","Extrapolated (same as 32W version)"]
["Existing_relamp","5' T8 40W",34,1,"lamp only","RTF",null,null,null,0.8463319291772361,12.97261268486775,9.509319132750095,"8 - TLED",null,0,"5' T8 replaced with LED light source in line with existing fluorescent ballast (Type A-relamp)",2.3398018635052353,"8 - TLED (Type A)","row 170"]
["Existing_relamp","6' T8 58W",59.160000000000004,1,"lamp only","RTF",null,null,null,0.8463319291772361,22.572346071669887,9.509319132750095,"8 - TLED",null,0,"6' T8 replaced with LED light source in line with existing fluorescent ballast (Type A-relamp)",3.0623178833936224,"8 - TLED (Type A)","row 236"]
["Existing_relamp","8' T8 59W",54.28,1,"lamp only","RTF",null,null,null,0.8463319291772361,20.710394603959454,9.509319132750095,"8 - TLED",null,0,"8' T8 replaced with LED light source in line with existing fluorescent ballast (Type A-relamp)",3.4581749317553072,"8 - TLED (Type A)","row 302"]
["Existing_relamp","8' T8HO 86W",79.12,1,"lamp only","RTF",null,null,null,0.8463319291772361,30.188032812551072,9.509319132750095,"8 - TLED",null,0,"8' T8 replaced with LED light source in line with existing fluorescent ballast (Type A-relamp)",3.4581749317553072,"8 - TLED (Type A)","Extrapolated (same as 59W version)"]
["Existing_relamp","Ubent T8 32W",29.44,1,"lamp only","RTF",null,null,null,0.8463319291772361,11.23275639536784,9.509319132750095,"8 - TLED",null,0,"4' or U-bend T8 replaced with LED light source in line with existing fluorescent ballast (Type A-relamp)",3.4581749317553072,"8 - TLED (Type A)","Extrapolated (same as 59W version)"]
[]
[null,"*******************************************************"]
[null,"Signs"]
[null,"*******************************************************"]
["Sign Lights","F24T12/HO – (2’)",64,1,"lamp only",null,0.8463319291772361,25.46212515142604,2.5358184354000253,0.8463319291772361,25.46212515142604,2.5358184354000253,null,null,null,null,1.7283845808221661]
["Sign Lights","F36T12/HO – (3’)",72,1,"lamp only",null,0.8463319291772361,28.644890795354296,2.5358184354000253,0.8463319291772361,28.644890795354296,2.5358184354000253,null,null,null,null,1.7283845808221661]
["Sign Lights","F48T12/HO – (4’)",81,1,"lamp only",null,0.8463319291772361,32.225502144773586,2.5358184354000253,0.8463319291772361,32.225502144773586,2.5358184354000253,null,null,null,null,1.288144742401355]
["Sign Lights","F60T12/HO – (5’)",102,1,"lamp only",null,0.8463319291772361,40.580261960085252,2.5358184354000253,0.8463319291772361,40.580261960085252,2.5358184354000253,null,null,null,null,3.1285023722902747]
["Sign Lights","F64T12/HO – (64”)",104,1,"lamp only",null,0.8463319291772361,41.375953371067318,2.5358184354000253,0.8463319291772361,41.375953371067318,2.5358184354000253,null,null,null,null,3.1285023722902747]
["Sign Lights","F72T12/HO – (6’)",106,1,"lamp only",null,0.8463319291772361,42.171644782049377,2.5358184354000253,0.8463319291772361,42.171644782049377,2.5358184354000253,null,null,null,null,3.6775781452532597]
["Sign Lights","F84T12/HO – (7’)",118,1,"lamp only",null,0.8463319291772361,46.945793247941765,2.5358184354000253,0.8463319291772361,46.945793247941765,2.5358184354000253,null,null,null,null,3.6775781452532597]
["Sign Lights","F96T12/HO – (8’)",133,1,"lamp only",null,0.8463319291772361,52.913478830307241,2.5358184354000253,0.8463319291772361,52.913478830307241,2.5358184354000253,null,null,null,null,3.8071588984376086]
["Sign Lights","F108T12/HO – (105 3/16”)",124,1,"lamp only",null,0.8463319291772361,49.332867480887948,2.5358184354000253,0.8463319291772361,49.332867480887948,2.5358184354000253,null,null,null,null,3.8071588984376086]
["Sign Lights","F117T12/HO – (114 3/16”)",132,1,"lamp only",null,0.8463319291772361,52.515633124816212,2.5358184354000253,0.8463319291772361,52.515633124816212,2.5358184354000253,null,null,null,null,3.8071588984376086]
["Sign Lights","F120T12/HO – (117 3/16”)",135,1,"lamp only",null,0.8463319291772361,53.709170241289307,2.5358184354000253,0.8463319291772361,53.709170241289307,2.5358184354000253,null,null,null,null,3.8071588984376086]
[]
[null,"Existing"]
[null,"Select_Category"]
[null,"T8_U_bent"]
[null,"T8_2ft"]
[null,"T8_3ft"]
[null,"T8_4ft"]
[null,"T8_5ft"]
[null,"T8_6ft"]
[null,"T8_8ft"]
[null,"Existing_Relamp"]
[null,"T12_U_bent"]
[null,"T12_2or3ft"]
[null,"T12_4ft"]
[null,"T12_5ft"]
[null,"T12_6ft"]
[null,"T12_8ft"]
[null,"T5_4ft"]
[null,"T5_3ft"]
[null,"T5_2ft"]
[null,"HID"]
[null,"INCAN"]
[null,"CFL"]
[null,"SIGNS"]
[null,"OTHER"]

{"sheet":"Proposed Equipment","index":21,"n_rows":136,"n_cols":5,"rows_kept":136,"cut":false,"hidden":true,"merged":[]}
[null,"Energy Trust of Oregon - Standard Fixture Wattages"]
[null,"Proposed Equipment"]
[]
[null,"List","Watts",null,"Qty-Lamps"]
[null,"*******************************************************"]
[null,"Relamp","(select)","(select)","(select)"]
[null,"*******************************************************"]
["Relamp","2' TLED lamp using existing fluorescent ballast","Enter"]
["Relamp","3' TLED lamp using existing fluorescent ballast","Enter"]
["Relamp","4' TLED lamp using existing fluorescent ballast","Enter"]
["Relamp","5' TLED lamp using existing fluorescent ballast","Enter"]
["Relamp","6' TLED lamp using existing fluorescent ballast","Enter"]
["Relamp","8' TLED lamp using existing fluorescent ballast","Enter"]
["Relamp","U-Bent TLED lamp (4' to fit 2') using exist. fluorescent ballast","Enter"]
[]
[]
[null,"*******************************************************"]
[null,"LED Fixtures and Replacement Lamps"]
[null,"*******************************************************"]
["LED_High_Bay","LED High-Bay or Low-Bay, 40-90W","Enter"]
["LED_High_Bay","LED High-Bay or Low-Bay, 91-140W","Enter"]
["LED_High_Bay","LED High-Bay or Low-Bay, 141-299W","Enter"]
["LED_High_Bay","LED High-Bay or Low-Bay, 300W or greater","Enter"]
["LED_Interior_Fixtures","Interior Recessed Canister Downlight LED","Enter"]
["LED_Interior_Fixtures","LED fixture or kit, 25W or less","Enter"]
["LED_Interior_Fixtures","LED fixture or kit, 26-39W","Enter"]
["LED_Interior_Fixtures","LED fixture or kit, 40-57W","Enter"]
["LED_Interior_Fixtures","LED fixture or kit, 58-100W","Enter"]
["LED_Interior_Fixtures","Other LED fixture","Enter"]
["LED_Exterior_Fixtures","Exterior Recessed Canister Downlight LED","Enter"]
["LED_Exterior_Fixtures","Exterior LED fixture, 20W or less","Enter"]
["LED_Exterior_Fixtures","Exterior LED fixture, 21-40W ","Enter"]
["LED_Exterior_Fixtures","Exterior LED fixture, 41-90W ","Enter"]
["LED_Exterior_Fixtures","Exterior LED fixture, 91-140W ","Enter"]
["LED_Exterior_Fixtures","Exterior LED fixture, 141-299W ","Enter"]
["LED_Exterior_Fixtures","Exterior LED fixture, 300W or greater","Enter"]
["LED_Exterior_Fixtures","Other exterior LED fixture","Enter"]
["Street_Lighting","LED Street Lighting replacing 70W HID","Enter"]
["Street_Lighting","LED Street Lighting replacing 100W HID","Enter"]
["Street_Lighting","LED Street Lighting replacing 150W HID","Enter"]
["Street_Lighting","LED Street Lighting replacing 175W HID","Enter"]
["Street_Lighting","LED Street Lighting replacing 200W HID","Enter"]
["Street_Lighting","LED Street Lighting replacing 250W HID","Enter"]
["Street_Lighting","LED Street Lighting replacing 310W HID","Enter"]
["Street_Lighting","LED Street Lighting replacing 350W HID","Enter"]
["Street_Lighting","LED Street Lighting replacing 400W HID","Enter"]
["Street_Lighting","LED Street Lighting replacing 750W HID","Enter"]
["Street_Lighting","LED Street Lighting replacing 1000W HID","Enter"]
["Street_Lighting","LED Street Lighting replacing 1500W HID","Enter"]
["Street_Lighting","LED street light (Utility Owned)","Enter"]
["LED_Lamps","LED globe screw-in lamp","Enter"]
["LED_Lamps","LED Screw-in Lamp 3W or less","Enter"]
["LED_Lamps","CFL to pin base LED","Enter"]
["LED_Lamps","Other LED replacement lamp (contact Project Coordinator)","Enter"]
["HID_to_LED","HID to LED Screw-in, 40W or less","Enter"]
["HID_to_LED","HID to LED Screw-in, 41-100W","Enter"]
["HID_to_LED","HID to LED Screw-in, 101-160W","Enter"]
["HID_to_LED","HID to LED Screw-in, 161W or greater","Enter"]
["TLED","2' TLED lamp with new fluorescent ballast","Enter"]
["TLED","2' TLED lamp with remote driver","Enter"]
["TLED","2' TLED lamp at line voltage","Enter"]
["TLED","2' TLED lamp using existing fluorescent ballast","Enter"]
["TLED","3' TLED lamp with new fluorescent ballast","Enter"]
["TLED","3' TLED lamp with remote driver","Enter"]
["TLED","3' TLED lamp at line voltage","Enter"]
["TLED","U-Bent TLED lamp (4' bent to fit 2') with new ballast","Enter"]
["TLED","U-Bent TLED lamp (4' bent to fit 2') with remote driver","Enter"]
["TLED","U-Bent TLED lamp (4' bent to fit 2') at line voltage","Enter"]
["TLED","4' TLED lamp with new fluorescent ballast","Enter"]
["TLED","4' TLED lamp with remote driver","Enter"]
["TLED","4' TLED lamp at line voltage","Enter"]
["TLED","5' TLED lamp with remote driver","Enter"]
["TLED","5' TLED lamp at line voltage","Enter"]
["TLED","6' TLED lamp with new fluorescent ballast","Enter"]
["TLED","6' TLED lamp with remote driver","Enter"]
["TLED","6' TLED lamp at line voltage","Enter"]
["TLED","8' TLED lamp with new fluorescent ballast","Enter"]
["TLED","8' TLED lamp with remote driver","Enter"]
["TLED","8' TLED lamp at line voltage","Enter"]
[]
[null,"*******************************************************"]
[null,"LLLC","Enter"]
[null,"*******************************************************"]
["LLLC","LED fixture or kit, 25W or less","Enter"]
["LLLC","LED fixture or kit, 26-39W","Enter"]
["LLLC","LED fixture or kit, 40-57W","Enter"]
["LLLC","LED fixture or kit, 58-100W","Enter"]
["LLLC","LED High-Bay or Low-Bay, 40-90W","Enter"]
["LLLC","LED High-Bay or Low-Bay, 91-140W","Enter"]
["LLLC","LED High-Bay or Low-Bay, 141-299W","Enter"]
["LLLC","LED High-Bay or Low-Bay, 300W or greater","Enter"]
["LLLC","Exterior LED fixture, 20W or less","Enter"]
["LLLC","Exterior LED fixture, 21-40W ","Enter"]
["LLLC","Exterior LED fixture, 41-90W ","Enter"]
["LLLC","Exterior LED fixture, 91-140W ","Enter"]
["LLLC","Exterior LED fixture, 141-299W ","Enter"]
["LLLC","Exterior LED fixture, 300W or greater","Enter"]
[]
[null,"*******************************************************"]
[null,"OTHERS","Enter"]
[null,"*******************************************************"]
["OTHERS","Other","Enter"]
["OTHERS","Fixture removal, Interior (no incentive)",0]
["OTHERS","Fixture removal, Exterior (no incentive)",0]
["OTHERS","Additional project costs",0]
["OTHERS","Lighting in Refrigerated Spaces",0]
["OTHERS","Reduced HVAC in indoor grow spaces",0]
["OTHERS","Incentive Cap",0]
[]
[null,"*******************************************************"]
[null,"LED_Refrigerated_Case","Enter"]
[null,"*******************************************************"]
["LED_Refrigerated_Case","Linear, per linear foot of LED fixture","Enter"]
["LED_Refrigerated_Case","Motion Sensor on existing LED, per linear foot of LED fixture","Enter"]
[]
[null,"*******************************************************"]
[null,"GROW","Enter"]
[null,"*******************************************************"]
["GROW","LED Grow Light","Enter"]
["GROW","TLED Grow Light","Enter"]
[]
[]
[null,"Proposed"]
[null,"SelectCategory"]
[null,"LED_Lamps","lamp"]
[null,"LED_Interior_Fixtures","fixture"]
[null,"LED_High_Bay","fixture"]
[null,"LED_Exterior_Fixtures","fixture"]
[null,"Street_Lighting","fixture"]
[null,"LLLC","fixture"]
[null,"LED_Refrigerated_Case","lamp"]
[null,"GROW","lamp"]
[null,"OTHERS"]
[null,{"$f":"IF('100L Information'!AS21=TRUE,\"TLED\",\"N/A\")","v":"N/A"},"lamp","These are only allowed for public sector projects"]
[null,{"$f":"IF('100L Information'!AS21=TRUE,\"Relamp\",\"N/A\")","v":"N/A"},"lamp"]
[null,{"$f":"IF('100L Information'!AS21=TRUE,\"HID_to_LED\",\"N/A\")","v":"N/A"},"lamp"]